Workbook

Sheet Свод
E1: Приложение 16 к пояснительной записке 2026 года
E2: таблица 1
A3: Расчет объема субвенций бюджетам муниципальных образований Ленинградской области на осуществление отдельных государственных полномочий на обеспечение государственных гарантий реализации прав на получение общедоступного и бесплатного дошкольного образования в муниципальных дошкольных образовательных организациях и муниципальных общеобразовательных организациях, включая расходы на оплату труда, приобретение учебных пособий, средств обучения, игр, игрушек (за исключением расходов на содержание зданий и оплату коммунальных услуг), на 2026 год и на плановый период 2027 и 2028 годов
A4: Наименование муниципального образования | B4: Всего: | D4: Проект бюджета на 2026-2028
B5: восп. | C5: тыс. руб. | D5: восп. | E5: тыс. руб.
A6: Бокситогорский | B6: 1542 | C6: 280588.89 | D6: 1552 | E6: 282468.2
A7: Волосовский | B7: 1705 | C7: 340492.59 | D7: 1717 | E7: 342856.5
A8: Волховский | B8: 2873 | C8: 650259.92 | D8: 2893 | E8: 654749.9
A9: Всеволожский | B9: 26527 | C9: 5617397.4 | D9: 26654 | E9: 5644260.4
A10: Выборгский | B10: 6535 | C10: 1590053.5 | D10: 6580 | E10: 1601051.8
A11: Гатчинский | B11: 8410 | C11: 1924557.3 | D11: 8469 | E11: 1938038.5
A12: Кингисеппский | B12: 3016 | C12: 535879.19 | D12: 3037 | E12: 539599.9
A13: Киришский | B13: 2683 | C13: 549959.43 | D13: 2702 | E13: 553782
A14: Кировский | B14: 4269 | C14: 1193465.9 | D14: 4299 | E14: 1201795.7
A15: Лодейнопольский | B15: 890 | C15: 206367.45 | D15: 896 | E15: 207805.7
A16: Ломоносовский | B16: 6495 | C16: 959596.87 | D16: 6540 | E16: 966309.7
A17: Лужский | B17: 2295 | C17: 493975.63 | D17: 2301 | E17: 495365.5
... A24: Всего | B24: 82358 | C24: 17224420 | D24: 82930 | E24: 17344439
B25: =+B24/#REF! -> #REF! | C25: =+C24/E24 -> 0.99308031 | D25: =D24/B24 -> 1.0069453 | E25: =E24/1000/C24 -> 0.0010069679
D26: 2024 | E26: 13985621
C27: , | E27: 15131995
D29: =+D24/B24 -> 1.0069453 | E29: =+E24/#REF! -> #REF!
E30: =+C24-E24 -> -120018.17
E31: 17344439

Sheet Нормативы ДО
M1: Приложение 16 к пояснительной записке 2026 года
M2: таблица 2
B4: Нормативы: Дошкольное образование
D5: группы воспитанников до 3 лет | I5: группы воспитанников старше 3 лет
D6: кратковремен. пребывания | E6: сокращенного дня | F6: полного дня | G6: продленного дня | H6: круглосуточного пребывания | I6: кратковремен. пребывания | J6: сокращенного дня | K6: полного дня | L6: продленного дня | M6: круглосуточного пребывания
B7: Раздел 1. Удельные затраты на оплату труда основного (педагогического) персонала, включая начисления на выплаты по оплате труда | M7: 1.418386e+10
B8: Дн - число рабочих дней, дней в неделю | D8: 5 | E8: 5 | F8: 5 | G8: 5 | H8: 5 | I8: 5 | J8: 5 | K8: 5 | L8: 5 | M8: 5
B9: Пд - продолжительность пребывания, часов в день | D9: 5 | E9: 10 | F9: 12 | G9: 14 | H9: 14 | I9: 5 | J9: 10 | K9: 12 | L9: 14 | M9: 14
B10: Пд - продолжительность пребывания, часов в неделю при индиидуальном обучении ППЛО № 132 от 19.03.2020) | D10: 1 | E10: 1 | F10: 1 | G10: 1 | H10: 1 | I10: 3 | J10: 3 | K10: 3 | L10: 3 | M10: 3
B11: m - расчетная наполняемость групп, воспитанников в 1 группе
B12: 1. Общеразвивающие группы | C12: в городских организациях или в организациях более 100 восп., расположенных на селе или в ПГТ | D12: 19 | I12: 23
C13: в организациях на 51-100 восп., расположенных на селе или в ПГТ | D13: 15 | I13: 20
C14: в организациях на 26-50 восп., расположеных на селе, или в организациях менее 51 восп., расположенных в ПГТ | D14: 10 | I14: 15
C15: в организациях на 11-25 восп., расположеных на селе | D15: 10 | I15: 10
C16: в организациях на 10 восп., расположеных на селе | D16: 5 | I16: 5
B17: 2. Группы комбинированной направленности | C17: 01 глухие | D17: 10 | I17: 10
C18: 02 слабослышащие (познооглохшие) | D18: 10 | I18: 15
C19: 03 слепые | D19: 10 | I19: 10
C20: 04 слабовидящие, с амблиопией, косоглазием | D20: 10 | I20: 15
C21: 05 с тяжелыми нарушениями речи | D21: 10 | I21: 15
C22: 06 с фонетико-фонематическими нарушениями речи | D22: x | I22: 17
C23: 07 с нарушениями опорно-двигательного аппарата | D23: 10 | I23: 10
C24: 08 с задержкой психического развития | D24: 10 | I24: 17
C25: 09 с расстройствами аутического спектора (аутизм) | D25: 10 | I25: 10
C26: 10 с умственной отсталостью (легкая степень) | D26: 10 | I26: 15
C27: 11 с умственной отсталостью (умеренная, тяжелая степень) | D27: x | I27: 10
C28: 12 со сложным дефектом (несколько недостатков в развитии) | D28: 10 | I28: 10
C29: 13 с иными ОВЗ | D29: 10 | I29: x
B30: 3. Группы компенсирующей направленности | C30: 01 глухие | D30: 6 | I30: 6
C31: 02 слабослышащие (познооглохшие) | D31: 6 | I31: 8
C32: 03 слепые | D32: 6 | I32: 6
C33: 04 слабовидящие, с амблиопией, косоглазием | D33: 6 | I33: 10
C34: 05 с тяжелыми нарушениями речи | D34: 6 | I34: 10
C35: 06 с фонетико-фонематическими нарушениями речи | D35: x | I35: 12
C36: 07 с нарушениями опорно-двигательного аппарата | D36: 6 | I36: 8
C37: 08 с задержкой психического развития | D37: 6 | I37: 10
C38: 09 с расстройствами аутического спектора (аутизм) | D38: 5 | I38: 5
C39: 10 с умственной отсталостью (легкая степень) | D39: 6 | I39: 10
C40: 11 с умственной отсталостью (умеренная, тяжелая степень) | D40: x | I40: 8
C41: 12 со сложным дефектом (несколько недостатков в развитии) | D41: 5 | I41: 5
...

Sheet Расчет ДО
BS1: Приложение 16 к пояснительной записке 2026 года
BS2: таблица 3
B4: Дошкольное образование | C4: Нормативы финансового обеспечения | N4: Ленинградская область | AD4: Бокситогорский | AT4: Волосовский | BJ4: Волховский | BZ4: Всеволожский | CP4: Выборгский | DF4: Гатчинский | DV4: Кингисеппский | EL4: Киришский | FB4: Кировский | FR4: Лодейнопольский | GH4: Ломоносовский | GX4: Лужский | HN4: Подпорожский | ID4: Приозерский | IT4: Сланцевский | JJ4: Сосновоборский | JZ4: Тихвинский | KP4: Тосненский
B5: расчет объемов финансового обеспечения образовательной деятельности муниципальных образовательных организаций | C5: воспитанники до 3 лет | H5: воспитанники старше 3 лет | N5: в целом | O5: группы до 3 лет | V5: группы старше 3 лет | AD5: район | AE5: группы до 3 лет | AL5: группы старше 3 лет | AT5: район | AU5: группы до 3 лет | BB5: группы старше 3 лет | BJ5: район | BK5: группы до 3 лет | BR5: группы старше 3 лет | BZ5: район | CA5: группы до 3 лет | CH5: группы старше 3 лет | CP5: район | CQ5: группы до 3 лет | CX5: группы старше 3 лет | DF5: район | DG5: группы до 3 лет | DN5: группы старше 3 лет | DV5: район | DW5: группы до 3 лет | ED5: группы старше 3 лет | EL5: район | EM5: группы до 3 лет | ET5: группы старше 3 лет | FB5: район | FC5: группы до 3 лет | FJ5: группы старше 3 лет | FR5: район | FS5: группы до 3 лет | FZ5: группы старше 3 лет | GH5: район | GI5: группы до 3 лет | GP5: группы старше 3 лет | GX5: район | GY5: группы до 3 лет | HF5: группы старше 3 лет | HN5: район | HO5: группы до 3 лет | HV5: группы старше 3 лет | ID5: район | IE5: группы до 3 лет | IL5: группы старше 3 лет | IT5: район | IU5: группы до 3 лет | JB5: группы старше 3 лет | JJ5: гор.округ | JK5: группы до 3 лет | JR5: группы старше 3 лет | JZ5: район | KA5: группы до 3 лет | KH5: группы старше 3 лет | KP5: район | KQ5: группы до 3 лет | KX5: группы старше 3 лет
C6: норматив, руб./1 учащ. | H6: норматив, руб./1 учащ. | N6: Всего | O6: Контингент, восп. | U6: Сумма | V6: Контингент, восп. | AB6: Сумма | AC6: Всего | AD6: Всего | AE6: Контингент, восп. | AK6: Сумма | AL6: Контингент, восп. | AR6: Сумма | AS6: Всего | AT6: Всего | AU6: Контингент, восп. | BA6: Сумма | BB6: Контингент, восп. | BH6: Сумма | BI6: Всего | BJ6: Всего | BK6: Контингент, восп. | BQ6: Сумма | BR6: Контингент, восп. | BX6: Сумма | BY6: Всего | BZ6: Всего | CA6: Контингент, восп. | CG6: Сумма | CH6: Контингент, восп. | CN6: Сумма | CO6: Всего | CP6: Всего | CQ6: Контингент, восп. | CW6: Сумма | CX6: Контингент, восп. | DD6: Сумма | DE6: Всего | DF6: Всего | DG6: Контингент, восп. | DM6: Сумма | DN6: Контингент, восп. | DT6: Сумма | DU6: Всего | DV6: Всего | DW6: Контингент, восп. | EC6: Сумма | ED6: Контингент, восп. | EJ6: Сумма | EK6: Всего | EL6: Всего | EM6: Контингент, восп. | ES6: Сумма | ET6: Контингент, восп. | EZ6: Сумма | FA6: Всего | FB6: Всего | FC6: Контингент, восп. | FI6: Сумма | FJ6: Контингент, восп. | FP6: Сумма | FQ6: Всего | FR6: Всего | FS6: Контингент, восп. | FY6: Сумма | FZ6: Контингент, восп. | GF6: Сумма | GG6: Всего | GH6: Всего | GI6: Контингент, восп. | GO6: Сумма | GP6: Контингент, восп. | GV6: Сумма | GW6: Всего | GX6: Всего | GY6: Контингент, восп. | HE6: Сумма | HF6: Контингент, восп. | HL6: Сумма | HM6: Всего | HN6: Всего | HO6: Контингент, восп. | HU6: Сумма | HV6: Контингент, восп. | IB6: Сумма | IC6: Всего | ID6: Всего | IE6: Контингент, восп. | IK6: Сумма | IL6: Контингент, восп. | IR6: Сумма | IS6: Всего | IT6: Всего | IU6: Контингент, восп. | JA6: Сумма | JB6: Контингент, восп. | JH6: Сумма | JI6: Всего | JJ6: Всего | JK6: Контингент, восп. | JQ6: Сумма | JR6: Контингент, восп. | JX6: Сумма | JY6: Всего | JZ6: Всего | KA6: Контингент, восп. | KG6: Сумма | KH6: Контингент, восп. | KN6: Сумма | KO6: Всего | KP6: Всего | KQ6: Контингент, восп. | KW6: Сумма | KX6: Контингент, восп. | LD6: Сумма | LE6: Всего
C7: кратк. | D7: сокр. | E7: полн. | F7: продл. | G7: кругл. | H7: кратк. | I7: сокр. | J7: полн. | K7: продл. | L7: кругл. | N7: восп. | O7: всего | P7: кратк. | Q7: сокр. | R7: полн. | S7: продл. | T7: кругл. | U7: руб. | V7: всего | W7: кратк. | X7: сокр. | Y7: полн. | Z7: продл. | AA7: кругл. | AB7: руб. | AC7: руб | AD7: восп. | AE7: всего | AF7: кратк. | AG7: сокр. | AH7: полн. | AI7: продл. | AJ7: кругл. | AK7: руб. | AL7: всего | AM7: кратк. | AN7: сокр. | AO7: полн. | AP7: продл. | AQ7: кругл. | AR7: руб. | AS7: руб | AT7: восп. | AU7: всего | AV7: кратк. | AW7: сокр. | AX7: полн. | AY7: продл. | AZ7: кругл. | BA7: руб. | BB7: всего | BC7: кратк. | BD7: сокр. | BE7: полн. | BF7: продл. | BG7: кругл. | BH7: руб. | BI7: руб | BJ7: восп. | BK7: всего | BL7: кратк. | BM7: сокр. | BN7: полн. | BO7: продл. | BP7: кругл. | BQ7: руб. | BR7: всего | BS7: кратк. | BT7: сокр. | BU7: полн. | BV7: продл. | BW7: кругл. | BX7: руб. | BY7: руб | BZ7: восп. | CA7: всего | CB7: кратк. | CC7: сокр. | CD7: полн. | CE7: продл. | CF7: кругл. | CG7: руб. | CH7: всего | CI7: кратк. | CJ7: сокр. | CK7: полн. | CL7: продл. | CM7: кругл. | CN7: руб. | CO7: руб | CP7: восп. | CQ7: всего | CR7: кратк. | CS7: сокр. | CT7: полн. | CU7: продл. | CV7: кругл. | CW7: руб. | CX7: всего | CY7: кратк. | CZ7: сокр. | DA7: полн. | DB7: продл. | DC7: кругл. | DD7: руб. | DE7: руб | DF7: восп. | DG7: всего | DH7: кратк. | DI7: сокр. | DJ7: полн. | DK7: продл. | DL7: кругл. | DM7: руб. | DN7: всего | DO7: кратк. | DP7: сокр. | DQ7: полн. | DR7: продл. | DS7: кругл. | DT7: руб. | DU7: руб | DV7: восп. | DW7: всего | DX7: кратк. | DY7: сокр. | DZ7: полн. | EA7: продл. | EB7: кругл. | EC7: руб. | ED7: всего | EE7: кратк. | EF7: сокр. | EG7: полн. | EH7: продл. | EI7: кругл. | EJ7: руб. | EK7: руб | EL7: восп. | EM7: всего | EN7: кратк. | EO7: сокр. | EP7: полн. | EQ7: продл. | ER7: кругл. | ES7: руб. | ET7: всего | EU7: кратк. | EV7: сокр. | EW7: полн. | EX7: продл. | EY7: кругл. | EZ7: руб. | FA7: руб | FB7: восп. | FC7: всего | FD7: кратк. | FE7: сокр. | FF7: полн. | FG7: продл. | FH7: кругл. | FI7: руб. | FJ7: всего | FK7: кратк. | FL7: сокр. | FM7: полн. | FN7: продл. | FO7: кругл. | FP7: руб. | FQ7: руб | FR7: восп. | FS7: всего | FT7: кратк. | FU7: сокр. | FV7: полн. | FW7: продл. | FX7: кругл. | FY7: руб. | FZ7: всего | GA7: кратк. | GB7: сокр. | GC7: полн. | GD7: продл. | GE7: кругл. | GF7: руб. | GG7: руб | GH7: восп. | GI7: всего | GJ7: кратк. | GK7: сокр. | GL7: полн. | GM7: продл. | GN7: кругл. | GO7: руб. | GP7: всего | GQ7: кратк. | GR7: сокр. | GS7: полн. | GT7: продл. | GU7: кругл. | GV7: руб. | GW7: руб | GX7: восп. | GY7: всего | GZ7: кратк. | HA7: сокр. | HB7: полн. | HC7: продл. | HD7: кругл. | HE7: руб. | HF7: всего | HG7: кратк. | HH7: сокр. | HI7: полн. | HJ7: продл. | HK7: кругл. | HL7: руб. | HM7: руб | HN7: восп. | HO7: всего | HP7: кратк. | HQ7: сокр. | HR7: полн. | HS7: продл. | HT7: кругл. | HU7: руб. | HV7: всего | HW7: кратк. | HX7: сокр. | HY7: полн. | HZ7: продл. | IA7: кругл. | IB7: руб. | IC7: руб | ID7: восп. | IE7: всего | IF7: кратк. | IG7: сокр. | IH7: полн. | II7: продл. | IJ7: кругл. | IK7: руб. | IL7: всего | IM7: кратк. | IN7: сокр. | IO7: полн. | IP7: продл. | IQ7: кругл. | IR7: руб. | IS7: руб | IT7: восп. | IU7: всего | IV7: кратк. | IW7: сокр. | IX7: полн. | IY7: продл. | IZ7: кругл. | JA7: руб. | JB7: всего | JC7: кратк. | JD7: сокр. | JE7: полн. | JF7: продл. | JG7: кругл. | JH7: руб. | JI7: руб | JJ7: восп. | JK7: всего | JL7: кратк. | JM7: сокр. | JN7: полн. | JO7: продл. | JP7: кругл. | JQ7: руб. | JR7: всего | JS7: кратк. | JT7: сокр. | JU7: полн. | JV7: продл. | JW7: кругл. | JX7: руб. | JY7: руб | JZ7: восп. | KA7: всего | KB7: кратк. | KC7: сокр. | KD7: полн. | KE7: продл. | KF7: кругл. | KG7: руб. | KH7: всего | KI7: кратк. | KJ7: сокр. | KK7: полн. | KL7: продл. | KM7: кругл. | KN7: руб. | KO7: руб | KP7: восп. | KQ7: всего | KR7: кратк. | KS7: сокр. | KT7: полн. | KU7: продл. | KV7: кругл. | KW7: руб. | KX7: всего | KY7: кратк. | KZ7: сокр. | LA7: полн. | LB7: продл. | LC7: кругл. | LD7: руб. | LE7: руб
B8: 1. Общеразвивающие группы | N8: 64071 | O8: 13181 | U8: 2048133405 | V8: 50890 | AB8: 6668874286 | AC8: 8717007691 | AD8: 1303 | AE8: 365 | AK8: 50850109 | AL8: 938 | AR8: 121273154 | AS8: 172123263 | AT8: 1498 | AU8: 427 | BA8: 78893107 | BB8: 1071 | BH8: 156381124 | BI8: 235274231 | BJ8: 2282 | BK8: 624 | BQ8: 98755158 | BR8: 1658 | BX8: 228852034 | BY8: 327607192 | BZ8: 20678 | CA8: 1989 | CG8: 281041393 | CH8: 18689 | CN8: 2369757095 | CO8: 2650798488 | CP8: 3659 | CQ8: 1422 | CW8: 253155818 | CX8: 2237 | DD8: 313687664 | DE8: 566843482 | DF8: 6112 | DG8: 1635 | DM8: 259227691 | DN8: 4477 | DT8: 589931039 | DU8: 849158730 | DV8: 2691 | DW8: 603 | EC8: 92995177 | ED8: 2088 | EJ8: 281075957 | EK8: 374071134 | EL8: 2132 | EM8: 507 | ES8: 77544761 | ET8: 1625 | EZ8: 213403154 | FA8: 290947915 | FB8: 2644 | FC8: 683 | FI8: 105803383 | FJ8: 1961 | FP8: 262772331 | FQ8: 368575714 | FR8: 645 | FS8: 204 | FY8: 35365500 | FZ8: 441 | GF8: 58654802 | GG8: 94020302 | GH8: 6198 | GI8: 1112 | GO8: 158194448 | GP8: 5086 | GV8: 644154099 | GW8: 802348547 | GX8: 1947 | GY8: 502 | HE8: 90216862 | HF8: 1445 | HL8: 214819641 | HM8: 305036503 | HN8: 991 | HO8: 247 | HU8: 39343563 | HV8: 744 | IB8: 100631351 | IC8: 139974914 | ID8: 1943 | IE8: 481 | IK8: 82246831 | IL8: 1462 | IR8: 208009476 | IS8: 290256307 | IT8: 1306 | IU8: 275 | JA8: 44232715 | JB8: 1031 | JH8: 144735826 | JI8: 188968541 | JJ8: 2200 | JK8: 538 | JQ8: 76692438 | JR8: 1662 | JX8: 209727780 | JY8: 286420218 | JZ8: 2164 | KA8: 660 | KG8: 101960770 | KH8: 1504 | KN8: 208924764 | KO8: 310885534 | KP8: 3678 | KQ8: 907 | KW8: 121613681 | KX8: 2771 | LD8: 342082995 | LE8: 463696676
B9: в городских организациях или в организациях более 100 восп., расположенных на селе или в ПГТ | C9: 69597 | D9: 121707 | E9: 142551 | F9: 163394 | G9: 199939 | H9: 65924 | I9: 108971 | J9: 126190 | K9: 143409 | L9: 173598 | N9: 55913 | O9: 10901 | P9: 102 | Q9: 928 | R9: 9866 | S9: 0 | T9: 5 | U9: 1527450851 | V9: 45012 | W9: 154 | X9: 2243 | Y9: 42579 | Z9: 12 | AA9: 24 | AB9: 5633505519 | AC9: 7160956370 | AD9: 1139 | AE9: 312 | AF9: 0 | AG9: 126 | AH9: 186 | AI9: 0 | AJ9: 0 | AK9: 41849568 | AL9: 827 | AM9: 0 | AN9: 629 | AO9: 198 | AP9: 0 | AQ9: 0 | AR9: 93528379 | AS9: 135377947 | AT9: 870 | AU9: 240 | AV9: 0 | AW9: 0 | AX9: 240 | AY9: 0 | AZ9: 0 | BA9: 34212240 | BB9: 630 | BC9: 0 | BD9: 0 | BE9: 630 | BF9: 0 | BG9: 0 | BH9: 79499700 | BI9: 113711940 | BJ9: 1886 | BK9: 519 | BL9: 0 | BM9: 0 | BN9: 514 | BO9: 0 | BP9: 5 | BQ9: 74270909 | BR9: 1367 | BS9: 0 | BT9: 0 | BU9: 1355 | BV9: 0 | BW9: 12 | BX9: 173070626 | BY9: 247341535 | BZ9: 20019 | CA9: 1954 | CB9: 54 | CC9: 0 | CD9: 1900 | CE9: 0 | CF9: 0 | CG9: 274605138 | CH9: 18065 | CI9: 54 | CJ9: 0 | CK9: 18011 | CL9: 0 | CM9: 0 | CN9: 2276367986 | CO9: 2550973124 | CP9: 2940 | CQ9: 1062 | CR9: 0 | CS9: 0 | CT9: 1062 | CU9: 0 | CV9: 0 | CW9: 151389162 | CX9: 1878 | CY9: 0 | CZ9: 0 | DA9: 1866 | DB9: 12 | DC9: 0 | DD9: 237191448 | DE9: 388580610 | DF9: 5147 | DG9: 1328 | DH9: 0 | DI9: 0 | DJ9: 1328 | DK9: 0 | DL9: 0 | DM9: 189307728 | DN9: 3819 | DO9: 0 | DP9: 0 | DQ9: 3819 | DR9: 0 | DS9: 0 | DT9: 481919610 | DU9: 671227338 | DV9: 2234 | DW9: 507 | DX9: 0 | DY9: 0 | DZ9: 507 | EA9: 0 | EB9: 0 | EC9: 72273357 | ED9: 1727 | EE9: 0 | EF9: 0 | EG9: 1715 | EH9: 0 | EI9: 12 | EJ9: 218499026 | EK9: 290772383 | EL9: 1941 | EM9: 443 | EN9: 0 | EO9: 0 | EP9: 443 | EQ9: 0 | ER9: 0 | ES9: 63150093 | ET9: 1498 | EU9: 0 | EV9: 0 | EW9: 1498 | EX9: 0 | EY9: 0 | EZ9: 189032620 | FA9: 252182713 | FB9: 2204 | FC9: 568 | FD9: 0 | FE9: 0 | FF9: 568 | FG9: 0 | FH9: 0 | FI9: 80968968 | FJ9: 1636 | FK9: 13 | FL9: 0 | FM9: 1623 | FN9: 0 | FO9: 0 | FP9: 205663382 | FQ9: 286632350 | FR9: 574 | FS9: 176 | FT9: 0 | FU9: 0 | FV9: 176 | FW9: 0 | FX9: 0 | FY9: 25088976 | FZ9: 398 | GA9: 0 | GB9: 0 | GC9: 398 | GD9: 0 | GE9: 0 | GF9: 50223620 | GG9: 75312596 | GH9: 5855 | GI9: 1024 | GJ9: 48 | GK9: 22 | GL9: 954 | GM9: 0 | GN9: 0 | GO9: 142011864 | GP9: 4831 | GQ9: 87 | GR9: 0 | GS9: 4744 | GT9: 0 | GU9: 0 | GV9: 604380748 | GW9: 746392612 | GX9: 1248 | GY9: 318 | GZ9: 0 | HA9: 0 | HB9: 318 | HC9: 0 | HD9: 0 | HE9: 45331218 | HF9: 930 | HG9: 0 | HH9: 0 | HI9: 930 | HJ9: 0 | HK9: 0 | HL9: 117356700 | HM9: 162687918 | HN9: 677 | HO9: 176 | HP9: 0 | HQ9: 0 | HR9: 176 | HS9: 0 | HT9: 0 | HU9: 25088976 | HV9: 501 | HW9: 0 | HX9: 0 | HY9: 501 | HZ9: 0 | IA9: 0 | IB9: 63221190 | IC9: 88310166 | ID9: 904 | IE9: 194 | IF9: 0 | IG9: 83 | IH9: 111 | II9: 0 | IJ9: 0 | IK9: 25924842 | IL9: 710 | IM9: 0 | IN9: 309 | IO9: 401 | IP9: 0 | IQ9: 0 | IR9: 84274229 | IS9: 110199071 | IT9: 1133 | IU9: 238 | IV9: 0 | IW9: 0 | IX9: 238 | IY9: 0 | IZ9: 0 | JA9: 33927138 | JB9: 895 | JC9: 0 | JD9: 0 | JE9: 895 | JF9: 0 | JG9: 0 | JH9: 112940050 | JI9: 146867188 | JJ9: 2200 | JK9: 538 | JL9: 0 | JM9: 0 | JN9: 538 | JO9: 0 | JP9: 0 | JQ9: 76692438 | JR9: 1662 | JS9: 0 | JT9: 0 | JU9: 1662 | JV9: 0 | JW9: 0 | JX9: 209727780 | JY9: 286420218 | JZ9: 1954 | KA9: 607 | KB9: 0 | KC9: 0 | KD9: 607 | KE9: 0 | KF9: 0 | KG9: 86528457 | KH9: 1347 | KI9: 0 | KJ9: 0 | KK9: 1347 | KL9: 0 | KM9: 0 | KN9: 169977930 | KO9: 256506387 | KP9: 2988 | KQ9: 697 | KR9: 0 | KS9: 697 | KT9: 0 | KU9: 0 | KV9: 0 | KW9: 84829779 | KX9: 2291 | KY9: 0 | KZ9: 1305 | LA9: 986 | LB9: 0 | LC9: 0 | LD9: 266630495 | LE9: 351460274
B10: в организациях на 51-100 восп., расположенных на селе или в ПГТ | C10: 89155 | D10: 156825 | E10: 183893 | F10: 210960 | G10: 258417 | H10: 76510 | I10: 127262 | J10: 147563 | K10: 167864 | L10: 203456 | N10: 4954 | O10: 1149 | P10: 0 | Q10: 332 | R10: 817 | S10: 0 | T10: 0 | U10: 202306481 | V10: 3805 | W10: 0 | X10: 319 | Y10: 3462 | Z10: 0 | AA10: 24 | AB10: 556342628 | AC10: 758649109 | AD10: 115 | AE10: 45 | AF10: 0 | AG10: 45 | AH10: 0 | AI10: 0 | AJ10: 0 | AK10: 7057125 | AL10: 70 | AM10: 0 | AN10: 20 | AO10: 50 | AP10: 0 | AQ10: 0 | AR10: 9923390 | AS10: 16980515 | AT10: 308 | AU10: 78 | AV10: 0 | AW10: 0 | AX10: 78 | AY10: 0 | AZ10: 0 | BA10: 14343654 | BB10: 230 | BC10: 0 | BD10: 0 | BE10: 230 | BF10: 0 | BG10: 0 | BH10: 33939490 | BI10: 48283144 | BJ10: 246 | BK10: 68 | BL10: 0 | BM10: 0 | BN10: 68 | BO10: 0 | BP10: 0 | BQ10: 12504724 | BR10: 178 | BS10: 0 | BT10: 0 | BU10: 178 | BV10: 0 | BW10: 0 | BX10: 26266214 | BY10: 38770938 | BZ10: 632 | CA10: 35 | CB10: 0 | CC10: 0 | CD10: 35 | CE10: 0 | CF10: 0 | CG10: 6436255 | CH10: 597 | CI10: 0 | CJ10: 0 | CK10: 597 | CL10: 0 | CM10: 0 | CN10: 88095111 | CO10: 94531366 | CP10: 177 | CQ10: 47 | CR10: 0 | CS10: 0 | CT10: 47 | CU10: 0 | CV10: 0 | CW10: 8642971 | CX10: 130 | CY10: 0 | CZ10: 0 | DA10: 130 | DB10: 0 | DC10: 0 | DD10: 19183190 | DE10: 27826161 | DF10: 595 | DG10: 162 | DH10: 0 | DI10: 0 | DJ10: 162 | DK10: 0 | DL10: 0 | DM10: 29790666 | DN10: 433 | DO10: 0 | DP10: 0 | DQ10: 433 | DR10: 0 | DS10: 0 | DT10: 63894779 | DU10: 93685445 | DV10: 313 | DW10: 64 | DX10: 0 | DY10: 0 | DZ10: 64 | EA10: 0 | EB10: 0 | EC10: 11769152 | ED10: 249 | EE10: 0 | EF10: 0 | EG10: 249 | EH10: 0 | EI10: 0 | EJ10: 36743187 | EK10: 48512339 | EL10: 117 | EM10: 37 | EN10: 0 | EO10: 0 | EP10: 37 | EQ10: 0 | ER10: 0 | ES10: 6804041 | ET10: 80 | EU10: 0 | EV10: 0 | EW10: 80 | EX10: 0 | EY10: 0 | EZ10: 11805040 | FA10: 18609081 | FB10: 302 | FC10: 75 | FD10: 0 | FE10: 0 | FF10: 75 | FG10: 0 | FH10: 0 | FI10: 13791975 | FJ10: 227 | FK10: 0 | FL10: 0 | FM10: 227 | FN10: 0 | FO10: 0 | FP10: 33496801 | FQ10: 47288776 | FR10: 0 | FS10: 0 | FT10: 0 | FU10: 0 | FV10: 0 | FW10: 0 | FX10: 0 | FY10: 0 | FZ10: 0 | GA10: 0 | GB10: 0 | GC10: 0 | GD10: 0 | GE10: 0 | GF10: 0 | GG10: 0 | GH10: 329 | GI10: 88 | GJ10: 0 | GK10: 0 | GL10: 88 | GM10: 0 | GN10: 0 | GO10: 16182584 | GP10: 241 | GQ10: 0 | GR10: 0 | GS10: 241 | GT10: 0 | GU10: 0 | GV10: 35562683 | GW10: 51745267 | GX10: 321 | GY10: 66 | GZ10: 0 | HA10: 0 | HB10: 66 | HC10: 0 | HD10: 0 | HE10: 12136938 | HF10: 255 | HG10: 0 | HH10: 0 | HI10: 255 | HJ10: 0 | HK10: 0 | HL10: 37628565 | HM10: 49765503 | HN10: 269 | HO10: 58 | HP10: 0 | HQ10: 0 | HR10: 58 | HS10: 0 | HT10: 0 | HU10: 10665794 | HV10: 211 | HW10: 0 | HX10: 0 | HY10: 211 | HZ10: 0 | IA10: 0 | IB10: 31135793 | IC10: 41801587 | ID10: 650 | IE10: 156 | IF10: 0 | IG10: 117 | IH10: 39 | II10: 0 | IJ10: 0 | IK10: 25520352 | IL10: 494 | IM10: 0 | IN10: 145 | IO10: 349 | IP10: 0 | IQ10: 0 | IR10: 69952477 | IS10: 95472829 | IT10: 0 | IU10: 0 | IV10: 0 | IW10: 0 | IX10: 0 | IY10: 0 | IZ10: 0 | JA10: 0 | JB10: 0 | JC10: 0 | JD10: 0 | JE10: 0 | JF10: 0 | JG10: 0 | JH10: 0 | JI10: 0 | JJ10: 0 | JK10: 0 | JL10: 0 | JM10: 0 | JN10: 0 | JO10: 0 | JP10: 0 | JQ10: 0 | JR10: 0 | JS10: 0 | JT10: 0 | JU10: 0 | JV10: 0 | JW10: 0 | JX10: 0 | JY10: 0 | JZ10: 0 | KA10: 0 | KB10: 0 | KC10: 0 | KD10: 0 | KE10: 0 | KF10: 0 | KG10: 0 | KH10: 0 | KI10: 0 | KJ10: 0 | KK10: 0 | KL10: 0 | KM10: 0 | KN10: 0 | KO10: 0 | KP10: 580 | KQ10: 170 | KR10: 0 | KS10: 170 | KT10: 0 | KU10: 0 | KV10: 0 | KW10: 26660250 | KX10: 410 | KY10: 0 | KZ10: 154 | LA10: 232 | LB10: 0 | LC10: 24 | LD10: 58715908 | LE10: 85376158
B11: в организациях на 26-50 восп., расположеных на селе, или в организациях менее 51 восп., расположенных в ПГТ | C11: 132791 | D11: 235127 | E11: 276061 | F11: 316996 | G11: 388764 | H11: 100560 | I11: 168784 | J11: 196074 | K11: 223363 | L11: 271209 | N11: 2394 | O11: 848 | P11: 0 | Q11: 169 | R11: 679 | S11: 0 | T11: 0 | U11: 227181882 | V11: 1546 | W11: 0 | X11: 51 | Y11: 1495 | Z11: 0 | AA11: 0 | AB11: 301738614 | AC11: 528920496 | AD11: 0 | AE11: 0 | AF11: 0 | AG11: 0 | AH11: 0 | AI11: 0 | AJ11: 0 | AK11: 0 | AL11: 0 | AM11: 0 | AN11: 0 | AO11: 0 | AP11: 0 | AQ11: 0 | AR11: 0 | AS11: 0 | AT11: 278 | AU11: 82 | AV11: 0 | AW11: 0 | AX11: 82 | AY11: 0 | AZ11: 0 | BA11: 22637002 | BB11: 196 | BC11: 0 | BD11: 0 | BE11: 196 | BF11: 0 | BG11: 0 | BH11: 38430504 | BI11: 61067506 | BJ11: 65 | BK11: 13 | BL11: 0 | BM11: 0 | BN11: 13 | BO11: 0 | BP11: 0 | BQ11: 3588793 | BR11: 52 | BS11: 0 | BT11: 0 | BU11: 52 | BV11: 0 | BW11: 0 | BX11: 10195848 | BY11: 13784641 | BZ11: 27 | CA11: 0 | CB11: 0 | CC11: 0 | CD11: 0 | CE11: 0 | CF11: 0 | CG11: 0 | CH11: 27 | CI11: 0 | CJ11: 0 | CK11: 27 | CL11: 0 | CM11: 0 | CN11: 5293998 | CO11: 5293998 | CP11: 347 | CQ11: 187 | CR11: 0 | CS11: 0 | CT11: 187 | CU11: 0 | CV11: 0 | CW11: 51623407 | CX11: 160 | CY11: 0 | CZ11: 0 | DA11: 160 | DB11: 0 | DC11: 0 | DD11: 31371840 | DE11: 82995247 | DF11: 359 | DG11: 134 | DH11: 0 | DI11: 0 | DJ11: 134 | DK11: 0 | DL11: 0 | DM11: 36992174 | DN11: 225 | DO11: 0 | DP11: 0 | DQ11: 225 | DR11: 0 | DS11: 0 | DT11: 44116650 | DU11: 81108824 | DV11: 94 | DW11: 19 | DX11: 0 | DY11: 0 | DZ11: 19 | EA11: 0 | EB11: 0 | EC11: 5245159 | ED11: 75 | EE11: 0 | EF11: 0 | EG11: 75 | EH11: 0 | EI11: 0 | EJ11: 14705550 | EK11: 19950709 | EL11: 27 | EM11: 12 | EN11: 0 | EO11: 0 | EP11: 12 | EQ11: 0 | ER11: 0 | ES11: 3312732 | ET11: 15 | EU11: 0 | EV11: 0 | EW11: 15 | EX11: 0 | EY11: 0 | EZ11: 2941110 | FA11: 6253842 | FB11: 96 | FC11: 40 | FD11: 0 | FE11: 0 | FF11: 40 | FG11: 0 | FH11: 0 | FI11: 11042440 | FJ11: 56 | FK11: 0 | FL11: 0 | FM11: 56 | FN11: 0 | FO11: 0 | FP11: 10980144 | FQ11: 22022584 | FR11: 63 | FS11: 20 | FT11: 0 | FU11: 0 | FV11: 20 | FW11: 0 | FX11: 0 | FY11: 5521220 | FZ11: 43 | GA11: 0 | GB11: 0 | GC11: 43 | GD11: 0 | GE11: 0 | GF11: 8431182 | GG11: 13952402 | GH11: 0 | GI11: 0 | GJ11: 0 | GK11: 0 | GL11: 0 | GM11: 0 | GN11: 0 | GO11: 0 | GP11: 0 | GQ11: 0 | GR11: 0 | GS11: 0 | GT11: 0 | GU11: 0 | GV11: 0 | GW11: 0 | GX11: 293 | GY11: 99 | GZ11: 0 | HA11: 0 | HB11: 99 | HC11: 0 | HD11: 0 | HE11: 27330039 | HF11: 194 | HG11: 0 | HH11: 0 | HI11: 194 | HJ11: 0 | HK11: 0 | HL11: 38038356 | HM11: 65368395 | HN11: 45 | HO11: 13 | HP11: 0 | HQ11: 0 | HR11: 13 | HS11: 0 | HT11: 0 | HU11: 3588793 | HV11: 32 | HW11: 0 | HX11: 0 | HY11: 32 | HZ11: 0 | IA11: 0 | IB11: 6274368 | IC11: 9863161 | ID11: 353 | IE11: 131 | IF11: 0 | IG11: 131 | IH11: 0 | II11: 0 | IJ11: 0 | IK11: 30801637 | IL11: 222 | IM11: 0 | IN11: 21 | IO11: 201 | IP11: 0 | IQ11: 0 | IR11: 42955338 | IS11: 73756975 | IT11: 114 | IU11: 27 | IV11: 0 | IW11: 0 | IX11: 27 | IY11: 0 | IZ11: 0 | JA11: 7453647 | JB11: 87 | JC11: 0 | JD11: 0 | JE11: 87 | JF11: 0 | JG11: 0 | JH11: 17058438 | JI11: 24512085 | JJ11: 0 | JK11: 0 | JL11: 0 | JM11: 0 | JN11: 0 | JO11: 0 | JP11: 0 | JQ11: 0 | JR11: 0 | JS11: 0 | JT11: 0 | JU11: 0 | JV11: 0 | JW11: 0 | JX11: 0 | JY11: 0 | JZ11: 143 | KA11: 33 | KB11: 0 | KC11: 0 | KD11: 33 | KE11: 0 | KF11: 0 | KG11: 9110013 | KH11: 110 | KI11: 0 | KJ11: 0 | KK11: 110 | KL11: 0 | KM11: 0 | KN11: 21568140 | KO11: 30678153 | KP11: 90 | KQ11: 38 | KR11: 0 | KS11: 38 | KT11: 0 | KU11: 0 | KV11: 0 | KW11: 8934826 | KX11: 52 | KY11: 0 | KZ11: 30 | LA11: 22 | LB11: 0 | LC11: 0 | LD11: 9377148 | LE11: 18311974
B12: в организациях на 11-25 восп., расположеных на селе | C12: 137263 | D12: 242927 | E12: 285193 | F12: 327458 | G12: 401560 | H12: 152833 | I12: 258497 | J12: 300762 | K12: 343028 | L12: 417130 | N12: 708 | O12: 248 | P12: 0 | Q12: 8 | R12: 240 | S12: 0 | T12: 0 | U12: 70389736 | V12: 460 | W12: 0 | X12: 15 | Y12: 445 | Z12: 0 | AA12: 0 | AB12: 137716545 | AC12: 208106281 | AD12: 23 | AE12: 8 | AF12: 0 | AG12: 8 | AH12: 0 | AI12: 0 | AJ12: 0 | AK12: 1943416 | AL12: 15 | AM12: 0 | AN12: 15 | AO12: 0 | AP12: 0 | AQ12: 0 | AR12: 3877455 | AS12: 5820871 | AT12: 42 | AU12: 27 | AV12: 0 | AW12: 0 | AX12: 27 | AY12: 0 | AZ12: 0 | BA12: 7700211 | BB12: 15 | BC12: 0 | BD12: 0 | BE12: 15 | BF12: 0 | BG12: 0 | BH12: 4511430 | BI12: 12211641 | BJ12: 77 | BK12: 19 | BL12: 0 | BM12: 0 | BN12: 19 | BO12: 0 | BP12: 0 | BQ12: 5418667 | BR12: 58 | BS12: 0 | BT12: 0 | BU12: 58 | BV12: 0 | BW12: 0 | BX12: 17444196 | BY12: 22862863 | BZ12: 0 | CA12: 0 | CB12: 0 | CC12: 0 | CD12: 0 | CE12: 0 | CF12: 0 | CG12: 0 | CH12: 0 | CI12: 0 | CJ12: 0 | CK12: 0 | CL12: 0 | CM12: 0 | CN12: 0 | CO12: 0 | CP12: 161 | CQ12: 108 | CR12: 0 | CS12: 0 | CT12: 108 | CU12: 0 | CV12: 0 | CW12: 30800844 | CX12: 53 | CY12: 0 | CZ12: 0 | DA12: 53 | DB12: 0 | DC12: 0 | DD12: 15940386 | DE12: 46741230 | DF12: 11 | DG12: 11 | DH12: 0 | DI12: 0 | DJ12: 11 | DK12: 0 | DL12: 0 | DM12: 3137123 | DN12: 0 | DO12: 0 | DP12: 0 | DQ12: 0 | DR12: 0 | DS12: 0 | DT12: 0 | DU12: 3137123 | DV12: 50 | DW12: 13 | DX12: 0 | DY12: 0 | DZ12: 13 | EA12: 0 | EB12: 0 | EC12: 3707509 | ED12: 37 | EE12: 0 | EF12: 0 | EG12: 37 | EH12: 0 | EI12: 0 | EJ12: 11128194 | EK12: 14835703 | EL12: 47 | EM12: 15 | EN12: 0 | EO12: 0 | EP12: 15 | EQ12: 0 | ER12: 0 | ES12: 4277895 | ET12: 32 | EU12: 0 | EV12: 0 | EW12: 32 | EX12: 0 | EY12: 0 | EZ12: 9624384 | FA12: 13902279 | FB12: 42 | FC12: 0 | FD12: 0 | FE12: 0 | FF12: 0 | FG12: 0 | FH12: 0 | FI12: 0 | FJ12: 42 | FK12: 0 | FL12: 0 | FM12: 42 | FN12: 0 | FO12: 0 | FP12: 12632004 | FQ12: 12632004 | FR12: 0 | FS12: 0 | FT12: 0 | FU12: 0 | FV12: 0 | FW12: 0 | FX12: 0 | FY12: 0 | FZ12: 0 | GA12: 0 | GB12: 0 | GC12: 0 | GD12: 0 | GE12: 0 | GF12: 0 | GG12: 0 | GH12: 14 | GI12: 0 | GJ12: 0 | GK12: 0 | GL12: 0 | GM12: 0 | GN12: 0 | GO12: 0 | GP12: 14 | GQ12: 0 | GR12: 0 | GS12: 14 | GT12: 0 | GU12: 0 | GV12: 4210668 | GW12: 4210668 | GX12: 79 | GY12: 19 | GZ12: 0 | HA12: 0 | HB12: 19 | HC12: 0 | HD12: 0 | HE12: 5418667 | HF12: 60 | HG12: 0 | HH12: 0 | HI12: 60 | HJ12: 0 | HK12: 0 | HL12: 18045720 | HM12: 23464387 | HN12: 0 | HO12: 0 | HP12: 0 | HQ12: 0 | HR12: 0 | HS12: 0 | HT12: 0 | HU12: 0 | HV12: 0 | HW12: 0 | HX12: 0 | HY12: 0 | HZ12: 0 | IA12: 0 | IB12: 0 | IC12: 0 | ID12: 36 | IE12: 0 | IF12: 0 | IG12: 0 | IH12: 0 | II12: 0 | IJ12: 0 | IK12: 0 | IL12: 36 | IM12: 0 | IN12: 0 | IO12: 36 | IP12: 0 | IQ12: 0 | IR12: 10827432 | IS12: 10827432 | IT12: 59 | IU12: 10 | IV12: 0 | IW12: 0 | IX12: 10 | IY12: 0 | IZ12: 0 | JA12: 2851930 | JB12: 49 | JC12: 0 | JD12: 0 | JE12: 49 | JF12: 0 | JG12: 0 | JH12: 14737338 | JI12: 17589268 | JJ12: 0 | JK12: 0 | JL12: 0 | JM12: 0 | JN12: 0 | JO12: 0 | JP12: 0 | JQ12: 0 | JR12: 0 | JS12: 0 | JT12: 0 | JU12: 0 | JV12: 0 | JW12: 0 | JX12: 0 | JY12: 0 | JZ12: 55 | KA12: 18 | KB12: 0 | KC12: 0 | KD12: 18 | KE12: 0 | KF12: 0 | KG12: 5133474 | KH12: 37 | KI12: 0 | KJ12: 0 | KK12: 37 | KL12: 0 | KM12: 0 | KN12: 11128194 | KO12: 16261668 | KP12: 12 | KQ12: 0 | KR12: 0 | KS12: 0 | KT12: 0 | KU12: 0 | KV12: 0 | KW12: 0 | KX12: 12 | KY12: 0 | KZ12: 0 | LA12: 12 | LB12: 0 | LC12: 0 | LD12: 3609144 | LE12: 3609144
B13: в организациях на 10 восп., расположеных на селе | C13: 283807 | D13: 505668 | E13: 594413 | F13: 683157 | G13: 838748 | H13: 314444 | I13: 536305 | J13: 625050 | K13: 713794 | L13: 869385 | N13: 102 | O13: 35 | P13: 0 | Q13: 0 | R13: 35 | S13: 0 | T13: 0 | U13: 20804455 | V13: 67 | W13: 0 | X13: 26 | Y13: 41 | Z13: 0 | AA13: 0 | AB13: 39570980 | AC13: 60375435 | AD13: 26 | AE13: 0 | AF13: 0 | AG13: 0 | AH13: 0 | AI13: 0 | AJ13: 0 | AK13: 0 | AL13: 26 | AM13: 0 | AN13: 26 | AO13: 0 | AP13: 0 | AQ13: 0 | AR13: 13943930 | AS13: 13943930 | AT13: 0 | AU13: 0 | AV13: 0 | AW13: 0 | AX13: 0 | AY13: 0 | AZ13: 0 | BA13: 0 | BB13: 0 | BC13: 0 | BD13: 0 | BE13: 0 | BF13: 0 | BG13: 0 | BH13: 0 | BI13: 0 | BJ13: 8 | BK13: 5 | BL13: 0 | BM13: 0 | BN13: 5 | BO13: 0 | BP13: 0 | BQ13: 2972065 | BR13: 3 | BS13: 0 | BT13: 0 | BU13: 3 | BV13: 0 | BW13: 0 | BX13: 1875150 | BY13: 4847215 | BZ13: 0 | CA13: 0 | CB13: 0 | CC13: 0 | CD13: 0 | CE13: 0 | CF13: 0 | CG13: 0 | CH13: 0 | CI13: 0 | CJ13: 0 | CK13: 0 | CL13: 0 | CM13: 0 | CN13: 0 | CO13: 0 | CP13: 34 | CQ13: 18 | CR13: 0 | CS13: 0 | CT13: 18 | CU13: 0 | CV13: 0 | CW13: 10699434 | CX13: 16 | CY13: 0 | CZ13: 0 | DA13: 16 | DB13: 0 | DC13: 0 | DD13: 10000800 | DE13: 20700234 | DF13: 0 | DG13: 0 | DH13: 0 | DI13: 0 | DJ13: 0 | DK13: 0 | DL13: 0 | DM13: 0 | DN13: 0 | DO13: 0 | DP13: 0 | DQ13: 0 | DR13: 0 | DS13: 0 | DT13: 0 | DU13: 0 | DV13: 0 | DW13: 0 | DX13: 0 | DY13: 0 | DZ13: 0 | EA13: 0 | EB13: 0 | EC13: 0 | ED13: 0 | EE13: 0 | EF13: 0 | EG13: 0 | EH13: 0 | EI13: 0 | EJ13: 0 | EK13: 0 | EL13: 0 | EM13: 0 | EN13: 0 | EO13: 0 | EP13: 0 | EQ13: 0 | ER13: 0 | ES13: 0 | ET13: 0 | EU13: 0 | EV13: 0 | EW13: 0 | EX13: 0 | EY13: 0 | EZ13: 0 | FA13: 0 | FB13: 0 | FC13: 0 | FD13: 0 | FE13: 0 | FF13: 0 | FG13: 0 | FH13: 0 | FI13: 0 | FJ13: 0 | FK13: 0 | FL13: 0 | FM13: 0 | FN13: 0 | FO13: 0 | FP13: 0 | FQ13: 0 | FR13: 8 | FS13: 8 | FT13: 0 | FU13: 0 | FV13: 8 | FW13: 0 | FX13: 0 | FY13: 4755304 | FZ13: 0 | GA13: 0 | GB13: 0 | GC13: 0 | GD13: 0 | GE13: 0 | GF13: 0 | GG13: 4755304 | GH13: 0 | GI13: 0 | GJ13: 0 | GK13: 0 | GL13: 0 | GM13: 0 | GN13: 0 | GO13: 0 | GP13: 0 | GQ13: 0 | GR13: 0 | GS13: 0 | GT13: 0 | GU13: 0 | GV13: 0 | GW13: 0 | GX13: 6 | GY13: 0 | GZ13: 0 | HA13: 0 | HB13: 0 | HC13: 0 | HD13: 0 | HE13: 0 | HF13: 6 | HG13: 0 | HH13: 0 | HI13: 6 | HJ13: 0 | HK13: 0 | HL13: 3750300 | HM13: 3750300 | HN13: 0 | HO13: 0 | HP13: 0 | HQ13: 0 | HR13: 0 | HS13: 0 | HT13: 0 | HU13: 0 | HV13: 0 | HW13: 0 | HX13: 0 | HY13: 0 | HZ13: 0 | IA13: 0 | IB13: 0 | IC13: 0 | ID13: 0 | IE13: 0 | IF13: 0 | IG13: 0 | IH13: 0 | II13: 0 | IJ13: 0 | IK13: 0 | IL13: 0 | IM13: 0 | IN13: 0 | IO13: 0 | IP13: 0 | IQ13: 0 | IR13: 0 | IS13: 0 | IT13: 0 | IU13: 0 | IV13: 0 | IW13: 0 | IX13: 0 | IY13: 0 | IZ13: 0 | JA13: 0 | JB13: 0 | JC13: 0 | JD13: 0 | JE13: 0 | JF13: 0 | JG13: 0 | JH13: 0 | JI13: 0 | JJ13: 0 | JK13: 0 | JL13: 0 | JM13: 0 | JN13: 0 | JO13: 0 | JP13: 0 | JQ13: 0 | JR13: 0 | JS13: 0 | JT13: 0 | JU13: 0 | JV13: 0 | JW13: 0 | JX13: 0 | JY13: 0 | JZ13: 12 | KA13: 2 | KB13: 0 | KC13: 0 | KD13: 2 | KE13: 0 | KF13: 0 | KG13: 1188826 | KH13: 10 | KI13: 0 | KJ13: 0 | KK13: 10 | KL13: 0 | KM13: 0 | KN13: 6250500 | KO13: 7439326 | KP13: 8 | KQ13: 2 | KR13: 0 | KS13: 0 | KT13: 2 | KU13: 0 | KV13: 0 | KW13: 1188826 | KX13: 6 | KY13: 0 | KZ13: 0 | LA13: 6 | LB13: 0 | LC13: 0 | LD13: 3750300 | LE13: 4939126
B14: 2. Группы комбинированной направленности | N14: 3944 | O14: 34 | U14: 17169340 | V14: 3910 | AB14: 964919191 | AC14: 982088531 | AD14: 15 | AE14: 0 | AK14: 0 | AL14: 15 | AR14: 2982270 | AS14: 2982270 | AT14: 0 | AU14: 0 | BA14: 0 | BB14: 0 | BH14: 0 | BI14: 0 | BJ14: 0 | BK14: 0 | BQ14: 0 | BR14: 0 | BX14: 0 | BY14: 0 | BZ14: 822 | CA14: 0 | CG14: 0 | CH14: 822 | CN14: 228567576 | CO14: 228567576 | CP14: 1638 | CQ14: 4 | CW14: 1251100 | CX14: 1634 | DD14: 395157306 | DE14: 396408406 | DF14: 368 | DG14: 0 | DM14: 0 | DN14: 368 | DT14: 97618916 | DU14: 97618916 | DV14: 16 | DW14: 0 | EC14: 0 | ED14: 16 | EJ14: 3830444 | EK14: 3830444 | EL14: 57 | EM14: 0 | ES14: 0 | ET14: 57 | EZ14: 12837540 | FA14: 12837540 | FB14: 12 | FC14: 0 | FI14: 0 | FJ14: 12 | FP14: 2702640 | FQ14: 2702640 | FR14: 82 | FS14: 0 | FY14: 0 | FZ14: 82 | GF14: 18468040 | GG14: 18468040 | GH14: 0 | GI14: 0 | GO14: 0 | GP14: 0 | GV14: 0 | GW14: 0 | GX14: 0 | GY14: 0 | HE14: 0 | HF14: 0 | HL14: 0 | HM14: 0 | HN14: 44 | HO14: 0 | HU14: 0 | HV14: 44 | IB14: 9909680 | IC14: 9909680 | ID14: 0 | IE14: 0 | IK14: 0 | IL14: 0 | IR14: 0 | IS14: 0 | IT14: 12 | IU14: 0 | JA14: 0 | JB14: 12 | JH14: 3649128 | JI14: 3649128 | JJ14: 0 | JK14: 0 | JQ14: 0 | JR14: 0 | JX14: 0 | JY14: 0 | JZ14: 199 | KA14: 0 | KG14: 0 | KH14: 199 | KN14: 46481795 | KO14: 46481795 | KP14: 679 | KQ14: 30 | KW14: 15918240 | KX14: 649 | LD14: 142713856 | LE14: 158632096
B15: 01 глухие | C15: 174164 | D15: 273172 | E15: 312775 | F15: 352378 | G15: 421812 | H15: 188279 | I15: 287287 | J15: 326890 | K15: 366494 | L15: 435928 | N15: 0 | O15: 0 | P15: 0 | Q15: 0 | R15: 0 | S15: 0 | T15: 0 | U15: 0 | V15: 0 | W15: 0 | X15: 0 | Y15: 0 | Z15: 0 | AA15: 0 | AB15: 0 | AC15: 0 | AD15: 0 | AE15: 0 | AF15: 0 | AG15: 0 | AH15: 0 | AI15: 0 | AJ15: 0 | AK15: 0 | AL15: 0 | AM15: 0 | AN15: 0 | AO15: 0 | AP15: 0 | AQ15: 0 | AR15: 0 | AS15: 0 | AT15: 0 | AU15: 0 | AV15: 0 | AW15: 0 | AX15: 0 | AY15: 0 | AZ15: 0 | BA15: 0 | BB15: 0 | BC15: 0 | BD15: 0 | BE15: 0 | BF15: 0 | BG15: 0 | BH15: 0 | BI15: 0 | BJ15: 0 | BK15: 0 | BL15: 0 | BM15: 0 | BN15: 0 | BO15: 0 | BP15: 0 | BQ15: 0 | BR15: 0 | BS15: 0 | BT15: 0 | BU15: 0 | BV15: 0 | BW15: 0 | BX15: 0 | BY15: 0 | BZ15: 0 | CA15: 0 | CB15: 0 | CC15: 0 | CD15: 0 | CE15: 0 | CF15: 0 | CG15: 0 | CH15: 0 | CI15: 0 | CJ15: 0 | CK15: 0 | CL15: 0 | CM15: 0 | CN15: 0 | CO15: 0 | CP15: 0 | CQ15: 0 | CR15: 0 | CS15: 0 | CT15: 0 | CU15: 0 | CV15: 0 | CW15: 0 | CX15: 0 | CY15: 0 | CZ15: 0 | DA15: 0 | DB15: 0 | DC15: 0 | DD15: 0 | DE15: 0 | DF15: 0 | DG15: 0 | DH15: 0 | DI15: 0 | DJ15: 0 | DK15: 0 | DL15: 0 | DM15: 0 | DN15: 0 | DO15: 0 | DP15: 0 | DQ15: 0 | DR15: 0 | DS15: 0 | DT15: 0 | DU15: 0 | DV15: 0 | DW15: 0 | DX15: 0 | DY15: 0 | DZ15: 0 | EA15: 0 | EB15: 0 | EC15: 0 | ED15: 0 | EE15: 0 | EF15: 0 | EG15: 0 | EH15: 0 | EI15: 0 | EJ15: 0 | EK15: 0 | EL15: 0 | EM15: 0 | EN15: 0 | EO15: 0 | EP15: 0 | EQ15: 0 | ER15: 0 | ES15: 0 | ET15: 0 | EU15: 0 | EV15: 0 | EW15: 0 | EX15: 0 | EY15: 0 | EZ15: 0 | FA15: 0 | FB15: 0 | FC15: 0 | FD15: 0 | FE15: 0 | FF15: 0 | FG15: 0 | FH15: 0 | FI15: 0 | FJ15: 0 | FK15: 0 | FL15: 0 | FM15: 0 | FN15: 0 | FO15: 0 | FP15: 0 | FQ15: 0 | FR15: 0 | FS15: 0 | FT15: 0 | FU15: 0 | FV15: 0 | FW15: 0 | FX15: 0 | FY15: 0 | FZ15: 0 | GA15: 0 | GB15: 0 | GC15: 0 | GD15: 0 | GE15: 0 | GF15: 0 | GG15: 0 | GH15: 0 | GI15: 0 | GJ15: 0 | GK15: 0 | GL15: 0 | GM15: 0 | GN15: 0 | GO15: 0 | GP15: 0 | GQ15: 0 | GR15: 0 | GS15: 0 | GT15: 0 | GU15: 0 | GV15: 0 | GW15: 0 | GX15: 0 | GY15: 0 | GZ15: 0 | HA15: 0 | HB15: 0 | HC15: 0 | HD15: 0 | HE15: 0 | HF15: 0 | HG15: 0 | HH15: 0 | HI15: 0 | HJ15: 0 | HK15: 0 | HL15: 0 | HM15: 0 | HN15: 0 | HO15: 0 | HP15: 0 | HQ15: 0 | HR15: 0 | HS15: 0 | HT15: 0 | HU15: 0 | HV15: 0 | HW15: 0 | HX15: 0 | HY15: 0 | HZ15: 0 | IA15: 0 | IB15: 0 | IC15: 0 | ID15: 0 | IE15: 0 | IF15: 0 | IG15: 0 | IH15: 0 | II15: 0 | IJ15: 0 | IK15: 0 | IL15: 0 | IM15: 0 | IN15: 0 | IO15: 0 | IP15: 0 | IQ15: 0 | IR15: 0 | IS15: 0 | IT15: 0 | IU15: 0 | IV15: 0 | IW15: 0 | IX15: 0 | IY15: 0 | IZ15: 0 | JA15: 0 | JB15: 0 | JC15: 0 | JD15: 0 | JE15: 0 | JF15: 0 | JG15: 0 | JH15: 0 | JI15: 0 | JJ15: 0 | JK15: 0 | JL15: 0 | JM15: 0 | JN15: 0 | JO15: 0 | JP15: 0 | JQ15: 0 | JR15: 0 | JS15: 0 | JT15: 0 | JU15: 0 | JV15: 0 | JW15: 0 | JX15: 0 | JY15: 0 | JZ15: 0 | KA15: 0 | KB15: 0 | KC15: 0 | KD15: 0 | KE15: 0 | KF15: 0 | KG15: 0 | KH15: 0 | KI15: 0 | KJ15: 0 | KK15: 0 | KL15: 0 | KM15: 0 | KN15: 0 | KO15: 0 | KP15: 0 | KQ15: 0 | KR15: 0 | KS15: 0 | KT15: 0 | KU15: 0 | KV15: 0 | KW15: 0 | KX15: 0 | KY15: 0 | KZ15: 0 | LA15: 0 | LB15: 0 | LC15: 0 | LD15: 0 | LE15: 0
B16: 02 слабослышащие (познооглохшие) | C16: 174164 | D16: 273172 | E16: 312775 | F16: 352378 | G16: 421812 | H16: 132812 | I16: 198818 | J16: 225220 | K16: 251622 | L16: 297912 | N16: 0 | O16: 0 | P16: 0 | Q16: 0 | R16: 0 | S16: 0 | T16: 0 | U16: 0 | V16: 0 | W16: 0 | X16: 0 | Y16: 0 | Z16: 0 | AA16: 0 | AB16: 0 | AC16: 0 | AD16: 0 | AE16: 0 | AF16: 0 | AG16: 0 | AH16: 0 | AI16: 0 | AJ16: 0 | AK16: 0 | AL16: 0 | AM16: 0 | AN16: 0 | AO16: 0 | AP16: 0 | AQ16: 0 | AR16: 0 | AS16: 0 | AT16: 0 | AU16: 0 | AV16: 0 | AW16: 0 | AX16: 0 | AY16: 0 | AZ16: 0 | BA16: 0 | BB16: 0 | BC16: 0 | BD16: 0 | BE16: 0 | BF16: 0 | BG16: 0 | BH16: 0 | BI16: 0 | BJ16: 0 | BK16: 0 | BL16: 0 | BM16: 0 | BN16: 0 | BO16: 0 | BP16: 0 | BQ16: 0 | BR16: 0 | BS16: 0 | BT16: 0 | BU16: 0 | BV16: 0 | BW16: 0 | BX16: 0 | BY16: 0 | BZ16: 0 | CA16: 0 | CB16: 0 | CC16: 0 | CD16: 0 | CE16: 0 | CF16: 0 | CG16: 0 | CH16: 0 | CI16: 0 | CJ16: 0 | CK16: 0 | CL16: 0 | CM16: 0 | CN16: 0 | CO16: 0 | CP16: 0 | CQ16: 0 | CR16: 0 | CS16: 0 | CT16: 0 | CU16: 0 | CV16: 0 | CW16: 0 | CX16: 0 | CY16: 0 | CZ16: 0 | DA16: 0 | DB16: 0 | DC16: 0 | DD16: 0 | DE16: 0 | DF16: 0 | DG16: 0 | DH16: 0 | DI16: 0 | DJ16: 0 | DK16: 0 | DL16: 0 | DM16: 0 | DN16: 0 | DO16: 0 | DP16: 0 | DQ16: 0 | DR16: 0 | DS16: 0 | DT16: 0 | DU16: 0 | DV16: 0 | DW16: 0 | DX16: 0 | DY16: 0 | DZ16: 0 | EA16: 0 | EB16: 0 | EC16: 0 | ED16: 0 | EE16: 0 | EF16: 0 | EG16: 0 | EH16: 0 | EI16: 0 | EJ16: 0 | EK16: 0 | EL16: 0 | EM16: 0 | EN16: 0 | EO16: 0 | EP16: 0 | EQ16: 0 | ER16: 0 | ES16: 0 | ET16: 0 | EU16: 0 | EV16: 0 | EW16: 0 | EX16: 0 | EY16: 0 | EZ16: 0 | FA16: 0 | FB16: 0 | FC16: 0 | FD16: 0 | FE16: 0 | FF16: 0 | FG16: 0 | FH16: 0 | FI16: 0 | FJ16: 0 | FK16: 0 | FL16: 0 | FM16: 0 | FN16: 0 | FO16: 0 | FP16: 0 | FQ16: 0 | FR16: 0 | FS16: 0 | FT16: 0 | FU16: 0 | FV16: 0 | FW16: 0 | FX16: 0 | FY16: 0 | FZ16: 0 | GA16: 0 | GB16: 0 | GC16: 0 | GD16: 0 | GE16: 0 | GF16: 0 | GG16: 0 | GH16: 0 | GI16: 0 | GJ16: 0 | GK16: 0 | GL16: 0 | GM16: 0 | GN16: 0 | GO16: 0 | GP16: 0 | GQ16: 0 | GR16: 0 | GS16: 0 | GT16: 0 | GU16: 0 | GV16: 0 | GW16: 0 | GX16: 0 | GY16: 0 | GZ16: 0 | HA16: 0 | HB16: 0 | HC16: 0 | HD16: 0 | HE16: 0 | HF16: 0 | HG16: 0 | HH16: 0 | HI16: 0 | HJ16: 0 | HK16: 0 | HL16: 0 | HM16: 0 | HN16: 0 | HO16: 0 | HP16: 0 | HQ16: 0 | HR16: 0 | HS16: 0 | HT16: 0 | HU16: 0 | HV16: 0 | HW16: 0 | HX16: 0 | HY16: 0 | HZ16: 0 | IA16: 0 | IB16: 0 | IC16: 0 | ID16: 0 | IE16: 0 | IF16: 0 | IG16: 0 | IH16: 0 | II16: 0 | IJ16: 0 | IK16: 0 | IL16: 0 | IM16: 0 | IN16: 0 | IO16: 0 | IP16: 0 | IQ16: 0 | IR16: 0 | IS16: 0 | IT16: 0 | IU16: 0 | IV16: 0 | IW16: 0 | IX16: 0 | IY16: 0 | IZ16: 0 | JA16: 0 | JB16: 0 | JC16: 0 | JD16: 0 | JE16: 0 | JF16: 0 | JG16: 0 | JH16: 0 | JI16: 0 | JJ16: 0 | JK16: 0 | JL16: 0 | JM16: 0 | JN16: 0 | JO16: 0 | JP16: 0 | JQ16: 0 | JR16: 0 | JS16: 0 | JT16: 0 | JU16: 0 | JV16: 0 | JW16: 0 | JX16: 0 | JY16: 0 | JZ16: 0 | KA16: 0 | KB16: 0 | KC16: 0 | KD16: 0 | KE16: 0 | KF16: 0 | KG16: 0 | KH16: 0 | KI16: 0 | KJ16: 0 | KK16: 0 | KL16: 0 | KM16: 0 | KN16: 0 | KO16: 0 | KP16: 0 | KQ16: 0 | KR16: 0 | KS16: 0 | KT16: 0 | KU16: 0 | KV16: 0 | KW16: 0 | KX16: 0 | KY16: 0 | KZ16: 0 | LA16: 0 | LB16: 0 | LC16: 0 | LD16: 0 | LE16: 0
B17: 03 слепые | C17: 299418 | D17: 398426 | E17: 438029 | F17: 477632 | G17: 547066 | H17: 313533 | I17: 412541 | J17: 452144 | K17: 491747 | L17: 561182 | N17: 0 | O17: 0 | P17: 0 | Q17: 0 | R17: 0 | S17: 0 | T17: 0 | U17: 0 | V17: 0 | W17: 0 | X17: 0 | Y17: 0 | Z17: 0 | AA17: 0 | AB17: 0 | AC17: 0 | AD17: 0 | AE17: 0 | AF17: 0 | AG17: 0 | AH17: 0 | AI17: 0 | AJ17: 0 | AK17: 0 | AL17: 0 | AM17: 0 | AN17: 0 | AO17: 0 | AP17: 0 | AQ17: 0 | AR17: 0 | AS17: 0 | AT17: 0 | AU17: 0 | AV17: 0 | AW17: 0 | AX17: 0 | AY17: 0 | AZ17: 0 | BA17: 0 | BB17: 0 | BC17: 0 | BD17: 0 | BE17: 0 | BF17: 0 | BG17: 0 | BH17: 0 | BI17: 0 | BJ17: 0 | BK17: 0 | BL17: 0 | BM17: 0 | BN17: 0 | BO17: 0 | BP17: 0 | BQ17: 0 | BR17: 0 | BS17: 0 | BT17: 0 | BU17: 0 | BV17: 0 | BW17: 0 | BX17: 0 | BY17: 0 | BZ17: 0 | CA17: 0 | CB17: 0 | CC17: 0 | CD17: 0 | CE17: 0 | CF17: 0 | CG17: 0 | CH17: 0 | CI17: 0 | CJ17: 0 | CK17: 0 | CL17: 0 | CM17: 0 | CN17: 0 | CO17: 0 | CP17: 0 | CQ17: 0 | CR17: 0 | CS17: 0 | CT17: 0 | CU17: 0 | CV17: 0 | CW17: 0 | CX17: 0 | CY17: 0 | CZ17: 0 | DA17: 0 | DB17: 0 | DC17: 0 | DD17: 0 | DE17: 0 | DF17: 0 | DG17: 0 | DH17: 0 | DI17: 0 | DJ17: 0 | DK17: 0 | DL17: 0 | DM17: 0 | DN17: 0 | DO17: 0 | DP17: 0 | DQ17: 0 | DR17: 0 | DS17: 0 | DT17: 0 | DU17: 0 | DV17: 0 | DW17: 0 | DX17: 0 | DY17: 0 | DZ17: 0 | EA17: 0 | EB17: 0 | EC17: 0 | ED17: 0 | EE17: 0 | EF17: 0 | EG17: 0 | EH17: 0 | EI17: 0 | EJ17: 0 | EK17: 0 | EL17: 0 | EM17: 0 | EN17: 0 | EO17: 0 | EP17: 0 | EQ17: 0 | ER17: 0 | ES17: 0 | ET17: 0 | EU17: 0 | EV17: 0 | EW17: 0 | EX17: 0 | EY17: 0 | EZ17: 0 | FA17: 0 | FB17: 0 | FC17: 0 | FD17: 0 | FE17: 0 | FF17: 0 | FG17: 0 | FH17: 0 | FI17: 0 | FJ17: 0 | FK17: 0 | FL17: 0 | FM17: 0 | FN17: 0 | FO17: 0 | FP17: 0 | FQ17: 0 | FR17: 0 | FS17: 0 | FT17: 0 | FU17: 0 | FV17: 0 | FW17: 0 | FX17: 0 | FY17: 0 | FZ17: 0 | GA17: 0 | GB17: 0 | GC17: 0 | GD17: 0 | GE17: 0 | GF17: 0 | GG17: 0 | GH17: 0 | GI17: 0 | GJ17: 0 | GK17: 0 | GL17: 0 | GM17: 0 | GN17: 0 | GO17: 0 | GP17: 0 | GQ17: 0 | GR17: 0 | GS17: 0 | GT17: 0 | GU17: 0 | GV17: 0 | GW17: 0 | GX17: 0 | GY17: 0 | GZ17: 0 | HA17: 0 | HB17: 0 | HC17: 0 | HD17: 0 | HE17: 0 | HF17: 0 | HG17: 0 | HH17: 0 | HI17: 0 | HJ17: 0 | HK17: 0 | HL17: 0 | HM17: 0 | HN17: 0 | HO17: 0 | HP17: 0 | HQ17: 0 | HR17: 0 | HS17: 0 | HT17: 0 | HU17: 0 | HV17: 0 | HW17: 0 | HX17: 0 | HY17: 0 | HZ17: 0 | IA17: 0 | IB17: 0 | IC17: 0 | ID17: 0 | IE17: 0 | IF17: 0 | IG17: 0 | IH17: 0 | II17: 0 | IJ17: 0 | IK17: 0 | IL17: 0 | IM17: 0 | IN17: 0 | IO17: 0 | IP17: 0 | IQ17: 0 | IR17: 0 | IS17: 0 | IT17: 0 | IU17: 0 | IV17: 0 | IW17: 0 | IX17: 0 | IY17: 0 | IZ17: 0 | JA17: 0 | JB17: 0 | JC17: 0 | JD17: 0 | JE17: 0 | JF17: 0 | JG17: 0 | JH17: 0 | JI17: 0 | JJ17: 0 | JK17: 0 | JL17: 0 | JM17: 0 | JN17: 0 | JO17: 0 | JP17: 0 | JQ17: 0 | JR17: 0 | JS17: 0 | JT17: 0 | JU17: 0 | JV17: 0 | JW17: 0 | JX17: 0 | JY17: 0 | JZ17: 0 | KA17: 0 | KB17: 0 | KC17: 0 | KD17: 0 | KE17: 0 | KF17: 0 | KG17: 0 | KH17: 0 | KI17: 0 | KJ17: 0 | KK17: 0 | KL17: 0 | KM17: 0 | KN17: 0 | KO17: 0 | KP17: 0 | KQ17: 0 | KR17: 0 | KS17: 0 | KT17: 0 | KU17: 0 | KV17: 0 | KW17: 0 | KX17: 0 | KY17: 0 | KZ17: 0 | LA17: 0 | LB17: 0 | LC17: 0 | LD17: 0 | LE17: 0
B18: 04 слабовидящие, с амблиопией, косоглазием | C18: 206839 | D18: 305847 | E18: 345450 | F18: 385053 | G18: 454487 | H18: 154596 | I18: 220601 | J18: 247003 | K18: 273405 | L18: 319695 | N18: 128 | O18: 0 | P18: 0 | Q18: 0 | R18: 0 | S18: 0 | T18: 0 | U18: 0 | V18: 128 | W18: 0 | X18: 29 | Y18: 77 | Z18: 22 | AA18: 0 | AB18: 31431570 | AC18: 31431570 | AD18: 0 | AE18: 0 | AF18: 0 | AG18: 0 | AH18: 0 | AI18: 0 | AJ18: 0 | AK18: 0 | AL18: 0 | AM18: 0 | AN18: 0 | AO18: 0 | AP18: 0 | AQ18: 0 | AR18: 0 | AS18: 0 | AT18: 0 | AU18: 0 | AV18: 0 | AW18: 0 | AX18: 0 | AY18: 0 | AZ18: 0 | BA18: 0 | BB18: 0 | BC18: 0 | BD18: 0 | BE18: 0 | BF18: 0 | BG18: 0 | BH18: 0 | BI18: 0 | BJ18: 0 | BK18: 0 | BL18: 0 | BM18: 0 | BN18: 0 | BO18: 0 | BP18: 0 | BQ18: 0 | BR18: 0 | BS18: 0 | BT18: 0 | BU18: 0 | BV18: 0 | BW18: 0 | BX18: 0 | BY18: 0 | BZ18: 0 | CA18: 0 | CB18: 0 | CC18: 0 | CD18: 0 | CE18: 0 | CF18: 0 | CG18: 0 | CH18: 0 | CI18: 0 | CJ18: 0 | CK18: 0 | CL18: 0 | CM18: 0 | CN18: 0 | CO18: 0 | CP18: 22 | CQ18: 0 | CR18: 0 | CS18: 0 | CT18: 0 | CU18: 0 | CV18: 0 | CW18: 0 | CX18: 22 | CY18: 0 | CZ18: 0 | DA18: 0 | DB18: 22 | DC18: 0 | DD18: 6014910 | DE18: 6014910 | DF18: 0 | DG18: 0 | DH18: 0 | DI18: 0 | DJ18: 0 | DK18: 0 | DL18: 0 | DM18: 0 | DN18: 0 | DO18: 0 | DP18: 0 | DQ18: 0 | DR18: 0 | DS18: 0 | DT18: 0 | DU18: 0 | DV18: 0 | DW18: 0 | DX18: 0 | DY18: 0 | DZ18: 0 | EA18: 0 | EB18: 0 | EC18: 0 | ED18: 0 | EE18: 0 | EF18: 0 | EG18: 0 | EH18: 0 | EI18: 0 | EJ18: 0 | EK18: 0 | EL18: 0 | EM18: 0 | EN18: 0 | EO18: 0 | EP18: 0 | EQ18: 0 | ER18: 0 | ES18: 0 | ET18: 0 | EU18: 0 | EV18: 0 | EW18: 0 | EX18: 0 | EY18: 0 | EZ18: 0 | FA18: 0 | FB18: 0 | FC18: 0 | FD18: 0 | FE18: 0 | FF18: 0 | FG18: 0 | FH18: 0 | FI18: 0 | FJ18: 0 | FK18: 0 | FL18: 0 | FM18: 0 | FN18: 0 | FO18: 0 | FP18: 0 | FQ18: 0 | FR18: 0 | FS18: 0 | FT18: 0 | FU18: 0 | FV18: 0 | FW18: 0 | FX18: 0 | FY18: 0 | FZ18: 0 | GA18: 0 | GB18: 0 | GC18: 0 | GD18: 0 | GE18: 0 | GF18: 0 | GG18: 0 | GH18: 0 | GI18: 0 | GJ18: 0 | GK18: 0 | GL18: 0 | GM18: 0 | GN18: 0 | GO18: 0 | GP18: 0 | GQ18: 0 | GR18: 0 | GS18: 0 | GT18: 0 | GU18: 0 | GV18: 0 | GW18: 0 | GX18: 0 | GY18: 0 | GZ18: 0 | HA18: 0 | HB18: 0 | HC18: 0 | HD18: 0 | HE18: 0 | HF18: 0 | HG18: 0 | HH18: 0 | HI18: 0 | HJ18: 0 | HK18: 0 | HL18: 0 | HM18: 0 | HN18: 0 | HO18: 0 | HP18: 0 | HQ18: 0 | HR18: 0 | HS18: 0 | HT18: 0 | HU18: 0 | HV18: 0 | HW18: 0 | HX18: 0 | HY18: 0 | HZ18: 0 | IA18: 0 | IB18: 0 | IC18: 0 | ID18: 0 | IE18: 0 | IF18: 0 | IG18: 0 | IH18: 0 | II18: 0 | IJ18: 0 | IK18: 0 | IL18: 0 | IM18: 0 | IN18: 0 | IO18: 0 | IP18: 0 | IQ18: 0 | IR18: 0 | IS18: 0 | IT18: 0 | IU18: 0 | IV18: 0 | IW18: 0 | IX18: 0 | IY18: 0 | IZ18: 0 | JA18: 0 | JB18: 0 | JC18: 0 | JD18: 0 | JE18: 0 | JF18: 0 | JG18: 0 | JH18: 0 | JI18: 0 | JJ18: 0 | JK18: 0 | JL18: 0 | JM18: 0 | JN18: 0 | JO18: 0 | JP18: 0 | JQ18: 0 | JR18: 0 | JS18: 0 | JT18: 0 | JU18: 0 | JV18: 0 | JW18: 0 | JX18: 0 | JY18: 0 | JZ18: 0 | KA18: 0 | KB18: 0 | KC18: 0 | KD18: 0 | KE18: 0 | KF18: 0 | KG18: 0 | KH18: 0 | KI18: 0 | KJ18: 0 | KK18: 0 | KL18: 0 | KM18: 0 | KN18: 0 | KO18: 0 | KP18: 106 | KQ18: 0 | KR18: 0 | KS18: 0 | KT18: 0 | KU18: 0 | KV18: 0 | KW18: 0 | KX18: 106 | KY18: 0 | KZ18: 29 | LA18: 77 | LB18: 0 | LC18: 0 | LD18: 25416660 | LE18: 25416660
B19: 05 с тяжелыми нарушениями речи | C19: 174164 | D19: 273172 | E19: 312775 | F19: 352378 | G19: 421812 | H19: 132812 | I19: 198818 | J19: 225220 | K19: 251622 | L19: 297912 | N19: 2960 | O19: 4 | P19: 0 | Q19: 0 | R19: 4 | S19: 0 | T19: 0 | U19: 1251100 | V19: 2956 | W19: 0 | X19: 247 | Y19: 2664 | Z19: 22 | AA19: 23 | AB19: 661481786 | AC19: 662732886 | AD19: 15 | AE19: 0 | AF19: 0 | AG19: 0 | AH19: 0 | AI19: 0 | AJ19: 0 | AK19: 0 | AL19: 15 | AM19: 0 | AN19: 15 | AO19: 0 | AP19: 0 | AQ19: 0 | AR19: 2982270 | AS19: 2982270 | AT19: 0 | AU19: 0 | AV19: 0 | AW19: 0 | AX19: 0 | AY19: 0 | AZ19: 0 | BA19: 0 | BB19: 0 | BC19: 0 | BD19: 0 | BE19: 0 | BF19: 0 | BG19: 0 | BH19: 0 | BI19: 0 | BJ19: 0 | BK19: 0 | BL19: 0 | BM19: 0 | BN19: 0 | BO19: 0 | BP19: 0 | BQ19: 0 | BR19: 0 | BS19: 0 | BT19: 0 | BU19: 0 | BV19: 0 | BW19: 0 | BX19: 0 | BY19: 0 | BZ19: 381 | CA19: 0 | CB19: 0 | CC19: 0 | CD19: 0 | CE19: 0 | CF19: 0 | CG19: 0 | CH19: 381 | CI19: 0 | CJ19: 0 | CK19: 381 | CL19: 0 | CM19: 0 | CN19: 85808820 | CO19: 85808820 | CP19: 1404 | CQ19: 4 | CR19: 0 | CS19: 0 | CT19: 4 | CU19: 0 | CV19: 0 | CW19: 1251100 | CX19: 1400 | CY19: 0 | CZ19: 0 | DA19: 1355 | DB19: 22 | DC19: 23 | DD19: 317560760 | DE19: 318811860 | DF19: 262 | DG19: 0 | DH19: 0 | DI19: 0 | DJ19: 0 | DK19: 0 | DL19: 0 | DM19: 0 | DN19: 262 | DO19: 0 | DP19: 0 | DQ19: 262 | DR19: 0 | DS19: 0 | DT19: 59007640 | DU19: 59007640 | DV19: 15 | DW19: 0 | DX19: 0 | DY19: 0 | DZ19: 0 | EA19: 0 | EB19: 0 | EC19: 0 | ED19: 15 | EE19: 0 | EF19: 0 | EG19: 15 | EH19: 0 | EI19: 0 | EJ19: 3378300 | EK19: 3378300 | EL19: 57 | EM19: 0 | EN19: 0 | EO19: 0 | EP19: 0 | EQ19: 0 | ER19: 0 | ES19: 0 | ET19: 57 | EU19: 0 | EV19: 0 | EW19: 57 | EX19: 0 | EY19: 0 | EZ19: 12837540 | FA19: 12837540 | FB19: 12 | FC19: 0 | FD19: 0 | FE19: 0 | FF19: 0 | FG19: 0 | FH19: 0 | FI19: 0 | FJ19: 12 | FK19: 0 | FL19: 0 | FM19: 12 | FN19: 0 | FO19: 0 | FP19: 2702640 | FQ19: 2702640 | FR19: 82 | FS19: 0 | FT19: 0 | FU19: 0 | FV19: 0 | FW19: 0 | FX19: 0 | FY19: 0 | FZ19: 82 | GA19: 0 | GB19: 0 | GC19: 82 | GD19: 0 | GE19: 0 | GF19: 18468040 | GG19: 18468040 | GH19: 0 | GI19: 0 | GJ19: 0 | GK19: 0 | GL19: 0 | GM19: 0 | GN19: 0 | GO19: 0 | GP19: 0 | GQ19: 0 | GR19: 0 | GS19: 0 | GT19: 0 | GU19: 0 | GV19: 0 | GW19: 0 | GX19: 0 | GY19: 0 | GZ19: 0 | HA19: 0 | HB19: 0 | HC19: 0 | HD19: 0 | HE19: 0 | HF19: 0 | HG19: 0 | HH19: 0 | HI19: 0 | HJ19: 0 | HK19: 0 | HL19: 0 | HM19: 0 | HN19: 44 | HO19: 0 | HP19: 0 | HQ19: 0 | HR19: 0 | HS19: 0 | HT19: 0 | HU19: 0 | HV19: 44 | HW19: 0 | HX19: 0 | HY19: 44 | HZ19: 0 | IA19: 0 | IB19: 9909680 | IC19: 9909680 | ID19: 0 | IE19: 0 | IF19: 0 | IG19: 0 | IH19: 0 | II19: 0 | IJ19: 0 | IK19: 0 | IL19: 0 | IM19: 0 | IN19: 0 | IO19: 0 | IP19: 0 | IQ19: 0 | IR19: 0 | IS19: 0 | IT19: 0 | IU19: 0 | IV19: 0 | IW19: 0 | IX19: 0 | IY19: 0 | IZ19: 0 | JA19: 0 | JB19: 0 | JC19: 0 | JD19: 0 | JE19: 0 | JF19: 0 | JG19: 0 | JH19: 0 | JI19: 0 | JJ19: 0 | JK19: 0 | JL19: 0 | JM19: 0 | JN19: 0 | JO19: 0 | JP19: 0 | JQ19: 0 | JR19: 0 | JS19: 0 | JT19: 0 | JU19: 0 | JV19: 0 | JW19: 0 | JX19: 0 | JY19: 0 | JZ19: 160 | KA19: 0 | KB19: 0 | KC19: 0 | KD19: 0 | KE19: 0 | KF19: 0 | KG19: 0 | KH19: 160 | KI19: 0 | KJ19: 0 | KK19: 160 | KL19: 0 | KM19: 0 | KN19: 36035200 | KO19: 36035200 | KP19: 528 | KQ19: 0 | KR19: 0 | KS19: 0 | KT19: 0 | KU19: 0 | KV19: 0 | KW19: 0 | KX19: 528 | KY19: 0 | KZ19: 232 | LA19: 296 | LB19: 0 | LC19: 0 | LD19: 112790896 | LE19: 112790896
B20: 06 с фонетико-фонематическими нарушениями речи | C20: 0 | D20: 0 | E20: 0 | F20: 0 | G20: 0 | H20: 114043 | I20: 172283 | J20: 195579 | K20: 218875 | L20: 259719 | N20: 17 | O20: x | P20: x | Q20: x | R20: x | S20: x | T20: x | U20: x | V20: 17 | W20: 0 | X20: 0 | Y20: 17 | Z20: 0 | AA20: 0 | AB20: 3324843 | AC20: 3324843 | AD20: 0 | AE20: x | AF20: x | AG20: x | AH20: x | AI20: x | AJ20: x | AK20: x | AL20: 0 | AM20: 0 | AN20: 0 | AO20: 0 | AP20: 0 | AQ20: 0 | AR20: 0 | AT20: 0 | AU20: x | AV20: x | AW20: x | AX20: x | AY20: x | AZ20: x | BA20: x | BB20: 0 | BC20: 0 | BD20: 0 | BE20: 0 | BF20: 0 | BG20: 0 | BH20: 0 | BJ20: 0 | BK20: x | BL20: x | BM20: x | BN20: x | BO20: x | BP20: x | BQ20: x | BR20: 0 | BS20: 0 | BT20: 0 | BU20: 0 | BV20: 0 | BW20: 0 | BX20: 0 | BZ20: 0 | CA20: x | CB20: x | CC20: x | CD20: x | CE20: x | CF20: x | CG20: x | CH20: 0 | CI20: 0 | CJ20: 0 | CK20: 0 | CL20: 0 | CM20: 0 | CN20: 0 | CP20: 0 | CQ20: x | CR20: x | CS20: x | CT20: x | CU20: x | CV20: x | CW20: x | CX20: 0 | CY20: 0 | CZ20: 0 | DA20: 0 | DB20: 0 | DC20: 0 | DD20: 0 | DF20: 0 | DG20: x | DH20: x | DI20: x | DJ20: x | DK20: x | DL20: x | DM20: x | DN20: 0 | DO20: 0 | DP20: 0 | DQ20: 0 | DR20: 0 | DS20: 0 | DT20: 0 | DV20: 0 | DW20: x | DX20: x | DY20: x | DZ20: x | EA20: x | EB20: x | EC20: x | ED20: 0 | EE20: 0 | EF20: 0 | EG20: 0 | EH20: 0 | EI20: 0 | EJ20: 0 | EL20: 0 | EM20: x | EN20: x | EO20: x | EP20: x | EQ20: x | ER20: x | ES20: x | ET20: 0 | EU20: 0 | EV20: 0 | EW20: 0 | EX20: 0 | EY20: 0 | EZ20: 0 | FB20: 0 | FC20: x | FD20: x | FE20: x | FF20: x | FG20: x | FH20: x | FI20: x | FJ20: 0 | FK20: 0 | FL20: 0 | FM20: 0 | FN20: 0 | FO20: 0 | FP20: 0 | FR20: 0 | FS20: x | FT20: x | FU20: x | FV20: x | FW20: x | FX20: x | FY20: x | FZ20: 0 | GA20: 0 | GB20: 0 | GC20: 0 | GD20: 0 | GE20: 0 | GF20: 0 | GH20: 0 | GI20: x | GJ20: x | GK20: x | GL20: x | GM20: x | GN20: x | GO20: x | GP20: 0 | GQ20: 0 | GR20: 0 | GS20: 0 | GT20: 0 | GU20: 0 | GV20: 0 | GX20: 0 | GY20: x | GZ20: x | HA20: x | HB20: x | HC20: x | HD20: x | HE20: x | HF20: 0 | HG20: 0 | HH20: 0 | HI20: 0 | HJ20: 0 | HK20: 0 | HL20: 0 | HN20: 0 | HO20: x | HP20: x | HQ20: x | HR20: x | HS20: x | HT20: x | HU20: x | HV20: 0 | HW20: 0 | HX20: 0 | HY20: 0 | HZ20: 0 | IA20: 0 | IB20: 0 | ID20: 0 | IE20: x | IF20: x | IG20: x | IH20: x | II20: x | IJ20: x | IK20: x | IL20: 0 | IM20: 0 | IN20: 0 | IO20: 0 | IP20: 0 | IQ20: 0 | IR20: 0 | IT20: 0 | IU20: x | IV20: x | IW20: x | IX20: x | IY20: x | IZ20: x | JA20: x | JB20: 0 | JC20: 0 | JD20: 0 | JE20: 0 | JF20: 0 | JG20: 0 | JH20: 0 | JJ20: 0 | JK20: x | JL20: x | JM20: x | JN20: x | JO20: x | JP20: x | JQ20: x | JR20: 0 | JS20: 0 | JT20: 0 | JU20: 0 | JV20: 0 | JW20: 0 | JX20: 0 | JZ20: 17 | KA20: x | KB20: x | KC20: x | KD20: x | KE20: x | KF20: x | KG20: x | KH20: 17 | KI20: 0 | KJ20: 0 | KK20: 17 | KL20: 0 | KM20: 0 | KN20: 3324843 | KP20: 0 | KQ20: x | KR20: x | KS20: x | KT20: x | KU20: x | KV20: x | KW20: x | KX20: 0 | KY20: 0 | KZ20: 0 | LA20: 0 | LB20: 0 | LC20: 0 | LD20: 0
B21: 07 с нарушениями опорно-двигательного аппарата | C21: 299418 | D21: 398426 | E21: 438029 | F21: 477632 | G21: 547066 | H21: 313533 | I21: 412541 | J21: 452144 | K21: 491747 | L21: 561182 | N21: 1 | O21: 0 | P21: 0 | Q21: 0 | R21: 0 | S21: 0 | T21: 0 | U21: 0 | V21: 1 | W21: 0 | X21: 0 | Y21: 1 | Z21: 0 | AA21: 0 | AB21: 452144 | AC21: 452144 | AD21: 0 | AE21: 0 | AF21: 0 | AG21: 0 | AH21: 0 | AI21: 0 | AJ21: 0 | AK21: 0 | AL21: 0 | AM21: 0 | AN21: 0 | AO21: 0 | AP21: 0 | AQ21: 0 | AR21: 0 | AS21: 0 | AT21: 0 | AU21: 0 | AV21: 0 | AW21: 0 | AX21: 0 | AY21: 0 | AZ21: 0 | BA21: 0 | BB21: 0 | BC21: 0 | BD21: 0 | BE21: 0 | BF21: 0 | BG21: 0 | BH21: 0 | BI21: 0 | BJ21: 0 | BK21: 0 | BL21: 0 | BM21: 0 | BN21: 0 | BO21: 0 | BP21: 0 | BQ21: 0 | BR21: 0 | BS21: 0 | BT21: 0 | BU21: 0 | BV21: 0 | BW21: 0 | BX21: 0 | BY21: 0 | BZ21: 0 | CA21: 0 | CB21: 0 | CC21: 0 | CD21: 0 | CE21: 0 | CF21: 0 | CG21: 0 | CH21: 0 | CI21: 0 | CJ21: 0 | CK21: 0 | CL21: 0 | CM21: 0 | CN21: 0 | CO21: 0 | CP21: 0 | CQ21: 0 | CR21: 0 | CS21: 0 | CT21: 0 | CU21: 0 | CV21: 0 | CW21: 0 | CX21: 0 | CY21: 0 | CZ21: 0 | DA21: 0 | DB21: 0 | DC21: 0 | DD21: 0 | DE21: 0 | DF21: 0 | DG21: 0 | DH21: 0 | DI21: 0 | DJ21: 0 | DK21: 0 | DL21: 0 | DM21: 0 | DN21: 0 | DO21: 0 | DP21: 0 | DQ21: 0 | DR21: 0 | DS21: 0 | DT21: 0 | DU21: 0 | DV21: 1 | DW21: 0 | DX21: 0 | DY21: 0 | DZ21: 0 | EA21: 0 | EB21: 0 | EC21: 0 | ED21: 1 | EE21: 0 | EF21: 0 | EG21: 1 | EH21: 0 | EI21: 0 | EJ21: 452144 | EK21: 452144 | EL21: 0 | EM21: 0 | EN21: 0 | EO21: 0 | EP21: 0 | EQ21: 0 | ER21: 0 | ES21: 0 | ET21: 0 | EU21: 0 | EV21: 0 | EW21: 0 | EX21: 0 | EY21: 0 | EZ21: 0 | FA21: 0 | FB21: 0 | FC21: 0 | FD21: 0 | FE21: 0 | FF21: 0 | FG21: 0 | FH21: 0 | FI21: 0 | FJ21: 0 | FK21: 0 | FL21: 0 | FM21: 0 | FN21: 0 | FO21: 0 | FP21: 0 | FQ21: 0 | FR21: 0 | FS21: 0 | FT21: 0 | FU21: 0 | FV21: 0 | FW21: 0 | FX21: 0 | FY21: 0 | FZ21: 0 | GA21: 0 | GB21: 0 | GC21: 0 | GD21: 0 | GE21: 0 | GF21: 0 | GG21: 0 | GH21: 0 | GI21: 0 | GJ21: 0 | GK21: 0 | GL21: 0 | GM21: 0 | GN21: 0 | GO21: 0 | GP21: 0 | GQ21: 0 | GR21: 0 | GS21: 0 | GT21: 0 | GU21: 0 | GV21: 0 | GW21: 0 | GX21: 0 | GY21: 0 | GZ21: 0 | HA21: 0 | HB21: 0 | HC21: 0 | HD21: 0 | HE21: 0 | HF21: 0 | HG21: 0 | HH21: 0 | HI21: 0 | HJ21: 0 | HK21: 0 | HL21: 0 | HM21: 0 | HN21: 0 | HO21: 0 | HP21: 0 | HQ21: 0 | HR21: 0 | HS21: 0 | HT21: 0 | HU21: 0 | HV21: 0 | HW21: 0 | HX21: 0 | HY21: 0 | HZ21: 0 | IA21: 0 | IB21: 0 | IC21: 0 | ID21: 0 | IE21: 0 | IF21: 0 | IG21: 0 | IH21: 0 | II21: 0 | IJ21: 0 | IK21: 0 | IL21: 0 | IM21: 0 | IN21: 0 | IO21: 0 | IP21: 0 | IQ21: 0 | IR21: 0 | IS21: 0 | IT21: 0 | IU21: 0 | IV21: 0 | IW21: 0 | IX21: 0 | IY21: 0 | IZ21: 0 | JA21: 0 | JB21: 0 | JC21: 0 | JD21: 0 | JE21: 0 | JF21: 0 | JG21: 0 | JH21: 0 | JI21: 0 | JJ21: 0 | JK21: 0 | JL21: 0 | JM21: 0 | JN21: 0 | JO21: 0 | JP21: 0 | JQ21: 0 | JR21: 0 | JS21: 0 | JT21: 0 | JU21: 0 | JV21: 0 | JW21: 0 | JX21: 0 | JY21: 0 | JZ21: 0 | KA21: 0 | KB21: 0 | KC21: 0 | KD21: 0 | KE21: 0 | KF21: 0 | KG21: 0 | KH21: 0 | KI21: 0 | KJ21: 0 | KK21: 0 | KL21: 0 | KM21: 0 | KN21: 0 | KO21: 0 | KP21: 0 | KQ21: 0 | KR21: 0 | KS21: 0 | KT21: 0 | KU21: 0 | KV21: 0 | KW21: 0 | KX21: 0 | KY21: 0 | KZ21: 0 | LA21: 0 | LB21: 0 | LC21: 0 | LD21: 0 | LE21: 0
