Workbook

Sheet Свод
E1: Приложение 16 к пояснительной записке 2026 года
E2: таблица 1
A3: Расчет объема субвенций бюджетам муниципальных образований Ленинградской области на осуществление отдельных государственных полномочий на обеспечение государственных гарантий реализации прав на получение общедоступного и бесплатного дошкольного образования в муниципальных дошкольных образовательных организациях и муниципальных общеобразовательных организациях, включая расходы на оплату труда, приобретение учебных пособий, средств обучения, игр, игрушек (за исключением расходов на содержание зданий и оплату коммунальных услуг), на 2026 год и на плановый период 2027 и 2028 годов
A4: Наименование муниципального образования | B4: Всего: | D4: Проект бюджета на 2026-2028
B5: восп. | C5: тыс. руб. | D5: восп. | E5: тыс. руб.
A6: Бокситогорский | B6: 1542 | C6: 280588.89 | D6: 1552 | E6: 282468.2
A7: Волосовский | B7: 1705 | C7: 340492.59 | D7: 1717 | E7: 342856.5
A8: Волховский | B8: 2873 | C8: 650259.92 | D8: 2893 | E8: 654749.9
A9: Всеволожский | B9: 26527 | C9: 5617397.4 | D9: 26654 | E9: 5644260.4
A10: Выборгский | B10: 6535 | C10: 1590053.5 | D10: 6580 | E10: 1601051.8
A11: Гатчинский | B11: 8410 | C11: 1924557.3 | D11: 8469 | E11: 1938038.5
A12: Кингисеппский | B12: 3016 | C12: 535879.19 | D12: 3037 | E12: 539599.9
A13: Киришский | B13: 2683 | C13: 549959.43 | D13: 2702 | E13: 553782
A14: Кировский | B14: 4269 | C14: 1193465.9 | D14: 4299 | E14: 1201795.7
A15: Лодейнопольский | B15: 890 | C15: 206367.45 | D15: 896 | E15: 207805.7
A16: Ломоносовский | B16: 6495 | C16: 959596.87 | D16: 6540 | E16: 966309.7
A17: Лужский | B17: 2295 | C17: 493975.63 | D17: 2301 | E17: 495365.5
... A24: Всего | B24: 82358 | C24: 17224420 | D24: 82930 | E24: 17344439
B25: =+B24/#REF! -> #REF! | C25: =+C24/E24 -> 0.99308031 | D25: =D24/B24 -> 1.0069453 | E25: =E24/1000/C24 -> 0.0010069679
D26: 2024 | E26: 13985621
C27: , | E27: 15131995
D29: =+D24/B24 -> 1.0069453 | E29: =+E24/#REF! -> #REF!
E30: =+C24-E24 -> -120018.17
E31: 17344439

Sheet Нормативы ДО
M1: Приложение 16 к пояснительной записке 2026 года
M2: таблица 2
B4: Нормативы: Дошкольное образование
D5: группы воспитанников до 3 лет | I5: группы воспитанников старше 3 лет
D6: кратковремен. пребывания | E6: сокращенного дня | F6: полного дня | G6: продленного дня | H6: круглосуточного пребывания | I6: кратковремен. пребывания | J6: сокращенного дня | K6: полного дня | L6: продленного дня | M6: круглосуточного пребывания
B7: Раздел 1. Удельные затраты на оплату труда основного (педагогического) персонала, включая начисления на выплаты по оплате труда | M7: 1.418386e+10
B8: Дн - число рабочих дней, дней в неделю | D8: 5 | E8: 5 | F8: 5 | G8: 5 | H8: 5 | I8: 5 | J8: 5 | K8: 5 | L8: 5 | M8: 5
B9: Пд - продолжительность пребывания, часов в день | D9: 5 | E9: 10 | F9: 12 | G9: 14 | H9: 14 | I9: 5 | J9: 10 | K9: 12 | L9: 14 | M9: 14
B10: Пд - продолжительность пребывания, часов в неделю при индиидуальном обучении ППЛО № 132 от 19.03.2020) | D10: 1 | E10: 1 | F10: 1 | G10: 1 | H10: 1 | I10: 3 | J10: 3 | K10: 3 | L10: 3 | M10: 3
B11: m - расчетная наполняемость групп, воспитанников в 1 группе
B12: 1. Общеразвивающие группы | C12: в городских организациях или в организациях более 100 восп., расположенных на селе или в ПГТ | D12: 19 | I12: 23
C13: в организациях на 51-100 восп., расположенных на селе или в ПГТ | D13: 15 | I13: 20
C14: в организациях на 26-50 восп., расположеных на селе, или в организациях менее 51 восп., расположенных в ПГТ | D14: 10 | I14: 15
C15: в организациях на 11-25 восп., расположеных на селе | D15: 10 | I15: 10
C16: в организациях на 10 восп., расположеных на селе | D16: 5 | I16: 5
B17: 2. Группы комбинированной направленности | C17: 01 глухие | D17: 10 | I17: 10
C18: 02 слабослышащие (познооглохшие) | D18: 10 | I18: 15
C19: 03 слепые | D19: 10 | I19: 10
C20: 04 слабовидящие, с амблиопией, косоглазием | D20: 10 | I20: 15
C21: 05 с тяжелыми нарушениями речи | D21: 10 | I21: 15
C22: 06 с фонетико-фонематическими нарушениями речи | D22: x | I22: 17
C23: 07 с нарушениями опорно-двигательного аппарата | D23: 10 | I23: 10
C24: 08 с задержкой психического развития | D24: 10 | I24: 17
C25: 09 с расстройствами аутического спектора (аутизм) | D25: 10 | I25: 10
C26: 10 с умственной отсталостью (легкая степень) | D26: 10 | I26: 15
C27: 11 с умственной отсталостью (умеренная, тяжелая степень) | D27: x | I27: 10
C28: 12 со сложным дефектом (несколько недостатков в развитии) | D28: 10 | I28: 10
C29: 13 с иными ОВЗ | D29: 10 | I29: x
B30: 3. Группы компенсирующей направленности | C30: 01 глухие | D30: 6 | I30: 6
C31: 02 слабослышащие (познооглохшие) | D31: 6 | I31: 8
C32: 03 слепые | D32: 6 | I32: 6
C33: 04 слабовидящие, с амблиопией, косоглазием | D33: 6 | I33: 10
C34: 05 с тяжелыми нарушениями речи | D34: 6 | I34: 10
C35: 06 с фонетико-фонематическими нарушениями речи | D35: x | I35: 12
C36: 07 с нарушениями опорно-двигательного аппарата | D36: 6 | I36: 8
C37: 08 с задержкой психического развития | D37: 6 | I37: 10
C38: 09 с расстройствами аутического спектора (аутизм) | D38: 5 | I38: 5
C39: 10 с умственной отсталостью (легкая степень) | D39: 6 | I39: 10
C40: 11 с умственной отсталостью (умеренная, тяжелая степень) | D40: x | I40: 8
C41: 12 со сложным дефектом (несколько недостатков в развитии) | D41: 5 | I41: 5
C42: 13 с иными ОВЗ | D42: 10 | I42: 15
B43: m' - предельное число воспитанников с ОВЗ в группе комбинированной направленности, воспитанников с ОВЗ в 1 группе
B44: 2. Группы комбинированной направленности | C44: 01 глухие | D44: 3 | I44: 3
C45: 02 слабослышащие (познооглохшие) | D45: 3 | I45: 4
C46: 03 слепые | D46: 3 | I46: 3
C47: 04 слабовидящие, с амблиопией, косоглазием | D47: 3 | I47: 4
C48: 05 с тяжелыми нарушениями речи | D48: 3 | I48: 4
C49: 06 с фонетико-фонематическими нарушениями речи | D49: x | I49: 5
C50: 07 с нарушениями опорно-двигательного аппарата | D50: 3 | I50: 3
C51: 08 с задержкой психического развития | D51: 3 | I51: 5
C52: 09 с расстройствами аутического спектора (аутизм) | D52: 3 | I52: 3
C53: 10 с умственной отсталостью (легкая степень) | D53: 3 | I53: 4
C54: 11 с умственной отсталостью (умеренная, тяжелая степень) | D54: x | I54: 3
C55: 12 со сложным дефектом (несколько недостатков в развитии) | D55: 3 | I55: 3
C56: 13 с иными ОВЗ | D56: 3 | I56: x
B57: Индивидуальное обучение на дому | D57: 1 | I57: 1
B58: nв - норма рабочего времени воспитателя на 1 ставку, часов в неделю
B59: 1. Общеразвивающие группы | D59: 36 | I59: 36
B60: 2. Группы комбинированной направленности | D60: 36 | I60: 36
B61: 3. Группы компенсирующей направленности | D61: 25 | I61: 25
B62: N'в - удельная натуральная норма затрат труда воспитателей, ставок на 1 воспитанника | M62: 8843.55
B63: 1. Общеразвивающие группы | C63: в городских организациях или в организациях более 100 восп., расположенных на селе или в ПГТ | D63: 0.036549708 | E63: 0.073099415 | F63: 0.087719298 | G63: 0.10233918 | H63: 0.10233918 | I63: 0.030193237 | J63: 0.060386473 | K63: 0.072463768 | L63: 0.084541063 | M63: 0.084541063
C64: в организациях на 51-100 восп., расположенных на селе или в ПГТ | D64: 0.046296296 | E64: 0.092592593 | F64: 0.11111111 | G64: 0.12962963 | H64: 0.12962963 | I64: 0.034722222 | J64: 0.069444444 | K64: 0.083333333 | L64: 0.097222222 | M64: 0.097222222
C65: в организациях на 26-50 восп., расположеных на селе, или в организациях менее 51 восп., расположенных в ПГТ | D65: 0.069444444 | E65: 0.13888889 | F65: 0.16666667 | G65: 0.19444444 | H65: 0.19444444 | I65: 0.046296296 | J65: 0.092592593 | K65: 0.11111111 | L65: 0.12962963 | M65: 0.12962963
C66: в организациях на 11-25 восп., расположеных на селе | D66: 0.069444444 | E66: 0.13888889 | F66: 0.16666667 | G66: 0.19444444 | H66: 0.19444444 | I66: 0.069444444 | J66: 0.13888889 | K66: 0.16666667 | L66: 0.19444444 | M66: 0.19444444
C67: в организациях на 10 восп., расположеных на селе | D67: 0.13888889 | E67: 0.27777778 | F67: 0.33333333 | G67: 0.38888889 | H67: 0.38888889 | I67: 0.13888889 | J67: 0.27777778 | K67: 0.33333333 | L67: 0.38888889 | M67: 0.38888889
B68: 2. Группы комбинированной направленности | C68: 01 глухие | D68: 0.069444444 | E68: 0.13888889 | F68: 0.16666667 | G68: 0.19444444 | H68: 0.19444444 | I68: 0.069444444 | J68: 0.13888889 | K68: 0.16666667 | L68: 0.19444444 | M68: 0.19444444
C69: 02 слабослышащие (познооглохшие) | D69: 0.069444444 | E69: 0.13888889 | F69: 0.16666667 | G69: 0.19444444 | H69: 0.19444444 | I69: 0.046296296 | J69: 0.092592593 | K69: 0.11111111 | L69: 0.12962963 | M69: 0.12962963
C70: 03 слепые | D70: 0.069444444 | E70: 0.13888889 | F70: 0.16666667 | G70: 0.19444444 | H70: 0.19444444 | I70: 0.069444444 | J70: 0.13888889 | K70: 0.16666667 | L70: 0.19444444 | M70: 0.19444444
C71: 04 слабовидящие, с амблиопией, косоглазием | D71: 0.069444444 | E71: 0.13888889 | F71: 0.16666667 | G71: 0.19444444 | H71: 0.19444444 | I71: 0.046296296 | J71: 0.092592593 | K71: 0.11111111 | L71: 0.12962963 | M71: 0.12962963
C72: 05 с тяжелыми нарушениями речи | D72: 0.069444444 | E72: 0.13888889 | F72: 0.16666667 | G72: 0.19444444 | H72: 0.19444444 | I72: 0.046296296 | J72: 0.092592593 | K72: 0.11111111 | L72: 0.12962963 | M72: 0.12962963
C73: 06 с фонетико-фонематическими нарушениями речи | D73: x | E73: x | F73: x | G73: x | H73: x | I73: 0.040849673 | J73: 0.081699346 | K73: 0.098039216 | L73: 0.11437908 | M73: 0.11437908
C74: 07 с нарушениями опорно-двигательного аппарата | D74: 0.069444444 | E74: 0.13888889 | F74: 0.16666667 | G74: 0.19444444 | H74: 0.19444444 | I74: 0.069444444 | J74: 0.13888889 | K74: 0.16666667 | L74: 0.19444444 | M74: 0.19444444
C75: 08 с задержкой психического развития | D75: 0.069444444 | E75: 0.13888889 | F75: 0.16666667 | G75: 0.19444444 | H75: 0.19444444 | I75: 0.040849673 | J75: 0.081699346 | K75: 0.098039216 | L75: 0.11437908 | M75: 0.11437908
C76: 09 с расстройствами аутического спектора (аутизм) | D76: 0.069444444 | E76: 0.13888889 | F76: 0.16666667 | G76: 0.19444444 | H76: 0.19444444 | I76: 0.069444444 | J76: 0.13888889 | K76: 0.16666667 | L76: 0.19444444 | M76: 0.19444444
C77: 10 с умственной отсталостью (легкая степень) | D77: 0.069444444 | E77: 0.13888889 | F77: 0.16666667 | G77: 0.19444444 | H77: 0.19444444 | I77: 0.046296296 | J77: 0.092592593 | K77: 0.11111111 | L77: 0.12962963 | M77: 0.12962963
C78: 11 с умственной отсталостью (умеренная, тяжелая степень) | D78: x | E78: x | F78: x | G78: x | H78: x | I78: 0.069444444 | J78: 0.13888889 | K78: 0.16666667 | L78: 0.19444444 | M78: 0.19444444
C79: 12 со сложным дефектом (несколько недостатков в развитии) | D79: 0.069444444 | E79: 0.13888889 | F79: 0.16666667 | G79: 0.19444444 | H79: 0.19444444 | I79: 0.069444444 | J79: 0.13888889 | K79: 0.16666667 | L79: 0.19444444 | M79: 0.19444444
C80: 13 с иными ОВЗ | D80: 0.069444444 | E80: 0.13888889 | F80: 0.16666667 | G80: 0.19444444 | H80: 0.19444444 | I80: x | J80: x | K80: x | L80: x | M80: x
B81: 3. Группы компенсирующей направленности | C81: 01 глухие | D81: 0.16666667 | E81: 0.33333333 | F81: 0.4 | G81: 0.46666667 | H81: 0.46666667 | I81: 0.16666667 | J81: 0.33333333 | K81: 0.4 | L81: 0.46666667 | M81: 0.46666667
C82: 02 слабослышащие (познооглохшие) | D82: 0.16666667 | E82: 0.33333333 | F82: 0.4 | G82: 0.46666667 | H82: 0.46666667 | I82: 0.125 | J82: 0.25 | K82: 0.3 | L82: 0.35 | M82: 0.35
C83: 03 слепые | D83: 0.16666667 | E83: 0.33333333 | F83: 0.4 | G83: 0.46666667 | H83: 0.46666667 | I83: 0.16666667 | J83: 0.33333333 | K83: 0.4 | L83: 0.46666667 | M83: 0.46666667
C84: 04 слабовидящие, с амблиопией, косоглазием | D84: 0.16666667 | E84: 0.33333333 | F84: 0.4 | G84: 0.46666667 | H84: 0.46666667 | I84: 0.1 | J84: 0.2 | K84: 0.24 | L84: 0.28 | M84: 0.28
C85: 05 с тяжелыми нарушениями речи | D85: 0.16666667 | E85: 0.33333333 | F85: 0.4 | G85: 0.46666667 | H85: 0.46666667 | I85: 0.1 | J85: 0.2 | K85: 0.24 | L85: 0.28 | M85: 0.28
C86: 06 с фонетико-фонематическими нарушениями речи | D86: x | E86: x | F86: x | G86: x | H86: x | I86: 0.083333333 | J86: 0.16666667 | K86: 0.2 | L86: 0.23333333 | M86: 0.23333333
C87: 07 с нарушениями опорно-двигательного аппарата | D87: 0.16666667 | E87: 0.33333333 | F87: 0.4 | G87: 0.46666667 | H87: 0.46666667 | I87: 0.125 | J87: 0.25 | K87: 0.3 | L87: 0.35 | M87: 0.35
C88: 08 с задержкой психического развития | D88: 0.16666667 | E88: 0.33333333 | F88: 0.4 | G88: 0.46666667 | H88: 0.46666667 | I88: 0.1 | J88: 0.2 | K88: 0.24 | L88: 0.28 | M88: 0.28
C89: 09 с расстройствами аутического спектора (аутизм) | D89: 0.2 | E89: 0.4 | F89: 0.48 | G89: 0.56 | H89: 0.56 | I89: 0.2 | J89: 0.4 | K89: 0.48 | L89: 0.56 | M89: 0.56
C90: 10 с умственной отсталостью (легкая степень) | D90: 0.16666667 | E90: 0.33333333 | F90: 0.4 | G90: 0.46666667 | H90: 0.46666667 | I90: 0.1 | J90: 0.2 | K90: 0.24 | L90: 0.28 | M90: 0.28
C91: 11 с умственной отсталостью (умеренная, тяжелая степень) | D91: x | E91: x | F91: x | G91: x | H91: x | I91: 0.125 | J91: 0.25 | K91: 0.3 | L91: 0.35 | M91: 0.35
C92: 12 со сложным дефектом (несколько недостатков в развитии) | D92: 0.2 | E92: 0.4 | F92: 0.48 | G92: 0.56 | H92: 0.56 | I92: 0.2 | J92: 0.4 | K92: 0.48 | L92: 0.56 | M92: 0.56
C93: 13 с иными ОВЗ | D93: 0.1 | E93: 0.2 | F93: 0.24 | G93: 0.28 | H93: 0.28 | I93: 0.066666667 | J93: 0.13333333 | K93: 0.16 | L93: 0.18666667 | M93: 0.18666667
B94: Индивидуальное обучение на дому | D94: 0.04 | I94: 0.12
B95: nмв - норма рабочего времени младшего воспитателя (помощника воспитателя) на 1 ставку, часов в неделю
B96: 1. Общеразвивающие группы | D96: 40 | I96: 40
B97: 2. Группы комбинированной направленности | D97: 40 | I97: 40
B98: 3. Группы компенсирующей направленности | D98: 40 | I98: 40
B99: N'мв - удельная натуральная норма затрат труда младших воспитателей (помощников воспитателя), ставок на 1 воспитанника | M99: 7048.2422
B100: 1. Общеразвивающие группы | C100: в городских организациях или в организациях более 100 восп., расположенных на селе или в ПГТ | D100: 0.032894737 | E100: 0.065789474 | F100: 0.078947368 | G100: 0.092105263 | H100: 0.15789474 | I100: 0.027173913 | J100: 0.054347826 | K100: 0.065217391 | L100: 0.076086957 | M100: 0.13043478
C101: в организациях на 51-100 восп., расположенных на селе или в ПГТ | D101: 0.041666667 | E101: 0.083333333 | F101: 0.1 | G101: 0.11666667 | H101: 0.2 | I101: 0.03125 | J101: 0.0625 | K101: 0.075 | L101: 0.0875 | M101: 0.15
...

Sheet Расчет ДО
BS1: Приложение 16 к пояснительной записке 2026 года
BS2: таблица 3
B4: Дошкольное образование | C4: Нормативы финансового обеспечения | N4: Ленинградская область | AD4: Бокситогорский | AT4: Волосовский | BJ4: Волховский | BZ4: Всеволожский | CP4: Выборгский | DF4: Гатчинский | DV4: Кингисеппский | EL4: Киришский | FB4: Кировский | FR4: Лодейнопольский | GH4: Ломоносовский | GX4: Лужский | HN4: Подпорожский | ID4: Приозерский | IT4: Сланцевский | JJ4: Сосновоборский | JZ4: Тихвинский | KP4: Тосненский
B5: расчет объемов финансового обеспечения образовательной деятельности муниципальных образовательных организаций | C5: воспитанники до 3 лет | H5: воспитанники старше 3 лет | N5: в целом | O5: группы до 3 лет | V5: группы старше 3 лет | AD5: район | AE5: группы до 3 лет | AL5: группы старше 3 лет | AT5: район | AU5: группы до 3 лет | BB5: группы старше 3 лет | BJ5: район | BK5: группы до 3 лет | BR5: группы старше 3 лет | BZ5: район | CA5: группы до 3 лет | CH5: группы старше 3 лет | CP5: район | CQ5: группы до 3 лет | CX5: группы старше 3 лет | DF5: район | DG5: группы до 3 лет | DN5: группы старше 3 лет | DV5: район | DW5: группы до 3 лет | ED5: группы старше 3 лет | EL5: район | EM5: группы до 3 лет | ET5: группы старше 3 лет | FB5: район | FC5: группы до 3 лет | FJ5: группы старше 3 лет | FR5: район | FS5: группы до 3 лет | FZ5: группы старше 3 лет | GH5: район | GI5: группы до 3 лет | GP5: группы старше 3 лет | GX5: район | GY5: группы до 3 лет | HF5: группы старше 3 лет | HN5: район | HO5: группы до 3 лет | HV5: группы старше 3 лет | ID5: район | IE5: группы до 3 лет | IL5: группы старше 3 лет | IT5: район | IU5: группы до 3 лет | JB5: группы старше 3 лет | JJ5: гор.округ | JK5: группы до 3 лет | JR5: группы старше 3 лет | JZ5: район | KA5: группы до 3 лет | KH5: группы старше 3 лет | KP5: район | KQ5: группы до 3 лет | KX5: группы старше 3 лет
C6: норматив, руб./1 учащ. | H6: норматив, руб./1 учащ. | N6: Всего | O6: Контингент, восп. | U6: Сумма | V6: Контингент, восп. | AB6: Сумма | AC6: Всего | AD6: Всего | AE6: Контингент, восп. | AK6: Сумма | AL6: Контингент, восп. | AR6: Сумма | AS6: Всего | AT6: Всего | AU6: Контингент, восп. | BA6: Сумма | BB6: Контингент, восп. | BH6: Сумма | BI6: Всего | BJ6: Всего | BK6: Контингент, восп. | BQ6: Сумма | BR6: Контингент, восп. | BX6: Сумма | BY6: Всего | BZ6: Всего | CA6: Контингент, восп. | CG6: Сумма | CH6: Контингент, восп. | CN6: Сумма | CO6: Всего | CP6: Всего | CQ6: Контингент, восп. | CW6: Сумма | CX6: Контингент, восп. | DD6: Сумма | DE6: Всего | DF6: Всего | DG6: Контингент, восп. | DM6: Сумма | DN6: Контингент, восп. | DT6: Сумма | DU6: Всего | DV6: Всего | DW6: Контингент, восп. | EC6: Сумма | ED6: Контингент, восп. | EJ6: Сумма | EK6: Всего | EL6: Всего | EM6: Контингент, восп. | ES6: Сумма | ET6: Контингент, восп. | EZ6: Сумма | FA6: Всего | FB6: Всего | FC6: Контингент, восп. | FI6: Сумма | FJ6: Контингент, восп. | FP6: Сумма | FQ6: Всего | FR6: Всего | FS6: Контингент, восп. | FY6: Сумма | FZ6: Контингент, восп. | GF6: Сумма | GG6: Всего | GH6: Всего | GI6: Контингент, восп. | GO6: Сумма | GP6: Контингент, восп. | GV6: Сумма | GW6: Всего | GX6: Всего | GY6: Контингент, восп. | HE6: Сумма | HF6: Контингент, восп. | HL6: Сумма | HM6: Всего | HN6: Всего | HO6: Контингент, восп. | HU6: Сумма | HV6: Контингент, восп. | IB6: Сумма | IC6: Всего | ID6: Всего | IE6: Контингент, восп. | IK6: Сумма | IL6: Контингент, восп. | IR6: Сумма | IS6: Всего | IT6: Всего | IU6: Контингент, восп. | JA6: Сумма | JB6: Контингент, восп. | JH6: Сумма | JI6: Всего | JJ6: Всего | JK6: Контингент, восп. | JQ6: Сумма | JR6: Контингент, восп. | JX6: Сумма | JY6: Всего | JZ6: Всего | KA6: Контингент, восп. | KG6: Сумма | KH6: Контингент, восп. | KN6: Сумма | KO6: Всего | KP6: Всего | KQ6: Контингент, восп. | KW6: Сумма | KX6: Контингент, восп. | LD6: Сумма | LE6: Всего
C7: кратк. | D7: сокр. | E7: полн. | F7: продл. | G7: кругл. | H7: кратк. | I7: сокр. | J7: полн. | K7: продл. | L7: кругл. | N7: восп. | O7: всего | P7: кратк. | Q7: сокр. | R7: полн. | S7: продл. | T7: кругл. | U7: руб. | V7: всего | W7: кратк. | X7: сокр. | Y7: полн. | Z7: продл. | AA7: кругл. | AB7: руб. | AC7: руб | AD7: восп. | AE7: всего | AF7: кратк. | AG7: сокр. | AH7: полн. | AI7: продл. | AJ7: кругл. | AK7: руб. | AL7: всего | AM7: кратк. | AN7: сокр. | AO7: полн. | AP7: продл. | AQ7: кругл. | AR7: руб. | AS7: руб | AT7: восп. | AU7: всего | AV7: кратк. | AW7: сокр. | AX7: полн. | AY7: продл. | AZ7: кругл. | BA7: руб. | BB7: всего | BC7: кратк. | BD7: сокр. | BE7: полн. | BF7: продл. | BG7: кругл. | BH7: руб. | BI7: руб | BJ7: восп. | BK7: всего | BL7: кратк. | BM7: сокр. | BN7: полн. | BO7: продл. | BP7: кругл. | BQ7: руб. | BR7: всего | BS7: кратк. | BT7: сокр. | BU7: полн. | BV7: продл. | BW7: кругл. | BX7: руб. | BY7: руб | BZ7: восп. | CA7: всего | CB7: кратк. | CC7: сокр. | CD7: полн. | CE7: продл. | CF7: кругл. | CG7: руб. | CH7: всего | CI7: кратк. | CJ7: сокр. | CK7: полн. | CL7: продл. | CM7: кругл. | CN7: руб. | CO7: руб | CP7: восп. | CQ7: всего | CR7: кратк. | CS7: сокр. | CT7: полн. | CU7: продл. | CV7: кругл. | CW7: руб. | CX7: всего | CY7: кратк. | CZ7: сокр. | DA7: полн. | DB7: продл. | DC7: кругл. | DD7: руб. | DE7: руб | DF7: восп. | DG7: всего | DH7: кратк. | DI7: сокр. | DJ7: полн. | DK7: продл. | DL7: кругл. | DM7: руб. | DN7: всего | DO7: кратк. | DP7: сокр. | DQ7: полн. | DR7: продл. | DS7: кругл. | DT7: руб. | DU7: руб | DV7: восп. | DW7: всего | DX7: кратк. | DY7: сокр. | DZ7: полн. | EA7: продл. | EB7: кругл. | EC7: руб. | ED7: всего | EE7: кратк. | EF7: сокр. | EG7: полн. | EH7: продл. | EI7: кругл. | EJ7: руб. | EK7: руб | EL7: восп. | EM7: всего | EN7: кратк. | EO7: сокр. | EP7: полн. | EQ7: продл. | ER7: кругл. | ES7: руб. | ET7: всего | EU7: кратк. | EV7: сокр. | EW7: полн. | EX7: продл. | EY7: кругл. | EZ7: руб. | FA7: руб | FB7: восп. | FC7: всего | FD7: кратк. | FE7: сокр. | FF7: полн. | FG7: продл. | FH7: кругл. | FI7: руб. | FJ7: всего | FK7: кратк. | FL7: сокр. | FM7: полн. | FN7: продл. | FO7: кругл. | FP7: руб. | FQ7: руб | FR7: восп. | FS7: всего | FT7: кратк. | FU7: сокр. | FV7: полн. | FW7: продл. | FX7: кругл. | FY7: руб. | FZ7: всего | GA7: кратк. | GB7: сокр. | GC7: полн. | GD7: продл. | GE7: кругл. | GF7: руб. | GG7: руб | GH7: восп. | GI7: всего | GJ7: кратк. | GK7: сокр. | GL7: полн. | GM7: продл. | GN7: кругл. | GO7: руб. | GP7: всего | GQ7: кратк. | GR7: сокр. | GS7: полн. | GT7: продл. | GU7: кругл. | GV7: руб. | GW7: руб | GX7: восп. | GY7: всего | GZ7: кратк. | HA7: сокр. | HB7: полн. | HC7: продл. | HD7: кругл. | HE7: руб. | HF7: всего | HG7: кратк. | HH7: сокр. | HI7: полн. | HJ7: продл. | HK7: кругл. | HL7: руб. | HM7: руб | HN7: восп. | HO7: всего | HP7: кратк. | HQ7: сокр. | HR7: полн. | HS7: продл. | HT7: кругл. | HU7: руб. | HV7: всего | HW7: кратк. | HX7: сокр. | HY7: полн. | HZ7: продл. | IA7: кругл. | IB7: руб. | IC7: руб | ID7: восп. | IE7: всего | IF7: кратк. | IG7: сокр. | IH7: полн. | II7: продл. | IJ7: кругл. | IK7: руб. | IL7: всего | IM7: кратк. | IN7: сокр. | IO7: полн. | IP7: продл. | IQ7: кругл. | IR7: руб. | IS7: руб | IT7: восп. | IU7: всего | IV7: кратк. | IW7: сокр. | IX7: полн. | IY7: продл. | IZ7: кругл. | JA7: руб. | JB7: всего | JC7: кратк. | JD7: сокр. | JE7: полн. | JF7: продл. | JG7: кругл. | JH7: руб. | JI7: руб | JJ7: восп. | JK7: всего | JL7: кратк. | JM7: сокр. | JN7: полн. | JO7: продл. | JP7: кругл. | JQ7: руб. | JR7: всего | JS7: кратк. | JT7: сокр. | JU7: полн. | JV7: продл. | JW7: кругл. | JX7: руб. | JY7: руб | JZ7: восп. | KA7: всего | KB7: кратк. | KC7: сокр. | KD7: полн. | KE7: продл. | KF7: кругл. | KG7: руб. | KH7: всего | KI7: кратк. | KJ7: сокр. | KK7: полн. | KL7: продл. | KM7: кругл. | KN7: руб. | KO7: руб | KP7: восп. | KQ7: всего | KR7: кратк. | KS7: сокр. | KT7: полн. | KU7: продл. | KV7: кругл. | KW7: руб. | KX7: всего | KY7: кратк. | KZ7: сокр. | LA7: полн. | LB7: продл. | LC7: кругл. | LD7: руб. | LE7: руб
B8: 1. Общеразвивающие группы | N8: 64071 | O8: 13181 | U8: 2048133405 | V8: 50890 | AB8: 6668874286 | AC8: 8717007691 | AD8: 1303 | AE8: 365 | AK8: 50850109 | AL8: 938 | AR8: 121273154 | AS8: 172123263 | AT8: 1498 | AU8: 427 | BA8: 78893107 | BB8: 1071 | BH8: 156381124 | BI8: 235274231 | BJ8: 2282 | BK8: 624 | BQ8: 98755158 | BR8: 1658 | BX8: 228852034 | BY8: 327607192 | BZ8: 20678 | CA8: 1989 | CG8: 281041393 | CH8: 18689 | CN8: 2369757095 | CO8: 2650798488 | CP8: 3659 | CQ8: 1422 | CW8: 253155818 | CX8: 2237 | DD8: 313687664 | DE8: 566843482 | DF8: 6112 | DG8: 1635 | DM8: 259227691 | DN8: 4477 | DT8: 589931039 | DU8: 849158730 | DV8: 2691 | DW8: 603 | EC8: 92995177 | ED8: 2088 | EJ8: 281075957 | EK8: 374071134 | EL8: 2132 | EM8: 507 | ES8: 77544761 | ET8: 1625 | EZ8: 213403154 | FA8: 290947915 | FB8: 2644 | FC8: 683 | FI8: 105803383 | FJ8: 1961 | FP8: 262772331 | FQ8: 368575714 | FR8: 645 | FS8: 204 | FY8: 35365500 | FZ8: 441 | GF8: 58654802 | GG8: 94020302 | GH8: 6198 | GI8: 1112 | GO8: 158194448 | GP8: 5086 | GV8: 644154099 | GW8: 802348547 | GX8: 1947 | GY8: 502 | HE8: 90216862 | HF8: 1445 | HL8: 214819641 | HM8: 305036503 | HN8: 991 | HO8: 247 | HU8: 39343563 | HV8: 744 | IB8: 100631351 | IC8: 139974914 | ID8: 1943 | IE8: 481 | IK8: 82246831 | IL8: 1462 | IR8: 208009476 | IS8: 290256307 | IT8: 1306 | IU8: 275 | JA8: 44232715 | JB8: 1031 | JH8: 144735826 | JI8: 188968541 | JJ8: 2200 | JK8: 538 | JQ8: 76692438 | JR8: 1662 | JX8: 209727780 | JY8: 286420218 | JZ8: 2164 | KA8: 660 | KG8: 101960770 | KH8: 1504 | KN8: 208924764 | KO8: 310885534 | KP8: 3678 | KQ8: 907 | KW8: 121613681 | KX8: 2771 | LD8: 342082995 | LE8: 463696676
B9: в городских организациях или в организациях более 100 восп., расположенных на селе или в ПГТ | C9: 69597 | D9: 121707 | E9: 142551 | F9: 163394 | G9: 199939 | H9: 65924 | I9: 108971 | J9: 126190 | K9: 143409 | L9: 173598 | N9: 55913 | O9: 10901 | P9: 102 | Q9: 928 | R9: 9866 | S9: 0 | T9: 5 | U9: 1527450851 | V9: 45012 | W9: 154 | X9: 2243 | Y9: 42579 | Z9: 12 | AA9: 24 | AB9: 5633505519 | AC9: 7160956370 | AD9: 1139 | AE9: 312 | AF9: 0 | AG9: 126 | AH9: 186 | AI9: 0 | AJ9: 0 | AK9: 41849568 | AL9: 827 | AM9: 0 | AN9: 629 | AO9: 198 | AP9: 0 | AQ9: 0 | AR9: 93528379 | AS9: 135377947 | AT9: 870 | AU9: 240 | AV9: 0 | AW9: 0 | AX9: 240 | AY9: 0 | AZ9: 0 | BA9: 34212240 | BB9: 630 | BC9: 0 | BD9: 0 | BE9: 630 | BF9: 0 | BG9: 0 | BH9: 79499700 | BI9: 113711940 | BJ9: 1886 | BK9: 519 | BL9: 0 | BM9: 0 | BN9: 514 | BO9: 0 | BP9: 5 | BQ9: 74270909 | BR9: 1367 | BS9: 0 | BT9: 0 | BU9: 1355 | BV9: 0 | BW9: 12 | BX9: 173070626 | BY9: 247341535 | BZ9: 20019 | CA9: 1954 | CB9: 54 | CC9: 0 | CD9: 1900 | CE9: 0 | CF9: 0 | CG9: 274605138 | CH9: 18065 | CI9: 54 | CJ9: 0 | CK9: 18011 | CL9: 0 | CM9: 0 | CN9: 2276367986 | CO9: 2550973124 | CP9: 2940 | CQ9: 1062 | CR9: 0 | CS9: 0 | CT9: 1062 | CU9: 0 | CV9: 0 | CW9: 151389162 | CX9: 1878 | CY9: 0 | CZ9: 0 | DA9: 1866 | DB9: 12 | DC9: 0 | DD9: 237191448 | DE9: 388580610 | DF9: 5147 | DG9: 1328 | DH9: 0 | DI9: 0 | DJ9: 1328 | DK9: 0 | DL9: 0 | DM9: 189307728 | DN9: 3819 | DO9: 0 | DP9: 0 | DQ9: 3819 | DR9: 0 | DS9: 0 | DT9: 481919610 | DU9: 671227338 | DV9: 2234 | DW9: 507 | DX9: 0 | DY9: 0 | DZ9: 507 | EA9: 0 | EB9: 0 | EC9: 72273357 | ED9: 1727 | EE9: 0 | EF9: 0 | EG9: 1715 | EH9: 0 | EI9: 12 | EJ9: 218499026 | EK9: 290772383 | EL9: 1941 | EM9: 443 | EN9: 0 | EO9: 0 | EP9: 443 | EQ9: 0 | ER9: 0 | ES9: 63150093 | ET9: 1498 | EU9: 0 | EV9: 0 | EW9: 1498 | EX9: 0 | EY9: 0 | EZ9: 189032620 | FA9: 252182713 | FB9: 2204 | FC9: 568 | FD9: 0 | FE9: 0 | FF9: 568 | FG9: 0 | FH9: 0 | FI9: 80968968 | FJ9: 1636 | FK9: 13 | FL9: 0 | FM9: 1623 | FN9: 0 | FO9: 0 | FP9: 205663382 | FQ9: 286632350 | FR9: 574 | FS9: 176 | FT9: 0 | FU9: 0 | FV9: 176 | FW9: 0 | FX9: 0 | FY9: 25088976 | FZ9: 398 | GA9: 0 | GB9: 0 | GC9: 398 | GD9: 0 | GE9: 0 | GF9: 50223620 | GG9: 75312596 | GH9: 5855 | GI9: 1024 | GJ9: 48 | GK9: 22 | GL9: 954 | GM9: 0 | GN9: 0 | GO9: 142011864 | GP9: 4831 | GQ9: 87 | GR9: 0 | GS9: 4744 | GT9: 0 | GU9: 0 | GV9: 604380748 | GW9: 746392612 | GX9: 1248 | GY9: 318 | GZ9: 0 | HA9: 0 | HB9: 318 | HC9: 0 | HD9: 0 | HE9: 45331218 | HF9: 930 | HG9: 0 | HH9: 0 | HI9: 930 | HJ9: 0 | HK9: 0 | HL9: 117356700 | HM9: 162687918 | HN9: 677 | HO9: 176 | HP9: 0 | HQ9: 0 | HR9: 176 | HS9: 0 | HT9: 0 | HU9: 25088976 | HV9: 501 | HW9: 0 | HX9: 0 | HY9: 501 | HZ9: 0 | IA9: 0 | IB9: 63221190 | IC9: 88310166 | ID9: 904 | IE9: 194 | IF9: 0 | IG9: 83 | IH9: 111 | II9: 0 | IJ9: 0 | IK9: 25924842 | IL9: 710 | IM9: 0 | IN9: 309 | IO9: 401 | IP9: 0 | IQ9: 0 | IR9: 84274229 | IS9: 110199071 | IT9: 1133 | IU9: 238 | IV9: 0 | IW9: 0 | IX9: 238 | IY9: 0 | IZ9: 0 | JA9: 33927138 | JB9: 895 | JC9: 0 | JD9: 0 | JE9: 895 | JF9: 0 | JG9: 0 | JH9: 112940050 | JI9: 146867188 | JJ9: 2200 | JK9: 538 | JL9: 0 | JM9: 0 | JN9: 538 | JO9: 0 | JP9: 0 | JQ9: 76692438 | JR9: 1662 | JS9: 0 | JT9: 0 | JU9: 1662 | JV9: 0 | JW9: 0 | JX9: 209727780 | JY9: 286420218 | JZ9: 1954 | KA9: 607 | KB9: 0 | KC9: 0 | KD9: 607 | KE9: 0 | KF9: 0 | KG9: 86528457 | KH9: 1347 | KI9: 0 | KJ9: 0 | KK9: 1347 | KL9: 0 | KM9: 0 | KN9: 169977930 | KO9: 256506387 | KP9: 2988 | KQ9: 697 | KR9: 0 | KS9: 697 | KT9: 0 | KU9: 0 | KV9: 0 | KW9: 84829779 | KX9: 2291 | KY9: 0 | KZ9: 1305 | LA9: 986 | LB9: 0 | LC9: 0 | LD9: 266630495 | LE9: 351460274
B10: в организациях на 51-100 восп., расположенных на селе или в ПГТ | C10: 89155 | D10: 156825 | E10: 183893 | F10: 210960 | G10: 258417 | H10: 76510 | I10: 127262 | J10: 147563 | K10: 167864 | L10: 203456 | N10: 4954 | O10: 1149 | P10: 0 | Q10: 332 | R10: 817 | S10: 0 | T10: 0 | U10: 202306481 | V10: 3805 | W10: 0 | X10: 319 | Y10: 3462 | Z10: 0 | AA10: 24 | AB10: 556342628 | AC10: 758649109 | AD10: 115 | AE10: 45 | AF10: 0 | AG10: 45 | AH10: 0 | AI10: 0 | AJ10: 0 | AK10: 7057125 | AL10: 70 | AM10: 0 | AN10: 20 | AO10: 50 | AP10: 0 | AQ10: 0 | AR10: 9923390 | AS10: 16980515 | AT10: 308 | AU10: 78 | AV10: 0 | AW10: 0 | AX10: 78 | AY10: 0 | AZ10: 0 | BA10: 14343654 | BB10: 230 | BC10: 0 | BD10: 0 | BE10: 230 | BF10: 0 | BG10: 0 | BH10: 33939490 | BI10: 48283144 | BJ10: 246 | BK10: 68 | BL10: 0 | BM10: 0 | BN10: 68 | BO10: 0 | BP10: 0 | BQ10: 12504724 | BR10: 178 | BS10: 0 | BT10: 0 | BU10: 178 | BV10: 0 | BW10: 0 | BX10: 26266214 | BY10: 38770938 | BZ10: 632 | CA10: 35 | CB10: 0 | CC10: 0 | CD10: 35 | CE10: 0 | CF10: 0 | CG10: 6436255 | CH10: 597 | CI10: 0 | CJ10: 0 | CK10: 597 | CL10: 0 | CM10: 0 | CN10: 88095111 | CO10: 94531366 | CP10: 177 | CQ10: 47 | CR10: 0 | CS10: 0 | CT10: 47 | CU10: 0 | CV10: 0 | CW10: 8642971 | CX10: 130 | CY10: 0 | CZ10: 0 | DA10: 130 | DB10: 0 | DC10: 0 | DD10: 19183190 | DE10: 27826161 | DF10: 595 | DG10: 162 | DH10: 0 | DI10: 0 | DJ10: 162 | DK10: 0 | DL10: 0 | DM10: 29790666 | DN10: 433 | DO10: 0 | DP10: 0 | DQ10: 433 | DR10: 0 | DS10: 0 | DT10: 63894779 | DU10: 93685445 | DV10: 313 | DW10: 64 | DX10: 0 | DY10: 0 | DZ10: 64 | EA10: 0 | EB10: 0 | EC10: 11769152 | ED10: 249 | EE10: 0 | EF10: 0 | EG10: 249 | EH10: 0 | EI10: 0 | EJ10: 36743187 | EK10: 48512339 | EL10: 117 | EM10: 37 | EN10: 0 | EO10: 0 | EP10: 37 | EQ10: 0 | ER10: 0 | ES10: 6804041 | ET10: 80 | EU10: 0 | EV10: 0 | EW10: 80 | EX10: 0 | EY10: 0 | EZ10: 11805040 | FA10: 18609081 | FB10: 302 | FC10: 75 | FD10: 0 | FE10: 0 | FF10: 75 | FG10: 0 | FH10: 0 | FI10: 13791975 | FJ10: 227 | FK10: 0 | FL10: 0 | FM10: 227 | FN10: 0 | FO10: 0 | FP10: 33496801 | FQ10: 47288776 | FR10: 0 | FS10: 0 | FT10: 0 | FU10: 0 | FV10: 0 | FW10: 0 | FX10: 0 | FY10: 0 | FZ10: 0 | GA10: 0 | GB10: 0 | GC10: 0 | GD10: 0 | GE10: 0 | GF10: 0 | GG10: 0 | GH10: 329 | GI10: 88 | GJ10: 0 | GK10: 0 | GL10: 88 | GM10: 0 | GN10: 0 | GO10: 16182584 | GP10: 241 | GQ10: 0 | GR10: 0 | GS10: 241 | GT10: 0 | GU10: 0 | GV10: 35562683 | GW10: 51745267 | GX10: 321 | GY10: 66 | GZ10: 0 | HA10: 0 | HB10: 66 | HC10: 0 | HD10: 0 | HE10: 12136938 | HF10: 255 | HG10: 0 | HH10: 0 | HI10: 255 | HJ10: 0 | HK10: 0 | HL10: 37628565 | HM10: 49765503 | HN10: 269 | HO10: 58 | HP10: 0 | HQ10: 0 | HR10: 58 | HS10: 0 | HT10: 0 | HU10: 10665794 | HV10: 211 | HW10: 0 | HX10: 0 | HY10: 211 | HZ10: 0 | IA10: 0 | IB10: 31135793 | IC10: 41801587 | ID10: 650 | IE10: 156 | IF10: 0 | IG10: 117 | IH10: 39 | II10: 0 | IJ10: 0 | IK10: 25520352 | IL10: 494 | IM10: 0 | IN10: 145 | IO10: 349 | IP10: 0 | IQ10: 0 | IR10: 69952477 | IS10: 95472829 | IT10: 0 | IU10: 0 | IV10: 0 | IW10: 0 | IX10: 0 | IY10: 0 | IZ10: 0 | JA10: 0 | JB10: 0 | JC10: 0 | JD10: 0 | JE10: 0 | JF10: 0 | JG10: 0 | JH10: 0 | JI10: 0 | JJ10: 0 | JK10: 0 | JL10: 0 | JM10: 0 | JN10: 0 | JO10: 0 | JP10: 0 | JQ10: 0 | JR10: 0 | JS10: 0 | JT10: 0 | JU10: 0 | JV10: 0 | JW10: 0 | JX10: 0 | JY10: 0 | JZ10: 0 | KA10: 0 | KB10: 0 | KC10: 0 | KD10: 0 | KE10: 0 | KF10: 0 | KG10: 0 | KH10: 0 | KI10: 0 | KJ10: 0 | KK10: 0 | KL10: 0 | KM10: 0 | KN10: 0 | KO10: 0 | KP10: 580 | KQ10: 170 | KR10: 0 | KS10: 170 | KT10: 0 | KU10: 0 | KV10: 0 | KW10: 26660250 | KX10: 410 | KY10: 0 | KZ10: 154 | LA10: 232 | LB10: 0 | LC10: 24 | LD10: 58715908 | LE10: 85376158
B11: в организациях на 26-50 восп., расположеных на селе, или в организациях менее 51 восп., расположенных в ПГТ | C11: 132791 | D11: 235127 | E11: 276061 | F11: 316996 | G11: 388764 | H11: 100560 | I11: 168784 | J11: 196074 | K11: 223363 | L11: 271209 | N11: 2394 | O11: 848 | P11: 0 | Q11: 169 | R11: 679 | S11: 0 | T11: 0 | U11: 227181882 | V11: 1546 | W11: 0 | X11: 51 | Y11: 1495 | Z11: 0 | AA11: 0 | AB11: 301738614 | AC11: 528920496 | AD11: 0 | AE11: 0 | AF11: 0 | AG11: 0 | AH11: 0 | AI11: 0 | AJ11: 0 | AK11: 0 | AL11: 0 | AM11: 0 | AN11: 0 | AO11: 0 | AP11: 0 | AQ11: 0 | AR11: 0 | AS11: 0 | AT11: 278 | AU11: 82 | AV11: 0 | AW11: 0 | AX11: 82 | AY11: 0 | AZ11: 0 | BA11: 22637002 | BB11: 196 | BC11: 0 | BD11: 0 | BE11: 196 | BF11: 0 | BG11: 0 | BH11: 38430504 | BI11: 61067506 | BJ11: 65 | BK11: 13 | BL11: 0 | BM11: 0 | BN11: 13 | BO11: 0 | BP11: 0 | BQ11: 3588793 | BR11: 52 | BS11: 0 | BT11: 0 | BU11: 52 | BV11: 0 | BW11: 0 | BX11: 10195848 | BY11: 13784641 | BZ11: 27 | CA11: 0 | CB11: 0 | CC11: 0 | CD11: 0 | CE11: 0 | CF11: 0 | CG11: 0 | CH11: 27 | CI11: 0 | CJ11: 0 | CK11: 27 | CL11: 0 | CM11: 0 | CN11: 5293998 | CO11: 5293998 | CP11: 347 | CQ11: 187 | CR11: 0 | CS11: 0 | CT11: 187 | CU11: 0 | CV11: 0 | CW11: 51623407 | CX11: 160 | CY11: 0 | CZ11: 0 | DA11: 160 | DB11: 0 | DC11: 0 | DD11: 31371840 | DE11: 82995247 | DF11: 359 | DG11: 134 | DH11: 0 | DI11: 0 | DJ11: 134 | DK11: 0 | DL11: 0 | DM11: 36992174 | DN11: 225 | DO11: 0 | DP11: 0 | DQ11: 225 | DR11: 0 | DS11: 0 | DT11: 44116650 | DU11: 81108824 | DV11: 94 | DW11: 19 | DX11: 0 | DY11: 0 | DZ11: 19 | EA11: 0 | EB11: 0 | EC11: 5245159 | ED11: 75 | EE11: 0 | EF11: 0 | EG11: 75 | EH11: 0 | EI11: 0 | EJ11: 14705550 | EK11: 19950709 | EL11: 27 | EM11: 12 | EN11: 0 | EO11: 0 | EP11: 12 | EQ11: 0 | ER11: 0 | ES11: 3312732 | ET11: 15 | EU11: 0 | EV11: 0 | EW11: 15 | EX11: 0 | EY11: 0 | EZ11: 2941110 | FA11: 6253842 | FB11: 96 | FC11: 40 | FD11: 0 | FE11: 0 | FF11: 40 | FG11: 0 | FH11: 0 | FI11: 11042440 | FJ11: 56 | FK11: 0 | FL11: 0 | FM11: 56 | FN11: 0 | FO11: 0 | FP11: 10980144 | FQ11: 22022584 | FR11: 63 | FS11: 20 | FT11: 0 | FU11: 0 | FV11: 20 | FW11: 0 | FX11: 0 | FY11: 5521220 | FZ11: 43 | GA11: 0 | GB11: 0 | GC11: 43 | GD11: 0 | GE11: 0 | GF11: 8431182 | GG11: 13952402 | GH11: 0 | GI11: 0 | GJ11: 0 | GK11: 0 | GL11: 0 | GM11: 0 | GN11: 0 | GO11: 0 | GP11: 0 | GQ11: 0 | GR11: 0 | GS11: 0 | GT11: 0 | GU11: 0 | GV11: 0 | GW11: 0 | GX11: 293 | GY11: 99 | GZ11: 0 | HA11: 0 | HB11: 99 | HC11: 0 | HD11: 0 | HE11: 27330039 | HF11: 194 | HG11: 0 | HH11: 0 | HI11: 194 | HJ11: 0 | HK11: 0 | HL11: 38038356 | HM11: 65368395 | HN11: 45 | HO11: 13 | HP11: 0 | HQ11: 0 | HR11: 13 | HS11: 0 | HT11: 0 | HU11: 3588793 | HV11: 32 | HW11: 0 | HX11: 0 | HY11: 32 | HZ11: 0 | IA11: 0 | IB11: 6274368 | IC11: 9863161 | ID11: 353 | IE11: 131 | IF11: 0 | IG11: 131 | IH11: 0 | II11: 0 | IJ11: 0 | IK11: 30801637 | IL11: 222 | IM11: 0 | IN11: 21 | IO11: 201 | IP11: 0 | IQ11: 0 | IR11: 42955338 | IS11: 73756975 | IT11: 114 | IU11: 27 | IV11: 0 | IW11: 0 | IX11: 27 | IY11: 0 | IZ11: 0 | JA11: 7453647 | JB11: 87 | JC11: 0 | JD11: 0 | JE11: 87 | JF11: 0 | JG11: 0 | JH11: 17058438 | JI11: 24512085 | JJ11: 0 | JK11: 0 | JL11: 0 | JM11: 0 | JN11: 0 | JO11: 0 | JP11: 0 | JQ11: 0 | JR11: 0 | JS11: 0 | JT11: 0 | JU11: 0 | JV11: 0 | JW11: 0 | JX11: 0 | JY11: 0 | JZ11: 143 | KA11: 33 | KB11: 0 | KC11: 0 | KD11: 33 | KE11: 0 | KF11: 0 | KG11: 9110013 | KH11: 110 | KI11: 0 | KJ11: 0 | KK11: 110 | KL11: 0 | KM11: 0 | KN11: 21568140 | KO11: 30678153 | KP11: 90 | KQ11: 38 | KR11: 0 | KS11: 38 | KT11: 0 | KU11: 0 | KV11: 0 | KW11: 8934826 | KX11: 52 | KY11: 0 | KZ11: 30 | LA11: 22 | LB11: 0 | LC11: 0 | LD11: 9377148 | LE11: 18311974
B12: в организациях на 11-25 восп., расположеных на селе | C12: 137263 | D12: 242927 | E12: 285193 | F12: 327458 | G12: 401560 | H12: 152833 | I12: 258497 | J12: 300762 | K12: 343028 | L12: 417130 | N12: 708 | O12: 248 | P12: 0 | Q12: 8 | R12: 240 | S12: 0 | T12: 0 | U12: 70389736 | V12: 460 | W12: 0 | X12: 15 | Y12: 445 | Z12: 0 | AA12: 0 | AB12: 137716545 | AC12: 208106281 | AD12: 23 | AE12: 8 | AF12: 0 | AG12: 8 | AH12: 0 | AI12: 0 | AJ12: 0 | AK12: 1943416 | AL12: 15 | AM12: 0 | AN12: 15 | AO12: 0 | AP12: 0 | AQ12: 0 | AR12: 3877455 | AS12: 5820871 | AT12: 42 | AU12: 27 | AV12: 0 | AW12: 0 | AX12: 27 | AY12: 0 | AZ12: 0 | BA12: 7700211 | BB12: 15 | BC12: 0 | BD12: 0 | BE12: 15 | BF12: 0 | BG12: 0 | BH12: 4511430 | BI12: 12211641 | BJ12: 77 | BK12: 19 | BL12: 0 | BM12: 0 | BN12: 19 | BO12: 0 | BP12: 0 | BQ12: 5418667 | BR12: 58 | BS12: 0 | BT12: 0 | BU12: 58 | BV12: 0 | BW12: 0 | BX12: 17444196 | BY12: 22862863 | BZ12: 0 | CA12: 0 | CB12: 0 | CC12: 0 | CD12: 0 | CE12: 0 | CF12: 0 | CG12: 0 | CH12: 0 | CI12: 0 | CJ12: 0 | CK12: 0 | CL12: 0 | CM12: 0 | CN12: 0 | CO12: 0 | CP12: 161 | CQ12: 108 | CR12: 0 | CS12: 0 | CT12: 108 | CU12: 0 | CV12: 0 | CW12: 30800844 | CX12: 53 | CY12: 0 | CZ12: 0 | DA12: 53 | DB12: 0 | DC12: 0 | DD12: 15940386 | DE12: 46741230 | DF12: 11 | DG12: 11 | DH12: 0 | DI12: 0 | DJ12: 11 | DK12: 0 | DL12: 0 | DM12: 3137123 | DN12: 0 | DO12: 0 | DP12: 0 | DQ12: 0 | DR12: 0 | DS12: 0 | DT12: 0 | DU12: 3137123 | DV12: 50 | DW12: 13 | DX12: 0 | DY12: 0 | DZ12: 13 | EA12: 0 | EB12: 0 | EC12: 3707509 | ED12: 37 | EE12: 0 | EF12: 0 | EG12: 37 | EH12: 0 | EI12: 0 | EJ12: 11128194 | EK12: 14835703 | EL12: 47 | EM12: 15 | EN12: 0 | EO12: 0 | EP12: 15 | EQ12: 0 | ER12: 0 | ES12: 4277895 | ET12: 32 | EU12: 0 | EV12: 0 | EW12: 32 | EX12: 0 | EY12: 0 | EZ12: 9624384 | FA12: 13902279 | FB12: 42 | FC12: 0 | FD12: 0 | FE12: 0 | FF12: 0 | FG12: 0 | FH12: 0 | FI12: 0 | FJ12: 42 | FK12: 0 | FL12: 0 | FM12: 42 | FN12: 0 | FO12: 0 | FP12: 12632004 | FQ12: 12632004 | FR12: 0 | FS12: 0 | FT12: 0 | FU12: 0 | FV12: 0 | FW12: 0 | FX12: 0 | FY12: 0 | FZ12: 0 | GA12: 0 | GB12: 0 | GC12: 0 | GD12: 0 | GE12: 0 | GF12: 0 | GG12: 0 | GH12: 14 | GI12: 0 | GJ12: 0 | GK12: 0 | GL12: 0 | GM12: 0 | GN12: 0 | GO12: 0 | GP12: 14 | GQ12: 0 | GR12: 0 | GS12: 14 | GT12: 0 | GU12: 0 | GV12: 4210668 | GW12: 4210668 | GX12: 79 | GY12: 19 | GZ12: 0 | HA12: 0 | HB12: 19 | HC12: 0 | HD12: 0 | HE12: 5418667 | HF12: 60 | HG12: 0 | HH12: 0 | HI12: 60 | HJ12: 0 | HK12: 0 | HL12: 18045720 | HM12: 23464387 | HN12: 0 | HO12: 0 | HP12: 0 | HQ12: 0 | HR12: 0 | HS12: 0 | HT12: 0 | HU12: 0 | HV12: 0 | HW12: 0 | HX12: 0 | HY12: 0 | HZ12: 0 | IA12: 0 | IB12: 0 | IC12: 0 | ID12: 36 | IE12: 0 | IF12: 0 | IG12: 0 | IH12: 0 | II12: 0 | IJ12: 0 | IK12: 0 | IL12: 36 | IM12: 0 | IN12: 0 | IO12: 36 | IP12: 0 | IQ12: 0 | IR12: 10827432 | IS12: 10827432 | IT12: 59 | IU12: 10 | IV12: 0 | IW12: 0 | IX12: 10 | IY12: 0 | IZ12: 0 | JA12: 2851930 | JB12: 49 | JC12: 0 | JD12: 0 | JE12: 49 | JF12: 0 | JG12: 0 | JH12: 14737338 | JI12: 17589268 | JJ12: 0 | JK12: 0 | JL12: 0 | JM12: 0 | JN12: 0 | JO12: 0 | JP12: 0 | JQ12: 0 | JR12: 0 | JS12: 0 | JT12: 0 | JU12: 0 | JV12: 0 | JW12: 0 | JX12: 0 | JY12: 0 | JZ12: 55 | KA12: 18 | KB12: 0 | KC12: 0 | KD12: 18 | KE12: 0 | KF12: 0 | KG12: 5133474 | KH12: 37 | KI12: 0 | KJ12: 0 | KK12: 37 | KL12: 0 | KM12: 0 | KN12: 11128194 | KO12: 16261668 | KP12: 12 | KQ12: 0 | KR12: 0 | KS12: 0 | KT12: 0 | KU12: 0 | KV12: 0 | KW12: 0 | KX12: 12 | KY12: 0 | KZ12: 0 | LA12: 12 | LB12: 0 | LC12: 0 | LD12: 3609144 | LE12: 3609144
B13: в организациях на 10 восп., расположеных на селе | C13: 283807 | D13: 505668 | E13: 594413 | F13: 683157 | G13: 838748 | H13: 314444 | I13: 536305 | J13: 625050 | K13: 713794 | L13: 869385 | N13: 102 | O13: 35 | P13: 0 | Q13: 0 | R13: 35 | S13: 0 | T13: 0 | U13: 20804455 | V13: 67 | W13: 0 | X13: 26 | Y13: 41 | Z13: 0 | AA13: 0 | AB13: 39570980 | AC13: 60375435 | AD13: 26 | AE13: 0 | AF13: 0 | AG13: 0 | AH13: 0 | AI13: 0 | AJ13: 0 | AK13: 0 | AL13: 26 | AM13: 0 | AN13: 26 | AO13: 0 | AP13: 0 | AQ13: 0 | AR13: 13943930 | AS13: 13943930 | AT13: 0 | AU13: 0 | AV13: 0 | AW13: 0 | AX13: 0 | AY13: 0 | AZ13: 0 | BA13: 0 | BB13: 0 | BC13: 0 | BD13: 0 | BE13: 0 | BF13: 0 | BG13: 0 | BH13: 0 | BI13: 0 | BJ13: 8 | BK13: 5 | BL13: 0 | BM13: 0 | BN13: 5 | BO13: 0 | BP13: 0 | BQ13: 2972065 | BR13: 3 | BS13: 0 | BT13: 0 | BU13: 3 | BV13: 0 | BW13: 0 | BX13: 1875150 | BY13: 4847215 | BZ13: 0 | CA13: 0 | CB13: 0 | CC13: 0 | CD13: 0 | CE13: 0 | CF13: 0 | CG13: 0 | CH13: 0 | CI13: 0 | CJ13: 0 | CK13: 0 | CL13: 0 | CM13: 0 | CN13: 0 | CO13: 0 | CP13: 34 | CQ13: 18 | CR13: 0 | CS13: 0 | CT13: 18 | CU13: 0 | CV13: 0 | CW13: 10699434 | CX13: 16 | CY13: 0 | CZ13: 0 | DA13: 16 | DB13: 0 | DC13: 0 | DD13: 10000800 | DE13: 20700234 | DF13: 0 | DG13: 0 | DH13: 0 | DI13: 0 | DJ13: 0 | DK13: 0 | DL13: 0 | DM13: 0 | DN13: 0 | DO13: 0 | DP13: 0 | DQ13: 0 | DR13: 0 | DS13: 0 | DT13: 0 | DU13: 0 | DV13: 0 | DW13: 0 | DX13: 0 | DY13: 0 | DZ13: 0 | EA13: 0 | EB13: 0 | EC13: 0 | ED13: 0 | EE13: 0 | EF13: 0 | EG13: 0 | EH13: 0 | EI13: 0 | EJ13: 0 | EK13: 0 | EL13: 0 | EM13: 0 | EN13: 0 | EO13: 0 | EP13: 0 | EQ13: 0 | ER13: 0 | ES13: 0 | ET13: 0 | EU13: 0 | EV13: 0 | EW13: 0 | EX13: 0 | EY13: 0 | EZ13: 0 | FA13: 0 | FB13: 0 | FC13: 0 | FD13: 0 | FE13: 0 | FF13: 0 | FG13: 0 | FH13: 0 | FI13: 0 | FJ13: 0 | FK13: 0 | FL13: 0 | FM13: 0 | FN13: 0 | FO13: 0 | FP13: 0 | FQ13: 0 | FR13: 8 | FS13: 8 | FT13: 0 | FU13: 0 | FV13: 8 | FW13: 0 | FX13: 0 | FY13: 4755304 | FZ13: 0 | GA13: 0 | GB13: 0 | GC13: 0 | GD13: 0 | GE13: 0 | GF13: 0 | GG13: 4755304 | GH13: 0 | GI13: 0 | GJ13: 0 | GK13: 0 | GL13: 0 | GM13: 0 | GN13: 0 | GO13: 0 | GP13: 0 | GQ13: 0 | GR13: 0 | GS13: 0 | GT13: 0 | GU13: 0 | GV13: 0 | GW13: 0 | GX13: 6 | GY13: 0 | GZ13: 0 | HA13: 0 | HB13: 0 | HC13: 0 | HD13: 0 | HE13: 0 | HF13: 6 | HG13: 0 | HH13: 0 | HI13: 6 | HJ13: 0 | HK13: 0 | HL13: 3750300 | HM13: 3750300 | HN13: 0 | HO13: 0 | HP13: 0 | HQ13: 0 | HR13: 0 | HS13: 0 | HT13: 0 | HU13: 0 | HV13: 0 | HW13: 0 | HX13: 0 | HY13: 0 | HZ13: 0 | IA13: 0 | IB13: 0 | IC13: 0 | ID13: 0 | IE13: 0 | IF13: 0 | IG13: 0 | IH13: 0 | II13: 0 | IJ13: 0 | IK13: 0 | IL13: 0 | IM13: 0 | IN13: 0 | IO13: 0 | IP13: 0 | IQ13: 0 | IR13: 0 | IS13: 0 | IT13: 0 | IU13: 0 | IV13: 0 | IW13: 0 | IX13: 0 | IY13: 0 | IZ13: 0 | JA13: 0 | JB13: 0 | JC13: 0 | JD13: 0 | JE13: 0 | JF13: 0 | JG13: 0 | JH13: 0 | JI13: 0 | JJ13: 0 | JK13: 0 | JL13: 0 | JM13: 0 | JN13: 0 | JO13: 0 | JP13: 0 | JQ13: 0 | JR13: 0 | JS13: 0 | JT13: 0 | JU13: 0 | JV13: 0 | JW13: 0 | JX13: 0 | JY13: 0 | JZ13: 12 | KA13: 2 | KB13: 0 | KC13: 0 | KD13: 2 | KE13: 0 | KF13: 0 | KG13: 1188826 | KH13: 10 | KI13: 0 | KJ13: 0 | KK13: 10 | KL13: 0 | KM13: 0 | KN13: 6250500 | KO13: 7439326 | KP13: 8 | KQ13: 2 | KR13: 0 | KS13: 0 | KT13: 2 | KU13: 0 | KV13: 0 | KW13: 1188826 | KX13: 6 | KY13: 0 | KZ13: 0 | LA13: 6 | LB13: 0 | LC13: 0 | LD13: 3750300 | LE13: 4939126
B14: 2. Группы комбинированной направленности | N14: 3944 | O14: 34 | U14: 17169340 | V14: 3910 | AB14: 964919191 | AC14: 982088531 | AD14: 15 | AE14: 0 | AK14: 0 | AL14: 15 | AR14: 2982270 | AS14: 2982270 | AT14: 0 | AU14: 0 | BA14: 0 | BB14: 0 | BH14: 0 | BI14: 0 | BJ14: 0 | BK14: 0 | BQ14: 0 | BR14: 0 | BX14: 0 | BY14: 0 | BZ14: 822 | CA14: 0 | CG14: 0 | CH14: 822 | CN14: 228567576 | CO14: 228567576 | CP14: 1638 | CQ14: 4 | CW14: 1251100 | CX14: 1634 | DD14: 395157306 | DE14: 396408406 | DF14: 368 | DG14: 0 | DM14: 0 | DN14: 368 | DT14: 97618916 | DU14: 97618916 | DV14: 16 | DW14: 0 | EC14: 0 | ED14: 16 | EJ14: 3830444 | EK14: 3830444 | EL14: 57 | EM14: 0 | ES14: 0 | ET14: 57 | EZ14: 12837540 | FA14: 12837540 | FB14: 12 | FC14: 0 | FI14: 0 | FJ14: 12 | FP14: 2702640 | FQ14: 2702640 | FR14: 82 | FS14: 0 | FY14: 0 | FZ14: 82 | GF14: 18468040 | GG14: 18468040 | GH14: 0 | GI14: 0 | GO14: 0 | GP14: 0 | GV14: 0 | GW14: 0 | GX14: 0 | GY14: 0 | HE14: 0 | HF14: 0 | HL14: 0 | HM14: 0 | HN14: 44 | HO14: 0 | HU14: 0 | HV14: 44 | IB14: 9909680 | IC14: 9909680 | ID14: 0 | IE14: 0 | IK14: 0 | IL14: 0 | IR14: 0 | IS14: 0 | IT14: 12 | IU14: 0 | JA14: 0 | JB14: 12 | JH14: 3649128 | JI14: 3649128 | JJ14: 0 | JK14: 0 | JQ14: 0 | JR14: 0 | JX14: 0 | JY14: 0 | JZ14: 199 | KA14: 0 | KG14: 0 | KH14: 199 | KN14: 46481795 | KO14: 46481795 | KP14: 679 | KQ14: 30 | KW14: 15918240 | KX14: 649 | LD14: 142713856 | LE14: 158632096
B15: 01 глухие | C15: 174164 | D15: 273172 | E15: 312775 | F15: 352378 | G15: 421812 | H15: 188279 | I15: 287287 | J15: 326890 | K15: 366494 | L15: 435928 | N15: 0 | O15: 0 | P15: 0 | Q15: 0 | R15: 0 | S15: 0 | T15: 0 | U15: 0 | V15: 0 | W15: 0 | X15: 0 | Y15: 0 | Z15: 0 | AA15: 0 | AB15: 0 | AC15: 0 | AD15: 0 | AE15: 0 | AF15: 0 | AG15: 0 | AH15: 0 | AI15: 0 | AJ15: 0 | AK15: 0 | AL15: 0 | AM15: 0 | AN15: 0 | AO15: 0 | AP15: 0 | AQ15: 0 | AR15: 0 | AS15: 0 | AT15: 0 | AU15: 0 | AV15: 0 | AW15: 0 | AX15: 0 | AY15: 0 | AZ15: 0 | BA15: 0 | BB15: 0 | BC15: 0 | BD15: 0 | BE15: 0 | BF15: 0 | BG15: 0 | BH15: 0 | BI15: 0 | BJ15: 0 | BK15: 0 | BL15: 0 | BM15: 0 | BN15: 0 | BO15: 0 | BP15: 0 | BQ15: 0 | BR15: 0 | BS15: 0 | BT15: 0 | BU15: 0 | BV15: 0 | BW15: 0 | BX15: 0 | BY15: 0 | BZ15: 0 | CA15: 0 | CB15: 0 | CC15: 0 | CD15: 0 | CE15: 0 | CF15: 0 | CG15: 0 | CH15: 0 | CI15: 0 | CJ15: 0 | CK15: 0 | CL15: 0 | CM15: 0 | CN15: 0 | CO15: 0 | CP15: 0 | CQ15: 0 | CR15: 0 | CS15: 0 | CT15: 0 | CU15: 0 | CV15: 0 | CW15: 0 | CX15: 0 | CY15: 0 | CZ15: 0 | DA15: 0 | DB15: 0 | DC15: 0 | DD15: 0 | DE15: 0 | DF15: 0 | DG15: 0 | DH15: 0 | DI15: 0 | DJ15: 0 | DK15: 0 | DL15: 0 | DM15: 0 | DN15: 0 | DO15: 0 | DP15: 0 | DQ15: 0 | DR15: 0 | DS15: 0 | DT15: 0 | DU15: 0 | DV15: 0 | DW15: 0 | DX15: 0 | DY15: 0 | DZ15: 0 | EA15: 0 | EB15: 0 | EC15: 0 | ED15: 0 | EE15: 0 | EF15: 0 | EG15: 0 | EH15: 0 | EI15: 0 | EJ15: 0 | EK15: 0 | EL15: 0 | EM15: 0 | EN15: 0 | EO15: 0 | EP15: 0 | EQ15: 0 | ER15: 0 | ES15: 0 | ET15: 0 | EU15: 0 | EV15: 0 | EW15: 0 | EX15: 0 | EY15: 0 | EZ15: 0 | FA15: 0 | FB15: 0 | FC15: 0 | FD15: 0 | FE15: 0 | FF15: 0 | FG15: 0 | FH15: 0 | FI15: 0 | FJ15: 0 | FK15: 0 | FL15: 0 | FM15: 0 | FN15: 0 | FO15: 0 | FP15: 0 | FQ15: 0 | FR15: 0 | FS15: 0 | FT15: 0 | FU15: 0 | FV15: 0 | FW15: 0 | FX15: 0 | FY15: 0 | FZ15: 0 | GA15: 0 | GB15: 0 | GC15: 0 | GD15: 0 | GE15: 0 | GF15: 0 | GG15: 0 | GH15: 0 | GI15: 0 | GJ15: 0 | GK15: 0 | GL15: 0 | GM15: 0 | GN15: 0 | GO15: 0 | GP15: 0 | GQ15: 0 | GR15: 0 | GS15: 0 | GT15: 0 | GU15: 0 | GV15: 0 | GW15: 0 | GX15: 0 | GY15: 0 | GZ15: 0 | HA15: 0 | HB15: 0 | HC15: 0 | HD15: 0 | HE15: 0 | HF15: 0 | HG15: 0 | HH15: 0 | HI15: 0 | HJ15: 0 | HK15: 0 | HL15: 0 | HM15: 0 | HN15: 0 | HO15: 0 | HP15: 0 | HQ15: 0 | HR15: 0 | HS15: 0 | HT15: 0 | HU15: 0 | HV15: 0 | HW15: 0 | HX15: 0 | HY15: 0 | HZ15: 0 | IA15: 0 | IB15: 0 | IC15: 0 | ID15: 0 | IE15: 0 | IF15: 0 | IG15: 0 | IH15: 0 | II15: 0 | IJ15: 0 | IK15: 0 | IL15: 0 | IM15: 0 | IN15: 0 | IO15: 0 | IP15: 0 | IQ15: 0 | IR15: 0 | IS15: 0 | IT15: 0 | IU15: 0 | IV15: 0 | IW15: 0 | IX15: 0 | IY15: 0 | IZ15: 0 | JA15: 0 | JB15: 0 | JC15: 0 | JD15: 0 | JE15: 0 | JF15: 0 | JG15: 0 | JH15: 0 | JI15: 0 | JJ15: 0 | JK15: 0 | JL15: 0 | JM15: 0 | JN15: 0 | JO15: 0 | JP15: 0 | JQ15: 0 | JR15: 0 | JS15: 0 | JT15: 0 | JU15: 0 | JV15: 0 | JW15: 0 | JX15: 0 | JY15: 0 | JZ15: 0 | KA15: 0 | KB15: 0 | KC15: 0 | KD15: 0 | KE15: 0 | KF15: 0 | KG15: 0 | KH15: 0 | KI15: 0 | KJ15: 0 | KK15: 0 | KL15: 0 | KM15: 0 | KN15: 0 | KO15: 0 | KP15: 0 | KQ15: 0 | KR15: 0 | KS15: 0 | KT15: 0 | KU15: 0 | KV15: 0 | KW15: 0 | KX15: 0 | KY15: 0 | KZ15: 0 | LA15: 0 | LB15: 0 | LC15: 0 | LD15: 0 | LE15: 0
B16: 02 слабослышащие (познооглохшие) | C16: 174164 | D16: 273172 | E16: 312775 | F16: 352378 | G16: 421812 | H16: 132812 | I16: 198818 | J16: 225220 | K16: 251622 | L16: 297912 | N16: 0 | O16: 0 | P16: 0 | Q16: 0 | R16: 0 | S16: 0 | T16: 0 | U16: 0 | V16: 0 | W16: 0 | X16: 0 | Y16: 0 | Z16: 0 | AA16: 0 | AB16: 0 | AC16: 0 | AD16: 0 | AE16: 0 | AF16: 0 | AG16: 0 | AH16: 0 | AI16: 0 | AJ16: 0 | AK16: 0 | AL16: 0 | AM16: 0 | AN16: 0 | AO16: 0 | AP16: 0 | AQ16: 0 | AR16: 0 | AS16: 0 | AT16: 0 | AU16: 0 | AV16: 0 | AW16: 0 | AX16: 0 | AY16: 0 | AZ16: 0 | BA16: 0 | BB16: 0 | BC16: 0 | BD16: 0 | BE16: 0 | BF16: 0 | BG16: 0 | BH16: 0 | BI16: 0 | BJ16: 0 | BK16: 0 | BL16: 0 | BM16: 0 | BN16: 0 | BO16: 0 | BP16: 0 | BQ16: 0 | BR16: 0 | BS16: 0 | BT16: 0 | BU16: 0 | BV16: 0 | BW16: 0 | BX16: 0 | BY16: 0 | BZ16: 0 | CA16: 0 | CB16: 0 | CC16: 0 | CD16: 0 | CE16: 0 | CF16: 0 | CG16: 0 | CH16: 0 | CI16: 0 | CJ16: 0 | CK16: 0 | CL16: 0 | CM16: 0 | CN16: 0 | CO16: 0 | CP16: 0 | CQ16: 0 | CR16: 0 | CS16: 0 | CT16: 0 | CU16: 0 | CV16: 0 | CW16: 0 | CX16: 0 | CY16: 0 | CZ16: 0 | DA16: 0 | DB16: 0 | DC16: 0 | DD16: 0 | DE16: 0 | DF16: 0 | DG16: 0 | DH16: 0 | DI16: 0 | DJ16: 0 | DK16: 0 | DL16: 0 | DM16: 0 | DN16: 0 | DO16: 0 | DP16: 0 | DQ16: 0 | DR16: 0 | DS16: 0 | DT16: 0 | DU16: 0 | DV16: 0 | DW16: 0 | DX16: 0 | DY16: 0 | DZ16: 0 | EA16: 0 | EB16: 0 | EC16: 0 | ED16: 0 | EE16: 0 | EF16: 0 | EG16: 0 | EH16: 0 | EI16: 0 | EJ16: 0 | EK16: 0 | EL16: 0 | EM16: 0 | EN16: 0 | EO16: 0 | EP16: 0 | EQ16: 0 | ER16: 0 | ES16: 0 | ET16: 0 | EU16: 0 | EV16: 0 | EW16: 0 | EX16: 0 | EY16: 0 | EZ16: 0 | FA16: 0 | FB16: 0 | FC16: 0 | FD16: 0 | FE16: 0 | FF16: 0 | FG16: 0 | FH16: 0 | FI16: 0 | FJ16: 0 | FK16: 0 | FL16: 0 | FM16: 0 | FN16: 0 | FO16: 0 | FP16: 0 | FQ16: 0 | FR16: 0 | FS16: 0 | FT16: 0 | FU16: 0 | FV16: 0 | FW16: 0 | FX16: 0 | FY16: 0 | FZ16: 0 | GA16: 0 | GB16: 0 | GC16: 0 | GD16: 0 | GE16: 0 | GF16: 0 | GG16: 0 | GH16: 0 | GI16: 0 | GJ16: 0 | GK16: 0 | GL16: 0 | GM16: 0 | GN16: 0 | GO16: 0 | GP16: 0 | GQ16: 0 | GR16: 0 | GS16: 0 | GT16: 0 | GU16: 0 | GV16: 0 | GW16: 0 | GX16: 0 | GY16: 0 | GZ16: 0 | HA16: 0 | HB16: 0 | HC16: 0 | HD16: 0 | HE16: 0 | HF16: 0 | HG16: 0 | HH16: 0 | HI16: 0 | HJ16: 0 | HK16: 0 | HL16: 0 | HM16: 0 | HN16: 0 | HO16: 0 | HP16: 0 | HQ16: 0 | HR16: 0 | HS16: 0 | HT16: 0 | HU16: 0 | HV16: 0 | HW16: 0 | HX16: 0 | HY16: 0 | HZ16: 0 | IA16: 0 | IB16: 0 | IC16: 0 | ID16: 0 | IE16: 0 | IF16: 0 | IG16: 0 | IH16: 0 | II16: 0 | IJ16: 0 | IK16: 0 | IL16: 0 | IM16: 0 | IN16: 0 | IO16: 0 | IP16: 0 | IQ16: 0 | IR16: 0 | IS16: 0 | IT16: 0 | IU16: 0 | IV16: 0 | IW16: 0 | IX16: 0 | IY16: 0 | IZ16: 0 | JA16: 0 | JB16: 0 | JC16: 0 | JD16: 0 | JE16: 0 | JF16: 0 | JG16: 0 | JH16: 0 | JI16: 0 | JJ16: 0 | JK16: 0 | JL16: 0 | JM16: 0 | JN16: 0 | JO16: 0 | JP16: 0 | JQ16: 0 | JR16: 0 | JS16: 0 | JT16: 0 | JU16: 0 | JV16: 0 | JW16: 0 | JX16: 0 | JY16: 0 | JZ16: 0 | KA16: 0 | KB16: 0 | KC16: 0 | KD16: 0 | KE16: 0 | KF16: 0 | KG16: 0 | KH16: 0 | KI16: 0 | KJ16: 0 | KK16: 0 | KL16: 0 | KM16: 0 | KN16: 0 | KO16: 0 | KP16: 0 | KQ16: 0 | KR16: 0 | KS16: 0 | KT16: 0 | KU16: 0 | KV16: 0 | KW16: 0 | KX16: 0 | KY16: 0 | KZ16: 0 | LA16: 0 | LB16: 0 | LC16: 0 | LD16: 0 | LE16: 0
B17: 03 слепые | C17: 299418 | D17: 398426 | E17: 438029 | F17: 477632 | G17: 547066 | H17: 313533 | I17: 412541 | J17: 452144 | K17: 491747 | L17: 561182 | N17: 0 | O17: 0 | P17: 0 | Q17: 0 | R17: 0 | S17: 0 | T17: 0 | U17: 0 | V17: 0 | W17: 0 | X17: 0 | Y17: 0 | Z17: 0 | AA17: 0 | AB17: 0 | AC17: 0 | AD17: 0 | AE17: 0 | AF17: 0 | AG17: 0 | AH17: 0 | AI17: 0 | AJ17: 0 | AK17: 0 | AL17: 0 | AM17: 0 | AN17: 0 | AO17: 0 | AP17: 0 | AQ17: 0 | AR17: 0 | AS17: 0 | AT17: 0 | AU17: 0 | AV17: 0 | AW17: 0 | AX17: 0 | AY17: 0 | AZ17: 0 | BA17: 0 | BB17: 0 | BC17: 0 | BD17: 0 | BE17: 0 | BF17: 0 | BG17: 0 | BH17: 0 | BI17: 0 | BJ17: 0 | BK17: 0 | BL17: 0 | BM17: 0 | BN17: 0 | BO17: 0 | BP17: 0 | BQ17: 0 | BR17: 0 | BS17: 0 | BT17: 0 | BU17: 0 | BV17: 0 | BW17: 0 | BX17: 0 | BY17: 0 | BZ17: 0 | CA17: 0 | CB17: 0 | CC17: 0 | CD17: 0 | CE17: 0 | CF17: 0 | CG17: 0 | CH17: 0 | CI17: 0 | CJ17: 0 | CK17: 0 | CL17: 0 | CM17: 0 | CN17: 0 | CO17: 0 | CP17: 0 | CQ17: 0 | CR17: 0 | CS17: 0 | CT17: 0 | CU17: 0 | CV17: 0 | CW17: 0 | CX17: 0 | CY17: 0 | CZ17: 0 | DA17: 0 | DB17: 0 | DC17: 0 | DD17: 0 | DE17: 0 | DF17: 0 | DG17: 0 | DH17: 0 | DI17: 0 | DJ17: 0 | DK17: 0 | DL17: 0 | DM17: 0 | DN17: 0 | DO17: 0 | DP17: 0 | DQ17: 0 | DR17: 0 | DS17: 0 | DT17: 0 | DU17: 0 | DV17: 0 | DW17: 0 | DX17: 0 | DY17: 0 | DZ17: 0 | EA17: 0 | EB17: 0 | EC17: 0 | ED17: 0 | EE17: 0 | EF17: 0 | EG17: 0 | EH17: 0 | EI17: 0 | EJ17: 0 | EK17: 0 | EL17: 0 | EM17: 0 | EN17: 0 | EO17: 0 | EP17: 0 | EQ17: 0 | ER17: 0 | ES17: 0 | ET17: 0 | EU17: 0 | EV17: 0 | EW17: 0 | EX17: 0 | EY17: 0 | EZ17: 0 | FA17: 0 | FB17: 0 | FC17: 0 | FD17: 0 | FE17: 0 | FF17: 0 | FG17: 0 | FH17: 0 | FI17: 0 | FJ17: 0 | FK17: 0 | FL17: 0 | FM17: 0 | FN17: 0 | FO17: 0 | FP17: 0 | FQ17: 0 | FR17: 0 | FS17: 0 | FT17: 0 | FU17: 0 | FV17: 0 | FW17: 0 | FX17: 0 | FY17: 0 | FZ17: 0 | GA17: 0 | GB17: 0 | GC17: 0 | GD17: 0 | GE17: 0 | GF17: 0 | GG17: 0 | GH17: 0 | GI17: 0 | GJ17: 0 | GK17: 0 | GL17: 0 | GM17: 0 | GN17: 0 | GO17: 0 | GP17: 0 | GQ17: 0 | GR17: 0 | GS17: 0 | GT17: 0 | GU17: 0 | GV17: 0 | GW17: 0 | GX17: 0 | GY17: 0 | GZ17: 0 | HA17: 0 | HB17: 0 | HC17: 0 | HD17: 0 | HE17: 0 | HF17: 0 | HG17: 0 | HH17: 0 | HI17: 0 | HJ17: 0 | HK17: 0 | HL17: 0 | HM17: 0 | HN17: 0 | HO17: 0 | HP17: 0 | HQ17: 0 | HR17: 0 | HS17: 0 | HT17: 0 | HU17: 0 | HV17: 0 | HW17: 0 | HX17: 0 | HY17: 0 | HZ17: 0 | IA17: 0 | IB17: 0 | IC17: 0 | ID17: 0 | IE17: 0 | IF17: 0 | IG17: 0 | IH17: 0 | II17: 0 | IJ17: 0 | IK17: 0 | IL17: 0 | IM17: 0 | IN17: 0 | IO17: 0 | IP17: 0 | IQ17: 0 | IR17: 0 | IS17: 0 | IT17: 0 | IU17: 0 | IV17: 0 | IW17: 0 | IX17: 0 | IY17: 0 | IZ17: 0 | JA17: 0 | JB17: 0 | JC17: 0 | JD17: 0 | JE17: 0 | JF17: 0 | JG17: 0 | JH17: 0 | JI17: 0 | JJ17: 0 | JK17: 0 | JL17: 0 | JM17: 0 | JN17: 0 | JO17: 0 | JP17: 0 | JQ17: 0 | JR17: 0 | JS17: 0 | JT17: 0 | JU17: 0 | JV17: 0 | JW17: 0 | JX17: 0 | JY17: 0 | JZ17: 0 | KA17: 0 | KB17: 0 | KC17: 0 | KD17: 0 | KE17: 0 | KF17: 0 | KG17: 0 | KH17: 0 | KI17: 0 | KJ17: 0 | KK17: 0 | KL17: 0 | KM17: 0 | KN17: 0 | KO17: 0 | KP17: 0 | KQ17: 0 | KR17: 0 | KS17: 0 | KT17: 0 | KU17: 0 | KV17: 0 | KW17: 0 | KX17: 0 | KY17: 0 | KZ17: 0 | LA17: 0 | LB17: 0 | LC17: 0 | LD17: 0 | LE17: 0
B18: 04 слабовидящие, с амблиопией, косоглазием | C18: 206839 | D18: 305847 | E18: 345450 | F18: 385053 | G18: 454487 | H18: 154596 | I18: 220601 | J18: 247003 | K18: 273405 | L18: 319695 | N18: 128 | O18: 0 | P18: 0 | Q18: 0 | R18: 0 | S18: 0 | T18: 0 | U18: 0 | V18: 128 | W18: 0 | X18: 29 | Y18: 77 | Z18: 22 | AA18: 0 | AB18: 31431570 | AC18: 31431570 | AD18: 0 | AE18: 0 | AF18: 0 | AG18: 0 | AH18: 0 | AI18: 0 | AJ18: 0 | AK18: 0 | AL18: 0 | AM18: 0 | AN18: 0 | AO18: 0 | AP18: 0 | AQ18: 0 | AR18: 0 | AS18: 0 | AT18: 0 | AU18: 0 | AV18: 0 | AW18: 0 | AX18: 0 | AY18: 0 | AZ18: 0 | BA18: 0 | BB18: 0 | BC18: 0 | BD18: 0 | BE18: 0 | BF18: 0 | BG18: 0 | BH18: 0 | BI18: 0 | BJ18: 0 | BK18: 0 | BL18: 0 | BM18: 0 | BN18: 0 | BO18: 0 | BP18: 0 | BQ18: 0 | BR18: 0 | BS18: 0 | BT18: 0 | BU18: 0 | BV18: 0 | BW18: 0 | BX18: 0 | BY18: 0 | BZ18: 0 | CA18: 0 | CB18: 0 | CC18: 0 | CD18: 0 | CE18: 0 | CF18: 0 | CG18: 0 | CH18: 0 | CI18: 0 | CJ18: 0 | CK18: 0 | CL18: 0 | CM18: 0 | CN18: 0 | CO18: 0 | CP18: 22 | CQ18: 0 | CR18: 0 | CS18: 0 | CT18: 0 | CU18: 0 | CV18: 0 | CW18: 0 | CX18: 22 | CY18: 0 | CZ18: 0 | DA18: 0 | DB18: 22 | DC18: 0 | DD18: 6014910 | DE18: 6014910 | DF18: 0 | DG18: 0 | DH18: 0 | DI18: 0 | DJ18: 0 | DK18: 0 | DL18: 0 | DM18: 0 | DN18: 0 | DO18: 0 | DP18: 0 | DQ18: 0 | DR18: 0 | DS18: 0 | DT18: 0 | DU18: 0 | DV18: 0 | DW18: 0 | DX18: 0 | DY18: 0 | DZ18: 0 | EA18: 0 | EB18: 0 | EC18: 0 | ED18: 0 | EE18: 0 | EF18: 0 | EG18: 0 | EH18: 0 | EI18: 0 | EJ18: 0 | EK18: 0 | EL18: 0 | EM18: 0 | EN18: 0 | EO18: 0 | EP18: 0 | EQ18: 0 | ER18: 0 | ES18: 0 | ET18: 0 | EU18: 0 | EV18: 0 | EW18: 0 | EX18: 0 | EY18: 0 | EZ18: 0 | FA18: 0 | FB18: 0 | FC18: 0 | FD18: 0 | FE18: 0 | FF18: 0 | FG18: 0 | FH18: 0 | FI18: 0 | FJ18: 0 | FK18: 0 | FL18: 0 | FM18: 0 | FN18: 0 | FO18: 0 | FP18: 0 | FQ18: 0 | FR18: 0 | FS18: 0 | FT18: 0 | FU18: 0 | FV18: 0 | FW18: 0 | FX18: 0 | FY18: 0 | FZ18: 0 | GA18: 0 | GB18: 0 | GC18: 0 | GD18: 0 | GE18: 0 | GF18: 0 | GG18: 0 | GH18: 0 | GI18: 0 | GJ18: 0 | GK18: 0 | GL18: 0 | GM18: 0 | GN18: 0 | GO18: 0 | GP18: 0 | GQ18: 0 | GR18: 0 | GS18: 0 | GT18: 0 | GU18: 0 | GV18: 0 | GW18: 0 | GX18: 0 | GY18: 0 | GZ18: 0 | HA18: 0 | HB18: 0 | HC18: 0 | HD18: 0 | HE18: 0 | HF18: 0 | HG18: 0 | HH18: 0 | HI18: 0 | HJ18: 0 | HK18: 0 | HL18: 0 | HM18: 0 | HN18: 0 | HO18: 0 | HP18: 0 | HQ18: 0 | HR18: 0 | HS18: 0 | HT18: 0 | HU18: 0 | HV18: 0 | HW18: 0 | HX18: 0 | HY18: 0 | HZ18: 0 | IA18: 0 | IB18: 0 | IC18: 0 | ID18: 0 | IE18: 0 | IF18: 0 | IG18: 0 | IH18: 0 | II18: 0 | IJ18: 0 | IK18: 0 | IL18: 0 | IM18: 0 | IN18: 0 | IO18: 0 | IP18: 0 | IQ18: 0 | IR18: 0 | IS18: 0 | IT18: 0 | IU18: 0 | IV18: 0 | IW18: 0 | IX18: 0 | IY18: 0 | IZ18: 0 | JA18: 0 | JB18: 0 | JC18: 0 | JD18: 0 | JE18: 0 | JF18: 0 | JG18: 0 | JH18: 0 | JI18: 0 | JJ18: 0 | JK18: 0 | JL18: 0 | JM18: 0 | JN18: 0 | JO18: 0 | JP18: 0 | JQ18: 0 | JR18: 0 | JS18: 0 | JT18: 0 | JU18: 0 | JV18: 0 | JW18: 0 | JX18: 0 | JY18: 0 | JZ18: 0 | KA18: 0 | KB18: 0 | KC18: 0 | KD18: 0 | KE18: 0 | KF18: 0 | KG18: 0 | KH18: 0 | KI18: 0 | KJ18: 0 | KK18: 0 | KL18: 0 | KM18: 0 | KN18: 0 | KO18: 0 | KP18: 106 | KQ18: 0 | KR18: 0 | KS18: 0 | KT18: 0 | KU18: 0 | KV18: 0 | KW18: 0 | KX18: 106 | KY18: 0 | KZ18: 29 | LA18: 77 | LB18: 0 | LC18: 0 | LD18: 25416660 | LE18: 25416660
B19: 05 с тяжелыми нарушениями речи | C19: 174164 | D19: 273172 | E19: 312775 | F19: 352378 | G19: 421812 | H19: 132812 | I19: 198818 | J19: 225220 | K19: 251622 | L19: 297912 | N19: 2960 | O19: 4 | P19: 0 | Q19: 0 | R19: 4 | S19: 0 | T19: 0 | U19: 1251100 | V19: 2956 | W19: 0 | X19: 247 | Y19: 2664 | Z19: 22 | AA19: 23 | AB19: 661481786 | AC19: 662732886 | AD19: 15 | AE19: 0 | AF19: 0 | AG19: 0 | AH19: 0 | AI19: 0 | AJ19: 0 | AK19: 0 | AL19: 15 | AM19: 0 | AN19: 15 | AO19: 0 | AP19: 0 | AQ19: 0 | AR19: 2982270 | AS19: 2982270 | AT19: 0 | AU19: 0 | AV19: 0 | AW19: 0 | AX19: 0 | AY19: 0 | AZ19: 0 | BA19: 0 | BB19: 0 | BC19: 0 | BD19: 0 | BE19: 0 | BF19: 0 | BG19: 0 | BH19: 0 | BI19: 0 | BJ19: 0 | BK19: 0 | BL19: 0 | BM19: 0 | BN19: 0 | BO19: 0 | BP19: 0 | BQ19: 0 | BR19: 0 | BS19: 0 | BT19: 0 | BU19: 0 | BV19: 0 | BW19: 0 | BX19: 0 | BY19: 0 | BZ19: 381 | CA19: 0 | CB19: 0 | CC19: 0 | CD19: 0 | CE19: 0 | CF19: 0 | CG19: 0 | CH19: 381 | CI19: 0 | CJ19: 0 | CK19: 381 | CL19: 0 | CM19: 0 | CN19: 85808820 | CO19: 85808820 | CP19: 1404 | CQ19: 4 | CR19: 0 | CS19: 0 | CT19: 4 | CU19: 0 | CV19: 0 | CW19: 1251100 | CX19: 1400 | CY19: 0 | CZ19: 0 | DA19: 1355 | DB19: 22 | DC19: 23 | DD19: 317560760 | DE19: 318811860 | DF19: 262 | DG19: 0 | DH19: 0 | DI19: 0 | DJ19: 0 | DK19: 0 | DL19: 0 | DM19: 0 | DN19: 262 | DO19: 0 | DP19: 0 | DQ19: 262 | DR19: 0 | DS19: 0 | DT19: 59007640 | DU19: 59007640 | DV19: 15 | DW19: 0 | DX19: 0 | DY19: 0 | DZ19: 0 | EA19: 0 | EB19: 0 | EC19: 0 | ED19: 15 | EE19: 0 | EF19: 0 | EG19: 15 | EH19: 0 | EI19: 0 | EJ19: 3378300 | EK19: 3378300 | EL19: 57 | EM19: 0 | EN19: 0 | EO19: 0 | EP19: 0 | EQ19: 0 | ER19: 0 | ES19: 0 | ET19: 57 | EU19: 0 | EV19: 0 | EW19: 57 | EX19: 0 | EY19: 0 | EZ19: 12837540 | FA19: 12837540 | FB19: 12 | FC19: 0 | FD19: 0 | FE19: 0 | FF19: 0 | FG19: 0 | FH19: 0 | FI19: 0 | FJ19: 12 | FK19: 0 | FL19: 0 | FM19: 12 | FN19: 0 | FO19: 0 | FP19: 2702640 | FQ19: 2702640 | FR19: 82 | FS19: 0 | FT19: 0 | FU19: 0 | FV19: 0 | FW19: 0 | FX19: 0 | FY19: 0 | FZ19: 82 | GA19: 0 | GB19: 0 | GC19: 82 | GD19: 0 | GE19: 0 | GF19: 18468040 | GG19: 18468040 | GH19: 0 | GI19: 0 | GJ19: 0 | GK19: 0 | GL19: 0 | GM19: 0 | GN19: 0 | GO19: 0 | GP19: 0 | GQ19: 0 | GR19: 0 | GS19: 0 | GT19: 0 | GU19: 0 | GV19: 0 | GW19: 0 | GX19: 0 | GY19: 0 | GZ19: 0 | HA19: 0 | HB19: 0 | HC19: 0 | HD19: 0 | HE19: 0 | HF19: 0 | HG19: 0 | HH19: 0 | HI19: 0 | HJ19: 0 | HK19: 0 | HL19: 0 | HM19: 0 | HN19: 44 | HO19: 0 | HP19: 0 | HQ19: 0 | HR19: 0 | HS19: 0 | HT19: 0 | HU19: 0 | HV19: 44 | HW19: 0 | HX19: 0 | HY19: 44 | HZ19: 0 | IA19: 0 | IB19: 9909680 | IC19: 9909680 | ID19: 0 | IE19: 0 | IF19: 0 | IG19: 0 | IH19: 0 | II19: 0 | IJ19: 0 | IK19: 0 | IL19: 0 | IM19: 0 | IN19: 0 | IO19: 0 | IP19: 0 | IQ19: 0 | IR19: 0 | IS19: 0 | IT19: 0 | IU19: 0 | IV19: 0 | IW19: 0 | IX19: 0 | IY19: 0 | IZ19: 0 | JA19: 0 | JB19: 0 | JC19: 0 | JD19: 0 | JE19: 0 | JF19: 0 | JG19: 0 | JH19: 0 | JI19: 0 | JJ19: 0 | JK19: 0 | JL19: 0 | JM19: 0 | JN19: 0 | JO19: 0 | JP19: 0 | JQ19: 0 | JR19: 0 | JS19: 0 | JT19: 0 | JU19: 0 | JV19: 0 | JW19: 0 | JX19: 0 | JY19: 0 | JZ19: 160 | KA19: 0 | KB19: 0 | KC19: 0 | KD19: 0 | KE19: 0 | KF19: 0 | KG19: 0 | KH19: 160 | KI19: 0 | KJ19: 0 | KK19: 160 | KL19: 0 | KM19: 0 | KN19: 36035200 | KO19: 36035200 | KP19: 528 | KQ19: 0 | KR19: 0 | KS19: 0 | KT19: 0 | KU19: 0 | KV19: 0 | KW19: 0 | KX19: 528 | KY19: 0 | KZ19: 232 | LA19: 296 | LB19: 0 | LC19: 0 | LD19: 112790896 | LE19: 112790896
B20: 06 с фонетико-фонематическими нарушениями речи | C20: 0 | D20: 0 | E20: 0 | F20: 0 | G20: 0 | H20: 114043 | I20: 172283 | J20: 195579 | K20: 218875 | L20: 259719 | N20: 17 | O20: x | P20: x | Q20: x | R20: x | S20: x | T20: x | U20: x | V20: 17 | W20: 0 | X20: 0 | Y20: 17 | Z20: 0 | AA20: 0 | AB20: 3324843 | AC20: 3324843 | AD20: 0 | AE20: x | AF20: x | AG20: x | AH20: x | AI20: x | AJ20: x | AK20: x | AL20: 0 | AM20: 0 | AN20: 0 | AO20: 0 | AP20: 0 | AQ20: 0 | AR20: 0 | AT20: 0 | AU20: x | AV20: x | AW20: x | AX20: x | AY20: x | AZ20: x | BA20: x | BB20: 0 | BC20: 0 | BD20: 0 | BE20: 0 | BF20: 0 | BG20: 0 | BH20: 0 | BJ20: 0 | BK20: x | BL20: x | BM20: x | BN20: x | BO20: x | BP20: x | BQ20: x | BR20: 0 | BS20: 0 | BT20: 0 | BU20: 0 | BV20: 0 | BW20: 0 | BX20: 0 | BZ20: 0 | CA20: x | CB20: x | CC20: x | CD20: x | CE20: x | CF20: x | CG20: x | CH20: 0 | CI20: 0 | CJ20: 0 | CK20: 0 | CL20: 0 | CM20: 0 | CN20: 0 | CP20: 0 | CQ20: x | CR20: x | CS20: x | CT20: x | CU20: x | CV20: x | CW20: x | CX20: 0 | CY20: 0 | CZ20: 0 | DA20: 0 | DB20: 0 | DC20: 0 | DD20: 0 | DF20: 0 | DG20: x | DH20: x | DI20: x | DJ20: x | DK20: x | DL20: x | DM20: x | DN20: 0 | DO20: 0 | DP20: 0 | DQ20: 0 | DR20: 0 | DS20: 0 | DT20: 0 | DV20: 0 | DW20: x | DX20: x | DY20: x | DZ20: x | EA20: x | EB20: x | EC20: x | ED20: 0 | EE20: 0 | EF20: 0 | EG20: 0 | EH20: 0 | EI20: 0 | EJ20: 0 | EL20: 0 | EM20: x | EN20: x | EO20: x | EP20: x | EQ20: x | ER20: x | ES20: x | ET20: 0 | EU20: 0 | EV20: 0 | EW20: 0 | EX20: 0 | EY20: 0 | EZ20: 0 | FB20: 0 | FC20: x | FD20: x | FE20: x | FF20: x | FG20: x | FH20: x | FI20: x | FJ20: 0 | FK20: 0 | FL20: 0 | FM20: 0 | FN20: 0 | FO20: 0 | FP20: 0 | FR20: 0 | FS20: x | FT20: x | FU20: x | FV20: x | FW20: x | FX20: x | FY20: x | FZ20: 0 | GA20: 0 | GB20: 0 | GC20: 0 | GD20: 0 | GE20: 0 | GF20: 0 | GH20: 0 | GI20: x | GJ20: x | GK20: x | GL20: x | GM20: x | GN20: x | GO20: x | GP20: 0 | GQ20: 0 | GR20: 0 | GS20: 0 | GT20: 0 | GU20: 0 | GV20: 0 | GX20: 0 | GY20: x | GZ20: x | HA20: x | HB20: x | HC20: x | HD20: x | HE20: x | HF20: 0 | HG20: 0 | HH20: 0 | HI20: 0 | HJ20: 0 | HK20: 0 | HL20: 0 | HN20: 0 | HO20: x | HP20: x | HQ20: x | HR20: x | HS20: x | HT20: x | HU20: x | HV20: 0 | HW20: 0 | HX20: 0 | HY20: 0 | HZ20: 0 | IA20: 0 | IB20: 0 | ID20: 0 | IE20: x | IF20: x | IG20: x | IH20: x | II20: x | IJ20: x | IK20: x | IL20: 0 | IM20: 0 | IN20: 0 | IO20: 0 | IP20: 0 | IQ20: 0 | IR20: 0 | IT20: 0 | IU20: x | IV20: x | IW20: x | IX20: x | IY20: x | IZ20: x | JA20: x | JB20: 0 | JC20: 0 | JD20: 0 | JE20: 0 | JF20: 0 | JG20: 0 | JH20: 0 | JJ20: 0 | JK20: x | JL20: x | JM20: x | JN20: x | JO20: x | JP20: x | JQ20: x | JR20: 0 | JS20: 0 | JT20: 0 | JU20: 0 | JV20: 0 | JW20: 0 | JX20: 0 | JZ20: 17 | KA20: x | KB20: x | KC20: x | KD20: x | KE20: x | KF20: x | KG20: x | KH20: 17 | KI20: 0 | KJ20: 0 | KK20: 17 | KL20: 0 | KM20: 0 | KN20: 3324843 | KP20: 0 | KQ20: x | KR20: x | KS20: x | KT20: x | KU20: x | KV20: x | KW20: x | KX20: 0 | KY20: 0 | KZ20: 0 | LA20: 0 | LB20: 0 | LC20: 0 | LD20: 0
B21: 07 с нарушениями опорно-двигательного аппарата | C21: 299418 | D21: 398426 | E21: 438029 | F21: 477632 | G21: 547066 | H21: 313533 | I21: 412541 | J21: 452144 | K21: 491747 | L21: 561182 | N21: 1 | O21: 0 | P21: 0 | Q21: 0 | R21: 0 | S21: 0 | T21: 0 | U21: 0 | V21: 1 | W21: 0 | X21: 0 | Y21: 1 | Z21: 0 | AA21: 0 | AB21: 452144 | AC21: 452144 | AD21: 0 | AE21: 0 | AF21: 0 | AG21: 0 | AH21: 0 | AI21: 0 | AJ21: 0 | AK21: 0 | AL21: 0 | AM21: 0 | AN21: 0 | AO21: 0 | AP21: 0 | AQ21: 0 | AR21: 0 | AS21: 0 | AT21: 0 | AU21: 0 | AV21: 0 | AW21: 0 | AX21: 0 | AY21: 0 | AZ21: 0 | BA21: 0 | BB21: 0 | BC21: 0 | BD21: 0 | BE21: 0 | BF21: 0 | BG21: 0 | BH21: 0 | BI21: 0 | BJ21: 0 | BK21: 0 | BL21: 0 | BM21: 0 | BN21: 0 | BO21: 0 | BP21: 0 | BQ21: 0 | BR21: 0 | BS21: 0 | BT21: 0 | BU21: 0 | BV21: 0 | BW21: 0 | BX21: 0 | BY21: 0 | BZ21: 0 | CA21: 0 | CB21: 0 | CC21: 0 | CD21: 0 | CE21: 0 | CF21: 0 | CG21: 0 | CH21: 0 | CI21: 0 | CJ21: 0 | CK21: 0 | CL21: 0 | CM21: 0 | CN21: 0 | CO21: 0 | CP21: 0 | CQ21: 0 | CR21: 0 | CS21: 0 | CT21: 0 | CU21: 0 | CV21: 0 | CW21: 0 | CX21: 0 | CY21: 0 | CZ21: 0 | DA21: 0 | DB21: 0 | DC21: 0 | DD21: 0 | DE21: 0 | DF21: 0 | DG21: 0 | DH21: 0 | DI21: 0 | DJ21: 0 | DK21: 0 | DL21: 0 | DM21: 0 | DN21: 0 | DO21: 0 | DP21: 0 | DQ21: 0 | DR21: 0 | DS21: 0 | DT21: 0 | DU21: 0 | DV21: 1 | DW21: 0 | DX21: 0 | DY21: 0 | DZ21: 0 | EA21: 0 | EB21: 0 | EC21: 0 | ED21: 1 | EE21: 0 | EF21: 0 | EG21: 1 | EH21: 0 | EI21: 0 | EJ21: 452144 | EK21: 452144 | EL21: 0 | EM21: 0 | EN21: 0 | EO21: 0 | EP21: 0 | EQ21: 0 | ER21: 0 | ES21: 0 | ET21: 0 | EU21: 0 | EV21: 0 | EW21: 0 | EX21: 0 | EY21: 0 | EZ21: 0 | FA21: 0 | FB21: 0 | FC21: 0 | FD21: 0 | FE21: 0 | FF21: 0 | FG21: 0 | FH21: 0 | FI21: 0 | FJ21: 0 | FK21: 0 | FL21: 0 | FM21: 0 | FN21: 0 | FO21: 0 | FP21: 0 | FQ21: 0 | FR21: 0 | FS21: 0 | FT21: 0 | FU21: 0 | FV21: 0 | FW21: 0 | FX21: 0 | FY21: 0 | FZ21: 0 | GA21: 0 | GB21: 0 | GC21: 0 | GD21: 0 | GE21: 0 | GF21: 0 | GG21: 0 | GH21: 0 | GI21: 0 | GJ21: 0 | GK21: 0 | GL21: 0 | GM21: 0 | GN21: 0 | GO21: 0 | GP21: 0 | GQ21: 0 | GR21: 0 | GS21: 0 | GT21: 0 | GU21: 0 | GV21: 0 | GW21: 0 | GX21: 0 | GY21: 0 | GZ21: 0 | HA21: 0 | HB21: 0 | HC21: 0 | HD21: 0 | HE21: 0 | HF21: 0 | HG21: 0 | HH21: 0 | HI21: 0 | HJ21: 0 | HK21: 0 | HL21: 0 | HM21: 0 | HN21: 0 | HO21: 0 | HP21: 0 | HQ21: 0 | HR21: 0 | HS21: 0 | HT21: 0 | HU21: 0 | HV21: 0 | HW21: 0 | HX21: 0 | HY21: 0 | HZ21: 0 | IA21: 0 | IB21: 0 | IC21: 0 | ID21: 0 | IE21: 0 | IF21: 0 | IG21: 0 | IH21: 0 | II21: 0 | IJ21: 0 | IK21: 0 | IL21: 0 | IM21: 0 | IN21: 0 | IO21: 0 | IP21: 0 | IQ21: 0 | IR21: 0 | IS21: 0 | IT21: 0 | IU21: 0 | IV21: 0 | IW21: 0 | IX21: 0 | IY21: 0 | IZ21: 0 | JA21: 0 | JB21: 0 | JC21: 0 | JD21: 0 | JE21: 0 | JF21: 0 | JG21: 0 | JH21: 0 | JI21: 0 | JJ21: 0 | JK21: 0 | JL21: 0 | JM21: 0 | JN21: 0 | JO21: 0 | JP21: 0 | JQ21: 0 | JR21: 0 | JS21: 0 | JT21: 0 | JU21: 0 | JV21: 0 | JW21: 0 | JX21: 0 | JY21: 0 | JZ21: 0 | KA21: 0 | KB21: 0 | KC21: 0 | KD21: 0 | KE21: 0 | KF21: 0 | KG21: 0 | KH21: 0 | KI21: 0 | KJ21: 0 | KK21: 0 | KL21: 0 | KM21: 0 | KN21: 0 | KO21: 0 | KP21: 0 | KQ21: 0 | KR21: 0 | KS21: 0 | KT21: 0 | KU21: 0 | KV21: 0 | KW21: 0 | KX21: 0 | KY21: 0 | KZ21: 0 | LA21: 0 | LB21: 0 | LC21: 0 | LD21: 0 | LE21: 0
B22: 08 с задержкой психического развития | C22: 391997 | D22: 491005 | E22: 530608 | F22: 570211 | G22: 639645 | H22: 242180 | I22: 300420 | J22: 323716 | K22: 347012 | L22: 387856 | N22: 803 | O22: 30 | P22: 0 | Q22: 0 | R22: 30 | S22: 0 | T22: 0 | U22: 15918240 | V22: 773 | W22: 0 | X22: 15 | Y22: 691 | Z22: 0 | AA22: 67 | AB22: 254180408 | AC22: 270098648 | AD22: 0 | AE22: 0 | AF22: 0 | AG22: 0 | AH22: 0 | AI22: 0 | AJ22: 0 | AK22: 0 | AL22: 0 | AM22: 0 | AN22: 0 | AO22: 0 | AP22: 0 | AQ22: 0 | AR22: 0 | AS22: 0 | AT22: 0 | AU22: 0 | AV22: 0 | AW22: 0 | AX22: 0 | AY22: 0 | AZ22: 0 | BA22: 0 | BB22: 0 | BC22: 0 | BD22: 0 | BE22: 0 | BF22: 0 | BG22: 0 | BH22: 0 | BI22: 0 | BJ22: 0 | BK22: 0 | BL22: 0 | BM22: 0 | BN22: 0 | BO22: 0 | BP22: 0 | BQ22: 0 | BR22: 0 | BS22: 0 | BT22: 0 | BU22: 0 | BV22: 0 | BW22: 0 | BX22: 0 | BY22: 0 | BZ22: 441 | CA22: 0 | CB22: 0 | CC22: 0 | CD22: 0 | CE22: 0 | CF22: 0 | CG22: 0 | CH22: 441 | CI22: 0 | CJ22: 0 | CK22: 441 | CL22: 0 | CM22: 0 | CN22: 142758756 | CO22: 142758756 | CP22: 189 | CQ22: 0 | CR22: 0 | CS22: 0 | CT22: 0 | CU22: 0 | CV22: 0 | CW22: 0 | CX22: 189 | CY22: 0 | CZ22: 0 | DA22: 189 | DB22: 0 | DC22: 0 | DD22: 61182324 | DE22: 61182324 | DF22: 106 | DG22: 0 | DH22: 0 | DI22: 0 | DJ22: 0 | DK22: 0 | DL22: 0 | DM22: 0 | DN22: 106 | DO22: 0 | DP22: 0 | DQ22: 39 | DR22: 0 | DS22: 67 | DT22: 38611276 | DU22: 38611276 | DV22: 0 | DW22: 0 | DX22: 0 | DY22: 0 | DZ22: 0 | EA22: 0 | EB22: 0 | EC22: 0 | ED22: 0 | EE22: 0 | EF22: 0 | EG22: 0 | EH22: 0 | EI22: 0 | EJ22: 0 | EK22: 0 | EL22: 0 | EM22: 0 | EN22: 0 | EO22: 0 | EP22: 0 | EQ22: 0 | ER22: 0 | ES22: 0 | ET22: 0 | EU22: 0 | EV22: 0 | EW22: 0 | EX22: 0 | EY22: 0 | EZ22: 0 | FA22: 0 | FB22: 0 | FC22: 0 | FD22: 0 | FE22: 0 | FF22: 0 | FG22: 0 | FH22: 0 | FI22: 0 | FJ22: 0 | FK22: 0 | FL22: 0 | FM22: 0 | FN22: 0 | FO22: 0 | FP22: 0 | FQ22: 0 | FR22: 0 | FS22: 0 | FT22: 0 | FU22: 0 | FV22: 0 | FW22: 0 | FX22: 0 | FY22: 0 | FZ22: 0 | GA22: 0 | GB22: 0 | GC22: 0 | GD22: 0 | GE22: 0 | GF22: 0 | GG22: 0 | GH22: 0 | GI22: 0 | GJ22: 0 | GK22: 0 | GL22: 0 | GM22: 0 | GN22: 0 | GO22: 0 | GP22: 0 | GQ22: 0 | GR22: 0 | GS22: 0 | GT22: 0 | GU22: 0 | GV22: 0 | GW22: 0 | GX22: 0 | GY22: 0 | GZ22: 0 | HA22: 0 | HB22: 0 | HC22: 0 | HD22: 0 | HE22: 0 | HF22: 0 | HG22: 0 | HH22: 0 | HI22: 0 | HJ22: 0 | HK22: 0 | HL22: 0 | HM22: 0 | HN22: 0 | HO22: 0 | HP22: 0 | HQ22: 0 | HR22: 0 | HS22: 0 | HT22: 0 | HU22: 0 | HV22: 0 | HW22: 0 | HX22: 0 | HY22: 0 | HZ22: 0 | IA22: 0 | IB22: 0 | IC22: 0 | ID22: 0 | IE22: 0 | IF22: 0 | IG22: 0 | IH22: 0 | II22: 0 | IJ22: 0 | IK22: 0 | IL22: 0 | IM22: 0 | IN22: 0 | IO22: 0 | IP22: 0 | IQ22: 0 | IR22: 0 | IS22: 0 | IT22: 0 | IU22: 0 | IV22: 0 | IW22: 0 | IX22: 0 | IY22: 0 | IZ22: 0 | JA22: 0 | JB22: 0 | JC22: 0 | JD22: 0 | JE22: 0 | JF22: 0 | JG22: 0 | JH22: 0 | JI22: 0 | JJ22: 0 | JK22: 0 | JL22: 0 | JM22: 0 | JN22: 0 | JO22: 0 | JP22: 0 | JQ22: 0 | JR22: 0 | JS22: 0 | JT22: 0 | JU22: 0 | JV22: 0 | JW22: 0 | JX22: 0 | JY22: 0 | JZ22: 22 | KA22: 0 | KB22: 0 | KC22: 0 | KD22: 0 | KE22: 0 | KF22: 0 | KG22: 0 | KH22: 22 | KI22: 0 | KJ22: 0 | KK22: 22 | KL22: 0 | KM22: 0 | KN22: 7121752 | KO22: 7121752 | KP22: 45 | KQ22: 30 | KR22: 0 | KS22: 0 | KT22: 30 | KU22: 0 | KV22: 0 | KW22: 15918240 | KX22: 15 | KY22: 0 | KZ22: 15 | LA22: 0 | LB22: 0 | LC22: 0 | LD22: 4506300 | LE22: 20424540
B23: 09 с расстройствами аутического спектора (аутизм) | C23: 206839 | D23: 305847 | E23: 345450 | F23: 385053 | G23: 454487 | H23: 220954 | I23: 319962 | J23: 359565 | K23: 399169 | L23: 468603 | N23: 0 | O23: 0 | P23: 0 | Q23: 0 | R23: 0 | S23: 0 | T23: 0 | U23: 0 | V23: 0 | W23: 0 | X23: 0 | Y23: 0 | Z23: 0 | AA23: 0 | AB23: 0 | AC23: 0 | AD23: 0 | AE23: 0 | AF23: 0 | AG23: 0 | AH23: 0 | AI23: 0 | AJ23: 0 | AK23: 0 | AL23: 0 | AM23: 0 | AN23: 0 | AO23: 0 | AP23: 0 | AQ23: 0 | AR23: 0 | AT23: 0 | AU23: 0 | AV23: 0 | AW23: 0 | AX23: 0 | AY23: 0 | AZ23: 0 | BA23: 0 | BB23: 0 | BC23: 0 | BD23: 0 | BE23: 0 | BF23: 0 | BG23: 0 | BH23: 0 | BJ23: 0 | BK23: 0 | BL23: 0 | BM23: 0 | BN23: 0 | BO23: 0 | BP23: 0 | BQ23: 0 | BR23: 0 | BS23: 0 | BT23: 0 | BU23: 0 | BV23: 0 | BW23: 0 | BX23: 0 | BZ23: 0 | CA23: 0 | CB23: 0 | CC23: 0 | CD23: 0 | CE23: 0 | CF23: 0 | CG23: 0 | CH23: 0 | CI23: 0 | CJ23: 0 | CK23: 0 | CL23: 0 | CM23: 0 | CN23: 0 | CP23: 0 | CQ23: 0 | CR23: 0 | CS23: 0 | CT23: 0 | CU23: 0 | CV23: 0 | CW23: 0 | CX23: 0 | CY23: 0 | CZ23: 0 | DA23: 0 | DB23: 0 | DC23: 0 | DD23: 0 | DF23: 0 | DG23: 0 | DH23: 0 | DI23: 0 | DJ23: 0 | DK23: 0 | DL23: 0 | DM23: 0 | DN23: 0 | DO23: 0 | DP23: 0 | DQ23: 0 | DR23: 0 | DS23: 0 | DT23: 0 | DV23: 0 | DW23: 0 | DX23: 0 | DY23: 0 | DZ23: 0 | EA23: 0 | EB23: 0 | EC23: 0 | ED23: 0 | EE23: 0 | EF23: 0 | EG23: 0 | EH23: 0 | EI23: 0 | EJ23: 0 | EL23: 0 | EM23: 0 | EN23: 0 | EO23: 0 | EP23: 0 | EQ23: 0 | ER23: 0 | ES23: 0 | ET23: 0 | EU23: 0 | EV23: 0 | EW23: 0 | EX23: 0 | EY23: 0 | EZ23: 0 | FB23: 0 | FC23: 0 | FD23: 0 | FE23: 0 | FF23: 0 | FG23: 0 | FH23: 0 | FI23: 0 | FJ23: 0 | FK23: 0 | FL23: 0 | FM23: 0 | FN23: 0 | FO23: 0 | FP23: 0 | FR23: 0 | FS23: 0 | FT23: 0 | FU23: 0 | FV23: 0 | FW23: 0 | FX23: 0 | FY23: 0 | FZ23: 0 | GA23: 0 | GB23: 0 | GC23: 0 | GD23: 0 | GE23: 0 | GF23: 0 | GH23: 0 | GI23: 0 | GJ23: 0 | GK23: 0 | GL23: 0 | GM23: 0 | GN23: 0 | GO23: 0 | GP23: 0 | GQ23: 0 | GR23: 0 | GS23: 0 | GT23: 0 | GU23: 0 | GV23: 0 | GX23: 0 | GY23: 0 | GZ23: 0 | HA23: 0 | HB23: 0 | HC23: 0 | HD23: 0 | HE23: 0 | HF23: 0 | HG23: 0 | HH23: 0 | HI23: 0 | HJ23: 0 | HK23: 0 | HL23: 0 | HN23: 0 | HO23: 0 | HP23: 0 | HQ23: 0 | HR23: 0 | HS23: 0 | HT23: 0 | HU23: 0 | HV23: 0 | HW23: 0 | HX23: 0 | HY23: 0 | HZ23: 0 | IA23: 0 | IB23: 0 | ID23: 0 | IE23: 0 | IF23: 0 | IG23: 0 | IH23: 0 | II23: 0 | IJ23: 0 | IK23: 0 | IL23: 0 | IM23: 0 | IN23: 0 | IO23: 0 | IP23: 0 | IQ23: 0 | IR23: 0 | IT23: 0 | IU23: 0 | IV23: 0 | IW23: 0 | IX23: 0 | IY23: 0 | IZ23: 0 | JA23: 0 | JB23: 0 | JC23: 0 | JD23: 0 | JE23: 0 | JF23: 0 | JG23: 0 | JH23: 0 | JJ23: 0 | JK23: 0 | JL23: 0 | JM23: 0 | JN23: 0 | JO23: 0 | JP23: 0 | JQ23: 0 | JR23: 0 | JS23: 0 | JT23: 0 | JU23: 0 | JV23: 0 | JW23: 0 | JX23: 0 | JZ23: 0 | KA23: 0 | KB23: 0 | KC23: 0 | KD23: 0 | KE23: 0 | KF23: 0 | KG23: 0 | KH23: 0 | KI23: 0 | KJ23: 0 | KK23: 0 | KL23: 0 | KM23: 0 | KN23: 0 | KP23: 0 | KQ23: 0 | KR23: 0 | KS23: 0 | KT23: 0 | KU23: 0 | KV23: 0 | KW23: 0 | KX23: 0 | KY23: 0 | KZ23: 0 | LA23: 0 | LB23: 0 | LC23: 0 | LD23: 0
B24: 10 с умственной отсталостью (легкая степень) | C24: 299418 | D24: 398426 | E24: 438029 | F24: 477632 | G24: 547066 | H24: 211686 | I24: 277691 | J24: 304094 | K24: 330496 | L24: 376785 | N24: 12 | O24: 0 | P24: 0 | Q24: 0 | R24: 0 | S24: 0 | T24: 0 | U24: 0 | V24: 12 | W24: 0 | X24: 0 | Y24: 12 | Z24: 0 | AA24: 0 | AB24: 3649128 | AC24: 3649128 | AD24: 0 | AE24: 0 | AF24: 0 | AG24: 0 | AH24: 0 | AI24: 0 | AJ24: 0 | AK24: 0 | AL24: 0 | AM24: 0 | AN24: 0 | AO24: 0 | AP24: 0 | AQ24: 0 | AR24: 0 | AS24: 0 | AT24: 0 | AU24: 0 | AV24: 0 | AW24: 0 | AX24: 0 | AY24: 0 | AZ24: 0 | BA24: 0 | BB24: 0 | BC24: 0 | BD24: 0 | BE24: 0 | BF24: 0 | BG24: 0 | BH24: 0 | BI24: 0 | BJ24: 0 | BK24: 0 | BL24: 0 | BM24: 0 | BN24: 0 | BO24: 0 | BP24: 0 | BQ24: 0 | BR24: 0 | BS24: 0 | BT24: 0 | BU24: 0 | BV24: 0 | BW24: 0 | BX24: 0 | BY24: 0 | BZ24: 0 | CA24: 0 | CB24: 0 | CC24: 0 | CD24: 0 | CE24: 0 | CF24: 0 | CG24: 0 | CH24: 0 | CI24: 0 | CJ24: 0 | CK24: 0 | CL24: 0 | CM24: 0 | CN24: 0 | CO24: 0 | CP24: 0 | CQ24: 0 | CR24: 0 | CS24: 0 | CT24: 0 | CU24: 0 | CV24: 0 | CW24: 0 | CX24: 0 | CY24: 0 | CZ24: 0 | DA24: 0 | DB24: 0 | DC24: 0 | DD24: 0 | DE24: 0 | DF24: 0 | DG24: 0 | DH24: 0 | DI24: 0 | DJ24: 0 | DK24: 0 | DL24: 0 | DM24: 0 | DN24: 0 | DO24: 0 | DP24: 0 | DQ24: 0 | DR24: 0 | DS24: 0 | DT24: 0 | DU24: 0 | DV24: 0 | DW24: 0 | DX24: 0 | DY24: 0 | DZ24: 0 | EA24: 0 | EB24: 0 | EC24: 0 | ED24: 0 | EE24: 0 | EF24: 0 | EG24: 0 | EH24: 0 | EI24: 0 | EJ24: 0 | EK24: 0 | EL24: 0 | EM24: 0 | EN24: 0 | EO24: 0 | EP24: 0 | EQ24: 0 | ER24: 0 | ES24: 0 | ET24: 0 | EU24: 0 | EV24: 0 | EW24: 0 | EX24: 0 | EY24: 0 | EZ24: 0 | FA24: 0 | FB24: 0 | FC24: 0 | FD24: 0 | FE24: 0 | FF24: 0 | FG24: 0 | FH24: 0 | FI24: 0 | FJ24: 0 | FK24: 0 | FL24: 0 | FM24: 0 | FN24: 0 | FO24: 0 | FP24: 0 | FQ24: 0 | FR24: 0 | FS24: 0 | FT24: 0 | FU24: 0 | FV24: 0 | FW24: 0 | FX24: 0 | FY24: 0 | FZ24: 0 | GA24: 0 | GB24: 0 | GC24: 0 | GD24: 0 | GE24: 0 | GF24: 0 | GG24: 0 | GH24: 0 | GI24: 0 | GJ24: 0 | GK24: 0 | GL24: 0 | GM24: 0 | GN24: 0 | GO24: 0 | GP24: 0 | GQ24: 0 | GR24: 0 | GS24: 0 | GT24: 0 | GU24: 0 | GV24: 0 | GW24: 0 | GX24: 0 | GY24: 0 | GZ24: 0 | HA24: 0 | HB24: 0 | HC24: 0 | HD24: 0 | HE24: 0 | HF24: 0 | HG24: 0 | HH24: 0 | HI24: 0 | HJ24: 0 | HK24: 0 | HL24: 0 | HM24: 0 | HN24: 0 | HO24: 0 | HP24: 0 | HQ24: 0 | HR24: 0 | HS24: 0 | HT24: 0 | HU24: 0 | HV24: 0 | HW24: 0 | HX24: 0 | HY24: 0 | HZ24: 0 | IA24: 0 | IB24: 0 | IC24: 0 | ID24: 0 | IE24: 0 | IF24: 0 | IG24: 0 | IH24: 0 | II24: 0 | IJ24: 0 | IK24: 0 | IL24: 0 | IM24: 0 | IN24: 0 | IO24: 0 | IP24: 0 | IQ24: 0 | IR24: 0 | IS24: 0 | IT24: 12 | IU24: 0 | IV24: 0 | IW24: 0 | IX24: 0 | IY24: 0 | IZ24: 0 | JA24: 0 | JB24: 12 | JC24: 0 | JD24: 0 | JE24: 12 | JF24: 0 | JG24: 0 | JH24: 3649128 | JI24: 3649128 | JJ24: 0 | JK24: 0 | JL24: 0 | JM24: 0 | JN24: 0 | JO24: 0 | JP24: 0 | JQ24: 0 | JR24: 0 | JS24: 0 | JT24: 0 | JU24: 0 | JV24: 0 | JW24: 0 | JX24: 0 | JY24: 0 | JZ24: 0 | KA24: 0 | KB24: 0 | KC24: 0 | KD24: 0 | KE24: 0 | KF24: 0 | KG24: 0 | KH24: 0 | KI24: 0 | KJ24: 0 | KK24: 0 | KL24: 0 | KM24: 0 | KN24: 0 | KO24: 0 | KP24: 0 | KQ24: 0 | KR24: 0 | KS24: 0 | KT24: 0 | KU24: 0 | KV24: 0 | KW24: 0 | KX24: 0 | KY24: 0 | KZ24: 0 | LA24: 0 | LB24: 0 | LC24: 0 | LD24: 0 | LE24: 0
B25: 11 с умственной отсталостью (умеренная, тяжелая степень) | C25: 0 | D25: 0 | E25: 0 | F25: 0 | G25: 0 | H25: 313533 | I25: 412541 | J25: 452144 | K25: 491747 | L25: 561182 | N25: 0 | O25: x | P25: x | Q25: x | R25: x | S25: x | T25: x | U25: x | V25: 0 | W25: 0 | X25: 0 | Y25: 0 | Z25: 0 | AA25: 0 | AB25: 0 | AC25: 0 | AD25: 0 | AE25: x | AF25: x | AG25: x | AH25: x | AI25: x | AJ25: x | AK25: x | AL25: 0 | AM25: 0 | AN25: 0 | AO25: 0 | AP25: 0 | AQ25: 0 | AR25: 0 | AS25: 0 | AT25: 0 | AU25: x | AV25: x | AW25: x | AX25: x | AY25: x | AZ25: x | BA25: x | BB25: 0 | BC25: 0 | BD25: 0 | BE25: 0 | BF25: 0 | BG25: 0 | BH25: 0 | BI25: 0 | BJ25: 0 | BK25: x | BL25: x | BM25: x | BN25: x | BO25: x | BP25: x | BQ25: x | BR25: 0 | BS25: 0 | BT25: 0 | BU25: 0 | BV25: 0 | BW25: 0 | BX25: 0 | BY25: 0 | BZ25: 0 | CA25: x | CB25: x | CC25: x | CD25: x | CE25: x | CF25: x | CG25: x | CH25: 0 | CI25: 0 | CJ25: 0 | CK25: 0 | CL25: 0 | CM25: 0 | CN25: 0 | CO25: 0 | CP25: 0 | CQ25: x | CR25: x | CS25: x | CT25: x | CU25: x | CV25: x | CW25: x | CX25: 0 | CY25: 0 | CZ25: 0 | DA25: 0 | DB25: 0 | DC25: 0 | DD25: 0 | DE25: 0 | DF25: 0 | DG25: x | DH25: x | DI25: x | DJ25: x | DK25: x | DL25: x | DM25: x | DN25: 0 | DO25: 0 | DP25: 0 | DQ25: 0 | DR25: 0 | DS25: 0 | DT25: 0 | DU25: 0 | DV25: 0 | DW25: x | DX25: x | DY25: x | DZ25: x | EA25: x | EB25: x | EC25: x | ED25: 0 | EE25: 0 | EF25: 0 | EG25: 0 | EH25: 0 | EI25: 0 | EJ25: 0 | EK25: 0 | EL25: 0 | EM25: x | EN25: x | EO25: x | EP25: x | EQ25: x | ER25: x | ES25: x | ET25: 0 | EU25: 0 | EV25: 0 | EW25: 0 | EX25: 0 | EY25: 0 | EZ25: 0 | FA25: 0 | FB25: 0 | FC25: x | FD25: x | FE25: x | FF25: x | FG25: x | FH25: x | FI25: x | FJ25: 0 | FK25: 0 | FL25: 0 | FM25: 0 | FN25: 0 | FO25: 0 | FP25: 0 | FQ25: 0 | FR25: 0 | FS25: x | FT25: x | FU25: x | FV25: x | FW25: x | FX25: x | FY25: x | FZ25: 0 | GA25: 0 | GB25: 0 | GC25: 0 | GD25: 0 | GE25: 0 | GF25: 0 | GG25: 0 | GH25: 0 | GI25: x | GJ25: x | GK25: x | GL25: x | GM25: x | GN25: x | GO25: x | GP25: 0 | GQ25: 0 | GR25: 0 | GS25: 0 | GT25: 0 | GU25: 0 | GV25: 0 | GW25: 0 | GX25: 0 | GY25: x | GZ25: x | HA25: x | HB25: x | HC25: x | HD25: x | HE25: x | HF25: 0 | HG25: 0 | HH25: 0 | HI25: 0 | HJ25: 0 | HK25: 0 | HL25: 0 | HM25: 0 | HN25: 0 | HO25: x | HP25: x | HQ25: x | HR25: x | HS25: x | HT25: x | HU25: x | HV25: 0 | HW25: 0 | HX25: 0 | HY25: 0 | HZ25: 0 | IA25: 0 | IB25: 0 | IC25: 0 | ID25: 0 | IE25: x | IF25: x | IG25: x | IH25: x | II25: x | IJ25: x | IK25: x | IL25: 0 | IM25: 0 | IN25: 0 | IO25: 0 | IP25: 0 | IQ25: 0 | IR25: 0 | IS25: 0 | IT25: 0 | IU25: x | IV25: x | IW25: x | IX25: x | IY25: x | IZ25: x | JA25: x | JB25: 0 | JC25: 0 | JD25: 0 | JE25: 0 | JF25: 0 | JG25: 0 | JH25: 0 | JI25: 0 | JJ25: 0 | JK25: x | JL25: x | JM25: x | JN25: x | JO25: x | JP25: x | JQ25: x | JR25: 0 | JS25: 0 | JT25: 0 | JU25: 0 | JV25: 0 | JW25: 0 | JX25: 0 | JY25: 0 | JZ25: 0 | KA25: x | KB25: x | KC25: x | KD25: x | KE25: x | KF25: x | KG25: x | KH25: 0 | KI25: 0 | KJ25: 0 | KK25: 0 | KL25: 0 | KM25: 0 | KN25: 0 | KO25: 0 | KP25: 0 | KQ25: x | KR25: x | KS25: x | KT25: x | KU25: x | KV25: x | KW25: x | KX25: 0 | KY25: 0 | KZ25: 0 | LA25: 0 | LB25: 0 | LC25: 0 | LD25: 0 | LE25: 0
B26: 12 со сложным дефектом (несколько недостатков в развитии) | C26: 299418 | D26: 398426 | E26: 438029 | F26: 477632 | G26: 547066 | H26: 313533 | I26: 412541 | J26: 452144 | K26: 491747 | L26: 561182 | N26: 23 | O26: 0 | P26: 0 | Q26: 0 | R26: 0 | S26: 0 | T26: 0 | U26: 0 | V26: 23 | W26: 0 | X26: 0 | Y26: 23 | Z26: 0 | AA26: 0 | AB26: 10399312 | AC26: 10399312 | AD26: 0 | AE26: 0 | AF26: 0 | AG26: 0 | AH26: 0 | AI26: 0 | AJ26: 0 | AK26: 0 | AL26: 0 | AM26: 0 | AN26: 0 | AO26: 0 | AP26: 0 | AQ26: 0 | AR26: 0 | AS26: 0 | AT26: 0 | AU26: 0 | AV26: 0 | AW26: 0 | AX26: 0 | AY26: 0 | AZ26: 0 | BA26: 0 | BB26: 0 | BC26: 0 | BD26: 0 | BE26: 0 | BF26: 0 | BG26: 0 | BH26: 0 | BI26: 0 | BJ26: 0 | BK26: 0 | BL26: 0 | BM26: 0 | BN26: 0 | BO26: 0 | BP26: 0 | BQ26: 0 | BR26: 0 | BS26: 0 | BT26: 0 | BU26: 0 | BV26: 0 | BW26: 0 | BX26: 0 | BY26: 0 | BZ26: 0 | CA26: 0 | CB26: 0 | CC26: 0 | CD26: 0 | CE26: 0 | CF26: 0 | CG26: 0 | CH26: 0 | CI26: 0 | CJ26: 0 | CK26: 0 | CL26: 0 | CM26: 0 | CN26: 0 | CO26: 0 | CP26: 23 | CQ26: 0 | CR26: 0 | CS26: 0 | CT26: 0 | CU26: 0 | CV26: 0 | CW26: 0 | CX26: 23 | CY26: 0 | CZ26: 0 | DA26: 23 | DB26: 0 | DC26: 0 | DD26: 10399312 | DE26: 10399312 | DF26: 0 | DG26: 0 | DH26: 0 | DI26: 0 | DJ26: 0 | DK26: 0 | DL26: 0 | DM26: 0 | DN26: 0 | DO26: 0 | DP26: 0 | DQ26: 0 | DR26: 0 | DS26: 0 | DT26: 0 | DU26: 0 | DV26: 0 | DW26: 0 | DX26: 0 | DY26: 0 | DZ26: 0 | EA26: 0 | EB26: 0 | EC26: 0 | ED26: 0 | EE26: 0 | EF26: 0 | EG26: 0 | EH26: 0 | EI26: 0 | EJ26: 0 | EK26: 0 | EL26: 0 | EM26: 0 | EN26: 0 | EO26: 0 | EP26: 0 | EQ26: 0 | ER26: 0 | ES26: 0 | ET26: 0 | EU26: 0 | EV26: 0 | EW26: 0 | EX26: 0 | EY26: 0 | EZ26: 0 | FA26: 0 | FB26: 0 | FC26: 0 | FD26: 0 | FE26: 0 | FF26: 0 | FG26: 0 | FH26: 0 | FI26: 0 | FJ26: 0 | FK26: 0 | FL26: 0 | FM26: 0 | FN26: 0 | FO26: 0 | FP26: 0 | FQ26: 0 | FR26: 0 | FS26: 0 | FT26: 0 | FU26: 0 | FV26: 0 | FW26: 0 | FX26: 0 | FY26: 0 | FZ26: 0 | GA26: 0 | GB26: 0 | GC26: 0 | GD26: 0 | GE26: 0 | GF26: 0 | GG26: 0 | GH26: 0 | GI26: 0 | GJ26: 0 | GK26: 0 | GL26: 0 | GM26: 0 | GN26: 0 | GO26: 0 | GP26: 0 | GQ26: 0 | GR26: 0 | GS26: 0 | GT26: 0 | GU26: 0 | GV26: 0 | GW26: 0 | GX26: 0 | GY26: 0 | GZ26: 0 | HA26: 0 | HB26: 0 | HC26: 0 | HD26: 0 | HE26: 0 | HF26: 0 | HG26: 0 | HH26: 0 | HI26: 0 | HJ26: 0 | HK26: 0 | HL26: 0 | HM26: 0 | HN26: 0 | HO26: 0 | HP26: 0 | HQ26: 0 | HR26: 0 | HS26: 0 | HT26: 0 | HU26: 0 | HV26: 0 | HW26: 0 | HX26: 0 | HY26: 0 | HZ26: 0 | IA26: 0 | IB26: 0 | IC26: 0 | ID26: 0 | IE26: 0 | IF26: 0 | IG26: 0 | IH26: 0 | II26: 0 | IJ26: 0 | IK26: 0 | IL26: 0 | IM26: 0 | IN26: 0 | IO26: 0 | IP26: 0 | IQ26: 0 | IR26: 0 | IS26: 0 | IT26: 0 | IU26: 0 | IV26: 0 | IW26: 0 | IX26: 0 | IY26: 0 | IZ26: 0 | JA26: 0 | JB26: 0 | JC26: 0 | JD26: 0 | JE26: 0 | JF26: 0 | JG26: 0 | JH26: 0 | JI26: 0 | JJ26: 0 | JK26: 0 | JL26: 0 | JM26: 0 | JN26: 0 | JO26: 0 | JP26: 0 | JQ26: 0 | JR26: 0 | JS26: 0 | JT26: 0 | JU26: 0 | JV26: 0 | JW26: 0 | JX26: 0 | JY26: 0 | JZ26: 0 | KA26: 0 | KB26: 0 | KC26: 0 | KD26: 0 | KE26: 0 | KF26: 0 | KG26: 0 | KH26: 0 | KI26: 0 | KJ26: 0 | KK26: 0 | KL26: 0 | KM26: 0 | KN26: 0 | KO26: 0 | KP26: 0 | KQ26: 0 | KR26: 0 | KS26: 0 | KT26: 0 | KU26: 0 | KV26: 0 | KW26: 0 | KX26: 0 | KY26: 0 | KZ26: 0 | LA26: 0 | LB26: 0 | LC26: 0 | LD26: 0 | LE26: 0
B27: 13 с иными ОВЗ | C27: 141489 | D27: 240497 | E27: 280100 | F27: 319703 | G27: 389138 | H27: 0 | I27: 0 | J27: 0 | K27: 0 | L27: 0 | N27: 0 | O27: 0 | P27: 0 | Q27: 0 | R27: 0 | S27: 0 | T27: 0 | U27: 0 | V27: x | W27: x | X27: x | Y27: x | Z27: x | AA27: x | AB27: x | AC27: 0 | AD27: 0 | AE27: 0 | AF27: 0 | AG27: 0 | AH27: 0 | AI27: 0 | AJ27: 0 | AK27: 0 | AL27: x | AM27: x | AN27: x | AO27: x | AP27: x | AQ27: x | AR27: x | AS27: 0 | AT27: 0 | AU27: 0 | AV27: 0 | AW27: 0 | AX27: 0 | AY27: 0 | AZ27: 0 | BA27: 0 | BB27: x | BC27: x | BD27: x | BE27: x | BF27: x | BG27: x | BH27: x | BI27: 0 | BJ27: 0 | BK27: 0 | BL27: 0 | BM27: 0 | BN27: 0 | BO27: 0 | BP27: 0 | BQ27: 0 | BR27: x | BS27: x | BT27: x | BU27: x | BV27: x | BW27: x | BX27: x | BY27: 0 | BZ27: 0 | CA27: 0 | CB27: 0 | CC27: 0 | CD27: 0 | CE27: 0 | CF27: 0 | CG27: 0 | CH27: x | CI27: x | CJ27: x | CK27: x | CL27: x | CM27: x | CN27: x | CO27: 0 | CP27: 0 | CQ27: 0 | CR27: 0 | CS27: 0 | CT27: 0 | CU27: 0 | CV27: 0 | CW27: 0 | CX27: x | CY27: x | CZ27: x | DA27: x | DB27: x | DC27: x | DD27: x | DE27: 0 | DF27: 0 | DG27: 0 | DH27: 0 | DI27: 0 | DJ27: 0 | DK27: 0 | DL27: 0 | DM27: 0 | DN27: x | DO27: x | DP27: x | DQ27: x | DR27: x | DS27: x | DT27: x | DU27: 0 | DV27: 0 | DW27: 0 | DX27: 0 | DY27: 0 | DZ27: 0 | EA27: 0 | EB27: 0 | EC27: 0 | ED27: x | EE27: x | EF27: x | EG27: x | EH27: x | EI27: x | EJ27: x | EK27: 0 | EL27: 0 | EM27: 0 | EN27: 0 | EO27: 0 | EP27: 0 | EQ27: 0 | ER27: 0 | ES27: 0 | ET27: x | EU27: x | EV27: x | EW27: x | EX27: x | EY27: x | EZ27: x | FA27: 0 | FB27: 0 | FC27: 0 | FD27: 0 | FE27: 0 | FF27: 0 | FG27: 0 | FH27: 0 | FI27: 0 | FJ27: x | FK27: x | FL27: x | FM27: x | FN27: x | FO27: x | FP27: x | FQ27: 0 | FR27: 0 | FS27: 0 | FT27: 0 | FU27: 0 | FV27: 0 | FW27: 0 | FX27: 0 | FY27: 0 | FZ27: x | GA27: x | GB27: x | GC27: x | GD27: x | GE27: x | GF27: x | GG27: 0 | GH27: 0 | GI27: 0 | GJ27: 0 | GK27: 0 | GL27: 0 | GM27: 0 | GN27: 0 | GO27: 0 | GP27: x | GQ27: x | GR27: x | GS27: x | GT27: x | GU27: x | GV27: x | GW27: 0 | GX27: 0 | GY27: 0 | GZ27: 0 | HA27: 0 | HB27: 0 | HC27: 0 | HD27: 0 | HE27: 0 | HF27: x | HG27: x | HH27: x | HI27: x | HJ27: x | HK27: x | HL27: x | HM27: 0 | HN27: 0 | HO27: 0 | HP27: 0 | HQ27: 0 | HR27: 0 | HS27: 0 | HT27: 0 | HU27: 0 | HV27: x | HW27: x | HX27: x | HY27: x | HZ27: x | IA27: x | IB27: x | IC27: 0 | ID27: 0 | IE27: 0 | IF27: 0 | IG27: 0 | IH27: 0 | II27: 0 | IJ27: 0 | IK27: 0 | IL27: x | IM27: x | IN27: x | IO27: x | IP27: x | IQ27: x | IR27: x | IS27: 0 | IT27: 0 | IU27: 0 | IV27: 0 | IW27: 0 | IX27: 0 | IY27: 0 | IZ27: 0 | JA27: 0 | JB27: x | JC27: x | JD27: x | JE27: x | JF27: x | JG27: x | JH27: x | JI27: 0 | JJ27: 0 | JK27: 0 | JL27: 0 | JM27: 0 | JN27: 0 | JO27: 0 | JP27: 0 | JQ27: 0 | JR27: x | JS27: x | JT27: x | JU27: x | JV27: x | JW27: x | JX27: x | JY27: 0 | JZ27: 0 | KA27: 0 | KB27: 0 | KC27: 0 | KD27: 0 | KE27: 0 | KF27: 0 | KG27: 0 | KH27: x | KI27: x | KJ27: x | KK27: x | KL27: x | KM27: x | KN27: x | KO27: 0 | KP27: 0 | KQ27: 0 | KR27: 0 | KS27: 0 | KT27: 0 | KU27: 0 | KV27: 0 | KW27: 0 | KX27: x | KY27: x | KZ27: x | LA27: x | LB27: x | LC27: x | LD27: x | LE27: 0
B28: 3. Группы компенсирующей направленности | N28: 14343 | O28: 15 | U28: 5679135 | V28: 14328 | AB28: 7519645071 | AC28: 7525324206 | AD28: 224 | AE28: 0 | AK28: 0 | AL28: 224 | AR28: 105483360 | AS28: 105483360 | AT28: 207 | AU28: 0 | BA28: 0 | BB28: 207 | BH28: 105218355 | BI28: 105218355 | BJ28: 591 | BK28: 0 | BQ28: 0 | BR28: 591 | BX28: 322652727 | BY28: 322652727 | BZ28: 5027 | CA28: 0 | CG28: 0 | CH28: 5027 | CN28: 2738031369 | CO28: 2738031369 | CP28: 1238 | CQ28: 0 | CW28: 0 | CX28: 1238 | DD28: 626801608 | DE28: 626801608 | DF28: 1930 | DG28: 0 | DM28: 0 | DN28: 1930 | DT28: 977779687 | DU28: 977779687 | DV28: 309 | DW28: 0 | EC28: 0 | ED28: 309 | EJ28: 157977615 | EK28: 157977615 | EL28: 494 | EM28: 15 | ES28: 5679135 | ET28: 479 | EZ28: 240494841 | FA28: 246173976 | FB28: 1613 | FC28: 0 | FI28: 0 | FJ28: 1613 | FP28: 822187535 | FQ28: 822187535 | FR28: 163 | FS28: 0 | FY28: 0 | FZ28: 163 | GF28: 93879113 | GG28: 93879113 | GH28: 297 | GI28: 0 | GO28: 0 | GP28: 297 | GV28: 157248321 | GW28: 157248321 | GX28: 348 | GY28: 0 | HE28: 0 | HF28: 348 | HL28: 188939124 | HM28: 188939124 | HN28: 82 | HO28: 0 | HU28: 0 | HV28: 82 | IB28: 39845030 | IC28: 39845030 | ID28: 417 | IE28: 0 | IK28: 0 | IL28: 417 | IR28: 200724824 | IS28: 200724824 | IT28: 126 | IU28: 0 | JA28: 0 | JB28: 126 | JH28: 71730070 | JI28: 71730070 | JJ28: 596 | JK28: 0 | JQ28: 0 | JR28: 596 | JX28: 317704638 | JY28: 317704638 | JZ28: 378 | KA28: 0 | KG28: 0 | KH28: 378 | KN28: 205832364 | KO28: 205832364 | KP28: 303 | KQ28: 0 | KW28: 0 | KX28: 303 | LD28: 147114490 | LE28: 147114490
B29: 01 глухие | C29: 487696 | D29: 698333 | E29: 782587 | F29: 866842 | G29: 977703 | H29: 509640 | I29: 720276 | J29: 804531 | K29: 888786 | L29: 999647 | N29: 0 | O29: 0 | P29: 0 | Q29: 0 | R29: 0 | S29: 0 | T29: 0 | U29: 0 | V29: 0 | W29: 0 | X29: 0 | Y29: 0 | Z29: 0 | AA29: 0 | AB29: 0 | AC29: 0 | AD29: 0 | AE29: 0 | AF29: 0 | AG29: 0 | AH29: 0 | AI29: 0 | AJ29: 0 | AK29: 0 | AL29: 0 | AM29: 0 | AN29: 0 | AO29: 0 | AP29: 0 | AQ29: 0 | AR29: 0 | AS29: 0 | AT29: 0 | AU29: 0 | AV29: 0 | AW29: 0 | AX29: 0 | AY29: 0 | AZ29: 0 | BA29: 0 | BB29: 0 | BC29: 0 | BD29: 0 | BE29: 0 | BF29: 0 | BG29: 0 | BH29: 0 | BI29: 0 | BJ29: 0 | BK29: 0 | BL29: 0 | BM29: 0 | BN29: 0 | BO29: 0 | BP29: 0 | BQ29: 0 | BR29: 0 | BS29: 0 | BT29: 0 | BU29: 0 | BV29: 0 | BW29: 0 | BX29: 0 | BY29: 0 | BZ29: 0 | CA29: 0 | CB29: 0 | CC29: 0 | CD29: 0 | CE29: 0 | CF29: 0 | CG29: 0 | CH29: 0 | CI29: 0 | CJ29: 0 | CK29: 0 | CL29: 0 | CM29: 0 | CN29: 0 | CO29: 0 | CP29: 0 | CQ29: 0 | CR29: 0 | CS29: 0 | CT29: 0 | CU29: 0 | CV29: 0 | CW29: 0 | CX29: 0 | CY29: 0 | CZ29: 0 | DA29: 0 | DB29: 0 | DC29: 0 | DD29: 0 | DE29: 0 | DF29: 0 | DG29: 0 | DH29: 0 | DI29: 0 | DJ29: 0 | DK29: 0 | DL29: 0 | DM29: 0 | DN29: 0 | DO29: 0 | DP29: 0 | DQ29: 0 | DR29: 0 | DS29: 0 | DT29: 0 | DU29: 0 | DV29: 0 | DW29: 0 | DX29: 0 | DY29: 0 | DZ29: 0 | EA29: 0 | EB29: 0 | EC29: 0 | ED29: 0 | EE29: 0 | EF29: 0 | EG29: 0 | EH29: 0 | EI29: 0 | EJ29: 0 | EK29: 0 | EL29: 0 | EM29: 0 | EN29: 0 | EO29: 0 | EP29: 0 | EQ29: 0 | ER29: 0 | ES29: 0 | ET29: 0 | EU29: 0 | EV29: 0 | EW29: 0 | EX29: 0 | EY29: 0 | EZ29: 0 | FA29: 0 | FB29: 0 | FC29: 0 | FD29: 0 | FE29: 0 | FF29: 0 | FG29: 0 | FH29: 0 | FI29: 0 | FJ29: 0 | FK29: 0 | FL29: 0 | FM29: 0 | FN29: 0 | FO29: 0 | FP29: 0 | FQ29: 0 | FR29: 0 | FS29: 0 | FT29: 0 | FU29: 0 | FV29: 0 | FW29: 0 | FX29: 0 | FY29: 0 | FZ29: 0 | GA29: 0 | GB29: 0 | GC29: 0 | GD29: 0 | GE29: 0 | GF29: 0 | GG29: 0 | GH29: 0 | GI29: 0 | GJ29: 0 | GK29: 0 | GL29: 0 | GM29: 0 | GN29: 0 | GO29: 0 | GP29: 0 | GQ29: 0 | GR29: 0 | GS29: 0 | GT29: 0 | GU29: 0 | GV29: 0 | GW29: 0 | GX29: 0 | GY29: 0 | GZ29: 0 | HA29: 0 | HB29: 0 | HC29: 0 | HD29: 0 | HE29: 0 | HF29: 0 | HG29: 0 | HH29: 0 | HI29: 0 | HJ29: 0 | HK29: 0 | HL29: 0 | HM29: 0 | HN29: 0 | HO29: 0 | HP29: 0 | HQ29: 0 | HR29: 0 | HS29: 0 | HT29: 0 | HU29: 0 | HV29: 0 | HW29: 0 | HX29: 0 | HY29: 0 | HZ29: 0 | IA29: 0 | IB29: 0 | IC29: 0 | ID29: 0 | IE29: 0 | IF29: 0 | IG29: 0 | IH29: 0 | II29: 0 | IJ29: 0 | IK29: 0 | IL29: 0 | IM29: 0 | IN29: 0 | IO29: 0 | IP29: 0 | IQ29: 0 | IR29: 0 | IS29: 0 | IT29: 0 | IU29: 0 | IV29: 0 | IW29: 0 | IX29: 0 | IY29: 0 | IZ29: 0 | JA29: 0 | JB29: 0 | JC29: 0 | JD29: 0 | JE29: 0 | JF29: 0 | JG29: 0 | JH29: 0 | JI29: 0 | JJ29: 0 | JK29: 0 | JL29: 0 | JM29: 0 | JN29: 0 | JO29: 0 | JP29: 0 | JQ29: 0 | JR29: 0 | JS29: 0 | JT29: 0 | JU29: 0 | JV29: 0 | JW29: 0 | JX29: 0 | JY29: 0 | JZ29: 0 | KA29: 0 | KB29: 0 | KC29: 0 | KD29: 0 | KE29: 0 | KF29: 0 | KG29: 0 | KH29: 0 | KI29: 0 | KJ29: 0 | KK29: 0 | KL29: 0 | KM29: 0 | KN29: 0 | KO29: 0 | KP29: 0 | KQ29: 0 | KR29: 0 | KS29: 0 | KT29: 0 | KU29: 0 | KV29: 0 | KW29: 0 | KX29: 0 | KY29: 0 | KZ29: 0 | LA29: 0 | LB29: 0 | LC29: 0 | LD29: 0 | LE29: 0
B30: 02 слабослышащие (познооглохшие) | C30: 487696 | D30: 698333 | E30: 782587 | F30: 866842 | G30: 977703 | H30: 384228 | I30: 542205 | J30: 605396 | K30: 668587 | L30: 751733 | N30: 0 | O30: 0 | P30: 0 | Q30: 0 | R30: 0 | S30: 0 | T30: 0 | U30: 0 | V30: 0 | W30: 0 | X30: 0 | Y30: 0 | Z30: 0 | AA30: 0 | AB30: 0 | AC30: 0 | AD30: 0 | AE30: 0 | AF30: 0 | AG30: 0 | AH30: 0 | AI30: 0 | AJ30: 0 | AK30: 0 | AL30: 0 | AM30: 0 | AN30: 0 | AO30: 0 | AP30: 0 | AQ30: 0 | AR30: 0 | AS30: 0 | AT30: 0 | AU30: 0 | AV30: 0 | AW30: 0 | AX30: 0 | AY30: 0 | AZ30: 0 | BA30: 0 | BB30: 0 | BC30: 0 | BD30: 0 | BE30: 0 | BF30: 0 | BG30: 0 | BH30: 0 | BI30: 0 | BJ30: 0 | BK30: 0 | BL30: 0 | BM30: 0 | BN30: 0 | BO30: 0 | BP30: 0 | BQ30: 0 | BR30: 0 | BS30: 0 | BT30: 0 | BU30: 0 | BV30: 0 | BW30: 0 | BX30: 0 | BY30: 0 | BZ30: 0 | CA30: 0 | CB30: 0 | CC30: 0 | CD30: 0 | CE30: 0 | CF30: 0 | CG30: 0 | CH30: 0 | CI30: 0 | CJ30: 0 | CK30: 0 | CL30: 0 | CM30: 0 | CN30: 0 | CO30: 0 | CP30: 0 | CQ30: 0 | CR30: 0 | CS30: 0 | CT30: 0 | CU30: 0 | CV30: 0 | CW30: 0 | CX30: 0 | CY30: 0 | CZ30: 0 | DA30: 0 | DB30: 0 | DC30: 0 | DD30: 0 | DE30: 0 | DF30: 0 | DG30: 0 | DH30: 0 | DI30: 0 | DJ30: 0 | DK30: 0 | DL30: 0 | DM30: 0 | DN30: 0 | DO30: 0 | DP30: 0 | DQ30: 0 | DR30: 0 | DS30: 0 | DT30: 0 | DU30: 0 | DV30: 0 | DW30: 0 | DX30: 0 | DY30: 0 | DZ30: 0 | EA30: 0 | EB30: 0 | EC30: 0 | ED30: 0 | EE30: 0 | EF30: 0 | EG30: 0 | EH30: 0 | EI30: 0 | EJ30: 0 | EK30: 0 | EL30: 0 | EM30: 0 | EN30: 0 | EO30: 0 | EP30: 0 | EQ30: 0 | ER30: 0 | ES30: 0 | ET30: 0 | EU30: 0 | EV30: 0 | EW30: 0 | EX30: 0 | EY30: 0 | EZ30: 0 | FA30: 0 | FB30: 0 | FC30: 0 | FD30: 0 | FE30: 0 | FF30: 0 | FG30: 0 | FH30: 0 | FI30: 0 | FJ30: 0 | FK30: 0 | FL30: 0 | FM30: 0 | FN30: 0 | FO30: 0 | FP30: 0 | FQ30: 0 | FR30: 0 | FS30: 0 | FT30: 0 | FU30: 0 | FV30: 0 | FW30: 0 | FX30: 0 | FY30: 0 | FZ30: 0 | GA30: 0 | GB30: 0 | GC30: 0 | GD30: 0 | GE30: 0 | GF30: 0 | GG30: 0 | GH30: 0 | GI30: 0 | GJ30: 0 | GK30: 0 | GL30: 0 | GM30: 0 | GN30: 0 | GO30: 0 | GP30: 0 | GQ30: 0 | GR30: 0 | GS30: 0 | GT30: 0 | GU30: 0 | GV30: 0 | GW30: 0 | GX30: 0 | GY30: 0 | GZ30: 0 | HA30: 0 | HB30: 0 | HC30: 0 | HD30: 0 | HE30: 0 | HF30: 0 | HG30: 0 | HH30: 0 | HI30: 0 | HJ30: 0 | HK30: 0 | HL30: 0 | HM30: 0 | HN30: 0 | HO30: 0 | HP30: 0 | HQ30: 0 | HR30: 0 | HS30: 0 | HT30: 0 | HU30: 0 | HV30: 0 | HW30: 0 | HX30: 0 | HY30: 0 | HZ30: 0 | IA30: 0 | IB30: 0 | IC30: 0 | ID30: 0 | IE30: 0 | IF30: 0 | IG30: 0 | IH30: 0 | II30: 0 | IJ30: 0 | IK30: 0 | IL30: 0 | IM30: 0 | IN30: 0 | IO30: 0 | IP30: 0 | IQ30: 0 | IR30: 0 | IS30: 0 | IT30: 0 | IU30: 0 | IV30: 0 | IW30: 0 | IX30: 0 | IY30: 0 | IZ30: 0 | JA30: 0 | JB30: 0 | JC30: 0 | JD30: 0 | JE30: 0 | JF30: 0 | JG30: 0 | JH30: 0 | JI30: 0 | JJ30: 0 | JK30: 0 | JL30: 0 | JM30: 0 | JN30: 0 | JO30: 0 | JP30: 0 | JQ30: 0 | JR30: 0 | JS30: 0 | JT30: 0 | JU30: 0 | JV30: 0 | JW30: 0 | JX30: 0 | JY30: 0 | JZ30: 0 | KA30: 0 | KB30: 0 | KC30: 0 | KD30: 0 | KE30: 0 | KF30: 0 | KG30: 0 | KH30: 0 | KI30: 0 | KJ30: 0 | KK30: 0 | KL30: 0 | KM30: 0 | KN30: 0 | KO30: 0 | KP30: 0 | KQ30: 0 | KR30: 0 | KS30: 0 | KT30: 0 | KU30: 0 | KV30: 0 | KW30: 0 | KX30: 0 | KY30: 0 | KZ30: 0 | LA30: 0 | LB30: 0 | LC30: 0 | LD30: 0 | LE30: 0
B31: 03 слепые | C31: 720505 | D31: 931141 | E31: 1015396 | F31: 1099651 | G31: 1210512 | H31: 742449 | I31: 953085 | J31: 1037340 | K31: 1121594 | L31: 1232456 | N31: 0 | O31: 0 | P31: 0 | Q31: 0 | R31: 0 | S31: 0 | T31: 0 | U31: 0 | V31: 0 | W31: 0 | X31: 0 | Y31: 0 | Z31: 0 | AA31: 0 | AB31: 0 | AC31: 0 | AD31: 0 | AE31: 0 | AF31: 0 | AG31: 0 | AH31: 0 | AI31: 0 | AJ31: 0 | AK31: 0 | AL31: 0 | AM31: 0 | AN31: 0 | AO31: 0 | AP31: 0 | AQ31: 0 | AR31: 0 | AS31: 0 | AT31: 0 | AU31: 0 | AV31: 0 | AW31: 0 | AX31: 0 | AY31: 0 | AZ31: 0 | BA31: 0 | BB31: 0 | BC31: 0 | BD31: 0 | BE31: 0 | BF31: 0 | BG31: 0 | BH31: 0 | BI31: 0 | BJ31: 0 | BK31: 0 | BL31: 0 | BM31: 0 | BN31: 0 | BO31: 0 | BP31: 0 | BQ31: 0 | BR31: 0 | BS31: 0 | BT31: 0 | BU31: 0 | BV31: 0 | BW31: 0 | BX31: 0 | BY31: 0 | BZ31: 0 | CA31: 0 | CB31: 0 | CC31: 0 | CD31: 0 | CE31: 0 | CF31: 0 | CG31: 0 | CH31: 0 | CI31: 0 | CJ31: 0 | CK31: 0 | CL31: 0 | CM31: 0 | CN31: 0 | CO31: 0 | CP31: 0 | CQ31: 0 | CR31: 0 | CS31: 0 | CT31: 0 | CU31: 0 | CV31: 0 | CW31: 0 | CX31: 0 | CY31: 0 | CZ31: 0 | DA31: 0 | DB31: 0 | DC31: 0 | DD31: 0 | DE31: 0 | DF31: 0 | DG31: 0 | DH31: 0 | DI31: 0 | DJ31: 0 | DK31: 0 | DL31: 0 | DM31: 0 | DN31: 0 | DO31: 0 | DP31: 0 | DQ31: 0 | DR31: 0 | DS31: 0 | DT31: 0 | DU31: 0 | DV31: 0 | DW31: 0 | DX31: 0 | DY31: 0 | DZ31: 0 | EA31: 0 | EB31: 0 | EC31: 0 | ED31: 0 | EE31: 0 | EF31: 0 | EG31: 0 | EH31: 0 | EI31: 0 | EJ31: 0 | EK31: 0 | EL31: 0 | EM31: 0 | EN31: 0 | EO31: 0 | EP31: 0 | EQ31: 0 | ER31: 0 | ES31: 0 | ET31: 0 | EU31: 0 | EV31: 0 | EW31: 0 | EX31: 0 | EY31: 0 | EZ31: 0 | FA31: 0 | FB31: 0 | FC31: 0 | FD31: 0 | FE31: 0 | FF31: 0 | FG31: 0 | FH31: 0 | FI31: 0 | FJ31: 0 | FK31: 0 | FL31: 0 | FM31: 0 | FN31: 0 | FO31: 0 | FP31: 0 | FQ31: 0 | FR31: 0 | FS31: 0 | FT31: 0 | FU31: 0 | FV31: 0 | FW31: 0 | FX31: 0 | FY31: 0 | FZ31: 0 | GA31: 0 | GB31: 0 | GC31: 0 | GD31: 0 | GE31: 0 | GF31: 0 | GG31: 0 | GH31: 0 | GI31: 0 | GJ31: 0 | GK31: 0 | GL31: 0 | GM31: 0 | GN31: 0 | GO31: 0 | GP31: 0 | GQ31: 0 | GR31: 0 | GS31: 0 | GT31: 0 | GU31: 0 | GV31: 0 | GW31: 0 | GX31: 0 | GY31: 0 | GZ31: 0 | HA31: 0 | HB31: 0 | HC31: 0 | HD31: 0 | HE31: 0 | HF31: 0 | HG31: 0 | HH31: 0 | HI31: 0 | HJ31: 0 | HK31: 0 | HL31: 0 | HM31: 0 | HN31: 0 | HO31: 0 | HP31: 0 | HQ31: 0 | HR31: 0 | HS31: 0 | HT31: 0 | HU31: 0 | HV31: 0 | HW31: 0 | HX31: 0 | HY31: 0 | HZ31: 0 | IA31: 0 | IB31: 0 | IC31: 0 | ID31: 0 | IE31: 0 | IF31: 0 | IG31: 0 | IH31: 0 | II31: 0 | IJ31: 0 | IK31: 0 | IL31: 0 | IM31: 0 | IN31: 0 | IO31: 0 | IP31: 0 | IQ31: 0 | IR31: 0 | IS31: 0 | IT31: 0 | IU31: 0 | IV31: 0 | IW31: 0 | IX31: 0 | IY31: 0 | IZ31: 0 | JA31: 0 | JB31: 0 | JC31: 0 | JD31: 0 | JE31: 0 | JF31: 0 | JG31: 0 | JH31: 0 | JI31: 0 | JJ31: 0 | JK31: 0 | JL31: 0 | JM31: 0 | JN31: 0 | JO31: 0 | JP31: 0 | JQ31: 0 | JR31: 0 | JS31: 0 | JT31: 0 | JU31: 0 | JV31: 0 | JW31: 0 | JX31: 0 | JY31: 0 | JZ31: 0 | KA31: 0 | KB31: 0 | KC31: 0 | KD31: 0 | KE31: 0 | KF31: 0 | KG31: 0 | KH31: 0 | KI31: 0 | KJ31: 0 | KK31: 0 | KL31: 0 | KM31: 0 | KN31: 0 | KO31: 0 | KP31: 0 | KQ31: 0 | KR31: 0 | KS31: 0 | KT31: 0 | KU31: 0 | KV31: 0 | KW31: 0 | KX31: 0 | KY31: 0 | KZ31: 0 | LA31: 0 | LB31: 0 | LC31: 0 | LD31: 0 | LE31: 0
B32: 04 слабовидящие, с амблиопией, косоглазием | C32: 565299 | D32: 775936 | E32: 860190 | F32: 944445 | G32: 1055306 | H32: 355543 | I32: 481924 | J32: 532477 | K32: 583030 | L32: 649547 | N32: 171 | O32: 0 | P32: 0 | Q32: 0 | R32: 0 | S32: 0 | T32: 0 | U32: 0 | V32: 171 | W32: 0 | X32: 35 | Y32: 135 | Z32: 0 | AA32: 1 | AB32: 89401282 | AC32: 89401282 | AD32: 15 | AE32: 0 | AF32: 0 | AG32: 0 | AH32: 0 | AI32: 0 | AJ32: 0 | AK32: 0 | AL32: 15 | AM32: 0 | AN32: 15 | AO32: 0 | AP32: 0 | AQ32: 0 | AR32: 7228860 | AS32: 7228860 | AT32: 0 | AU32: 0 | AV32: 0 | AW32: 0 | AX32: 0 | AY32: 0 | AZ32: 0 | BA32: 0 | BB32: 0 | BC32: 0 | BD32: 0 | BE32: 0 | BF32: 0 | BG32: 0 | BH32: 0 | BI32: 0 | BJ32: 33 | BK32: 0 | BL32: 0 | BM32: 0 | BN32: 0 | BO32: 0 | BP32: 0 | BQ32: 0 | BR32: 33 | BS32: 0 | BT32: 0 | BU32: 33 | BV32: 0 | BW32: 0 | BX32: 17571741 | BY32: 17571741 | BZ32: 0 | CA32: 0 | CB32: 0 | CC32: 0 | CD32: 0 | CE32: 0 | CF32: 0 | CG32: 0 | CH32: 0 | CI32: 0 | CJ32: 0 | CK32: 0 | CL32: 0 | CM32: 0 | CN32: 0 | CO32: 0 | CP32: 2 | CQ32: 0 | CR32: 0 | CS32: 0 | CT32: 0 | CU32: 0 | CV32: 0 | CW32: 0 | CX32: 2 | CY32: 0 | CZ32: 0 | DA32: 1 | DB32: 0 | DC32: 1 | DD32: 1182024 | DE32: 1182024 | DF32: 32 | DG32: 0 | DH32: 0 | DI32: 0 | DJ32: 0 | DK32: 0 | DL32: 0 | DM32: 0 | DN32: 32 | DO32: 0 | DP32: 20 | DQ32: 12 | DR32: 0 | DS32: 0 | DT32: 16028204 | DU32: 16028204 | DV32: 0 | DW32: 0 | DX32: 0 | DY32: 0 | DZ32: 0 | EA32: 0 | EB32: 0 | EC32: 0 | ED32: 0 | EE32: 0 | EF32: 0 | EG32: 0 | EH32: 0 | EI32: 0 | EJ32: 0 | EK32: 0 | EL32: 0 | EM32: 0 | EN32: 0 | EO32: 0 | EP32: 0 | EQ32: 0 | ER32: 0 | ES32: 0 | ET32: 0 | EU32: 0 | EV32: 0 | EW32: 0 | EX32: 0 | EY32: 0 | EZ32: 0 | FA32: 0 | FB32: 15 | FC32: 0 | FD32: 0 | FE32: 0 | FF32: 0 | FG32: 0 | FH32: 0 | FI32: 0 | FJ32: 15 | FK32: 0 | FL32: 0 | FM32: 15 | FN32: 0 | FO32: 0 | FP32: 7987155 | FQ32: 7987155 | FR32: 0 | FS32: 0 | FT32: 0 | FU32: 0 | FV32: 0 | FW32: 0 | FX32: 0 | FY32: 0 | FZ32: 0 | GA32: 0 | GB32: 0 | GC32: 0 | GD32: 0 | GE32: 0 | GF32: 0 | GG32: 0 | GH32: 0 | GI32: 0 | GJ32: 0 | GK32: 0 | GL32: 0 | GM32: 0 | GN32: 0 | GO32: 0 | GP32: 0 | GQ32: 0 | GR32: 0 | GS32: 0 | GT32: 0 | GU32: 0 | GV32: 0 | GW32: 0 | GX32: 0 | GY32: 0 | GZ32: 0 | HA32: 0 | HB32: 0 | HC32: 0 | HD32: 0 | HE32: 0 | HF32: 0 | HG32: 0 | HH32: 0 | HI32: 0 | HJ32: 0 | HK32: 0 | HL32: 0 | HM32: 0 | HN32: 0 | HO32: 0 | HP32: 0 | HQ32: 0 | HR32: 0 | HS32: 0 | HT32: 0 | HU32: 0 | HV32: 0 | HW32: 0 | HX32: 0 | HY32: 0 | HZ32: 0 | IA32: 0 | IB32: 0 | IC32: 0 | ID32: 0 | IE32: 0 | IF32: 0 | IG32: 0 | IH32: 0 | II32: 0 | IJ32: 0 | IK32: 0 | IL32: 0 | IM32: 0 | IN32: 0 | IO32: 0 | IP32: 0 | IQ32: 0 | IR32: 0 | IS32: 0 | IT32: 0 | IU32: 0 | IV32: 0 | IW32: 0 | IX32: 0 | IY32: 0 | IZ32: 0 | JA32: 0 | JB32: 0 | JC32: 0 | JD32: 0 | JE32: 0 | JF32: 0 | JG32: 0 | JH32: 0 | JI32: 0 | JJ32: 74 | JK32: 0 | JL32: 0 | JM32: 0 | JN32: 0 | JO32: 0 | JP32: 0 | JQ32: 0 | JR32: 74 | JS32: 0 | JT32: 0 | JU32: 74 | JV32: 0 | JW32: 0 | JX32: 39403298 | JY32: 39403298 | JZ32: 0 | KA32: 0 | KB32: 0 | KC32: 0 | KD32: 0 | KE32: 0 | KF32: 0 | KG32: 0 | KH32: 0 | KI32: 0 | KJ32: 0 | KK32: 0 | KL32: 0 | KM32: 0 | KN32: 0 | KO32: 0 | KP32: 0 | KQ32: 0 | KR32: 0 | KS32: 0 | KT32: 0 | KU32: 0 | KV32: 0 | KW32: 0 | KX32: 0 | KY32: 0 | KZ32: 0 | LA32: 0 | LB32: 0 | LC32: 0 | LD32: 0 | LE32: 0
B33: 05 с тяжелыми нарушениями речи | C33: 487696 | D33: 698333 | E33: 782587 | F33: 866842 | G33: 977703 | H33: 308981 | I33: 435363 | J33: 485915 | K33: 536468 | L33: 602985 | N33: 10727 | O33: 0 | P33: 0 | Q33: 0 | R33: 0 | S33: 0 | T33: 0 | U33: 0 | V33: 10727 | W33: 0 | X33: 2120 | Y33: 8607 | Z33: 0 | AA33: 0 | AB33: 5105239965 | AC33: 5105239965 | AD33: 170 | AE33: 0 | AF33: 0 | AG33: 0 | AH33: 0 | AI33: 0 | AJ33: 0 | AK33: 0 | AL33: 170 | AM33: 0 | AN33: 170 | AO33: 0 | AP33: 0 | AQ33: 0 | AR33: 74011710 | AS33: 74011710 | AT33: 145 | AU33: 0 | AV33: 0 | AW33: 0 | AX33: 0 | AY33: 0 | AZ33: 0 | BA33: 0 | BB33: 145 | BC33: 0 | BD33: 0 | BE33: 145 | BF33: 0 | BG33: 0 | BH33: 70457675 | BI33: 70457675 | BJ33: 405 | BK33: 0 | BL33: 0 | BM33: 0 | BN33: 0 | BO33: 0 | BP33: 0 | BQ33: 0 | BR33: 405 | BS33: 0 | BT33: 0 | BU33: 405 | BV33: 0 | BW33: 0 | BX33: 196795575 | BY33: 196795575 | BZ33: 3526 | CA33: 0 | CB33: 0 | CC33: 0 | CD33: 0 | CE33: 0 | CF33: 0 | CG33: 0 | CH33: 3526 | CI33: 0 | CJ33: 0 | CK33: 3526 | CL33: 0 | CM33: 0 | CN33: 1713336290 | CO33: 1713336290 | CP33: 1148 | CQ33: 0 | CR33: 0 | CS33: 0 | CT33: 0 | CU33: 0 | CV33: 0 | CW33: 0 | CX33: 1148 | CY33: 0 | CZ33: 76 | DA33: 1072 | DB33: 0 | DC33: 0 | DD33: 553988468 | DE33: 553988468 | DF33: 1298 | DG33: 0 | DH33: 0 | DI33: 0 | DJ33: 0 | DK33: 0 | DL33: 0 | DM33: 0 | DN33: 1298 | DO33: 0 | DP33: 1298 | DQ33: 0 | DR33: 0 | DS33: 0 | DT33: 565101174 | DU33: 565101174 | DV33: 279 | DW33: 0 | DX33: 0 | DY33: 0 | DZ33: 0 | EA33: 0 | EB33: 0 | EC33: 0 | ED33: 279 | EE33: 0 | EF33: 0 | EG33: 279 | EH33: 0 | EI33: 0 | EJ33: 135570285 | EK33: 135570285 | EL33: 267 | EM33: 0 | EN33: 0 | EO33: 0 | EP33: 0 | EQ33: 0 | ER33: 0 | ES33: 0 | ET33: 267 | EU33: 0 | EV33: 0 | EW33: 267 | EX33: 0 | EY33: 0 | EZ33: 129739305 | FA33: 129739305 | FB33: 1417 | FC33: 0 | FD33: 0 | FE33: 0 | FF33: 0 | FG33: 0 | FH33: 0 | FI33: 0 | FJ33: 1417 | FK33: 0 | FL33: 0 | FM33: 1417 | FN33: 0 | FO33: 0 | FP33: 688541555 | FQ33: 688541555 | FR33: 121 | FS33: 0 | FT33: 0 | FU33: 0 | FV33: 0 | FW33: 0 | FX33: 0 | FY33: 0 | FZ33: 121 | GA33: 0 | GB33: 0 | GC33: 121 | GD33: 0 | GE33: 0 | GF33: 58795715 | GG33: 58795715 | GH33: 258 | GI33: 0 | GJ33: 0 | GK33: 0 | GL33: 0 | GM33: 0 | GN33: 0 | GO33: 0 | GP33: 258 | GQ33: 0 | GR33: 16 | GS33: 242 | GT33: 0 | GU33: 0 | GV33: 124557238 | GW33: 124557238 | GX33: 266 | GY33: 0 | GZ33: 0 | HA33: 0 | HB33: 0 | HC33: 0 | HD33: 0 | HE33: 0 | HF33: 266 | HG33: 0 | HH33: 0 | HI33: 266 | HJ33: 0 | HK33: 0 | HL33: 129253390 | HM33: 129253390 | HN33: 82 | HO33: 0 | HP33: 0 | HQ33: 0 | HR33: 0 | HS33: 0 | HT33: 0 | HU33: 0 | HV33: 82 | HW33: 0 | HX33: 0 | HY33: 82 | HZ33: 0 | IA33: 0 | IB33: 39845030 | IC33: 39845030 | ID33: 328 | IE33: 0 | IF33: 0 | IG33: 0 | IH33: 0 | II33: 0 | IJ33: 0 | IK33: 0 | IL33: 328 | IM33: 0 | IN33: 328 | IO33: 0 | IP33: 0 | IQ33: 0 | IR33: 142799064 | IS33: 142799064 | IT33: 84 | IU33: 0 | IV33: 0 | IW33: 0 | IX33: 0 | IY33: 0 | IZ33: 0 | JA33: 0 | JB33: 84 | JC33: 0 | JD33: 0 | JE33: 84 | JF33: 0 | JG33: 0 | JH33: 40816860 | JI33: 40816860 | JJ33: 417 | JK33: 0 | JL33: 0 | JM33: 0 | JN33: 0 | JO33: 0 | JP33: 0 | JQ33: 0 | JR33: 417 | JS33: 0 | JT33: 0 | JU33: 417 | JV33: 0 | JW33: 0 | JX33: 202626555 | JY33: 202626555 | JZ33: 284 | KA33: 0 | KB33: 0 | KC33: 0 | KD33: 0 | KE33: 0 | KF33: 0 | KG33: 0 | KH33: 284 | KI33: 0 | KJ33: 0 | KK33: 284 | KL33: 0 | KM33: 0 | KN33: 137999860 | KO33: 137999860 | KP33: 232 | KQ33: 0 | KR33: 0 | KS33: 0 | KT33: 0 | KU33: 0 | KV33: 0 | KW33: 0 | KX33: 232 | KY33: 0 | KZ33: 232 | LA33: 0 | LB33: 0 | LC33: 0 | LD33: 101004216 | LE33: 101004216
B34: 06 с фонетико-фонематическими нарушениями речи | C34: 0 | D34: 0 | E34: 0 | F34: 0 | G34: 0 | H34: 258816 | I34: 364134 | J34: 406262 | K34: 448389 | L34: 503820 | N34: 62 | O34: x | P34: x | Q34: x | R34: x | S34: x | T34: x | U34: x | V34: 62 | W34: 0 | X34: 0 | Y34: 62 | Z34: 0 | AA34: 0 | AB34: 25188244 | AC34: 25188244 | AD34: 0 | AE34: x | AF34: x | AG34: x | AH34: x | AI34: x | AJ34: x | AK34: x | AL34: 0 | AM34: 0 | AN34: 0 | AO34: 0 | AP34: 0 | AQ34: 0 | AR34: 0 | AS34: 0 | AT34: 26 | AU34: x | AV34: x | AW34: x | AX34: x | AY34: x | AZ34: x | BA34: x | BB34: 26 | BC34: 0 | BD34: 0 | BE34: 26 | BF34: 0 | BG34: 0 | BH34: 10562812 | BI34: 10562812 | BJ34: 0 | BK34: x | BL34: x | BM34: x | BN34: x | BO34: x | BP34: x | BQ34: x | BR34: 0 | BS34: 0 | BT34: 0 | BU34: 0 | BV34: 0 | BW34: 0 | BX34: 0 | BY34: 0 | BZ34: 0 | CA34: x | CB34: x | CC34: x | CD34: x | CE34: x | CF34: x | CG34: x | CH34: 0 | CI34: 0 | CJ34: 0 | CK34: 0 | CL34: 0 | CM34: 0 | CN34: 0 | CO34: 0 | CP34: 0 | CQ34: x | CR34: x | CS34: x | CT34: x | CU34: x | CV34: x | CW34: x | CX34: 0 | CY34: 0 | CZ34: 0 | DA34: 0 | DB34: 0 | DC34: 0 | DD34: 0 | DE34: 0 | DF34: 0 | DG34: x | DH34: x | DI34: x | DJ34: x | DK34: x | DL34: x | DM34: x | DN34: 0 | DO34: 0 | DP34: 0 | DQ34: 0 | DR34: 0 | DS34: 0 | DT34: 0 | DU34: 0 | DV34: 0 | DW34: x | DX34: x | DY34: x | DZ34: x | EA34: x | EB34: x | EC34: x | ED34: 0 | EE34: 0 | EF34: 0 | EG34: 0 | EH34: 0 | EI34: 0 | EJ34: 0 | EK34: 0 | EL34: 36 | EM34: x | EN34: x | EO34: x | EP34: x | EQ34: x | ER34: x | ES34: x | ET34: 36 | EU34: 0 | EV34: 0 | EW34: 36 | EX34: 0 | EY34: 0 | EZ34: 14625432 | FA34: 14625432 | FB34: 0 | FC34: x | FD34: x | FE34: x | FF34: x | FG34: x | FH34: x | FI34: x | FJ34: 0 | FK34: 0 | FL34: 0 | FM34: 0 | FN34: 0 | FO34: 0 | FP34: 0 | FQ34: 0 | FR34: 0 | FS34: x | FT34: x | FU34: x | FV34: x | FW34: x | FX34: x | FY34: x | FZ34: 0 | GA34: 0 | GB34: 0 | GC34: 0 | GD34: 0 | GE34: 0 | GF34: 0 | GG34: 0 | GH34: 0 | GI34: x | GJ34: x | GK34: x | GL34: x | GM34: x | GN34: x | GO34: x | GP34: 0 | GQ34: 0 | GR34: 0 | GS34: 0 | GT34: 0 | GU34: 0 | GV34: 0 | GW34: 0 | GX34: 0 | GY34: x | GZ34: x | HA34: x | HB34: x | HC34: x | HD34: x | HE34: x | HF34: 0 | HG34: 0 | HH34: 0 | HI34: 0 | HJ34: 0 | HK34: 0 | HL34: 0 | HM34: 0 | HN34: 0 | HO34: x | HP34: x | HQ34: x | HR34: x | HS34: x | HT34: x | HU34: x | HV34: 0 | HW34: 0 | HX34: 0 | HY34: 0 | HZ34: 0 | IA34: 0 | IB34: 0 | IC34: 0 | ID34: 0 | IE34: x | IF34: x | IG34: x | IH34: x | II34: x | IJ34: x | IK34: x | IL34: 0 | IM34: 0 | IN34: 0 | IO34: 0 | IP34: 0 | IQ34: 0 | IR34: 0 | IS34: 0 | IT34: 0 | IU34: x | IV34: x | IW34: x | IX34: x | IY34: x | IZ34: x | JA34: x | JB34: 0 | JC34: 0 | JD34: 0 | JE34: 0 | JF34: 0 | JG34: 0 | JH34: 0 | JI34: 0 | JJ34: 0 | JK34: x | JL34: x | JM34: x | JN34: x | JO34: x | JP34: x | JQ34: x | JR34: 0 | JS34: 0 | JT34: 0 | JU34: 0 | JV34: 0 | JW34: 0 | JX34: 0 | JY34: 0 | JZ34: 0 | KA34: x | KB34: x | KC34: x | KD34: x | KE34: x | KF34: x | KG34: x | KH34: 0 | KI34: 0 | KJ34: 0 | KK34: 0 | KL34: 0 | KM34: 0 | KN34: 0 | KO34: 0 | KP34: 0 | KQ34: x | KR34: x | KS34: x | KT34: x | KU34: x | KV34: x | KW34: x | KX34: 0 | KY34: 0 | KZ34: 0 | LA34: 0 | LB34: 0 | LC34: 0 | LD34: 0 | LE34: 0
B35: 07 с нарушениями опорно-двигательного аппарата | C35: 565299 | D35: 775936 | E35: 860190 | F35: 944445 | G35: 1055306 | H35: 442430 | I35: 600408 | J35: 663599 | K35: 726789 | L35: 809936 | N35: 13 | O35: 0 | P35: 0 | Q35: 0 | R35: 0 | S35: 0 | T35: 0 | U35: 0 | V35: 13 | W35: 0 | X35: 12 | Y35: 1 | Z35: 0 | AA35: 0 | AB35: 7868495 | AC35: 7868495 | AD35: 0 | AE35: 0 | AF35: 0 | AG35: 0 | AH35: 0 | AI35: 0 | AJ35: 0 | AK35: 0 | AL35: 0 | AM35: 0 | AN35: 0 | AO35: 0 | AP35: 0 | AQ35: 0 | AR35: 0 | AS35: 0 | AT35: 0 | AU35: 0 | AV35: 0 | AW35: 0 | AX35: 0 | AY35: 0 | AZ35: 0 | BA35: 0 | BB35: 0 | BC35: 0 | BD35: 0 | BE35: 0 | BF35: 0 | BG35: 0 | BH35: 0 | BI35: 0 | BJ35: 0 | BK35: 0 | BL35: 0 | BM35: 0 | BN35: 0 | BO35: 0 | BP35: 0 | BQ35: 0 | BR35: 0 | BS35: 0 | BT35: 0 | BU35: 0 | BV35: 0 | BW35: 0 | BX35: 0 | BY35: 0 | BZ35: 0 | CA35: 0 | CB35: 0 | CC35: 0 | CD35: 0 | CE35: 0 | CF35: 0 | CG35: 0 | CH35: 0 | CI35: 0 | CJ35: 0 | CK35: 0 | CL35: 0 | CM35: 0 | CN35: 0 | CO35: 0 | CP35: 0 | CQ35: 0 | CR35: 0 | CS35: 0 | CT35: 0 | CU35: 0 | CV35: 0 | CW35: 0 | CX35: 0 | CY35: 0 | CZ35: 0 | DA35: 0 | DB35: 0 | DC35: 0 | DD35: 0 | DE35: 0 | DF35: 0 | DG35: 0 | DH35: 0 | DI35: 0 | DJ35: 0 | DK35: 0 | DL35: 0 | DM35: 0 | DN35: 0 | DO35: 0 | DP35: 0 | DQ35: 0 | DR35: 0 | DS35: 0 | DT35: 0 | DU35: 0 | DV35: 0 | DW35: 0 | DX35: 0 | DY35: 0 | DZ35: 0 | EA35: 0 | EB35: 0 | EC35: 0 | ED35: 0 | EE35: 0 | EF35: 0 | EG35: 0 | EH35: 0 | EI35: 0 | EJ35: 0 | EK35: 0 | EL35: 0 | EM35: 0 | EN35: 0 | EO35: 0 | EP35: 0 | EQ35: 0 | ER35: 0 | ES35: 0 | ET35: 0 | EU35: 0 | EV35: 0 | EW35: 0 | EX35: 0 | EY35: 0 | EZ35: 0 | FA35: 0 | FB35: 0 | FC35: 0 | FD35: 0 | FE35: 0 | FF35: 0 | FG35: 0 | FH35: 0 | FI35: 0 | FJ35: 0 | FK35: 0 | FL35: 0 | FM35: 0 | FN35: 0 | FO35: 0 | FP35: 0 | FQ35: 0 | FR35: 0 | FS35: 0 | FT35: 0 | FU35: 0 | FV35: 0 | FW35: 0 | FX35: 0 | FY35: 0 | FZ35: 0 | GA35: 0 | GB35: 0 | GC35: 0 | GD35: 0 | GE35: 0 | GF35: 0 | GG35: 0 | GH35: 0 | GI35: 0 | GJ35: 0 | GK35: 0 | GL35: 0 | GM35: 0 | GN35: 0 | GO35: 0 | GP35: 0 | GQ35: 0 | GR35: 0 | GS35: 0 | GT35: 0 | GU35: 0 | GV35: 0 | GW35: 0 | GX35: 0 | GY35: 0 | GZ35: 0 | HA35: 0 | HB35: 0 | HC35: 0 | HD35: 0 | HE35: 0 | HF35: 0 | HG35: 0 | HH35: 0 | HI35: 0 | HJ35: 0 | HK35: 0 | HL35: 0 | HM35: 0 | HN35: 0 | HO35: 0 | HP35: 0 | HQ35: 0 | HR35: 0 | HS35: 0 | HT35: 0 | HU35: 0 | HV35: 0 | HW35: 0 | HX35: 0 | HY35: 0 | HZ35: 0 | IA35: 0 | IB35: 0 | IC35: 0 | ID35: 0 | IE35: 0 | IF35: 0 | IG35: 0 | IH35: 0 | II35: 0 | IJ35: 0 | IK35: 0 | IL35: 0 | IM35: 0 | IN35: 0 | IO35: 0 | IP35: 0 | IQ35: 0 | IR35: 0 | IS35: 0 | IT35: 1 | IU35: 0 | IV35: 0 | IW35: 0 | IX35: 0 | IY35: 0 | IZ35: 0 | JA35: 0 | JB35: 1 | JC35: 0 | JD35: 0 | JE35: 1 | JF35: 0 | JG35: 0 | JH35: 663599 | JI35: 663599 | JJ35: 0 | JK35: 0 | JL35: 0 | JM35: 0 | JN35: 0 | JO35: 0 | JP35: 0 | JQ35: 0 | JR35: 0 | JS35: 0 | JT35: 0 | JU35: 0 | JV35: 0 | JW35: 0 | JX35: 0 | JY35: 0 | JZ35: 0 | KA35: 0 | KB35: 0 | KC35: 0 | KD35: 0 | KE35: 0 | KF35: 0 | KG35: 0 | KH35: 0 | KI35: 0 | KJ35: 0 | KK35: 0 | KL35: 0 | KM35: 0 | KN35: 0 | KO35: 0 | KP35: 12 | KQ35: 0 | KR35: 0 | KS35: 0 | KT35: 0 | KU35: 0 | KV35: 0 | KW35: 0 | KX35: 12 | KY35: 0 | KZ35: 12 | LA35: 0 | LB35: 0 | LC35: 0 | LD35: 7204896 | LE35: 7204896
B36: 08 с задержкой психического развития | C36: 798108 | D36: 1008744 | E36: 1092999 | F36: 1177254 | G36: 1288115 | H36: 495228 | I36: 621610 | J36: 672163 | K36: 722715 | L36: 789232 | N36: 3005 | O36: 0 | P36: 0 | Q36: 0 | R36: 0 | S36: 0 | T36: 0 | U36: 0 | V36: 3005 | W36: 0 | X36: 717 | Y36: 2264 | Z36: 7 | AA36: 17 | AB36: 1985947351 | AC36: 1985947351 | AD36: 39 | AE36: 0 | AF36: 0 | AG36: 0 | AH36: 0 | AI36: 0 | AJ36: 0 | AK36: 0 | AL36: 39 | AM36: 0 | AN36: 39 | AO36: 0 | AP36: 0 | AQ36: 0 | AR36: 24242790 | AS36: 24242790 | AT36: 36 | AU36: 0 | AV36: 0 | AW36: 0 | AX36: 0 | AY36: 0 | AZ36: 0 | BA36: 0 | BB36: 36 | BC36: 0 | BD36: 0 | BE36: 36 | BF36: 0 | BG36: 0 | BH36: 24197868 | BI36: 24197868 | BJ36: 138 | BK36: 0 | BL36: 0 | BM36: 0 | BN36: 0 | BO36: 0 | BP36: 0 | BQ36: 0 | BR36: 138 | BS36: 0 | BT36: 0 | BU36: 138 | BV36: 0 | BW36: 0 | BX36: 92758494 | BY36: 92758494 | BZ36: 1455 | CA36: 0 | CB36: 0 | CC36: 0 | CD36: 0 | CE36: 0 | CF36: 0 | CG36: 0 | CH36: 1455 | CI36: 0 | CJ36: 0 | CK36: 1455 | CL36: 0 | CM36: 0 | CN36: 977997165 | CO36: 977997165 | CP36: 64 | CQ36: 0 | CR36: 0 | CS36: 0 | CT36: 0 | CU36: 0 | CV36: 0 | CW36: 0 | CX36: 64 | CY36: 0 | CZ36: 11 | DA36: 39 | DB36: 7 | DC36: 7 | DD36: 43635696 | DE36: 43635696 | DF36: 551 | DG36: 0 | DH36: 0 | DI36: 0 | DJ36: 0 | DK36: 0 | DL36: 0 | DM36: 0 | DN36: 551 | DO36: 0 | DP36: 532 | DQ36: 19 | DR36: 0 | DS36: 0 | DT36: 343467617 | DU36: 343467617 | DV36: 20 | DW36: 0 | DX36: 0 | DY36: 0 | DZ36: 0 | EA36: 0 | EB36: 0 | EC36: 0 | ED36: 20 | EE36: 0 | EF36: 0 | EG36: 20 | EH36: 0 | EI36: 0 | EJ36: 13443260 | EK36: 13443260 | EL36: 68 | EM36: 0 | EN36: 0 | EO36: 0 | EP36: 0 | EQ36: 0 | ER36: 0 | ES36: 0 | ET36: 68 | EU36: 0 | EV36: 0 | EW36: 68 | EX36: 0 | EY36: 0 | EZ36: 45707084 | FA36: 45707084 | FB36: 174 | FC36: 0 | FD36: 0 | FE36: 0 | FF36: 0 | FG36: 0 | FH36: 0 | FI36: 0 | FJ36: 174 | FK36: 0 | FL36: 0 | FM36: 174 | FN36: 0 | FO36: 0 | FP36: 116956362 | FQ36: 116956362 | FR36: 30 | FS36: 0 | FT36: 0 | FU36: 0 | FV36: 0 | FW36: 0 | FX36: 0 | FY36: 0 | FZ36: 30 | GA36: 0 | GB36: 0 | GC36: 30 | GD36: 0 | GE36: 0 | GF36: 20164890 | GG36: 20164890 | GH36: 29 | GI36: 0 | GJ36: 0 | GK36: 0 | GL36: 0 | GM36: 0 | GN36: 0 | GO36: 0 | GP36: 29 | GQ36: 0 | GR36: 8 | GS36: 11 | GT36: 0 | GU36: 10 | GV36: 20258993 | GW36: 20258993 | GX36: 74 | GY36: 0 | GZ36: 0 | HA36: 0 | HB36: 0 | HC36: 0 | HD36: 0 | HE36: 0 | HF36: 74 | HG36: 0 | HH36: 0 | HI36: 74 | HJ36: 0 | HK36: 0 | HL36: 49740062 | HM36: 49740062 | HN36: 0 | HO36: 0 | HP36: 0 | HQ36: 0 | HR36: 0 | HS36: 0 | HT36: 0 | HU36: 0 | HV36: 0 | HW36: 0 | HX36: 0 | HY36: 0 | HZ36: 0 | IA36: 0 | IB36: 0 | IC36: 0 | ID36: 84 | IE36: 0 | IF36: 0 | IG36: 0 | IH36: 0 | II36: 0 | IJ36: 0 | IK36: 0 | IL36: 84 | IM36: 0 | IN36: 84 | IO36: 0 | IP36: 0 | IQ36: 0 | IR36: 52215240 | IS36: 52215240 | IT36: 29 | IU36: 0 | IV36: 0 | IW36: 0 | IX36: 0 | IY36: 0 | IZ36: 0 | JA36: 0 | JB36: 29 | JC36: 0 | JD36: 0 | JE36: 29 | JF36: 0 | JG36: 0 | JH36: 19492727 | JI36: 19492727 | JJ36: 90 | JK36: 0 | JL36: 0 | JM36: 0 | JN36: 0 | JO36: 0 | JP36: 0 | JQ36: 0 | JR36: 90 | JS36: 0 | JT36: 0 | JU36: 90 | JV36: 0 | JW36: 0 | JX36: 60494670 | JY36: 60494670 | JZ36: 81 | KA36: 0 | KB36: 0 | KC36: 0 | KD36: 0 | KE36: 0 | KF36: 0 | KG36: 0 | KH36: 81 | KI36: 0 | KJ36: 0 | KK36: 81 | KL36: 0 | KM36: 0 | KN36: 54445203 | KO36: 54445203 | KP36: 43 | KQ36: 0 | KR36: 0 | KS36: 0 | KT36: 0 | KU36: 0 | KV36: 0 | KW36: 0 | KX36: 43 | KY36: 0 | KZ36: 43 | LA36: 0 | LB36: 0 | LC36: 0 | LD36: 26729230 | LE36: 26729230
B37: 09 с расстройствами аутического спектора (аутизм) | C37: 677269 | D37: 930033 | E37: 1031138 | F37: 1132244 | G37: 1265278 | H37: 703093 | I37: 955857 | J37: 1056962 | K37: 1158068 | L37: 1291101 | N37: 7 | O37: x | P37: x | Q37: x | R37: x | S37: x | T37: x | U37: x | V37: 7 | W37: 0 | X37: 0 | Y37: 6 | Z37: 1 | AA37: 0 | AB37: 7499840 | AC37: 7499840 | AD37: 0 | AE37: x | AF37: x | AG37: x | AH37: x | AI37: x | AJ37: x | AK37: x | AL37: 0 | AM37: 0 | AN37: 0 | AO37: 0 | AP37: 0 | AQ37: 0 | AR37: 0 | AS37: 0 | AT37: 0 | AU37: x | AV37: x | AW37: x | AX37: x | AY37: x | AZ37: x | BA37: x | BB37: 0 | BC37: 0 | BD37: 0 | BE37: 0 | BF37: 0 | BG37: 0 | BH37: 0 | BI37: 0 | BJ37: 0 | BK37: x | BL37: x | BM37: x | BN37: x | BO37: x | BP37: x | BQ37: x | BR37: 0 | BS37: 0 | BT37: 0 | BU37: 0 | BV37: 0 | BW37: 0 | BX37: 0 | BY37: 0 | BZ37: 0 | CA37: x | CB37: x | CC37: x | CD37: x | CE37: x | CF37: x | CG37: x | CH37: 0 | CI37: 0 | CJ37: 0 | CK37: 0 | CL37: 0 | CM37: 0 | CN37: 0 | CO37: 0 | CP37: 7 | CQ37: x | CR37: x | CS37: x | CT37: x | CU37: x | CV37: x | CW37: x | CX37: 7 | CY37: 0 | CZ37: 0 | DA37: 6 | DB37: 1 | DC37: 0 | DD37: 7499840 | DE37: 7499840 | DF37: 0 | DG37: x | DH37: x | DI37: x | DJ37: x | DK37: x | DL37: x | DM37: x | DN37: 0 | DO37: 0 | DP37: 0 | DQ37: 0 | DR37: 0 | DS37: 0 | DT37: 0 | DU37: 0 | DV37: 0 | DW37: x | DX37: x | DY37: x | DZ37: x | EA37: x | EB37: x | EC37: x | ED37: 0 | EE37: 0 | EF37: 0 | EG37: 0 | EH37: 0 | EI37: 0 | EJ37: 0 | EK37: 0 | EL37: 0 | EM37: x | EN37: x | EO37: x | EP37: x | EQ37: x | ER37: x | ES37: x | ET37: 0 | EU37: 0 | EV37: 0 | EW37: 0 | EX37: 0 | EY37: 0 | EZ37: 0 | FA37: 0 | FB37: 0 | FC37: x | FD37: x | FE37: x | FF37: x | FG37: x | FH37: x | FI37: x | FJ37: 0 | FK37: 0 | FL37: 0 | FM37: 0 | FN37: 0 | FO37: 0 | FP37: 0 | FQ37: 0 | FR37: 0 | FS37: x | FT37: x | FU37: x | FV37: x | FW37: x | FX37: x | FY37: x | FZ37: 0 | GA37: 0 | GB37: 0 | GC37: 0 | GD37: 0 | GE37: 0 | GF37: 0 | GG37: 0 | GH37: 0 | GI37: x | GJ37: x | GK37: x | GL37: x | GM37: x | GN37: x | GO37: x | GP37: 0 | GQ37: 0 | GR37: 0 | GS37: 0 | GT37: 0 | GU37: 0 | GV37: 0 | GW37: 0 | GX37: 0 | GY37: x | GZ37: x | HA37: x | HB37: x | HC37: x | HD37: x | HE37: x | HF37: 0 | HG37: 0 | HH37: 0 | HI37: 0 | HJ37: 0 | HK37: 0 | HL37: 0 | HM37: 0 | HN37: 0 | HO37: x | HP37: x | HQ37: x | HR37: x | HS37: x | HT37: x | HU37: x | HV37: 0 | HW37: 0 | HX37: 0 | HY37: 0 | HZ37: 0 | IA37: 0 | IB37: 0 | IC37: 0 | ID37: 0 | IE37: x | IF37: x | IG37: x | IH37: x | II37: x | IJ37: x | IK37: x | IL37: 0 | IM37: 0 | IN37: 0 | IO37: 0 | IP37: 0 | IQ37: 0 | IR37: 0 | IS37: 0 | IT37: 0 | IU37: x | IV37: x | IW37: x | IX37: x | IY37: x | IZ37: x | JA37: x | JB37: 0 | JC37: 0 | JD37: 0 | JE37: 0 | JF37: 0 | JG37: 0 | JH37: 0 | JI37: 0 | JJ37: 0 | JK37: x | JL37: x | JM37: x | JN37: x | JO37: x | JP37: x | JQ37: x | JR37: 0 | JS37: 0 | JT37: 0 | JU37: 0 | JV37: 0 | JW37: 0 | JX37: 0 | JY37: 0 | JZ37: 0 | KA37: x | KB37: x | KC37: x | KD37: x | KE37: x | KF37: x | KG37: x | KH37: 0 | KI37: 0 | KJ37: 0 | KK37: 0 | KL37: 0 | KM37: 0 | KN37: 0 | KO37: 0 | KP37: 0 | KQ37: x | KR37: x | KS37: x | KT37: x | KU37: x | KV37: x | KW37: x | KX37: 0 | KY37: 0 | KZ37: 0 | LA37: 0 | LB37: 0 | LC37: 0 | LD37: 0 | LE37: 0
B38: 10 с умственной отсталостью (легкая степень) | C38: 875711 | D38: 1086347 | E38: 1170602 | F38: 1254857 | G38: 1365718 | H38: 541790 | I38: 668172 | J38: 718724 | K38: 769277 | L38: 835794 | N38: 28 | O38: 0 | P38: 0 | Q38: 0 | R38: 0 | S38: 0 | T38: 0 | U38: 0 | V38: 28 | W38: 0 | X38: 7 | Y38: 20 | Z38: 0 | AA38: 1 | AB38: 19887478 | AC38: 19887478 | AD38: 0 | AE38: 0 | AF38: 0 | AG38: 0 | AH38: 0 | AI38: 0 | AJ38: 0 | AK38: 0 | AL38: 0 | AM38: 0 | AN38: 0 | AO38: 0 | AP38: 0 | AQ38: 0 | AR38: 0 | AS38: 0 | AT38: 0 | AU38: 0 | AV38: 0 | AW38: 0 | AX38: 0 | AY38: 0 | AZ38: 0 | BA38: 0 | BB38: 0 | BC38: 0 | BD38: 0 | BE38: 0 | BF38: 0 | BG38: 0 | BH38: 0 | BI38: 0 | BJ38: 0 | BK38: 0 | BL38: 0 | BM38: 0 | BN38: 0 | BO38: 0 | BP38: 0 | BQ38: 0 | BR38: 0 | BS38: 0 | BT38: 0 | BU38: 0 | BV38: 0 | BW38: 0 | BX38: 0 | BY38: 0 | BZ38: 20 | CA38: 0 | CB38: 0 | CC38: 0 | CD38: 0 | CE38: 0 | CF38: 0 | CG38: 0 | CH38: 20 | CI38: 0 | CJ38: 0 | CK38: 20 | CL38: 0 | CM38: 0 | CN38: 14374480 | CO38: 14374480 | CP38: 1 | CQ38: 0 | CR38: 0 | CS38: 0 | CT38: 0 | CU38: 0 | CV38: 0 | CW38: 0 | CX38: 1 | CY38: 0 | CZ38: 0 | DA38: 0 | DB38: 0 | DC38: 1 | DD38: 835794 | DE38: 835794 | DF38: 0 | DG38: 0 | DH38: 0 | DI38: 0 | DJ38: 0 | DK38: 0 | DL38: 0 | DM38: 0 | DN38: 0 | DO38: 0 | DP38: 0 | DQ38: 0 | DR38: 0 | DS38: 0 | DT38: 0 | DU38: 0 | DV38: 0 | DW38: 0 | DX38: 0 | DY38: 0 | DZ38: 0 | EA38: 0 | EB38: 0 | EC38: 0 | ED38: 0 | EE38: 0 | EF38: 0 | EG38: 0 | EH38: 0 | EI38: 0 | EJ38: 0 | EK38: 0 | EL38: 0 | EM38: 0 | EN38: 0 | EO38: 0 | EP38: 0 | EQ38: 0 | ER38: 0 | ES38: 0 | ET38: 0 | EU38: 0 | EV38: 0 | EW38: 0 | EX38: 0 | EY38: 0 | EZ38: 0 | FA38: 0 | FB38: 0 | FC38: 0 | FD38: 0 | FE38: 0 | FF38: 0 | FG38: 0 | FH38: 0 | FI38: 0 | FJ38: 0 | FK38: 0 | FL38: 0 | FM38: 0 | FN38: 0 | FO38: 0 | FP38: 0 | FQ38: 0 | FR38: 0 | FS38: 0 | FT38: 0 | FU38: 0 | FV38: 0 | FW38: 0 | FX38: 0 | FY38: 0 | FZ38: 0 | GA38: 0 | GB38: 0 | GC38: 0 | GD38: 0 | GE38: 0 | GF38: 0 | GG38: 0 | GH38: 0 | GI38: 0 | GJ38: 0 | GK38: 0 | GL38: 0 | GM38: 0 | GN38: 0 | GO38: 0 | GP38: 0 | GQ38: 0 | GR38: 0 | GS38: 0 | GT38: 0 | GU38: 0 | GV38: 0 | GW38: 0 | GX38: 0 | GY38: 0 | GZ38: 0 | HA38: 0 | HB38: 0 | HC38: 0 | HD38: 0 | HE38: 0 | HF38: 0 | HG38: 0 | HH38: 0 | HI38: 0 | HJ38: 0 | HK38: 0 | HL38: 0 | HM38: 0 | HN38: 0 | HO38: 0 | HP38: 0 | HQ38: 0 | HR38: 0 | HS38: 0 | HT38: 0 | HU38: 0 | HV38: 0 | HW38: 0 | HX38: 0 | HY38: 0 | HZ38: 0 | IA38: 0 | IB38: 0 | IC38: 0 | ID38: 0 | IE38: 0 | IF38: 0 | IG38: 0 | IH38: 0 | II38: 0 | IJ38: 0 | IK38: 0 | IL38: 0 | IM38: 0 | IN38: 0 | IO38: 0 | IP38: 0 | IQ38: 0 | IR38: 0 | IS38: 0 | IT38: 0 | IU38: 0 | IV38: 0 | IW38: 0 | IX38: 0 | IY38: 0 | IZ38: 0 | JA38: 0 | JB38: 0 | JC38: 0 | JD38: 0 | JE38: 0 | JF38: 0 | JG38: 0 | JH38: 0 | JI38: 0 | JJ38: 0 | JK38: 0 | JL38: 0 | JM38: 0 | JN38: 0 | JO38: 0 | JP38: 0 | JQ38: 0 | JR38: 0 | JS38: 0 | JT38: 0 | JU38: 0 | JV38: 0 | JW38: 0 | JX38: 0 | JY38: 0 | JZ38: 0 | KA38: 0 | KB38: 0 | KC38: 0 | KD38: 0 | KE38: 0 | KF38: 0 | KG38: 0 | KH38: 0 | KI38: 0 | KJ38: 0 | KK38: 0 | KL38: 0 | KM38: 0 | KN38: 0 | KO38: 0 | KP38: 7 | KQ38: 0 | KR38: 0 | KS38: 0 | KT38: 0 | KU38: 0 | KV38: 0 | KW38: 0 | KX38: 7 | KY38: 0 | KZ38: 7 | LA38: 0 | LB38: 0 | LC38: 0 | LD38: 4677204 | LE38: 4677204
B39: 11 с умственной отсталостью (умеренная, тяжелая степень) | C39: 0 | D39: 0 | E39: 0 | F39: 0 | G39: 0 | H39: 675239 | I39: 833216 | J39: 896407 | K39: 959598 | L39: 1042744 | N39: 77 | O39: x | P39: x | Q39: x | R39: x | S39: x | T39: x | U39: x | V39: 77 | W39: 0 | X39: 9 | Y39: 68 | Z39: 0 | AA39: 0 | AB39: 68454620 | AC39: 68454620 | AD39: 0 | AE39: x | AF39: x | AG39: x | AH39: x | AI39: x | AJ39: x | AK39: x | AL39: 0 | AM39: 0 | AN39: 0 | AO39: 0 | AP39: 0 | AQ39: 0 | AR39: 0 | AS39: 0 | AT39: 0 | AU39: x | AV39: x | AW39: x | AX39: x | AY39: x | AZ39: x | BA39: x | BB39: 0 | BC39: 0 | BD39: 0 | BE39: 0 | BF39: 0 | BG39: 0 | BH39: 0 | BI39: 0 | BJ39: 9 | BK39: x | BL39: x | BM39: x | BN39: x | BO39: x | BP39: x | BQ39: x | BR39: 9 | BS39: 0 | BT39: 0 | BU39: 9 | BV39: 0 | BW39: 0 | BX39: 8067663 | BY39: 8067663 | BZ39: 0 | CA39: x | CB39: x | CC39: x | CD39: x | CE39: x | CF39: x | CG39: x | CH39: 0 | CI39: 0 | CJ39: 0 | CK39: 0 | CL39: 0 | CM39: 0 | CN39: 0 | CO39: 0 | CP39: 3 | CQ39: x | CR39: x | CS39: x | CT39: x | CU39: x | CV39: x | CW39: x | CX39: 3 | CY39: 0 | CZ39: 0 | DA39: 3 | DB39: 0 | DC39: 0 | DD39: 2689221 | DE39: 2689221 | DF39: 0 | DG39: x | DH39: x | DI39: x | DJ39: x | DK39: x | DL39: x | DM39: x | DN39: 0 | DO39: 0 | DP39: 0 | DQ39: 0 | DR39: 0 | DS39: 0 | DT39: 0 | DU39: 0 | DV39: 10 | DW39: x | DX39: x | DY39: x | DZ39: x | EA39: x | EB39: x | EC39: x | ED39: 10 | EE39: 0 | EF39: 0 | EG39: 10 | EH39: 0 | EI39: 0 | EJ39: 8964070 | EK39: 8964070 | EL39: 16 | EM39: x | EN39: x | EO39: x | EP39: x | EQ39: x | ER39: x | ES39: x | ET39: 16 | EU39: 0 | EV39: 0 | EW39: 16 | EX39: 0 | EY39: 0 | EZ39: 14342512 | FA39: 14342512 | FB39: 0 | FC39: x | FD39: x | FE39: x | FF39: x | FG39: x | FH39: x | FI39: x | FJ39: 0 | FK39: 0 | FL39: 0 | FM39: 0 | FN39: 0 | FO39: 0 | FP39: 0 | FQ39: 0 | FR39: 0 | FS39: x | FT39: x | FU39: x | FV39: x | FW39: x | FX39: x | FY39: x | FZ39: 0 | GA39: 0 | GB39: 0 | GC39: 0 | GD39: 0 | GE39: 0 | GF39: 0 | GG39: 0 | GH39: 0 | GI39: x | GJ39: x | GK39: x | GL39: x | GM39: x | GN39: x | GO39: x | GP39: 0 | GQ39: 0 | GR39: 0 | GS39: 0 | GT39: 0 | GU39: 0 | GV39: 0 | GW39: 0 | GX39: 0 | GY39: x | GZ39: x | HA39: x | HB39: x | HC39: x | HD39: x | HE39: x | HF39: 0 | HG39: 0 | HH39: 0 | HI39: 0 | HJ39: 0 | HK39: 0 | HL39: 0 | HM39: 0 | HN39: 0 | HO39: x | HP39: x | HQ39: x | HR39: x | HS39: x | HT39: x | HU39: x | HV39: 0 | HW39: 0 | HX39: 0 | HY39: 0 | HZ39: 0 | IA39: 0 | IB39: 0 | IC39: 0 | ID39: 0 | IE39: x | IF39: x | IG39: x | IH39: x | II39: x | IJ39: x | IK39: x | IL39: 0 | IM39: 0 | IN39: 0 | IO39: 0 | IP39: 0 | IQ39: 0 | IR39: 0 | IS39: 0 | IT39: 12 | IU39: x | IV39: x | IW39: x | IX39: x | IY39: x | IZ39: x | JA39: x | JB39: 12 | JC39: 0 | JD39: 0 | JE39: 12 | JF39: 0 | JG39: 0 | JH39: 10756884 | JI39: 10756884 | JJ39: 10 | JK39: x | JL39: x | JM39: x | JN39: x | JO39: x | JP39: x | JQ39: x | JR39: 10 | JS39: 0 | JT39: 0 | JU39: 10 | JV39: 0 | JW39: 0 | JX39: 8964070 | JY39: 8964070 | JZ39: 8 | KA39: x | KB39: x | KC39: x | KD39: x | KE39: x | KF39: x | KG39: x | KH39: 8 | KI39: 0 | KJ39: 0 | KK39: 8 | KL39: 0 | KM39: 0 | KN39: 7171256 | KO39: 7171256 | KP39: 9 | KQ39: x | KR39: x | KS39: x | KT39: x | KU39: x | KV39: x | KW39: x | KX39: 9 | KY39: 0 | KZ39: 9 | LA39: 0 | LB39: 0 | LC39: 0 | LD39: 7498944 | LE39: 7498944
B40: 12 со сложным дефектом (несколько недостатков в развитии) | C40: 863516 | D40: 1116280 | E40: 1217386 | F40: 1318491 | G40: 1451525 | H40: 889340 | I40: 1142104 | J40: 1243209 | K40: 1344315 | L40: 1477349 | N40: 158 | O40: 0 | P40: 0 | Q40: 0 | R40: 0 | S40: 0 | T40: 0 | U40: 0 | V40: 158 | W40: 11 | X40: 43 | Y40: 96 | Z40: 8 | AA40: 0 | AB40: 188995796 | AC40: 188995796 | AD40: 0 | AE40: 0 | AF40: 0 | AG40: 0 | AH40: 0 | AI40: 0 | AJ40: 0 | AK40: 0 | AL40: 0 | AM40: 0 | AN40: 0 | AO40: 0 | AP40: 0 | AQ40: 0 | AR40: 0 | AS40: 0 | AT40: 0 | AU40: 0 | AV40: 0 | AW40: 0 | AX40: 0 | AY40: 0 | AZ40: 0 | BA40: 0 | BB40: 0 | BC40: 0 | BD40: 0 | BE40: 0 | BF40: 0 | BG40: 0 | BH40: 0 | BI40: 0 | BJ40: 6 | BK40: 0 | BL40: 0 | BM40: 0 | BN40: 0 | BO40: 0 | BP40: 0 | BQ40: 0 | BR40: 6 | BS40: 0 | BT40: 0 | BU40: 6 | BV40: 0 | BW40: 0 | BX40: 7459254 | BY40: 7459254 | BZ40: 26 | CA40: 0 | CB40: 0 | CC40: 0 | CD40: 0 | CE40: 0 | CF40: 0 | CG40: 0 | CH40: 26 | CI40: 0 | CJ40: 0 | CK40: 26 | CL40: 0 | CM40: 0 | CN40: 32323434 | CO40: 32323434 | CP40: 13 | CQ40: 0 | CR40: 0 | CS40: 0 | CT40: 0 | CU40: 0 | CV40: 0 | CW40: 0 | CX40: 13 | CY40: 0 | CZ40: 0 | DA40: 5 | DB40: 8 | DC40: 0 | DD40: 16970565 | DE40: 16970565 | DF40: 49 | DG40: 0 | DH40: 0 | DI40: 0 | DJ40: 0 | DK40: 0 | DL40: 0 | DM40: 0 | DN40: 49 | DO40: 11 | DP40: 38 | DQ40: 0 | DR40: 0 | DS40: 0 | DT40: 53182692 | DU40: 53182692 | DV40: 0 | DW40: 0 | DX40: 0 | DY40: 0 | DZ40: 0 | EA40: 0 | EB40: 0 | EC40: 0 | ED40: 0 | EE40: 0 | EF40: 0 | EG40: 0 | EH40: 0 | EI40: 0 | EJ40: 0 | EK40: 0 | EL40: 12 | EM40: 0 | EN40: 0 | EO40: 0 | EP40: 0 | EQ40: 0 | ER40: 0 | ES40: 0 | ET40: 12 | EU40: 0 | EV40: 0 | EW40: 12 | EX40: 0 | EY40: 0 | EZ40: 14918508 | FA40: 14918508 | FB40: 7 | FC40: 0 | FD40: 0 | FE40: 0 | FF40: 0 | FG40: 0 | FH40: 0 | FI40: 0 | FJ40: 7 | FK40: 0 | FL40: 0 | FM40: 7 | FN40: 0 | FO40: 0 | FP40: 8702463 | FQ40: 8702463 | FR40: 12 | FS40: 0 | FT40: 0 | FU40: 0 | FV40: 0 | FW40: 0 | FX40: 0 | FY40: 0 | FZ40: 12 | GA40: 0 | GB40: 0 | GC40: 12 | GD40: 0 | GE40: 0 | GF40: 14918508 | GG40: 14918508 | GH40: 10 | GI40: 0 | GJ40: 0 | GK40: 0 | GL40: 0 | GM40: 0 | GN40: 0 | GO40: 0 | GP40: 10 | GQ40: 0 | GR40: 0 | GS40: 10 | GT40: 0 | GU40: 0 | GV40: 12432090 | GW40: 12432090 | GX40: 8 | GY40: 0 | GZ40: 0 | HA40: 0 | HB40: 0 | HC40: 0 | HD40: 0 | HE40: 0 | HF40: 8 | HG40: 0 | HH40: 0 | HI40: 8 | HJ40: 0 | HK40: 0 | HL40: 9945672 | HM40: 9945672 | HN40: 0 | HO40: 0 | HP40: 0 | HQ40: 0 | HR40: 0 | HS40: 0 | HT40: 0 | HU40: 0 | HV40: 0 | HW40: 0 | HX40: 0 | HY40: 0 | HZ40: 0 | IA40: 0 | IB40: 0 | IC40: 0 | ID40: 5 | IE40: 0 | IF40: 0 | IG40: 0 | IH40: 0 | II40: 0 | IJ40: 0 | IK40: 0 | IL40: 5 | IM40: 0 | IN40: 5 | IO40: 0 | IP40: 0 | IQ40: 0 | IR40: 5710520 | IS40: 5710520 | IT40: 0 | IU40: 0 | IV40: 0 | IW40: 0 | IX40: 0 | IY40: 0 | IZ40: 0 | JA40: 0 | JB40: 0 | JC40: 0 | JD40: 0 | JE40: 0 | JF40: 0 | JG40: 0 | JH40: 0 | JI40: 0 | JJ40: 5 | JK40: 0 | JL40: 0 | JM40: 0 | JN40: 0 | JO40: 0 | JP40: 0 | JQ40: 0 | JR40: 5 | JS40: 0 | JT40: 0 | JU40: 5 | JV40: 0 | JW40: 0 | JX40: 6216045 | JY40: 6216045 | JZ40: 5 | KA40: 0 | KB40: 0 | KC40: 0 | KD40: 0 | KE40: 0 | KF40: 0 | KG40: 0 | KH40: 5 | KI40: 0 | KJ40: 0 | KK40: 5 | KL40: 0 | KM40: 0 | KN40: 6216045 | KO40: 6216045 | KP40: 0 | KQ40: 0 | KR40: 0 | KS40: 0 | KT40: 0 | KU40: 0 | KV40: 0 | KW40: 0 | KX40: 0 | KY40: 0 | KZ40: 0 | LA40: 0 | LB40: 0 | LC40: 0 | LD40: 0 | LE40: 0
B41: 13 с иными ОВЗ | C41: 201674 | D41: 328056 | E41: 378609 | F41: 429161 | G41: 495678 | H41: 146569 | I41: 230824 | J41: 264525 | K41: 298227 | L41: 342572 | N41: 95 | O41: 15 | P41: 0 | Q41: 0 | R41: 15 | S41: 0 | T41: 0 | U41: 5679135 | V41: 80 | W41: 0 | X41: 0 | Y41: 80 | Z41: 0 | AA41: 0 | AB41: 21162000 | AC41: 26841135 | AD41: 0 | AE41: 0 | AF41: 0 | AG41: 0 | AH41: 0 | AI41: 0 | AJ41: 0 | AK41: 0 | AL41: 0 | AM41: 0 | AN41: 0 | AO41: 0 | AP41: 0 | AQ41: 0 | AR41: 0 | AS41: 0 | AT41: 0 | AU41: 0 | AV41: 0 | AW41: 0 | AX41: 0 | AY41: 0 | AZ41: 0 | BA41: 0 | BB41: 0 | BC41: 0 | BD41: 0 | BE41: 0 | BF41: 0 | BG41: 0 | BH41: 0 | BI41: 0 | BJ41: 0 | BK41: 0 | BL41: 0 | BM41: 0 | BN41: 0 | BO41: 0 | BP41: 0 | BQ41: 0 | BR41: 0 | BS41: 0 | BT41: 0 | BU41: 0 | BV41: 0 | BW41: 0 | BX41: 0 | BY41: 0 | BZ41: 0 | CA41: 0 | CB41: 0 | CC41: 0 | CD41: 0 | CE41: 0 | CF41: 0 | CG41: 0 | CH41: 0 | CI41: 0 | CJ41: 0 | CK41: 0 | CL41: 0 | CM41: 0 | CN41: 0 | CO41: 0 | CP41: 0 | CQ41: 0 | CR41: 0 | CS41: 0 | CT41: 0 | CU41: 0 | CV41: 0 | CW41: 0 | CX41: 0 | CY41: 0 | CZ41: 0 | DA41: 0 | DB41: 0 | DC41: 0 | DD41: 0 | DE41: 0 | DF41: 0 | DG41: 0 | DH41: 0 | DI41: 0 | DJ41: 0 | DK41: 0 | DL41: 0 | DM41: 0 | DN41: 0 | DO41: 0 | DP41: 0 | DQ41: 0 | DR41: 0 | DS41: 0 | DT41: 0 | DU41: 0 | DV41: 0 | DW41: 0 | DX41: 0 | DY41: 0 | DZ41: 0 | EA41: 0 | EB41: 0 | EC41: 0 | ED41: 0 | EE41: 0 | EF41: 0 | EG41: 0 | EH41: 0 | EI41: 0 | EJ41: 0 | EK41: 0 | EL41: 95 | EM41: 15 | EN41: 0 | EO41: 0 | EP41: 15 | EQ41: 0 | ER41: 0 | ES41: 5679135 | ET41: 80 | EU41: 0 | EV41: 0 | EW41: 80 | EX41: 0 | EY41: 0 | EZ41: 21162000 | FA41: 26841135 | FB41: 0 | FC41: 0 | FD41: 0 | FE41: 0 | FF41: 0 | FG41: 0 | FH41: 0 | FI41: 0 | FJ41: 0 | FK41: 0 | FL41: 0 | FM41: 0 | FN41: 0 | FO41: 0 | FP41: 0 | FQ41: 0 | FR41: 0 | FS41: 0 | FT41: 0 | FU41: 0 | FV41: 0 | FW41: 0 | FX41: 0 | FY41: 0 | FZ41: 0 | GA41: 0 | GB41: 0 | GC41: 0 | GD41: 0 | GE41: 0 | GF41: 0 | GG41: 0 | GH41: 0 | GI41: 0 | GJ41: 0 | GK41: 0 | GL41: 0 | GM41: 0 | GN41: 0 | GO41: 0 | GP41: 0 | GQ41: 0 | GR41: 0 | GS41: 0 | GT41: 0 | GU41: 0 | GV41: 0 | GW41: 0 | GX41: 0 | GY41: 0 | GZ41: 0 | HA41: 0 | HB41: 0 | HC41: 0 | HD41: 0 | HE41: 0 | HF41: 0 | HG41: 0 | HH41: 0 | HI41: 0 | HJ41: 0 | HK41: 0 | HL41: 0 | HM41: 0 | HN41: 0 | HO41: 0 | HP41: 0 | HQ41: 0 | HR41: 0 | HS41: 0 | HT41: 0 | HU41: 0 | HV41: 0 | HW41: 0 | HX41: 0 | HY41: 0 | HZ41: 0 | IA41: 0 | IB41: 0 | IC41: 0 | ID41: 0 | IE41: 0 | IF41: 0 | IG41: 0 | IH41: 0 | II41: 0 | IJ41: 0 | IK41: 0 | IL41: 0 | IM41: 0 | IN41: 0 | IO41: 0 | IP41: 0 | IQ41: 0 | IR41: 0 | IS41: 0 | IT41: 0 | IU41: 0 | IV41: 0 | IW41: 0 | IX41: 0 | IY41: 0 | IZ41: 0 | JA41: 0 | JB41: 0 | JC41: 0 | JD41: 0 | JE41: 0 | JF41: 0 | JG41: 0 | JH41: 0 | JI41: 0 | JJ41: 0 | JK41: 0 | JL41: 0 | JM41: 0 | JN41: 0 | JO41: 0 | JP41: 0 | JQ41: 0 | JR41: 0 | JS41: 0 | JT41: 0 | JU41: 0 | JV41: 0 | JW41: 0 | JX41: 0 | JY41: 0 | JZ41: 0 | KA41: 0 | KB41: 0 | KC41: 0 | KD41: 0 | KE41: 0 | KF41: 0 | KG41: 0 | KH41: 0 | KI41: 0 | KJ41: 0 | KK41: 0 | KL41: 0 | KM41: 0 | KN41: 0 | KO41: 0 | KP41: 0 | KQ41: 0 | KR41: 0 | KS41: 0 | KT41: 0 | KU41: 0 | KV41: 0 | KW41: 0 | KX41: 0 | KY41: 0 | KZ41: 0 | LA41: 0 | LB41: 0 | LC41: 0 | LD41: 0 | LE41: 0
B42: Всего: | N42: 82358 | O42: 13230 | U42: 2070981880 | V42: 69128 | AB42: 15153438548 | AC42: 17224420428 | AD42: 1542 | AE42: 365 | AK42: 50850109 | AL42: 1177 | AR42: 229738784 | AS42: 280588893 | AT42: 1705 | AU42: 427 | BA42: 78893107 | BB42: 1278 | BH42: 261599479 | BI42: 340492586 | BJ42: 2873 | BK42: 624 | BQ42: 98755158 | BR42: 2249 | BX42: 551504761 | BY42: 650259919 | BZ42: 26527 | CA42: 1989 | CG42: 281041393 | CH42: 24538 | CN42: 5336356040 | CO42: 5617397433 | CP42: 6535 | CQ42: 1426 | CW42: 254406918 | CX42: 5109 | DD42: 1335646578 | DE42: 1590053496 | DF42: 8410 | DG42: 1635 | DM42: 259227691 | DN42: 6775 | DT42: 1665329642 | DU42: 1924557333 | DV42: 3016 | DW42: 603 | EC42: 92995177 | ED42: 2413 | EJ42: 442884016 | EK42: 535879193 | EL42: 2683 | EM42: 522 | ES42: 83223896 | ET42: 2161 | EZ42: 466735535 | FA42: 549959431 | FB42: 4269 | FC42: 683 | FI42: 105803383 | FJ42: 3586 | FP42: 1087662506 | FQ42: 1193465889 | FR42: 890 | FS42: 204 | FY42: 35365500 | FZ42: 686 | GF42: 171001955 | GG42: 206367455 | GH42: 6495 | GI42: 1112 | GO42: 158194448 | GP42: 5383 | GV42: 801402420 | GW42: 959596868 | GX42: 2295 | GY42: 502 | HE42: 90216862 | HF42: 1793 | HL42: 403758765 | HM42: 493975627 | HN42: 1117 | HO42: 247 | HU42: 39343563 | HV42: 870 | IB42: 150386061 | IC42: 189729624 | ID42: 2360 | IE42: 481 | IK42: 82246831 | IL42: 1879 | IR42: 408734300 | IS42: 490981131 | IT42: 1444 | IU42: 275 | JA42: 44232715 | JB42: 1169 | JH42: 220115024 | JI42: 264347739 | JJ42: 2796 | JK42: 538 | JQ42: 76692438 | JR42: 2258 | JX42: 527432418 | JY42: 604124856 | JZ42: 2741 | KA42: 660 | KG42: 101960770 | KH42: 2081 | KN42: 461238923 | KO42: 563199693 | KP42: 4660 | KQ42: 937 | KW42: 137531921 | KX42: 3723 | LD42: 631911341 | LE42: 769443262
AC43: 2990508313
AC44: 286368100
AC45: 0.095759005

Sheet сравнение расчетов
B2: ДОУ | D2: ООУ | F2: ДОУ новый | I2: ООУ новый | M2: из утвержденного порядка
A3: на 2021 | B3: контингент по заявкам | C3: на 2021 по заявкам | D3: контингент по заявкам | E3: на 2021 по заявкам | F3: по заявкам | G3: отклонения | H3: % | I3: по заявкам | J3: отклонения | K3: % | M3: ДОУ | N3: ООУ
A4: Бокситогорский | B4: 2259 | C4: 246468700 | D4: 4457 | E4: 360482200 | F4: ='Расчет ДО'!AS42 -> 280588893 | G4: =F4-C4 -> 34120193 | H4: =G4/C4 -> 0.13843621 | I4: =#REF! -> #REF! | J4: =I4-E4 -> #REF! | K4: =J4/E4 -> #REF! | M4: 0.020880499 | N4: -0.032645441
A5: Волосовский | B5: 2163 | C5: 255892900 | D5: 4164 | E5: 383613700 | F5: ='Расчет ДО'!BI42 -> 340492586 | G5: =F5-C5 -> 84599686 | H5: =G5/C5 -> 0.33060584 | I5: =#REF! -> #REF! | J5: =I5-E5 -> #REF! | K5: =J5/E5 -> #REF! | M5: 0.031841388 | N5: -0.047196455
A6: Волховский | B6: 3919 | C6: 558191400 | D6: 7506 | E6: 605964200 | F6: ='Расчет ДО'!BY42 -> 650259919 | G6: =F6-C6 -> 92068519 | H6: =G6/C6 -> 0.16494077 | I6: =#REF! -> #REF! | J6: =I6-E6 -> #REF! | K6: =J6/E6 -> #REF! | M6: 0.0020628434 | N6: 0.02959076
A7: Всеволожский | B7: 20162 | C7: 2909594100 | D7: 45620 | E7: 3337922200 | F7: ='Расчет ДО'!CO42 -> 5617397433 | G7: =F7-C7 -> 2707803333 | H7: =G7/C7 -> 0.93064642 | I7: =#REF! -> #REF! | J7: =I7-E7 -> #REF! | K7: =J7/E7 -> #REF! | M7: 0.0014325025 | N7: -0.047516779
A8: Выборгский | B8: 8992 | C8: 1334339600 | D8: 17062 | E8: 1375995700 | F8: ='Расчет ДО'!DE42 -> 1590053496 | G8: =F8-C8 -> 255713896 | H8: =G8/C8 -> 0.19164079 | I8: =#REF! -> #REF! | J8: =I8-E8 -> #REF! | K8: =J8/E8 -> #REF! | L8: - | M8: -0.016124698 | N8: 0.0026666265
A9: Гатчинский | B9: 10372 | C9: 1555730400 | D9: 20206 | E9: 1534348000 | F9: ='Расчет ДО'!DU42 -> 1924557333 | G9: =F9-C9 -> 368826933 | H9: =G9/C9 -> 0.23707638 | I9: =#REF! -> #REF! | J9: =I9-E9 -> #REF! | K9: =J9/E9 -> #REF! | M9: 0.012191866 | N9: 0.058385479
A10: Кингисеппский | B10: 4075 | C10: 450184300 | D10: 7489 | E10: 580477100 | F10: ='Расчет ДО'!EK42 -> 535879193 | G10: =F10-C10 -> 85694893 | H10: =G10/C10 -> 0.19035513 | I10: =#REF! -> #REF! | J10: =I10-E10 -> #REF! | K10: =J10/E10 -> #REF! | M10: 0.03531308 | N10: 0.0035212062
A11: Киришский | B11: 3754 | C11: 479850100 | D11: 7008 | E11: 529266600 | F11: ='Расчет ДО'!FA42 -> 549959431 | G11: =F11-C11 -> 70109331 | H11: =G11/C11 -> 0.14610673 | I11: =#REF! -> #REF! | J11: =I11-E11 -> #REF! | K11: =J11/E11 -> #REF! | M11: -0.022434426 | N11: -0.009785657
A12: Кировский | B12: 5133 | C12: 908755500 | D12: 8965 | E12: 667550000 | F12: ='Расчет ДО'!FQ42 -> 1193465889 | G12: =F12-C12 -> 284710389 | H12: =G12/C12 -> 0.31329702 | I12: =#REF! -> #REF! | J12: =I12-E12 -> #REF! | K12: =J12/E12 -> #REF! | M12: -0.034018884 | N12: -0.0099519126
A13: Лодейнопольский | B13: 1320 | C13: 198743800 | D13: 2683 | E13: 234834100 | F13: ='Расчет ДО'!GG42 -> 206367455 | G13: =F13-C13 -> 7623655 | H13: =G13/C13 -> 0.038359209 | I13: =#REF! -> #REF! | J13: =I13-E13 -> #REF! | K13: =J13/E13 -> #REF! | M13: -0.020806929 | N13: 0.10983843
A14: Ломоносовский | B14: 4271 | C14: 471065600 | D14: 6056 | E14: 547443100 | F14: ='Расчет ДО'!GW42 -> 959596868 | G14: =F14-C14 -> 488531268 | H14: =G14/C14 -> 1.0370769 | I14: =#REF! -> #REF! | J14: =I14-E14 -> #REF! | K14: =J14/E14 -> #REF! | M14: 0.031905271 | N14: -0.041234023
A15: Лужский | B15: 2679 | C15: 352214700 | D15: 5912 | E15: 497944000 | F15: ='Расчет ДО'!HM42 -> 493975627 | G15: =F15-C15 -> 141760927 | H15: =G15/C15 -> 0.40248441 | I15: =#REF! -> #REF! | J15: =I15-E15 -> #REF! | K15: =J15/E15 -> #REF! | M15: 0.030229106 | N15: 0.081366558
A16: Подпорожский | B16: 1479 | C16: 164298600 | D16: 2788 | E16: 219374300 | F16: ='Расчет ДО'!IC42 -> 189729624 | G16: =F16-C16 -> 25431024 | H16: =G16/C16 -> 0.1547854 | I16: =#REF! -> #REF! | J16: =I16-E16 -> #REF! | K16: =J16/E16 -> #REF! | M16: -0.0011267281 | N16: 0.0080367841
A17: Приозерский | B17: 2689 | C17: 325705800 | D17: 5226 | E17: 497959000 | F17: ='Расчет ДО'!IS42 -> 490981131 | G17: =F17-C17 -> 165275331 | H17: =G17/C17 -> 0.50743748 | I17: =#REF! -> #REF! | J17: =I17-E17 -> #REF! | K17: =J17/E17 -> #REF! | M17: 0.049411552 | N17: 0.049602419
A18: Сланцевский | B18: 1743 | C18: 209869100 | D18: 3455 | E18: 280993200 | F18: ='Расчет ДО'!JI42 -> 264347739 | G18: =F18-C18 -> 54478639 | H18: =G18/C18 -> 0.2595839 | I18: =#REF! -> #REF! | J18: =I18-E18 -> #REF! | K18: =J18/E18 -> #REF! | M18: 0.034978999 | N18: 0.089947743
A19: Тихвинский | B19: 3958 | C19: 452048000 | D19: 7194 | E19: 585106100 | F19: ='Расчет ДО'!KO42 -> 563199693 | G19: =F19-C19 -> 111151693 | H19: =G19/C19 -> 0.24588471 | I19: =#REF! -> #REF! | J19: =I19-E19 -> #REF! | K19: =J19/E19 -> #REF! | M19: 0.040954676 | N19: 0.018903018
A20: Тосненский | B20: 5511 | C20: 583947700 | D20: 10973 | E20: 876403600 | F20: ='Расчет ДО'!LE42 -> 769443262 | G20: =F20-C20 -> 185495562 | H20: =G20/C20 -> 0.31765783 | I20: =#REF! -> #REF! | J20: =I20-E20 -> #REF! | K20: =J20/E20 -> #REF! | M20: 0.052391162 | N20: 0.066626232
A21: Сосновоборский | B21: 3795 | C21: 474740000 | D21: 6383 | E21: 470516400 | F21: ='Расчет ДО'!JY42 -> 604124856 | G21: =F21-C21 -> 129384856 | H21: =G21/C21 -> 0.27253835 | I21: =#REF! -> #REF! | J21: =I21-E21 -> #REF! | K21: =J21/E21 -> #REF! | M21: -0.0083939532 | N21: 0.032589458
A22: ИТОГО | B22: =SUM(B4:B21) -> 88274 | C22: =SUM(C4:C21) -> 11931640300 | D22: =SUM(D4:D21) -> 173147 | E22: =SUM(E4:E21) -> 13586193500 | F22: =SUM(F4:F21) -> 17224420428 | G22: =SUM(G4:G21) -> 5292780128 | I22: =SUM(I4:I21) -> #REF! | J22: =SUM(J4:J21) -> #REF!

Sheet Лист1
C7: ЧОУ | D7: 4992.1
C8: опека | D8: 5720.7
C9: компенсация | D9: 253.8
C10: питание | D10: 217.8
C11: подготовка | D11: 898 | E11: =SUM(D7:D11) -> 12082.4
C12: ООУ + ДОУ | D12: =369424.6+153924.9 -> 523349.5
C13: ИТОГО | D13: =SUM(D7:D12) -> 535431.9
D14: 535431.9
D15: =D14-D13 -> 0
