Workbook

Sheet Источники
A6: ИСТОЧНИКИ
A7: ВНУТРЕННЕГО ФИНАНСИРОВАНИЯ ДЕФИЦИТА БЮДЖЕТА
A8: ЛЕНИНГРАДСКОГО ОБЛАСТНОГО ФОНДА ОБЯЗАТЕЛЬНОГО МЕДИЦИНСКОГО СТРАХОВАНИЯ
A9: НА 2019 ГОД
D11: (тыс.руб.)
A12: Коды бюджетной классификации РФ | B12: Наименование источника средств | C12: Утверждено на 2019 год | D12: Проект изменений на 2019 | E12: Примечание
A15: 000 01 00 00 00 00 0000 000 | B15: Источники внутреннего финансирования дефицитов бюджетов | C15: =C16 -> 0 | D15: =D16 -> 38601.8
A16: 000 01 05 00 00 00 0000 000 | B16: Изменение остатков средств на счетах по учету средств бюджета | C16: =C17 -> 0 | D16: =D17 -> 38601.8
A17: 000 01 05 02 00 00 0000 600 | B17: Уменьшение прочих остатков средств бюджетов | C17: =C18 -> 0 | D17: =D18 -> 38601.8
A18: 000 01 05 02 01 00 0000 610 | B18: Уменьшение прочих остатков денежных средств бюджетов | C18: =C19 -> 0 | D18: =D19 -> 38601.8
A19: 395 01 05 02 01 09 0000 610 | B19: Уменьшение прочих остатков денежных средств бюджетов территориальных фондов обязательного медицинского страхования | C19: 0 | D19: =37659.1+343.2+90.4+61.8+447.3 -> 38601.8 | E19: 343,2 - смета ТФОМС, 90,4 на оплату МП через СМО; 509,1 на РФ в ЛО; 37659,1 на НСЗ мероприятия
B22: НСЗ мероприятия | D22: =72859.1 -> 72859.1 | E22: =72859062.52+0.21 -> 72859063 | G22: 37659.1 | H22: =E22-35200000 -> 37659063
B23: субвенция | D23: 433.6 | E23: 433581.46 | G23: =D23 -> 433.6 | H23: =E23 -> 433581.46
B24: реэкспертиза | D24: 61.8 | E24: =61808.3+0.39 -> 61808.69 | F24: =D24+D25 -> 509.1 | G24: =D24 -> 61.8 | H24: =E24 -> 61808.69
B25: от ТФОМС РФ | D25: 447.3 | E25: 447333.36 | F25: =E24+E25 -> 509142.05 | G25: =D25 -> 447.3 | H25: =E25 -> 447333.36
D26: =SUM(D22:D25) -> 73801.8 | E26: =SUM(E22:E25) -> 73801786 | G26: =G22+G23+G24+G25 -> 38601.8 | H26: =H22+H23+H24+H25 -> 38601786
E28: =29000 -> 29000
E29: =D26-E28 -> 44801.8
E30: =D22-E28 -> 43859.1
D31: =D26+#REF!-#REF! -> #REF!

Sheet Лист7
K1: Приложение №1
K2: тыс. рублей
B3: Код бюджетной классификации | C3: Период | D3: Направление расходования средств | K3: ИТОГО
D4: финансирование медицинской помощи, оказанной в медицинских организациях Ленинградской области гражданам, застрахованным на территории Ленинградской области | E4: на ведение дела страховыми медицинскими организациями | F4: на финансирование медицинской помощи, оказанной застрахованным в других субъектах Российской Федерации в медицинских учреждениях Ленинградской области | G4: на финансирование медицинской помощи, оказанной застрахованным в Ленинградской области на территории Российской Федерации | H4: на финансовое обеспечение мероприятий по организации дополнительного профессионального образования медицинских работников по программам повышения квалификации, а также по приобретению и проведению ремонта медицинского оборудования | I4: софинансирование расходов медицинских организаций на оплату труда врачей и среднего медицинского персонала | J4: осуществление денежных выплат стимулирующего характера медицинским работникам за выявление онкологических заболеваний в ходе проведения диспансеризации и профилактических медицинских осмотров населения
B5: 395 09 09 69 2 01 50930 300 Финансовое обеспечение организации обязательного медицинского страхования на территориях субъектов Российской Федерации | C5: утверждено | D5: 29063951 | E5: 253694.6 | F5: 0 | G5: 0 | H5: 0 | I5: 0 | J5: 0 | K5: =SUM(D5:J5) -> 29317645
C6: проект изменений | D6: =29063950.8+566291.6 -> 29630242 | E6: =253694.6-4503+5073.3 -> 254264.9 | F6: 0 | G6: 0 | H6: 0 | I6: 0 | J6: 0 | K6: =SUM(D6:J6) -> 29884507
C7: отклонение | D7: =D6-D5 -> 566291.6 | E7: =E6-E5 -> 570.3 | F7: =F6-F5 -> 0 | G7: =G6-G5 -> 0 | H7: =H6-H5 -> 0 | I7: =I6-I5 -> 0 | J7: =J6-J5 -> 0 | K7: =K6-K5 -> 566861.9
C8: примечание | D8: увеличение за счет остатка средств субвенции за 2024 год на 01.01.2025 | E8: увеличение за счет остатка средств субвенции за 2024 год на 01.01.2025 и в целях приведения в соответствие с Постановлением Правительства Ленинградской области от 28.12.2024 №1022 (в редакции от 28.03.2025 №286)
B9: 395 09 09 9 2 01 50930 500 «Межбюджетные трансферты» | C9: утверждено | D9: 0 | E9: 0 | F9: 0 | G9: 4306541.5 | H9: 0 | I9: 0 | J9: 0 | K9: =SUM(D9:J9) -> 4306541.5
C10: проект изменений | D10: 0 | E10: 0 | F10: 0 | G10: =4306541.5+4383.8 -> 4310925.3 | H10: 0 | I10: 0 | J10: 0 | K10: =SUM(D10:J10) -> 4310925.3
C11: отклонение | D11: =D10-D9 -> 0 | E11: =E10-E9 -> 0 | F11: =F10-F9 -> 0 | G11: =G10-G9 -> 4383.8 | H11: =H10-H9 -> 0 | I11: =I10-I9 -> 0 | J11: =J10-J9 -> 0 | K11: =K10-K9 -> 4383.8
C12: примечание | G12: увеличение за счет остатка средств субвенции за 2024 год на 01.01.2025
B13: 395 09 09 69 2 01 50939 300 «Финансовое обеспечение организации обязательного медицинского страхования на территориях субъектов Российской Федерации (иные расходы)» | C13: утверждено | D13: 0 | E13: 0 | F13: 4312577.4 | G13: 0 | H13: 0 | I13: 0 | J13: 0 | K13: =SUM(D13:J13) -> 4312577.4
B14: Проект изменений | C14: проект изменений | D14: 21195.7 | E14: 0 | F14: 4523580.3 | G14: 0 | H14: 0 | I14: 0 | J14: 0 | K14: =SUM(D14:J14) -> 4544776
B15: Отклонения | C15: отклонение | D15: =D14-D13 -> 21195.7 | E15: =E14-E13 -> 0 | F15: =F14-F13 -> 211002.9 | G15: =G14-G13 -> 0 | H15: =H14-H13 -> 0 | I15: =I14-I13 -> 0 | J15: =J14-J13 -> 0 | K15: =K14-K13 -> 232198.6
C16: примечание | D16: оплата мед.помощи за 2024 год за счет остатка на 01.01.2025 и возврата от СМО | F16: увеличение за счет остатка средств на 01.01.2025
B17: 395 09 09 69 2 01 50939 600 "Предоставление субсидий бюджетным, автономным учреждениям и иным некоммерческим организациям" | C17: утверждено | D17: 0 | E17: 0 | F17: 0 | G17: 0 | H17: 99854.3 | I17: 0 | J17: 0 | K17: =SUM(D17:J17) -> 99854.3
B18: Проект изменений | C18: проект изменений | D18: 0 | E18: 0 | F18: 0 | G18: 0 | H18: 173795.2 | I18: 0 | J18: 0 | K18: =SUM(D18:J18) -> 173795.2
B19: Отклонения | C19: отклонение | D19: =D18-D17 -> 0 | E19: =E18-E17 -> 0 | F19: =F18-F17 -> 0 | G19: =G18-G17 -> 0 | H19: =H18-H17 -> 73940.9 | I19: =I18-I17 -> 0 | J19: =J18-J17 -> 0 | K19: =K18-K17 -> 73940.9
C20: примечание | H20: увеличение за счет остатка средств на 01.01.2025
B21: 395 09 09 51 5 02 73030 300 «Увеличение средней заработной платы врачей, среднего (фармацевтического) и младшего медицинского персонала в сфере обязательного медицинского страхования в соответствии с Указом Президента Российской Федерации от 7 мая 2012 года № 597 "О мероприятиях по реализации государственной социальной политики"» | C21: утверждено | D21: 2982751.9 | E21: 34147.1 | F21: 0 | G21: 0 | H21: 0 | I21: 0 | J21: 0 | K21: =SUM(D21:J21) -> 3016899
B22: Проект изменений | C22: проект изменений | D22: =2982751.9-4503 -> 2978248.9 | E22: =41312-2661.9 -> 38650.1 | F22: 0 | G22: 0 | H22: 0 | I22: 0 | J22: 0 | K22: =SUM(D22:J22) -> 3016899
B23: Отклонения | C23: отклонение | D23: =D22-D21 -> -4503 | E23: =E22-E21 -> 4503 | F23: =F22-F21 -> 0 | G23: =G22-G21 -> 0 | H23: =H22-H21 -> 0 | I23: =I22-I21 -> 0 | J23: =J22-J21 -> 0 | K23: =K22-K21 -> 0
C24: примечание | D24: в целях приведения в соответствие с Постановлением Правительства Ленинградской области от 28.12.2024 №1022 (в редакции от 28.03.2025 №286)
B25: 395 09 09 51 5 02 74500 «Дополнительное финансовое обеспечение по страховым случаям, установленным базовой программой обязательного медицинского страхования» | C25: утверждено | D25: 231473.5 | E25: 2661.9 | F25: 0 | G25: 0 | H25: 0 | I25: 0 | J25: 0 | K25: =SUM(D25:J25) -> 234135.4
C26: проект изменений | D26: 231473.5 | E26: 2661.9 | F26: 0 | G26: 0 | H26: 0 | I26: 0 | J26: 0 | K26: =SUM(D26:J26) -> 234135.4
C27: отклонение | D27: =D26-D25 -> 0 | E27: =E26-E25 -> 0 | F27: =F26-F25 -> 0 | G27: =G26-G25 -> 0 | H27: =H26-H25 -> 0 | I27: =I26-I25 -> 0 | J27: =J26-J25 -> 0 | K27: =K26-K25 -> 0
C28: примечание | D28: 0 | E28: 0 | F28: 0 | G28: 0 | H28: 0 | I28: 0 | J28: 0 | K28: 0
B29: 395 09 09 69 2 01 52570 600 «Cофинансирование расходов медицинских организаций на оплату труда врачей и среднего медицинского персонала» | C29: утверждено | D29: 0 | E29: 0 | F29: 0 | G29: 0 | H29: 0 | I29: 0 | J29: 0 | K29: =SUM(D29:J29) -> 0
C30: проект изменений | D30: 0 | E30: 0 | F30: 0 | G30: 0 | H30: 0 | I30: 60163.7 | J30: 0 | K30: =SUM(D30:J30) -> 60163.7
C31: отклонение | D31: =D30-D29 -> 0 | E31: =E30-E29 -> 0 | F31: =F30-F29 -> 0 | G31: =G30-G29 -> 0 | H31: =H30-H29 -> 0 | I31: =I30-I29 -> 60163.7 | J31: =J30-J29 -> 0 | K31: =SUM(D31:J31) -> 60163.7
C32: примечание | I32: Распоряжение Правительства РФ от 05.12.2024 №3581-р
B33: 395 09 09 69 2 01 52580 600 «Финансовое обеспечение осуществления денежных выплат стимулирующего характера медицинским работникам за выявление онкологических заболеваний в ходе проведения диспансеризации и профилактических медицинских осмотров населения» | C33: утверждено | D33: 0 | E33: 0 | F33: 0 | G33: 0 | H33: 0 | I33: 0 | J33: 0 | K33: =SUM(D33:J33) -> 0
C34: проект изменений | D34: 0 | E34: 0 | F34: 0 | G34: 0 | H34: 0 | I34: 0 | J34: =1445.6+65.8 -> 1511.4 | K34: =SUM(D34:J34) -> 1511.4
C35: отклонение | D35: =D34-D33 -> 0 | E35: =E34-E33 -> 0 | F35: =F34-F33 -> 0 | G35: =G34-G33 -> 0 | H35: =H34-H33 -> 0 | I35: =I34-I33 -> 0 | J35: =J34-J33 -> 1511.4 | K35: =SUM(K33:K34) -> 1511.4
C36: примечание | J36: Распоряжение Правительства РФ от 07.12.2024 №3609-р и 65,8 тыс. рублей остатки средств на 01.01.2025 года.
B37: Итого | C37: утверждено | D37: =D5+D9+D13+D17+D21+D25+D29+D33 -> 32278176 | E37: =E5+E9+E13+E17+E21+E25+E29+E33 -> 290503.6 | F37: =F5+F9+F13+F17+F21+F25+F29+F33 -> 4312577.4 | G37: =G5+G9+G13+G17+G21+G25+G29+G33 -> 4306541.5 | H37: =H5+H9+H13+H17+H21+H25+H29+H33 -> 99854.3 | I37: =I5+I9+I13+I17+I21+I25+I29+I33 -> 0 | J37: =J5+J9+J13+J17+J21+J25+J29+J33 -> 0 | K37: =SUM(D37:J37) -> 41287653
C38: проект изменений | D38: =D6+D10+D14+D18+D22+D26+D30+D34 -> 32861160 | E38: =E6+E10+E14+E18+E22+E26+E30+E34 -> 295576.9 | F38: =F6+F10+F14+F18+F22+F26+F30+F34 -> 4523580.3 | G38: =G6+G10+G14+G18+G22+G26+G30+G34 -> 4310925.3 | H38: =H6+H10+H14+H18+H22+H26+H30+H34 -> 173795.2 | I38: =I6+I10+I14+I18+I22+I26+I30+I34 -> 60163.7 | J38: =J6+J10+J14+J18+J22+J26+J30+J34 -> 1511.4 | K38: =SUM(D38:J38) -> 42226713
C39: отклонение | D39: =D38-D37 -> 582984.3 | E39: =E38-E37 -> 5073.3 | F39: =F38-F37 -> 211002.9 | G39: =G38-G37 -> 4383.8 | H39: =H38-H37 -> 73940.9 | I39: =I38-I37 -> 60163.7 | J39: =J38-J37 -> 1511.4 | K39: =K38-K37 -> 939060.3

Sheet НСЗ мероприятия
A1: НСЗ мероприятия
B3: Факт за 2018 год | C3: утверждено на 2019 | D3: Факт на 01.03.19 | E3: Изменения на 2019 год | F3: План на 2020
A4: Остаток на н.г. | B4: 30917.9 | C4: 29600 | D4: =Источники!D22 -> 72859.1 | E4: 72859.1 | F4: =E10 -> 35200
A5: Формирование | B5: 136868.3 | C5: 125750.6 | D5: =D6+D7+D8 -> 19583.7 | E5: 125750.6 | F5: =F6+F7+F8 -> 136868.3 | N5: август | O5: сентябрь | P5: октябрь | Q5: ноябрь | R5: декабрь
A6: От СМО | B6: 115643.6 | C6: 106738.4 | D6: 17595.6 | E6: 106738.4 | F6: =B6 -> 115643.6 | G6: 115717 | H6: =G6-F6 -> 73.4 | M6: =C6-#REF! -> #REF! | N6: =M6/5 -> #REF! | O6: 8380 | P6: 8380 | Q6: 8380 | R6: 8380
A7: от ТФОМС МТР | B7: 14870.8 | C7: 12041.5 | D7: 1956.7 | E7: 12041.5 | F7: =B7 -> 14870.8 | M7: =C7-#REF! -> #REF! | N7: =M7/5 -> #REF! | O7: 1172.16 | P7: 1172.16 | Q7: 1172.16 | R7: 1172.16
A8: от ТФОМС реэкспертиза | B8: 6353.9 | C8: 6970.7 | D8: 31.4 | E8: 6970.7 | F8: =B8 -> 6353.9 | M8: =C8-#REF! -> #REF! | N8: =M8/5 -> #REF! | O8: 321.36 | P8: 321.36 | Q8: 321.36 | R8: 321.36
A9: Расходы | B9: 94927.1 | C9: 125750.6 | D9: 6566.5 | E9: 163409.7 | F9: =F5 -> 136868.3
A10: Остаток на к.г. | B10: 72859.1 | C10: 29600 | D10: =D4+D5-D9 -> 85876.3 | E10: 35200 | F10: =F4+F5-F9 -> 35200
B12: 2017 | D12: 2018 | F12: =F4+F5 -> 172068.3 | H12: 2020
A13: январь | B13: 144194.08 | C13: =(B13+B14+B15)/B25*100 -> 11.151542 | D13: 580376.32 | E13: =(D13+D14+D15)/D25*100 -> 20.129841 | G13: январь
A14: февраль | B14: 4462609.5 | D14: 13371505 | G14: февраль
A15: март | B15: 3113195.2 | D15: 9326995.1 | G15: март | N15: =C15-C4 -> -29600
A16: апрель | B16: 7398841.5 | C16: =(B16+B17+B18)/B25*100 -> 26.157074 | D16: 9845880.9 | E16: =(D16+D17+D18)/D25*100 -> 28.690707 | G16: апрель | N16: =10587.8 -> 10587.8
A17: май | B17: 4740129.8 | D17: 12671685 | G17: май | N17: =N16+C7+C8 -> 29600
A18: июнь | B18: 5969069.2 | D18: 10661406 | G18: июнь
A19: июль | B19: 7071438.3 | C19: =(B19+B20+B21)/B25*100 -> 30.056121 | D19: 8380583.2 | E19: =(D19+D20+D21)/D25*100 -> 23.421856
A20: август | B20: 6641544.6 | D20: 9711265.5
A21: сентябрь | B21: 7094293.5 | D21: 8994032.8
A22: октябрь | B22: 6614420.8 | C22: =(B22+B23+B24)/B25*100 -> 32.635263 | D22: 10615421 | E22: =(D22+D23+D24)/D25*100 -> 27.757596 | F22: =E6*E22/100 -> 29628.014
A23: ноябрь | B23: 7099921.5 | D23: 11461850
A24: декабрь | B24: 8878424.6 | D24: 10022618
B25: =SUM(B13:B24) -> 69228083 | C25: =SUM(C13:C24) -> 100 | D25: =SUM(D13:D24) -> 1.1564362e+08 | E25: =SUM(E13:E24) -> 100
A29: Фонд+ СМО
B30: 2017 | D30: 2018
A31: январь | B31: 1048202.4 | C31: =(B31+B32+B33)/B43*100 -> 12.194879 | D31: 1804466.3 | E31: =(D31+D32+D33)/D43*100 -> 19.609744
A32: февраль | B32: 5639762.9 | D32: 14598027
A33: март | B33: 4251646.3 | D33: 10437026
A34: апрель | B34: 8655440.2 | C34: =(B34+B35+B36)/B43*100 -> 25.49287 | D34: 10883167 | E34: =(D34+D35+D36)/D43*100 -> 29.143842
A35: май | B35: 7035337 | D35: 15334346
A36: июнь | B36: 7178011.1 | D36: 13671162
A37: июль | B37: 8549551.2 | C37: =(B37+B38+B39)/B43*100 -> 30.037025 | D37: 9654861.3 | E37: =(D37+D38+D39)/D43*100 -> 22.779448
A38: август | B38: 8401419 | D38: 10879410
A39: сентябрь | B39: 9994225.6 | D39: 10643568
A40: октябрь | B40: 9100611.6 | C40: =(B40+B41+B42)/B43*100 -> 32.275226 | D40: 11625488 | E40: =(D40+D41+D42)/D43*100 -> 28.466967
A41: ноябрь | B41: 9808874 | D41: 14745839
A42: декабрь | B42: 10043524 | D42: 12590920 | F42: =E5*28/100 -> 35210.168
B43: =SUM(B31:B42) -> 89706606 | C43: =SUM(C31:C42) -> 100 | D43: =SUM(D31:D42) -> 1.3686828e+08 | E43: =SUM(E31:E42) -> 100

Sheet РФ в ЛО пром вар
B4: РФ в ЛО
B5: Факт за 2019 год | C5: =#REF! -> #REF!
B6: подушевой на 2020 год | C6: 12699.2
B7: подушевой на 2021 год | C7: 13461.6
B8: % роста подушевого | C8: =C7/C6 -> 1.0600353
B9: Сумма на 2021 | C9: =C5*C8 -> #REF!
B10: подушевой на 2022 | C10: 14193
B11: % роста подушевого | C11: =C10/C7 -> 1.0543323
B12: Сумма на 2022 и на 2023 год | C12: =ROUND(C9*C11,1) -> #REF!
B13: Сумма на 2021 (расчет по факту 2019 года) | C13: 2752703.1 | D13: в проект
B14: Сумма на 2022 и на 2023 год (расчет по факту 2019 года) | C14: 2737900.8 | D14: в проект
B18: РФ в ЛО
B19: Факт за 2018 год | C19: 2769840
B20: подушевой на 2019 год | C20: 11800.2
B21: подушевой на 2020 год | C21: 12696.9
B22: % роста подушевого | C22: 1.0759902
B23: Сумма на 2020 | C23: 2980320.8
B24: подушевой на 2021 | C24: 14193
B25: % роста подушевого | C25: 1.1178319
B26: Сумма на 2021 и на 2022 год | C26: 3331497.7
B27: Сумма на 2020 (расчет по факту 2018 года) | C27: 2980320.8 | D27: в проект
B28: Сумма на 2021 и на 2022 год (расчет по факту 2018 года) | C28: 3176201.5 | D28: в проект

Sheet Лист1
A9: Сумма остатка | C9: Наименование | F9: =Ли -> #NAME?
A10: 37659.1 | C10: средства нормированного страхового запаса Фонда на финансовое обеспечение мероприятий по организации дополнительного профессионального образования медицинских работников по программам повышения квалификации, а также по приобретению и проведению ремонта медицинского оборудования
A11: 433.6 | B11: 323.2 | C11: на смету | D11: субвенция, предоставляемая из бюджета Федерального фонда обязательного медицинского страхования
B12: 90.4 | C12: на оплату мед. помощи за 2018 год
A13: 61.8 | C13: средства, поступившие в последний рабочий день от медицинских организаций по актам реэкспертизы
A14: 447.3 | C14: поступившие в последний рабочий день от территориальных фондов обязательного медицинского страхования
A15: =A10+A11+A13+A14 -> 38601.8 | C15: итого (источник внутреннего финансирования дефицита бюджета)

Sheet Лист2
A5: КБК | C5: Утверждено | D5: Увеличение | F5: Примечание
A6: За счет остатка денежных средств на счетах Фонда на 01.01.2019 года
A7: 39501136730150930 | B7: =#REF! -> #REF! | C7: 156012.5 | D7: 343.2 | F7: =Лист1!C11 -> на смету
A8: 39509095170250930 | B8: =#REF! -> #REF! | C8: 16288809 | D8: 90.4 | F8: =Лист1!C12 -> на оплату мед. помощи за 2018 год
A9: 39509095170250939 | B9: Финансовое обеспечение организации обязательного медицинского страхования на территориях субъектов Российской Федерации (иные расходы) | C9: 2895715.4 | D9: =Лист1!A14+Лист1!A13 -> 509.1 | F9: на оплату расходов за медицинскую помощь, оказанную жителям, застрахованным в других регионах Российской Федерации, пролеченным в медицинских организациях Ленинградской области
D10: =Лист1!A10 -> 37659.1 | F10: на оплату расходов бюджета Фонда из средств нормированного страхового запаса Фонда на финансовое обеспечение мероприятий по организации дополнительного профессионального образования медицинских работников по программам повышения квалификации, а также по приобретению и проведению ремонта медицинского оборудования
A11: ИТОГО | D11: =D7+D8+D9+D10 -> 38601.8
A12: За счет увеличения межбюджетного трансферта из областного бюджета Ленинградвкой области
A13: 39509095170273030 | B13: Увеличение средней заработной платы врачей, среднего (фармацевтического) и младшего медицинского персонала в сфере обязательного медицинского страхования | C13: 3408359.7 | D13: 587000 | F13: увеличение средней заработной платы врачей, среднего (фармацевтического) и младшего медицинского персонала в сфере обязательного медицинского страхования
D14: =D13+D11 -> 625601.8

Sheet Лист3
A7: 39501136730150930 | B7: =#REF! -> #REF! | C7: 156012.5 | D7: 4950.6 | E7: за счет экономии, уменьшены расходы на ведение дела страховых медицинских организаций. Экономия по данным расходам образуется в связи с выделением средств из нормированного страхового запаса Фонда (ведение дела страховым медицинским организациям за счет средств нормированного страхового запаса Фонда не направляется). Данные средства запланированы в соответствии с письмом Федерального фонда обязательного медицинского страхования от 27.08.2018 № 10714/91/и и направляются на закупку вычислительных мощностей и систем хранения данных ИТ-инфраструктуры, необходимых для обеспечения интеграции информационных систем ТФОМС и ГИС ОМС. Норматив расходов на обеспечение Фондом своих функций с учетом закупки вычислительных мощностей и систем хранения данных ИТ-инфраструктуры, необходимых для обеспечения интеграции информационных систем ТФОМС и ГИС ОМС согласован Федеральным фондом обязательного медицинского страхования письмом от 19.12.2018 №14149/21-2/7434.
A8: 39509095170250930 | B8: =#REF! -> #REF! | C8: 16288809 | D8: -4950.6
A9: 39509095170250930 | B9: =B8 -> #REF! | C9: 16288809 | D9: -110239.3 | E9: Отражены средства в размере для софинансирования расходов медицинских организаций на оплату труда врачей и среднего медицинского персонала в соответствии с пунктом 6 статьи 26 федерального закона №326-ФЗ от 29.11.2010 «Об обязательном медицинском страховании в Российской Федерации».
A10: 39509095170250931 | B10: Финансовое обеспечение организации обязательного медицинского страхования на территориях субъектов Российской Федерации (софинансирование расходов медицинских организаций на оплату труда врачей и среднего медицинского персонала) | C10: 0 | D10: 110239.3

Sheet НСЗ мероприятия (3)
A1: НСЗ мероприятия
B3: Факт за 2018 год | C3: Факт за 2019 год | D3: Утверждено на 2020 | E3: Факт на 01.08.20 | F3: Исполнение, %, | G3: Внесение измен. 2020 | H3: План на 2021 год | J3: Факт на 01.08.20 | K3: Расчет остатка на к.г.
A4: Остаток на н.г. | B4: 30917.9 | C4: 72859.1 | D4: 263676.6 | E4: 263676.6 | F4: =E4/D4 -> 1 | G4: =E4 -> 263676.6 | H4: 53082.6 | J4: 263676.6 | K4: =H5/4 -> 59126.875 | M4: =F4-D4 -> -263675.6 | N4: =311+89 -> 400
A5: Формирование | B5: 136868.3 | C5: =C6+C7+C8 -> 339123.3 | D5: 136941.7 | E5: =E6+E7+E8 -> 130153.5 | F5: =E5/D5 -> 0.95043 | G5: =G6+G7+G8 -> 212330.4 | H5: =H6+H7+H8 -> 236507.5 | I5: в проект | J5: =J6+J7+J8 -> 129536.1 | K5: 59127 | L5: =111478.3+155.1 -> 111633.4 | T5: август | U5: сентябрь | V5: октябрь | W5: ноябрь | X5: декабрь
A6: От СМО | B6: 115643.6 | C6: 322378.5 | D6: 115717 | E6: 111478.3 | F6: =E6/D6 -> 0.96337012 | G6: 191105.7 | H6: 202572 | J6: =111478.3 -> 111478.3 | K6: санкции смо | M6: =F4+N9 -> 400619.3 | S6: =D6-#REF! -> #REF! | T6: =S6/5 -> #REF! | U6: 8380 | V6: 8380 | W6: 8380 | X6: 8380
A7: от ТФОМС МТР | B7: 14870.8 | C7: 16358.1 | D7: 14870.8 | E7: 17586.4 | F7: =E7/D7 -> 1.1826129 | G7: 14870.8 | H7: 31957 | J7: 17586.4 | K7: фонд к мо | S7: =D7-#REF! -> #REF! | T7: =S7/5 -> #REF! | U7: 1172.16 | V7: 1172.16 | W7: 1172.16 | X7: 1172.16
A8: от ТФОМС реэкспертиза | B8: 6353.9 | C8: 386.7 | D8: 6353.9 | E8: 1088.8 | F8: =E8/D8 -> 0.17135932 | G8: 6353.9 | H8: 1978.5 | J8: 471.4 | M8: =D4+D5-E5 -> 270464.8 | S8: =D8-#REF! -> #REF! | T8: =S8/5 -> #REF! | U8: 321.36 | V8: 321.36 | W8: 321.36 | X8: 321.36
A9: Расходы | B9: 94927.1 | C9: 148305.8 | D9: 366383.3 | E9: 205553.8 | F9: =E9/D9 -> 0.56103485 | G9: =G4+G5-G10 -> 422924.4 | H9: =H4+H5-H10 -> 236507.5 | J9: 205553.8 | M9: =M8/3 -> 90154.933 | N9: =D4+D5 -> 400618.3
A10: Остаток на к.г. | B10: 72859.1 | C10: =C4+C5-C9 -> 263676.6 | D10: 34235 | E10: =E4+E5-E9 -> 188276.3 | G10: 53082.6 | H10: 53082.6 | J10: =J4+J5-J9 -> 187658.9 | K10: 35200 | L10: =H4*4 -> 212330.4 | N10: =N9+M4 -> 136942.7
A11: НСЗ для финансового обеспечения мероприятий | B11: =B4+B5 -> 167786.2 | C11: =C4+C5 -> 411982.4 | D11: =D4+D5 -> 400618.3 | E11: =E4+E5 -> 393830.1 | G11: =G4+G5 -> 476007 | H11: =H4+H5 -> 289590.1 | J11: =J4+J5 -> 393212.7
H12: =H11-D11 -> -111028.2 | L12: =K4/4 -> 14781.719
D13: =311526.4+89091.9 -> 400618.3 | E13: =E6+E7+E8 -> 130153.5 | J13: Расчет плана на 2021 год
B14: =D6/B6 -> 1.0006347 | C14: 2017 | E14: 2018 | F14: =F4+F5 -> 1.95043 | J14: От СМО | K14: от ТФОМС МТР | L14: от ТФОМС реэкспертиза | M14: =E5*4 -> 520614
A15: январь | C15: 144194.08 | D15: =(C15+C16+C17)/C27*100 -> 11.151542 | E15: 580376.32 | F15: =(E15+E16+E17)/E27*100 -> 20.129841 | H15: 1/7 от поступл факту на 01.08. | J15: =E6/7 -> 15925.471 | K15: =E7/7 -> 2512.3429 | L15: =E8/7 -> 155.54286 | M15: =F4+M14 -> 520615
A16: февраль | C16: 4462609.5 | E16: 13371505 | H16: Расчет на 12 мес. | J16: =J15*12 -> 191105.66 | K16: =K15*12 -> 30148.114 | L16: =L15*12 -> 1866.5143 | M16: =M14/4 -> 130153.5
A17: март | C17: 3113195.2 | E17: 9326995.1 | H17: рост подуш. 1,06 | J17: =J16*1.06 -> 202572 | K17: =K16*1.06 -> 31957.001 | L17: =L16*1.06 -> 1978.5051 | T17: =D17-D4 -> -263676.6
A18: апрель | C18: 7398841.5 | D18: =(C18+C19+C20)/C27*100 -> 26.157074 | E18: 9845880.9 | F18: =(E18+E19+E20)/E27*100 -> 28.690707 | T18: =10587.8 -> 10587.8
A19: май | C19: 4740129.8 | E19: 12671685 | L19: =(F5-E5)/3 -> -43384.183 | T19: =T18+D7+D8 -> 31812.5
A20: июнь | C20: 5969069.2 | E20: 10661406
A21: июль | C21: 7071438.3 | D21: =(C21+C22+C23)/C27*100 -> 30.056121 | E21: 8380583.2 | F21: =(E21+E22+E23)/E27*100 -> 23.421856 | K21: =K5/4 -> 14781.75
A22: август | C22: 6641544.6 | E22: 9711265.5 | M22: =D5/4 -> 34235.425
A23: сентябрь | C23: 7094293.5 | E23: 8994032.8
A24: октябрь | C24: 6614420.8 | D24: =(C24+C25+C26)/C27*100 -> 32.635263 | E24: 10615421 | F24: =(E24+E25+E26)/E27*100 -> 27.757596 | J24: =F6*F24/100 -> 0.26740839
A25: ноябрь | C25: 7099921.5 | E25: 11461850
A26: декабрь | C26: 8878424.6 | E26: 10022618
C27: =SUM(C15:C26) -> 69228083 | D27: =SUM(D15:D26) -> 100 | E27: =SUM(E15:E26) -> 1.1564362e+08 | F27: =SUM(F15:F26) -> 100
A31: Фонд+ СМО
C32: 2017 | E32: 2018
A33: январь | C33: 1048202.4 | D33: =(C33+C34+C35)/C45*100 -> 12.194879 | E33: 1804466.3 | F33: =(E33+E34+E35)/E45*100 -> 19.609744
A34: февраль | C34: 5639762.9 | E34: 14598027
A35: март | C35: 4251646.3 | E35: 10437026
A36: апрель | C36: 8655440.2 | D36: =(C36+C37+C38)/C45*100 -> 25.49287 | E36: 10883167 | F36: =(E36+E37+E38)/E45*100 -> 29.143842
A37: май | C37: 7035337 | E37: 15334346
A38: июнь | C38: 7178011.1 | E38: 13671162
A39: июль | C39: 8549551.2 | D39: =(C39+C40+C41)/C45*100 -> 30.037025 | E39: 9654861.3 | F39: =(E39+E40+E41)/E45*100 -> 22.779448
A40: август | C40: 8401419 | E40: 10879410
A41: сентябрь | C41: 9994225.6 | E41: 10643568
A42: октябрь | C42: 9100611.6 | D42: =(C42+C43+C44)/C45*100 -> 32.275226 | E42: 11625488 | F42: =(E42+E43+E44)/E45*100 -> 28.466967
A43: ноябрь | C43: 9808874 | E43: 14745839
A44: декабрь | C44: 10043524 | E44: 12590920 | J44: =F5*28/100 -> 0.2661204
...

Sheet НСЗ мероприятия (4)
A1: НСЗ мероприятия
B3: Факт за 2018 год | C3: Факт за 2019 год | D3: Утверждено на 2020 | E3: Факт на 01.10.20 | F3: Исполнение, %, | G3: Внесение измен. 2020 | H3: План на 2022 год | J3: 2023 | K3: 2024 | L3: Факт на 01.08.20 | M3: Расчет остатка на к.г.
A4: Остаток на н.г. | B4: 30917.9 | C4: 72859.1 | D4: 263676.6 | E4: 263676.6 | F4: =E4/D4 -> 1 | G4: =E4 -> 263676.6 | H4: 53082.6 | J4: =H10 -> 32465.9 | K4: =J10 -> 32465.9 | L4: 263676.6 | M4: =H5/4 -> 32465.85 | O4: =F4-D4 -> -263675.6 | P4: =311+89 -> 400
A5: Формирование | B5: 136868.3 | C5: =C6+C7+C8 -> 339123.3 | D5: 136941.7 | E5: =E6+E7+E8 -> 165597.4 | F5: =E5/D5 -> 1.2092547 | G5: =G6+G7+G8 -> 212330.4 | H5: =H6+H7+H8 -> 129863.4 | I5: в проект | J5: =J6+J7+J8 -> 137135.2 | K5: =K6+K7+K8 -> 137135.2 | L5: =L6+L7+L8 -> 129536.1 | M5: 59127 | N5: =111478.3+155.1 -> 111633.4 | V5: август | W5: сентябрь | X5: октябрь | Y5: ноябрь | Z5: декабрь
A6: От СМО | B6: 115643.6 | C6: 322378.5 | D6: 115717 | E6: 143484.7 | F6: =E6/D6 -> 1.2399621 | G6: 191105.7 | H6: 123976.4 | J6: 130919.1 | K6: 130919.1 | L6: =111478.3 -> 111478.3 | M6: санкции смо | O6: =F4+P9 -> 400619.3 | U6: =D6-#REF! -> #REF! | V6: =U6/5 -> #REF! | W6: 8380 | X6: 8380 | Y6: 8380 | Z6: 8380
A7: от ТФОМС МТР | B7: 14870.8 | C7: 16358.1 | D7: 14870.8 | E7: 20829.3 | F7: =E7/D7 -> 1.4006846 | G7: 14870.8 | H7: 5755.4 | J7: 6077.1 | K7: 6077.1 | L7: 17586.4 | M7: фонд к мо | U7: =D7-#REF! -> #REF! | V7: =U7/5 -> #REF! | W7: 1172.16 | X7: 1172.16 | Y7: 1172.16 | Z7: 1172.16
A8: от ТФОМС реэкспертиза | B8: 6353.9 | C8: 386.7 | D8: 6353.9 | E8: 1283.4 | F8: =E8/D8 -> 0.20198618 | G8: 6353.9 | H8: 131.6 | J8: 139 | K8: 139 | L8: 471.4 | O8: =D4+D5-E5 -> 235020.9 | U8: =D8-#REF! -> #REF! | V8: =U8/5 -> #REF! | W8: 321.36 | X8: 321.36 | Y8: 321.36 | Z8: 321.36
A9: Расходы | B9: 94927.1 | C9: 148305.8 | D9: 366383.3 | E9: 230399.7 | F9: =E9/D9 -> 0.6288488 | G9: =G4+G5-G10 -> 422924.4 | H9: =H4+H5-H10 -> 150480.1 | J9: =J4+J5-J10 -> 137135.2 | K9: =K4+K5-K10 -> 137135.2 | L9: 205553.8 | O9: =O8/3 -> 78340.3 | P9: =D4+D5 -> 400618.3
A10: Остаток на к.г. | B10: 72859.1 | C10: =C4+C5-C9 -> 263676.6 | D10: 34235 | E10: =E4+E5-E9 -> 198874.3 | G10: 53082.6 | H10: 32465.9 | J10: 32465.9 | K10: 32465.9 | L10: =L4+L5-L9 -> 187658.9 | M10: 35200 | N10: =H4*4 -> 212330.4 | P10: =P9+O4 -> 136942.7
A11: НСЗ для финансового обеспечения мероприятий | B11: =B4+B5 -> 167786.2 | C11: =C4+C5 -> 411982.4 | D11: =D4+D5 -> 400618.3 | E11: =E4+E5 -> 429274 | G11: =G4+G5 -> 476007 | H11: =H4+H5 -> 182946 | J11: =J4+J5 -> 169601.1 | K11: =K4+K5 -> 169601.1 | L11: =L4+L5 -> 393212.7
H12: =H11-D11 -> -217672.3 | N12: =M4/4 -> 8116.4625
D13: =311526.4+89091.9 -> 400618.3 | E13: =E6+E7+E8 -> 165597.4 | L13: Расчет плана на 2021 год
B14: =D6/B6 -> 1.0006347 | C14: 2017 | E14: 2018 | F14: =F4+F5 -> 2.2092547 | L14: От СМО | M14: от ТФОМС МТР | N14: от ТФОМС реэкспертиза | O14: =E5*4 -> 662389.6
A15: январь | C15: 144194.08 | D15: =(C15+C16+C17)/C27*100 -> 11.151542 | E15: 580376.32 | F15: =(E15+E16+E17)/E27*100 -> 20.129841 | H15: 1/9 от поступл факту на 01.10. | L15: =E6/9 -> 15942.744 | M15: =E7/9 -> 2314.3667 | N15: =E8/9 -> 142.6 | O15: =F4+O14 -> 662390.6
A16: февраль | C16: 4462609.5 | E16: 13371505 | H16: Расчет на 12 мес. | L16: =L15*12 -> 191312.93 | M16: =M15*12 -> 27772.4 | N16: =N15*12 -> 1711.2 | O16: =O14/4 -> 165597.4
A17: март | C17: 3113195.2 | E17: 9326995.1 | H17: рост подуш. 1,03 | L17: =L16*1.03 -> 197052.32 | M17: =M16*1.03 -> 28605.572 | N17: =N16*1.03 -> 1762.536 | V17: =D17-D4 -> -263676.6
A18: апрель | C18: 7398841.5 | D18: =(C18+C19+C20)/C27*100 -> 26.157074 | E18: 9845880.9 | F18: =(E18+E19+E20)/E27*100 -> 28.690707 | V18: =10587.8 -> 10587.8
A19: май | C19: 4740129.8 | E19: 12671685 | N19: =(F5-E5)/3 -> -55198.73 | V19: =V18+D7+D8 -> 31812.5
A20: июнь | C20: 5969069.2 | E20: 10661406
A21: июль | C21: 7071438.3 | D21: =(C21+C22+C23)/C27*100 -> 30.056121 | E21: 8380583.2 | F21: =(E21+E22+E23)/E27*100 -> 23.421856 | H21: 12699.2 | M21: =M5/4 -> 14781.75
A22: август | C22: 6641544.6 | E22: 9711265.5 | G22: 2021 | H22: 13078.6 | I22: =H22/H21 -> 1.0298759 | L22: 1.03 | O22: =D5/4 -> 34235.425
A23: сентябрь | C23: 7094293.5 | E23: 8994032.8 | G23: 2022 | H23: 13696.7 | I23: =H23/H22 -> 1.0472604 | L23: 1.047 | M23: =L17*L23 -> 206313.78
A24: октябрь | C24: 6614420.8 | D24: =(C24+C25+C26)/C27*100 -> 32.635263 | E24: 10615421 | F24: =(E24+E25+E26)/E27*100 -> 27.757596 | G24: 2023 | H24: 14469.5 | I24: =H24/H23 -> 1.0564223 | L24: 1.056
A25: ноябрь | C25: 7099921.5 | E25: 11461850
A26: декабрь | C26: 8878424.6 | E26: 10022618 | J26: 197052.3
C27: =SUM(C15:C26) -> 69228083 | D27: =SUM(D15:D26) -> 100 | E27: =SUM(E15:E26) -> 1.1564362e+08 | F27: =SUM(F15:F26) -> 100
H30: 0.025 | I30: =H30*H6 -> 3099.41 | J30: =I30+H6 -> 127075.81 | K30: 201979
A31: Фонд+ СМО | H31: 0.05 | I31: =H31*H6 -> 6198.82 | J31: =I31+H6 -> 130175.22 | K31: 206905
C32: 2017 | E32: 2018
A33: январь | C33: 1048202.4 | D33: =(C33+C34+C35)/C45*100 -> 12.194879 | E33: 1804466.3 | F33: =(E33+E34+E35)/E45*100 -> 19.609744
A34: февраль | C34: 5639762.9 | E34: 14598027
A35: март | C35: 4251646.3 | E35: 10437026
A36: апрель | C36: 8655440.2 | D36: =(C36+C37+C38)/C45*100 -> 25.49287 | E36: 10883167 | F36: =(E36+E37+E38)/E45*100 -> 29.143842
A37: май | C37: 7035337 | E37: 15334346
A38: июнь | C38: 7178011.1 | E38: 13671162
A39: июль | C39: 8549551.2 | D39: =(C39+C40+C41)/C45*100 -> 30.037025 | E39: 9654861.3 | F39: =(E39+E40+E41)/E45*100 -> 22.779448
A40: август | C40: 8401419 | E40: 10879410
A41: сентябрь | C41: 9994225.6 | E41: 10643568
A42: октябрь | C42: 9100611.6 | D42: =(C42+C43+C44)/C45*100 -> 32.275226 | E42: 11625488 | F42: =(E42+E43+E44)/E45*100 -> 28.466967
A43: ноябрь | C43: 9808874 | E43: 14745839
...

Sheet НСЗ мероприятия (5)
A1: НСЗ мероприятия
B3: Факт за 2018 год | C3: Факт за 2019 год | D3: Утверждено на 2020 | E3: Факт на 09.11.20 | F3: Исполнение, %, | G3: Внесение измен. 2020 | H3: План на 2021 год | J3: 2022 | K3: 2023 | L3: Факт на 01.08.20 | M3: Расчет остатка на к.г.
A4: Остаток на н.г. | B4: 30917.9 | C4: 72859.1 | D4: 263676.6 | E4: 263676.6 | F4: =E4/D4 -> 1 | G4: =E4 -> 263676.6 | H4: 53082.6 | J4: 53082.6 | K4: 53082.6 | L4: 263676.6 | M4: =H5/4 -> 56855.1 | O4: =F4-D4 -> -263675.6 | P4: =311+89 -> 400
A5: Формирование | B5: 136868.3 | C5: =C6+C7+C8 -> 339123.3 | D5: 136941.7 | E5: =E6+E7+E8 -> 181256.4 | F5: =E5/D5 -> 1.3236027 | G5: =G6+G7+G8 -> 212330.4 | H5: =H6+H7+H8 -> 227420.4 | I5: в проект | J5: =J6+J7+J8 -> 232347.1 | K5: =K6+K7+K8 -> 237273.1 | L5: =L6+L7+L8 -> 129536.1 | M5: 59127 | N5: =111478.3+155.1 -> 111633.4 | V5: август | W5: сентябрь | X5: октябрь | Y5: ноябрь | Z5: декабрь
A6: От СМО | B6: 115643.6 | C6: 322378.5 | D6: 115717 | E6: 157144.8 | F6: =E6/D6 -> 1.3580096 | G6: 191105.7 | H6: 197052.3 | J6: 201979 | K6: 206905 | L6: =111478.3 -> 111478.3 | M6: санкции смо | O6: =F4+P9 -> 400619.3 | U6: =D6-#REF! -> #REF! | V6: =U6/5 -> #REF! | W6: 8380 | X6: 8380 | Y6: 8380 | Z6: 8380
A7: от ТФОМС МТР | B7: 14870.8 | C7: 16358.1 | D7: 14870.8 | E7: 22758.3 | F7: =E7/D7 -> 1.5304019 | G7: 14870.8 | H7: 28605.6 | J7: 28605.6 | K7: 28605.6 | L7: 17586.4 | M7: фонд к мо | U7: =D7-#REF! -> #REF! | V7: =U7/5 -> #REF! | W7: 1172.16 | X7: 1172.16 | Y7: 1172.16 | Z7: 1172.16
A8: от ТФОМС реэкспертиза | B8: 6353.9 | C8: 386.7 | D8: 6353.9 | E8: 1353.3 | F8: =E8/D8 -> 0.2129873 | G8: 6353.9 | H8: 1762.5 | J8: 1762.5 | K8: 1762.5 | L8: 471.4 | O8: =D4+D5-E5 -> 219361.9 | U8: =D8-#REF! -> #REF! | V8: =U8/5 -> #REF! | W8: 321.36 | X8: 321.36 | Y8: 321.36 | Z8: 321.36
A9: Расходы | B9: 94927.1 | C9: 148305.8 | D9: 366383.3 | E9: 263124.6 | F9: =E9/D9 -> 0.71816756 | G9: =G4+G5-G10 -> 422924.4 | H9: =H4+H5-H10 -> 227420.4 | J9: =J4+J5-J10 -> 232347.1 | K9: =K4+K5-K10 -> 237273.1 | L9: 205553.8 | O9: =O8/3 -> 73120.633 | P9: =D4+D5 -> 400618.3
A10: Остаток на к.г. | B10: 72859.1 | C10: =C4+C5-C9 -> 263676.6 | D10: 34235 | E10: =E4+E5-E9 -> 181808.4 | G10: 53082.6 | H10: 53082.6 | J10: 53082.6 | K10: 53082.6 | L10: =L4+L5-L9 -> 187658.9 | M10: 35200 | N10: =H4*4 -> 212330.4 | P10: =P9+O4 -> 136942.7
A11: НСЗ для финансового обеспечения мероприятий | B11: =B4+B5 -> 167786.2 | C11: =C4+C5 -> 411982.4 | D11: =D4+D5 -> 400618.3 | E11: =E4+E5 -> 444933 | G11: =G4+G5 -> 476007 | H11: =H4+H5 -> 280503 | J11: =J4+J5 -> 285429.7 | K11: =K4+K5 -> 290355.7 | L11: =L4+L5 -> 393212.7
H12: =H11-D11 -> -120115.3 | N12: =M4/4 -> 14213.775
D13: =311526.4+89091.9 -> 400618.3 | E13: =E6+E7+E8 -> 181256.4 | L13: Расчет плана на 2021 год
B14: =D6/B6 -> 1.0006347 | C14: 2017 | E14: 2018 | F14: =F4+F5 -> 2.3236027 | L14: От СМО | M14: от ТФОМС МТР | N14: от ТФОМС реэкспертиза | O14: =E5*4 -> 725025.6
A15: январь | C15: 144194.08 | D15: =(C15+C16+C17)/C27*100 -> 11.151542 | E15: 580376.32 | F15: =(E15+E16+E17)/E27*100 -> 20.129841 | H15: 1/9 от поступл факту на 01.10. | L15: =E6/9 -> 17460.533 | M15: =E7/9 -> 2528.7 | N15: =E8/9 -> 150.36667 | O15: =F4+O14 -> 725026.6
A16: февраль | C16: 4462609.5 | E16: 13371505 | H16: Расчет на 12 мес. | L16: =L15*12 -> 209526.4 | M16: =M15*12 -> 30344.4 | N16: =N15*12 -> 1804.4 | O16: =O14/4 -> 181256.4
A17: март | C17: 3113195.2 | E17: 9326995.1 | H17: рост подуш. 1,03 | L17: =L16*1.03 -> 215812.19 | M17: =M16*1.03 -> 31254.732 | N17: =N16*1.03 -> 1858.532 | V17: =D17-D4 -> -263676.6
A18: апрель | C18: 7398841.5 | D18: =(C18+C19+C20)/C27*100 -> 26.157074 | E18: 9845880.9 | F18: =(E18+E19+E20)/E27*100 -> 28.690707 | V18: =10587.8 -> 10587.8
A19: май | C19: 4740129.8 | E19: 12671685 | N19: =(F5-E5)/3 -> -60418.359 | V19: =V18+D7+D8 -> 31812.5
A20: июнь | C20: 5969069.2 | E20: 10661406
A21: июль | C21: 7071438.3 | D21: =(C21+C22+C23)/C27*100 -> 30.056121 | E21: 8380583.2 | F21: =(E21+E22+E23)/E27*100 -> 23.421856 | H21: 12699.2 | M21: =M5/4 -> 14781.75
A22: август | C22: 6641544.6 | E22: 9711265.5 | G22: 2021 | H22: 13078.6 | I22: =H22/H21 -> 1.0298759 | L22: 1.03 | O22: =D5/4 -> 34235.425
A23: сентябрь | C23: 7094293.5 | E23: 8994032.8 | G23: 2022 | H23: 13696.7 | I23: =H23/H22 -> 1.0472604 | L23: 1.047 | M23: =L17*L23 -> 225955.37
A24: октябрь | C24: 6614420.8 | D24: =(C24+C25+C26)/C27*100 -> 32.635263 | E24: 10615421 | F24: =(E24+E25+E26)/E27*100 -> 27.757596 | G24: 2023 | H24: 14469.5 | I24: =H24/H23 -> 1.0564223 | L24: 1.056
A25: ноябрь | C25: 7099921.5 | E25: 11461850
A26: декабрь | C26: 8878424.6 | E26: 10022618 | J26: 197052.3
C27: =SUM(C15:C26) -> 69228083 | D27: =SUM(D15:D26) -> 100 | E27: =SUM(E15:E26) -> 1.1564362e+08 | F27: =SUM(F15:F26) -> 100
H30: 0.025 | I30: =H30*H6 -> 4926.3075 | J30: =I30+H6 -> 201978.61 | K30: 201979
A31: Фонд+ СМО | H31: 0.05 | I31: =H31*H6 -> 9852.615 | J31: =I31+H6 -> 206904.91 | K31: 206905
C32: 2017 | E32: 2018
A33: январь | C33: 1048202.4 | D33: =(C33+C34+C35)/C45*100 -> 12.194879 | E33: 1804466.3 | F33: =(E33+E34+E35)/E45*100 -> 19.609744
A34: февраль | C34: 5639762.9 | E34: 14598027
A35: март | C35: 4251646.3 | E35: 10437026
A36: апрель | C36: 8655440.2 | D36: =(C36+C37+C38)/C45*100 -> 25.49287 | E36: 10883167 | F36: =(E36+E37+E38)/E45*100 -> 29.143842
A37: май | C37: 7035337 | E37: 15334346
A38: июнь | C38: 7178011.1 | E38: 13671162
A39: июль | C39: 8549551.2 | D39: =(C39+C40+C41)/C45*100 -> 30.037025 | E39: 9654861.3 | F39: =(E39+E40+E41)/E45*100 -> 22.779448
A40: август | C40: 8401419 | E40: 10879410
A41: сентябрь | C41: 9994225.6 | E41: 10643568
A42: октябрь | C42: 9100611.6 | D42: =(C42+C43+C44)/C45*100 -> 32.275226 | E42: 11625488 | F42: =(E42+E43+E44)/E45*100 -> 28.466967
A43: ноябрь | C43: 9808874 | E43: 14745839
...

Sheet НСЗ мероприятия (6)
A1: НСЗ мероприятия
B3: Факт за 2018 год | C3: Факт за 2019 год | D3: Утверждено на 2020 | E3: Факт на 07.12.20 | F3: Исполнение, %, | G3: Внесение измен. 2020 | H3: План на 2021 год | J3: 2022 | K3: 2023 | L3: Факт на 01.08.20 | M3: Расчет остатка на к.г.
A4: Остаток на н.г. | B4: 30917.9 | C4: 72859.1 | D4: 263676.6 | E4: 263676.6 | F4: =E4/D4 -> 1 | G4: =E4 -> 263676.6 | H4: 53082.6 | J4: 53082.6 | K4: 53082.6 | L4: 263676.6 | M4: =H5/4 -> 56855.1 | O4: =F4-D4 -> -263675.6 | P4: =311+89 -> 400
A5: Формирование | B5: 136868.3 | C5: =C6+C7+C8 -> 339123.3 | D5: 136941.7 | E5: =E6+E7+E8 -> 201730.5 | F5: =E5/D5 -> 1.4731123 | G5: =G6+G7+G8 -> 212330.4 | H5: =H6+H7+H8 -> 227420.4 | I5: в проект | J5: =J6+J7+J8 -> 232347.1 | K5: =K6+K7+K8 -> 237273.1 | L5: =L6+L7+L8 -> 129536.1 | M5: 59127 | N5: =111478.3+155.1 -> 111633.4 | V5: август | W5: сентябрь | X5: октябрь | Y5: ноябрь | Z5: декабрь
A6: От СМО | B6: 115643.6 | C6: 322378.5 | D6: 115717 | E6: 175395.3 | F6: =E6/D6 -> 1.5157263 | G6: 191105.7 | H6: 197052.3 | J6: 201979 | K6: 206905 | L6: =111478.3 -> 111478.3 | M6: санкции смо | O6: =F4+P9 -> 400619.3 | U6: =D6-#REF! -> #REF! | V6: =U6/5 -> #REF! | W6: 8380 | X6: 8380 | Y6: 8380 | Z6: 8380
A7: от ТФОМС МТР | B7: 14870.8 | C7: 16358.1 | D7: 14870.8 | E7: 24973.3 | F7: =E7/D7 -> 1.6793515 | G7: 14870.8 | H7: 28605.6 | J7: 28605.6 | K7: 28605.6 | L7: 17586.4 | M7: фонд к мо | U7: =D7-#REF! -> #REF! | V7: =U7/5 -> #REF! | W7: 1172.16 | X7: 1172.16 | Y7: 1172.16 | Z7: 1172.16
A8: от ТФОМС реэкспертиза | B8: 6353.9 | C8: 386.7 | D8: 6353.9 | E8: 1361.9 | F8: =E8/D8 -> 0.2143408 | G8: 6353.9 | H8: 1762.5 | J8: 1762.5 | K8: 1762.5 | L8: 471.4 | O8: =D4+D5-E5 -> 198887.8 | U8: =D8-#REF! -> #REF! | V8: =U8/5 -> #REF! | W8: 321.36 | X8: 321.36 | Y8: 321.36 | Z8: 321.36
A9: Расходы | B9: 94927.1 | C9: 148305.8 | D9: 366383.3 | E9: 316264.4 | F9: =E9/D9 -> 0.86320637 | G9: =G4+G5-G10 -> 422924.4 | H9: =H4+H5-H10 -> 227420.4 | J9: =J4+J5-J10 -> 232347.1 | K9: =K4+K5-K10 -> 237273.1 | L9: 205553.8 | O9: =O8/3 -> 66295.933 | P9: =D4+D5 -> 400618.3
A10: Остаток на к.г. | B10: 72859.1 | C10: =C4+C5-C9 -> 263676.6 | D10: 34235 | E10: =E4+E5-E9 -> 149142.7 | G10: 53082.6 | H10: 53082.6 | J10: 53082.6 | K10: 53082.6 | L10: =L4+L5-L9 -> 187658.9 | M10: 35200 | N10: =H4*4 -> 212330.4 | P10: =P9+O4 -> 136942.7
A11: НСЗ для финансового обеспечения мероприятий | B11: =B4+B5 -> 167786.2 | C11: =C4+C5 -> 411982.4 | D11: =D4+D5 -> 400618.3 | E11: =E4+E5 -> 465407.1 | G11: =G4+G5 -> 476007 | H11: =H4+H5 -> 280503 | J11: =J4+J5 -> 285429.7 | K11: =K4+K5 -> 290355.7 | L11: =L4+L5 -> 393212.7
E13: =E6/10 -> 17539.53
E14: =E13*12 -> 210474.36
E15: =E9/10*12 -> 379517.28
E16: =E4+E14+E7+E8-E15 -> 120968.88
H20: =H11-D11 -> -120115.3 | N20: =M4/4 -> 14213.775
D21: =311526.4+89091.9 -> 400618.3 | E21: =E6+E7+E8 -> 201730.5 | L21: Расчет плана на 2021 год
B22: =D6/B6 -> 1.0006347 | C22: 2017 | E22: 2018 | F22: =F4+F5 -> 2.4731123 | L22: От СМО | M22: от ТФОМС МТР | N22: от ТФОМС реэкспертиза | O22: =E5*4 -> 806922
A23: январь | C23: 144194.08 | D23: =(C23+C24+C25)/C35*100 -> 11.151542 | E23: 580376.32 | F23: =(E23+E24+E25)/E35*100 -> 20.129841 | H23: 1/9 от поступл факту на 01.10. | L23: =E6/9 -> 19488.367 | M23: =E7/9 -> 2774.8111 | N23: =E8/9 -> 151.32222 | O23: =F4+O22 -> 806923
A24: февраль | C24: 4462609.5 | E24: 13371505 | H24: Расчет на 12 мес. | L24: =L23*12 -> 233860.4 | M24: =M23*12 -> 33297.733 | N24: =N23*12 -> 1815.8667 | O24: =O22/4 -> 201730.5
A25: март | C25: 3113195.2 | E25: 9326995.1 | H25: рост подуш. 1,03 | L25: =L24*1.03 -> 240876.21 | M25: =M24*1.03 -> 34296.665 | N25: =N24*1.03 -> 1870.3427 | V25: =D25-D4 -> -263676.6
A26: апрель | C26: 7398841.5 | D26: =(C26+C27+C28)/C35*100 -> 26.157074 | E26: 9845880.9 | F26: =(E26+E27+E28)/E35*100 -> 28.690707 | V26: =10587.8 -> 10587.8
A27: май | C27: 4740129.8 | E27: 12671685 | N27: =(F5-E5)/3 -> -67243.009 | V27: =V26+D7+D8 -> 31812.5
A28: июнь | C28: 5969069.2 | E28: 10661406
A29: июль | C29: 7071438.3 | D29: =(C29+C30+C31)/C35*100 -> 30.056121 | E29: 8380583.2 | F29: =(E29+E30+E31)/E35*100 -> 23.421856 | H29: 12699.2 | M29: =M5/4 -> 14781.75
A30: август | C30: 6641544.6 | E30: 9711265.5 | G30: 2021 | H30: 13078.6 | I30: =H30/H29 -> 1.0298759 | L30: 1.03 | O30: =D5/4 -> 34235.425
A31: сентябрь | C31: 7094293.5 | E31: 8994032.8 | G31: 2022 | H31: 13696.7 | I31: =H31/H30 -> 1.0472604 | L31: 1.047 | M31: =L25*L31 -> 252197.39
A32: октябрь | C32: 6614420.8 | D32: =(C32+C33+C34)/C35*100 -> 32.635263 | E32: 10615421 | F32: =(E32+E33+E34)/E35*100 -> 27.757596 | G32: 2023 | H32: 14469.5 | I32: =H32/H31 -> 1.0564223 | L32: 1.056
A33: ноябрь | C33: 7099921.5 | E33: 11461850
A34: декабрь | C34: 8878424.6 | E34: 10022618 | J34: 197052.3
C35: =SUM(C23:C34) -> 69228083 | D35: =SUM(D23:D34) -> 100 | E35: =SUM(E23:E34) -> 1.1564362e+08 | F35: =SUM(F23:F34) -> 100
H38: 0.025 | I38: =H38*H6 -> 4926.3075 | J38: =I38+H6 -> 201978.61 | K38: 201979
A39: Фонд+ СМО | H39: 0.05 | I39: =H39*H6 -> 9852.615 | J39: =I39+H6 -> 206904.91 | K39: 206905
C40: 2017 | E40: 2018
A41: январь | C41: 1048202.4 | D41: =(C41+C42+C43)/C53*100 -> 12.194879 | E41: 1804466.3 | F41: =(E41+E42+E43)/E53*100 -> 19.609744
A42: февраль | C42: 5639762.9 | E42: 14598027
A43: март | C43: 4251646.3 | E43: 10437026
A44: апрель | C44: 8655440.2 | D44: =(C44+C45+C46)/C53*100 -> 25.49287 | E44: 10883167 | F44: =(E44+E45+E46)/E53*100 -> 29.143842
A45: май | C45: 7035337 | E45: 15334346
A46: июнь | C46: 7178011.1 | E46: 13671162
A47: июль | C47: 8549551.2 | D47: =(C47+C48+C49)/C53*100 -> 30.037025 | E47: 9654861.3 | F47: =(E47+E48+E49)/E53*100 -> 22.779448
...

Sheet НСЗ мер (7)
A1: НСЗ мероприятия
B3: Факт за 2018 год | C3: Факт за 2020 год | D3: Утверждено на 2021 | E3: Факт на 01.06.21 | F3: Исполнение, % | G3: Внесение измен. 2021 | I3: План на 2021 год | K3: 2022 | L3: 2023 | M3: Факт на 01.08.20 | N3: Расчет остатка на к.г.
A4: Остаток на н.г. | B4: 30917.9 | C4: 263676.6 | D4: 53082.6 | E4: 95420.7 | F4: =E4/D4 -> 1.797589 | G4: =E4 -> 95420.7 | I4: 53082.6 | K4: 53082.6 | L4: 53082.6 | M4: 263676.6 | N4: =I5/4 -> 56855.1 | P4: =F4-D4 -> -53080.802 | Q4: =311+89 -> 400
A5: Формирование | B5: 136868.3 | C5: =C6+C7+C8 -> 220659.6 | D5: 227420.4 | E5: =E6+E7+E8 -> 57066.2 | F5: =E5/D5 -> 0.25092824 | G5: =G6+G7+G8 -> 227420.4 | I5: =I6+I7+I8 -> 227420.4 | J5: в проект | K5: =K6+K7+K8 -> 232347.1 | L5: =L6+L7+L8 -> 237273.1 | M5: =M6+M7+M8 -> 129536.1 | N5: 59127 | O5: =111478.3+155.1 -> 111633.4 | W5: август | X5: сентябрь | Y5: октябрь | Z5: ноябрь | AA5: декабрь
A6: От СМО | B6: 115643.6 | C6: 192719.8 | D6: 197052.3 | E6: 54715.3 | F6: =E6/D6 -> 0.27766892 | G6: 197052.3 | I6: 197052.3 | K6: 201979 | L6: 206905 | M6: =111478.3 -> 111478.3 | N6: санкции смо | P6: =F4+Q9 -> 280504.8 | V6: =D6-#REF! -> #REF! | W6: =V6/5 -> #REF! | X6: 8380 | Y6: 8380 | Z6: 8380 | AA6: 8380
A7: от ТФОМС МТР | B7: 14870.8 | C7: 25474.2 | D7: 28605.6 | E7: 2300.4 | F7: =E7/D7 -> 0.08041782 | G7: 28605.6 | I7: 28605.6 | K7: 28605.6 | L7: 28605.6 | M7: 17586.4 | N7: фонд к мо | V7: =D7-#REF! -> #REF! | W7: =V7/5 -> #REF! | X7: 1172.16 | Y7: 1172.16 | Z7: 1172.16 | AA7: 1172.16
A8: от ТФОМС реэкспертиза | B8: 6353.9 | C8: 2465.6 | D8: 1762.5 | E8: 50.5 | F8: =E8/D8 -> 0.028652482 | G8: 1762.5 | I8: 1762.5 | K8: 1762.5 | L8: 1762.5 | M8: 471.4 | P8: =D4+D5-E5 -> 223436.8 | V8: =D8-#REF! -> #REF! | W8: =V8/5 -> #REF! | X8: 321.36 | Y8: 321.36 | Z8: 321.36 | AA8: 321.36
A9: Расходы | B9: 94927.1 | C9: 388915.5 | D9: 227420.4 | E9: 31579.3 | F9: =E9/D9 -> 0.1388587 | G9: =G4+G5-G10 -> 269758.5 | I9: =I4+I5-I10 -> 227420.4 | K9: =K4+K5-K10 -> 232347.1 | L9: =L4+L5-L10 -> 237273.1 | M9: 205553.8 | P9: =P8/3 -> 74478.933 | Q9: =D4+D5 -> 280503
A10: Остаток на к.г. | B10: 72859.1 | C10: =C4+C5-C9 -> 95420.7 | D10: 53082.6 | E10: =E4+E5-E9 -> 120907.6 | G10: 53082.6 | I10: 53082.6 | K10: 53082.6 | L10: 53082.6 | M10: =M4+M5-M9 -> 187658.9 | N10: 35200 | O10: =I4*4 -> 212330.4 | Q10: =Q9+P4 -> 227422.2
A11: НСЗ для финансового обеспечения мероприятий | B11: =B4+B5 -> 167786.2 | C11: =C4+C5 -> 484336.2 | D11: =D4+D5 -> 280503 | E11: =E4+E5 -> 152486.9 | G11: =G4+G5 -> 322841.1 | I11: =I4+I5 -> 280503 | K11: =K4+K5 -> 285429.7 | L11: =L4+L5 -> 290355.7 | M11: =M4+M5 -> 393212.7
D13: =D11-D10 -> 227420.4 | G13: =D13+[1]Источники!G22 -> 269758.5
D14: =D6 -> 197052.3 | E14: =E6*4 -> 218861.2
D15: =D9 -> 227420.4 | E15: =E9*4 -> 126317.2
D16: =D14-D15 -> -30368.1 | E16: =E14-E15 -> 92544
I20: =I11-D11 -> 0 | O20: =N4/4 -> 14213.775
D21: =311526.4+89091.9 -> 400618.3 | E21: =E6+E7+E8 -> 57066.2 | M21: Расчет плана на 2021 год
B22: =D6/B6 -> 1.703962 | C22: 2017 | E22: 2018 | F22: =F4+F5 -> 2.0485173 | M22: От СМО | N22: от ТФОМС МТР | O22: от ТФОМС реэкспертиза | P22: =E5*4 -> 228264.8
A23: январь | C23: 144194.08 | D23: =(C23+C24+C25)/C35*100 -> 11.151542 | E23: 580376.32 | F23: =(E23+E24+E25)/E35*100 -> 20.129841 | I23: 1/9 от поступл факту на 01.10. | M23: =E6/9 -> 6079.4778 | N23: =E7/9 -> 255.6 | O23: =E8/9 -> 5.6111111 | P23: =F4+P22 -> 228266.6
A24: февраль | C24: 4462609.5 | E24: 13371505 | I24: Расчет на 12 мес. | M24: =M23*12 -> 72953.733 | N24: =N23*12 -> 3067.2 | O24: =O23*12 -> 67.333333 | P24: =P22/4 -> 57066.2
A25: март | C25: 3113195.2 | E25: 9326995.1 | I25: рост подуш. 1,03 | M25: =M24*1.03 -> 75142.345 | N25: =N24*1.03 -> 3159.216 | O25: =O24*1.03 -> 69.353333 | W25: =D25-D4 -> -53082.6
A26: апрель | C26: 7398841.5 | D26: =(C26+C27+C28)/C35*100 -> 26.157074 | E26: 9845880.9 | F26: =(E26+E27+E28)/E35*100 -> 28.690707 | W26: =10587.8 -> 10587.8
A27: май | C27: 4740129.8 | E27: 12671685 | O27: =(F5-E5)/3 -> -19021.983 | W27: =W26+D7+D8 -> 40955.9
A28: июнь | C28: 5969069.2 | E28: 10661406
A29: июль | C29: 7071438.3 | D29: =(C29+C30+C31)/C35*100 -> 30.056121 | E29: 8380583.2 | F29: =(E29+E30+E31)/E35*100 -> 23.421856 | I29: 12699.2 | N29: =N5/4 -> 14781.75
A30: август | C30: 6641544.6 | E30: 9711265.5 | G30: 2021 | I30: 13078.6 | J30: =I30/I29 -> 1.0298759 | M30: 1.03 | P30: =D5/4 -> 56855.1
A31: сентябрь | C31: 7094293.5 | E31: 8994032.8 | G31: 2022 | I31: 13696.7 | J31: =I31/I30 -> 1.0472604 | M31: 1.047 | N31: =M25*M31 -> 78674.036
A32: октябрь | C32: 6614420.8 | D32: =(C32+C33+C34)/C35*100 -> 32.635263 | E32: 10615421 | F32: =(E32+E33+E34)/E35*100 -> 27.757596 | G32: 2023 | I32: 14469.5 | J32: =I32/I31 -> 1.0564223 | M32: 1.056
A33: ноябрь | C33: 7099921.5 | E33: 11461850
A34: декабрь | C34: 8878424.6 | E34: 10022618 | K34: 197052.3
C35: =SUM(C23:C34) -> 69228083 | D35: =SUM(D23:D34) -> 100 | E35: =SUM(E23:E34) -> 1.1564362e+08 | F35: =SUM(F23:F34) -> 100
I38: 0.025 | J38: =I38*I6 -> 4926.3075 | K38: =J38+I6 -> 201978.61 | L38: 201979
A39: Фонд+ СМО | I39: 0.05 | J39: =I39*I6 -> 9852.615 | K39: =J39+I6 -> 206904.91 | L39: 206905
C40: 2017 | E40: 2018
A41: январь | C41: 1048202.4 | D41: =(C41+C42+C43)/C53*100 -> 12.194879 | E41: 1804466.3 | F41: =(E41+E42+E43)/E53*100 -> 19.609744
A42: февраль | C42: 5639762.9 | E42: 14598027
A43: март | C43: 4251646.3 | E43: 10437026
A44: апрель | C44: 8655440.2 | D44: =(C44+C45+C46)/C53*100 -> 25.49287 | E44: 10883167 | F44: =(E44+E45+E46)/E53*100 -> 29.143842
A45: май | C45: 7035337 | E45: 15334346
A46: июнь | C46: 7178011.1 | E46: 13671162
A47: июль | C47: 8549551.2 | D47: =(C47+C48+C49)/C53*100 -> 30.037025 | E47: 9654861.3 | F47: =(E47+E48+E49)/E53*100 -> 22.779448
...
