Workbook

Sheet Отбор 2024-2026
A1: № п/п | B1: Муниципальный район | C1: Муниципальное образование | D1: Год субсидирования | E1: площадь обработки 1 года, га | F1: площадь обработки 2 года, га | G1: площадь обработки 3 года, га | H1: площадь обработки 4 года, га | I1: площадь обработки 5 года, га | J1: Количество населенных пунктов, шт. | K1: Общая площадь обработки, га | L1: Стоимость обработки 1 года, руб./га | M1: Стоимость обработки 2 года, руб./га | N1: Стоимость обработки 3 года, руб./га | O1: Стоимость обработки 4 года, руб./га | P1: Стоимость обработки 5 года, руб./га | Q1: Стоимость отбора образцов, руб./нас. пункт | R1: Стоимость анализа образцов, руб./нас. пункт | S1: Стоимость оценки эффективности, руб./га | T1: Уровень софинансирования, % | U1: Итого размер субсидии, руб. | V1: Итого размер средств областного бюджета, руб. | W1: Итого размер средств местного бюджета, руб.
A2: 1 | B2: Бокситогорский район | C2: Бокситогорское городское поселение | D2: 2024 | E2: 0 | F2: 2.42 | G2: 3.19 | H2: 4.1 | I2: 0 | J2: 4 | K2: =E2+F2+G2+H2+I2 -> 9.71 | L2: 12368.39 | M2: 11131.55 | N2: 8657.87 | O2: 6184.2 | P2: 3710.52 | Q2: 488.77 | R2: 2100 | S2: 200 | T2: 89 | U2: =(E2*L2+F2*M2+G2*N2+H2*O2+I2*P2)+Q2*J2+R2*J2+S2*(E2+F2+G2+H2+I2) -> 92209.256 | V2: =U2*T2/100 -> 82066.238 | W2: =U2-V2 -> 10143.018
A3: 2 | B3: Бокситогорский район | C3: Большедворское сельское поселение | D3: 2024 | E3: 0 | F3: 17.5 | G3: 18.7 | H3: 20 | I3: 0 | J3: 7 | K3: =E3+F3+G3+H3+I3 -> 56.2 | L3: 12368.39 | M3: 11131.55 | N3: 8657.87 | O3: 6184.2 | P3: 3710.52 | Q3: 488.77 | R3: 2100 | S3: 200 | T3: 88 | U3: =(E3*L3+F3*M3+G3*N3+H3*O3+I3*P3)+Q3*J3+R3*J3+S3*(E3+F3+G3+H3+I3) -> 509749.68 | V3: =U3*T3/100 -> 448579.72 | W3: =U3-V3 -> 61169.962
A4: 3 | B4: Бокситогорский район | C4: Борское сельское поселение | D4: 2024 | E4: 6 | F4: 5.002318 | G4: 32.997682 | H4: 0 | I4: 8 | J4: 11 | K4: =E4+F4+G4+H4+I4 -> 52 | L4: 12368.39 | M4: 11131.55 | N4: 8657.87 | O4: 6184.2 | P4: 3710.52 | Q4: 488.77 | R4: 2100 | S4: 200 | T4: 89 | U4: =(E4*L4+F4*M4+G4*N4+H4*O4+I4*P4)+Q4*J4+R4*J4+S4*(E4+F4+G4+H4+I4) -> 484144.16 | V4: =U4*T4/100 -> 430888.31 | W4: =U4-V4 -> 53255.858
A5: 4 | B5: Бокситогорский район | C5: Ефимовское городское поселение | D5: 2024 | E5: 3.5 | F5: 0 | G5: 0 | H5: 0 | I5: 7 | J5: 4 | K5: =E5+F5+G5+H5+I5 -> 10.5 | L5: 12368.39 | M5: 11131.55 | N5: 8657.87 | O5: 6184.2 | P5: 3710.52 | Q5: 488.77 | R5: 2100 | S5: 200 | T5: 89 | U5: =(E5*L5+F5*M5+G5*N5+H5*O5+I5*P5)+Q5*J5+R5*J5+S5*(E5+F5+G5+H5+I5) -> 81718.085 | V5: =U5*T5/100 -> 72729.096 | W5: =U5-V5 -> 8988.9894
A6: 5 | B6: Бокситогорский район | C6: Лидское сельское поселение | D6: 2024 | K6: =E6+F6+G6+H6+I6 -> 0 | L6: 12368.39 | M6: 11131.55 | N6: 8657.87 | O6: 6184.2 | P6: 3710.52 | Q6: 488.77 | R6: 2100 | S6: 200 | T6: 86 | U6: =(E6*L6+F6*M6+G6*N6+H6*O6+I6*P6)+Q6*J6+R6*J6+S6*(E6+F6+G6+H6+I6) -> 0 | V6: =U6*T6/100 -> 0 | W6: =U6-V6 -> 0
A7: 6 | B7: Бокситогорский район | C7: Пикалёвское городское поселение | D7: 2024 | K7: =E7+F7+G7+H7+I7 -> 0 | L7: 12368.39 | M7: 11131.55 | N7: 8657.87 | O7: 6184.2 | P7: 3710.52 | Q7: 488.77 | R7: 2100 | S7: 200 | T7: 89 | U7: =(E7*L7+F7*M7+G7*N7+H7*O7+I7*P7)+Q7*J7+R7*J7+S7*(E7+F7+G7+H7+I7) -> 0 | V7: =U7*T7/100 -> 0 | W7: =U7-V7 -> 0
A8: 7 | B8: Бокситогорский район | C8: Самойловское сельское поселение | D8: 2024 | E8: 0 | F8: 0 | G8: 29.3 | H8: 68.7 | I8: 0 | J8: 11 | K8: =E8+F8+G8+H8+I8 -> 98 | L8: 12368.39 | M8: 11131.55 | N8: 8657.87 | O8: 6184.2 | P8: 3710.52 | Q8: 488.77 | R8: 2100 | S8: 200 | T8: 83 | U8: =(E8*L8+F8*M8+G8*N8+H8*O8+I8*P8)+Q8*J8+R8*J8+S8*(E8+F8+G8+H8+I8) -> 726606.6 | V8: =U8*T8/100 -> 603083.48 | W8: =U8-V8 -> 123523.12
A9: 8 | B9: Волосовский район | C9: Бегуницкое сельское поселение | D9: 2024 | E9: 5 | F9: 5 | G9: 32 | H9: 73 | I9: 20 | J9: 27 | K9: =E9+F9+G9+H9+I9 -> 135 | L9: 12368.39 | M9: 11131.55 | N9: 8657.87 | O9: 6184.2 | P9: 3710.52 | Q9: 488.77 | R9: 2100 | S9: 200 | T9: 91 | U9: =(E9*L9+F9*M9+G9*N9+H9*O9+I9*P9)+Q9*J9+R9*J9+S9*(E9+F9+G9+H9+I9) -> 1017105.3 | V9: =U9*T9/100 -> 925565.85 | W9: =U9-V9 -> 91539.48
A10: 9 | B10: Волосовский район | C10: Большеврудское сельское поселение | D10: 2024 | E10: 20 | F10: 20 | G10: 21.5 | H10: 64 | I10: 44.5 | J10: 31 | K10: =E10+F10+G10+H10+I10 -> 170 | L10: 12368.39 | M10: 11131.55 | N10: 8657.87 | O10: 6184.2 | P10: 3710.52 | Q10: 488.77 | R10: 2100 | S10: 200 | T10: 91 | U10: =(E10*L10+F10*M10+G10*N10+H10*O10+I10*P10)+Q10*J10+R10*J10+S10*(E10+F10+G10+H10+I10) -> 1331301.8 | V10: =U10*T10/100 -> 1211484.7 | W10: =U10-V10 -> 119817.16
A11: 10 | B11: Волосовский район | C11: Волосовское городское поселение | D11: 2024 | E11: 0 | F11: 170 | G11: 64.69 | H11: 0 | I11: 0 | J11: 2 | K11: =E11+F11+G11+H11+I11 -> 234.69 | L11: 12368.39 | M11: 11131.55 | N11: 8657.87 | O11: 6184.2 | P11: 3710.52 | Q11: 488.77 | R11: 2100 | S11: 200 | T11: 89 | U11: =(E11*L11+F11*M11+G11*N11+H11*O11+I11*P11)+Q11*J11+R11*J11+S11*(E11+F11+G11+H11+I11) -> 2504556.7 | V11: =U11*T11/100 -> 2229055.4 | W11: =U11-V11 -> 275501.23
A12: 11 | B12: Волосовский район | C12: Калитинское сельское поселение | D12: 2024 | E12: 10 | F12: 15 | G12: 30.9 | H12: 36.4 | I12: 0 | J12: 14 | K12: =E12+F12+G12+H12+I12 -> 92.3 | L12: 12368.39 | M12: 11131.55 | N12: 8657.87 | O12: 6184.2 | P12: 3710.52 | Q12: 488.77 | R12: 2100 | S12: 200 | T12: 91 | U12: =(E12*L12+F12*M12+G12*N12+H12*O12+I12*P12)+Q12*J12+R12*J12+S12*(E12+F12+G12+H12+I12) -> 837992.99 | V12: =U12*T12/100 -> 762573.62 | W12: =U12-V12 -> 75419.369
A13: 12 | B13: Волосовский район | C13: Клопицкое сельское поселение | D13: 2024 | E13: 10.2 | F13: 0 | G13: 0 | H13: 57.4 | I13: 0 | J13: 14 | K13: =E13+F13+G13+H13+I13 -> 67.6 | L13: 12368.39 | M13: 11131.55 | N13: 8657.87 | O13: 6184.2 | P13: 3710.52 | Q13: 488.77 | R13: 2100 | S13: 200 | T13: 92 | U13: =(E13*L13+F13*M13+G13*N13+H13*O13+I13*P13)+Q13*J13+R13*J13+S13*(E13+F13+G13+H13+I13) -> 530893.44 | V13: =U13*T13/100 -> 488421.96 | W13: =U13-V13 -> 42471.475
A14: 13 | B14: Волосовский район | C14: Рабитицкое сельское поселение | D14: 2024 | E14: 10 | F14: 10 | G14: 15 | H14: 12 | I14: 16.3 | J14: 8 | K14: =E14+F14+G14+H14+I14 -> 63.3 | L14: 12368.39 | M14: 11131.55 | N14: 8657.87 | O14: 6184.2 | P14: 3710.52 | Q14: 488.77 | R14: 2100 | S14: 200 | T14: 91 | U14: =(E14*L14+F14*M14+G14*N14+H14*O14+I14*P14)+Q14*J14+R14*J14+S14*(E14+F14+G14+H14+I14) -> 532929.49 | V14: =U14*T14/100 -> 484965.83 | W14: =U14-V14 -> 47963.654
A15: 14 | B15: Волосовский район | C15: Сабское сельское поселение | D15: 2024 | K15: =E15+F15+G15+H15+I15 -> 0 | L15: 12368.39 | M15: 11131.55 | N15: 8657.87 | O15: 6184.2 | P15: 3710.52 | Q15: 488.77 | R15: 2100 | S15: 200 | T15: 91 | U15: =(E15*L15+F15*M15+G15*N15+H15*O15+I15*P15)+Q15*J15+R15*J15+S15*(E15+F15+G15+H15+I15) -> 0 | V15: =U15*T15/100 -> 0 | W15: =U15-V15 -> 0
A16: 15 | B16: Волховский район | C16: Бережковское сельское поселение | D16: 2024 | E16: 13.5 | F16: 6 | G16: 0 | H16: 25 | I16: 0 | J16: 7 | K16: =E16+F16+G16+H16+I16 -> 44.5 | L16: 12368.39 | M16: 11131.55 | N16: 8657.87 | O16: 6184.2 | P16: 3710.52 | Q16: 488.77 | R16: 2100 | S16: 200 | T16: 90 | U16: =(E16*L16+F16*M16+G16*N16+H16*O16+I16*P16)+Q16*J16+R16*J16+S16*(E16+F16+G16+H16+I16) -> 415388.95 | V16: =U16*T16/100 -> 373850.06 | W16: =U16-V16 -> 41538.895
A17: 16 | B17: Волховский район | C17: Волховское городское поселение | D17: 2024 | E17: 10 | F17: 30 | G17: 0 | H17: 0 | I17: 0 | J17: 1 | K17: =E17+F17+G17+H17+I17 -> 40 | L17: 12368.39 | M17: 11131.55 | N17: 8657.87 | O17: 6184.2 | P17: 3710.52 | Q17: 488.77 | R17: 2100 | S17: 200 | T17: 90 | U17: =(E17*L17+F17*M17+G17*N17+H17*O17+I17*P17)+Q17*J17+R17*J17+S17*(E17+F17+G17+H17+I17) -> 468219.17 | V17: =U17*T17/100 -> 421397.25 | W17: =U17-V17 -> 46821.917
A18: 17 | B18: Волховский район | C18: Вындиноостровское сельское поселение | D18: 2024 | E18: 6 | F18: 2 | G18: 2 | H18: 30 | I18: 0 | J18: 3 | K18: =E18+F18+G18+H18+I18 -> 40 | L18: 12368.39 | M18: 11131.55 | N18: 8657.87 | O18: 6184.2 | P18: 3710.52 | Q18: 488.77 | R18: 2100 | S18: 200 | T18: 92 | U18: =(E18*L18+F18*M18+G18*N18+H18*O18+I18*P18)+Q18*J18+R18*J18+S18*(E18+F18+G18+H18+I18) -> 315081.49 | V18: =U18*T18/100 -> 289874.97 | W18: =U18-V18 -> 25206.519
A19: 18 | B19: Волховский район | C19: Иссадское сельское поселение | D19: 2024 | K19: =E19+F19+G19+H19+I19 -> 0 | L19: 12368.39 | M19: 11131.55 | N19: 8657.87 | O19: 6184.2 | P19: 3710.52 | Q19: 488.77 | R19: 2100 | S19: 200 | T19: 89 | U19: =(E19*L19+F19*M19+G19*N19+H19*O19+I19*P19)+Q19*J19+R19*J19+S19*(E19+F19+G19+H19+I19) -> 0 | V19: =U19*T19/100 -> 0 | W19: =U19-V19 -> 0
A20: 19 | B20: Волховский район | C20: Кисельнинское сельское поселение | D20: 2024 | E20: 10.9 | F20: 21 | G20: 5 | H20: 18.1 | I20: 5 | J20: 2 | K20: =E20+F20+G20+H20+I20 -> 60 | L20: 12368.39 | M20: 11131.55 | N20: 8657.87 | O20: 6184.2 | P20: 3710.52 | Q20: 488.77 | R20: 2100 | S20: 200 | T20: 87 | U20: =(E20*L20+F20*M20+G20*N20+H20*O20+I20*P20)+Q20*J20+R20*J20+S20*(E20+F20+G20+H20+I20) -> 559531.51 | V20: =U20*T20/100 -> 486792.41 | W20: =U20-V20 -> 72739.096
A21: 20 | B21: Волховский район | C21: Колчановское сельское поселение | D21: 2024 | K21: =E21+F21+G21+H21+I21 -> 0 | L21: 12368.39 | M21: 11131.55 | N21: 8657.87 | O21: 6184.2 | P21: 3710.52 | Q21: 488.77 | R21: 2100 | S21: 200 | T21: 89 | U21: =(E21*L21+F21*M21+G21*N21+H21*O21+I21*P21)+Q21*J21+R21*J21+S21*(E21+F21+G21+H21+I21) -> 0 | V21: =U21*T21/100 -> 0 | W21: =U21-V21 -> 0
A22: 21 | B22: Волховский район | C22: Новоладожское городское поселение | D22: 2024 | K22: =E22+F22+G22+H22+I22 -> 0 | L22: 12368.39 | M22: 11131.55 | N22: 8657.87 | O22: 6184.2 | P22: 3710.52 | Q22: 488.77 | R22: 2100 | S22: 200 | T22: 88 | U22: =(E22*L22+F22*M22+G22*N22+H22*O22+I22*P22)+Q22*J22+R22*J22+S22*(E22+F22+G22+H22+I22) -> 0 | V22: =U22*T22/100 -> 0 | W22: =U22-V22 -> 0
A23: 22 | B23: Волховский район | C23: Пашское сельское поселение | D23: 2024 | E23: 0 | F23: 20 | G23: 0 | H23: 0 | I23: 0 | J23: 8 | K23: =E23+F23+G23+H23+I23 -> 20 | L23: 12368.39 | M23: 11131.55 | N23: 8657.87 | O23: 6184.2 | P23: 3710.52 | Q23: 488.77 | R23: 2100 | S23: 200 | T23: 89 | U23: =(E23*L23+F23*M23+G23*N23+H23*O23+I23*P23)+Q23*J23+R23*J23+S23*(E23+F23+G23+H23+I23) -> 247341.16 | V23: =U23*T23/100 -> 220133.63 | W23: =U23-V23 -> 27207.528
A24: 23 | B24: Волховский район | C24: Потанинское сельское поселение | D24: 2024 | E24: 0 | F24: 0 | G24: 0 | H24: 10 | I24: 5 | J24: 5 | K24: =E24+F24+G24+H24+I24 -> 15 | L24: 12368.39 | M24: 11131.55 | N24: 8657.87 | O24: 6184.2 | P24: 3710.52 | Q24: 488.77 | R24: 2100 | S24: 200 | T24: 87 | U24: =(E24*L24+F24*M24+G24*N24+H24*O24+I24*P24)+Q24*J24+R24*J24+S24*(E24+F24+G24+H24+I24) -> 96338.45 | V24: =U24*T24/100 -> 83814.452 | W24: =U24-V24 -> 12523.999
A25: 24 | B25: Волховский район | C25: Свирицкое сельское поселение | D25: 2024 | K25: =E25+F25+G25+H25+I25 -> 0 | L25: 12368.39 | M25: 11131.55 | N25: 8657.87 | O25: 6184.2 | P25: 3710.52 | Q25: 488.77 | R25: 2100 | S25: 200 | T25: 91 | U25: =(E25*L25+F25*M25+G25*N25+H25*O25+I25*P25)+Q25*J25+R25*J25+S25*(E25+F25+G25+H25+I25) -> 0 | V25: =U25*T25/100 -> 0 | W25: =U25-V25 -> 0
A26: 25 | B26: Волховский район | C26: Селивановское сельское поселение | D26: 2024 | K26: =E26+F26+G26+H26+I26 -> 0 | L26: 12368.39 | M26: 11131.55 | N26: 8657.87 | O26: 6184.2 | P26: 3710.52 | Q26: 488.77 | R26: 2100 | S26: 200 | T26: 93 | U26: =(E26*L26+F26*M26+G26*N26+H26*O26+I26*P26)+Q26*J26+R26*J26+S26*(E26+F26+G26+H26+I26) -> 0 | V26: =U26*T26/100 -> 0 | W26: =U26-V26 -> 0
A27: 26 | B27: Волховский район | C27: Староладожское сельское поселение | D27: 2024 | E27: 2 | F27: 0 | G27: 0 | H27: 0 | I27: 0 | J27: 1 | K27: =E27+F27+G27+H27+I27 -> 2 | L27: 12368.39 | M27: 11131.55 | N27: 8657.87 | O27: 6184.2 | P27: 3710.52 | Q27: 488.77 | R27: 2100 | S27: 200 | T27: 90 | U27: =(E27*L27+F27*M27+G27*N27+H27*O27+I27*P27)+Q27*J27+R27*J27+S27*(E27+F27+G27+H27+I27) -> 27725.55 | V27: =U27*T27/100 -> 24952.995 | W27: =U27-V27 -> 2772.555
A28: 27 | B28: Волховский район | C28: Сясьстройское городское поселение | D28: 2024 | E28: 0 | F28: 0 | G28: 1.87 | H28: 0 | I28: 0 | J28: 1 | K28: =E28+F28+G28+H28+I28 -> 1.87 | L28: 12368.39 | M28: 11131.55 | N28: 8657.87 | O28: 6184.2 | P28: 3710.52 | Q28: 488.77 | R28: 2100 | S28: 200 | T28: 88 | U28: =(E28*L28+F28*M28+G28*N28+H28*O28+I28*P28)+Q28*J28+R28*J28+S28*(E28+F28+G28+H28+I28) -> 19152.987 | V28: =U28*T28/100 -> 16854.628 | W28: =U28-V28 -> 2298.3584
A29: 28 | B29: Волховский район | C29: Усадищенское сельское поселение | D29: 2024 | K29: =E29+F29+G29+H29+I29 -> 0 | L29: 12368.39 | M29: 11131.55 | N29: 8657.87 | O29: 6184.2 | P29: 3710.52 | Q29: 488.77 | R29: 2100 | S29: 200 | T29: 90 | U29: =(E29*L29+F29*M29+G29*N29+H29*O29+I29*P29)+Q29*J29+R29*J29+S29*(E29+F29+G29+H29+I29) -> 0 | V29: =U29*T29/100 -> 0 | W29: =U29-V29 -> 0
A30: 29 | B30: Волховский район | C30: Хваловское сельское поселение | D30: 2024 | E30: 2 | F30: 2 | G30: 2 | H30: 6 | I30: 0 | J30: 6 | K30: =E30+F30+G30+H30+I30 -> 12 | L30: 12368.39 | M30: 11131.55 | N30: 8657.87 | O30: 6184.2 | P30: 3710.52 | Q30: 488.77 | R30: 2100 | S30: 200 | T30: 90 | U30: =(E30*L30+F30*M30+G30*N30+H30*O30+I30*P30)+Q30*J30+R30*J30+S30*(E30+F30+G30+H30+I30) -> 119353.44 | V30: =U30*T30/100 -> 107418.1 | W30: =U30-V30 -> 11935.344
A31: 30 | B31: Всеволожский район | C31: Агалатовское сельское поселение | D31: 2024 | K31: =E31+F31+G31+H31+I31 -> 0 | L31: 12368.39 | M31: 11131.55 | N31: 8657.87 | O31: 6184.2 | P31: 3710.52 | Q31: 488.77 | R31: 2100 | S31: 200 | T31: 91 | U31: =(E31*L31+F31*M31+G31*N31+H31*O31+I31*P31)+Q31*J31+R31*J31+S31*(E31+F31+G31+H31+I31) -> 0 | V31: =U31*T31/100 -> 0 | W31: =U31-V31 -> 0
A32: 31 | B32: Всеволожский район | C32: Бугровское сельское поселение | D32: 2024 | E32: 21 | F32: 0 | G32: 0 | H32: 0 | I32: 0 | J32: 7 | K32: =E32+F32+G32+H32+I32 -> 21 | L32: 12368.39 | M32: 11131.55 | N32: 8657.87 | O32: 6184.2 | P32: 3710.52 | Q32: 488.77 | R32: 2100 | S32: 200 | T32: 85 | U32: =(E32*L32+F32*M32+G32*N32+H32*O32+I32*P32)+Q32*J32+R32*J32+S32*(E32+F32+G32+H32+I32) -> 282057.58 | V32: =U32*T32/100 -> 239748.94 | W32: =U32-V32 -> 42308.637
A33: 32 | B33: Всеволожский район | C33: Всеволожское городское поселение | D33: 2024 | K33: =E33+F33+G33+H33+I33 -> 0 | L33: 12368.39 | M33: 11131.55 | N33: 8657.87 | O33: 6184.2 | P33: 3710.52 | Q33: 488.77 | R33: 2100 | S33: 200 | T33: 87 | U33: =(E33*L33+F33*M33+G33*N33+H33*O33+I33*P33)+Q33*J33+R33*J33+S33*(E33+F33+G33+H33+I33) -> 0 | V33: =U33*T33/100 -> 0 | W33: =U33-V33 -> 0
A34: 33 | B34: Всеволожский район | C34: Дубровское городское поселение | D34: 2024 | K34: =E34+F34+G34+H34+I34 -> 0 | L34: 12368.39 | M34: 11131.55 | N34: 8657.87 | O34: 6184.2 | P34: 3710.52 | Q34: 488.77 | R34: 2100 | S34: 200 | T34: 91 | U34: =(E34*L34+F34*M34+G34*N34+H34*O34+I34*P34)+Q34*J34+R34*J34+S34*(E34+F34+G34+H34+I34) -> 0 | V34: =U34*T34/100 -> 0 | W34: =U34-V34 -> 0
A35: 34 | B35: Всеволожский район | C35: Заневское городское поселение | D35: 2024 | K35: =E35+F35+G35+H35+I35 -> 0 | L35: 12368.39 | M35: 11131.55 | N35: 8657.87 | O35: 6184.2 | P35: 3710.52 | Q35: 488.77 | R35: 2100 | S35: 200 | T35: 91 | U35: =(E35*L35+F35*M35+G35*N35+H35*O35+I35*P35)+Q35*J35+R35*J35+S35*(E35+F35+G35+H35+I35) -> 0 | V35: =U35*T35/100 -> 0 | W35: =U35-V35 -> 0
A36: 35 | B36: Всеволожский район | C36: Колтушское сельское поселение | D36: 2024 | K36: =E36+F36+G36+H36+I36 -> 0 | L36: 12368.39 | M36: 11131.55 | N36: 8657.87 | O36: 6184.2 | P36: 3710.52 | Q36: 488.77 | R36: 2100 | S36: 200 | T36: 92 | U36: =(E36*L36+F36*M36+G36*N36+H36*O36+I36*P36)+Q36*J36+R36*J36+S36*(E36+F36+G36+H36+I36) -> 0 | V36: =U36*T36/100 -> 0 | W36: =U36-V36 -> 0
A37: 36 | B37: Всеволожский район | C37: Кузьмоловское городское поселение | D37: 2024 | K37: =E37+F37+G37+H37+I37 -> 0 | L37: 12368.39 | M37: 11131.55 | N37: 8657.87 | O37: 6184.2 | P37: 3710.52 | Q37: 488.77 | R37: 2100 | S37: 200 | T37: 83 | U37: =(E37*L37+F37*M37+G37*N37+H37*O37+I37*P37)+Q37*J37+R37*J37+S37*(E37+F37+G37+H37+I37) -> 0 | V37: =U37*T37/100 -> 0 | W37: =U37-V37 -> 0
A38: 37 | B38: Всеволожский район | C38: Куйвозовское сельское поселение | D38: 2024 | K38: =E38+F38+G38+H38+I38 -> 0 | L38: 12368.39 | M38: 11131.55 | N38: 8657.87 | O38: 6184.2 | P38: 3710.52 | Q38: 488.77 | R38: 2100 | S38: 200 | T38: 90 | U38: =(E38*L38+F38*M38+G38*N38+H38*O38+I38*P38)+Q38*J38+R38*J38+S38*(E38+F38+G38+H38+I38) -> 0 | V38: =U38*T38/100 -> 0 | W38: =U38-V38 -> 0
A39: 38 | B39: Всеволожский район | C39: Лесколовское сельское поселение | D39: 2024 | E39: 0 | F39: 24.579 | G39: 0 | H39: 42.859 | I39: 0 | J39: 5 | K39: =E39+F39+G39+H39+I39 -> 67.438 | L39: 12368.39 | M39: 11131.55 | N39: 8657.87 | O39: 6184.2 | P39: 3710.52 | Q39: 488.77 | R39: 2100 | S39: 200 | T39: 90 | U39: =(E39*L39+F39*M39+G39*N39+H39*O39+I39*P39)+Q39*J39+R39*J39+S39*(E39+F39+G39+H39+I39) -> 565082.45 | V39: =U39*T39/100 -> 508574.2 | W39: =U39-V39 -> 56508.245
A40: 39 | B40: Всеволожский район | C40: Морозовское городское поселение | D40: 2024 | K40: =E40+F40+G40+H40+I40 -> 0 | L40: 12368.39 | M40: 11131.55 | N40: 8657.87 | O40: 6184.2 | P40: 3710.52 | Q40: 488.77 | R40: 2100 | S40: 200 | T40: 90 | U40: =(E40*L40+F40*M40+G40*N40+H40*O40+I40*P40)+Q40*J40+R40*J40+S40*(E40+F40+G40+H40+I40) -> 0 | V40: =U40*T40/100 -> 0 | W40: =U40-V40 -> 0
...

Sheet Доп отбор 2024-2026 
A1: № п/п | B1: Муниципальный район | C1: Муниципальное образование | D1: Год субсидирования | E1: площадь обработки 1 года, га | F1: площадь обработки 2 года, га | G1: площадь обработки 3 года, га | H1: площадь обработки 4 года, га | I1: площадь обработки 5 года, га | J1: Количество населенных пунктов, шт. | K1: Общая площадь обработки, га | L1: Стоимость обработки 1 года, руб./га | M1: Стоимость обработки 2 года, руб./га | N1: Стоимость обработки 3 года, руб./га | O1: Стоимость обработки 4 года, руб./га | P1: Стоимость обработки 5 года, руб./га | Q1: Стоимость отбора образцов, руб./нас. пункт | R1: Стоимость анализа образцов, руб./нас. пункт | S1: Стоимость оценки эффективности, руб./га | T1: Уровень софинансирования, % | U1: Итого размер субсидии, руб. | V1: Итого размер средств областного бюджета, руб.
A2: 1 | B2: Бокситогорский район | C2: Бокситогорское городское поселение | D2: 2024 | K2: =E2+F2+G2+H2+I2 -> 0 | L2: 12368.39 | M2: 11131.55 | N2: 8657.87 | O2: 6184.2 | P2: 3710.52 | Q2: 488.77 | R2: 2100 | S2: 200 | T2: 89 | U2: =(E2*L2+F2*M2+G2*N2+H2*O2+I2*P2)+Q2*J2+R2*J2+S2*(E2+F2+G2+H2+I2) -> 0 | V2: =U2*T2/100 -> 0
A3: 2 | B3: Бокситогорский район | C3: Большедворское сельское поселение | D3: 2024 | K3: =E3+F3+G3+H3+I3 -> 0 | L3: 12368.39 | M3: 11131.55 | N3: 8657.87 | O3: 6184.2 | P3: 3710.52 | Q3: 488.77 | R3: 2100 | S3: 200 | T3: 88 | U3: =(E3*L3+F3*M3+G3*N3+H3*O3+I3*P3)+Q3*J3+R3*J3+S3*(E3+F3+G3+H3+I3) -> 0 | V3: =U3*T3/100 -> 0
A4: 3 | B4: Бокситогорский район | C4: Борское сельское поселение | D4: 2024 | K4: =E4+F4+G4+H4+I4 -> 0 | L4: 12368.39 | M4: 11131.55 | N4: 8657.87 | O4: 6184.2 | P4: 3710.52 | Q4: 488.77 | R4: 2100 | S4: 200 | T4: 89 | U4: =(E4*L4+F4*M4+G4*N4+H4*O4+I4*P4)+Q4*J4+R4*J4+S4*(E4+F4+G4+H4+I4) -> 0 | V4: =U4*T4/100 -> 0
A5: 4 | B5: Бокситогорский район | C5: Ефимовское городское поселение | D5: 2024 | K5: =E5+F5+G5+H5+I5 -> 0 | L5: 12368.39 | M5: 11131.55 | N5: 8657.87 | O5: 6184.2 | P5: 3710.52 | Q5: 488.77 | R5: 2100 | S5: 200 | T5: 89 | U5: =(E5*L5+F5*M5+G5*N5+H5*O5+I5*P5)+Q5*J5+R5*J5+S5*(E5+F5+G5+H5+I5) -> 0 | V5: =U5*T5/100 -> 0
A6: 5 | B6: Бокситогорский район | C6: Лидское сельское поселение | D6: 2024 | K6: =E6+F6+G6+H6+I6 -> 0 | L6: 12368.39 | M6: 11131.55 | N6: 8657.87 | O6: 6184.2 | P6: 3710.52 | Q6: 488.77 | R6: 2100 | S6: 200 | T6: 86 | U6: =(E6*L6+F6*M6+G6*N6+H6*O6+I6*P6)+Q6*J6+R6*J6+S6*(E6+F6+G6+H6+I6) -> 0 | V6: =U6*T6/100 -> 0
A7: 6 | B7: Бокситогорский район | C7: Пикалёвское городское поселение | D7: 2024 | K7: =E7+F7+G7+H7+I7 -> 0 | L7: 12368.39 | M7: 11131.55 | N7: 8657.87 | O7: 6184.2 | P7: 3710.52 | Q7: 488.77 | R7: 2100 | S7: 200 | T7: 89 | U7: =(E7*L7+F7*M7+G7*N7+H7*O7+I7*P7)+Q7*J7+R7*J7+S7*(E7+F7+G7+H7+I7) -> 0 | V7: =U7*T7/100 -> 0
A8: 7 | B8: Бокситогорский район | C8: Самойловское сельское поселение | D8: 2024 | E8: 0 | F8: 45.52 | G8: 0 | H8: 0 | I8: 0 | J8: 4 | K8: =E8+F8+G8+H8+I8 -> 45.52 | L8: 12368.39 | M8: 11131.55 | N8: 8657.87 | O8: 6184.2 | P8: 3710.52 | Q8: 488.77 | R8: 2100 | S8: 200 | T8: 83 | U8: =(E8*L8+F8*M8+G8*N8+H8*O8+I8*P8)+Q8*J8+R8*J8+S8*(E8+F8+G8+H8+I8) -> 526167.24 | V8: =U8*T8/100 -> 436718.81
A9: 8 | B9: Волосовский район | C9: Бегуницкое сельское поселение | D9: 2024 | K9: =E9+F9+G9+H9+I9 -> 0 | L9: 12368.39 | M9: 11131.55 | N9: 8657.87 | O9: 6184.2 | P9: 3710.52 | Q9: 488.77 | R9: 2100 | S9: 200 | T9: 91 | U9: =(E9*L9+F9*M9+G9*N9+H9*O9+I9*P9)+Q9*J9+R9*J9+S9*(E9+F9+G9+H9+I9) -> 0 | V9: =U9*T9/100 -> 0
A10: 9 | B10: Волосовский район | C10: Большеврудское сельское поселение | D10: 2024 | E10: 0 | F10: 37.5 | G10: 0 | H10: 0 | I10: 0 | J10: 1 | K10: =E10+F10+G10+H10+I10 -> 37.5 | L10: 12368.39 | M10: 11131.55 | N10: 8657.87 | O10: 6184.2 | P10: 3710.52 | Q10: 488.77 | R10: 2100 | S10: 200 | T10: 91 | U10: =(E10*L10+F10*M10+G10*N10+H10*O10+I10*P10)+Q10*J10+R10*J10+S10*(E10+F10+G10+H10+I10) -> 427521.9 | V10: =U10*T10/100 -> 389044.92
A11: 10 | B11: Волосовский район | C11: Волосовское городское поселение | D11: 2024 | K11: =E11+F11+G11+H11+I11 -> 0 | L11: 12368.39 | M11: 11131.55 | N11: 8657.87 | O11: 6184.2 | P11: 3710.52 | Q11: 488.77 | R11: 2100 | S11: 200 | T11: 89 | U11: =(E11*L11+F11*M11+G11*N11+H11*O11+I11*P11)+Q11*J11+R11*J11+S11*(E11+F11+G11+H11+I11) -> 0 | V11: =U11*T11/100 -> 0
A12: 11 | B12: Волосовский район | C12: Калитинское сельское поселение | D12: 2024 | E12: 15.2 | J12: 7 | K12: =E12+F12+G12+H12+I12 -> 15.2 | L12: 12368.39 | M12: 11131.55 | N12: 8657.87 | O12: 6184.2 | P12: 3710.52 | Q12: 488.77 | R12: 2100 | S12: 200 | T12: 91 | U12: =(E12*L12+F12*M12+G12*N12+H12*O12+I12*P12)+Q12*J12+R12*J12+S12*(E12+F12+G12+H12+I12) -> 209160.92 | V12: =U12*T12/100 -> 190336.44
A13: 12 | B13: Волосовский район | C13: Клопицкое сельское поселение | D13: 2024 | K13: =E13+F13+G13+H13+I13 -> 0 | L13: 12368.39 | M13: 11131.55 | N13: 8657.87 | O13: 6184.2 | P13: 3710.52 | Q13: 488.77 | R13: 2100 | S13: 200 | T13: 92 | U13: =(E13*L13+F13*M13+G13*N13+H13*O13+I13*P13)+Q13*J13+R13*J13+S13*(E13+F13+G13+H13+I13) -> 0 | V13: =U13*T13/100 -> 0
A14: 13 | B14: Волосовский район | C14: Рабитицкое сельское поселение | D14: 2024 | K14: =E14+F14+G14+H14+I14 -> 0 | L14: 12368.39 | M14: 11131.55 | N14: 8657.87 | O14: 6184.2 | P14: 3710.52 | Q14: 488.77 | R14: 2100 | S14: 200 | T14: 91 | U14: =(E14*L14+F14*M14+G14*N14+H14*O14+I14*P14)+Q14*J14+R14*J14+S14*(E14+F14+G14+H14+I14) -> 0 | V14: =U14*T14/100 -> 0
A15: 14 | B15: Волосовский район | C15: Сабское сельское поселение | D15: 2024 | K15: =E15+F15+G15+H15+I15 -> 0 | L15: 12368.39 | M15: 11131.55 | N15: 8657.87 | O15: 6184.2 | P15: 3710.52 | Q15: 488.77 | R15: 2100 | S15: 200 | T15: 91 | U15: =(E15*L15+F15*M15+G15*N15+H15*O15+I15*P15)+Q15*J15+R15*J15+S15*(E15+F15+G15+H15+I15) -> 0 | V15: =U15*T15/100 -> 0
A16: 15 | B16: Волховский район | C16: Бережковское сельское поселение | D16: 2024 | E16: 4.6 | J16: 1 | K16: =E16+F16+G16+H16+I16 -> 4.6 | L16: 12368.39 | M16: 11131.55 | N16: 8657.87 | O16: 6184.2 | P16: 3710.52 | Q16: 488.77 | R16: 2100 | S16: 200 | T16: 90 | U16: =(E16*L16+F16*M16+G16*N16+H16*O16+I16*P16)+Q16*J16+R16*J16+S16*(E16+F16+G16+H16+I16) -> 60403.364 | V16: =U16*T16/100 -> 54363.028
A17: 16 | B17: Волховский район | C17: Волховское городское поселение | D17: 2024 | K17: =E17+F17+G17+H17+I17 -> 0 | L17: 12368.39 | M17: 11131.55 | N17: 8657.87 | O17: 6184.2 | P17: 3710.52 | Q17: 488.77 | R17: 2100 | S17: 200 | T17: 90 | U17: =(E17*L17+F17*M17+G17*N17+H17*O17+I17*P17)+Q17*J17+R17*J17+S17*(E17+F17+G17+H17+I17) -> 0 | V17: =U17*T17/100 -> 0
A18: 17 | B18: Волховский район | C18: Вындиноостровское сельское поселение | D18: 2024 | K18: =E18+F18+G18+H18+I18 -> 0 | L18: 12368.39 | M18: 11131.55 | N18: 8657.87 | O18: 6184.2 | P18: 3710.52 | Q18: 488.77 | R18: 2100 | S18: 200 | T18: 92 | U18: =(E18*L18+F18*M18+G18*N18+H18*O18+I18*P18)+Q18*J18+R18*J18+S18*(E18+F18+G18+H18+I18) -> 0 | V18: =U18*T18/100 -> 0
A19: 18 | B19: Волховский район | C19: Иссадское сельское поселение | D19: 2024 | K19: =E19+F19+G19+H19+I19 -> 0 | L19: 12368.39 | M19: 11131.55 | N19: 8657.87 | O19: 6184.2 | P19: 3710.52 | Q19: 488.77 | R19: 2100 | S19: 200 | T19: 89 | U19: =(E19*L19+F19*M19+G19*N19+H19*O19+I19*P19)+Q19*J19+R19*J19+S19*(E19+F19+G19+H19+I19) -> 0 | V19: =U19*T19/100 -> 0
A20: 19 | B20: Волховский район | C20: Кисельнинское сельское поселение | D20: 2024 | K20: =E20+F20+G20+H20+I20 -> 0 | L20: 12368.39 | M20: 11131.55 | N20: 8657.87 | O20: 6184.2 | P20: 3710.52 | Q20: 488.77 | R20: 2100 | S20: 200 | T20: 87 | U20: =(E20*L20+F20*M20+G20*N20+H20*O20+I20*P20)+Q20*J20+R20*J20+S20*(E20+F20+G20+H20+I20) -> 0 | V20: =U20*T20/100 -> 0
A21: 20 | B21: Волховский район | C21: Колчановское сельское поселение | D21: 2024 | K21: =E21+F21+G21+H21+I21 -> 0 | L21: 12368.39 | M21: 11131.55 | N21: 8657.87 | O21: 6184.2 | P21: 3710.52 | Q21: 488.77 | R21: 2100 | S21: 200 | T21: 89 | U21: =(E21*L21+F21*M21+G21*N21+H21*O21+I21*P21)+Q21*J21+R21*J21+S21*(E21+F21+G21+H21+I21) -> 0 | V21: =U21*T21/100 -> 0
A22: 21 | B22: Волховский район | C22: Новоладожское городское поселение | D22: 2024 | K22: =E22+F22+G22+H22+I22 -> 0 | L22: 12368.39 | M22: 11131.55 | N22: 8657.87 | O22: 6184.2 | P22: 3710.52 | Q22: 488.77 | R22: 2100 | S22: 200 | T22: 88 | U22: =(E22*L22+F22*M22+G22*N22+H22*O22+I22*P22)+Q22*J22+R22*J22+S22*(E22+F22+G22+H22+I22) -> 0 | V22: =U22*T22/100 -> 0
A23: 22 | B23: Волховский район | C23: Пашское сельское поселение | D23: 2024 | K23: =E23+F23+G23+H23+I23 -> 0 | L23: 12368.39 | M23: 11131.55 | N23: 8657.87 | O23: 6184.2 | P23: 3710.52 | Q23: 488.77 | R23: 2100 | S23: 200 | T23: 89 | U23: =(E23*L23+F23*M23+G23*N23+H23*O23+I23*P23)+Q23*J23+R23*J23+S23*(E23+F23+G23+H23+I23) -> 0 | V23: =U23*T23/100 -> 0
A24: 23 | B24: Волховский район | C24: Потанинское сельское поселение | D24: 2024 | K24: =E24+F24+G24+H24+I24 -> 0 | L24: 12368.39 | M24: 11131.55 | N24: 8657.87 | O24: 6184.2 | P24: 3710.52 | Q24: 488.77 | R24: 2100 | S24: 200 | T24: 87 | U24: =(E24*L24+F24*M24+G24*N24+H24*O24+I24*P24)+Q24*J24+R24*J24+S24*(E24+F24+G24+H24+I24) -> 0 | V24: =U24*T24/100 -> 0
A25: 24 | B25: Волховский район | C25: Свирицкое сельское поселение | D25: 2024 | K25: =E25+F25+G25+H25+I25 -> 0 | L25: 12368.39 | M25: 11131.55 | N25: 8657.87 | O25: 6184.2 | P25: 3710.52 | Q25: 488.77 | R25: 2100 | S25: 200 | T25: 91 | U25: =(E25*L25+F25*M25+G25*N25+H25*O25+I25*P25)+Q25*J25+R25*J25+S25*(E25+F25+G25+H25+I25) -> 0 | V25: =U25*T25/100 -> 0
A26: 25 | B26: Волховский район | C26: Селивановское сельское поселение | D26: 2024 | K26: =E26+F26+G26+H26+I26 -> 0 | L26: 12368.39 | M26: 11131.55 | N26: 8657.87 | O26: 6184.2 | P26: 3710.52 | Q26: 488.77 | R26: 2100 | S26: 200 | T26: 93 | U26: =(E26*L26+F26*M26+G26*N26+H26*O26+I26*P26)+Q26*J26+R26*J26+S26*(E26+F26+G26+H26+I26) -> 0 | V26: =U26*T26/100 -> 0
A27: 26 | B27: Волховский район | C27: Староладожское сельское поселение | D27: 2024 | K27: =E27+F27+G27+H27+I27 -> 0 | L27: 12368.39 | M27: 11131.55 | N27: 8657.87 | O27: 6184.2 | P27: 3710.52 | Q27: 488.77 | R27: 2100 | S27: 200 | T27: 90 | U27: =(E27*L27+F27*M27+G27*N27+H27*O27+I27*P27)+Q27*J27+R27*J27+S27*(E27+F27+G27+H27+I27) -> 0 | V27: =U27*T27/100 -> 0
A28: 27 | B28: Волховский район | C28: Сясьстройское городское поселение | D28: 2024 | K28: =E28+F28+G28+H28+I28 -> 0 | L28: 12368.39 | M28: 11131.55 | N28: 8657.87 | O28: 6184.2 | P28: 3710.52 | Q28: 488.77 | R28: 2100 | S28: 200 | T28: 88 | U28: =(E28*L28+F28*M28+G28*N28+H28*O28+I28*P28)+Q28*J28+R28*J28+S28*(E28+F28+G28+H28+I28) -> 0 | V28: =U28*T28/100 -> 0
A29: 28 | B29: Волховский район | C29: Усадищенское сельское поселение | D29: 2024 | K29: =E29+F29+G29+H29+I29 -> 0 | L29: 12368.39 | M29: 11131.55 | N29: 8657.87 | O29: 6184.2 | P29: 3710.52 | Q29: 488.77 | R29: 2100 | S29: 200 | T29: 90 | U29: =(E29*L29+F29*M29+G29*N29+H29*O29+I29*P29)+Q29*J29+R29*J29+S29*(E29+F29+G29+H29+I29) -> 0 | V29: =U29*T29/100 -> 0
A30: 29 | B30: Волховский район | C30: Хваловское сельское поселение | D30: 2024 | E30: 4 | F30: 2 | G30: 2 | H30: 6 | J30: 7 | K30: =E30+F30+G30+H30+I30 -> 14 | L30: 12368.39 | M30: 11131.55 | N30: 8657.87 | O30: 6184.2 | P30: 3710.52 | Q30: 488.77 | R30: 2100 | S30: 200 | T30: 90 | U30: =(E30*L30+F30*M30+G30*N30+H30*O30+I30*P30)+Q30*J30+R30*J30+S30*(E30+F30+G30+H30+I30) -> 147078.99 | V30: =U30*T30/100 -> 132371.09
A31: 30 | B31: Всеволожский район | C31: Агалатовское сельское поселение | D31: 2024 | K31: =E31+F31+G31+H31+I31 -> 0 | L31: 12368.39 | M31: 11131.55 | N31: 8657.87 | O31: 6184.2 | P31: 3710.52 | Q31: 488.77 | R31: 2100 | S31: 200 | T31: 91 | U31: =(E31*L31+F31*M31+G31*N31+H31*O31+I31*P31)+Q31*J31+R31*J31+S31*(E31+F31+G31+H31+I31) -> 0 | V31: =U31*T31/100 -> 0
A32: 31 | B32: Всеволожский район | C32: Бугровское сельское поселение | D32: 2024 | K32: =E32+F32+G32+H32+I32 -> 0 | L32: 12368.39 | M32: 11131.55 | N32: 8657.87 | O32: 6184.2 | P32: 3710.52 | Q32: 488.77 | R32: 2100 | S32: 200 | T32: 85 | U32: =(E32*L32+F32*M32+G32*N32+H32*O32+I32*P32)+Q32*J32+R32*J32+S32*(E32+F32+G32+H32+I32) -> 0 | V32: =U32*T32/100 -> 0
A33: 32 | B33: Всеволожский район | C33: Всеволожское городское поселение | D33: 2024 | K33: =E33+F33+G33+H33+I33 -> 0 | L33: 12368.39 | M33: 11131.55 | N33: 8657.87 | O33: 6184.2 | P33: 3710.52 | Q33: 488.77 | R33: 2100 | S33: 200 | T33: 87 | U33: =(E33*L33+F33*M33+G33*N33+H33*O33+I33*P33)+Q33*J33+R33*J33+S33*(E33+F33+G33+H33+I33) -> 0 | V33: =U33*T33/100 -> 0
A34: 33 | B34: Всеволожский район | C34: Дубровское городское поселение | D34: 2024 | K34: =E34+F34+G34+H34+I34 -> 0 | L34: 12368.39 | M34: 11131.55 | N34: 8657.87 | O34: 6184.2 | P34: 3710.52 | Q34: 488.77 | R34: 2100 | S34: 200 | T34: 91 | U34: =(E34*L34+F34*M34+G34*N34+H34*O34+I34*P34)+Q34*J34+R34*J34+S34*(E34+F34+G34+H34+I34) -> 0 | V34: =U34*T34/100 -> 0
A35: 34 | B35: Всеволожский район | C35: Заневское городское поселение | D35: 2024 | K35: =E35+F35+G35+H35+I35 -> 0 | L35: 12368.39 | M35: 11131.55 | N35: 8657.87 | O35: 6184.2 | P35: 3710.52 | Q35: 488.77 | R35: 2100 | S35: 200 | T35: 91 | U35: =(E35*L35+F35*M35+G35*N35+H35*O35+I35*P35)+Q35*J35+R35*J35+S35*(E35+F35+G35+H35+I35) -> 0 | V35: =U35*T35/100 -> 0
A36: 35 | B36: Всеволожский район | C36: Колтушское сельское поселение | D36: 2024 | K36: =E36+F36+G36+H36+I36 -> 0 | L36: 12368.39 | M36: 11131.55 | N36: 8657.87 | O36: 6184.2 | P36: 3710.52 | Q36: 488.77 | R36: 2100 | S36: 200 | T36: 92 | U36: =(E36*L36+F36*M36+G36*N36+H36*O36+I36*P36)+Q36*J36+R36*J36+S36*(E36+F36+G36+H36+I36) -> 0 | V36: =U36*T36/100 -> 0
A37: 36 | B37: Всеволожский район | C37: Кузьмоловское городское поселение | D37: 2024 | K37: =E37+F37+G37+H37+I37 -> 0 | L37: 12368.39 | M37: 11131.55 | N37: 8657.87 | O37: 6184.2 | P37: 3710.52 | Q37: 488.77 | R37: 2100 | S37: 200 | T37: 83 | U37: =(E37*L37+F37*M37+G37*N37+H37*O37+I37*P37)+Q37*J37+R37*J37+S37*(E37+F37+G37+H37+I37) -> 0 | V37: =U37*T37/100 -> 0
A38: 37 | B38: Всеволожский район | C38: Куйвозовское сельское поселение | D38: 2024 | K38: =E38+F38+G38+H38+I38 -> 0 | L38: 12368.39 | M38: 11131.55 | N38: 8657.87 | O38: 6184.2 | P38: 3710.52 | Q38: 488.77 | R38: 2100 | S38: 200 | T38: 90 | U38: =(E38*L38+F38*M38+G38*N38+H38*O38+I38*P38)+Q38*J38+R38*J38+S38*(E38+F38+G38+H38+I38) -> 0 | V38: =U38*T38/100 -> 0
A39: 38 | B39: Всеволожский район | C39: Лесколовское сельское поселение | D39: 2024 | K39: =E39+F39+G39+H39+I39 -> 0 | L39: 12368.39 | M39: 11131.55 | N39: 8657.87 | O39: 6184.2 | P39: 3710.52 | Q39: 488.77 | R39: 2100 | S39: 200 | T39: 90 | U39: =(E39*L39+F39*M39+G39*N39+H39*O39+I39*P39)+Q39*J39+R39*J39+S39*(E39+F39+G39+H39+I39) -> 0 | V39: =U39*T39/100 -> 0
A40: 39 | B40: Всеволожский район | C40: Морозовское городское поселение | D40: 2024 | K40: =E40+F40+G40+H40+I40 -> 0 | L40: 12368.39 | M40: 11131.55 | N40: 8657.87 | O40: 6184.2 | P40: 3710.52 | Q40: 488.77 | R40: 2100 | S40: 200 | T40: 90 | U40: =(E40*L40+F40*M40+G40*N40+H40*O40+I40*P40)+Q40*J40+R40*J40+S40*(E40+F40+G40+H40+I40) -> 0 | V40: =U40*T40/100 -> 0
...

Sheet Итого отбор 2024-2026
A1: № п/п | B1: Муниципальный район | C1: Муниципальное образование | D1: Год субсидирования | E1: площадь обработки 1 года, га | F1: площадь обработки 2 года, га | G1: площадь обработки 3 года, га | H1: площадь обработки 4 года, га | I1: площадь обработки 5 года, га | J1: Количество населенных пунктов, шт. | K1: Общая площадь обработки, га | L1: Стоимость обработки 1 года, руб./га | M1: Стоимость обработки 2 года, руб./га | N1: Стоимость обработки 3 года, руб./га | O1: Стоимость обработки 4 года, руб./га | P1: Стоимость обработки 5 года, руб./га | Q1: Стоимость отбора образцов, руб./нас. пункт | R1: Стоимость анализа образцов, руб./нас. пункт | S1: Стоимость оценки эффективности, руб./га | T1: Уровень софинансирования, % | U1: Итого размер субсидии, руб. | V1: Итого размер средств областного бюджета, руб.
A2: 1 | B2: Бокситогорский район | C2: Бокситогорское городское поселение | D2: 2024 | E2: ='Отбор 2024-2026'!E2+'Доп отбор 2024-2026 '!E2 -> 0 | F2: ='Отбор 2024-2026'!F2+'Доп отбор 2024-2026 '!F2 -> 2.42 | G2: ='Отбор 2024-2026'!G2+'Доп отбор 2024-2026 '!G2 -> 3.19 | H2: ='Отбор 2024-2026'!H2+'Доп отбор 2024-2026 '!H2 -> 4.1 | I2: ='Отбор 2024-2026'!I2+'Доп отбор 2024-2026 '!I2 -> 0 | J2: ='Отбор 2024-2026'!J2+'Доп отбор 2024-2026 '!J2 -> 4 | K2: =E2+F2+G2+H2+I2 -> 9.71 | L2: 12368.39 | M2: 11131.55 | N2: 8657.87 | O2: 6184.2 | P2: 3710.52 | Q2: 488.77 | R2: 2100 | S2: 200 | T2: 89 | U2: =(E2*L2+F2*M2+G2*N2+H2*O2+I2*P2)+Q2*J2+R2*J2+S2*(E2+F2+G2+H2+I2) -> 92209.256 | V2: =U2*T2/100 -> 82066.238
A3: 2 | B3: Бокситогорский район | C3: Большедворское сельское поселение | D3: 2024 | E3: ='Отбор 2024-2026'!E3+'Доп отбор 2024-2026 '!E3 -> 0 | F3: ='Отбор 2024-2026'!F3+'Доп отбор 2024-2026 '!F3 -> 17.5 | G3: ='Отбор 2024-2026'!G3+'Доп отбор 2024-2026 '!G3 -> 18.7 | H3: ='Отбор 2024-2026'!H3+'Доп отбор 2024-2026 '!H3 -> 20 | I3: ='Отбор 2024-2026'!I3+'Доп отбор 2024-2026 '!I3 -> 0 | J3: ='Отбор 2024-2026'!J3+'Доп отбор 2024-2026 '!J3 -> 7 | K3: =E3+F3+G3+H3+I3 -> 56.2 | L3: 12368.39 | M3: 11131.55 | N3: 8657.87 | O3: 6184.2 | P3: 3710.52 | Q3: 488.77 | R3: 2100 | S3: 200 | T3: 88 | U3: =(E3*L3+F3*M3+G3*N3+H3*O3+I3*P3)+Q3*J3+R3*J3+S3*(E3+F3+G3+H3+I3) -> 509749.68 | V3: =U3*T3/100 -> 448579.72
A4: 3 | B4: Бокситогорский район | C4: Борское сельское поселение | D4: 2024 | E4: ='Отбор 2024-2026'!E4+'Доп отбор 2024-2026 '!E4 -> 6 | F4: ='Отбор 2024-2026'!F4+'Доп отбор 2024-2026 '!F4 -> 5.002318 | G4: ='Отбор 2024-2026'!G4+'Доп отбор 2024-2026 '!G4 -> 32.997682 | H4: ='Отбор 2024-2026'!H4+'Доп отбор 2024-2026 '!H4 -> 0 | I4: ='Отбор 2024-2026'!I4+'Доп отбор 2024-2026 '!I4 -> 8 | J4: ='Отбор 2024-2026'!J4+'Доп отбор 2024-2026 '!J4 -> 11 | K4: =E4+F4+G4+H4+I4 -> 52 | L4: 12368.39 | M4: 11131.55 | N4: 8657.87 | O4: 6184.2 | P4: 3710.52 | Q4: 488.77 | R4: 2100 | S4: 200 | T4: 89 | U4: =(E4*L4+F4*M4+G4*N4+H4*O4+I4*P4)+Q4*J4+R4*J4+S4*(E4+F4+G4+H4+I4) -> 484144.16 | V4: =U4*T4/100 -> 430888.31
A5: 4 | B5: Бокситогорский район | C5: Ефимовское городское поселение | D5: 2024 | E5: ='Отбор 2024-2026'!E5+'Доп отбор 2024-2026 '!E5 -> 3.5 | F5: ='Отбор 2024-2026'!F5+'Доп отбор 2024-2026 '!F5 -> 0 | G5: ='Отбор 2024-2026'!G5+'Доп отбор 2024-2026 '!G5 -> 0 | H5: ='Отбор 2024-2026'!H5+'Доп отбор 2024-2026 '!H5 -> 0 | I5: ='Отбор 2024-2026'!I5+'Доп отбор 2024-2026 '!I5 -> 7 | J5: ='Отбор 2024-2026'!J5+'Доп отбор 2024-2026 '!J5 -> 4 | K5: =E5+F5+G5+H5+I5 -> 10.5 | L5: 12368.39 | M5: 11131.55 | N5: 8657.87 | O5: 6184.2 | P5: 3710.52 | Q5: 488.77 | R5: 2100 | S5: 200 | T5: 89 | U5: =(E5*L5+F5*M5+G5*N5+H5*O5+I5*P5)+Q5*J5+R5*J5+S5*(E5+F5+G5+H5+I5) -> 81718.085 | V5: =U5*T5/100 -> 72729.096
A6: 5 | B6: Бокситогорский район | C6: Лидское сельское поселение | D6: 2024 | E6: ='Отбор 2024-2026'!E6+'Доп отбор 2024-2026 '!E6 -> 0 | F6: ='Отбор 2024-2026'!F6+'Доп отбор 2024-2026 '!F6 -> 0 | G6: ='Отбор 2024-2026'!G6+'Доп отбор 2024-2026 '!G6 -> 0 | H6: ='Отбор 2024-2026'!H6+'Доп отбор 2024-2026 '!H6 -> 0 | I6: ='Отбор 2024-2026'!I6+'Доп отбор 2024-2026 '!I6 -> 0 | J6: ='Отбор 2024-2026'!J6+'Доп отбор 2024-2026 '!J6 -> 0 | K6: =E6+F6+G6+H6+I6 -> 0 | L6: 12368.39 | M6: 11131.55 | N6: 8657.87 | O6: 6184.2 | P6: 3710.52 | Q6: 488.77 | R6: 2100 | S6: 200 | T6: 86 | U6: =(E6*L6+F6*M6+G6*N6+H6*O6+I6*P6)+Q6*J6+R6*J6+S6*(E6+F6+G6+H6+I6) -> 0 | V6: =U6*T6/100 -> 0
A7: 6 | B7: Бокситогорский район | C7: Пикалёвское городское поселение | D7: 2024 | E7: ='Отбор 2024-2026'!E7+'Доп отбор 2024-2026 '!E7 -> 0 | F7: ='Отбор 2024-2026'!F7+'Доп отбор 2024-2026 '!F7 -> 0 | G7: ='Отбор 2024-2026'!G7+'Доп отбор 2024-2026 '!G7 -> 0 | H7: ='Отбор 2024-2026'!H7+'Доп отбор 2024-2026 '!H7 -> 0 | I7: ='Отбор 2024-2026'!I7+'Доп отбор 2024-2026 '!I7 -> 0 | J7: ='Отбор 2024-2026'!J7+'Доп отбор 2024-2026 '!J7 -> 0 | K7: =E7+F7+G7+H7+I7 -> 0 | L7: 12368.39 | M7: 11131.55 | N7: 8657.87 | O7: 6184.2 | P7: 3710.52 | Q7: 488.77 | R7: 2100 | S7: 200 | T7: 89 | U7: =(E7*L7+F7*M7+G7*N7+H7*O7+I7*P7)+Q7*J7+R7*J7+S7*(E7+F7+G7+H7+I7) -> 0 | V7: =U7*T7/100 -> 0
A8: 7 | B8: Бокситогорский район | C8: Самойловское сельское поселение | D8: 2024 | E8: ='Отбор 2024-2026'!E8+'Доп отбор 2024-2026 '!E8 -> 0 | F8: ='Отбор 2024-2026'!F8+'Доп отбор 2024-2026 '!F8 -> 45.52 | G8: ='Отбор 2024-2026'!G8+'Доп отбор 2024-2026 '!G8 -> 29.3 | H8: ='Отбор 2024-2026'!H8+'Доп отбор 2024-2026 '!H8 -> 68.7 | I8: ='Отбор 2024-2026'!I8+'Доп отбор 2024-2026 '!I8 -> 0 | J8: ='Отбор 2024-2026'!J8+'Доп отбор 2024-2026 '!J8 -> 15 | K8: =E8+F8+G8+H8+I8 -> 143.52 | L8: 12368.39 | M8: 11131.55 | N8: 8657.87 | O8: 6184.2 | P8: 3710.52 | Q8: 488.77 | R8: 2100 | S8: 200 | T8: 83 | U8: =(E8*L8+F8*M8+G8*N8+H8*O8+I8*P8)+Q8*J8+R8*J8+S8*(E8+F8+G8+H8+I8) -> 1252773.8 | V8: =U8*T8/100 -> 1039802.3
A9: 8 | B9: Волосовский район | C9: Бегуницкое сельское поселение | D9: 2024 | E9: ='Отбор 2024-2026'!E9+'Доп отбор 2024-2026 '!E9 -> 5 | F9: ='Отбор 2024-2026'!F9+'Доп отбор 2024-2026 '!F9 -> 5 | G9: ='Отбор 2024-2026'!G9+'Доп отбор 2024-2026 '!G9 -> 32 | H9: ='Отбор 2024-2026'!H9+'Доп отбор 2024-2026 '!H9 -> 73 | I9: ='Отбор 2024-2026'!I9+'Доп отбор 2024-2026 '!I9 -> 20 | J9: ='Отбор 2024-2026'!J9+'Доп отбор 2024-2026 '!J9 -> 27 | K9: =E9+F9+G9+H9+I9 -> 135 | L9: 12368.39 | M9: 11131.55 | N9: 8657.87 | O9: 6184.2 | P9: 3710.52 | Q9: 488.77 | R9: 2100 | S9: 200 | T9: 91 | U9: =(E9*L9+F9*M9+G9*N9+H9*O9+I9*P9)+Q9*J9+R9*J9+S9*(E9+F9+G9+H9+I9) -> 1017105.3 | V9: =U9*T9/100 -> 925565.85
A10: 9 | B10: Волосовский район | C10: Большеврудское сельское поселение | D10: 2024 | E10: ='Отбор 2024-2026'!E10+'Доп отбор 2024-2026 '!E10 -> 20 | F10: ='Отбор 2024-2026'!F10+'Доп отбор 2024-2026 '!F10 -> 57.5 | G10: ='Отбор 2024-2026'!G10+'Доп отбор 2024-2026 '!G10 -> 21.5 | H10: ='Отбор 2024-2026'!H10+'Доп отбор 2024-2026 '!H10 -> 64 | I10: ='Отбор 2024-2026'!I10+'Доп отбор 2024-2026 '!I10 -> 44.5 | J10: ='Отбор 2024-2026'!J10+'Доп отбор 2024-2026 '!J10 -> 32 | K10: =E10+F10+G10+H10+I10 -> 207.5 | L10: 12368.39 | M10: 11131.55 | N10: 8657.87 | O10: 6184.2 | P10: 3710.52 | Q10: 488.77 | R10: 2100 | S10: 200 | T10: 91 | U10: =(E10*L10+F10*M10+G10*N10+H10*O10+I10*P10)+Q10*J10+R10*J10+S10*(E10+F10+G10+H10+I10) -> 1758823.7 | V10: =U10*T10/100 -> 1600529.6
A11: 10 | B11: Волосовский район | C11: Волосовское городское поселение | D11: 2024 | E11: ='Отбор 2024-2026'!E11+'Доп отбор 2024-2026 '!E11 -> 0 | F11: ='Отбор 2024-2026'!F11+'Доп отбор 2024-2026 '!F11 -> 170 | G11: ='Отбор 2024-2026'!G11+'Доп отбор 2024-2026 '!G11 -> 64.69 | H11: ='Отбор 2024-2026'!H11+'Доп отбор 2024-2026 '!H11 -> 0 | I11: ='Отбор 2024-2026'!I11+'Доп отбор 2024-2026 '!I11 -> 0 | J11: ='Отбор 2024-2026'!J11+'Доп отбор 2024-2026 '!J11 -> 2 | K11: =E11+F11+G11+H11+I11 -> 234.69 | L11: 12368.39 | M11: 11131.55 | N11: 8657.87 | O11: 6184.2 | P11: 3710.52 | Q11: 488.77 | R11: 2100 | S11: 200 | T11: 89 | U11: =(E11*L11+F11*M11+G11*N11+H11*O11+I11*P11)+Q11*J11+R11*J11+S11*(E11+F11+G11+H11+I11) -> 2504556.7 | V11: =U11*T11/100 -> 2229055.4
A12: 11 | B12: Волосовский район | C12: Калитинское сельское поселение | D12: 2024 | E12: ='Отбор 2024-2026'!E12+'Доп отбор 2024-2026 '!E12 -> 25.2 | F12: ='Отбор 2024-2026'!F12+'Доп отбор 2024-2026 '!F12 -> 15 | G12: ='Отбор 2024-2026'!G12+'Доп отбор 2024-2026 '!G12 -> 30.9 | H12: ='Отбор 2024-2026'!H12+'Доп отбор 2024-2026 '!H12 -> 36.4 | I12: ='Отбор 2024-2026'!I12+'Доп отбор 2024-2026 '!I12 -> 0 | J12: ='Отбор 2024-2026'!J12+'Доп отбор 2024-2026 '!J12 -> 21 | K12: =E12+F12+G12+H12+I12 -> 107.5 | L12: 12368.39 | M12: 11131.55 | N12: 8657.87 | O12: 6184.2 | P12: 3710.52 | Q12: 488.77 | R12: 2100 | S12: 200 | T12: 91 | U12: =(E12*L12+F12*M12+G12*N12+H12*O12+I12*P12)+Q12*J12+R12*J12+S12*(E12+F12+G12+H12+I12) -> 1047153.9 | V12: =U12*T12/100 -> 952910.06
A13: 12 | B13: Волосовский район | C13: Клопицкое сельское поселение | D13: 2024 | E13: ='Отбор 2024-2026'!E13+'Доп отбор 2024-2026 '!E13 -> 10.2 | F13: ='Отбор 2024-2026'!F13+'Доп отбор 2024-2026 '!F13 -> 0 | G13: ='Отбор 2024-2026'!G13+'Доп отбор 2024-2026 '!G13 -> 0 | H13: ='Отбор 2024-2026'!H13+'Доп отбор 2024-2026 '!H13 -> 57.4 | I13: ='Отбор 2024-2026'!I13+'Доп отбор 2024-2026 '!I13 -> 0 | J13: ='Отбор 2024-2026'!J13+'Доп отбор 2024-2026 '!J13 -> 14 | K13: =E13+F13+G13+H13+I13 -> 67.6 | L13: 12368.39 | M13: 11131.55 | N13: 8657.87 | O13: 6184.2 | P13: 3710.52 | Q13: 488.77 | R13: 2100 | S13: 200 | T13: 92 | U13: =(E13*L13+F13*M13+G13*N13+H13*O13+I13*P13)+Q13*J13+R13*J13+S13*(E13+F13+G13+H13+I13) -> 530893.44 | V13: =U13*T13/100 -> 488421.96
... A565: 188 | B565: Тосненский район | C565: Шапкинское сельское поселение | D565: 2026 | E565: ='Отбор 2024-2026'!E565+'Доп отбор 2024-2026 '!E565 -> 0 | F565: ='Отбор 2024-2026'!F565+'Доп отбор 2024-2026 '!F565 -> 0 | G565: ='Отбор 2024-2026'!G565+'Доп отбор 2024-2026 '!G565 -> 0 | H565: ='Отбор 2024-2026'!H565+'Доп отбор 2024-2026 '!H565 -> 0 | I565: ='Отбор 2024-2026'!I565+'Доп отбор 2024-2026 '!I565 -> 0 | J565: ='Отбор 2024-2026'!J565+'Доп отбор 2024-2026 '!J565 -> 0 | K565: =E565+F565+G565+H565+I565 -> 0 | L565: 12368.39 | M565: 11131.55 | N565: 8657.87 | O565: 6184.2 | P565: 3710.52 | Q565: 488.77 | R565: 2100 | S565: 200 | T565: 87 | U565: =(E565*L565+F565*M565+G565*N565+H565*O565+I565*P565)+Q565*J565+R565*J565+S565*(E565+F565+G565+H565+I565) -> 0 | V565: =U565*T565/100 -> 0
A566: ИТОГО 2024 год | E566: =SUM(E2:E189) -> 800.59 | F566: =SUM(F2:F189) -> 1152.2096 | G566: =SUM(G2:G189) -> 1336.1037 | H566: =SUM(H2:H189) -> 1618.12 | I566: =SUM(I2:I189) -> 629.14 | J566: =SUM(J2:J189) -> 834 | K566: =SUM(K2:K189) -> 5536.1633 | U566: =SUM(U2:U189) -> 49903181 | V566: =SUM(V2:V189) -> 44209681
A567: ИТОГО 2025 год | E567: =SUM(E190:E377) -> 347.92 | F567: =SUM(F190:F377) -> 794.59 | G567: =SUM(G190:G377) -> 1215.7196 | H567: =SUM(H190:H377) -> 1315.5037 | I567: =SUM(I190:I377) -> 1603.82 | J567: =SUM(J190:J377) -> 810 | K567: =SUM(K190:K377) -> 5277.5533 | U567: =SUM(U190:U377) -> 40912529 | V567: =SUM(V190:V377) -> 36355483
A568: ИТОГО 2026 год | E568: =SUM(E378:E565) -> 511.6 | F568: =SUM(F378:F565) -> 335.92 | G568: =SUM(G378:G565) -> 755.48 | H568: =SUM(H378:H565) -> 1097.6306 | I568: =SUM(I378:I565) -> 1214.0137 | J568: =SUM(J378:J565) -> 667 | K568: =SUM(K378:K565) -> 3914.6443 | U568: =SUM(U378:U565) -> 30410054 | V568: =SUM(V378:V565) -> 27132348

Sheet Отбор 2025-2027
A1: № п/п | B1: Муниципальный район | C1: Муниципальное образование | D1: Год субсидирования | E1: площадь обработки 1 года, га | F1: площадь обработки 2 года, га | G1: площадь обработки 3 года, га | H1: площадь обработки 4 года, га | I1: площадь обработки 5 года, га | J1: Количество населенных пунктов, шт. | K1: Общая площадь обработки, га | L1: Стоимость обработки 1 года, руб./га | M1: Стоимость обработки 2 года, руб./га | N1: Стоимость обработки 3 года, руб./га | O1: Стоимость обработки 4 года, руб./га | P1: Стоимость обработки 5 года, руб./га | Q1: Стоимость отбора образцов, руб./нас. пункт | R1: Стоимость анализа образцов, руб./нас. пункт | S1: Стоимость оценки эффективности, руб./га | T1: Уровень софинансирования, % | U1: Уровень софинансирования реальный, % | V1: Итого размер субсидии, руб. | W1: Итого размер средств областного бюджета окончательный, руб. | X1: Итого размер средств местного бюджета окончательный, руб. | Y1: Итого размер средств областного бюджета расчетный, руб. | Z1: Уровень софинансирования расчетный, %
A2: 1 | B2: Бокситогорский район | C2: Бокситогорское городское поселение | D2: 2025 | E2: ='Итого отбор 2024-2026'!E190 -> 0 | F2: ='Итого отбор 2024-2026'!F190 -> 0 | G2: ='Итого отбор 2024-2026'!G190 -> 2.42 | H2: ='Итого отбор 2024-2026'!H190 -> 3.19 | I2: ='Итого отбор 2024-2026'!I190 -> 4.1 | J2: ='Итого отбор 2024-2026'!J190 -> 4 | K2: =E2+F2+G2+H2+I2 -> 9.71 | L2: 12368.39 | M2: 11131.55 | N2: 8657.87 | O2: 6184.2 | P2: 3710.52 | Q2: 488.77 | R2: 2100 | S2: 200 | T2: 90 | U2: =IF((V2=0),0,W2/V2*100) -> 89.999994 | V2: =ROUND(((E2*L2+F2*M2+G2*N2+H2*O2+I2*P2)+Q2*J2+R2*J2+S2*(E2+F2+G2+H2+I2)),2) -> 68189.86 | W2: =IF((Z2>T2),Y2-0.01,Y2) -> 61370.87 | X2: =V2-W2 -> 6818.99 | Y2: =ROUND((V2*T2/100),2) -> 61370.87 | Z2: =IF((V2=0),0,Y2/V2*100) -> 89.999994
A3: 2 | B3: Бокситогорский район | C3: Большедворское сельское поселение | D3: 2025 | E3: ='Итого отбор 2024-2026'!E191 -> 0 | F3: ='Итого отбор 2024-2026'!F191 -> 0 | G3: ='Итого отбор 2024-2026'!G191 -> 17.5 | H3: ='Итого отбор 2024-2026'!H191 -> 18.7 | I3: ='Итого отбор 2024-2026'!I191 -> 20 | J3: ='Итого отбор 2024-2026'!J191 -> 7 | K3: =E3+F3+G3+H3+I3 -> 56.2 | L3: 12368.39 | M3: 11131.55 | N3: 8657.87 | O3: 6184.2 | P3: 3710.52 | Q3: 488.77 | R3: 2100 | S3: 200 | T3: 90 | U3: =IF((V3=0),0,W3/V3*100) -> 89.999999 | V3: =ROUND(((E3*L3+F3*M3+G3*N3+H3*O3+I3*P3)+Q3*J3+R3*J3+S3*(E3+F3+G3+H3+I3)),2) -> 370729.06 | W3: =IF((Z3>T3),Y3-0.01,Y3) -> 333656.15 | X3: =V3-W3 -> 37072.91 | Y3: =ROUND((V3*T3/100),2) -> 333656.15 | Z3: =IF((V3=0),0,Y3/V3*100) -> 89.999999
A4: 3 | B4: Бокситогорский район | C4: Борское сельское поселение | D4: 2025 | E4: ='Итого отбор 2024-2026'!E192 -> 0 | F4: ='Итого отбор 2024-2026'!F192 -> 6 | G4: ='Итого отбор 2024-2026'!G192 -> 5.002318 | H4: ='Итого отбор 2024-2026'!H192 -> 32.997682 | I4: ='Итого отбор 2024-2026'!I192 -> 0 | J4: ='Итого отбор 2024-2026'!J192 -> 8 | K4: =E4+F4+G4+H4+I4 -> 44 | L4: 12368.39 | M4: 11131.55 | N4: 8657.87 | O4: 6184.2 | P4: 3710.52 | Q4: 488.77 | R4: 2100 | S4: 200 | T4: 89 | U4: =IF((V4=0),0,W4/V4*100) -> 88.999999 | V4: =ROUND(((E4*L4+F4*M4+G4*N4+H4*O4+I4*P4)+Q4*J4+R4*J4+S4*(E4+F4+G4+H4+I4)),2) -> 343673.14 | W4: =IF((Z4>T4),Y4-0.01,Y4) -> 305869.09 | X4: =V4-W4 -> 37804.05 | Y4: =ROUND((V4*T4/100),2) -> 305869.09 | Z4: =IF((V4=0),0,Y4/V4*100) -> 88.999999
A5: 4 | B5: Бокситогорский район | C5: Ефимовское городское поселение | D5: 2025 | E5: ='Итого отбор 2024-2026'!E193 -> 0 | F5: ='Итого отбор 2024-2026'!F193 -> 3.5 | G5: ='Итого отбор 2024-2026'!G193 -> 0 | H5: ='Итого отбор 2024-2026'!H193 -> 0 | I5: ='Итого отбор 2024-2026'!I193 -> 0 | J5: ='Итого отбор 2024-2026'!J193 -> 2 | K5: =E5+F5+G5+H5+I5 -> 3.5 | L5: 12368.39 | M5: 11131.55 | N5: 8657.87 | O5: 6184.2 | P5: 3710.52 | Q5: 488.77 | R5: 2100 | S5: 200 | T5: 93 | U5: =IF((V5=0),0,W5/V5*100) -> 92.999995 | V5: =ROUND(((E5*L5+F5*M5+G5*N5+H5*O5+I5*P5)+Q5*J5+R5*J5+S5*(E5+F5+G5+H5+I5)),2) -> 44837.97 | W5: =IF((Z5>T5),Y5-0.01,Y5) -> 41699.31 | X5: =V5-W5 -> 3138.66 | Y5: =ROUND((V5*T5/100),2) -> 41699.31 | Z5: =IF((V5=0),0,Y5/V5*100) -> 92.999995
A6: 5 | B6: Бокситогорский район | C6: Лидское сельское поселение | D6: 2025 | E6: ='Итого отбор 2024-2026'!E194 -> 0 | F6: ='Итого отбор 2024-2026'!F194 -> 0 | G6: ='Итого отбор 2024-2026'!G194 -> 0 | H6: ='Итого отбор 2024-2026'!H194 -> 0 | I6: ='Итого отбор 2024-2026'!I194 -> 0 | J6: ='Итого отбор 2024-2026'!J194 -> 0 | K6: =E6+F6+G6+H6+I6 -> 0 | L6: 12368.39 | M6: 11131.55 | N6: 8657.87 | O6: 6184.2 | P6: 3710.52 | Q6: 488.77 | R6: 2100 | S6: 200 | T6: 87 | U6: =IF((V6=0),0,W6/V6*100) -> 0 | V6: =ROUND(((E6*L6+F6*M6+G6*N6+H6*O6+I6*P6)+Q6*J6+R6*J6+S6*(E6+F6+G6+H6+I6)),2) -> 0 | W6: =IF((Z6>T6),Y6-0.01,Y6) -> 0 | X6: =V6-W6 -> 0 | Y6: =ROUND((V6*T6/100),2) -> 0 | Z6: =IF((V6=0),0,Y6/V6*100) -> 0
A7: 6 | B7: Бокситогорский район | C7: Пикалёвское городское поселение | D7: 2025 | E7: ='Итого отбор 2024-2026'!E195 -> 0 | F7: ='Итого отбор 2024-2026'!F195 -> 0 | G7: ='Итого отбор 2024-2026'!G195 -> 0 | H7: ='Итого отбор 2024-2026'!H195 -> 0 | I7: ='Итого отбор 2024-2026'!I195 -> 0 | J7: ='Итого отбор 2024-2026'!J195 -> 0 | K7: =E7+F7+G7+H7+I7 -> 0 | L7: 12368.39 | M7: 11131.55 | N7: 8657.87 | O7: 6184.2 | P7: 3710.52 | Q7: 488.77 | R7: 2100 | S7: 200 | T7: 89 | U7: =IF((V7=0),0,W7/V7*100) -> 0 | V7: =ROUND(((E7*L7+F7*M7+G7*N7+H7*O7+I7*P7)+Q7*J7+R7*J7+S7*(E7+F7+G7+H7+I7)),2) -> 0 | W7: =IF((Z7>T7),Y7-0.01,Y7) -> 0 | X7: =V7-W7 -> 0 | Y7: =ROUND((V7*T7/100),2) -> 0 | Z7: =IF((V7=0),0,Y7/V7*100) -> 0
A8: 7 | B8: Бокситогорский район | C8: Самойловское сельское поселение | D8: 2025 | E8: ='Итого отбор 2024-2026'!E196 -> 0 | F8: ='Итого отбор 2024-2026'!F196 -> 0 | G8: ='Итого отбор 2024-2026'!G196 -> 45.52 | H8: ='Итого отбор 2024-2026'!H196 -> 29.3 | I8: ='Итого отбор 2024-2026'!I196 -> 68.7 | J8: ='Итого отбор 2024-2026'!J196 -> 15 | K8: =E8+F8+G8+H8+I8 -> 143.52 | L8: 12368.39 | M8: 11131.55 | N8: 8657.87 | O8: 6184.2 | P8: 3710.52 | Q8: 488.77 | R8: 2100 | S8: 200 | T8: 84 | U8: =IF((V8=0),0,W8/V8*100) -> 83.999999 | V8: =ROUND(((E8*L8+F8*M8+G8*N8+H8*O8+I8*P8)+Q8*J8+R8*J8+S8*(E8+F8+G8+H8+I8)),2) -> 897751.58 | W8: =IF((Z8>T8),Y8-0.01,Y8) -> 754111.32 | X8: =V8-W8 -> 143640.26 | Y8: =ROUND((V8*T8/100),2) -> 754111.33 | Z8: =IF((V8=0),0,Y8/V8*100) -> 84
A9: 8 | B9: Волосовский район | C9: Бегуницкое сельское поселение | D9: 2025 | E9: ='Итого отбор 2024-2026'!E197 -> 10 | F9: ='Итого отбор 2024-2026'!F197 -> 5 | G9: ='Итого отбор 2024-2026'!G197 -> 5 | H9: ='Итого отбор 2024-2026'!H197 -> 32 | I9: ='Итого отбор 2024-2026'!I197 -> 73 | J9: ='Итого отбор 2024-2026'!J197 -> 27 | K9: =E9+F9+G9+H9+I9 -> 125 | L9: 12368.39 | M9: 11131.55 | N9: 8657.87 | O9: 6184.2 | P9: 3710.52 | Q9: 488.77 | R9: 2100 | S9: 200 | T9: 91 | U9: =IF((V9=0),0,W9/V9*100) -> 90.999999 | V9: =ROUND(((E9*L9+F9*M9+G9*N9+H9*O9+I9*P9)+Q9*J9+R9*J9+S9*(E9+F9+G9+H9+I9)),2) -> 786290.15 | W9: =IF((Z9>T9),Y9-0.01,Y9) -> 715524.03 | X9: =V9-W9 -> 70766.12 | Y9: =ROUND((V9*T9/100),2) -> 715524.04 | Z9: =IF((V9=0),0,Y9/V9*100) -> 91
A10: 9 | B10: Волосовский район | C10: Большеврудское сельское поселение | D10: 2025 | E10: ='Итого отбор 2024-2026'!E198 -> 50 | F10: ='Итого отбор 2024-2026'!F198 -> 20 | G10: ='Итого отбор 2024-2026'!G198 -> 57.5 | H10: ='Итого отбор 2024-2026'!H198 -> 21.5 | I10: ='Итого отбор 2024-2026'!I198 -> 64 | J10: ='Итого отбор 2024-2026'!J198 -> 32 | K10: =E10+F10+G10+H10+I10 -> 213 | L10: 12368.39 | M10: 11131.55 | N10: 8657.87 | O10: 6184.2 | P10: 3710.52 | Q10: 488.77 | R10: 2100 | S10: 200 | T10: 91 | U10: =IF((V10=0),0,W10/V10*100) -> 91 | V10: =ROUND(((E10*L10+F10*M10+G10*N10+H10*O10+I10*P10)+Q10*J10+R10*J10+S10*(E10+F10+G10+H10+I10)),2) -> 1834752.2 | W10: =IF((Z10>T10),Y10-0.01,Y10) -> 1669624.5 | X10: =V10-W10 -> 165127.71 | Y10: =ROUND((V10*T10/100),2) -> 1669624.6 | Z10: =IF((V10=0),0,Y10/V10*100) -> 91
A11: 10 | B11: Волосовский район | C11: Волосовское городское поселение | D11: 2025 | E11: ='Итого отбор 2024-2026'!E199 -> 0 | F11: ='Итого отбор 2024-2026'!F199 -> 0 | G11: ='Итого отбор 2024-2026'!G199 -> 170 | H11: ='Итого отбор 2024-2026'!H199 -> 64.69 | I11: ='Итого отбор 2024-2026'!I199 -> 0 | J11: ='Итого отбор 2024-2026'!J199 -> 2 | K11: =E11+F11+G11+H11+I11 -> 234.69 | L11: 12368.39 | M11: 11131.55 | N11: 8657.87 | O11: 6184.2 | P11: 3710.52 | Q11: 488.77 | R11: 2100 | S11: 200 | T11: 90 | U11: =IF((V11=0),0,W11/V11*100) -> 90 | V11: =ROUND(((E11*L11+F11*M11+G11*N11+H11*O11+I11*P11)+Q11*J11+R11*J11+S11*(E11+F11+G11+H11+I11)),2) -> 1924009.3 | W11: =IF((Z11>T11),Y11-0.01,Y11) -> 1731608.4 | X11: =V11-W11 -> 192400.94 | Y11: =ROUND((V11*T11/100),2) -> 1731608.4 | Z11: =IF((V11=0),0,Y11/V11*100) -> 90
A12: 11 | B12: Волосовский район | C12: Калитинское сельское поселение | D12: 2025 | E12: ='Итого отбор 2024-2026'!E200 -> 0 | F12: ='Итого отбор 2024-2026'!F200 -> 25.2 | G12: ='Итого отбор 2024-2026'!G200 -> 15 | H12: ='Итого отбор 2024-2026'!H200 -> 30.9 | I12: ='Итого отбор 2024-2026'!I200 -> 36.4 | J12: ='Итого отбор 2024-2026'!J200 -> 22 | K12: =E12+F12+G12+H12+I12 -> 107.5 | L12: 12368.39 | M12: 11131.55 | N12: 8657.87 | O12: 6184.2 | P12: 3710.52 | Q12: 488.77 | R12: 2100 | S12: 200 | T12: 91 | U12: =IF((V12=0),0,W12/V12*100) -> 91 | V12: =ROUND(((E12*L12+F12*M12+G12*N12+H12*O12+I12*P12)+Q12*J12+R12*J12+S12*(E12+F12+G12+H12+I12)),2) -> 814990.76 | W12: =IF((Z12>T12),Y12-0.01,Y12) -> 741641.59 | X12: =V12-W12 -> 73349.17 | Y12: =ROUND((V12*T12/100),2) -> 741641.59 | Z12: =IF((V12=0),0,Y12/V12*100) -> 91
A13: 12 | B13: Волосовский район | C13: Клопицкое сельское поселение | D13: 2025 | E13: ='Итого отбор 2024-2026'!E201 -> 0 | F13: ='Итого отбор 2024-2026'!F201 -> 10.2 | G13: ='Итого отбор 2024-2026'!G201 -> 0 | H13: ='Итого отбор 2024-2026'!H201 -> 0 | I13: ='Итого отбор 2024-2026'!I201 -> 57.4 | J13: ='Итого отбор 2024-2026'!J201 -> 14 | K13: =E13+F13+G13+H13+I13 -> 67.6 | L13: 12368.39 | M13: 11131.55 | N13: 8657.87 | O13: 6184.2 | P13: 3710.52 | Q13: 488.77 | R13: 2100 | S13: 200 | T13: 92 | U13: =IF((V13=0),0,W13/V13*100) -> 91.999999 | V13: =ROUND(((E13*L13+F13*M13+G13*N13+H13*O13+I13*P13)+Q13*J13+R13*J13+S13*(E13+F13+G13+H13+I13)),2) -> 376288.44 | W13: =IF((Z13>T13),Y13-0.01,Y13) -> 346185.36 | X13: =V13-W13 -> 30103.08 | Y13: =ROUND((V13*T13/100),2) -> 346185.36 | Z13: =IF((V13=0),0,Y13/V13*100) -> 91.999999
... A61: 60 | B61: Выборгский район | C61: Советское городское поселение | D61: 2025 | E61: ='Итого отбор 2024-2026'!E249 -> 0 | F61: ='Итого отбор 2024-2026'!F249 -> 0 | G61: ='Итого отбор 2024-2026'!G249 -> 11 | H61: ='Итого отбор 2024-2026'!H249 -> 0 | I61: ='Итого отбор 2024-2026'!I249 -> 30 | J61: ='Итого отбор 2024-2026'!J249 -> 2 | K61: =E61+F61+G61+H61+I61 -> 41 | L61: 12368.39 | M61: 11131.55 | N61: 8657.87 | O61: 6184.2 | P61: 3710.52 | Q61: 488.77 | R61: 2100 | S61: 200 | T61: 93 | U61: =IF((V61=0),0,W61/V61*100) -> 93 | V61: =ROUND(((E61*L61+F61*M61+G61*N61+H61*O61+I61*P61)+Q61*J61+R61*J61+S61*(E61+F61+G61+H61+I61)),2) -> 219929.71 | W61: =IF((Z61>T61),Y61-0.01,Y61) -> 204534.63 | X61: =V61-W61 -> 15395.08 | Y61: =ROUND((V61*T61/100),2) -> 204534.63 | Z61: =IF((V61=0),0,Y61/V61*100) -> 93
A62: 61.1 | B62: Гатчинский район | C62: Большеколпанское сельское поселение | D62: 2025 | E62: ='Итого отбор 2024-2026'!E250 -> 9.44 | F62: ='Итого отбор 2024-2026'!F250 -> 7.45 | G62: ='Итого отбор 2024-2026'!G250 -> 44.4 | H62: ='Итого отбор 2024-2026'!H250 -> 18.81 | I62: ='Итого отбор 2024-2026'!I250 -> 10.4 | J62: ='Итого отбор 2024-2026'!J250 -> 13 | K62: =E62+F62+G62+H62+I62 -> 90.5 | L62: 12368.39 | M62: 11131.55 | N62: 8657.87 | O62: 6184.2 | P62: 3710.52 | Q62: 488.77 | R62: 2100 | S62: 200 | T62: 95 | U62: =IF((V62=0),0,W62/V62*100) -> 94.999999 | V62: =ROUND(((E62*L62+F62*M62+G62*N62+H62*O62+I62*P62)+Q62*J62+R62*J62+S62*(E62+F62+G62+H62+I62)),2) -> 790765.3 | W62: =IF((Z62>T62),Y62-0.01,Y62) -> 751227.03 | X62: =V62-W62 -> 39538.27 | Y62: =ROUND((V62*T62/100),2) -> 751227.04 | Z62: =IF((V62=0),0,Y62/V62*100) -> 95.000001
A63: 61.2 | B63: Гатчинский район | C63: Веревское сельское поселение | D63: 2025 | E63: ='Итого отбор 2024-2026'!E251 -> 0 | F63: ='Итого отбор 2024-2026'!F251 -> 0 | G63: ='Итого отбор 2024-2026'!G251 -> 0 | H63: ='Итого отбор 2024-2026'!H251 -> 0 | I63: ='Итого отбор 2024-2026'!I251 -> 0 | J63: ='Итого отбор 2024-2026'!J251 -> 0 | K63: =E63+F63+G63+H63+I63 -> 0 | L63: 12368.39 | M63: 11131.55 | N63: 8657.87 | O63: 6184.2 | P63: 3710.52 | Q63: 488.77 | R63: 2100 | S63: 200 | T63: 95 | U63: =IF((V63=0),0,W63/V63*100) -> 0 | V63: =ROUND(((E63*L63+F63*M63+G63*N63+H63*O63+I63*P63)+Q63*J63+R63*J63+S63*(E63+F63+G63+H63+I63)),2) -> 0 | W63: =IF((Z63>T63),Y63-0.01,Y63) -> 0 | X63: =V63-W63 -> 0 | Y63: =ROUND((V63*T63/100),2) -> 0 | Z63: =IF((V63=0),0,Y63/V63*100) -> 0
A64: 61.3 | B64: Гатчинский район | C64: Войсковицкое сельское поселение | D64: 2025 | E64: ='Итого отбор 2024-2026'!E252 -> 18 | F64: ='Итого отбор 2024-2026'!F252 -> 10 | G64: ='Итого отбор 2024-2026'!G252 -> 37 | H64: ='Итого отбор 2024-2026'!H252 -> 66.1 | I64: ='Итого отбор 2024-2026'!I252 -> 18 | J64: ='Итого отбор 2024-2026'!J252 -> 5 | K64: =E64+F64+G64+H64+I64 -> 149.1 | L64: 12368.39 | M64: 11131.55 | N64: 8657.87 | O64: 6184.2 | P64: 3710.52 | Q64: 488.77 | R64: 2100 | S64: 200 | T64: 95 | U64: =IF((V64=0),0,W64/V64*100) -> 95 | V64: =ROUND(((E64*L64+F64*M64+G64*N64+H64*O64+I64*P64)+Q64*J64+R64*J64+S64*(E64+F64+G64+H64+I64)),2) -> 1172616.5 | W64: =IF((Z64>T64),Y64-0.01,Y64) -> 1113985.7 | X64: =V64-W64 -> 58630.83 | Y64: =ROUND((V64*T64/100),2) -> 1113985.7 | Z64: =IF((V64=0),0,Y64/V64*100) -> 95
A65: 61.4 | B65: Гатчинский район | C65: Вырицкое городское поселение | D65: 2025 | E65: ='Итого отбор 2024-2026'!E253 -> 0 | F65: ='Итого отбор 2024-2026'!F253 -> 1.34 | G65: ='Итого отбор 2024-2026'!G253 -> 0 | H65: ='Итого отбор 2024-2026'!H253 -> 0 | I65: ='Итого отбор 2024-2026'!I253 -> 0 | J65: ='Итого отбор 2024-2026'!J253 -> 4 | K65: =E65+F65+G65+H65+I65 -> 1.34 | L65: 12368.39 | M65: 11131.55 | N65: 8657.87 | O65: 6184.2 | P65: 3710.52 | Q65: 488.77 | R65: 2100 | S65: 200 | T65: 95 | U65: =IF((V65=0),0,W65/V65*100) -> 94.999992 | V65: =ROUND(((E65*L65+F65*M65+G65*N65+H65*O65+I65*P65)+Q65*J65+R65*J65+S65*(E65+F65+G65+H65+I65)),2) -> 25539.36 | W65: =IF((Z65>T65),Y65-0.01,Y65) -> 24262.39 | X65: =V65-W65 -> 1276.97 | Y65: =ROUND((V65*T65/100),2) -> 24262.39 | Z65: =IF((V65=0),0,Y65/V65*100) -> 94.999992
A66: 61.5 | B66: Гатчинский район | C66: Гатчинское городское поселение | D66: 2025 | E66: ='Итого отбор 2024-2026'!E254 -> 0 | F66: ='Итого отбор 2024-2026'!F254 -> 0 | G66: ='Итого отбор 2024-2026'!G254 -> 0 | H66: ='Итого отбор 2024-2026'!H254 -> 0 | I66: ='Итого отбор 2024-2026'!I254 -> 0 | J66: ='Итого отбор 2024-2026'!J254 -> 0 | K66: =E66+F66+G66+H66+I66 -> 0 | L66: 12368.39 | M66: 11131.55 | N66: 8657.87 | O66: 6184.2 | P66: 3710.52 | Q66: 488.77 | R66: 2100 | S66: 200 | T66: 95 | U66: =IF((V66=0),0,W66/V66*100) -> 0 | V66: =ROUND(((E66*L66+F66*M66+G66*N66+H66*O66+I66*P66)+Q66*J66+R66*J66+S66*(E66+F66+G66+H66+I66)),2) -> 0 | W66: =IF((Z66>T66),Y66-0.01,Y66) -> 0 | X66: =V66-W66 -> 0 | Y66: =ROUND((V66*T66/100),2) -> 0 | Z66: =IF((V66=0),0,Y66/V66*100) -> 0
A67: 61.6 | B67: Гатчинский район | C67: Дружногорское городское поселение | D67: 2025 | E67: ='Итого отбор 2024-2026'!E255 -> 0 | F67: ='Итого отбор 2024-2026'!F255 -> 0 | G67: ='Итого отбор 2024-2026'!G255 -> 0 | H67: ='Итого отбор 2024-2026'!H255 -> 0 | I67: ='Итого отбор 2024-2026'!I255 -> 0 | J67: ='Итого отбор 2024-2026'!J255 -> 0 | K67: =E67+F67+G67+H67+I67 -> 0 | L67: 12368.39 | M67: 11131.55 | N67: 8657.87 | O67: 6184.2 | P67: 3710.52 | Q67: 488.77 | R67: 2100 | S67: 200 | T67: 95 | U67: =IF((V67=0),0,W67/V67*100) -> 0 | V67: =ROUND(((E67*L67+F67*M67+G67*N67+H67*O67+I67*P67)+Q67*J67+R67*J67+S67*(E67+F67+G67+H67+I67)),2) -> 0 | W67: =IF((Z67>T67),Y67-0.01,Y67) -> 0 | X67: =V67-W67 -> 0 | Y67: =ROUND((V67*T67/100),2) -> 0 | Z67: =IF((V67=0),0,Y67/V67*100) -> 0
