Workbook

Sheet Отбор 2024-2026
A1: № п/п | B1: Муниципальный район | C1: Муниципальное образование | D1: Год субсидирования | E1: площадь обработки 1 года, га | F1: площадь обработки 2 года, га | G1: площадь обработки 3 года, га | H1: площадь обработки 4 года, га | I1: площадь обработки 5 года, га | J1: Количество населенных пунктов, шт. | K1: Общая площадь обработки, га | L1: Стоимость обработки 1 года, руб./га | M1: Стоимость обработки 2 года, руб./га | N1: Стоимость обработки 3 года, руб./га | O1: Стоимость обработки 4 года, руб./га | P1: Стоимость обработки 5 года, руб./га | Q1: Стоимость отбора образцов, руб./нас. пункт | R1: Стоимость анализа образцов, руб./нас. пункт | S1: Стоимость оценки эффективности, руб./га | T1: Уровень софинансирования, % | U1: Итого размер субсидии, руб. | V1: Итого размер средств областного бюджета, руб. | W1: Итого размер средств местного бюджета, руб.
A2: 1 | B2: Бокситогорский район | C2: Бокситогорское городское поселение | D2: 2024 | E2: 0 | F2: 2.42 | G2: 3.19 | H2: 4.1 | I2: 0 | J2: 4 | K2: =E2+F2+G2+H2+I2 -> 9.71 | L2: 12368.39 | M2: 11131.55 | N2: 8657.87 | O2: 6184.2 | P2: 3710.52 | Q2: 488.77 | R2: 2100 | S2: 200 | T2: 89 | U2: =(E2*L2+F2*M2+G2*N2+H2*O2+I2*P2)+Q2*J2+R2*J2+S2*(E2+F2+G2+H2+I2) -> 92209.256 | V2: =U2*T2/100 -> 82066.238 | W2: =U2-V2 -> 10143.018
A3: 2 | B3: Бокситогорский район | C3: Большедворское сельское поселение | D3: 2024 | E3: 0 | F3: 17.5 | G3: 18.7 | H3: 20 | I3: 0 | J3: 7 | K3: =E3+F3+G3+H3+I3 -> 56.2 | L3: 12368.39 | M3: 11131.55 | N3: 8657.87 | O3: 6184.2 | P3: 3710.52 | Q3: 488.77 | R3: 2100 | S3: 200 | T3: 88 | U3: =(E3*L3+F3*M3+G3*N3+H3*O3+I3*P3)+Q3*J3+R3*J3+S3*(E3+F3+G3+H3+I3) -> 509749.68 | V3: =U3*T3/100 -> 448579.72 | W3: =U3-V3 -> 61169.962
A4: 3 | B4: Бокситогорский район | C4: Борское сельское поселение | D4: 2024 | E4: 6 | F4: 5.002318 | G4: 32.997682 | H4: 0 | I4: 8 | J4: 11 | K4: =E4+F4+G4+H4+I4 -> 52 | L4: 12368.39 | M4: 11131.55 | N4: 8657.87 | O4: 6184.2 | P4: 3710.52 | Q4: 488.77 | R4: 2100 | S4: 200 | T4: 89 | U4: =(E4*L4+F4*M4+G4*N4+H4*O4+I4*P4)+Q4*J4+R4*J4+S4*(E4+F4+G4+H4+I4) -> 484144.16 | V4: =U4*T4/100 -> 430888.31 | W4: =U4-V4 -> 53255.858
A5: 4 | B5: Бокситогорский район | C5: Ефимовское городское поселение | D5: 2024 | E5: 3.5 | F5: 0 | G5: 0 | H5: 0 | I5: 7 | J5: 4 | K5: =E5+F5+G5+H5+I5 -> 10.5 | L5: 12368.39 | M5: 11131.55 | N5: 8657.87 | O5: 6184.2 | P5: 3710.52 | Q5: 488.77 | R5: 2100 | S5: 200 | T5: 89 | U5: =(E5*L5+F5*M5+G5*N5+H5*O5+I5*P5)+Q5*J5+R5*J5+S5*(E5+F5+G5+H5+I5) -> 81718.085 | V5: =U5*T5/100 -> 72729.096 | W5: =U5-V5 -> 8988.9894
A6: 5 | B6: Бокситогорский район | C6: Лидское сельское поселение | D6: 2024 | K6: =E6+F6+G6+H6+I6 -> 0 | L6: 12368.39 | M6: 11131.55 | N6: 8657.87 | O6: 6184.2 | P6: 3710.52 | Q6: 488.77 | R6: 2100 | S6: 200 | T6: 86 | U6: =(E6*L6+F6*M6+G6*N6+H6*O6+I6*P6)+Q6*J6+R6*J6+S6*(E6+F6+G6+H6+I6) -> 0 | V6: =U6*T6/100 -> 0 | W6: =U6-V6 -> 0
A7: 6 | B7: Бокситогорский район | C7: Пикалёвское городское поселение | D7: 2024 | K7: =E7+F7+G7+H7+I7 -> 0 | L7: 12368.39 | M7: 11131.55 | N7: 8657.87 | O7: 6184.2 | P7: 3710.52 | Q7: 488.77 | R7: 2100 | S7: 200 | T7: 89 | U7: =(E7*L7+F7*M7+G7*N7+H7*O7+I7*P7)+Q7*J7+R7*J7+S7*(E7+F7+G7+H7+I7) -> 0 | V7: =U7*T7/100 -> 0 | W7: =U7-V7 -> 0
A8: 7 | B8: Бокситогорский район | C8: Самойловское сельское поселение | D8: 2024 | E8: 0 | F8: 0 | G8: 29.3 | H8: 68.7 | I8: 0 | J8: 11 | K8: =E8+F8+G8+H8+I8 -> 98 | L8: 12368.39 | M8: 11131.55 | N8: 8657.87 | O8: 6184.2 | P8: 3710.52 | Q8: 488.77 | R8: 2100 | S8: 200 | T8: 83 | U8: =(E8*L8+F8*M8+G8*N8+H8*O8+I8*P8)+Q8*J8+R8*J8+S8*(E8+F8+G8+H8+I8) -> 726606.6 | V8: =U8*T8/100 -> 603083.48 | W8: =U8-V8 -> 123523.12
A9: 8 | B9: Волосовский район | C9: Бегуницкое сельское поселение | D9: 2024 | E9: 5 | F9: 5 | G9: 32 | H9: 73 | I9: 20 | J9: 27 | K9: =E9+F9+G9+H9+I9 -> 135 | L9: 12368.39 | M9: 11131.55 | N9: 8657.87 | O9: 6184.2 | P9: 3710.52 | Q9: 488.77 | R9: 2100 | S9: 200 | T9: 91 | U9: =(E9*L9+F9*M9+G9*N9+H9*O9+I9*P9)+Q9*J9+R9*J9+S9*(E9+F9+G9+H9+I9) -> 1017105.3 | V9: =U9*T9/100 -> 925565.85 | W9: =U9-V9 -> 91539.48
A10: 9 | B10: Волосовский район | C10: Большеврудское сельское поселение | D10: 2024 | E10: 20 | F10: 20 | G10: 21.5 | H10: 64 | I10: 44.5 | J10: 31 | K10: =E10+F10+G10+H10+I10 -> 170 | L10: 12368.39 | M10: 11131.55 | N10: 8657.87 | O10: 6184.2 | P10: 3710.52 | Q10: 488.77 | R10: 2100 | S10: 200 | T10: 91 | U10: =(E10*L10+F10*M10+G10*N10+H10*O10+I10*P10)+Q10*J10+R10*J10+S10*(E10+F10+G10+H10+I10) -> 1331301.8 | V10: =U10*T10/100 -> 1211484.7 | W10: =U10-V10 -> 119817.16
A11: 10 | B11: Волосовский район | C11: Волосовское городское поселение | D11: 2024 | E11: 0 | F11: 170 | G11: 64.69 | H11: 0 | I11: 0 | J11: 2 | K11: =E11+F11+G11+H11+I11 -> 234.69 | L11: 12368.39 | M11: 11131.55 | N11: 8657.87 | O11: 6184.2 | P11: 3710.52 | Q11: 488.77 | R11: 2100 | S11: 200 | T11: 89 | U11: =(E11*L11+F11*M11+G11*N11+H11*O11+I11*P11)+Q11*J11+R11*J11+S11*(E11+F11+G11+H11+I11) -> 2504556.7 | V11: =U11*T11/100 -> 2229055.4 | W11: =U11-V11 -> 275501.23
A12: 11 | B12: Волосовский район | C12: Калитинское сельское поселение | D12: 2024 | E12: 10 | F12: 15 | G12: 30.9 | H12: 36.4 | I12: 0 | J12: 14 | K12: =E12+F12+G12+H12+I12 -> 92.3 | L12: 12368.39 | M12: 11131.55 | N12: 8657.87 | O12: 6184.2 | P12: 3710.52 | Q12: 488.77 | R12: 2100 | S12: 200 | T12: 91 | U12: =(E12*L12+F12*M12+G12*N12+H12*O12+I12*P12)+Q12*J12+R12*J12+S12*(E12+F12+G12+H12+I12) -> 837992.99 | V12: =U12*T12/100 -> 762573.62 | W12: =U12-V12 -> 75419.369
A13: 12 | B13: Волосовский район | C13: Клопицкое сельское поселение | D13: 2024 | E13: 10.2 | F13: 0 | G13: 0 | H13: 57.4 | I13: 0 | J13: 14 | K13: =E13+F13+G13+H13+I13 -> 67.6 | L13: 12368.39 | M13: 11131.55 | N13: 8657.87 | O13: 6184.2 | P13: 3710.52 | Q13: 488.77 | R13: 2100 | S13: 200 | T13: 92 | U13: =(E13*L13+F13*M13+G13*N13+H13*O13+I13*P13)+Q13*J13+R13*J13+S13*(E13+F13+G13+H13+I13) -> 530893.44 | V13: =U13*T13/100 -> 488421.96 | W13: =U13-V13 -> 42471.475
A14: 13 | B14: Волосовский район | C14: Рабитицкое сельское поселение | D14: 2024 | E14: 10 | F14: 10 | G14: 15 | H14: 12 | I14: 16.3 | J14: 8 | K14: =E14+F14+G14+H14+I14 -> 63.3 | L14: 12368.39 | M14: 11131.55 | N14: 8657.87 | O14: 6184.2 | P14: 3710.52 | Q14: 488.77 | R14: 2100 | S14: 200 | T14: 91 | U14: =(E14*L14+F14*M14+G14*N14+H14*O14+I14*P14)+Q14*J14+R14*J14+S14*(E14+F14+G14+H14+I14) -> 532929.49 | V14: =U14*T14/100 -> 484965.83 | W14: =U14-V14 -> 47963.654
A15: 14 | B15: Волосовский район | C15: Сабское сельское поселение | D15: 2024 | K15: =E15+F15+G15+H15+I15 -> 0 | L15: 12368.39 | M15: 11131.55 | N15: 8657.87 | O15: 6184.2 | P15: 3710.52 | Q15: 488.77 | R15: 2100 | S15: 200 | T15: 91 | U15: =(E15*L15+F15*M15+G15*N15+H15*O15+I15*P15)+Q15*J15+R15*J15+S15*(E15+F15+G15+H15+I15) -> 0 | V15: =U15*T15/100 -> 0 | W15: =U15-V15 -> 0
A16: 15 | B16: Волховский район | C16: Бережковское сельское поселение | D16: 2024 | E16: 13.5 | F16: 6 | G16: 0 | H16: 25 | I16: 0 | J16: 7 | K16: =E16+F16+G16+H16+I16 -> 44.5 | L16: 12368.39 | M16: 11131.55 | N16: 8657.87 | O16: 6184.2 | P16: 3710.52 | Q16: 488.77 | R16: 2100 | S16: 200 | T16: 90 | U16: =(E16*L16+F16*M16+G16*N16+H16*O16+I16*P16)+Q16*J16+R16*J16+S16*(E16+F16+G16+H16+I16) -> 415388.95 | V16: =U16*T16/100 -> 373850.06 | W16: =U16-V16 -> 41538.895
A17: 16 | B17: Волховский район | C17: Волховское городское поселение | D17: 2024 | E17: 10 | F17: 30 | G17: 0 | H17: 0 | I17: 0 | J17: 1 | K17: =E17+F17+G17+H17+I17 -> 40 | L17: 12368.39 | M17: 11131.55 | N17: 8657.87 | O17: 6184.2 | P17: 3710.52 | Q17: 488.77 | R17: 2100 | S17: 200 | T17: 90 | U17: =(E17*L17+F17*M17+G17*N17+H17*O17+I17*P17)+Q17*J17+R17*J17+S17*(E17+F17+G17+H17+I17) -> 468219.17 | V17: =U17*T17/100 -> 421397.25 | W17: =U17-V17 -> 46821.917
A18: 17 | B18: Волховский район | C18: Вындиноостровское сельское поселение | D18: 2024 | E18: 6 | F18: 2 | G18: 2 | H18: 30 | I18: 0 | J18: 3 | K18: =E18+F18+G18+H18+I18 -> 40 | L18: 12368.39 | M18: 11131.55 | N18: 8657.87 | O18: 6184.2 | P18: 3710.52 | Q18: 488.77 | R18: 2100 | S18: 200 | T18: 92 | U18: =(E18*L18+F18*M18+G18*N18+H18*O18+I18*P18)+Q18*J18+R18*J18+S18*(E18+F18+G18+H18+I18) -> 315081.49 | V18: =U18*T18/100 -> 289874.97 | W18: =U18-V18 -> 25206.519
A19: 18 | B19: Волховский район | C19: Иссадское сельское поселение | D19: 2024 | K19: =E19+F19+G19+H19+I19 -> 0 | L19: 12368.39 | M19: 11131.55 | N19: 8657.87 | O19: 6184.2 | P19: 3710.52 | Q19: 488.77 | R19: 2100 | S19: 200 | T19: 89 | U19: =(E19*L19+F19*M19+G19*N19+H19*O19+I19*P19)+Q19*J19+R19*J19+S19*(E19+F19+G19+H19+I19) -> 0 | V19: =U19*T19/100 -> 0 | W19: =U19-V19 -> 0
A20: 19 | B20: Волховский район | C20: Кисельнинское сельское поселение | D20: 2024 | E20: 10.9 | F20: 21 | G20: 5 | H20: 18.1 | I20: 5 | J20: 2 | K20: =E20+F20+G20+H20+I20 -> 60 | L20: 12368.39 | M20: 11131.55 | N20: 8657.87 | O20: 6184.2 | P20: 3710.52 | Q20: 488.77 | R20: 2100 | S20: 200 | T20: 87 | U20: =(E20*L20+F20*M20+G20*N20+H20*O20+I20*P20)+Q20*J20+R20*J20+S20*(E20+F20+G20+H20+I20) -> 559531.51 | V20: =U20*T20/100 -> 486792.41 | W20: =U20-V20 -> 72739.096
A21: 20 | B21: Волховский район | C21: Колчановское сельское поселение | D21: 2024 | K21: =E21+F21+G21+H21+I21 -> 0 | L21: 12368.39 | M21: 11131.55 | N21: 8657.87 | O21: 6184.2 | P21: 3710.52 | Q21: 488.77 | R21: 2100 | S21: 200 | T21: 89 | U21: =(E21*L21+F21*M21+G21*N21+H21*O21+I21*P21)+Q21*J21+R21*J21+S21*(E21+F21+G21+H21+I21) -> 0 | V21: =U21*T21/100 -> 0 | W21: =U21-V21 -> 0
A22: 21 | B22: Волховский район | C22: Новоладожское городское поселение | D22: 2024 | K22: =E22+F22+G22+H22+I22 -> 0 | L22: 12368.39 | M22: 11131.55 | N22: 8657.87 | O22: 6184.2 | P22: 3710.52 | Q22: 488.77 | R22: 2100 | S22: 200 | T22: 88 | U22: =(E22*L22+F22*M22+G22*N22+H22*O22+I22*P22)+Q22*J22+R22*J22+S22*(E22+F22+G22+H22+I22) -> 0 | V22: =U22*T22/100 -> 0 | W22: =U22-V22 -> 0
A23: 22 | B23: Волховский район | C23: Пашское сельское поселение | D23: 2024 | E23: 0 | F23: 20 | G23: 0 | H23: 0 | I23: 0 | J23: 8 | K23: =E23+F23+G23+H23+I23 -> 20 | L23: 12368.39 | M23: 11131.55 | N23: 8657.87 | O23: 6184.2 | P23: 3710.52 | Q23: 488.77 | R23: 2100 | S23: 200 | T23: 89 | U23: =(E23*L23+F23*M23+G23*N23+H23*O23+I23*P23)+Q23*J23+R23*J23+S23*(E23+F23+G23+H23+I23) -> 247341.16 | V23: =U23*T23/100 -> 220133.63 | W23: =U23-V23 -> 27207.528
A24: 23 | B24: Волховский район | C24: Потанинское сельское поселение | D24: 2024 | E24: 0 | F24: 0 | G24: 0 | H24: 10 | I24: 5 | J24: 5 | K24: =E24+F24+G24+H24+I24 -> 15 | L24: 12368.39 | M24: 11131.55 | N24: 8657.87 | O24: 6184.2 | P24: 3710.52 | Q24: 488.77 | R24: 2100 | S24: 200 | T24: 87 | U24: =(E24*L24+F24*M24+G24*N24+H24*O24+I24*P24)+Q24*J24+R24*J24+S24*(E24+F24+G24+H24+I24) -> 96338.45 | V24: =U24*T24/100 -> 83814.452 | W24: =U24-V24 -> 12523.999
A25: 24 | B25: Волховский район | C25: Свирицкое сельское поселение | D25: 2024 | K25: =E25+F25+G25+H25+I25 -> 0 | L25: 12368.39 | M25: 11131.55 | N25: 8657.87 | O25: 6184.2 | P25: 3710.52 | Q25: 488.77 | R25: 2100 | S25: 200 | T25: 91 | U25: =(E25*L25+F25*M25+G25*N25+H25*O25+I25*P25)+Q25*J25+R25*J25+S25*(E25+F25+G25+H25+I25) -> 0 | V25: =U25*T25/100 -> 0 | W25: =U25-V25 -> 0
A26: 25 | B26: Волховский район | C26: Селивановское сельское поселение | D26: 2024 | K26: =E26+F26+G26+H26+I26 -> 0 | L26: 12368.39 | M26: 11131.55 | N26: 8657.87 | O26: 6184.2 | P26: 3710.52 | Q26: 488.77 | R26: 2100 | S26: 200 | T26: 93 | U26: =(E26*L26+F26*M26+G26*N26+H26*O26+I26*P26)+Q26*J26+R26*J26+S26*(E26+F26+G26+H26+I26) -> 0 | V26: =U26*T26/100 -> 0 | W26: =U26-V26 -> 0
A27: 26 | B27: Волховский район | C27: Староладожское сельское поселение | D27: 2024 | E27: 2 | F27: 0 | G27: 0 | H27: 0 | I27: 0 | J27: 1 | K27: =E27+F27+G27+H27+I27 -> 2 | L27: 12368.39 | M27: 11131.55 | N27: 8657.87 | O27: 6184.2 | P27: 3710.52 | Q27: 488.77 | R27: 2100 | S27: 200 | T27: 90 | U27: =(E27*L27+F27*M27+G27*N27+H27*O27+I27*P27)+Q27*J27+R27*J27+S27*(E27+F27+G27+H27+I27) -> 27725.55 | V27: =U27*T27/100 -> 24952.995 | W27: =U27-V27 -> 2772.555
A28: 27 | B28: Волховский район | C28: Сясьстройское городское поселение | D28: 2024 | E28: 0 | F28: 0 | G28: 1.87 | H28: 0 | I28: 0 | J28: 1 | K28: =E28+F28+G28+H28+I28 -> 1.87 | L28: 12368.39 | M28: 11131.55 | N28: 8657.87 | O28: 6184.2 | P28: 3710.52 | Q28: 488.77 | R28: 2100 | S28: 200 | T28: 88 | U28: =(E28*L28+F28*M28+G28*N28+H28*O28+I28*P28)+Q28*J28+R28*J28+S28*(E28+F28+G28+H28+I28) -> 19152.987 | V28: =U28*T28/100 -> 16854.628 | W28: =U28-V28 -> 2298.3584
A29: 28 | B29: Волховский район | C29: Усадищенское сельское поселение | D29: 2024 | K29: =E29+F29+G29+H29+I29 -> 0 | L29: 12368.39 | M29: 11131.55 | N29: 8657.87 | O29: 6184.2 | P29: 3710.52 | Q29: 488.77 | R29: 2100 | S29: 200 | T29: 90 | U29: =(E29*L29+F29*M29+G29*N29+H29*O29+I29*P29)+Q29*J29+R29*J29+S29*(E29+F29+G29+H29+I29) -> 0 | V29: =U29*T29/100 -> 0 | W29: =U29-V29 -> 0
A30: 29 | B30: Волховский район | C30: Хваловское сельское поселение | D30: 2024 | E30: 2 | F30: 2 | G30: 2 | H30: 6 | I30: 0 | J30: 6 | K30: =E30+F30+G30+H30+I30 -> 12 | L30: 12368.39 | M30: 11131.55 | N30: 8657.87 | O30: 6184.2 | P30: 3710.52 | Q30: 488.77 | R30: 2100 | S30: 200 | T30: 90 | U30: =(E30*L30+F30*M30+G30*N30+H30*O30+I30*P30)+Q30*J30+R30*J30+S30*(E30+F30+G30+H30+I30) -> 119353.44 | V30: =U30*T30/100 -> 107418.1 | W30: =U30-V30 -> 11935.344
A31: 30 | B31: Всеволожский район | C31: Агалатовское сельское поселение | D31: 2024 | K31: =E31+F31+G31+H31+I31 -> 0 | L31: 12368.39 | M31: 11131.55 | N31: 8657.87 | O31: 6184.2 | P31: 3710.52 | Q31: 488.77 | R31: 2100 | S31: 200 | T31: 91 | U31: =(E31*L31+F31*M31+G31*N31+H31*O31+I31*P31)+Q31*J31+R31*J31+S31*(E31+F31+G31+H31+I31) -> 0 | V31: =U31*T31/100 -> 0 | W31: =U31-V31 -> 0
A32: 31 | B32: Всеволожский район | C32: Бугровское сельское поселение | D32: 2024 | E32: 21 | F32: 0 | G32: 0 | H32: 0 | I32: 0 | J32: 7 | K32: =E32+F32+G32+H32+I32 -> 21 | L32: 12368.39 | M32: 11131.55 | N32: 8657.87 | O32: 6184.2 | P32: 3710.52 | Q32: 488.77 | R32: 2100 | S32: 200 | T32: 85 | U32: =(E32*L32+F32*M32+G32*N32+H32*O32+I32*P32)+Q32*J32+R32*J32+S32*(E32+F32+G32+H32+I32) -> 282057.58 | V32: =U32*T32/100 -> 239748.94 | W32: =U32-V32 -> 42308.637
A33: 32 | B33: Всеволожский район | C33: Всеволожское городское поселение | D33: 2024 | K33: =E33+F33+G33+H33+I33 -> 0 | L33: 12368.39 | M33: 11131.55 | N33: 8657.87 | O33: 6184.2 | P33: 3710.52 | Q33: 488.77 | R33: 2100 | S33: 200 | T33: 87 | U33: =(E33*L33+F33*M33+G33*N33+H33*O33+I33*P33)+Q33*J33+R33*J33+S33*(E33+F33+G33+H33+I33) -> 0 | V33: =U33*T33/100 -> 0 | W33: =U33-V33 -> 0
A34: 33 | B34: Всеволожский район | C34: Дубровское городское поселение | D34: 2024 | K34: =E34+F34+G34+H34+I34 -> 0 | L34: 12368.39 | M34: 11131.55 | N34: 8657.87 | O34: 6184.2 | P34: 3710.52 | Q34: 488.77 | R34: 2100 | S34: 200 | T34: 91 | U34: =(E34*L34+F34*M34+G34*N34+H34*O34+I34*P34)+Q34*J34+R34*J34+S34*(E34+F34+G34+H34+I34) -> 0 | V34: =U34*T34/100 -> 0 | W34: =U34-V34 -> 0
A35: 34 | B35: Всеволожский район | C35: Заневское городское поселение | D35: 2024 | K35: =E35+F35+G35+H35+I35 -> 0 | L35: 12368.39 | M35: 11131.55 | N35: 8657.87 | O35: 6184.2 | P35: 3710.52 | Q35: 488.77 | R35: 2100 | S35: 200 | T35: 91 | U35: =(E35*L35+F35*M35+G35*N35+H35*O35+I35*P35)+Q35*J35+R35*J35+S35*(E35+F35+G35+H35+I35) -> 0 | V35: =U35*T35/100 -> 0 | W35: =U35-V35 -> 0
A36: 35 | B36: Всеволожский район | C36: Колтушское сельское поселение | D36: 2024 | K36: =E36+F36+G36+H36+I36 -> 0 | L36: 12368.39 | M36: 11131.55 | N36: 8657.87 | O36: 6184.2 | P36: 3710.52 | Q36: 488.77 | R36: 2100 | S36: 200 | T36: 92 | U36: =(E36*L36+F36*M36+G36*N36+H36*O36+I36*P36)+Q36*J36+R36*J36+S36*(E36+F36+G36+H36+I36) -> 0 | V36: =U36*T36/100 -> 0 | W36: =U36-V36 -> 0
A37: 36 | B37: Всеволожский район | C37: Кузьмоловское городское поселение | D37: 2024 | K37: =E37+F37+G37+H37+I37 -> 0 | L37: 12368.39 | M37: 11131.55 | N37: 8657.87 | O37: 6184.2 | P37: 3710.52 | Q37: 488.77 | R37: 2100 | S37: 200 | T37: 83 | U37: =(E37*L37+F37*M37+G37*N37+H37*O37+I37*P37)+Q37*J37+R37*J37+S37*(E37+F37+G37+H37+I37) -> 0 | V37: =U37*T37/100 -> 0 | W37: =U37-V37 -> 0
A38: 37 | B38: Всеволожский район | C38: Куйвозовское сельское поселение | D38: 2024 | K38: =E38+F38+G38+H38+I38 -> 0 | L38: 12368.39 | M38: 11131.55 | N38: 8657.87 | O38: 6184.2 | P38: 3710.52 | Q38: 488.77 | R38: 2100 | S38: 200 | T38: 90 | U38: =(E38*L38+F38*M38+G38*N38+H38*O38+I38*P38)+Q38*J38+R38*J38+S38*(E38+F38+G38+H38+I38) -> 0 | V38: =U38*T38/100 -> 0 | W38: =U38-V38 -> 0
A39: 38 | B39: Всеволожский район | C39: Лесколовское сельское поселение | D39: 2024 | E39: 0 | F39: 24.579 | G39: 0 | H39: 42.859 | I39: 0 | J39: 5 | K39: =E39+F39+G39+H39+I39 -> 67.438 | L39: 12368.39 | M39: 11131.55 | N39: 8657.87 | O39: 6184.2 | P39: 3710.52 | Q39: 488.77 | R39: 2100 | S39: 200 | T39: 90 | U39: =(E39*L39+F39*M39+G39*N39+H39*O39+I39*P39)+Q39*J39+R39*J39+S39*(E39+F39+G39+H39+I39) -> 565082.45 | V39: =U39*T39/100 -> 508574.2 | W39: =U39-V39 -> 56508.245
A40: 39 | B40: Всеволожский район | C40: Морозовское городское поселение | D40: 2024 | K40: =E40+F40+G40+H40+I40 -> 0 | L40: 12368.39 | M40: 11131.55 | N40: 8657.87 | O40: 6184.2 | P40: 3710.52 | Q40: 488.77 | R40: 2100 | S40: 200 | T40: 90 | U40: =(E40*L40+F40*M40+G40*N40+H40*O40+I40*P40)+Q40*J40+R40*J40+S40*(E40+F40+G40+H40+I40) -> 0 | V40: =U40*T40/100 -> 0 | W40: =U40-V40 -> 0
A41: 40 | B41: Всеволожский район | C41: Муринское городское поселение | D41: 2024 | E41: 20.51 | F41: 0 | G41: 0 | H41: 0 | I41: 24 | J41: 2 | K41: =E41+F41+G41+H41+I41 -> 44.51 | L41: 12368.39 | M41: 11131.55 | N41: 8657.87 | O41: 6184.2 | P41: 3710.52 | Q41: 488.77 | R41: 2100 | S41: 200 | T41: 94 | U41: =(E41*L41+F41*M41+G41*N41+H41*O41+I41*P41)+Q41*J41+R41*J41+S41*(E41+F41+G41+H41+I41) -> 356807.7 | V41: =U41*T41/100 -> 335399.24 | W41: =U41-V41 -> 21408.462
A42: 41 | B42: Всеволожский район | C42: Новодевяткинское сельское поселение | D42: 2024 | K42: =E42+F42+G42+H42+I42 -> 0 | L42: 12368.39 | M42: 11131.55 | N42: 8657.87 | O42: 6184.2 | P42: 3710.52 | Q42: 488.77 | R42: 2100 | S42: 200 | T42: 92 | U42: =(E42*L42+F42*M42+G42*N42+H42*O42+I42*P42)+Q42*J42+R42*J42+S42*(E42+F42+G42+H42+I42) -> 0 | V42: =U42*T42/100 -> 0 | W42: =U42-V42 -> 0
A43: 42 | B43: Всеволожский район | C43: Рахьинское городское поселение | D43: 2024 | K43: =E43+F43+G43+H43+I43 -> 0 | L43: 12368.39 | M43: 11131.55 | N43: 8657.87 | O43: 6184.2 | P43: 3710.52 | Q43: 488.77 | R43: 2100 | S43: 200 | T43: 89 | U43: =(E43*L43+F43*M43+G43*N43+H43*O43+I43*P43)+Q43*J43+R43*J43+S43*(E43+F43+G43+H43+I43) -> 0 | V43: =U43*T43/100 -> 0 | W43: =U43-V43 -> 0
A44: 43 | B44: Всеволожский район | C44: Романовское сельское поселение | D44: 2024 | K44: =E44+F44+G44+H44+I44 -> 0 | L44: 12368.39 | M44: 11131.55 | N44: 8657.87 | O44: 6184.2 | P44: 3710.52 | Q44: 488.77 | R44: 2100 | S44: 200 | T44: 92 | U44: =(E44*L44+F44*M44+G44*N44+H44*O44+I44*P44)+Q44*J44+R44*J44+S44*(E44+F44+G44+H44+I44) -> 0 | V44: =U44*T44/100 -> 0 | W44: =U44-V44 -> 0
A45: 44 | B45: Всеволожский район | C45: Свердловское городское поселение | D45: 2024 | K45: =E45+F45+G45+H45+I45 -> 0 | L45: 12368.39 | M45: 11131.55 | N45: 8657.87 | O45: 6184.2 | P45: 3710.52 | Q45: 488.77 | R45: 2100 | S45: 200 | T45: 71 | U45: =(E45*L45+F45*M45+G45*N45+H45*O45+I45*P45)+Q45*J45+R45*J45+S45*(E45+F45+G45+H45+I45) -> 0 | V45: =U45*T45/100 -> 0 | W45: =U45-V45 -> 0
A46: 45 | B46: Всеволожский район | C46: Сертоловское городское поселение | D46: 2024 | K46: =E46+F46+G46+H46+I46 -> 0 | L46: 12368.39 | M46: 11131.55 | N46: 8657.87 | O46: 6184.2 | P46: 3710.52 | Q46: 488.77 | R46: 2100 | S46: 200 | T46: 92 | U46: =(E46*L46+F46*M46+G46*N46+H46*O46+I46*P46)+Q46*J46+R46*J46+S46*(E46+F46+G46+H46+I46) -> 0 | V46: =U46*T46/100 -> 0 | W46: =U46-V46 -> 0
A47: 46 | B47: Всеволожский район | C47: Токсовское городское поселение | D47: 2024 | K47: =E47+F47+G47+H47+I47 -> 0 | L47: 12368.39 | M47: 11131.55 | N47: 8657.87 | O47: 6184.2 | P47: 3710.52 | Q47: 488.77 | R47: 2100 | S47: 200 | T47: 75 | U47: =(E47*L47+F47*M47+G47*N47+H47*O47+I47*P47)+Q47*J47+R47*J47+S47*(E47+F47+G47+H47+I47) -> 0 | V47: =U47*T47/100 -> 0 | W47: =U47-V47 -> 0
A48: 47 | B48: Всеволожский район | C48: Щегловское сельское поселение | D48: 2024 | E48: 4.1 | F48: 0 | G48: 0 | H48: 0 | I48: 0 | J48: 2 | K48: =E48+F48+G48+H48+I48 -> 4.1 | L48: 12368.39 | M48: 11131.55 | N48: 8657.87 | O48: 6184.2 | P48: 3710.52 | Q48: 488.77 | R48: 2100 | S48: 200 | T48: 92 | U48: =(E48*L48+F48*M48+G48*N48+H48*O48+I48*P48)+Q48*J48+R48*J48+S48*(E48+F48+G48+H48+I48) -> 56707.939 | V48: =U48*T48/100 -> 52171.304 | W48: =U48-V48 -> 4536.6351
A49: 48 | B49: Всеволожский район | C49: Юкковское сельское поселение | D49: 2024 | E49: 0 | F49: 17.11 | G49: 5 | H49: 0 | I49: 0 | J49: 4 | K49: =E49+F49+G49+H49+I49 -> 22.11 | L49: 12368.39 | M49: 11131.55 | N49: 8657.87 | O49: 6184.2 | P49: 3710.52 | Q49: 488.77 | R49: 2100 | S49: 200 | T49: 89 | U49: =(E49*L49+F49*M49+G49*N49+H49*O49+I49*P49)+Q49*J49+R49*J49+S49*(E49+F49+G49+H49+I49) -> 248527.25 | V49: =U49*T49/100 -> 221189.25 | W49: =U49-V49 -> 27337.998
A50: 49 | B50: Выборгский район | C50: Выборгское городское поселение | D50: 2024 | K50: =E50+F50+G50+H50+I50 -> 0 | L50: 12368.39 | M50: 11131.55 | N50: 8657.87 | O50: 6184.2 | P50: 3710.52 | Q50: 488.77 | R50: 2100 | S50: 200 | T50: 88 | U50: =(E50*L50+F50*M50+G50*N50+H50*O50+I50*P50)+Q50*J50+R50*J50+S50*(E50+F50+G50+H50+I50) -> 0 | V50: =U50*T50/100 -> 0 | W50: =U50-V50 -> 0
A51: 50 | B51: Выборгский район | C51: Высоцкое городское поселение | D51: 2024 | K51: =E51+F51+G51+H51+I51 -> 0 | L51: 12368.39 | M51: 11131.55 | N51: 8657.87 | O51: 6184.2 | P51: 3710.52 | Q51: 488.77 | R51: 2100 | S51: 200 | T51: 71 | U51: =(E51*L51+F51*M51+G51*N51+H51*O51+I51*P51)+Q51*J51+R51*J51+S51*(E51+F51+G51+H51+I51) -> 0 | V51: =U51*T51/100 -> 0 | W51: =U51-V51 -> 0
A52: 51 | B52: Выборгский район | C52: Гончаровское сельское поселение | D52: 2024 | K52: =E52+F52+G52+H52+I52 -> 0 | L52: 12368.39 | M52: 11131.55 | N52: 8657.87 | O52: 6184.2 | P52: 3710.52 | Q52: 488.77 | R52: 2100 | S52: 200 | T52: 92 | U52: =(E52*L52+F52*M52+G52*N52+H52*O52+I52*P52)+Q52*J52+R52*J52+S52*(E52+F52+G52+H52+I52) -> 0 | V52: =U52*T52/100 -> 0 | W52: =U52-V52 -> 0
A53: 52 | B53: Выборгский район | C53: Каменногорское городское поселение | D53: 2024 | K53: =E53+F53+G53+H53+I53 -> 0 | L53: 12368.39 | M53: 11131.55 | N53: 8657.87 | O53: 6184.2 | P53: 3710.52 | Q53: 488.77 | R53: 2100 | S53: 200 | T53: 89 | U53: =(E53*L53+F53*M53+G53*N53+H53*O53+I53*P53)+Q53*J53+R53*J53+S53*(E53+F53+G53+H53+I53) -> 0 | V53: =U53*T53/100 -> 0 | W53: =U53-V53 -> 0
A54: 53 | B54: Выборгский район | C54: Красносельское сельское поселение | D54: 2024 | E54: 0 | F54: 0 | G54: 10 | H54: 15 | I54: 0 | J54: 2 | K54: =E54+F54+G54+H54+I54 -> 25 | L54: 12368.39 | M54: 11131.55 | N54: 8657.87 | O54: 6184.2 | P54: 3710.52 | Q54: 488.77 | R54: 2100 | S54: 200 | T54: 92 | U54: =(E54*L54+F54*M54+G54*N54+H54*O54+I54*P54)+Q54*J54+R54*J54+S54*(E54+F54+G54+H54+I54) -> 189519.24 | V54: =U54*T54/100 -> 174357.7 | W54: =U54-V54 -> 15161.539
A55: 54 | B55: Выборгский район | C55: Первомайское сельское поселение | D55: 2024 | E55: 0 | F55: 4 | G55: 3.9 | H55: 36.1 | I55: 2 | J55: 8 | K55: =E55+F55+G55+H55+I55 -> 46 | L55: 12368.39 | M55: 11131.55 | N55: 8657.87 | O55: 6184.2 | P55: 3710.52 | Q55: 488.77 | R55: 2100 | S55: 200 | T55: 83 | U55: =(E55*L55+F55*M55+G55*N55+H55*O55+I55*P55)+Q55*J55+R55*J55+S55*(E55+F55+G55+H55+I55) -> 338872.71 | V55: =U55*T55/100 -> 281264.35 | W55: =U55-V55 -> 57608.361
A56: 55 | B56: Выборгский район | C56: Полянское сельское поселение | D56: 2024 | E56: 0 | F56: 6.0783 | G56: 0 | H56: 0.111 | I56: 0 | J56: 3 | K56: =E56+F56+G56+H56+I56 -> 6.1893 | L56: 12368.39 | M56: 11131.55 | N56: 8657.87 | O56: 6184.2 | P56: 3710.52 | Q56: 488.77 | R56: 2100 | S56: 200 | T56: 90 | U56: =(E56*L56+F56*M56+G56*N56+H56*O56+I56*P56)+Q56*J56+R56*J56+S56*(E56+F56+G56+H56+I56) -> 77351.517 | V56: =U56*T56/100 -> 69616.365 | W56: =U56-V56 -> 7735.1517
A57: 56 | B57: Выборгский район | C57: Приморское городское поселение | D57: 2024 | E57: 0 | F57: 7.6 | G57: 0 | H57: 0 | I57: 0 | J57: 5 | K57: =E57+F57+G57+H57+I57 -> 7.6 | L57: 12368.39 | M57: 11131.55 | N57: 8657.87 | O57: 6184.2 | P57: 3710.52 | Q57: 488.77 | R57: 2100 | S57: 200 | T57: 87 | U57: =(E57*L57+F57*M57+G57*N57+H57*O57+I57*P57)+Q57*J57+R57*J57+S57*(E57+F57+G57+H57+I57) -> 99063.63 | V57: =U57*T57/100 -> 86185.358 | W57: =U57-V57 -> 12878.272
A58: 57 | B58: Выборгский район | C58: Рощинское городское поселение | D58: 2024 | K58: =E58+F58+G58+H58+I58 -> 0 | L58: 12368.39 | M58: 11131.55 | N58: 8657.87 | O58: 6184.2 | P58: 3710.52 | Q58: 488.77 | R58: 2100 | S58: 200 | T58: 90 | U58: =(E58*L58+F58*M58+G58*N58+H58*O58+I58*P58)+Q58*J58+R58*J58+S58*(E58+F58+G58+H58+I58) -> 0 | V58: =U58*T58/100 -> 0 | W58: =U58-V58 -> 0
A59: 58 | B59: Выборгский район | C59: Светогорское городское поселение | D59: 2024 | K59: =E59+F59+G59+H59+I59 -> 0 | L59: 12368.39 | M59: 11131.55 | N59: 8657.87 | O59: 6184.2 | P59: 3710.52 | Q59: 488.77 | R59: 2100 | S59: 200 | T59: 91 | U59: =(E59*L59+F59*M59+G59*N59+H59*O59+I59*P59)+Q59*J59+R59*J59+S59*(E59+F59+G59+H59+I59) -> 0 | V59: =U59*T59/100 -> 0 | W59: =U59-V59 -> 0
A60: 59 | B60: Выборгский район | C60: Селезнёвское сельское поселение | D60: 2024 | K60: =E60+F60+G60+H60+I60 -> 0 | L60: 12368.39 | M60: 11131.55 | N60: 8657.87 | O60: 6184.2 | P60: 3710.52 | Q60: 488.77 | R60: 2100 | S60: 200 | T60: 91 | U60: =(E60*L60+F60*M60+G60*N60+H60*O60+I60*P60)+Q60*J60+R60*J60+S60*(E60+F60+G60+H60+I60) -> 0 | V60: =U60*T60/100 -> 0 | W60: =U60-V60 -> 0
A61: 60 | B61: Выборгский район | C61: Советское городское поселение | D61: 2024 | E61: 0 | F61: 11 | G61: 0 | H61: 30 | I61: 0 | J61: 2 | K61: =E61+F61+G61+H61+I61 -> 41 | L61: 12368.39 | M61: 11131.55 | N61: 8657.87 | O61: 6184.2 | P61: 3710.52 | Q61: 488.77 | R61: 2100 | S61: 200 | T61: 92 | U61: =(E61*L61+F61*M61+G61*N61+H61*O61+I61*P61)+Q61*J61+R61*J61+S61*(E61+F61+G61+H61+I61) -> 321350.59 | V61: =U61*T61/100 -> 295642.54 | W61: =U61-V61 -> 25708.047
A62: 61 | B62: Гатчинский район | C62: Большеколпанское сельское поселение | D62: 2024 | E62: 7.45 | F62: 44.4 | G62: 18.81 | H62: 10.4 | I62: 9.44 | J62: 13 | K62: =E62+F62+G62+H62+I62 -> 90.5 | L62: 12368.39 | M62: 11131.55 | N62: 8657.87 | O62: 6184.2 | P62: 3710.52 | Q62: 488.77 | R62: 2100 | S62: 200 | T62: 91 | U62: =(E62*L62+F62*M62+G62*N62+H62*O62+I62*P62)+Q62*J62+R62*J62+S62*(E62+F62+G62+H62+I62) -> 900336.86 | V62: =U62*T62/100 -> 819306.54 | W62: =U62-V62 -> 81030.317
A63: 62 | B63: Гатчинский район | C63: Веревское сельское поселение | D63: 2024 | K63: =E63+F63+G63+H63+I63 -> 0 | L63: 12368.39 | M63: 11131.55 | N63: 8657.87 | O63: 6184.2 | P63: 3710.52 | Q63: 488.77 | R63: 2100 | S63: 200 | T63: 90 | U63: =(E63*L63+F63*M63+G63*N63+H63*O63+I63*P63)+Q63*J63+R63*J63+S63*(E63+F63+G63+H63+I63) -> 0 | V63: =U63*T63/100 -> 0 | W63: =U63-V63 -> 0
A64: 63 | B64: Гатчинский район | C64: Войсковицкое сельское поселение | D64: 2024 | E64: 10 | F64: 37 | G64: 66.1 | H64: 18 | I64: 9 | J64: 5 | K64: =E64+F64+G64+H64+I64 -> 140.1 | L64: 12368.39 | M64: 11131.55 | N64: 8657.87 | O64: 6184.2 | P64: 3710.52 | Q64: 488.77 | R64: 2100 | S64: 200 | T64: 92 | U64: =(E64*L64+F64*M64+G64*N64+H64*O64+I64*P64)+Q64*J64+R64*J64+S64*(E64+F64+G64+H64+I64) -> 1293510.6 | V64: =U64*T64/100 -> 1190029.7 | W64: =U64-V64 -> 103480.85
A65: 64 | B65: Гатчинский район | C65: Вырицкое городское поселение | D65: 2024 | E65: 1.31 | F65: 0 | G65: 0 | H65: 0 | I65: 0 | J65: 3 | K65: =E65+F65+G65+H65+I65 -> 1.31 | L65: 12368.39 | M65: 11131.55 | N65: 8657.87 | O65: 6184.2 | P65: 3710.52 | Q65: 488.77 | R65: 2100 | S65: 200 | T65: 88 | U65: =(E65*L65+F65*M65+G65*N65+H65*O65+I65*P65)+Q65*J65+R65*J65+S65*(E65+F65+G65+H65+I65) -> 24230.901 | V65: =U65*T65/100 -> 21323.193 | W65: =U65-V65 -> 2907.7081
A66: 65 | B66: Гатчинский район | C66: Гатчинское городское поселение | D66: 2024 | K66: =E66+F66+G66+H66+I66 -> 0 | L66: 12368.39 | M66: 11131.55 | N66: 8657.87 | O66: 6184.2 | P66: 3710.52 | Q66: 488.77 | R66: 2100 | S66: 200 | T66: 87 | U66: =(E66*L66+F66*M66+G66*N66+H66*O66+I66*P66)+Q66*J66+R66*J66+S66*(E66+F66+G66+H66+I66) -> 0 | V66: =U66*T66/100 -> 0 | W66: =U66-V66 -> 0
A67: 66 | B67: Гатчинский район | C67: Дружногорское городское поселение | D67: 2024 | K67: =E67+F67+G67+H67+I67 -> 0 | L67: 12368.39 | M67: 11131.55 | N67: 8657.87 | O67: 6184.2 | P67: 3710.52 | Q67: 488.77 | R67: 2100 | S67: 200 | T67: 91 | U67: =(E67*L67+F67*M67+G67*N67+H67*O67+I67*P67)+Q67*J67+R67*J67+S67*(E67+F67+G67+H67+I67) -> 0 | V67: =U67*T67/100 -> 0 | W67: =U67-V67 -> 0
A68: 67 | B68: Гатчинский район | C68: Елизаветинское сельское поселение | D68: 2024 | E68: 0 | F68: 32.4 | G68: 144.1 | H68: 0 | I68: 0 | J68: 16 | K68: =E68+F68+G68+H68+I68 -> 176.5 | L68: 12368.39 | M68: 11131.55 | N68: 8657.87 | O68: 6184.2 | P68: 3710.52 | Q68: 488.77 | R68: 2100 | S68: 200 | T68: 91 | U68: =(E68*L68+F68*M68+G68*N68+H68*O68+I68*P68)+Q68*J68+R68*J68+S68*(E68+F68+G68+H68+I68) -> 1684981.6 | V68: =U68*T68/100 -> 1533333.3 | W68: =U68-V68 -> 151648.34
A69: 68 | B69: Гатчинский район | C69: Кобринское сельское поселение | D69: 2024 | E69: 4.81 | F69: 2 | G69: 11.33 | H69: 20 | I69: 2 | J69: 5 | K69: =E69+F69+G69+H69+I69 -> 40.14 | L69: 12368.39 | M69: 11131.55 | N69: 8657.87 | O69: 6184.2 | P69: 3710.52 | Q69: 488.77 | R69: 2100 | S69: 200 | T69: 91 | U69: =(E69*L69+F69*M69+G69*N69+H69*O69+I69*P69)+Q69*J69+R69*J69+S69*(E69+F69+G69+H69+I69) -> 331925.61 | V69: =U69*T69/100 -> 302052.31 | W69: =U69-V69 -> 29873.305
A70: 69 | B70: Гатчинский район | C70: Коммунарское городское поселение | D70: 2024 | K70: =E70+F70+G70+H70+I70 -> 0 | L70: 12368.39 | M70: 11131.55 | N70: 8657.87 | O70: 6184.2 | P70: 3710.52 | Q70: 488.77 | R70: 2100 | S70: 200 | T70: 89 | U70: =(E70*L70+F70*M70+G70*N70+H70*O70+I70*P70)+Q70*J70+R70*J70+S70*(E70+F70+G70+H70+I70) -> 0 | V70: =U70*T70/100 -> 0 | W70: =U70-V70 -> 0
A71: 70 | B71: Гатчинский район | C71: Новосветское сельское поселение | D71: 2024 | E71: 15 | F71: 25 | G71: 17 | H71: 23 | I71: 8 | J71: 7 | K71: =E71+F71+G71+H71+I71 -> 88 | L71: 12368.39 | M71: 11131.55 | N71: 8657.87 | O71: 6184.2 | P71: 3710.52 | Q71: 488.77 | R71: 2100 | S71: 200 | T71: 91 | U71: =(E71*L71+F71*M71+G71*N71+H71*O71+I71*P71)+Q71*J71+R71*J71+S71*(E71+F71+G71+H71+I71) -> 818640.54 | V71: =U71*T71/100 -> 744962.89 | W71: =U71-V71 -> 73677.649
A72: 71 | B72: Гатчинский район | C72: Пудомягское сельское поселение | D72: 2024 | E72: 14 | F72: 0 | G72: 0 | H72: 55 | I72: 0 | J72: 14 | K72: =E72+F72+G72+H72+I72 -> 69 | L72: 12368.39 | M72: 11131.55 | N72: 8657.87 | O72: 6184.2 | P72: 3710.52 | Q72: 488.77 | R72: 2100 | S72: 200 | T72: 91 | U72: =(E72*L72+F72*M72+G72*N72+H72*O72+I72*P72)+Q72*J72+R72*J72+S72*(E72+F72+G72+H72+I72) -> 563331.24 | V72: =U72*T72/100 -> 512631.43 | W72: =U72-V72 -> 50699.812
A73: 72 | B73: Гатчинский район | C73: Пудостьское сельское поселение | D73: 2024 | E73: 4 | F73: 15 | G73: 0 | H73: 23 | I73: 0 | J73: 12 | K73: =E73+F73+G73+H73+I73 -> 42 | L73: 12368.39 | M73: 11131.55 | N73: 8657.87 | O73: 6184.2 | P73: 3710.52 | Q73: 488.77 | R73: 2100 | S73: 200 | T73: 91 | U73: =(E73*L73+F73*M73+G73*N73+H73*O73+I73*P73)+Q73*J73+R73*J73+S73*(E73+F73+G73+H73+I73) -> 398148.65 | V73: =U73*T73/100 -> 362315.27 | W73: =U73-V73 -> 35833.379
A74: 73 | B74: Гатчинский район | C74: Рождественское сельское поселение | D74: 2024 | E74: 0.6 | F74: 0 | G74: 0 | H74: 0 | I74: 0 | J74: 5 | K74: =E74+F74+G74+H74+I74 -> 0.6 | L74: 12368.39 | M74: 11131.55 | N74: 8657.87 | O74: 6184.2 | P74: 3710.52 | Q74: 488.77 | R74: 2100 | S74: 200 | T74: 90 | U74: =(E74*L74+F74*M74+G74*N74+H74*O74+I74*P74)+Q74*J74+R74*J74+S74*(E74+F74+G74+H74+I74) -> 20484.884 | V74: =U74*T74/100 -> 18436.396 | W74: =U74-V74 -> 2048.4884
A75: 74 | B75: Гатчинский район | C75: Сиверское городское поселение | D75: 2024 | E75: 0 | F75: 0 | G75: 23.65 | H75: 0 | I75: 0 | J75: 5 | K75: =E75+F75+G75+H75+I75 -> 23.65 | L75: 12368.39 | M75: 11131.55 | N75: 8657.87 | O75: 6184.2 | P75: 3710.52 | Q75: 488.77 | R75: 2100 | S75: 200 | T75: 90 | U75: =(E75*L75+F75*M75+G75*N75+H75*O75+I75*P75)+Q75*J75+R75*J75+S75*(E75+F75+G75+H75+I75) -> 222432.48 | V75: =U75*T75/100 -> 200189.23 | W75: =U75-V75 -> 22243.248
A76: 75 | B76: Гатчинский район | C76: Сусанинское сельское поселение | D76: 2024 | E76: 1 | F76: 2 | G76: 13 | H76: 10 | I76: 3 | J76: 5 | K76: =E76+F76+G76+H76+I76 -> 29 | L76: 12368.39 | M76: 11131.55 | N76: 8657.87 | O76: 6184.2 | P76: 3710.52 | Q76: 488.77 | R76: 2100 | S76: 200 | T76: 86 | U76: =(E76*L76+F76*M76+G76*N76+H76*O76+I76*P76)+Q76*J76+R76*J76+S76*(E76+F76+G76+H76+I76) -> 238901.21 | V76: =U76*T76/100 -> 205455.04 | W76: =U76-V76 -> 33446.169
A77: 76 | B77: Гатчинский район | C77: Сяськелевское сельское поселение | D77: 2024 | E77: 2.5 | F77: 4 | G77: 8.4 | H77: 14.1 | I77: 2.7 | J77: 6 | K77: =E77+F77+G77+H77+I77 -> 31.7 | L77: 12368.39 | M77: 11131.55 | N77: 8657.87 | O77: 6184.2 | P77: 3710.52 | Q77: 488.77 | R77: 2100 | S77: 200 | T77: 90 | U77: =(E77*L77+F77*M77+G77*N77+H77*O77+I77*P77)+Q77*J77+R77*J77+S77*(E77+F77+G77+H77+I77) -> 267261.53 | V77: =U77*T77/100 -> 240535.37 | W77: =U77-V77 -> 26726.153
A78: 77 | B78: Гатчинский район | C78: Таицкое городское поселение | D78: 2024 | K78: =E78+F78+G78+H78+I78 -> 0 | L78: 12368.39 | M78: 11131.55 | N78: 8657.87 | O78: 6184.2 | P78: 3710.52 | Q78: 488.77 | R78: 2100 | S78: 200 | T78: 90 | U78: =(E78*L78+F78*M78+G78*N78+H78*O78+I78*P78)+Q78*J78+R78*J78+S78*(E78+F78+G78+H78+I78) -> 0 | V78: =U78*T78/100 -> 0 | W78: =U78-V78 -> 0
A79: 78 | B79: Кингисеппский район | C79: Большелуцкое сельское поселение | D79: 2024 | E79: 4.1 | F79: 7.7 | G79: 2 | H79: 2.2 | I79: 7.5 | J79: 13 | K79: =E79+F79+G79+H79+I79 -> 23.5 | L79: 12368.39 | M79: 11131.55 | N79: 8657.87 | O79: 6184.2 | P79: 3710.52 | Q79: 488.77 | R79: 2100 | S79: 200 | T79: 71 | U79: =(E79*L79+F79*M79+G79*N79+H79*O79+I79*P79)+Q79*J79+R79*J79+S79*(E79+F79+G79+H79+I79) -> 233527.22 | V79: =U79*T79/100 -> 165804.33 | W79: =U79-V79 -> 67722.895
A80: 79 | B80: Кингисеппский район | C80: Вистинское сельское поселение | D80: 2024 | K80: =E80+F80+G80+H80+I80 -> 0 | L80: 12368.39 | M80: 11131.55 | N80: 8657.87 | O80: 6184.2 | P80: 3710.52 | Q80: 488.77 | R80: 2100 | S80: 200 | T80: 71 | U80: =(E80*L80+F80*M80+G80*N80+H80*O80+I80*P80)+Q80*J80+R80*J80+S80*(E80+F80+G80+H80+I80) -> 0 | V80: =U80*T80/100 -> 0 | W80: =U80-V80 -> 0
A81: 80 | B81: Кингисеппский район | C81: Ивангородское городское поселение | D81: 2024 | E81: 0 | F81: 0 | G81: 14.5 | H81: 0 | I81: 0 | J81: 1 | K81: =E81+F81+G81+H81+I81 -> 14.5 | L81: 12368.39 | M81: 11131.55 | N81: 8657.87 | O81: 6184.2 | P81: 3710.52 | Q81: 488.77 | R81: 2100 | S81: 200 | T81: 90 | U81: =(E81*L81+F81*M81+G81*N81+H81*O81+I81*P81)+Q81*J81+R81*J81+S81*(E81+F81+G81+H81+I81) -> 131027.89 | V81: =U81*T81/100 -> 117925.1 | W81: =U81-V81 -> 13102.789
A82: 81 | B82: Кингисеппский район | C82: Кингисеппское городское поселение | D82: 2024 | K82: =E82+F82+G82+H82+I82 -> 0 | L82: 12368.39 | M82: 11131.55 | N82: 8657.87 | O82: 6184.2 | P82: 3710.52 | Q82: 488.77 | R82: 2100 | S82: 200 | T82: 93 | U82: =(E82*L82+F82*M82+G82*N82+H82*O82+I82*P82)+Q82*J82+R82*J82+S82*(E82+F82+G82+H82+I82) -> 0 | V82: =U82*T82/100 -> 0 | W82: =U82-V82 -> 0
A83: 82 | B83: Кингисеппский район | C83: Котельское сельское поселение | D83: 2024 | K83: =E83+F83+G83+H83+I83 -> 0 | L83: 12368.39 | M83: 11131.55 | N83: 8657.87 | O83: 6184.2 | P83: 3710.52 | Q83: 488.77 | R83: 2100 | S83: 200 | T83: 88 | U83: =(E83*L83+F83*M83+G83*N83+H83*O83+I83*P83)+Q83*J83+R83*J83+S83*(E83+F83+G83+H83+I83) -> 0 | V83: =U83*T83/100 -> 0 | W83: =U83-V83 -> 0
A84: 83 | B84: Кингисеппский район | C84: Кузёмкинское сельское поселение | D84: 2024 | K84: =E84+F84+G84+H84+I84 -> 0 | L84: 12368.39 | M84: 11131.55 | N84: 8657.87 | O84: 6184.2 | P84: 3710.52 | Q84: 488.77 | R84: 2100 | S84: 200 | T84: 79 | U84: =(E84*L84+F84*M84+G84*N84+H84*O84+I84*P84)+Q84*J84+R84*J84+S84*(E84+F84+G84+H84+I84) -> 0 | V84: =U84*T84/100 -> 0 | W84: =U84-V84 -> 0
A85: 84 | B85: Кингисеппский район | C85: Нежновское сельское поселение | D85: 2024 | K85: =E85+F85+G85+H85+I85 -> 0 | L85: 12368.39 | M85: 11131.55 | N85: 8657.87 | O85: 6184.2 | P85: 3710.52 | Q85: 488.77 | R85: 2100 | S85: 200 | T85: 88 | U85: =(E85*L85+F85*M85+G85*N85+H85*O85+I85*P85)+Q85*J85+R85*J85+S85*(E85+F85+G85+H85+I85) -> 0 | V85: =U85*T85/100 -> 0 | W85: =U85-V85 -> 0
A86: 85 | B86: Кингисеппский район | C86: Опольевское сельское поселение | D86: 2024 | K86: =E86+F86+G86+H86+I86 -> 0 | L86: 12368.39 | M86: 11131.55 | N86: 8657.87 | O86: 6184.2 | P86: 3710.52 | Q86: 488.77 | R86: 2100 | S86: 200 | T86: 88 | U86: =(E86*L86+F86*M86+G86*N86+H86*O86+I86*P86)+Q86*J86+R86*J86+S86*(E86+F86+G86+H86+I86) -> 0 | V86: =U86*T86/100 -> 0 | W86: =U86-V86 -> 0
A87: 86 | B87: Кингисеппский район | C87: Пустомержское сельское поселение | D87: 2024 | K87: =E87+F87+G87+H87+I87 -> 0 | L87: 12368.39 | M87: 11131.55 | N87: 8657.87 | O87: 6184.2 | P87: 3710.52 | Q87: 488.77 | R87: 2100 | S87: 200 | T87: 90 | U87: =(E87*L87+F87*M87+G87*N87+H87*O87+I87*P87)+Q87*J87+R87*J87+S87*(E87+F87+G87+H87+I87) -> 0 | V87: =U87*T87/100 -> 0 | W87: =U87-V87 -> 0
A88: 87 | B88: Кингисеппский район | C88: Усть-Лужское сельское поселение | D88: 2024 | K88: =E88+F88+G88+H88+I88 -> 0 | L88: 12368.39 | M88: 11131.55 | N88: 8657.87 | O88: 6184.2 | P88: 3710.52 | Q88: 488.77 | R88: 2100 | S88: 200 | T88: 85 | U88: =(E88*L88+F88*M88+G88*N88+H88*O88+I88*P88)+Q88*J88+R88*J88+S88*(E88+F88+G88+H88+I88) -> 0 | V88: =U88*T88/100 -> 0 | W88: =U88-V88 -> 0
A89: 88 | B89: Кингисеппский район | C89: Фалилеевское сельское поселение | D89: 2024 | E89: 0 | F89: 0 | G89: 69.72 | H89: 0 | I89: 56.6 | J89: 32 | K89: =E89+F89+G89+H89+I89 -> 126.32 | L89: 12368.39 | M89: 11131.55 | N89: 8657.87 | O89: 6184.2 | P89: 3710.52 | Q89: 488.77 | R89: 2100 | S89: 200 | T89: 90 | U89: =(E89*L89+F89*M89+G89*N89+H89*O89+I89*P89)+Q89*J89+R89*J89+S89*(E89+F89+G89+H89+I89) -> 921746.77 | V89: =U89*T89/100 -> 829572.09 | W89: =U89-V89 -> 92174.677
A90: 89 | B90: Киришский район | C90: Будогощское городское поселение | D90: 2024 | E90: 0 | F90: 10.3 | G90: 0 | H90: 0 | I90: 0 | J90: 2 | K90: =E90+F90+G90+H90+I90 -> 10.3 | L90: 12368.39 | M90: 11131.55 | N90: 8657.87 | O90: 6184.2 | P90: 3710.52 | Q90: 488.77 | R90: 2100 | S90: 200 | T90: 85 | U90: =(E90*L90+F90*M90+G90*N90+H90*O90+I90*P90)+Q90*J90+R90*J90+S90*(E90+F90+G90+H90+I90) -> 121892.5 | V90: =U90*T90/100 -> 103608.63 | W90: =U90-V90 -> 18283.876
A91: 90 | B91: Киришский район | C91: Глажевское сельское поселение | D91: 2024 | E91: 0 | F91: 0 | G91: 14.65 | H91: 36.54 | I91: 16.44 | J91: 16 | K91: =E91+F91+G91+H91+I91 -> 67.63 | L91: 12368.39 | M91: 11131.55 | N91: 8657.87 | O91: 6184.2 | P91: 3710.52 | Q91: 488.77 | R91: 2100 | S91: 200 | T91: 89 | U91: =(E91*L91+F91*M91+G91*N91+H91*O91+I91*P91)+Q91*J91+R91*J91+S91*(E91+F91+G91+H91+I91) -> 468755.73 | V91: =U91*T91/100 -> 417192.6 | W91: =U91-V91 -> 51563.131
A92: 91 | B92: Киришский район | C92: Киришское городское поселение | D92: 2024 | K92: =E92+F92+G92+H92+I92 -> 0 | L92: 12368.39 | M92: 11131.55 | N92: 8657.87 | O92: 6184.2 | P92: 3710.52 | Q92: 488.77 | R92: 2100 | S92: 200 | T92: 84 | U92: =(E92*L92+F92*M92+G92*N92+H92*O92+I92*P92)+Q92*J92+R92*J92+S92*(E92+F92+G92+H92+I92) -> 0 | V92: =U92*T92/100 -> 0 | W92: =U92-V92 -> 0
A93: 92 | B93: Киришский район | C93: Кусинское сельское поселение | D93: 2024 | E93: 19.2 | F93: 4 | G93: 2.5 | H93: 0 | I93: 2 | J93: 2 | K93: =E93+F93+G93+H93+I93 -> 27.7 | L93: 12368.39 | M93: 11131.55 | N93: 8657.87 | O93: 6184.2 | P93: 3710.52 | Q93: 488.77 | R93: 2100 | S93: 200 | T93: 87 | U93: =(E93*L93+F93*M93+G93*N93+H93*O93+I93*P93)+Q93*J93+R93*J93+S93*(E93+F93+G93+H93+I93) -> 321782.54 | V93: =U93*T93/100 -> 279950.81 | W93: =U93-V93 -> 41831.731
A94: 93 | B94: Киришский район | C94: Пчёвжинское сельское поселение | D94: 2024 | E94: 3.7 | F94: 7 | G94: 0 | H94: 0 | I94: 0 | J94: 5 | K94: =E94+F94+G94+H94+I94 -> 10.7 | L94: 12368.39 | M94: 11131.55 | N94: 8657.87 | O94: 6184.2 | P94: 3710.52 | Q94: 488.77 | R94: 2100 | S94: 200 | T94: 85 | U94: =(E94*L94+F94*M94+G94*N94+H94*O94+I94*P94)+Q94*J94+R94*J94+S94*(E94+F94+G94+H94+I94) -> 138767.74 | V94: =U94*T94/100 -> 117952.58 | W94: =U94-V94 -> 20815.161
A95: 94 | B95: Киришский район | C95: Пчевское сельское поселение | D95: 2024 | E95: 14.45 | F95: 5 | G95: 5 | H95: 0 | I95: 0 | J95: 3 | K95: =E95+F95+G95+H95+I95 -> 24.45 | L95: 12368.39 | M95: 11131.55 | N95: 8657.87 | O95: 6184.2 | P95: 3710.52 | Q95: 488.77 | R95: 2100 | S95: 200 | T95: 89 | U95: =(E95*L95+F95*M95+G95*N95+H95*O95+I95*P95)+Q95*J95+R95*J95+S95*(E95+F95+G95+H95+I95) -> 290326.65 | V95: =U95*T95/100 -> 258390.71 | W95: =U95-V95 -> 31935.931
A96: 95 | B96: Кировский район | C96: Кировское городское поселение | D96: 2024 | K96: =E96+F96+G96+H96+I96 -> 0 | L96: 12368.39 | M96: 11131.55 | N96: 8657.87 | O96: 6184.2 | P96: 3710.52 | Q96: 488.77 | R96: 2100 | S96: 200 | T96: 91 | U96: =(E96*L96+F96*M96+G96*N96+H96*O96+I96*P96)+Q96*J96+R96*J96+S96*(E96+F96+G96+H96+I96) -> 0 | V96: =U96*T96/100 -> 0 | W96: =U96-V96 -> 0
A97: 96 | B97: Кировский район | C97: Мгинское городское поселение | D97: 2024 | K97: =E97+F97+G97+H97+I97 -> 0 | L97: 12368.39 | M97: 11131.55 | N97: 8657.87 | O97: 6184.2 | P97: 3710.52 | Q97: 488.77 | R97: 2100 | S97: 200 | T97: 90 | U97: =(E97*L97+F97*M97+G97*N97+H97*O97+I97*P97)+Q97*J97+R97*J97+S97*(E97+F97+G97+H97+I97) -> 0 | V97: =U97*T97/100 -> 0 | W97: =U97-V97 -> 0
A98: 97 | B98: Кировский район | C98: Назиевское городское поселение | D98: 2024 | K98: =E98+F98+G98+H98+I98 -> 0 | L98: 12368.39 | M98: 11131.55 | N98: 8657.87 | O98: 6184.2 | P98: 3710.52 | Q98: 488.77 | R98: 2100 | S98: 200 | T98: 89 | U98: =(E98*L98+F98*M98+G98*N98+H98*O98+I98*P98)+Q98*J98+R98*J98+S98*(E98+F98+G98+H98+I98) -> 0 | V98: =U98*T98/100 -> 0 | W98: =U98-V98 -> 0
A99: 98 | B99: Кировский район | C99: Отрадненское городское поселение | D99: 2024 | K99: =E99+F99+G99+H99+I99 -> 0 | L99: 12368.39 | M99: 11131.55 | N99: 8657.87 | O99: 6184.2 | P99: 3710.52 | Q99: 488.77 | R99: 2100 | S99: 200 | T99: 91 | U99: =(E99*L99+F99*M99+G99*N99+H99*O99+I99*P99)+Q99*J99+R99*J99+S99*(E99+F99+G99+H99+I99) -> 0 | V99: =U99*T99/100 -> 0 | W99: =U99-V99 -> 0
A100: 99 | B100: Кировский район | C100: Павловское городское поселение | D100: 2024 | K100: =E100+F100+G100+H100+I100 -> 0 | L100: 12368.39 | M100: 11131.55 | N100: 8657.87 | O100: 6184.2 | P100: 3710.52 | Q100: 488.77 | R100: 2100 | S100: 200 | T100: 89 | U100: =(E100*L100+F100*M100+G100*N100+H100*O100+I100*P100)+Q100*J100+R100*J100+S100*(E100+F100+G100+H100+I100) -> 0 | V100: =U100*T100/100 -> 0 | W100: =U100-V100 -> 0
...

Sheet Доп отбор 2024-2026 
A1: № п/п | B1: Муниципальный район | C1: Муниципальное образование | D1: Год субсидирования | E1: площадь обработки 1 года, га | F1: площадь обработки 2 года, га | G1: площадь обработки 3 года, га | H1: площадь обработки 4 года, га | I1: площадь обработки 5 года, га | J1: Количество населенных пунктов, шт. | K1: Общая площадь обработки, га | L1: Стоимость обработки 1 года, руб./га | M1: Стоимость обработки 2 года, руб./га | N1: Стоимость обработки 3 года, руб./га | O1: Стоимость обработки 4 года, руб./га | P1: Стоимость обработки 5 года, руб./га | Q1: Стоимость отбора образцов, руб./нас. пункт | R1: Стоимость анализа образцов, руб./нас. пункт | S1: Стоимость оценки эффективности, руб./га | T1: Уровень софинансирования, % | U1: Итого размер субсидии, руб. | V1: Итого размер средств областного бюджета, руб.
A2: 1 | B2: Бокситогорский район | C2: Бокситогорское городское поселение | D2: 2024 | K2: =E2+F2+G2+H2+I2 -> 0 | L2: 12368.39 | M2: 11131.55 | N2: 8657.87 | O2: 6184.2 | P2: 3710.52 | Q2: 488.77 | R2: 2100 | S2: 200 | T2: 89 | U2: =(E2*L2+F2*M2+G2*N2+H2*O2+I2*P2)+Q2*J2+R2*J2+S2*(E2+F2+G2+H2+I2) -> 0 | V2: =U2*T2/100 -> 0
A3: 2 | B3: Бокситогорский район | C3: Большедворское сельское поселение | D3: 2024 | K3: =E3+F3+G3+H3+I3 -> 0 | L3: 12368.39 | M3: 11131.55 | N3: 8657.87 | O3: 6184.2 | P3: 3710.52 | Q3: 488.77 | R3: 2100 | S3: 200 | T3: 88 | U3: =(E3*L3+F3*M3+G3*N3+H3*O3+I3*P3)+Q3*J3+R3*J3+S3*(E3+F3+G3+H3+I3) -> 0 | V3: =U3*T3/100 -> 0
A4: 3 | B4: Бокситогорский район | C4: Борское сельское поселение | D4: 2024 | K4: =E4+F4+G4+H4+I4 -> 0 | L4: 12368.39 | M4: 11131.55 | N4: 8657.87 | O4: 6184.2 | P4: 3710.52 | Q4: 488.77 | R4: 2100 | S4: 200 | T4: 89 | U4: =(E4*L4+F4*M4+G4*N4+H4*O4+I4*P4)+Q4*J4+R4*J4+S4*(E4+F4+G4+H4+I4) -> 0 | V4: =U4*T4/100 -> 0
A5: 4 | B5: Бокситогорский район | C5: Ефимовское городское поселение | D5: 2024 | K5: =E5+F5+G5+H5+I5 -> 0 | L5: 12368.39 | M5: 11131.55 | N5: 8657.87 | O5: 6184.2 | P5: 3710.52 | Q5: 488.77 | R5: 2100 | S5: 200 | T5: 89 | U5: =(E5*L5+F5*M5+G5*N5+H5*O5+I5*P5)+Q5*J5+R5*J5+S5*(E5+F5+G5+H5+I5) -> 0 | V5: =U5*T5/100 -> 0
A6: 5 | B6: Бокситогорский район | C6: Лидское сельское поселение | D6: 2024 | K6: =E6+F6+G6+H6+I6 -> 0 | L6: 12368.39 | M6: 11131.55 | N6: 8657.87 | O6: 6184.2 | P6: 3710.52 | Q6: 488.77 | R6: 2100 | S6: 200 | T6: 86 | U6: =(E6*L6+F6*M6+G6*N6+H6*O6+I6*P6)+Q6*J6+R6*J6+S6*(E6+F6+G6+H6+I6) -> 0 | V6: =U6*T6/100 -> 0
A7: 6 | B7: Бокситогорский район | C7: Пикалёвское городское поселение | D7: 2024 | K7: =E7+F7+G7+H7+I7 -> 0 | L7: 12368.39 | M7: 11131.55 | N7: 8657.87 | O7: 6184.2 | P7: 3710.52 | Q7: 488.77 | R7: 2100 | S7: 200 | T7: 89 | U7: =(E7*L7+F7*M7+G7*N7+H7*O7+I7*P7)+Q7*J7+R7*J7+S7*(E7+F7+G7+H7+I7) -> 0 | V7: =U7*T7/100 -> 0
A8: 7 | B8: Бокситогорский район | C8: Самойловское сельское поселение | D8: 2024 | E8: 0 | F8: 45.52 | G8: 0 | H8: 0 | I8: 0 | J8: 4 | K8: =E8+F8+G8+H8+I8 -> 45.52 | L8: 12368.39 | M8: 11131.55 | N8: 8657.87 | O8: 6184.2 | P8: 3710.52 | Q8: 488.77 | R8: 2100 | S8: 200 | T8: 83 | U8: =(E8*L8+F8*M8+G8*N8+H8*O8+I8*P8)+Q8*J8+R8*J8+S8*(E8+F8+G8+H8+I8) -> 526167.24 | V8: =U8*T8/100 -> 436718.81
A9: 8 | B9: Волосовский район | C9: Бегуницкое сельское поселение | D9: 2024 | K9: =E9+F9+G9+H9+I9 -> 0 | L9: 12368.39 | M9: 11131.55 | N9: 8657.87 | O9: 6184.2 | P9: 3710.52 | Q9: 488.77 | R9: 2100 | S9: 200 | T9: 91 | U9: =(E9*L9+F9*M9+G9*N9+H9*O9+I9*P9)+Q9*J9+R9*J9+S9*(E9+F9+G9+H9+I9) -> 0 | V9: =U9*T9/100 -> 0
A10: 9 | B10: Волосовский район | C10: Большеврудское сельское поселение | D10: 2024 | E10: 0 | F10: 37.5 | G10: 0 | H10: 0 | I10: 0 | J10: 1 | K10: =E10+F10+G10+H10+I10 -> 37.5 | L10: 12368.39 | M10: 11131.55 | N10: 8657.87 | O10: 6184.2 | P10: 3710.52 | Q10: 488.77 | R10: 2100 | S10: 200 | T10: 91 | U10: =(E10*L10+F10*M10+G10*N10+H10*O10+I10*P10)+Q10*J10+R10*J10+S10*(E10+F10+G10+H10+I10) -> 427521.9 | V10: =U10*T10/100 -> 389044.92
A11: 10 | B11: Волосовский район | C11: Волосовское городское поселение | D11: 2024 | K11: =E11+F11+G11+H11+I11 -> 0 | L11: 12368.39 | M11: 11131.55 | N11: 8657.87 | O11: 6184.2 | P11: 3710.52 | Q11: 488.77 | R11: 2100 | S11: 200 | T11: 89 | U11: =(E11*L11+F11*M11+G11*N11+H11*O11+I11*P11)+Q11*J11+R11*J11+S11*(E11+F11+G11+H11+I11) -> 0 | V11: =U11*T11/100 -> 0
A12: 11 | B12: Волосовский район | C12: Калитинское сельское поселение | D12: 2024 | E12: 15.2 | J12: 7 | K12: =E12+F12+G12+H12+I12 -> 15.2 | L12: 12368.39 | M12: 11131.55 | N12: 8657.87 | O12: 6184.2 | P12: 3710.52 | Q12: 488.77 | R12: 2100 | S12: 200 | T12: 91 | U12: =(E12*L12+F12*M12+G12*N12+H12*O12+I12*P12)+Q12*J12+R12*J12+S12*(E12+F12+G12+H12+I12) -> 209160.92 | V12: =U12*T12/100 -> 190336.44
A13: 12 | B13: Волосовский район | C13: Клопицкое сельское поселение | D13: 2024 | K13: =E13+F13+G13+H13+I13 -> 0 | L13: 12368.39 | M13: 11131.55 | N13: 8657.87 | O13: 6184.2 | P13: 3710.52 | Q13: 488.77 | R13: 2100 | S13: 200 | T13: 92 | U13: =(E13*L13+F13*M13+G13*N13+H13*O13+I13*P13)+Q13*J13+R13*J13+S13*(E13+F13+G13+H13+I13) -> 0 | V13: =U13*T13/100 -> 0
A14: 13 | B14: Волосовский район | C14: Рабитицкое сельское поселение | D14: 2024 | K14: =E14+F14+G14+H14+I14 -> 0 | L14: 12368.39 | M14: 11131.55 | N14: 8657.87 | O14: 6184.2 | P14: 3710.52 | Q14: 488.77 | R14: 2100 | S14: 200 | T14: 91 | U14: =(E14*L14+F14*M14+G14*N14+H14*O14+I14*P14)+Q14*J14+R14*J14+S14*(E14+F14+G14+H14+I14) -> 0 | V14: =U14*T14/100 -> 0
A15: 14 | B15: Волосовский район | C15: Сабское сельское поселение | D15: 2024 | K15: =E15+F15+G15+H15+I15 -> 0 | L15: 12368.39 | M15: 11131.55 | N15: 8657.87 | O15: 6184.2 | P15: 3710.52 | Q15: 488.77 | R15: 2100 | S15: 200 | T15: 91 | U15: =(E15*L15+F15*M15+G15*N15+H15*O15+I15*P15)+Q15*J15+R15*J15+S15*(E15+F15+G15+H15+I15) -> 0 | V15: =U15*T15/100 -> 0
A16: 15 | B16: Волховский район | C16: Бережковское сельское поселение | D16: 2024 | E16: 4.6 | J16: 1 | K16: =E16+F16+G16+H16+I16 -> 4.6 | L16: 12368.39 | M16: 11131.55 | N16: 8657.87 | O16: 6184.2 | P16: 3710.52 | Q16: 488.77 | R16: 2100 | S16: 200 | T16: 90 | U16: =(E16*L16+F16*M16+G16*N16+H16*O16+I16*P16)+Q16*J16+R16*J16+S16*(E16+F16+G16+H16+I16) -> 60403.364 | V16: =U16*T16/100 -> 54363.028
A17: 16 | B17: Волховский район | C17: Волховское городское поселение | D17: 2024 | K17: =E17+F17+G17+H17+I17 -> 0 | L17: 12368.39 | M17: 11131.55 | N17: 8657.87 | O17: 6184.2 | P17: 3710.52 | Q17: 488.77 | R17: 2100 | S17: 200 | T17: 90 | U17: =(E17*L17+F17*M17+G17*N17+H17*O17+I17*P17)+Q17*J17+R17*J17+S17*(E17+F17+G17+H17+I17) -> 0 | V17: =U17*T17/100 -> 0
A18: 17 | B18: Волховский район | C18: Вындиноостровское сельское поселение | D18: 2024 | K18: =E18+F18+G18+H18+I18 -> 0 | L18: 12368.39 | M18: 11131.55 | N18: 8657.87 | O18: 6184.2 | P18: 3710.52 | Q18: 488.77 | R18: 2100 | S18: 200 | T18: 92 | U18: =(E18*L18+F18*M18+G18*N18+H18*O18+I18*P18)+Q18*J18+R18*J18+S18*(E18+F18+G18+H18+I18) -> 0 | V18: =U18*T18/100 -> 0
A19: 18 | B19: Волховский район | C19: Иссадское сельское поселение | D19: 2024 | K19: =E19+F19+G19+H19+I19 -> 0 | L19: 12368.39 | M19: 11131.55 | N19: 8657.87 | O19: 6184.2 | P19: 3710.52 | Q19: 488.77 | R19: 2100 | S19: 200 | T19: 89 | U19: =(E19*L19+F19*M19+G19*N19+H19*O19+I19*P19)+Q19*J19+R19*J19+S19*(E19+F19+G19+H19+I19) -> 0 | V19: =U19*T19/100 -> 0
A20: 19 | B20: Волховский район | C20: Кисельнинское сельское поселение | D20: 2024 | K20: =E20+F20+G20+H20+I20 -> 0 | L20: 12368.39 | M20: 11131.55 | N20: 8657.87 | O20: 6184.2 | P20: 3710.52 | Q20: 488.77 | R20: 2100 | S20: 200 | T20: 87 | U20: =(E20*L20+F20*M20+G20*N20+H20*O20+I20*P20)+Q20*J20+R20*J20+S20*(E20+F20+G20+H20+I20) -> 0 | V20: =U20*T20/100 -> 0
A21: 20 | B21: Волховский район | C21: Колчановское сельское поселение | D21: 2024 | K21: =E21+F21+G21+H21+I21 -> 0 | L21: 12368.39 | M21: 11131.55 | N21: 8657.87 | O21: 6184.2 | P21: 3710.52 | Q21: 488.77 | R21: 2100 | S21: 200 | T21: 89 | U21: =(E21*L21+F21*M21+G21*N21+H21*O21+I21*P21)+Q21*J21+R21*J21+S21*(E21+F21+G21+H21+I21) -> 0 | V21: =U21*T21/100 -> 0
A22: 21 | B22: Волховский район | C22: Новоладожское городское поселение | D22: 2024 | K22: =E22+F22+G22+H22+I22 -> 0 | L22: 12368.39 | M22: 11131.55 | N22: 8657.87 | O22: 6184.2 | P22: 3710.52 | Q22: 488.77 | R22: 2100 | S22: 200 | T22: 88 | U22: =(E22*L22+F22*M22+G22*N22+H22*O22+I22*P22)+Q22*J22+R22*J22+S22*(E22+F22+G22+H22+I22) -> 0 | V22: =U22*T22/100 -> 0
A23: 22 | B23: Волховский район | C23: Пашское сельское поселение | D23: 2024 | K23: =E23+F23+G23+H23+I23 -> 0 | L23: 12368.39 | M23: 11131.55 | N23: 8657.87 | O23: 6184.2 | P23: 3710.52 | Q23: 488.77 | R23: 2100 | S23: 200 | T23: 89 | U23: =(E23*L23+F23*M23+G23*N23+H23*O23+I23*P23)+Q23*J23+R23*J23+S23*(E23+F23+G23+H23+I23) -> 0 | V23: =U23*T23/100 -> 0
A24: 23 | B24: Волховский район | C24: Потанинское сельское поселение | D24: 2024 | K24: =E24+F24+G24+H24+I24 -> 0 | L24: 12368.39 | M24: 11131.55 | N24: 8657.87 | O24: 6184.2 | P24: 3710.52 | Q24: 488.77 | R24: 2100 | S24: 200 | T24: 87 | U24: =(E24*L24+F24*M24+G24*N24+H24*O24+I24*P24)+Q24*J24+R24*J24+S24*(E24+F24+G24+H24+I24) -> 0 | V24: =U24*T24/100 -> 0
A25: 24 | B25: Волховский район | C25: Свирицкое сельское поселение | D25: 2024 | K25: =E25+F25+G25+H25+I25 -> 0 | L25: 12368.39 | M25: 11131.55 | N25: 8657.87 | O25: 6184.2 | P25: 3710.52 | Q25: 488.77 | R25: 2100 | S25: 200 | T25: 91 | U25: =(E25*L25+F25*M25+G25*N25+H25*O25+I25*P25)+Q25*J25+R25*J25+S25*(E25+F25+G25+H25+I25) -> 0 | V25: =U25*T25/100 -> 0
A26: 25 | B26: Волховский район | C26: Селивановское сельское поселение | D26: 2024 | K26: =E26+F26+G26+H26+I26 -> 0 | L26: 12368.39 | M26: 11131.55 | N26: 8657.87 | O26: 6184.2 | P26: 3710.52 | Q26: 488.77 | R26: 2100 | S26: 200 | T26: 93 | U26: =(E26*L26+F26*M26+G26*N26+H26*O26+I26*P26)+Q26*J26+R26*J26+S26*(E26+F26+G26+H26+I26) -> 0 | V26: =U26*T26/100 -> 0
A27: 26 | B27: Волховский район | C27: Староладожское сельское поселение | D27: 2024 | K27: =E27+F27+G27+H27+I27 -> 0 | L27: 12368.39 | M27: 11131.55 | N27: 8657.87 | O27: 6184.2 | P27: 3710.52 | Q27: 488.77 | R27: 2100 | S27: 200 | T27: 90 | U27: =(E27*L27+F27*M27+G27*N27+H27*O27+I27*P27)+Q27*J27+R27*J27+S27*(E27+F27+G27+H27+I27) -> 0 | V27: =U27*T27/100 -> 0
A28: 27 | B28: Волховский район | C28: Сясьстройское городское поселение | D28: 2024 | K28: =E28+F28+G28+H28+I28 -> 0 | L28: 12368.39 | M28: 11131.55 | N28: 8657.87 | O28: 6184.2 | P28: 3710.52 | Q28: 488.77 | R28: 2100 | S28: 200 | T28: 88 | U28: =(E28*L28+F28*M28+G28*N28+H28*O28+I28*P28)+Q28*J28+R28*J28+S28*(E28+F28+G28+H28+I28) -> 0 | V28: =U28*T28/100 -> 0
A29: 28 | B29: Волховский район | C29: Усадищенское сельское поселение | D29: 2024 | K29: =E29+F29+G29+H29+I29 -> 0 | L29: 12368.39 | M29: 11131.55 | N29: 8657.87 | O29: 6184.2 | P29: 3710.52 | Q29: 488.77 | R29: 2100 | S29: 200 | T29: 90 | U29: =(E29*L29+F29*M29+G29*N29+H29*O29+I29*P29)+Q29*J29+R29*J29+S29*(E29+F29+G29+H29+I29) -> 0 | V29: =U29*T29/100 -> 0
A30: 29 | B30: Волховский район | C30: Хваловское сельское поселение | D30: 2024 | E30: 4 | F30: 2 | G30: 2 | H30: 6 | J30: 7 | K30: =E30+F30+G30+H30+I30 -> 14 | L30: 12368.39 | M30: 11131.55 | N30: 8657.87 | O30: 6184.2 | P30: 3710.52 | Q30: 488.77 | R30: 2100 | S30: 200 | T30: 90 | U30: =(E30*L30+F30*M30+G30*N30+H30*O30+I30*P30)+Q30*J30+R30*J30+S30*(E30+F30+G30+H30+I30) -> 147078.99 | V30: =U30*T30/100 -> 132371.09
A31: 30 | B31: Всеволожский район | C31: Агалатовское сельское поселение | D31: 2024 | K31: =E31+F31+G31+H31+I31 -> 0 | L31: 12368.39 | M31: 11131.55 | N31: 8657.87 | O31: 6184.2 | P31: 3710.52 | Q31: 488.77 | R31: 2100 | S31: 200 | T31: 91 | U31: =(E31*L31+F31*M31+G31*N31+H31*O31+I31*P31)+Q31*J31+R31*J31+S31*(E31+F31+G31+H31+I31) -> 0 | V31: =U31*T31/100 -> 0
A32: 31 | B32: Всеволожский район | C32: Бугровское сельское поселение | D32: 2024 | K32: =E32+F32+G32+H32+I32 -> 0 | L32: 12368.39 | M32: 11131.55 | N32: 8657.87 | O32: 6184.2 | P32: 3710.52 | Q32: 488.77 | R32: 2100 | S32: 200 | T32: 85 | U32: =(E32*L32+F32*M32+G32*N32+H32*O32+I32*P32)+Q32*J32+R32*J32+S32*(E32+F32+G32+H32+I32) -> 0 | V32: =U32*T32/100 -> 0
A33: 32 | B33: Всеволожский район | C33: Всеволожское городское поселение | D33: 2024 | K33: =E33+F33+G33+H33+I33 -> 0 | L33: 12368.39 | M33: 11131.55 | N33: 8657.87 | O33: 6184.2 | P33: 3710.52 | Q33: 488.77 | R33: 2100 | S33: 200 | T33: 87 | U33: =(E33*L33+F33*M33+G33*N33+H33*O33+I33*P33)+Q33*J33+R33*J33+S33*(E33+F33+G33+H33+I33) -> 0 | V33: =U33*T33/100 -> 0
A34: 33 | B34: Всеволожский район | C34: Дубровское городское поселение | D34: 2024 | K34: =E34+F34+G34+H34+I34 -> 0 | L34: 12368.39 | M34: 11131.55 | N34: 8657.87 | O34: 6184.2 | P34: 3710.52 | Q34: 488.77 | R34: 2100 | S34: 200 | T34: 91 | U34: =(E34*L34+F34*M34+G34*N34+H34*O34+I34*P34)+Q34*J34+R34*J34+S34*(E34+F34+G34+H34+I34) -> 0 | V34: =U34*T34/100 -> 0
A35: 34 | B35: Всеволожский район | C35: Заневское городское поселение | D35: 2024 | K35: =E35+F35+G35+H35+I35 -> 0 | L35: 12368.39 | M35: 11131.55 | N35: 8657.87 | O35: 6184.2 | P35: 3710.52 | Q35: 488.77 | R35: 2100 | S35: 200 | T35: 91 | U35: =(E35*L35+F35*M35+G35*N35+H35*O35+I35*P35)+Q35*J35+R35*J35+S35*(E35+F35+G35+H35+I35) -> 0 | V35: =U35*T35/100 -> 0
A36: 35 | B36: Всеволожский район | C36: Колтушское сельское поселение | D36: 2024 | K36: =E36+F36+G36+H36+I36 -> 0 | L36: 12368.39 | M36: 11131.55 | N36: 8657.87 | O36: 6184.2 | P36: 3710.52 | Q36: 488.77 | R36: 2100 | S36: 200 | T36: 92 | U36: =(E36*L36+F36*M36+G36*N36+H36*O36+I36*P36)+Q36*J36+R36*J36+S36*(E36+F36+G36+H36+I36) -> 0 | V36: =U36*T36/100 -> 0
A37: 36 | B37: Всеволожский район | C37: Кузьмоловское городское поселение | D37: 2024 | K37: =E37+F37+G37+H37+I37 -> 0 | L37: 12368.39 | M37: 11131.55 | N37: 8657.87 | O37: 6184.2 | P37: 3710.52 | Q37: 488.77 | R37: 2100 | S37: 200 | T37: 83 | U37: =(E37*L37+F37*M37+G37*N37+H37*O37+I37*P37)+Q37*J37+R37*J37+S37*(E37+F37+G37+H37+I37) -> 0 | V37: =U37*T37/100 -> 0
A38: 37 | B38: Всеволожский район | C38: Куйвозовское сельское поселение | D38: 2024 | K38: =E38+F38+G38+H38+I38 -> 0 | L38: 12368.39 | M38: 11131.55 | N38: 8657.87 | O38: 6184.2 | P38: 3710.52 | Q38: 488.77 | R38: 2100 | S38: 200 | T38: 90 | U38: =(E38*L38+F38*M38+G38*N38+H38*O38+I38*P38)+Q38*J38+R38*J38+S38*(E38+F38+G38+H38+I38) -> 0 | V38: =U38*T38/100 -> 0
A39: 38 | B39: Всеволожский район | C39: Лесколовское сельское поселение | D39: 2024 | K39: =E39+F39+G39+H39+I39 -> 0 | L39: 12368.39 | M39: 11131.55 | N39: 8657.87 | O39: 6184.2 | P39: 3710.52 | Q39: 488.77 | R39: 2100 | S39: 200 | T39: 90 | U39: =(E39*L39+F39*M39+G39*N39+H39*O39+I39*P39)+Q39*J39+R39*J39+S39*(E39+F39+G39+H39+I39) -> 0 | V39: =U39*T39/100 -> 0
A40: 39 | B40: Всеволожский район | C40: Морозовское городское поселение | D40: 2024 | K40: =E40+F40+G40+H40+I40 -> 0 | L40: 12368.39 | M40: 11131.55 | N40: 8657.87 | O40: 6184.2 | P40: 3710.52 | Q40: 488.77 | R40: 2100 | S40: 200 | T40: 90 | U40: =(E40*L40+F40*M40+G40*N40+H40*O40+I40*P40)+Q40*J40+R40*J40+S40*(E40+F40+G40+H40+I40) -> 0 | V40: =U40*T40/100 -> 0
A41: 40 | B41: Всеволожский район | C41: Муринское городское поселение | D41: 2024 | K41: =E41+F41+G41+H41+I41 -> 0 | L41: 12368.39 | M41: 11131.55 | N41: 8657.87 | O41: 6184.2 | P41: 3710.52 | Q41: 488.77 | R41: 2100 | S41: 200 | T41: 94 | U41: =(E41*L41+F41*M41+G41*N41+H41*O41+I41*P41)+Q41*J41+R41*J41+S41*(E41+F41+G41+H41+I41) -> 0 | V41: =U41*T41/100 -> 0
A42: 41 | B42: Всеволожский район | C42: Новодевяткинское сельское поселение | D42: 2024 | G42: 7.103 | J42: 5 | K42: =E42+F42+G42+H42+I42 -> 7.103 | L42: 12368.39 | M42: 11131.55 | N42: 8657.87 | O42: 6184.2 | P42: 3710.52 | Q42: 488.77 | R42: 2100 | S42: 200 | T42: 92 | U42: =(E42*L42+F42*M42+G42*N42+H42*O42+I42*P42)+Q42*J42+R42*J42+S42*(E42+F42+G42+H42+I42) -> 75861.301 | V42: =U42*T42/100 -> 69792.397
A43: 42 | B43: Всеволожский район | C43: Рахьинское городское поселение | D43: 2024 | K43: =E43+F43+G43+H43+I43 -> 0 | L43: 12368.39 | M43: 11131.55 | N43: 8657.87 | O43: 6184.2 | P43: 3710.52 | Q43: 488.77 | R43: 2100 | S43: 200 | T43: 89 | U43: =(E43*L43+F43*M43+G43*N43+H43*O43+I43*P43)+Q43*J43+R43*J43+S43*(E43+F43+G43+H43+I43) -> 0 | V43: =U43*T43/100 -> 0
A44: 43 | B44: Всеволожский район | C44: Романовское сельское поселение | D44: 2024 | K44: =E44+F44+G44+H44+I44 -> 0 | L44: 12368.39 | M44: 11131.55 | N44: 8657.87 | O44: 6184.2 | P44: 3710.52 | Q44: 488.77 | R44: 2100 | S44: 200 | T44: 92 | U44: =(E44*L44+F44*M44+G44*N44+H44*O44+I44*P44)+Q44*J44+R44*J44+S44*(E44+F44+G44+H44+I44) -> 0 | V44: =U44*T44/100 -> 0
A45: 44 | B45: Всеволожский район | C45: Свердловское городское поселение | D45: 2024 | K45: =E45+F45+G45+H45+I45 -> 0 | L45: 12368.39 | M45: 11131.55 | N45: 8657.87 | O45: 6184.2 | P45: 3710.52 | Q45: 488.77 | R45: 2100 | S45: 200 | T45: 71 | U45: =(E45*L45+F45*M45+G45*N45+H45*O45+I45*P45)+Q45*J45+R45*J45+S45*(E45+F45+G45+H45+I45) -> 0 | V45: =U45*T45/100 -> 0
A46: 45 | B46: Всеволожский район | C46: Сертоловское городское поселение | D46: 2024 | K46: =E46+F46+G46+H46+I46 -> 0 | L46: 12368.39 | M46: 11131.55 | N46: 8657.87 | O46: 6184.2 | P46: 3710.52 | Q46: 488.77 | R46: 2100 | S46: 200 | T46: 92 | U46: =(E46*L46+F46*M46+G46*N46+H46*O46+I46*P46)+Q46*J46+R46*J46+S46*(E46+F46+G46+H46+I46) -> 0 | V46: =U46*T46/100 -> 0
A47: 46 | B47: Всеволожский район | C47: Токсовское городское поселение | D47: 2024 | G47: 31 | J47: 4 | K47: =E47+F47+G47+H47+I47 -> 31 | L47: 12368.39 | M47: 11131.55 | N47: 8657.87 | O47: 6184.2 | P47: 3710.52 | Q47: 488.77 | R47: 2100 | S47: 200 | T47: 75 | U47: =(E47*L47+F47*M47+G47*N47+H47*O47+I47*P47)+Q47*J47+R47*J47+S47*(E47+F47+G47+H47+I47) -> 284949.05 | V47: =U47*T47/100 -> 213711.79
A48: 47 | B48: Всеволожский район | C48: Щегловское сельское поселение | D48: 2024 | K48: =E48+F48+G48+H48+I48 -> 0 | L48: 12368.39 | M48: 11131.55 | N48: 8657.87 | O48: 6184.2 | P48: 3710.52 | Q48: 488.77 | R48: 2100 | S48: 200 | T48: 92 | U48: =(E48*L48+F48*M48+G48*N48+H48*O48+I48*P48)+Q48*J48+R48*J48+S48*(E48+F48+G48+H48+I48) -> 0 | V48: =U48*T48/100 -> 0
A49: 48 | B49: Всеволожский район | C49: Юкковское сельское поселение | D49: 2024 | K49: =E49+F49+G49+H49+I49 -> 0 | L49: 12368.39 | M49: 11131.55 | N49: 8657.87 | O49: 6184.2 | P49: 3710.52 | Q49: 488.77 | R49: 2100 | S49: 200 | T49: 89 | U49: =(E49*L49+F49*M49+G49*N49+H49*O49+I49*P49)+Q49*J49+R49*J49+S49*(E49+F49+G49+H49+I49) -> 0 | V49: =U49*T49/100 -> 0
A50: 49 | B50: Выборгский район | C50: Выборгское городское поселение | D50: 2024 | K50: =E50+F50+G50+H50+I50 -> 0 | L50: 12368.39 | M50: 11131.55 | N50: 8657.87 | O50: 6184.2 | P50: 3710.52 | Q50: 488.77 | R50: 2100 | S50: 200 | T50: 88 | U50: =(E50*L50+F50*M50+G50*N50+H50*O50+I50*P50)+Q50*J50+R50*J50+S50*(E50+F50+G50+H50+I50) -> 0 | V50: =U50*T50/100 -> 0
A51: 50 | B51: Выборгский район | C51: Высоцкое городское поселение | D51: 2024 | K51: =E51+F51+G51+H51+I51 -> 0 | L51: 12368.39 | M51: 11131.55 | N51: 8657.87 | O51: 6184.2 | P51: 3710.52 | Q51: 488.77 | R51: 2100 | S51: 200 | T51: 71 | U51: =(E51*L51+F51*M51+G51*N51+H51*O51+I51*P51)+Q51*J51+R51*J51+S51*(E51+F51+G51+H51+I51) -> 0 | V51: =U51*T51/100 -> 0
A52: 51 | B52: Выборгский район | C52: Гончаровское сельское поселение | D52: 2024 | H52: 29.68 | J52: 4 | K52: =E52+F52+G52+H52+I52 -> 29.68 | L52: 12368.39 | M52: 11131.55 | N52: 8657.87 | O52: 6184.2 | P52: 3710.52 | Q52: 488.77 | R52: 2100 | S52: 200 | T52: 92 | U52: =(E52*L52+F52*M52+G52*N52+H52*O52+I52*P52)+Q52*J52+R52*J52+S52*(E52+F52+G52+H52+I52) -> 199838.14 | V52: =U52*T52/100 -> 183851.09
A53: 52 | B53: Выборгский район | C53: Каменногорское городское поселение | D53: 2024 | H53: 59.83 | J53: 8 | K53: =E53+F53+G53+H53+I53 -> 59.83 | L53: 12368.39 | M53: 11131.55 | N53: 8657.87 | O53: 6184.2 | P53: 3710.52 | Q53: 488.77 | R53: 2100 | S53: 200 | T53: 89 | U53: =(E53*L53+F53*M53+G53*N53+H53*O53+I53*P53)+Q53*J53+R53*J53+S53*(E53+F53+G53+H53+I53) -> 402676.85 | V53: =U53*T53/100 -> 358382.39
A54: 53 | B54: Выборгский район | C54: Красносельское сельское поселение | D54: 2024 | K54: =E54+F54+G54+H54+I54 -> 0 | L54: 12368.39 | M54: 11131.55 | N54: 8657.87 | O54: 6184.2 | P54: 3710.52 | Q54: 488.77 | R54: 2100 | S54: 200 | T54: 92 | U54: =(E54*L54+F54*M54+G54*N54+H54*O54+I54*P54)+Q54*J54+R54*J54+S54*(E54+F54+G54+H54+I54) -> 0 | V54: =U54*T54/100 -> 0
A55: 54 | B55: Выборгский район | C55: Первомайское сельское поселение | D55: 2024 | K55: =E55+F55+G55+H55+I55 -> 0 | L55: 12368.39 | M55: 11131.55 | N55: 8657.87 | O55: 6184.2 | P55: 3710.52 | Q55: 488.77 | R55: 2100 | S55: 200 | T55: 83 | U55: =(E55*L55+F55*M55+G55*N55+H55*O55+I55*P55)+Q55*J55+R55*J55+S55*(E55+F55+G55+H55+I55) -> 0 | V55: =U55*T55/100 -> 0
A56: 55 | B56: Выборгский район | C56: Полянское сельское поселение | D56: 2024 | K56: =E56+F56+G56+H56+I56 -> 0 | L56: 12368.39 | M56: 11131.55 | N56: 8657.87 | O56: 6184.2 | P56: 3710.52 | Q56: 488.77 | R56: 2100 | S56: 200 | T56: 90 | U56: =(E56*L56+F56*M56+G56*N56+H56*O56+I56*P56)+Q56*J56+R56*J56+S56*(E56+F56+G56+H56+I56) -> 0 | V56: =U56*T56/100 -> 0
A57: 56 | B57: Выборгский район | C57: Приморское городское поселение | D57: 2024 | E57: 13.7 | J57: 5 | K57: =E57+F57+G57+H57+I57 -> 13.7 | L57: 12368.39 | M57: 11131.55 | N57: 8657.87 | O57: 6184.2 | P57: 3710.52 | Q57: 488.77 | R57: 2100 | S57: 200 | T57: 87 | U57: =(E57*L57+F57*M57+G57*N57+H57*O57+I57*P57)+Q57*J57+R57*J57+S57*(E57+F57+G57+H57+I57) -> 185130.79 | V57: =U57*T57/100 -> 161063.79
A58: 57 | B58: Выборгский район | C58: Рощинское городское поселение | D58: 2024 | F58: 10.2 | G58: 7.9 | I58: 5.04 | J58: 5 | K58: =E58+F58+G58+H58+I58 -> 23.14 | L58: 12368.39 | M58: 11131.55 | N58: 8657.87 | O58: 6184.2 | P58: 3710.52 | Q58: 488.77 | R58: 2100 | S58: 200 | T58: 90 | U58: =(E58*L58+F58*M58+G58*N58+H58*O58+I58*P58)+Q58*J58+R58*J58+S58*(E58+F58+G58+H58+I58) -> 218211.85 | V58: =U58*T58/100 -> 196390.67
A59: 58 | B59: Выборгский район | C59: Светогорское городское поселение | D59: 2024 | K59: =E59+F59+G59+H59+I59 -> 0 | L59: 12368.39 | M59: 11131.55 | N59: 8657.87 | O59: 6184.2 | P59: 3710.52 | Q59: 488.77 | R59: 2100 | S59: 200 | T59: 91 | U59: =(E59*L59+F59*M59+G59*N59+H59*O59+I59*P59)+Q59*J59+R59*J59+S59*(E59+F59+G59+H59+I59) -> 0 | V59: =U59*T59/100 -> 0
A60: 59 | B60: Выборгский район | C60: Селезнёвское сельское поселение | D60: 2024 | K60: =E60+F60+G60+H60+I60 -> 0 | L60: 12368.39 | M60: 11131.55 | N60: 8657.87 | O60: 6184.2 | P60: 3710.52 | Q60: 488.77 | R60: 2100 | S60: 200 | T60: 91 | U60: =(E60*L60+F60*M60+G60*N60+H60*O60+I60*P60)+Q60*J60+R60*J60+S60*(E60+F60+G60+H60+I60) -> 0 | V60: =U60*T60/100 -> 0
A61: 60 | B61: Выборгский район | C61: Советское городское поселение | D61: 2024 | K61: =E61+F61+G61+H61+I61 -> 0 | L61: 12368.39 | M61: 11131.55 | N61: 8657.87 | O61: 6184.2 | P61: 3710.52 | Q61: 488.77 | R61: 2100 | S61: 200 | T61: 92 | U61: =(E61*L61+F61*M61+G61*N61+H61*O61+I61*P61)+Q61*J61+R61*J61+S61*(E61+F61+G61+H61+I61) -> 0 | V61: =U61*T61/100 -> 0
A62: 61 | B62: Гатчинский район | C62: Большеколпанское сельское поселение | D62: 2024 | K62: =E62+F62+G62+H62+I62 -> 0 | L62: 12368.39 | M62: 11131.55 | N62: 8657.87 | O62: 6184.2 | P62: 3710.52 | Q62: 488.77 | R62: 2100 | S62: 200 | T62: 91 | U62: =(E62*L62+F62*M62+G62*N62+H62*O62+I62*P62)+Q62*J62+R62*J62+S62*(E62+F62+G62+H62+I62) -> 0 | V62: =U62*T62/100 -> 0
A63: 62 | B63: Гатчинский район | C63: Веревское сельское поселение | D63: 2024 | K63: =E63+F63+G63+H63+I63 -> 0 | L63: 12368.39 | M63: 11131.55 | N63: 8657.87 | O63: 6184.2 | P63: 3710.52 | Q63: 488.77 | R63: 2100 | S63: 200 | T63: 90 | U63: =(E63*L63+F63*M63+G63*N63+H63*O63+I63*P63)+Q63*J63+R63*J63+S63*(E63+F63+G63+H63+I63) -> 0 | V63: =U63*T63/100 -> 0
A64: 63 | B64: Гатчинский район | C64: Войсковицкое сельское поселение | D64: 2024 | K64: =E64+F64+G64+H64+I64 -> 0 | L64: 12368.39 | M64: 11131.55 | N64: 8657.87 | O64: 6184.2 | P64: 3710.52 | Q64: 488.77 | R64: 2100 | S64: 200 | T64: 92 | U64: =(E64*L64+F64*M64+G64*N64+H64*O64+I64*P64)+Q64*J64+R64*J64+S64*(E64+F64+G64+H64+I64) -> 0 | V64: =U64*T64/100 -> 0
A65: 64 | B65: Гатчинский район | C65: Вырицкое городское поселение | D65: 2024 | E65: 0.03 | J65: 1 | K65: =E65+F65+G65+H65+I65 -> 0.03 | L65: 12368.39 | M65: 11131.55 | N65: 8657.87 | O65: 6184.2 | P65: 3710.52 | Q65: 488.77 | R65: 2100 | S65: 200 | T65: 88 | U65: =(E65*L65+F65*M65+G65*N65+H65*O65+I65*P65)+Q65*J65+R65*J65+S65*(E65+F65+G65+H65+I65) -> 2965.8217 | V65: =U65*T65/100 -> 2609.9231
A66: 65 | B66: Гатчинский район | C66: Гатчинское городское поселение | D66: 2024 | K66: =E66+F66+G66+H66+I66 -> 0 | L66: 12368.39 | M66: 11131.55 | N66: 8657.87 | O66: 6184.2 | P66: 3710.52 | Q66: 488.77 | R66: 2100 | S66: 200 | T66: 87 | U66: =(E66*L66+F66*M66+G66*N66+H66*O66+I66*P66)+Q66*J66+R66*J66+S66*(E66+F66+G66+H66+I66) -> 0 | V66: =U66*T66/100 -> 0
A67: 66 | B67: Гатчинский район | C67: Дружногорское городское поселение | D67: 2024 | K67: =E67+F67+G67+H67+I67 -> 0 | L67: 12368.39 | M67: 11131.55 | N67: 8657.87 | O67: 6184.2 | P67: 3710.52 | Q67: 488.77 | R67: 2100 | S67: 200 | T67: 91 | U67: =(E67*L67+F67*M67+G67*N67+H67*O67+I67*P67)+Q67*J67+R67*J67+S67*(E67+F67+G67+H67+I67) -> 0 | V67: =U67*T67/100 -> 0
A68: 67 | B68: Гатчинский район | C68: Елизаветинское сельское поселение | D68: 2024 | K68: =E68+F68+G68+H68+I68 -> 0 | L68: 12368.39 | M68: 11131.55 | N68: 8657.87 | O68: 6184.2 | P68: 3710.52 | Q68: 488.77 | R68: 2100 | S68: 200 | T68: 91 | U68: =(E68*L68+F68*M68+G68*N68+H68*O68+I68*P68)+Q68*J68+R68*J68+S68*(E68+F68+G68+H68+I68) -> 0 | V68: =U68*T68/100 -> 0
A69: 68 | B69: Гатчинский район | C69: Кобринское сельское поселение | D69: 2024 | K69: =E69+F69+G69+H69+I69 -> 0 | L69: 12368.39 | M69: 11131.55 | N69: 8657.87 | O69: 6184.2 | P69: 3710.52 | Q69: 488.77 | R69: 2100 | S69: 200 | T69: 91 | U69: =(E69*L69+F69*M69+G69*N69+H69*O69+I69*P69)+Q69*J69+R69*J69+S69*(E69+F69+G69+H69+I69) -> 0 | V69: =U69*T69/100 -> 0
A70: 69 | B70: Гатчинский район | C70: Коммунарское городское поселение | D70: 2024 | E70: 30 | F70: 25 | G70: 15 | H70: 25 | I70: 25 | J70: 1 | K70: =E70+F70+G70+H70+I70 -> 120 | L70: 12368.39 | M70: 11131.55 | N70: 8657.87 | O70: 6184.2 | P70: 3710.52 | Q70: 488.77 | R70: 2100 | S70: 200 | T70: 89 | U70: =(E70*L70+F70*M70+G70*N70+H70*O70+I70*P70)+Q70*J70+R70*J70+S70*(E70+F70+G70+H70+I70) -> 1053165.3 | V70: =U70*T70/100 -> 937317.09
A71: 70 | B71: Гатчинский район | C71: Новосветское сельское поселение | D71: 2024 | K71: =E71+F71+G71+H71+I71 -> 0 | L71: 12368.39 | M71: 11131.55 | N71: 8657.87 | O71: 6184.2 | P71: 3710.52 | Q71: 488.77 | R71: 2100 | S71: 200 | T71: 91 | U71: =(E71*L71+F71*M71+G71*N71+H71*O71+I71*P71)+Q71*J71+R71*J71+S71*(E71+F71+G71+H71+I71) -> 0 | V71: =U71*T71/100 -> 0
A72: 71 | B72: Гатчинский район | C72: Пудомягское сельское поселение | D72: 2024 | K72: =E72+F72+G72+H72+I72 -> 0 | L72: 12368.39 | M72: 11131.55 | N72: 8657.87 | O72: 6184.2 | P72: 3710.52 | Q72: 488.77 | R72: 2100 | S72: 200 | T72: 91 | U72: =(E72*L72+F72*M72+G72*N72+H72*O72+I72*P72)+Q72*J72+R72*J72+S72*(E72+F72+G72+H72+I72) -> 0 | V72: =U72*T72/100 -> 0
A73: 72 | B73: Гатчинский район | C73: Пудостьское сельское поселение | D73: 2024 | K73: =E73+F73+G73+H73+I73 -> 0 | L73: 12368.39 | M73: 11131.55 | N73: 8657.87 | O73: 6184.2 | P73: 3710.52 | Q73: 488.77 | R73: 2100 | S73: 200 | T73: 91 | U73: =(E73*L73+F73*M73+G73*N73+H73*O73+I73*P73)+Q73*J73+R73*J73+S73*(E73+F73+G73+H73+I73) -> 0 | V73: =U73*T73/100 -> 0
A74: 73 | B74: Гатчинский район | C74: Рождественское сельское поселение | D74: 2024 | K74: =E74+F74+G74+H74+I74 -> 0 | L74: 12368.39 | M74: 11131.55 | N74: 8657.87 | O74: 6184.2 | P74: 3710.52 | Q74: 488.77 | R74: 2100 | S74: 200 | T74: 90 | U74: =(E74*L74+F74*M74+G74*N74+H74*O74+I74*P74)+Q74*J74+R74*J74+S74*(E74+F74+G74+H74+I74) -> 0 | V74: =U74*T74/100 -> 0
A75: 74 | B75: Гатчинский район | C75: Сиверское городское поселение | D75: 2024 | K75: =E75+F75+G75+H75+I75 -> 0 | L75: 12368.39 | M75: 11131.55 | N75: 8657.87 | O75: 6184.2 | P75: 3710.52 | Q75: 488.77 | R75: 2100 | S75: 200 | T75: 90 | U75: =(E75*L75+F75*M75+G75*N75+H75*O75+I75*P75)+Q75*J75+R75*J75+S75*(E75+F75+G75+H75+I75) -> 0 | V75: =U75*T75/100 -> 0
A76: 75 | B76: Гатчинский район | C76: Сусанинское сельское поселение | D76: 2024 | K76: =E76+F76+G76+H76+I76 -> 0 | L76: 12368.39 | M76: 11131.55 | N76: 8657.87 | O76: 6184.2 | P76: 3710.52 | Q76: 488.77 | R76: 2100 | S76: 200 | T76: 86 | U76: =(E76*L76+F76*M76+G76*N76+H76*O76+I76*P76)+Q76*J76+R76*J76+S76*(E76+F76+G76+H76+I76) -> 0 | V76: =U76*T76/100 -> 0
A77: 76 | B77: Гатчинский район | C77: Сяськелевское сельское поселение | D77: 2024 | E77: 0 | F77: 0 | G77: 0 | H77: 0 | I77: 0 | J77: 1 | K77: =E77+F77+G77+H77+I77 -> 0 | L77: 12368.39 | M77: 11131.55 | N77: 8657.87 | O77: 6184.2 | P77: 3710.52 | Q77: 488.77 | R77: 2100 | S77: 200 | T77: 90 | U77: =(E77*L77+F77*M77+G77*N77+H77*O77+I77*P77)+Q77*J77+R77*J77+S77*(E77+F77+G77+H77+I77) -> 2588.77 | V77: =U77*T77/100 -> 2329.893
A78: 77 | B78: Гатчинский район | C78: Таицкое городское поселение | D78: 2024 | K78: =E78+F78+G78+H78+I78 -> 0 | L78: 12368.39 | M78: 11131.55 | N78: 8657.87 | O78: 6184.2 | P78: 3710.52 | Q78: 488.77 | R78: 2100 | S78: 200 | T78: 90 | U78: =(E78*L78+F78*M78+G78*N78+H78*O78+I78*P78)+Q78*J78+R78*J78+S78*(E78+F78+G78+H78+I78) -> 0 | V78: =U78*T78/100 -> 0
A79: 78 | B79: Кингисеппский район | C79: Большелуцкое сельское поселение | D79: 2024 | K79: =E79+F79+G79+H79+I79 -> 0 | L79: 12368.39 | M79: 11131.55 | N79: 8657.87 | O79: 6184.2 | P79: 3710.52 | Q79: 488.77 | R79: 2100 | S79: 200 | T79: 71 | U79: =(E79*L79+F79*M79+G79*N79+H79*O79+I79*P79)+Q79*J79+R79*J79+S79*(E79+F79+G79+H79+I79) -> 0 | V79: =U79*T79/100 -> 0
A80: 79 | B80: Кингисеппский район | C80: Вистинское сельское поселение | D80: 2024 | K80: =E80+F80+G80+H80+I80 -> 0 | L80: 12368.39 | M80: 11131.55 | N80: 8657.87 | O80: 6184.2 | P80: 3710.52 | Q80: 488.77 | R80: 2100 | S80: 200 | T80: 71 | U80: =(E80*L80+F80*M80+G80*N80+H80*O80+I80*P80)+Q80*J80+R80*J80+S80*(E80+F80+G80+H80+I80) -> 0 | V80: =U80*T80/100 -> 0
A81: 80 | B81: Кингисеппский район | C81: Ивангородское городское поселение | D81: 2024 | K81: =E81+F81+G81+H81+I81 -> 0 | L81: 12368.39 | M81: 11131.55 | N81: 8657.87 | O81: 6184.2 | P81: 3710.52 | Q81: 488.77 | R81: 2100 | S81: 200 | T81: 90 | U81: =(E81*L81+F81*M81+G81*N81+H81*O81+I81*P81)+Q81*J81+R81*J81+S81*(E81+F81+G81+H81+I81) -> 0 | V81: =U81*T81/100 -> 0
A82: 81 | B82: Кингисеппский район | C82: Кингисеппское городское поселение | D82: 2024 | K82: =E82+F82+G82+H82+I82 -> 0 | L82: 12368.39 | M82: 11131.55 | N82: 8657.87 | O82: 6184.2 | P82: 3710.52 | Q82: 488.77 | R82: 2100 | S82: 200 | T82: 93 | U82: =(E82*L82+F82*M82+G82*N82+H82*O82+I82*P82)+Q82*J82+R82*J82+S82*(E82+F82+G82+H82+I82) -> 0 | V82: =U82*T82/100 -> 0
A83: 82 | B83: Кингисеппский район | C83: Котельское сельское поселение | D83: 2024 | K83: =E83+F83+G83+H83+I83 -> 0 | L83: 12368.39 | M83: 11131.55 | N83: 8657.87 | O83: 6184.2 | P83: 3710.52 | Q83: 488.77 | R83: 2100 | S83: 200 | T83: 88 | U83: =(E83*L83+F83*M83+G83*N83+H83*O83+I83*P83)+Q83*J83+R83*J83+S83*(E83+F83+G83+H83+I83) -> 0 | V83: =U83*T83/100 -> 0
A84: 83 | B84: Кингисеппский район | C84: Кузёмкинское сельское поселение | D84: 2024 | H84: 39.19 | J84: 7 | K84: =E84+F84+G84+H84+I84 -> 39.19 | L84: 12368.39 | M84: 11131.55 | N84: 8657.87 | O84: 6184.2 | P84: 3710.52 | Q84: 488.77 | R84: 2100 | S84: 200 | T84: 79 | U84: =(E84*L84+F84*M84+G84*N84+H84*O84+I84*P84)+Q84*J84+R84*J84+S84*(E84+F84+G84+H84+I84) -> 268318.19 | V84: =U84*T84/100 -> 211971.37
A85: 84 | B85: Кингисеппский район | C85: Нежновское сельское поселение | D85: 2024 | G85: 47.136 | J85: 16 | K85: =E85+F85+G85+H85+I85 -> 47.136 | L85: 12368.39 | M85: 11131.55 | N85: 8657.87 | O85: 6184.2 | P85: 3710.52 | Q85: 488.77 | R85: 2100 | S85: 200 | T85: 88 | U85: =(E85*L85+F85*M85+G85*N85+H85*O85+I85*P85)+Q85*J85+R85*J85+S85*(E85+F85+G85+H85+I85) -> 458944.88 | V85: =U85*T85/100 -> 403871.49
A86: 85 | B86: Кингисеппский район | C86: Опольевское сельское поселение | D86: 2024 | K86: =E86+F86+G86+H86+I86 -> 0 | L86: 12368.39 | M86: 11131.55 | N86: 8657.87 | O86: 6184.2 | P86: 3710.52 | Q86: 488.77 | R86: 2100 | S86: 200 | T86: 88 | U86: =(E86*L86+F86*M86+G86*N86+H86*O86+I86*P86)+Q86*J86+R86*J86+S86*(E86+F86+G86+H86+I86) -> 0 | V86: =U86*T86/100 -> 0
A87: 86 | B87: Кингисеппский район | C87: Пустомержское сельское поселение | D87: 2024 | K87: =E87+F87+G87+H87+I87 -> 0 | L87: 12368.39 | M87: 11131.55 | N87: 8657.87 | O87: 6184.2 | P87: 3710.52 | Q87: 488.77 | R87: 2100 | S87: 200 | T87: 90 | U87: =(E87*L87+F87*M87+G87*N87+H87*O87+I87*P87)+Q87*J87+R87*J87+S87*(E87+F87+G87+H87+I87) -> 0 | V87: =U87*T87/100 -> 0
A88: 87 | B88: Кингисеппский район | C88: Усть-Лужское сельское поселение | D88: 2024 | K88: =E88+F88+G88+H88+I88 -> 0 | L88: 12368.39 | M88: 11131.55 | N88: 8657.87 | O88: 6184.2 | P88: 3710.52 | Q88: 488.77 | R88: 2100 | S88: 200 | T88: 85 | U88: =(E88*L88+F88*M88+G88*N88+H88*O88+I88*P88)+Q88*J88+R88*J88+S88*(E88+F88+G88+H88+I88) -> 0 | V88: =U88*T88/100 -> 0
A89: 88 | B89: Кингисеппский район | C89: Фалилеевское сельское поселение | D89: 2024 | K89: =E89+F89+G89+H89+I89 -> 0 | L89: 12368.39 | M89: 11131.55 | N89: 8657.87 | O89: 6184.2 | P89: 3710.52 | Q89: 488.77 | R89: 2100 | S89: 200 | T89: 90 | U89: =(E89*L89+F89*M89+G89*N89+H89*O89+I89*P89)+Q89*J89+R89*J89+S89*(E89+F89+G89+H89+I89) -> 0 | V89: =U89*T89/100 -> 0
A90: 89 | B90: Киришский район | C90: Будогощское городское поселение | D90: 2024 | K90: =E90+F90+G90+H90+I90 -> 0 | L90: 12368.39 | M90: 11131.55 | N90: 8657.87 | O90: 6184.2 | P90: 3710.52 | Q90: 488.77 | R90: 2100 | S90: 200 | T90: 85 | U90: =(E90*L90+F90*M90+G90*N90+H90*O90+I90*P90)+Q90*J90+R90*J90+S90*(E90+F90+G90+H90+I90) -> 0 | V90: =U90*T90/100 -> 0
A91: 90 | B91: Киришский район | C91: Глажевское сельское поселение | D91: 2024 | K91: =E91+F91+G91+H91+I91 -> 0 | L91: 12368.39 | M91: 11131.55 | N91: 8657.87 | O91: 6184.2 | P91: 3710.52 | Q91: 488.77 | R91: 2100 | S91: 200 | T91: 89 | U91: =(E91*L91+F91*M91+G91*N91+H91*O91+I91*P91)+Q91*J91+R91*J91+S91*(E91+F91+G91+H91+I91) -> 0 | V91: =U91*T91/100 -> 0
A92: 91 | B92: Киришский район | C92: Киришское городское поселение | D92: 2024 | K92: =E92+F92+G92+H92+I92 -> 0 | L92: 12368.39 | M92: 11131.55 | N92: 8657.87 | O92: 6184.2 | P92: 3710.52 | Q92: 488.77 | R92: 2100 | S92: 200 | T92: 84 | U92: =(E92*L92+F92*M92+G92*N92+H92*O92+I92*P92)+Q92*J92+R92*J92+S92*(E92+F92+G92+H92+I92) -> 0 | V92: =U92*T92/100 -> 0
A93: 92 | B93: Киришский район | C93: Кусинское сельское поселение | D93: 2024 | K93: =E93+F93+G93+H93+I93 -> 0 | L93: 12368.39 | M93: 11131.55 | N93: 8657.87 | O93: 6184.2 | P93: 3710.52 | Q93: 488.77 | R93: 2100 | S93: 200 | T93: 87 | U93: =(E93*L93+F93*M93+G93*N93+H93*O93+I93*P93)+Q93*J93+R93*J93+S93*(E93+F93+G93+H93+I93) -> 0 | V93: =U93*T93/100 -> 0
A94: 93 | B94: Киришский район | C94: Пчёвжинское сельское поселение | D94: 2024 | K94: =E94+F94+G94+H94+I94 -> 0 | L94: 12368.39 | M94: 11131.55 | N94: 8657.87 | O94: 6184.2 | P94: 3710.52 | Q94: 488.77 | R94: 2100 | S94: 200 | T94: 85 | U94: =(E94*L94+F94*M94+G94*N94+H94*O94+I94*P94)+Q94*J94+R94*J94+S94*(E94+F94+G94+H94+I94) -> 0 | V94: =U94*T94/100 -> 0
A95: 94 | B95: Киришский район | C95: Пчевское сельское поселение | D95: 2024 | K95: =E95+F95+G95+H95+I95 -> 0 | L95: 12368.39 | M95: 11131.55 | N95: 8657.87 | O95: 6184.2 | P95: 3710.52 | Q95: 488.77 | R95: 2100 | S95: 200 | T95: 89 | U95: =(E95*L95+F95*M95+G95*N95+H95*O95+I95*P95)+Q95*J95+R95*J95+S95*(E95+F95+G95+H95+I95) -> 0 | V95: =U95*T95/100 -> 0
A96: 95 | B96: Кировский район | C96: Кировское городское поселение | D96: 2024 | K96: =E96+F96+G96+H96+I96 -> 0 | L96: 12368.39 | M96: 11131.55 | N96: 8657.87 | O96: 6184.2 | P96: 3710.52 | Q96: 488.77 | R96: 2100 | S96: 200 | T96: 91 | U96: =(E96*L96+F96*M96+G96*N96+H96*O96+I96*P96)+Q96*J96+R96*J96+S96*(E96+F96+G96+H96+I96) -> 0 | V96: =U96*T96/100 -> 0
A97: 96 | B97: Кировский район | C97: Мгинское городское поселение | D97: 2024 | K97: =E97+F97+G97+H97+I97 -> 0 | L97: 12368.39 | M97: 11131.55 | N97: 8657.87 | O97: 6184.2 | P97: 3710.52 | Q97: 488.77 | R97: 2100 | S97: 200 | T97: 90 | U97: =(E97*L97+F97*M97+G97*N97+H97*O97+I97*P97)+Q97*J97+R97*J97+S97*(E97+F97+G97+H97+I97) -> 0 | V97: =U97*T97/100 -> 0
... A116: 115 | B116: Ломоносовский район | C116: Гостилицкое сельское поселение | D116: 2024 | K116: =E116+F116+G116+H116+I116 -> 0 | L116: 12368.39 | M116: 11131.55 | N116: 8657.87 | O116: 6184.2 | P116: 3710.52 | Q116: 488.77 | R116: 2100 | S116: 200 | T116: 90 | U116: =(E116*L116+F116*M116+G116*N116+H116*O116+I116*P116)+Q116*J116+R116*J116+S116*(E116+F116+G116+H116+I116) -> 0 | V116: =U116*T116/100 -> 0
A117: 116 | B117: Ломоносовский район | C117: Кипенское сельское поселение | D117: 2024 | E117: 2.8 | F117: 14.71 | H117: 1.2 | J117: 5 | K117: =E117+F117+G117+H117+I117 -> 18.71 | L117: 12368.39 | M117: 11131.55 | N117: 8657.87 | O117: 6184.2 | P117: 3710.52 | Q117: 488.77 | R117: 2100 | S117: 200 | T117: 90 | U117: =(E117*L117+F117*M117+G117*N117+H117*O117+I117*P117)+Q117*J117+R117*J117+S117*(E117+F117+G117+H117+I117) -> 222483.48 | V117: =U117*T117/100 -> 200235.13
A118: 117 | B118: Ломоносовский район | C118: Копорское сельское поселение | D118: 2024 | K118: =E118+F118+G118+H118+I118 -> 0 | L118: 12368.39 | M118: 11131.55 | N118: 8657.87 | O118: 6184.2 | P118: 3710.52 | Q118: 488.77 | R118: 2100 | S118: 200 | T118: 91 | U118: =(E118*L118+F118*M118+G118*N118+H118*O118+I118*P118)+Q118*J118+R118*J118+S118*(E118+F118+G118+H118+I118) -> 0 | V118: =U118*T118/100 -> 0
...

Sheet Итого отбор 2024-2026
A1: № п/п | B1: Муниципальный район | C1: Муниципальное образование | D1: Год субсидирования | E1: площадь обработки 1 года, га | F1: площадь обработки 2 года, га | G1: площадь обработки 3 года, га | H1: площадь обработки 4 года, га | I1: площадь обработки 5 года, га | J1: Количество населенных пунктов, шт. | K1: Общая площадь обработки, га | L1: Стоимость обработки 1 года, руб./га | M1: Стоимость обработки 2 года, руб./га | N1: Стоимость обработки 3 года, руб./га | O1: Стоимость обработки 4 года, руб./га | P1: Стоимость обработки 5 года, руб./га | Q1: Стоимость отбора образцов, руб./нас. пункт | R1: Стоимость анализа образцов, руб./нас. пункт | S1: Стоимость оценки эффективности, руб./га | T1: Уровень софинансирования, % | U1: Итого размер субсидии, руб. | V1: Итого размер средств областного бюджета, руб.
A2: 1 | B2: Бокситогорский район | C2: Бокситогорское городское поселение | D2: 2024 | E2: ='Отбор 2024-2026'!E2+'Доп отбор 2024-2026 '!E2 -> 0 | F2: ='Отбор 2024-2026'!F2+'Доп отбор 2024-2026 '!F2 -> 2.42 | G2: ='Отбор 2024-2026'!G2+'Доп отбор 2024-2026 '!G2 -> 3.19 | H2: ='Отбор 2024-2026'!H2+'Доп отбор 2024-2026 '!H2 -> 4.1 | I2: ='Отбор 2024-2026'!I2+'Доп отбор 2024-2026 '!I2 -> 0 | J2: ='Отбор 2024-2026'!J2+'Доп отбор 2024-2026 '!J2 -> 4 | K2: =E2+F2+G2+H2+I2 -> 9.71 | L2: 12368.39 | M2: 11131.55 | N2: 8657.87 | O2: 6184.2 | P2: 3710.52 | Q2: 488.77 | R2: 2100 | S2: 200 | T2: 89 | U2: =(E2*L2+F2*M2+G2*N2+H2*O2+I2*P2)+Q2*J2+R2*J2+S2*(E2+F2+G2+H2+I2) -> 92209.256 | V2: =U2*T2/100 -> 82066.238
A3: 2 | B3: Бокситогорский район | C3: Большедворское сельское поселение | D3: 2024 | E3: ='Отбор 2024-2026'!E3+'Доп отбор 2024-2026 '!E3 -> 0 | F3: ='Отбор 2024-2026'!F3+'Доп отбор 2024-2026 '!F3 -> 17.5 | G3: ='Отбор 2024-2026'!G3+'Доп отбор 2024-2026 '!G3 -> 18.7 | H3: ='Отбор 2024-2026'!H3+'Доп отбор 2024-2026 '!H3 -> 20 | I3: ='Отбор 2024-2026'!I3+'Доп отбор 2024-2026 '!I3 -> 0 | J3: ='Отбор 2024-2026'!J3+'Доп отбор 2024-2026 '!J3 -> 7 | K3: =E3+F3+G3+H3+I3 -> 56.2 | L3: 12368.39 | M3: 11131.55 | N3: 8657.87 | O3: 6184.2 | P3: 3710.52 | Q3: 488.77 | R3: 2100 | S3: 200 | T3: 88 | U3: =(E3*L3+F3*M3+G3*N3+H3*O3+I3*P3)+Q3*J3+R3*J3+S3*(E3+F3+G3+H3+I3) -> 509749.68 | V3: =U3*T3/100 -> 448579.72
A4: 3 | B4: Бокситогорский район | C4: Борское сельское поселение | D4: 2024 | E4: ='Отбор 2024-2026'!E4+'Доп отбор 2024-2026 '!E4 -> 6 | F4: ='Отбор 2024-2026'!F4+'Доп отбор 2024-2026 '!F4 -> 5.002318 | G4: ='Отбор 2024-2026'!G4+'Доп отбор 2024-2026 '!G4 -> 32.997682 | H4: ='Отбор 2024-2026'!H4+'Доп отбор 2024-2026 '!H4 -> 0 | I4: ='Отбор 2024-2026'!I4+'Доп отбор 2024-2026 '!I4 -> 8 | J4: ='Отбор 2024-2026'!J4+'Доп отбор 2024-2026 '!J4 -> 11 | K4: =E4+F4+G4+H4+I4 -> 52 | L4: 12368.39 | M4: 11131.55 | N4: 8657.87 | O4: 6184.2 | P4: 3710.52 | Q4: 488.77 | R4: 2100 | S4: 200 | T4: 89 | U4: =(E4*L4+F4*M4+G4*N4+H4*O4+I4*P4)+Q4*J4+R4*J4+S4*(E4+F4+G4+H4+I4) -> 484144.16 | V4: =U4*T4/100 -> 430888.31
A5: 4 | B5: Бокситогорский район | C5: Ефимовское городское поселение | D5: 2024 | E5: ='Отбор 2024-2026'!E5+'Доп отбор 2024-2026 '!E5 -> 3.5 | F5: ='Отбор 2024-2026'!F5+'Доп отбор 2024-2026 '!F5 -> 0 | G5: ='Отбор 2024-2026'!G5+'Доп отбор 2024-2026 '!G5 -> 0 | H5: ='Отбор 2024-2026'!H5+'Доп отбор 2024-2026 '!H5 -> 0 | I5: ='Отбор 2024-2026'!I5+'Доп отбор 2024-2026 '!I5 -> 7 | J5: ='Отбор 2024-2026'!J5+'Доп отбор 2024-2026 '!J5 -> 4 | K5: =E5+F5+G5+H5+I5 -> 10.5 | L5: 12368.39 | M5: 11131.55 | N5: 8657.87 | O5: 6184.2 | P5: 3710.52 | Q5: 488.77 | R5: 2100 | S5: 200 | T5: 89 | U5: =(E5*L5+F5*M5+G5*N5+H5*O5+I5*P5)+Q5*J5+R5*J5+S5*(E5+F5+G5+H5+I5) -> 81718.085 | V5: =U5*T5/100 -> 72729.096
A6: 5 | B6: Бокситогорский район | C6: Лидское сельское поселение | D6: 2024 | E6: ='Отбор 2024-2026'!E6+'Доп отбор 2024-2026 '!E6 -> 0 | F6: ='Отбор 2024-2026'!F6+'Доп отбор 2024-2026 '!F6 -> 0 | G6: ='Отбор 2024-2026'!G6+'Доп отбор 2024-2026 '!G6 -> 0 | H6: ='Отбор 2024-2026'!H6+'Доп отбор 2024-2026 '!H6 -> 0 | I6: ='Отбор 2024-2026'!I6+'Доп отбор 2024-2026 '!I6 -> 0 | J6: ='Отбор 2024-2026'!J6+'Доп отбор 2024-2026 '!J6 -> 0 | K6: =E6+F6+G6+H6+I6 -> 0 | L6: 12368.39 | M6: 11131.55 | N6: 8657.87 | O6: 6184.2 | P6: 3710.52 | Q6: 488.77 | R6: 2100 | S6: 200 | T6: 86 | U6: =(E6*L6+F6*M6+G6*N6+H6*O6+I6*P6)+Q6*J6+R6*J6+S6*(E6+F6+G6+H6+I6) -> 0 | V6: =U6*T6/100 -> 0
A7: 6 | B7: Бокситогорский район | C7: Пикалёвское городское поселение | D7: 2024 | E7: ='Отбор 2024-2026'!E7+'Доп отбор 2024-2026 '!E7 -> 0 | F7: ='Отбор 2024-2026'!F7+'Доп отбор 2024-2026 '!F7 -> 0 | G7: ='Отбор 2024-2026'!G7+'Доп отбор 2024-2026 '!G7 -> 0 | H7: ='Отбор 2024-2026'!H7+'Доп отбор 2024-2026 '!H7 -> 0 | I7: ='Отбор 2024-2026'!I7+'Доп отбор 2024-2026 '!I7 -> 0 | J7: ='Отбор 2024-2026'!J7+'Доп отбор 2024-2026 '!J7 -> 0 | K7: =E7+F7+G7+H7+I7 -> 0 | L7: 12368.39 | M7: 11131.55 | N7: 8657.87 | O7: 6184.2 | P7: 3710.52 | Q7: 488.77 | R7: 2100 | S7: 200 | T7: 89 | U7: =(E7*L7+F7*M7+G7*N7+H7*O7+I7*P7)+Q7*J7+R7*J7+S7*(E7+F7+G7+H7+I7) -> 0 | V7: =U7*T7/100 -> 0
A8: 7 | B8: Бокситогорский район | C8: Самойловское сельское поселение | D8: 2024 | E8: ='Отбор 2024-2026'!E8+'Доп отбор 2024-2026 '!E8 -> 0 | F8: ='Отбор 2024-2026'!F8+'Доп отбор 2024-2026 '!F8 -> 45.52 | G8: ='Отбор 2024-2026'!G8+'Доп отбор 2024-2026 '!G8 -> 29.3 | H8: ='Отбор 2024-2026'!H8+'Доп отбор 2024-2026 '!H8 -> 68.7 | I8: ='Отбор 2024-2026'!I8+'Доп отбор 2024-2026 '!I8 -> 0 | J8: ='Отбор 2024-2026'!J8+'Доп отбор 2024-2026 '!J8 -> 15 | K8: =E8+F8+G8+H8+I8 -> 143.52 | L8: 12368.39 | M8: 11131.55 | N8: 8657.87 | O8: 6184.2 | P8: 3710.52 | Q8: 488.77 | R8: 2100 | S8: 200 | T8: 83 | U8: =(E8*L8+F8*M8+G8*N8+H8*O8+I8*P8)+Q8*J8+R8*J8+S8*(E8+F8+G8+H8+I8) -> 1252773.8 | V8: =U8*T8/100 -> 1039802.3
A9: 8 | B9: Волосовский район | C9: Бегуницкое сельское поселение | D9: 2024 | E9: ='Отбор 2024-2026'!E9+'Доп отбор 2024-2026 '!E9 -> 5 | F9: ='Отбор 2024-2026'!F9+'Доп отбор 2024-2026 '!F9 -> 5 | G9: ='Отбор 2024-2026'!G9+'Доп отбор 2024-2026 '!G9 -> 32 | H9: ='Отбор 2024-2026'!H9+'Доп отбор 2024-2026 '!H9 -> 73 | I9: ='Отбор 2024-2026'!I9+'Доп отбор 2024-2026 '!I9 -> 20 | J9: ='Отбор 2024-2026'!J9+'Доп отбор 2024-2026 '!J9 -> 27 | K9: =E9+F9+G9+H9+I9 -> 135 | L9: 12368.39 | M9: 11131.55 | N9: 8657.87 | O9: 6184.2 | P9: 3710.52 | Q9: 488.77 | R9: 2100 | S9: 200 | T9: 91 | U9: =(E9*L9+F9*M9+G9*N9+H9*O9+I9*P9)+Q9*J9+R9*J9+S9*(E9+F9+G9+H9+I9) -> 1017105.3 | V9: =U9*T9/100 -> 925565.85
A10: 9 | B10: Волосовский район | C10: Большеврудское сельское поселение | D10: 2024 | E10: ='Отбор 2024-2026'!E10+'Доп отбор 2024-2026 '!E10 -> 20 | F10: ='Отбор 2024-2026'!F10+'Доп отбор 2024-2026 '!F10 -> 57.5 | G10: ='Отбор 2024-2026'!G10+'Доп отбор 2024-2026 '!G10 -> 21.5 | H10: ='Отбор 2024-2026'!H10+'Доп отбор 2024-2026 '!H10 -> 64 | I10: ='Отбор 2024-2026'!I10+'Доп отбор 2024-2026 '!I10 -> 44.5 | J10: ='Отбор 2024-2026'!J10+'Доп отбор 2024-2026 '!J10 -> 32 | K10: =E10+F10+G10+H10+I10 -> 207.5 | L10: 12368.39 | M10: 11131.55 | N10: 8657.87 | O10: 6184.2 | P10: 3710.52 | Q10: 488.77 | R10: 2100 | S10: 200 | T10: 91 | U10: =(E10*L10+F10*M10+G10*N10+H10*O10+I10*P10)+Q10*J10+R10*J10+S10*(E10+F10+G10+H10+I10) -> 1758823.7 | V10: =U10*T10/100 -> 1600529.6
A11: 10 | B11: Волосовский район | C11: Волосовское городское поселение | D11: 2024 | E11: ='Отбор 2024-2026'!E11+'Доп отбор 2024-2026 '!E11 -> 0 | F11: ='Отбор 2024-2026'!F11+'Доп отбор 2024-2026 '!F11 -> 170 | G11: ='Отбор 2024-2026'!G11+'Доп отбор 2024-2026 '!G11 -> 64.69 | H11: ='Отбор 2024-2026'!H11+'Доп отбор 2024-2026 '!H11 -> 0 | I11: ='Отбор 2024-2026'!I11+'Доп отбор 2024-2026 '!I11 -> 0 | J11: ='Отбор 2024-2026'!J11+'Доп отбор 2024-2026 '!J11 -> 2 | K11: =E11+F11+G11+H11+I11 -> 234.69 | L11: 12368.39 | M11: 11131.55 | N11: 8657.87 | O11: 6184.2 | P11: 3710.52 | Q11: 488.77 | R11: 2100 | S11: 200 | T11: 89 | U11: =(E11*L11+F11*M11+G11*N11+H11*O11+I11*P11)+Q11*J11+R11*J11+S11*(E11+F11+G11+H11+I11) -> 2504556.7 | V11: =U11*T11/100 -> 2229055.4
A12: 11 | B12: Волосовский район | C12: Калитинское сельское поселение | D12: 2024 | E12: ='Отбор 2024-2026'!E12+'Доп отбор 2024-2026 '!E12 -> 25.2 | F12: ='Отбор 2024-2026'!F12+'Доп отбор 2024-2026 '!F12 -> 15 | G12: ='Отбор 2024-2026'!G12+'Доп отбор 2024-2026 '!G12 -> 30.9 | H12: ='Отбор 2024-2026'!H12+'Доп отбор 2024-2026 '!H12 -> 36.4 | I12: ='Отбор 2024-2026'!I12+'Доп отбор 2024-2026 '!I12 -> 0 | J12: ='Отбор 2024-2026'!J12+'Доп отбор 2024-2026 '!J12 -> 21 | K12: =E12+F12+G12+H12+I12 -> 107.5 | L12: 12368.39 | M12: 11131.55 | N12: 8657.87 | O12: 6184.2 | P12: 3710.52 | Q12: 488.77 | R12: 2100 | S12: 200 | T12: 91 | U12: =(E12*L12+F12*M12+G12*N12+H12*O12+I12*P12)+Q12*J12+R12*J12+S12*(E12+F12+G12+H12+I12) -> 1047153.9 | V12: =U12*T12/100 -> 952910.06
A13: 12 | B13: Волосовский район | C13: Клопицкое сельское поселение | D13: 2024 | E13: ='Отбор 2024-2026'!E13+'Доп отбор 2024-2026 '!E13 -> 10.2 | F13: ='Отбор 2024-2026'!F13+'Доп отбор 2024-2026 '!F13 -> 0 | G13: ='Отбор 2024-2026'!G13+'Доп отбор 2024-2026 '!G13 -> 0 | H13: ='Отбор 2024-2026'!H13+'Доп отбор 2024-2026 '!H13 -> 57.4 | I13: ='Отбор 2024-2026'!I13+'Доп отбор 2024-2026 '!I13 -> 0 | J13: ='Отбор 2024-2026'!J13+'Доп отбор 2024-2026 '!J13 -> 14 | K13: =E13+F13+G13+H13+I13 -> 67.6 | L13: 12368.39 | M13: 11131.55 | N13: 8657.87 | O13: 6184.2 | P13: 3710.52 | Q13: 488.77 | R13: 2100 | S13: 200 | T13: 92 | U13: =(E13*L13+F13*M13+G13*N13+H13*O13+I13*P13)+Q13*J13+R13*J13+S13*(E13+F13+G13+H13+I13) -> 530893.44 | V13: =U13*T13/100 -> 488421.96
... A565: 188 | B565: Тосненский район | C565: Шапкинское сельское поселение | D565: 2026 | E565: ='Отбор 2024-2026'!E565+'Доп отбор 2024-2026 '!E565 -> 0 | F565: ='Отбор 2024-2026'!F565+'Доп отбор 2024-2026 '!F565 -> 0 | G565: ='Отбор 2024-2026'!G565+'Доп отбор 2024-2026 '!G565 -> 0 | H565: ='Отбор 2024-2026'!H565+'Доп отбор 2024-2026 '!H565 -> 0 | I565: ='Отбор 2024-2026'!I565+'Доп отбор 2024-2026 '!I565 -> 0 | J565: ='Отбор 2024-2026'!J565+'Доп отбор 2024-2026 '!J565 -> 0 | K565: =E565+F565+G565+H565+I565 -> 0 | L565: 12368.39 | M565: 11131.55 | N565: 8657.87 | O565: 6184.2 | P565: 3710.52 | Q565: 488.77 | R565: 2100 | S565: 200 | T565: 87 | U565: =(E565*L565+F565*M565+G565*N565+H565*O565+I565*P565)+Q565*J565+R565*J565+S565*(E565+F565+G565+H565+I565) -> 0 | V565: =U565*T565/100 -> 0
A566: ИТОГО 2024 год | E566: =SUM(E2:E189) -> 800.59 | F566: =SUM(F2:F189) -> 1152.2096 | G566: =SUM(G2:G189) -> 1336.1037 | H566: =SUM(H2:H189) -> 1618.12 | I566: =SUM(I2:I189) -> 629.14 | J566: =SUM(J2:J189) -> 834 | K566: =SUM(K2:K189) -> 5536.1633 | U566: =SUM(U2:U189) -> 49903181 | V566: =SUM(V2:V189) -> 44209681
A567: ИТОГО 2025 год | E567: =SUM(E190:E377) -> 347.92 | F567: =SUM(F190:F377) -> 794.59 | G567: =SUM(G190:G377) -> 1215.7196 | H567: =SUM(H190:H377) -> 1315.5037 | I567: =SUM(I190:I377) -> 1603.82 | J567: =SUM(J190:J377) -> 810 | K567: =SUM(K190:K377) -> 5277.5533 | U567: =SUM(U190:U377) -> 40912529 | V567: =SUM(V190:V377) -> 36355483
A568: ИТОГО 2026 год | E568: =SUM(E378:E565) -> 511.6 | F568: =SUM(F378:F565) -> 335.92 | G568: =SUM(G378:G565) -> 755.48 | H568: =SUM(H378:H565) -> 1097.6306 | I568: =SUM(I378:I565) -> 1214.0137 | J568: =SUM(J378:J565) -> 667 | K568: =SUM(K378:K565) -> 3914.6443 | U568: =SUM(U378:U565) -> 30410054 | V568: =SUM(V378:V565) -> 27132348

Sheet Отбор 2025-2027
A1: № п/п | B1: Муниципальный район | C1: Муниципальное образование | D1: Год субсидирования | E1: площадь обработки 1 года, га | F1: площадь обработки 2 года, га | G1: площадь обработки 3 года, га | H1: площадь обработки 4 года, га | I1: площадь обработки 5 года, га | J1: Количество населенных пунктов, шт. | K1: Общая площадь обработки, га | L1: Стоимость обработки 1 года, руб./га | M1: Стоимость обработки 2 года, руб./га | N1: Стоимость обработки 3 года, руб./га | O1: Стоимость обработки 4 года, руб./га | P1: Стоимость обработки 5 года, руб./га | Q1: Стоимость отбора образцов, руб./нас. пункт | R1: Стоимость анализа образцов, руб./нас. пункт | S1: Стоимость оценки эффективности, руб./га | T1: Уровень софинансирования, % | U1: Уровень софинансирования реальный, % | V1: Итого размер субсидии, руб. | W1: Итого размер средств областного бюджета окончательный, руб. | X1: Итого размер средств местного бюджета окончательный, руб. | Y1: Итого размер средств областного бюджета расчетный, руб. | Z1: Уровень софинансирования расчетный, %
A2: 1 | B2: Бокситогорский район | C2: Бокситогорское городское поселение | D2: 2025 | E2: ='Итого отбор 2024-2026'!E190 -> 0 | F2: ='Итого отбор 2024-2026'!F190 -> 0 | G2: ='Итого отбор 2024-2026'!G190 -> 2.42 | H2: ='Итого отбор 2024-2026'!H190 -> 3.19 | I2: ='Итого отбор 2024-2026'!I190 -> 4.1 | J2: ='Итого отбор 2024-2026'!J190 -> 4 | K2: =E2+F2+G2+H2+I2 -> 9.71 | L2: 12368.39 | M2: 11131.55 | N2: 8657.87 | O2: 6184.2 | P2: 3710.52 | Q2: 488.77 | R2: 2100 | S2: 200 | T2: 90 | U2: =IF((V2=0),0,W2/V2*100) -> 89.999994 | V2: =ROUND(((E2*L2+F2*M2+G2*N2+H2*O2+I2*P2)+Q2*J2+R2*J2+S2*(E2+F2+G2+H2+I2)),2) -> 68189.86 | W2: =IF((Z2>T2),Y2-0.01,Y2) -> 61370.87 | X2: =V2-W2 -> 6818.99 | Y2: =ROUND((V2*T2/100),2) -> 61370.87 | Z2: =IF((V2=0),0,Y2/V2*100) -> 89.999994
A3: 2 | B3: Бокситогорский район | C3: Большедворское сельское поселение | D3: 2025 | E3: ='Итого отбор 2024-2026'!E191 -> 0 | F3: ='Итого отбор 2024-2026'!F191 -> 0 | G3: ='Итого отбор 2024-2026'!G191 -> 17.5 | H3: ='Итого отбор 2024-2026'!H191 -> 18.7 | I3: ='Итого отбор 2024-2026'!I191 -> 20 | J3: ='Итого отбор 2024-2026'!J191 -> 7 | K3: =E3+F3+G3+H3+I3 -> 56.2 | L3: 12368.39 | M3: 11131.55 | N3: 8657.87 | O3: 6184.2 | P3: 3710.52 | Q3: 488.77 | R3: 2100 | S3: 200 | T3: 90 | U3: =IF((V3=0),0,W3/V3*100) -> 89.999999 | V3: =ROUND(((E3*L3+F3*M3+G3*N3+H3*O3+I3*P3)+Q3*J3+R3*J3+S3*(E3+F3+G3+H3+I3)),2) -> 370729.06 | W3: =IF((Z3>T3),Y3-0.01,Y3) -> 333656.15 | X3: =V3-W3 -> 37072.91 | Y3: =ROUND((V3*T3/100),2) -> 333656.15 | Z3: =IF((V3=0),0,Y3/V3*100) -> 89.999999
A4: 3 | B4: Бокситогорский район | C4: Борское сельское поселение | D4: 2025 | E4: ='Итого отбор 2024-2026'!E192 -> 0 | F4: ='Итого отбор 2024-2026'!F192 -> 6 | G4: ='Итого отбор 2024-2026'!G192 -> 5.002318 | H4: ='Итого отбор 2024-2026'!H192 -> 32.997682 | I4: ='Итого отбор 2024-2026'!I192 -> 0 | J4: ='Итого отбор 2024-2026'!J192 -> 8 | K4: =E4+F4+G4+H4+I4 -> 44 | L4: 12368.39 | M4: 11131.55 | N4: 8657.87 | O4: 6184.2 | P4: 3710.52 | Q4: 488.77 | R4: 2100 | S4: 200 | T4: 89 | U4: =IF((V4=0),0,W4/V4*100) -> 88.999999 | V4: =ROUND(((E4*L4+F4*M4+G4*N4+H4*O4+I4*P4)+Q4*J4+R4*J4+S4*(E4+F4+G4+H4+I4)),2) -> 343673.14 | W4: =IF((Z4>T4),Y4-0.01,Y4) -> 305869.09 | X4: =V4-W4 -> 37804.05 | Y4: =ROUND((V4*T4/100),2) -> 305869.09 | Z4: =IF((V4=0),0,Y4/V4*100) -> 88.999999
A5: 4 | B5: Бокситогорский район | C5: Ефимовское городское поселение | D5: 2025 | E5: ='Итого отбор 2024-2026'!E193 -> 0 | F5: ='Итого отбор 2024-2026'!F193 -> 3.5 | G5: ='Итого отбор 2024-2026'!G193 -> 0 | H5: ='Итого отбор 2024-2026'!H193 -> 0 | I5: ='Итого отбор 2024-2026'!I193 -> 0 | J5: ='Итого отбор 2024-2026'!J193 -> 2 | K5: =E5+F5+G5+H5+I5 -> 3.5 | L5: 12368.39 | M5: 11131.55 | N5: 8657.87 | O5: 6184.2 | P5: 3710.52 | Q5: 488.77 | R5: 2100 | S5: 200 | T5: 93 | U5: =IF((V5=0),0,W5/V5*100) -> 92.999995 | V5: =ROUND(((E5*L5+F5*M5+G5*N5+H5*O5+I5*P5)+Q5*J5+R5*J5+S5*(E5+F5+G5+H5+I5)),2) -> 44837.97 | W5: =IF((Z5>T5),Y5-0.01,Y5) -> 41699.31 | X5: =V5-W5 -> 3138.66 | Y5: =ROUND((V5*T5/100),2) -> 41699.31 | Z5: =IF((V5=0),0,Y5/V5*100) -> 92.999995
A6: 5 | B6: Бокситогорский район | C6: Лидское сельское поселение | D6: 2025 | E6: ='Итого отбор 2024-2026'!E194 -> 0 | F6: ='Итого отбор 2024-2026'!F194 -> 0 | G6: ='Итого отбор 2024-2026'!G194 -> 0 | H6: ='Итого отбор 2024-2026'!H194 -> 0 | I6: ='Итого отбор 2024-2026'!I194 -> 0 | J6: ='Итого отбор 2024-2026'!J194 -> 0 | K6: =E6+F6+G6+H6+I6 -> 0 | L6: 12368.39 | M6: 11131.55 | N6: 8657.87 | O6: 6184.2 | P6: 3710.52 | Q6: 488.77 | R6: 2100 | S6: 200 | T6: 87 | U6: =IF((V6=0),0,W6/V6*100) -> 0 | V6: =ROUND(((E6*L6+F6*M6+G6*N6+H6*O6+I6*P6)+Q6*J6+R6*J6+S6*(E6+F6+G6+H6+I6)),2) -> 0 | W6: =IF((Z6>T6),Y6-0.01,Y6) -> 0 | X6: =V6-W6 -> 0 | Y6: =ROUND((V6*T6/100),2) -> 0 | Z6: =IF((V6=0),0,Y6/V6*100) -> 0
A7: 6 | B7: Бокситогорский район | C7: Пикалёвское городское поселение | D7: 2025 | E7: ='Итого отбор 2024-2026'!E195 -> 0 | F7: ='Итого отбор 2024-2026'!F195 -> 0 | G7: ='Итого отбор 2024-2026'!G195 -> 0 | H7: ='Итого отбор 2024-2026'!H195 -> 0 | I7: ='Итого отбор 2024-2026'!I195 -> 0 | J7: ='Итого отбор 2024-2026'!J195 -> 0 | K7: =E7+F7+G7+H7+I7 -> 0 | L7: 12368.39 | M7: 11131.55 | N7: 8657.87 | O7: 6184.2 | P7: 3710.52 | Q7: 488.77 | R7: 2100 | S7: 200 | T7: 89 | U7: =IF((V7=0),0,W7/V7*100) -> 0 | V7: =ROUND(((E7*L7+F7*M7+G7*N7+H7*O7+I7*P7)+Q7*J7+R7*J7+S7*(E7+F7+G7+H7+I7)),2) -> 0 | W7: =IF((Z7>T7),Y7-0.01,Y7) -> 0 | X7: =V7-W7 -> 0 | Y7: =ROUND((V7*T7/100),2) -> 0 | Z7: =IF((V7=0),0,Y7/V7*100) -> 0
A8: 7 | B8: Бокситогорский район | C8: Самойловское сельское поселение | D8: 2025 | E8: ='Итого отбор 2024-2026'!E196 -> 0 | F8: ='Итого отбор 2024-2026'!F196 -> 0 | G8: ='Итого отбор 2024-2026'!G196 -> 45.52 | H8: ='Итого отбор 2024-2026'!H196 -> 29.3 | I8: ='Итого отбор 2024-2026'!I196 -> 68.7 | J8: ='Итого отбор 2024-2026'!J196 -> 15 | K8: =E8+F8+G8+H8+I8 -> 143.52 | L8: 12368.39 | M8: 11131.55 | N8: 8657.87 | O8: 6184.2 | P8: 3710.52 | Q8: 488.77 | R8: 2100 | S8: 200 | T8: 84 | U8: =IF((V8=0),0,W8/V8*100) -> 83.999999 | V8: =ROUND(((E8*L8+F8*M8+G8*N8+H8*O8+I8*P8)+Q8*J8+R8*J8+S8*(E8+F8+G8+H8+I8)),2) -> 897751.58 | W8: =IF((Z8>T8),Y8-0.01,Y8) -> 754111.32 | X8: =V8-W8 -> 143640.26 | Y8: =ROUND((V8*T8/100),2) -> 754111.33 | Z8: =IF((V8=0),0,Y8/V8*100) -> 84
A9: 8 | B9: Волосовский район | C9: Бегуницкое сельское поселение | D9: 2025 | E9: ='Итого отбор 2024-2026'!E197 -> 10 | F9: ='Итого отбор 2024-2026'!F197 -> 5 | G9: ='Итого отбор 2024-2026'!G197 -> 5 | H9: ='Итого отбор 2024-2026'!H197 -> 32 | I9: ='Итого отбор 2024-2026'!I197 -> 73 | J9: ='Итого отбор 2024-2026'!J197 -> 27 | K9: =E9+F9+G9+H9+I9 -> 125 | L9: 12368.39 | M9: 11131.55 | N9: 8657.87 | O9: 6184.2 | P9: 3710.52 | Q9: 488.77 | R9: 2100 | S9: 200 | T9: 91 | U9: =IF((V9=0),0,W9/V9*100) -> 90.999999 | V9: =ROUND(((E9*L9+F9*M9+G9*N9+H9*O9+I9*P9)+Q9*J9+R9*J9+S9*(E9+F9+G9+H9+I9)),2) -> 786290.15 | W9: =IF((Z9>T9),Y9-0.01,Y9) -> 715524.03 | X9: =V9-W9 -> 70766.12 | Y9: =ROUND((V9*T9/100),2) -> 715524.04 | Z9: =IF((V9=0),0,Y9/V9*100) -> 91
A10: 9 | B10: Волосовский район | C10: Большеврудское сельское поселение | D10: 2025 | E10: ='Итого отбор 2024-2026'!E198 -> 50 | F10: ='Итого отбор 2024-2026'!F198 -> 20 | G10: ='Итого отбор 2024-2026'!G198 -> 57.5 | H10: ='Итого отбор 2024-2026'!H198 -> 21.5 | I10: ='Итого отбор 2024-2026'!I198 -> 64 | J10: ='Итого отбор 2024-2026'!J198 -> 32 | K10: =E10+F10+G10+H10+I10 -> 213 | L10: 12368.39 | M10: 11131.55 | N10: 8657.87 | O10: 6184.2 | P10: 3710.52 | Q10: 488.77 | R10: 2100 | S10: 200 | T10: 91 | U10: =IF((V10=0),0,W10/V10*100) -> 91 | V10: =ROUND(((E10*L10+F10*M10+G10*N10+H10*O10+I10*P10)+Q10*J10+R10*J10+S10*(E10+F10+G10+H10+I10)),2) -> 1834752.2 | W10: =IF((Z10>T10),Y10-0.01,Y10) -> 1669624.5 | X10: =V10-W10 -> 165127.71 | Y10: =ROUND((V10*T10/100),2) -> 1669624.6 | Z10: =IF((V10=0),0,Y10/V10*100) -> 91
A11: 10 | B11: Волосовский район | C11: Волосовское городское поселение | D11: 2025 | E11: ='Итого отбор 2024-2026'!E199 -> 0 | F11: ='Итого отбор 2024-2026'!F199 -> 0 | G11: ='Итого отбор 2024-2026'!G199 -> 170 | H11: ='Итого отбор 2024-2026'!H199 -> 64.69 | I11: ='Итого отбор 2024-2026'!I199 -> 0 | J11: ='Итого отбор 2024-2026'!J199 -> 2 | K11: =E11+F11+G11+H11+I11 -> 234.69 | L11: 12368.39 | M11: 11131.55 | N11: 8657.87 | O11: 6184.2 | P11: 3710.52 | Q11: 488.77 | R11: 2100 | S11: 200 | T11: 90 | U11: =IF((V11=0),0,W11/V11*100) -> 90 | V11: =ROUND(((E11*L11+F11*M11+G11*N11+H11*O11+I11*P11)+Q11*J11+R11*J11+S11*(E11+F11+G11+H11+I11)),2) -> 1924009.3 | W11: =IF((Z11>T11),Y11-0.01,Y11) -> 1731608.4 | X11: =V11-W11 -> 192400.94 | Y11: =ROUND((V11*T11/100),2) -> 1731608.4 | Z11: =IF((V11=0),0,Y11/V11*100) -> 90
A12: 11 | B12: Волосовский район | C12: Калитинское сельское поселение | D12: 2025 | E12: ='Итого отбор 2024-2026'!E200 -> 0 | F12: ='Итого отбор 2024-2026'!F200 -> 25.2 | G12: ='Итого отбор 2024-2026'!G200 -> 15 | H12: ='Итого отбор 2024-2026'!H200 -> 30.9 | I12: ='Итого отбор 2024-2026'!I200 -> 36.4 | J12: ='Итого отбор 2024-2026'!J200 -> 22 | K12: =E12+F12+G12+H12+I12 -> 107.5 | L12: 12368.39 | M12: 11131.55 | N12: 8657.87 | O12: 6184.2 | P12: 3710.52 | Q12: 488.77 | R12: 2100 | S12: 200 | T12: 91 | U12: =IF((V12=0),0,W12/V12*100) -> 91 | V12: =ROUND(((E12*L12+F12*M12+G12*N12+H12*O12+I12*P12)+Q12*J12+R12*J12+S12*(E12+F12+G12+H12+I12)),2) -> 814990.76 | W12: =IF((Z12>T12),Y12-0.01,Y12) -> 741641.59 | X12: =V12-W12 -> 73349.17 | Y12: =ROUND((V12*T12/100),2) -> 741641.59 | Z12: =IF((V12=0),0,Y12/V12*100) -> 91
A13: 12 | B13: Волосовский район | C13: Клопицкое сельское поселение | D13: 2025 | E13: ='Итого отбор 2024-2026'!E201 -> 0 | F13: ='Итого отбор 2024-2026'!F201 -> 10.2 | G13: ='Итого отбор 2024-2026'!G201 -> 0 | H13: ='Итого отбор 2024-2026'!H201 -> 0 | I13: ='Итого отбор 2024-2026'!I201 -> 57.4 | J13: ='Итого отбор 2024-2026'!J201 -> 14 | K13: =E13+F13+G13+H13+I13 -> 67.6 | L13: 12368.39 | M13: 11131.55 | N13: 8657.87 | O13: 6184.2 | P13: 3710.52 | Q13: 488.77 | R13: 2100 | S13: 200 | T13: 92 | U13: =IF((V13=0),0,W13/V13*100) -> 91.999999 | V13: =ROUND(((E13*L13+F13*M13+G13*N13+H13*O13+I13*P13)+Q13*J13+R13*J13+S13*(E13+F13+G13+H13+I13)),2) -> 376288.44 | W13: =IF((Z13>T13),Y13-0.01,Y13) -> 346185.36 | X13: =V13-W13 -> 30103.08 | Y13: =ROUND((V13*T13/100),2) -> 346185.36 | Z13: =IF((V13=0),0,Y13/V13*100) -> 91.999999
... A61: 60 | B61: Выборгский район | C61: Советское городское поселение | D61: 2025 | E61: ='Итого отбор 2024-2026'!E249 -> 0 | F61: ='Итого отбор 2024-2026'!F249 -> 0 | G61: ='Итого отбор 2024-2026'!G249 -> 11 | H61: ='Итого отбор 2024-2026'!H249 -> 0 | I61: ='Итого отбор 2024-2026'!I249 -> 30 | J61: ='Итого отбор 2024-2026'!J249 -> 2 | K61: =E61+F61+G61+H61+I61 -> 41 | L61: 12368.39 | M61: 11131.55 | N61: 8657.87 | O61: 6184.2 | P61: 3710.52 | Q61: 488.77 | R61: 2100 | S61: 200 | T61: 93 | U61: =IF((V61=0),0,W61/V61*100) -> 93 | V61: =ROUND(((E61*L61+F61*M61+G61*N61+H61*O61+I61*P61)+Q61*J61+R61*J61+S61*(E61+F61+G61+H61+I61)),2) -> 219929.71 | W61: =IF((Z61>T61),Y61-0.01,Y61) -> 204534.63 | X61: =V61-W61 -> 15395.08 | Y61: =ROUND((V61*T61/100),2) -> 204534.63 | Z61: =IF((V61=0),0,Y61/V61*100) -> 93
A62: 61.1 | B62: Гатчинский район | C62: Большеколпанское сельское поселение | D62: 2025 | E62: ='Итого отбор 2024-2026'!E250 -> 9.44 | F62: ='Итого отбор 2024-2026'!F250 -> 7.45 | G62: ='Итого отбор 2024-2026'!G250 -> 44.4 | H62: ='Итого отбор 2024-2026'!H250 -> 18.81 | I62: ='Итого отбор 2024-2026'!I250 -> 10.4 | J62: ='Итого отбор 2024-2026'!J250 -> 13 | K62: =E62+F62+G62+H62+I62 -> 90.5 | L62: 12368.39 | M62: 11131.55 | N62: 8657.87 | O62: 6184.2 | P62: 3710.52 | Q62: 488.77 | R62: 2100 | S62: 200 | T62: 95 | U62: =IF((V62=0),0,W62/V62*100) -> 94.999999 | V62: =ROUND(((E62*L62+F62*M62+G62*N62+H62*O62+I62*P62)+Q62*J62+R62*J62+S62*(E62+F62+G62+H62+I62)),2) -> 790765.3 | W62: =IF((Z62>T62),Y62-0.01,Y62) -> 751227.03 | X62: =V62-W62 -> 39538.27 | Y62: =ROUND((V62*T62/100),2) -> 751227.04 | Z62: =IF((V62=0),0,Y62/V62*100) -> 95.000001
A63: 61.2 | B63: Гатчинский район | C63: Веревское сельское поселение | D63: 2025 | E63: ='Итого отбор 2024-2026'!E251 -> 0 | F63: ='Итого отбор 2024-2026'!F251 -> 0 | G63: ='Итого отбор 2024-2026'!G251 -> 0 | H63: ='Итого отбор 2024-2026'!H251 -> 0 | I63: ='Итого отбор 2024-2026'!I251 -> 0 | J63: ='Итого отбор 2024-2026'!J251 -> 0 | K63: =E63+F63+G63+H63+I63 -> 0 | L63: 12368.39 | M63: 11131.55 | N63: 8657.87 | O63: 6184.2 | P63: 3710.52 | Q63: 488.77 | R63: 2100 | S63: 200 | T63: 95 | U63: =IF((V63=0),0,W63/V63*100) -> 0 | V63: =ROUND(((E63*L63+F63*M63+G63*N63+H63*O63+I63*P63)+Q63*J63+R63*J63+S63*(E63+F63+G63+H63+I63)),2) -> 0 | W63: =IF((Z63>T63),Y63-0.01,Y63) -> 0 | X63: =V63-W63 -> 0 | Y63: =ROUND((V63*T63/100),2) -> 0 | Z63: =IF((V63=0),0,Y63/V63*100) -> 0
A64: 61.3 | B64: Гатчинский район | C64: Войсковицкое сельское поселение | D64: 2025 | E64: ='Итого отбор 2024-2026'!E252 -> 18 | F64: ='Итого отбор 2024-2026'!F252 -> 10 | G64: ='Итого отбор 2024-2026'!G252 -> 37 | H64: ='Итого отбор 2024-2026'!H252 -> 66.1 | I64: ='Итого отбор 2024-2026'!I252 -> 18 | J64: ='Итого отбор 2024-2026'!J252 -> 5 | K64: =E64+F64+G64+H64+I64 -> 149.1 | L64: 12368.39 | M64: 11131.55 | N64: 8657.87 | O64: 6184.2 | P64: 3710.52 | Q64: 488.77 | R64: 2100 | S64: 200 | T64: 95 | U64: =IF((V64=0),0,W64/V64*100) -> 95 | V64: =ROUND(((E64*L64+F64*M64+G64*N64+H64*O64+I64*P64)+Q64*J64+R64*J64+S64*(E64+F64+G64+H64+I64)),2) -> 1172616.5 | W64: =IF((Z64>T64),Y64-0.01,Y64) -> 1113985.7 | X64: =V64-W64 -> 58630.83 | Y64: =ROUND((V64*T64/100),2) -> 1113985.7 | Z64: =IF((V64=0),0,Y64/V64*100) -> 95
A65: 61.4 | B65: Гатчинский район | C65: Вырицкое городское поселение | D65: 2025 | E65: ='Итого отбор 2024-2026'!E253 -> 0 | F65: ='Итого отбор 2024-2026'!F253 -> 1.34 | G65: ='Итого отбор 2024-2026'!G253 -> 0 | H65: ='Итого отбор 2024-2026'!H253 -> 0 | I65: ='Итого отбор 2024-2026'!I253 -> 0 | J65: ='Итого отбор 2024-2026'!J253 -> 4 | K65: =E65+F65+G65+H65+I65 -> 1.34 | L65: 12368.39 | M65: 11131.55 | N65: 8657.87 | O65: 6184.2 | P65: 3710.52 | Q65: 488.77 | R65: 2100 | S65: 200 | T65: 95 | U65: =IF((V65=0),0,W65/V65*100) -> 94.999992 | V65: =ROUND(((E65*L65+F65*M65+G65*N65+H65*O65+I65*P65)+Q65*J65+R65*J65+S65*(E65+F65+G65+H65+I65)),2) -> 25539.36 | W65: =IF((Z65>T65),Y65-0.01,Y65) -> 24262.39 | X65: =V65-W65 -> 1276.97 | Y65: =ROUND((V65*T65/100),2) -> 24262.39 | Z65: =IF((V65=0),0,Y65/V65*100) -> 94.999992
A66: 61.5 | B66: Гатчинский район | C66: Гатчинское городское поселение | D66: 2025 | E66: ='Итого отбор 2024-2026'!E254 -> 0 | F66: ='Итого отбор 2024-2026'!F254 -> 0 | G66: ='Итого отбор 2024-2026'!G254 -> 0 | H66: ='Итого отбор 2024-2026'!H254 -> 0 | I66: ='Итого отбор 2024-2026'!I254 -> 0 | J66: ='Итого отбор 2024-2026'!J254 -> 0 | K66: =E66+F66+G66+H66+I66 -> 0 | L66: 12368.39 | M66: 11131.55 | N66: 8657.87 | O66: 6184.2 | P66: 3710.52 | Q66: 488.77 | R66: 2100 | S66: 200 | T66: 95 | U66: =IF((V66=0),0,W66/V66*100) -> 0 | V66: =ROUND(((E66*L66+F66*M66+G66*N66+H66*O66+I66*P66)+Q66*J66+R66*J66+S66*(E66+F66+G66+H66+I66)),2) -> 0 | W66: =IF((Z66>T66),Y66-0.01,Y66) -> 0 | X66: =V66-W66 -> 0 | Y66: =ROUND((V66*T66/100),2) -> 0 | Z66: =IF((V66=0),0,Y66/V66*100) -> 0
A67: 61.6 | B67: Гатчинский район | C67: Дружногорское городское поселение | D67: 2025 | E67: ='Итого отбор 2024-2026'!E255 -> 0 | F67: ='Итого отбор 2024-2026'!F255 -> 0 | G67: ='Итого отбор 2024-2026'!G255 -> 0 | H67: ='Итого отбор 2024-2026'!H255 -> 0 | I67: ='Итого отбор 2024-2026'!I255 -> 0 | J67: ='Итого отбор 2024-2026'!J255 -> 0 | K67: =E67+F67+G67+H67+I67 -> 0 | L67: 12368.39 | M67: 11131.55 | N67: 8657.87 | O67: 6184.2 | P67: 3710.52 | Q67: 488.77 | R67: 2100 | S67: 200 | T67: 95 | U67: =IF((V67=0),0,W67/V67*100) -> 0 | V67: =ROUND(((E67*L67+F67*M67+G67*N67+H67*O67+I67*P67)+Q67*J67+R67*J67+S67*(E67+F67+G67+H67+I67)),2) -> 0 | W67: =IF((Z67>T67),Y67-0.01,Y67) -> 0 | X67: =V67-W67 -> 0 | Y67: =ROUND((V67*T67/100),2) -> 0 | Z67: =IF((V67=0),0,Y67/V67*100) -> 0
A68: 61.7 | B68: Гатчинский район | C68: Елизаветинское сельское поселение | D68: 2025 | E68: ='Итого отбор 2024-2026'!E256 -> 0 | F68: ='Итого отбор 2024-2026'!F256 -> 0 | G68: ='Итого отбор 2024-2026'!G256 -> 32.4 | H68: ='Итого отбор 2024-2026'!H256 -> 144.1 | I68: ='Итого отбор 2024-2026'!I256 -> 0 | J68: ='Итого отбор 2024-2026'!J256 -> 16 | K68: =E68+F68+G68+H68+I68 -> 176.5 | L68: 12368.39 | M68: 11131.55 | N68: 8657.87 | O68: 6184.2 | P68: 3710.52 | Q68: 488.77 | R68: 2100 | S68: 200 | T68: 95 | U68: =IF((V68=0),0,W68/V68*100) -> 95 | V68: =ROUND(((E68*L68+F68*M68+G68*N68+H68*O68+I68*P68)+Q68*J68+R68*J68+S68*(E68+F68+G68+H68+I68)),2) -> 1248378.5 | W68: =IF((Z68>T68),Y68-0.01,Y68) -> 1185959.6 | X68: =V68-W68 -> 62418.93 | Y68: =ROUND((V68*T68/100),2) -> 1185959.6 | Z68: =IF((V68=0),0,Y68/V68*100) -> 95
A69: 61.8 | B69: Гатчинский район | C69: Кобринское сельское поселение | D69: 2025 | E69: ='Итого отбор 2024-2026'!E257 -> 11.54 | F69: ='Итого отбор 2024-2026'!F257 -> 4.81 | G69: ='Итого отбор 2024-2026'!G257 -> 2 | H69: ='Итого отбор 2024-2026'!H257 -> 11.33 | I69: ='Итого отбор 2024-2026'!I257 -> 20 | J69: ='Итого отбор 2024-2026'!J257 -> 5 | K69: =E69+F69+G69+H69+I69 -> 49.68 | L69: 12368.39 | M69: 11131.55 | N69: 8657.87 | O69: 6184.2 | P69: 3710.52 | Q69: 488.77 | R69: 2100 | S69: 200 | T69: 95 | U69: =IF((V69=0),0,W69/V69*100) -> 94.999999 | V69: =ROUND(((E69*L69+F69*M69+G69*N69+H69*O69+I69*P69)+Q69*J69+R69*J69+S69*(E69+F69+G69+H69+I69)),2) -> 380746.95 | W69: =IF((Z69>T69),Y69-0.01,Y69) -> 361709.6 | X69: =V69-W69 -> 19037.35 | Y69: =ROUND((V69*T69/100),2) -> 361709.6 | Z69: =IF((V69=0),0,Y69/V69*100) -> 94.999999
A70: 61.9 | B70: Гатчинский район | C70: Коммунарское городское поселение | D70: 2025 | E70: ='Итого отбор 2024-2026'!E258 -> 0 | F70: ='Итого отбор 2024-2026'!F258 -> 30 | G70: ='Итого отбор 2024-2026'!G258 -> 50 | H70: ='Итого отбор 2024-2026'!H258 -> 15 | I70: ='Итого отбор 2024-2026'!I258 -> 25 | J70: ='Итого отбор 2024-2026'!J258 -> 1 | K70: =E70+F70+G70+H70+I70 -> 120 | L70: 12368.39 | M70: 11131.55 | N70: 8657.87 | O70: 6184.2 | P70: 3710.52 | Q70: 488.77 | R70: 2100 | S70: 200 | T70: 95 | U70: =IF((V70=0),0,W70/V70*100) -> 95 | V70: =ROUND(((E70*L70+F70*M70+G70*N70+H70*O70+I70*P70)+Q70*J70+R70*J70+S70*(E70+F70+G70+H70+I70)),2) -> 978954.77 | W70: =IF((Z70>T70),Y70-0.01,Y70) -> 930007.03 | X70: =V70-W70 -> 48947.74 | Y70: =ROUND((V70*T70/100),2) -> 930007.03 | Z70: =IF((V70=0),0,Y70/V70*100) -> 95
A71: 61.10 | B71: Гатчинский район | C71: Новосветское сельское поселение | D71: 2025 | E71: ='Итого отбор 2024-2026'!E259 -> 15 | F71: ='Итого отбор 2024-2026'!F259 -> 15 | G71: ='Итого отбор 2024-2026'!G259 -> 25 | H71: ='Итого отбор 2024-2026'!H259 -> 17 | I71: ='Итого отбор 2024-2026'!I259 -> 23 | J71: ='Итого отбор 2024-2026'!J259 -> 7 | K71: =E71+F71+G71+H71+I71 -> 95 | L71: 12368.39 | M71: 11131.55 | N71: 8657.87 | O71: 6184.2 | P71: 3710.52 | Q71: 488.77 | R71: 2100 | S71: 200 | T71: 95 | U71: =IF((V71=0),0,W71/V71*100) -> 95 | V71: =ROUND(((E71*L71+F71*M71+G71*N71+H71*O71+I71*P71)+Q71*J71+R71*J71+S71*(E71+F71+G71+H71+I71)),2) -> 796540.6 | W71: =IF((Z71>T71),Y71-0.01,Y71) -> 756713.57 | X71: =V71-W71 -> 39827.03 | Y71: =ROUND((V71*T71/100),2) -> 756713.57 | Z71: =IF((V71=0),0,Y71/V71*100) -> 95
A72: 61.11 | B72: Гатчинский район | C72: Пудомягское сельское поселение | D72: 2025 | E72: ='Итого отбор 2024-2026'!E260 -> 0 | F72: ='Итого отбор 2024-2026'!F260 -> 14 | G72: ='Итого отбор 2024-2026'!G260 -> 0 | H72: ='Итого отбор 2024-2026'!H260 -> 0 | I72: ='Итого отбор 2024-2026'!I260 -> 55 | J72: ='Итого отбор 2024-2026'!J260 -> 14 | K72: =E72+F72+G72+H72+I72 -> 69 | L72: 12368.39 | M72: 11131.55 | N72: 8657.87 | O72: 6184.2 | P72: 3710.52 | Q72: 488.77 | R72: 2100 | S72: 200 | T72: 95 | U72: =IF((V72=0),0,W72/V72*100) -> 94.999999 | V72: =ROUND(((E72*L72+F72*M72+G72*N72+H72*O72+I72*P72)+Q72*J72+R72*J72+S72*(E72+F72+G72+H72+I72)),2) -> 409963.08 | W72: =IF((Z72>T72),Y72-0.01,Y72) -> 389464.92 | X72: =V72-W72 -> 20498.16 | Y72: =ROUND((V72*T72/100),2) -> 389464.93 | Z72: =IF((V72=0),0,Y72/V72*100) -> 95.000001
A73: 61.12 | B73: Гатчинский район | C73: Пудостьское сельское поселение | D73: 2025 | E73: ='Итого отбор 2024-2026'!E261 -> 0 | F73: ='Итого отбор 2024-2026'!F261 -> 4 | G73: ='Итого отбор 2024-2026'!G261 -> 15 | H73: ='Итого отбор 2024-2026'!H261 -> 0 | I73: ='Итого отбор 2024-2026'!I261 -> 23 | J73: ='Итого отбор 2024-2026'!J261 -> 12 | K73: =E73+F73+G73+H73+I73 -> 42 | L73: 12368.39 | M73: 11131.55 | N73: 8657.87 | O73: 6184.2 | P73: 3710.52 | Q73: 488.77 | R73: 2100 | S73: 200 | T73: 95 | U73: =IF((V73=0),0,W73/V73*100) -> 94.999997 | V73: =ROUND(((E73*L73+F73*M73+G73*N73+H73*O73+I73*P73)+Q73*J73+R73*J73+S73*(E73+F73+G73+H73+I73)),2) -> 299201.45 | W73: =IF((Z73>T73),Y73-0.01,Y73) -> 284241.37 | X73: =V73-W73 -> 14960.08 | Y73: =ROUND((V73*T73/100),2) -> 284241.38 | Z73: =IF((V73=0),0,Y73/V73*100) -> 95.000001
... A78: 61.17 | B78: Гатчинский район | C78: Таицкое городское поселение | D78: 2025 | E78: ='Итого отбор 2024-2026'!E266 -> 0 | F78: ='Итого отбор 2024-2026'!F266 -> 0 | G78: ='Итого отбор 2024-2026'!G266 -> 0 | H78: ='Итого отбор 2024-2026'!H266 -> 0 | I78: ='Итого отбор 2024-2026'!I266 -> 0 | J78: ='Итого отбор 2024-2026'!J266 -> 0 | K78: =E78+F78+G78+H78+I78 -> 0 | L78: 12368.39 | M78: 11131.55 | N78: 8657.87 | O78: 6184.2 | P78: 3710.52 | Q78: 488.77 | R78: 2100 | S78: 200 | T78: 95 | U78: =IF((V78=0),0,W78/V78*100) -> 0 | V78: =ROUND(((E78*L78+F78*M78+G78*N78+H78*O78+I78*P78)+Q78*J78+R78*J78+S78*(E78+F78+G78+H78+I78)),2) -> 0 | W78: =IF((Z78>T78),Y78-0.01,Y78) -> 0 | X78: =V78-W78 -> 0 | Y78: =ROUND((V78*T78/100),2) -> 0 | Z78: =IF((V78=0),0,Y78/V78*100) -> 0
A79: 61 | B79: Гатчинский муниципальный округ | C79: Гатчинский муниципальный округ | D79: 2025 | E79: =SUM(E62:E78) -> 56.68 | F79: =SUM(F62:F78) -> 90.7 | G79: =SUM(G62:G78) -> 211.8 | H79: =SUM(H62:H78) -> 317.39 | I79: =SUM(I62:I78) -> 198.5 | J79: =SUM(J62:J78) -> 99 | K79: =E79+F79+G79+H79+I79 -> 875.07 | L79: 12368.39 | M79: 11131.55 | N79: 8657.87 | O79: 6184.2 | P79: 3710.52 | Q79: 488.77 | R79: 2100 | S79: 200 | T79: 95 | U79: =IF((V79=0),0,W79/V79*100) -> 95 | V79: =ROUND(((E79*L79+F79*M79+G79*N79+H79*O79+I79*P79)+Q79*J79+R79*J79+S79*(E79+F79+G79+H79+I79)),2) -> 6675052.5 | W79: =IF((Z79>T79),Y79-0.01,Y79) -> 6341299.9 | X79: =V79-W79 -> 333752.63 | Y79: =ROUND((V79*T79/100),2) -> 6341299.9 | Z79: =IF((V79=0),0,Y79/V79*100) -> 95
A80: 62 | B80: Кингисеппский район | C80: Большелуцкое сельское поселение | D80: 2025 | E80: ='Итого отбор 2024-2026'!E267 -> 15.8 | F80: ='Итого отбор 2024-2026'!F267 -> 4.1 | G80: ='Итого отбор 2024-2026'!G267 -> 7.7 | H80: ='Итого отбор 2024-2026'!H267 -> 2 | I80: ='Итого отбор 2024-2026'!I267 -> 2.2 | J80: ='Итого отбор 2024-2026'!J267 -> 13 | K80: =E80+F80+G80+H80+I80 -> 31.8 | L80: 12368.39 | M80: 11131.55 | N80: 8657.87 | O80: 6184.2 | P80: 3710.52 | Q80: 488.77 | R80: 2100 | S80: 200 | T80: 71 | U80: =IF((V80=0),0,W80/V80*100) -> 70.999997 | V80: =ROUND(((E80*L80+F80*M80+G80*N80+H80*O80+I80*P80)+Q80*J80+R80*J80+S80*(E80+F80+G80+H80+I80)),2) -> 368271.07 | W80: =IF((Z80>T80),Y80-0.01,Y80) -> 261472.45 | X80: =V80-W80 -> 106798.62 | Y80: =ROUND((V80*T80/100),2) -> 261472.46 | Z80: =IF((V80=0),0,Y80/V80*100) -> 71
A81: 63 | B81: Кингисеппский район | C81: Вистинское сельское поселение | D81: 2025 | E81: ='Итого отбор 2024-2026'!E268 -> 0 | F81: ='Итого отбор 2024-2026'!F268 -> 0 | G81: ='Итого отбор 2024-2026'!G268 -> 0 | H81: ='Итого отбор 2024-2026'!H268 -> 0 | I81: ='Итого отбор 2024-2026'!I268 -> 0 | J81: ='Итого отбор 2024-2026'!J268 -> 0 | K81: =E81+F81+G81+H81+I81 -> 0 | L81: 12368.39 | M81: 11131.55 | N81: 8657.87 | O81: 6184.2 | P81: 3710.52 | Q81: 488.77 | R81: 2100 | S81: 200 | T81: 71 | U81: =IF((V81=0),0,W81/V81*100) -> 0 | V81: =ROUND(((E81*L81+F81*M81+G81*N81+H81*O81+I81*P81)+Q81*J81+R81*J81+S81*(E81+F81+G81+H81+I81)),2) -> 0 | W81: =IF((Z81>T81),Y81-0.01,Y81) -> 0 | X81: =V81-W81 -> 0 | Y81: =ROUND((V81*T81/100),2) -> 0 | Z81: =IF((V81=0),0,Y81/V81*100) -> 0
A82: 64 | B82: Кингисеппский район | C82: Ивангородское городское поселение | D82: 2025 | E82: ='Итого отбор 2024-2026'!E269 -> 0 | F82: ='Итого отбор 2024-2026'!F269 -> 0 | G82: ='Итого отбор 2024-2026'!G269 -> 0 | H82: ='Итого отбор 2024-2026'!H269 -> 14.5 | I82: ='Итого отбор 2024-2026'!I269 -> 0 | J82: ='Итого отбор 2024-2026'!J269 -> 1 | K82: =E82+F82+G82+H82+I82 -> 14.5 | L82: 12368.39 | M82: 11131.55 | N82: 8657.87 | O82: 6184.2 | P82: 3710.52 | Q82: 488.77 | R82: 2100 | S82: 200 | T82: 87 | U82: =IF((V82=0),0,W82/V82*100) -> 86.999997 | V82: =ROUND(((E82*L82+F82*M82+G82*N82+H82*O82+I82*P82)+Q82*J82+R82*J82+S82*(E82+F82+G82+H82+I82)),2) -> 95159.67 | W82: =IF((Z82>T82),Y82-0.01,Y82) -> 82788.91 | X82: =V82-W82 -> 12370.76 | Y82: =ROUND((V82*T82/100),2) -> 82788.91 | Z82: =IF((V82=0),0,Y82/V82*100) -> 86.999997
A83: 65 | B83: Кингисеппский район | C83: Кингисеппское городское поселение | D83: 2025 | E83: ='Итого отбор 2024-2026'!E270 -> 0 | F83: ='Итого отбор 2024-2026'!F270 -> 0 | G83: ='Итого отбор 2024-2026'!G270 -> 0 | H83: ='Итого отбор 2024-2026'!H270 -> 0 | I83: ='Итого отбор 2024-2026'!I270 -> 0 | J83: ='Итого отбор 2024-2026'!J270 -> 0 | K83: =E83+F83+G83+H83+I83 -> 0 | L83: 12368.39 | M83: 11131.55 | N83: 8657.87 | O83: 6184.2 | P83: 3710.52 | Q83: 488.77 | R83: 2100 | S83: 200 | T83: 93 | U83: =IF((V83=0),0,W83/V83*100) -> 0 | V83: =ROUND(((E83*L83+F83*M83+G83*N83+H83*O83+I83*P83)+Q83*J83+R83*J83+S83*(E83+F83+G83+H83+I83)),2) -> 0 | W83: =IF((Z83>T83),Y83-0.01,Y83) -> 0 | X83: =V83-W83 -> 0 | Y83: =ROUND((V83*T83/100),2) -> 0 | Z83: =IF((V83=0),0,Y83/V83*100) -> 0
A84: 66 | B84: Кингисеппский район | C84: Котельское сельское поселение | D84: 2025 | E84: ='Итого отбор 2024-2026'!E271 -> 0 | F84: ='Итого отбор 2024-2026'!F271 -> 0 | G84: ='Итого отбор 2024-2026'!G271 -> 0 | H84: ='Итого отбор 2024-2026'!H271 -> 0 | I84: ='Итого отбор 2024-2026'!I271 -> 0 | J84: ='Итого отбор 2024-2026'!J271 -> 0 | K84: =E84+F84+G84+H84+I84 -> 0 | L84: 12368.39 | M84: 11131.55 | N84: 8657.87 | O84: 6184.2 | P84: 3710.52 | Q84: 488.77 | R84: 2100 | S84: 200 | T84: 88 | U84: =IF((V84=0),0,W84/V84*100) -> 0 | V84: =ROUND(((E84*L84+F84*M84+G84*N84+H84*O84+I84*P84)+Q84*J84+R84*J84+S84*(E84+F84+G84+H84+I84)),2) -> 0 | W84: =IF((Z84>T84),Y84-0.01,Y84) -> 0 | X84: =V84-W84 -> 0 | Y84: =ROUND((V84*T84/100),2) -> 0 | Z84: =IF((V84=0),0,Y84/V84*100) -> 0
A85: 67 | B85: Кингисеппский район | C85: Кузёмкинское сельское поселение | D85: 2025 | E85: ='Итого отбор 2024-2026'!E272 -> 0 | F85: ='Итого отбор 2024-2026'!F272 -> 0 | G85: ='Итого отбор 2024-2026'!G272 -> 0 | H85: ='Итого отбор 2024-2026'!H272 -> 0 | I85: ='Итого отбор 2024-2026'!I272 -> 39.19 | J85: ='Итого отбор 2024-2026'!J272 -> 7 | K85: =E85+F85+G85+H85+I85 -> 39.19 | L85: 12368.39 | M85: 11131.55 | N85: 8657.87 | O85: 6184.2 | P85: 3710.52 | Q85: 488.77 | R85: 2100 | S85: 200 | T85: 85 | U85: =IF((V85=0),0,W85/V85*100) -> 84.999994 | V85: =ROUND(((E85*L85+F85*M85+G85*N85+H85*O85+I85*P85)+Q85*J85+R85*J85+S85*(E85+F85+G85+H85+I85)),2) -> 171374.67 | W85: =IF((Z85>T85),Y85-0.01,Y85) -> 145668.46 | X85: =V85-W85 -> 25706.21 | Y85: =ROUND((V85*T85/100),2) -> 145668.47 | Z85: =IF((V85=0),0,Y85/V85*100) -> 85
A86: 68 | B86: Кингисеппский район | C86: Нежновское сельское поселение | D86: 2025 | E86: ='Итого отбор 2024-2026'!E273 -> 0 | F86: ='Итого отбор 2024-2026'!F273 -> 0 | G86: ='Итого отбор 2024-2026'!G273 -> 0 | H86: ='Итого отбор 2024-2026'!H273 -> 47.136 | I86: ='Итого отбор 2024-2026'!I273 -> 0 | J86: ='Итого отбор 2024-2026'!J273 -> 16 | K86: =E86+F86+G86+H86+I86 -> 47.136 | L86: 12368.39 | M86: 11131.55 | N86: 8657.87 | O86: 6184.2 | P86: 3710.52 | Q86: 488.77 | R86: 2100 | S86: 200 | T86: 88 | U86: =IF((V86=0),0,W86/V86*100) -> 87.999999 | V86: =ROUND(((E86*L86+F86*M86+G86*N86+H86*O86+I86*P86)+Q86*J86+R86*J86+S86*(E86+F86+G86+H86+I86)),2) -> 342345.97 | W86: =IF((Z86>T86),Y86-0.01,Y86) -> 301264.45 | X86: =V86-W86 -> 41081.52 | Y86: =ROUND((V86*T86/100),2) -> 301264.45 | Z86: =IF((V86=0),0,Y86/V86*100) -> 87.999999
A87: 69 | B87: Кингисеппский район | C87: Опольевское сельское поселение | D87: 2025 | E87: ='Итого отбор 2024-2026'!E274 -> 0 | F87: ='Итого отбор 2024-2026'!F274 -> 0 | G87: ='Итого отбор 2024-2026'!G274 -> 0 | H87: ='Итого отбор 2024-2026'!H274 -> 0 | I87: ='Итого отбор 2024-2026'!I274 -> 0 | J87: ='Итого отбор 2024-2026'!J274 -> 0 | K87: =E87+F87+G87+H87+I87 -> 0 | L87: 12368.39 | M87: 11131.55 | N87: 8657.87 | O87: 6184.2 | P87: 3710.52 | Q87: 488.77 | R87: 2100 | S87: 200 | T87: 88 | U87: =IF((V87=0),0,W87/V87*100) -> 0 | V87: =ROUND(((E87*L87+F87*M87+G87*N87+H87*O87+I87*P87)+Q87*J87+R87*J87+S87*(E87+F87+G87+H87+I87)),2) -> 0 | W87: =IF((Z87>T87),Y87-0.01,Y87) -> 0 | X87: =V87-W87 -> 0 | Y87: =ROUND((V87*T87/100),2) -> 0 | Z87: =IF((V87=0),0,Y87/V87*100) -> 0
A88: 70 | B88: Кингисеппский район | C88: Пустомержское сельское поселение | D88: 2025 | E88: ='Итого отбор 2024-2026'!E275 -> 0 | F88: ='Итого отбор 2024-2026'!F275 -> 0 | G88: ='Итого отбор 2024-2026'!G275 -> 0 | H88: ='Итого отбор 2024-2026'!H275 -> 0 | I88: ='Итого отбор 2024-2026'!I275 -> 0 | J88: ='Итого отбор 2024-2026'!J275 -> 0 | K88: =E88+F88+G88+H88+I88 -> 0 | L88: 12368.39 | M88: 11131.55 | N88: 8657.87 | O88: 6184.2 | P88: 3710.52 | Q88: 488.77 | R88: 2100 | S88: 200 | T88: 89 | U88: =IF((V88=0),0,W88/V88*100) -> 0 | V88: =ROUND(((E88*L88+F88*M88+G88*N88+H88*O88+I88*P88)+Q88*J88+R88*J88+S88*(E88+F88+G88+H88+I88)),2) -> 0 | W88: =IF((Z88>T88),Y88-0.01,Y88) -> 0 | X88: =V88-W88 -> 0 | Y88: =ROUND((V88*T88/100),2) -> 0 | Z88: =IF((V88=0),0,Y88/V88*100) -> 0
A89: 71 | B89: Кингисеппский район | C89: Усть-Лужское сельское поселение | D89: 2025 | E89: ='Итого отбор 2024-2026'!E276 -> 0 | F89: ='Итого отбор 2024-2026'!F276 -> 0 | G89: ='Итого отбор 2024-2026'!G276 -> 0 | H89: ='Итого отбор 2024-2026'!H276 -> 0 | I89: ='Итого отбор 2024-2026'!I276 -> 0 | J89: ='Итого отбор 2024-2026'!J276 -> 0 | K89: =E89+F89+G89+H89+I89 -> 0 | L89: 12368.39 | M89: 11131.55 | N89: 8657.87 | O89: 6184.2 | P89: 3710.52 | Q89: 488.77 | R89: 2100 | S89: 200 | T89: 82 | U89: =IF((V89=0),0,W89/V89*100) -> 0 | V89: =ROUND(((E89*L89+F89*M89+G89*N89+H89*O89+I89*P89)+Q89*J89+R89*J89+S89*(E89+F89+G89+H89+I89)),2) -> 0 | W89: =IF((Z89>T89),Y89-0.01,Y89) -> 0 | X89: =V89-W89 -> 0 | Y89: =ROUND((V89*T89/100),2) -> 0 | Z89: =IF((V89=0),0,Y89/V89*100) -> 0
A90: 72 | B90: Кингисеппский район | C90: Фалилеевское сельское поселение | D90: 2025 | E90: ='Итого отбор 2024-2026'!E277 -> 0 | F90: ='Итого отбор 2024-2026'!F277 -> 0 | G90: ='Итого отбор 2024-2026'!G277 -> 0 | H90: ='Итого отбор 2024-2026'!H277 -> 69.72 | I90: ='Итого отбор 2024-2026'!I277 -> 0 | J90: ='Итого отбор 2024-2026'!J277 -> 27 | K90: =E90+F90+G90+H90+I90 -> 69.72 | L90: 12368.39 | M90: 11131.55 | N90: 8657.87 | O90: 6184.2 | P90: 3710.52 | Q90: 488.77 | R90: 2100 | S90: 200 | T90: 89 | U90: =IF((V90=0),0,W90/V90*100) -> 88.999999 | V90: =ROUND(((E90*L90+F90*M90+G90*N90+H90*O90+I90*P90)+Q90*J90+R90*J90+S90*(E90+F90+G90+H90+I90)),2) -> 515003.21 | W90: =IF((Z90>T90),Y90-0.01,Y90) -> 458352.85 | X90: =V90-W90 -> 56650.36 | Y90: =ROUND((V90*T90/100),2) -> 458352.86 | Z90: =IF((V90=0),0,Y90/V90*100) -> 89.000001
A91: 73 | B91: Киришский район | C91: Будогощское городское поселение | D91: 2025 | E91: ='Итого отбор 2024-2026'!E278 -> 0 | F91: ='Итого отбор 2024-2026'!F278 -> 0 | G91: ='Итого отбор 2024-2026'!G278 -> 10.3 | H91: ='Итого отбор 2024-2026'!H278 -> 0 | I91: ='Итого отбор 2024-2026'!I278 -> 0 | J91: ='Итого отбор 2024-2026'!J278 -> 2 | K91: =E91+F91+G91+H91+I91 -> 10.3 | L91: 12368.39 | M91: 11131.55 | N91: 8657.87 | O91: 6184.2 | P91: 3710.52 | Q91: 488.77 | R91: 2100 | S91: 200 | T91: 88 | U91: =IF((V91=0),0,W91/V91*100) -> 87.999992 | V91: =ROUND(((E91*L91+F91*M91+G91*N91+H91*O91+I91*P91)+Q91*J91+R91*J91+S91*(E91+F91+G91+H91+I91)),2) -> 96413.6 | W91: =IF((Z91>T91),Y91-0.01,Y91) -> 84843.96 | X91: =V91-W91 -> 11569.64 | Y91: =ROUND((V91*T91/100),2) -> 84843.97 | Z91: =IF((V91=0),0,Y91/V91*100) -> 88.000002
... A250: 60 | B250: Выборгский район | C250: Советское городское поселение | D250: 2026 | E250: ='Итого отбор 2024-2026'!E437 -> 30 | F250: ='Итого отбор 2024-2026'!F437 -> 0 | G250: ='Итого отбор 2024-2026'!G437 -> 0 | H250: ='Итого отбор 2024-2026'!H437 -> 11 | I250: ='Итого отбор 2024-2026'!I437 -> 0 | J250: ='Итого отбор 2024-2026'!J437 -> 2 | K250: =E250+F250+G250+H250+I250 -> 41 | L250: 12368.39 | M250: 11131.55 | N250: 8657.87 | O250: 6184.2 | P250: 3710.52 | Q250: 488.77 | R250: 2100 | S250: 200 | T250: 90 | U250: =IF((V250=0),0,W250/V250*100) -> 89.999999 | V250: =ROUND(((E250*L250+F250*M250+G250*N250+H250*O250+I250*P250)+Q250*J250+R250*J250+S250*(E250+F250+G250+H250+I250)),2) -> 452455.44 | W250: =IF((Z250>T250),Y250-0.01,Y250) -> 407209.89 | X250: =V250-W250 -> 45245.55 | Y250: =ROUND((V250*T250/100),2) -> 407209.9 | Z250: =IF((V250=0),0,Y250/V250*100) -> 90.000001
A251: 61.1 | B251: Гатчинский район | C251: Большеколпанское сельское поселение | D251: 2026 | E251: ='Итого отбор 2024-2026'!E438 -> 10.4 | F251: ='Итого отбор 2024-2026'!F438 -> 9.44 | G251: ='Итого отбор 2024-2026'!G438 -> 7.45 | H251: ='Итого отбор 2024-2026'!H438 -> 44.4 | I251: ='Итого отбор 2024-2026'!I438 -> 18.81 | J251: ='Итого отбор 2024-2026'!J438 -> 13 | K251: =E251+F251+G251+H251+I251 -> 90.5 | L251: 12368.39 | M251: 11131.55 | N251: 8657.87 | O251: 6184.2 | P251: 3710.52 | Q251: 488.77 | R251: 2100 | S251: 200 | T251: 95 | U251: =IF((V251=0),0,W251/V251*100) -> 95 | V251: =ROUND(((E251*L251+F251*M251+G251*N251+H251*O251+I251*P251)+Q251*J251+R251*J251+S251*(E251+F251+G251+H251+I251)),2) -> 694341.59 | W251: =IF((Z251>T251),Y251-0.01,Y251) -> 659624.51 | X251: =V251-W251 -> 34717.08 | Y251: =ROUND((V251*T251/100),2) -> 659624.51 | Z251: =IF((V251=0),0,Y251/V251*100) -> 95
A252: 61.2 | B252: Гатчинский район | C252: Веревское сельское поселение | D252: 2026 | E252: ='Итого отбор 2024-2026'!E439 -> 0 | F252: ='Итого отбор 2024-2026'!F439 -> 0 | G252: ='Итого отбор 2024-2026'!G439 -> 0 | H252: ='Итого отбор 2024-2026'!H439 -> 0 | I252: ='Итого отбор 2024-2026'!I439 -> 0 | J252: ='Итого отбор 2024-2026'!J439 -> 0 | K252: =E252+F252+G252+H252+I252 -> 0 | L252: 12368.39 | M252: 11131.55 | N252: 8657.87 | O252: 6184.2 | P252: 3710.52 | Q252: 488.77 | R252: 2100 | S252: 200 | T252: 95 | U252: =IF((V252=0),0,W252/V252*100) -> 0 | V252: =ROUND(((E252*L252+F252*M252+G252*N252+H252*O252+I252*P252)+Q252*J252+R252*J252+S252*(E252+F252+G252+H252+I252)),2) -> 0 | W252: =IF((Z252>T252),Y252-0.01,Y252) -> 0 | X252: =V252-W252 -> 0 | Y252: =ROUND((V252*T252/100),2) -> 0 | Z252: =IF((V252=0),0,Y252/V252*100) -> 0
A253: 61.3 | B253: Гатчинский район | C253: Войсковицкое сельское поселение | D253: 2026 | E253: ='Итого отбор 2024-2026'!E440 -> 9 | F253: ='Итого отбор 2024-2026'!F440 -> 18 | G253: ='Итого отбор 2024-2026'!G440 -> 10 | H253: ='Итого отбор 2024-2026'!H440 -> 37 | I253: ='Итого отбор 2024-2026'!I440 -> 66.1 | J253: ='Итого отбор 2024-2026'!J440 -> 5 | K253: =E253+F253+G253+H253+I253 -> 140.1 | L253: 12368.39 | M253: 11131.55 | N253: 8657.87 | O253: 6184.2 | P253: 3710.52 | Q253: 488.77 | R253: 2100 | S253: 200 | T253: 95 | U253: =IF((V253=0),0,W253/V253*100) -> 95 | V253: =ROUND(((E253*L253+F253*M253+G253*N253+H253*O253+I253*P253)+Q253*J253+R253*J253+S253*(E253+F253+G253+H253+I253)),2) -> 913306.73 | W253: =IF((Z253>T253),Y253-0.01,Y253) -> 867641.39 | X253: =V253-W253 -> 45665.34 | Y253: =ROUND((V253*T253/100),2) -> 867641.39 | Z253: =IF((V253=0),0,Y253/V253*100) -> 95
A254: 61.4 | B254: Гатчинский район | C254: Вырицкое городское поселение | D254: 2026 | E254: ='Итого отбор 2024-2026'!E441 -> 0 | F254: ='Итого отбор 2024-2026'!F441 -> 0 | G254: ='Итого отбор 2024-2026'!G441 -> 1.34 | H254: ='Итого отбор 2024-2026'!H441 -> 0 | I254: ='Итого отбор 2024-2026'!I441 -> 0 | J254: ='Итого отбор 2024-2026'!J441 -> 4 | K254: =E254+F254+G254+H254+I254 -> 1.34 | L254: 12368.39 | M254: 11131.55 | N254: 8657.87 | O254: 6184.2 | P254: 3710.52 | Q254: 488.77 | R254: 2100 | S254: 200 | T254: 95 | U254: =IF((V254=0),0,W254/V254*100) -> 94.999962 | V254: =ROUND(((E254*L254+F254*M254+G254*N254+H254*O254+I254*P254)+Q254*J254+R254*J254+S254*(E254+F254+G254+H254+I254)),2) -> 22224.63 | W254: =IF((Z254>T254),Y254-0.01,Y254) -> 21113.39 | X254: =V254-W254 -> 1111.24 | Y254: =ROUND((V254*T254/100),2) -> 21113.4 | Z254: =IF((V254=0),0,Y254/V254*100) -> 95.000007
A255: 61.5 | B255: Гатчинский район | C255: Гатчинское городское поселение | D255: 2026 | E255: ='Итого отбор 2024-2026'!E442 -> 0 | F255: ='Итого отбор 2024-2026'!F442 -> 0 | G255: ='Итого отбор 2024-2026'!G442 -> 0 | H255: ='Итого отбор 2024-2026'!H442 -> 0 | I255: ='Итого отбор 2024-2026'!I442 -> 0 | J255: ='Итого отбор 2024-2026'!J442 -> 0 | K255: =E255+F255+G255+H255+I255 -> 0 | L255: 12368.39 | M255: 11131.55 | N255: 8657.87 | O255: 6184.2 | P255: 3710.52 | Q255: 488.77 | R255: 2100 | S255: 200 | T255: 95 | U255: =IF((V255=0),0,W255/V255*100) -> 0 | V255: =ROUND(((E255*L255+F255*M255+G255*N255+H255*O255+I255*P255)+Q255*J255+R255*J255+S255*(E255+F255+G255+H255+I255)),2) -> 0 | W255: =IF((Z255>T255),Y255-0.01,Y255) -> 0 | X255: =V255-W255 -> 0 | Y255: =ROUND((V255*T255/100),2) -> 0 | Z255: =IF((V255=0),0,Y255/V255*100) -> 0
A256: 61.6 | B256: Гатчинский район | C256: Дружногорское городское поселение | D256: 2026 | E256: ='Итого отбор 2024-2026'!E443 -> 0 | F256: ='Итого отбор 2024-2026'!F443 -> 0 | G256: ='Итого отбор 2024-2026'!G443 -> 0 | H256: ='Итого отбор 2024-2026'!H443 -> 0 | I256: ='Итого отбор 2024-2026'!I443 -> 0 | J256: ='Итого отбор 2024-2026'!J443 -> 0 | K256: =E256+F256+G256+H256+I256 -> 0 | L256: 12368.39 | M256: 11131.55 | N256: 8657.87 | O256: 6184.2 | P256: 3710.52 | Q256: 488.77 | R256: 2100 | S256: 200 | T256: 95 | U256: =IF((V256=0),0,W256/V256*100) -> 0 | V256: =ROUND(((E256*L256+F256*M256+G256*N256+H256*O256+I256*P256)+Q256*J256+R256*J256+S256*(E256+F256+G256+H256+I256)),2) -> 0 | W256: =IF((Z256>T256),Y256-0.01,Y256) -> 0 | X256: =V256-W256 -> 0 | Y256: =ROUND((V256*T256/100),2) -> 0 | Z256: =IF((V256=0),0,Y256/V256*100) -> 0
A257: 61.7 | B257: Гатчинский район | C257: Елизаветинское сельское поселение | D257: 2026 | E257: ='Итого отбор 2024-2026'!E444 -> 0 | F257: ='Итого отбор 2024-2026'!F444 -> 0 | G257: ='Итого отбор 2024-2026'!G444 -> 0 | H257: ='Итого отбор 2024-2026'!H444 -> 32.4 | I257: ='Итого отбор 2024-2026'!I444 -> 144.1 | J257: ='Итого отбор 2024-2026'!J444 -> 16 | K257: =E257+F257+G257+H257+I257 -> 176.5 | L257: 12368.39 | M257: 11131.55 | N257: 8657.87 | O257: 6184.2 | P257: 3710.52 | Q257: 488.77 | R257: 2100 | S257: 200 | T257: 95 | U257: =IF((V257=0),0,W257/V257*100) -> 95 | V257: =ROUND(((E257*L257+F257*M257+G257*N257+H257*O257+I257*P257)+Q257*J257+R257*J257+S257*(E257+F257+G257+H257+I257)),2) -> 811774.33 | W257: =IF((Z257>T257),Y257-0.01,Y257) -> 771185.61 | X257: =V257-W257 -> 40588.72 | Y257: =ROUND((V257*T257/100),2) -> 771185.61 | Z257: =IF((V257=0),0,Y257/V257*100) -> 95
A258: 61.8 | B258: Гатчинский район | C258: Кобринское сельское поселение | D258: 2026 | E258: ='Итого отбор 2024-2026'!E445 -> 2 | F258: ='Итого отбор 2024-2026'!F445 -> 11.54 | G258: ='Итого отбор 2024-2026'!G445 -> 4.81 | H258: ='Итого отбор 2024-2026'!H445 -> 2 | I258: ='Итого отбор 2024-2026'!I445 -> 11.33 | J258: ='Итого отбор 2024-2026'!J445 -> 5 | K258: =E258+F258+G258+H258+I258 -> 31.68 | L258: 12368.39 | M258: 11131.55 | N258: 8657.87 | O258: 6184.2 | P258: 3710.52 | Q258: 488.77 | R258: 2100 | S258: 200 | T258: 95 | U258: =IF((V258=0),0,W258/V258*100) -> 94.999997 | V258: =ROUND(((E258*L258+F258*M258+G258*N258+H258*O258+I258*P258)+Q258*J258+R258*J258+S258*(E258+F258+G258+H258+I258)),2) -> 268527.66 | W258: =IF((Z258>T258),Y258-0.01,Y258) -> 255101.27 | X258: =V258-W258 -> 13426.39 | Y258: =ROUND((V258*T258/100),2) -> 255101.28 | Z258: =IF((V258=0),0,Y258/V258*100) -> 95.000001
A259: 61.9 | B259: Гатчинский район | C259: Коммунарское городское поселение | D259: 2026 | E259: ='Итого отбор 2024-2026'!E446 -> 0 | F259: ='Итого отбор 2024-2026'!F446 -> 0 | G259: ='Итого отбор 2024-2026'!G446 -> 30 | H259: ='Итого отбор 2024-2026'!H446 -> 50 | I259: ='Итого отбор 2024-2026'!I446 -> 15 | J259: ='Итого отбор 2024-2026'!J446 -> 1 | K259: =E259+F259+G259+H259+I259 -> 95 | L259: 12368.39 | M259: 11131.55 | N259: 8657.87 | O259: 6184.2 | P259: 3710.52 | Q259: 488.77 | R259: 2100 | S259: 200 | T259: 95 | U259: =IF((V259=0),0,W259/V259*100) -> 94.999999 | V259: =ROUND(((E259*L259+F259*M259+G259*N259+H259*O259+I259*P259)+Q259*J259+R259*J259+S259*(E259+F259+G259+H259+I259)),2) -> 646192.67 | W259: =IF((Z259>T259),Y259-0.01,Y259) -> 613883.03 | X259: =V259-W259 -> 32309.64 | Y259: =ROUND((V259*T259/100),2) -> 613883.04 | Z259: =IF((V259=0),0,Y259/V259*100) -> 95.000001
A260: 61.10 | B260: Гатчинский район | C260: Новосветское сельское поселение | D260: 2026 | E260: ='Итого отбор 2024-2026'!E447 -> 25 | F260: ='Итого отбор 2024-2026'!F447 -> 15 | G260: ='Итого отбор 2024-2026'!G447 -> 15 | H260: ='Итого отбор 2024-2026'!H447 -> 25 | I260: ='Итого отбор 2024-2026'!I447 -> 17 | J260: ='Итого отбор 2024-2026'!J447 -> 7 | K260: =E260+F260+G260+H260+I260 -> 97 | L260: 12368.39 | M260: 11131.55 | N260: 8657.87 | O260: 6184.2 | P260: 3710.52 | Q260: 488.77 | R260: 2100 | S260: 200 | T260: 95 | U260: =IF((V260=0),0,W260/V260*100) -> 94.999999 | V260: =ROUND(((E260*L260+F260*M260+G260*N260+H260*O260+I260*P260)+Q260*J260+R260*J260+S260*(E260+F260+G260+H260+I260)),2) -> 861256.28 | W260: =IF((Z260>T260),Y260-0.01,Y260) -> 818193.46 | X260: =V260-W260 -> 43062.82 | Y260: =ROUND((V260*T260/100),2) -> 818193.47 | Z260: =IF((V260=0),0,Y260/V260*100) -> 95
A261: 61.11 | B261: Гатчинский район | C261: Пудомягское сельское поселение | D261: 2026 | E261: ='Итого отбор 2024-2026'!E448 -> 0 | F261: ='Итого отбор 2024-2026'!F448 -> 0 | G261: ='Итого отбор 2024-2026'!G448 -> 14 | H261: ='Итого отбор 2024-2026'!H448 -> 0 | I261: ='Итого отбор 2024-2026'!I448 -> 0 | J261: ='Итого отбор 2024-2026'!J448 -> 14 | K261: =E261+F261+G261+H261+I261 -> 14 | L261: 12368.39 | M261: 11131.55 | N261: 8657.87 | O261: 6184.2 | P261: 3710.52 | Q261: 488.77 | R261: 2100 | S261: 200 | T261: 95 | U261: =IF((V261=0),0,W261/V261*100) -> 94.999999 | V261: =ROUND(((E261*L261+F261*M261+G261*N261+H261*O261+I261*P261)+Q261*J261+R261*J261+S261*(E261+F261+G261+H261+I261)),2) -> 160252.96 | W261: =IF((Z261>T261),Y261-0.01,Y261) -> 152240.31 | X261: =V261-W261 -> 8012.65 | Y261: =ROUND((V261*T261/100),2) -> 152240.31 | Z261: =IF((V261=0),0,Y261/V261*100) -> 94.999999
A262: 61.12 | B262: Гатчинский район | C262: Пудостьское сельское поселение | D262: 2026 | E262: ='Итого отбор 2024-2026'!E449 -> 0 | F262: ='Итого отбор 2024-2026'!F449 -> 0 | G262: ='Итого отбор 2024-2026'!G449 -> 4 | H262: ='Итого отбор 2024-2026'!H449 -> 15 | I262: ='Итого отбор 2024-2026'!I449 -> 0 | J262: ='Итого отбор 2024-2026'!J449 -> 8 | K262: =E262+F262+G262+H262+I262 -> 19 | L262: 12368.39 | M262: 11131.55 | N262: 8657.87 | O262: 6184.2 | P262: 3710.52 | Q262: 488.77 | R262: 2100 | S262: 200 | T262: 95 | U262: =IF((V262=0),0,W262/V262*100) -> 94.999995 | V262: =ROUND(((E262*L262+F262*M262+G262*N262+H262*O262+I262*P262)+Q262*J262+R262*J262+S262*(E262+F262+G262+H262+I262)),2) -> 151904.64 | W262: =IF((Z262>T262),Y262-0.01,Y262) -> 144309.4 | X262: =V262-W262 -> 7595.24 | Y262: =ROUND((V262*T262/100),2) -> 144309.41 | Z262: =IF((V262=0),0,Y262/V262*100) -> 95.000001
... A267: 61.17 | B267: Гатчинский район | C267: Таицкое городское поселение | D267: 2026 | E267: ='Итого отбор 2024-2026'!E454 -> 0 | F267: ='Итого отбор 2024-2026'!F454 -> 0 | G267: ='Итого отбор 2024-2026'!G454 -> 0 | H267: ='Итого отбор 2024-2026'!H454 -> 0 | I267: ='Итого отбор 2024-2026'!I454 -> 0 | J267: ='Итого отбор 2024-2026'!J454 -> 0 | K267: =E267+F267+G267+H267+I267 -> 0 | L267: 12368.39 | M267: 11131.55 | N267: 8657.87 | O267: 6184.2 | P267: 3710.52 | Q267: 488.77 | R267: 2100 | S267: 200 | T267: 95 | U267: =IF((V267=0),0,W267/V267*100) -> 0 | V267: =ROUND(((E267*L267+F267*M267+G267*N267+H267*O267+I267*P267)+Q267*J267+R267*J267+S267*(E267+F267+G267+H267+I267)),2) -> 0 | W267: =IF((Z267>T267),Y267-0.01,Y267) -> 0 | X267: =V267-W267 -> 0 | Y267: =ROUND((V267*T267/100),2) -> 0 | Z267: =IF((V267=0),0,Y267/V267*100) -> 0
A268: 61 | B268: Гатчинский муниципальный округ | C268: Гатчинский муниципальный округ | D268: 2025 | E268: =SUM(E251:E267) -> 60.5 | F268: =SUM(F251:F267) -> 56.68 | G268: =SUM(G251:G267) -> 90.7 | H268: =SUM(H251:H267) -> 211.8 | I268: =SUM(I251:I267) -> 317.39 | J268: =SUM(J251:J267) -> 95 | K268: =E268+F268+G268+H268+I268 -> 737.07 | L268: 12368.39 | M268: 11131.55 | N268: 8657.87 | O268: 6184.2 | P268: 3710.52 | Q268: 488.77 | R268: 2100 | S268: 200 | T268: 95 | U268: =IF((V268=0),0,W268/V268*100) -> 95 | V268: =ROUND(((E268*L268+F268*M268+G268*N268+H268*O268+I268*P268)+Q268*J268+R268*J268+S268*(E268+F268+G268+H268+I268)),2) -> 5045335.3 | W268: =IF((Z268>T268),Y268-0.01,Y268) -> 4793068.5 | X268: =V268-W268 -> 252266.77 | Y268: =ROUND((V268*T268/100),2) -> 4793068.5 | Z268: =IF((V268=0),0,Y268/V268*100) -> 95
A269: 62 | B269: Кингисеппский район | C269: Большелуцкое сельское поселение | D269: 2026 | E269: ='Итого отбор 2024-2026'!E455 -> 7.9 | F269: ='Итого отбор 2024-2026'!F455 -> 15.8 | G269: ='Итого отбор 2024-2026'!G455 -> 4.1 | H269: ='Итого отбор 2024-2026'!H455 -> 7.7 | I269: ='Итого отбор 2024-2026'!I455 -> 2 | J269: ='Итого отбор 2024-2026'!J455 -> 13 | K269: =E269+F269+G269+H269+I269 -> 37.5 | L269: 12368.39 | M269: 11131.55 | N269: 8657.87 | O269: 6184.2 | P269: 3710.52 | Q269: 488.77 | R269: 2100 | S269: 200 | T269: 84 | U269: =IF((V269=0),0,W269/V269*100) -> 84 | V269: =ROUND(((E269*L269+F269*M269+G269*N269+H269*O269+I269*P269)+Q269*J269+R269*J269+S269*(E269+F269+G269+H269+I269)),2) -> 405279.43 | W269: =IF((Z269>T269),Y269-0.01,Y269) -> 340434.72 | X269: =V269-W269 -> 64844.71 | Y269: =ROUND((V269*T269/100),2) -> 340434.72 | Z269: =IF((V269=0),0,Y269/V269*100) -> 84
A270: 63 | B270: Кингисеппский район | C270: Вистинское сельское поселение | D270: 2026 | E270: ='Итого отбор 2024-2026'!E456 -> 0 | F270: ='Итого отбор 2024-2026'!F456 -> 0 | G270: ='Итого отбор 2024-2026'!G456 -> 0 | H270: ='Итого отбор 2024-2026'!H456 -> 0 | I270: ='Итого отбор 2024-2026'!I456 -> 0 | J270: ='Итого отбор 2024-2026'!J456 -> 0 | K270: =E270+F270+G270+H270+I270 -> 0 | L270: 12368.39 | M270: 11131.55 | N270: 8657.87 | O270: 6184.2 | P270: 3710.52 | Q270: 488.77 | R270: 2100 | S270: 200 | T270: 71 | U270: =IF((V270=0),0,W270/V270*100) -> 0 | V270: =ROUND(((E270*L270+F270*M270+G270*N270+H270*O270+I270*P270)+Q270*J270+R270*J270+S270*(E270+F270+G270+H270+I270)),2) -> 0 | W270: =IF((Z270>T270),Y270-0.01,Y270) -> 0 | X270: =V270-W270 -> 0 | Y270: =ROUND((V270*T270/100),2) -> 0 | Z270: =IF((V270=0),0,Y270/V270*100) -> 0
A271: 64 | B271: Кингисеппский район | C271: Ивангородское городское поселение | D271: 2026 | E271: ='Итого отбор 2024-2026'!E457 -> 0 | F271: ='Итого отбор 2024-2026'!F457 -> 0 | G271: ='Итого отбор 2024-2026'!G457 -> 0 | H271: ='Итого отбор 2024-2026'!H457 -> 0 | I271: ='Итого отбор 2024-2026'!I457 -> 14.5 | J271: ='Итого отбор 2024-2026'!J457 -> 1 | K271: =E271+F271+G271+H271+I271 -> 14.5 | L271: 12368.39 | M271: 11131.55 | N271: 8657.87 | O271: 6184.2 | P271: 3710.52 | Q271: 488.77 | R271: 2100 | S271: 200 | T271: 90 | U271: =IF((V271=0),0,W271/V271*100) -> 89.999985 | V271: =ROUND(((E271*L271+F271*M271+G271*N271+H271*O271+I271*P271)+Q271*J271+R271*J271+S271*(E271+F271+G271+H271+I271)),2) -> 59291.31 | W271: =IF((Z271>T271),Y271-0.01,Y271) -> 53362.17 | X271: =V271-W271 -> 5929.14 | Y271: =ROUND((V271*T271/100),2) -> 53362.18 | Z271: =IF((V271=0),0,Y271/V271*100) -> 90.000002
A272: 65 | B272: Кингисеппский район | C272: Кингисеппское городское поселение | D272: 2026 | E272: ='Итого отбор 2024-2026'!E458 -> 0 | F272: ='Итого отбор 2024-2026'!F458 -> 0 | G272: ='Итого отбор 2024-2026'!G458 -> 0 | H272: ='Итого отбор 2024-2026'!H458 -> 0 | I272: ='Итого отбор 2024-2026'!I458 -> 0 | J272: ='Итого отбор 2024-2026'!J458 -> 0 | K272: =E272+F272+G272+H272+I272 -> 0 | L272: 12368.39 | M272: 11131.55 | N272: 8657.87 | O272: 6184.2 | P272: 3710.52 | Q272: 488.77 | R272: 2100 | S272: 200 | T272: 91 | U272: =IF((V272=0),0,W272/V272*100) -> 0 | V272: =ROUND(((E272*L272+F272*M272+G272*N272+H272*O272+I272*P272)+Q272*J272+R272*J272+S272*(E272+F272+G272+H272+I272)),2) -> 0 | W272: =IF((Z272>T272),Y272-0.01,Y272) -> 0 | X272: =V272-W272 -> 0 | Y272: =ROUND((V272*T272/100),2) -> 0 | Z272: =IF((V272=0),0,Y272/V272*100) -> 0
A273: 66 | B273: Кингисеппский район | C273: Котельское сельское поселение | D273: 2026 | E273: ='Итого отбор 2024-2026'!E459 -> 0 | F273: ='Итого отбор 2024-2026'!F459 -> 0 | G273: ='Итого отбор 2024-2026'!G459 -> 0 | H273: ='Итого отбор 2024-2026'!H459 -> 0 | I273: ='Итого отбор 2024-2026'!I459 -> 0 | J273: ='Итого отбор 2024-2026'!J459 -> 0 | K273: =E273+F273+G273+H273+I273 -> 0 | L273: 12368.39 | M273: 11131.55 | N273: 8657.87 | O273: 6184.2 | P273: 3710.52 | Q273: 488.77 | R273: 2100 | S273: 200 | T273: 87 | U273: =IF((V273=0),0,W273/V273*100) -> 0 | V273: =ROUND(((E273*L273+F273*M273+G273*N273+H273*O273+I273*P273)+Q273*J273+R273*J273+S273*(E273+F273+G273+H273+I273)),2) -> 0 | W273: =IF((Z273>T273),Y273-0.01,Y273) -> 0 | X273: =V273-W273 -> 0 | Y273: =ROUND((V273*T273/100),2) -> 0 | Z273: =IF((V273=0),0,Y273/V273*100) -> 0
A274: 67 | B274: Кингисеппский район | C274: Кузёмкинское сельское поселение | D274: 2026 | E274: ='Итого отбор 2024-2026'!E460 -> 0 | F274: ='Итого отбор 2024-2026'!F460 -> 0 | G274: ='Итого отбор 2024-2026'!G460 -> 0 | H274: ='Итого отбор 2024-2026'!H460 -> 0 | I274: ='Итого отбор 2024-2026'!I460 -> 0 | J274: ='Итого отбор 2024-2026'!J460 -> 0 | K274: =E274+F274+G274+H274+I274 -> 0 | L274: 12368.39 | M274: 11131.55 | N274: 8657.87 | O274: 6184.2 | P274: 3710.52 | Q274: 488.77 | R274: 2100 | S274: 200 | T274: 84 | U274: =IF((V274=0),0,W274/V274*100) -> 0 | V274: =ROUND(((E274*L274+F274*M274+G274*N274+H274*O274+I274*P274)+Q274*J274+R274*J274+S274*(E274+F274+G274+H274+I274)),2) -> 0 | W274: =IF((Z274>T274),Y274-0.01,Y274) -> 0 | X274: =V274-W274 -> 0 | Y274: =ROUND((V274*T274/100),2) -> 0 | Z274: =IF((V274=0),0,Y274/V274*100) -> 0
A275: 68 | B275: Кингисеппский район | C275: Нежновское сельское поселение | D275: 2026 | E275: ='Итого отбор 2024-2026'!E461 -> 0 | F275: ='Итого отбор 2024-2026'!F461 -> 0 | G275: ='Итого отбор 2024-2026'!G461 -> 0 | H275: ='Итого отбор 2024-2026'!H461 -> 0 | I275: ='Итого отбор 2024-2026'!I461 -> 47.136 | J275: ='Итого отбор 2024-2026'!J461 -> 16 | K275: =E275+F275+G275+H275+I275 -> 47.136 | L275: 12368.39 | M275: 11131.55 | N275: 8657.87 | O275: 6184.2 | P275: 3710.52 | Q275: 488.77 | R275: 2100 | S275: 200 | T275: 90 | U275: =IF((V275=0),0,W275/V275*100) -> 90 | V275: =ROUND(((E275*L275+F275*M275+G275*N275+H275*O275+I275*P275)+Q275*J275+R275*J275+S275*(E275+F275+G275+H275+I275)),2) -> 225746.59 | W275: =IF((Z275>T275),Y275-0.01,Y275) -> 203171.93 | X275: =V275-W275 -> 22574.66 | Y275: =ROUND((V275*T275/100),2) -> 203171.93 | Z275: =IF((V275=0),0,Y275/V275*100) -> 90
A276: 69 | B276: Кингисеппский район | C276: Опольевское сельское поселение | D276: 2026 | E276: ='Итого отбор 2024-2026'!E462 -> 0 | F276: ='Итого отбор 2024-2026'!F462 -> 0 | G276: ='Итого отбор 2024-2026'!G462 -> 0 | H276: ='Итого отбор 2024-2026'!H462 -> 0 | I276: ='Итого отбор 2024-2026'!I462 -> 0 | J276: ='Итого отбор 2024-2026'!J462 -> 0 | K276: =E276+F276+G276+H276+I276 -> 0 | L276: 12368.39 | M276: 11131.55 | N276: 8657.87 | O276: 6184.2 | P276: 3710.52 | Q276: 488.77 | R276: 2100 | S276: 200 | T276: 89 | U276: =IF((V276=0),0,W276/V276*100) -> 0 | V276: =ROUND(((E276*L276+F276*M276+G276*N276+H276*O276+I276*P276)+Q276*J276+R276*J276+S276*(E276+F276+G276+H276+I276)),2) -> 0 | W276: =IF((Z276>T276),Y276-0.01,Y276) -> 0 | X276: =V276-W276 -> 0 | Y276: =ROUND((V276*T276/100),2) -> 0 | Z276: =IF((V276=0),0,Y276/V276*100) -> 0
A277: 70 | B277: Кингисеппский район | C277: Пустомержское сельское поселение | D277: 2026 | E277: ='Итого отбор 2024-2026'!E463 -> 0 | F277: ='Итого отбор 2024-2026'!F463 -> 0 | G277: ='Итого отбор 2024-2026'!G463 -> 0 | H277: ='Итого отбор 2024-2026'!H463 -> 0 | I277: ='Итого отбор 2024-2026'!I463 -> 0 | J277: ='Итого отбор 2024-2026'!J463 -> 0 | K277: =E277+F277+G277+H277+I277 -> 0 | L277: 12368.39 | M277: 11131.55 | N277: 8657.87 | O277: 6184.2 | P277: 3710.52 | Q277: 488.77 | R277: 2100 | S277: 200 | T277: 94 | U277: =IF((V277=0),0,W277/V277*100) -> 0 | V277: =ROUND(((E277*L277+F277*M277+G277*N277+H277*O277+I277*P277)+Q277*J277+R277*J277+S277*(E277+F277+G277+H277+I277)),2) -> 0 | W277: =IF((Z277>T277),Y277-0.01,Y277) -> 0 | X277: =V277-W277 -> 0 | Y277: =ROUND((V277*T277/100),2) -> 0 | Z277: =IF((V277=0),0,Y277/V277*100) -> 0
A278: 71 | B278: Кингисеппский район | C278: Усть-Лужское сельское поселение | D278: 2026 | E278: ='Итого отбор 2024-2026'!E464 -> 0 | F278: ='Итого отбор 2024-2026'!F464 -> 0 | G278: ='Итого отбор 2024-2026'!G464 -> 0 | H278: ='Итого отбор 2024-2026'!H464 -> 0 | I278: ='Итого отбор 2024-2026'!I464 -> 0 | J278: ='Итого отбор 2024-2026'!J464 -> 0 | K278: =E278+F278+G278+H278+I278 -> 0 | L278: 12368.39 | M278: 11131.55 | N278: 8657.87 | O278: 6184.2 | P278: 3710.52 | Q278: 488.77 | R278: 2100 | S278: 200 | T278: 71 | U278: =IF((V278=0),0,W278/V278*100) -> 0 | V278: =ROUND(((E278*L278+F278*M278+G278*N278+H278*O278+I278*P278)+Q278*J278+R278*J278+S278*(E278+F278+G278+H278+I278)),2) -> 0 | W278: =IF((Z278>T278),Y278-0.01,Y278) -> 0 | X278: =V278-W278 -> 0 | Y278: =ROUND((V278*T278/100),2) -> 0 | Z278: =IF((V278=0),0,Y278/V278*100) -> 0
A279: 72 | B279: Кингисеппский район | C279: Фалилеевское сельское поселение | D279: 2026 | E279: ='Итого отбор 2024-2026'!E465 -> 0 | F279: ='Итого отбор 2024-2026'!F465 -> 0 | G279: ='Итого отбор 2024-2026'!G465 -> 0 | H279: ='Итого отбор 2024-2026'!H465 -> 0 | I279: ='Итого отбор 2024-2026'!I465 -> 69.72 | J279: ='Итого отбор 2024-2026'!J465 -> 27 | K279: =E279+F279+G279+H279+I279 -> 69.72 | L279: 12368.39 | M279: 11131.55 | N279: 8657.87 | O279: 6184.2 | P279: 3710.52 | Q279: 488.77 | R279: 2100 | S279: 200 | T279: 91 | U279: =IF((V279=0),0,W279/V279*100) -> 90.999998 | V279: =ROUND(((E279*L279+F279*M279+G279*N279+H279*O279+I279*P279)+Q279*J279+R279*J279+S279*(E279+F279+G279+H279+I279)),2) -> 342538.24 | W279: =IF((Z279>T279),Y279-0.01,Y279) -> 311709.79 | X279: =V279-W279 -> 30828.45 | Y279: =ROUND((V279*T279/100),2) -> 311709.8 | Z279: =IF((V279=0),0,Y279/V279*100) -> 91
A280: 73 | B280: Киришский район | C280: Будогощское городское поселение | D280: 2026 | E280: ='Итого отбор 2024-2026'!E466 -> 0 | F280: ='Итого отбор 2024-2026'!F466 -> 0 | G280: ='Итого отбор 2024-2026'!G466 -> 0 | H280: ='Итого отбор 2024-2026'!H466 -> 10.3 | I280: ='Итого отбор 2024-2026'!I466 -> 0 | J280: ='Итого отбор 2024-2026'!J466 -> 2 | K280: =E280+F280+G280+H280+I280 -> 10.3 | L280: 12368.39 | M280: 11131.55 | N280: 8657.87 | O280: 6184.2 | P280: 3710.52 | Q280: 488.77 | R280: 2100 | S280: 200 | T280: 82 | U280: =IF((V280=0),0,W280/V280*100) -> 81.999992 | V280: =ROUND(((E280*L280+F280*M280+G280*N280+H280*O280+I280*P280)+Q280*J280+R280*J280+S280*(E280+F280+G280+H280+I280)),2) -> 70934.8 | W280: =IF((Z280>T280),Y280-0.01,Y280) -> 58166.53 | X280: =V280-W280 -> 12768.27 | Y280: =ROUND((V280*T280/100),2) -> 58166.54 | Z280: =IF((V280=0),0,Y280/V280*100) -> 82.000006
... A379: 172 | B379: Тосненский район | C379: Шапкинское сельское поселение | D379: 2026 | E379: ='Итого отбор 2024-2026'!E565 -> 0 | F379: ='Итого отбор 2024-2026'!F565 -> 0 | G379: ='Итого отбор 2024-2026'!G565 -> 0 | H379: ='Итого отбор 2024-2026'!H565 -> 0 | I379: ='Итого отбор 2024-2026'!I565 -> 0 | J379: ='Итого отбор 2024-2026'!J565 -> 0 | K379: =E379+F379+G379+H379+I379 -> 0 | L379: 12368.39 | M379: 11131.55 | N379: 8657.87 | O379: 6184.2 | P379: 3710.52 | Q379: 488.77 | R379: 2100 | S379: 200 | T379: 87 | U379: =IF((V379=0),0,W379/V379*100) -> 0 | V379: =ROUND(((E379*L379+F379*M379+G379*N379+H379*O379+I379*P379)+Q379*J379+R379*J379+S379*(E379+F379+G379+H379+I379)),2) -> 0 | W379: =IF((Z379>T379),Y379-0.01,Y379) -> 0 | X379: =V379-W379 -> 0 | Y379: =ROUND((V379*T379/100),2) -> 0 | Z379: =IF((V379=0),0,Y379/V379*100) -> 0
A380: 1 | B380: Бокситогорский район | C380: Бокситогорское городское поселение | D380: 2027 | E380: 0 | F380: 0 | G380: 0.26 | H380: 0 | I380: 2.42 | J380: 1 | K380: =E380+F380+G380+H380+I380 -> 2.68 | L380: 12368.39 | M380: 11131.55 | N380: 8657.87 | O380: 6184.2 | P380: 3710.52 | Q380: 488.77 | R380: 2100 | S380: 200 | T380: 93 | U380: =IF((V380=0),0,W380/V380*100) -> 92.999992 | V380: =ROUND(((E380*L380+F380*M380+G380*N380+H380*O380+I380*P380)+Q380*J380+R380*J380+S380*(E380+F380+G380+H380+I380)),2) -> 14355.27 | W380: =IF((Z380>T380),Y380-0.01,Y380) -> 13350.4 | X380: =V380-W380 -> 1004.87 | Y380: =ROUND((V380*T380/100),2) -> 13350.4 | Z380: =IF((V380=0),0,Y380/V380*100) -> 92.999992
A381: 2 | B381: Бокситогорский район | C381: Большедворское сельское поселение | D381: 2027 | E381: 20 | F381: 0 | G381: 0 | H381: 17.5 | I381: 18.7 | J381: 4 | K381: =E381+F381+G381+H381+I381 -> 56.2 | L381: 12368.39 | M381: 11131.55 | N381: 8657.87 | O381: 6184.2 | P381: 3710.52 | Q381: 488.77 | R381: 2100 | S381: 200 | T381: 90 | U381: =IF((V381=0),0,W381/V381*100) -> 90 | V381: =ROUND(((E381*L381+F381*M381+G381*N381+H381*O381+I381*P381)+Q381*J381+R381*J381+S381*(E381+F381+G381+H381+I381)),2) -> 446573.1 | W381: =IF((Z381>T381),Y381-0.01,Y381) -> 401915.79 | X381: =V381-W381 -> 44657.31 | Y381: =ROUND((V381*T381/100),2) -> 401915.79 | Z381: =IF((V381=0),0,Y381/V381*100) -> 90
A382: 3 | B382: Бокситогорский район | C382: Борское сельское поселение | D382: 2027 | E382: 0 | F382: 0 | G382: 0 | H382: 11.050247 | I382: 5 | J382: 7 | K382: =E382+F382+G382+H382+I382 -> 16.050247 | L382: 12368.39 | M382: 11131.55 | N382: 8657.87 | O382: 6184.2 | P382: 3710.52 | Q382: 488.77 | R382: 2100 | S382: 200 | T382: 90 | U382: =IF((V382=0),0,W382/V382*100) -> 89.999998 | V382: =ROUND(((E382*L382+F382*M382+G382*N382+H382*O382+I382*P382)+Q382*J382+R382*J382+S382*(E382+F382+G382+H382+I382)),2) -> 108220.98 | W382: =IF((Z382>T382),Y382-0.01,Y382) -> 97398.88 | X382: =V382-W382 -> 10822.1 | Y382: =ROUND((V382*T382/100),2) -> 97398.88 | Z382: =IF((V382=0),0,Y382/V382*100) -> 89.999998
A383: 4 | B383: Бокситогорский район | C383: Ефимовское городское поселение | D383: 2027 | E383: 0 | F383: 0 | G383: 0.2 | H383: 3.5 | I383: 0 | J383: 2 | K383: =E383+F383+G383+H383+I383 -> 3.7 | L383: 12368.39 | M383: 11131.55 | N383: 8657.87 | O383: 6184.2 | P383: 3710.52 | Q383: 488.77 | R383: 2100 | S383: 200 | T383: 92 | U383: =IF((V383=0),0,W383/V383*100) -> 91.999982 | V383: =ROUND(((E383*L383+F383*M383+G383*N383+H383*O383+I383*P383)+Q383*J383+R383*J383+S383*(E383+F383+G383+H383+I383)),2) -> 29293.81 | W383: =IF((Z383>T383),Y383-0.01,Y383) -> 26950.3 | X383: =V383-W383 -> 2343.51 | Y383: =ROUND((V383*T383/100),2) -> 26950.31 | Z383: =IF((V383=0),0,Y383/V383*100) -> 92.000016
A384: 5 | B384: Бокситогорский район | C384: Лидское сельское поселение | D384: 2027 | K384: =E384+F384+G384+H384+I384 -> 0 | L384: 12368.39 | M384: 11131.55 | N384: 8657.87 | O384: 6184.2 | P384: 3710.52 | Q384: 488.77 | R384: 2100 | S384: 200 | T384: 88 | U384: =IF((V384=0),0,W384/V384*100) -> 0 | V384: =ROUND(((E384*L384+F384*M384+G384*N384+H384*O384+I384*P384)+Q384*J384+R384*J384+S384*(E384+F384+G384+H384+I384)),2) -> 0 | W384: =IF((Z384>T384),Y384-0.01,Y384) -> 0 | X384: =V384-W384 -> 0 | Y384: =ROUND((V384*T384/100),2) -> 0 | Z384: =IF((V384=0),0,Y384/V384*100) -> 0
A385: 6 | B385: Бокситогорский район | C385: Пикалёвское городское поселение | D385: 2027 | E385: 0 | F385: 0 | G385: 23.5 | H385: 0 | I385: 0 | J385: 1 | K385: =E385+F385+G385+H385+I385 -> 23.5 | L385: 12368.39 | M385: 11131.55 | N385: 8657.87 | O385: 6184.2 | P385: 3710.52 | Q385: 488.77 | R385: 2100 | S385: 200 | T385: 91 | U385: =IF((V385=0),0,W385/V385*100) -> 90.999998 | V385: =ROUND(((E385*L385+F385*M385+G385*N385+H385*O385+I385*P385)+Q385*J385+R385*J385+S385*(E385+F385+G385+H385+I385)),2) -> 210748.72 | W385: =IF((Z385>T385),Y385-0.01,Y385) -> 191781.33 | X385: =V385-W385 -> 18967.39 | Y385: =ROUND((V385*T385/100),2) -> 191781.34 | Z385: =IF((V385=0),0,Y385/V385*100) -> 91.000002
A386: 7 | B386: Бокситогорский район | C386: Самойловское сельское поселение | D386: 2027 | E386: 0 | F386: 0 | G386: 0 | H386: 0 | I386: 45.52 | J386: 4 | K386: =E386+F386+G386+H386+I386 -> 45.52 | L386: 12368.39 | M386: 11131.55 | N386: 8657.87 | O386: 6184.2 | P386: 3710.52 | Q386: 488.77 | R386: 2100 | S386: 200 | T386: 90 | U386: =IF((V386=0),0,W386/V386*100) -> 89.999997 | V386: =ROUND(((E386*L386+F386*M386+G386*N386+H386*O386+I386*P386)+Q386*J386+R386*J386+S386*(E386+F386+G386+H386+I386)),2) -> 188361.95 | W386: =IF((Z386>T386),Y386-0.01,Y386) -> 169525.75 | X386: =V386-W386 -> 18836.2 | Y386: =ROUND((V386*T386/100),2) -> 169525.76 | Z386: =IF((V386=0),0,Y386/V386*100) -> 90.000003
A387: 8 | B387: Волосовский район | C387: Бегуницкое сельское поселение | D387: 2027 | E387: 32 | F387: 78 | G387: 10 | H387: 5 | I387: 5 | J387: 30 | K387: =E387+F387+G387+H387+I387 -> 130 | L387: 12368.39 | M387: 11131.55 | N387: 8657.87 | O387: 6184.2 | P387: 3710.52 | Q387: 488.77 | R387: 2100 | S387: 200 | T387: 90 | U387: =IF((V387=0),0,W387/V387*100) -> 90 | V387: =ROUND(((E387*L387+F387*M387+G387*N387+H387*O387+I387*P387)+Q387*J387+R387*J387+S387*(E387+F387+G387+H387+I387)),2) -> 1503764.8 | W387: =IF((Z387>T387),Y387-0.01,Y387) -> 1353388.3 | X387: =V387-W387 -> 150376.48 | Y387: =ROUND((V387*T387/100),2) -> 1353388.3 | Z387: =IF((V387=0),0,Y387/V387*100) -> 90
A388: 9 | B388: Волосовский район | C388: Большеврудское сельское поселение | D388: 2027 | E388: 35 | F388: 50 | G388: 40 | H388: 20 | I388: 57.5 | J388: 36 | K388: =E388+F388+G388+H388+I388 -> 202.5 | L388: 12368.39 | M388: 11131.55 | N388: 8657.87 | O388: 6184.2 | P388: 3710.52 | Q388: 488.77 | R388: 2100 | S388: 200 | T388: 91 | U388: =IF((V388=0),0,W388/V388*100) -> 91 | V388: =ROUND(((E388*L388+F388*M388+G388*N388+H388*O388+I388*P388)+Q388*J388+R388*J388+S388*(E388+F388+G388+H388+I388)),2) -> 1806520.6 | W388: =IF((Z388>T388),Y388-0.01,Y388) -> 1643933.7 | X388: =V388-W388 -> 162586.86 | Y388: =ROUND((V388*T388/100),2) -> 1643933.7 | Z388: =IF((V388=0),0,Y388/V388*100) -> 91
A389: 10 | B389: Волосовский район | C389: Волосовское городское поселение | D389: 2027 | E389: 0 | F389: 0 | G389: 0 | H389: 0 | I389: 170 | J389: 2 | K389: =E389+F389+G389+H389+I389 -> 170 | L389: 12368.39 | M389: 11131.55 | N389: 8657.87 | O389: 6184.2 | P389: 3710.52 | Q389: 488.77 | R389: 2100 | S389: 200 | T389: 90 | U389: =IF((V389=0),0,W389/V389*100) -> 89.999999 | V389: =ROUND(((E389*L389+F389*M389+G389*N389+H389*O389+I389*P389)+Q389*J389+R389*J389+S389*(E389+F389+G389+H389+I389)),2) -> 669965.94 | W389: =IF((Z389>T389),Y389-0.01,Y389) -> 602969.34 | X389: =V389-W389 -> 66996.6 | Y389: =ROUND((V389*T389/100),2) -> 602969.35 | Z389: =IF((V389=0),0,Y389/V389*100) -> 90.000001
A390: 11 | B390: Волосовский район | C390: Калитинское сельское поселение | D390: 2027 | E390: 0 | F390: 0 | G390: 13 | H390: 25.2 | I390: 15 | J390: 16 | K390: =E390+F390+G390+H390+I390 -> 53.2 | L390: 12368.39 | M390: 11131.55 | N390: 8657.87 | O390: 6184.2 | P390: 3710.52 | Q390: 488.77 | R390: 2100 | S390: 200 | T390: 91 | U390: =IF((V390=0),0,W390/V390*100) -> 90.999998 | V390: =ROUND(((E390*L390+F390*M390+G390*N390+H390*O390+I390*P390)+Q390*J390+R390*J390+S390*(E390+F390+G390+H390+I390)),2) -> 376112.27 | W390: =IF((Z390>T390),Y390-0.01,Y390) -> 342262.16 | X390: =V390-W390 -> 33850.11 | Y390: =ROUND((V390*T390/100),2) -> 342262.17 | Z390: =IF((V390=0),0,Y390/V390*100) -> 91.000001
A391: 12 | B391: Волосовский район | C391: Клопицкое сельское поселение | D391: 2027 | E391: 0 | F391: 0 | G391: 59.8 | H391: 0 | I391: 0 | J391: 17 | K391: =E391+F391+G391+H391+I391 -> 59.8 | L391: 12368.39 | M391: 11131.55 | N391: 8657.87 | O391: 6184.2 | P391: 3710.52 | Q391: 488.77 | R391: 2100 | S391: 200 | T391: 92 | U391: =IF((V391=0),0,W391/V391*100) -> 92 | V391: =ROUND(((E391*L391+F391*M391+G391*N391+H391*O391+I391*P391)+Q391*J391+R391*J391+S391*(E391+F391+G391+H391+I391)),2) -> 573709.72 | W391: =IF((Z391>T391),Y391-0.01,Y391) -> 527812.94 | X391: =V391-W391 -> 45896.78 | Y391: =ROUND((V391*T391/100),2) -> 527812.94 | Z391: =IF((V391=0),0,Y391/V391*100) -> 92
A392: 13 | B392: Волосовский район | C392: Рабитицкое сельское поселение | D392: 2027 | E392: 10 | F392: 10 | G392: 20 | H392: 10 | I392: 10 | J392: 8 | K392: =E392+F392+G392+H392+I392 -> 60 | L392: 12368.39 | M392: 11131.55 | N392: 8657.87 | O392: 6184.2 | P392: 3710.52 | Q392: 488.77 | R392: 2100 | S392: 200 | T392: 91 | U392: =IF((V392=0),0,W392/V392*100) -> 90.999999 | V392: =ROUND(((E392*L392+F392*M392+G392*N392+H392*O392+I392*P392)+Q392*J392+R392*J392+S392*(E392+F392+G392+H392+I392)),2) -> 539814.16 | W392: =IF((Z392>T392),Y392-0.01,Y392) -> 491230.88 | X392: =V392-W392 -> 48583.28 | Y392: =ROUND((V392*T392/100),2) -> 491230.89 | Z392: =IF((V392=0),0,Y392/V392*100) -> 91.000001
A393: 14 | B393: Волосовский район | C393: Сабское сельское поселение | D393: 2027 | K393: =E393+F393+G393+H393+I393 -> 0 | L393: 12368.39 | M393: 11131.55 | N393: 8657.87 | O393: 6184.2 | P393: 3710.52 | Q393: 488.77 | R393: 2100 | S393: 200 | T393: 91 | U393: =IF((V393=0),0,W393/V393*100) -> 0 | V393: =ROUND(((E393*L393+F393*M393+G393*N393+H393*O393+I393*P393)+Q393*J393+R393*J393+S393*(E393+F393+G393+H393+I393)),2) -> 0 | W393: =IF((Z393>T393),Y393-0.01,Y393) -> 0 | X393: =V393-W393 -> 0 | Y393: =ROUND((V393*T393/100),2) -> 0 | Z393: =IF((V393=0),0,Y393/V393*100) -> 0
A394: 15 | B394: Волховский район | C394: Бережковское сельское поселение | D394: 2027 | E394: 0 | F394: 25.5 | G394: 0.5 | H394: 18.1 | I394: 6 | J394: 7 | K394: =E394+F394+G394+H394+I394 -> 50.1 | L394: 12368.39 | M394: 11131.55 | N394: 8657.87 | O394: 6184.2 | P394: 3710.52 | Q394: 488.77 | R394: 2100 | S394: 200 | T394: 83 | U394: =IF((V394=0),0,W394/V394*100) -> 83 | V394: =ROUND(((E394*L394+F394*M394+G394*N394+H394*O394+I394*P394)+Q394*J394+R394*J394+S394*(E394+F394+G394+H394+I394)),2) -> 450521.99 | W394: =IF((Z394>T394),Y394-0.01,Y394) -> 373933.25 | X394: =V394-W394 -> 76588.74 | Y394: =ROUND((V394*T394/100),2) -> 373933.25 | Z394: =IF((V394=0),0,Y394/V394*100) -> 83
A395: 16 | B395: Волховский район | C395: Волховское городское поселение | D395: 2027 | E395: 0 | F395: 0 | G395: 0 | H395: 10 | I395: 30 | J395: 1 | K395: =E395+F395+G395+H395+I395 -> 40 | L395: 12368.39 | M395: 11131.55 | N395: 8657.87 | O395: 6184.2 | P395: 3710.52 | Q395: 488.77 | R395: 2100 | S395: 200 | T395: 88 | U395: =IF((V395=0),0,W395/V395*100) -> 87.999997 | V395: =ROUND(((E395*L395+F395*M395+G395*N395+H395*O395+I395*P395)+Q395*J395+R395*J395+S395*(E395+F395+G395+H395+I395)),2) -> 183746.37 | W395: =IF((Z395>T395),Y395-0.01,Y395) -> 161696.8 | X395: =V395-W395 -> 22049.57 | Y395: =ROUND((V395*T395/100),2) -> 161696.81 | Z395: =IF((V395=0),0,Y395/V395*100) -> 88.000002
A396: 17 | B396: Волховский район | C396: Вындиноостровское сельское поселение | D396: 2027 | E396: 5 | F396: 20 | G396: 2 | H396: 6 | I396: 2 | J396: 4 | K396: =E396+F396+G396+H396+I396 -> 35 | L396: 12368.39 | M396: 11131.55 | N396: 8657.87 | O396: 6184.2 | P396: 3710.52 | Q396: 488.77 | R396: 2100 | S396: 200 | T396: 90 | U396: =IF((V396=0),0,W396/V396*100) -> 89.999998 | V396: =ROUND(((E396*L396+F396*M396+G396*N396+H396*O396+I396*P396)+Q396*J396+R396*J396+S396*(E396+F396+G396+H396+I396)),2) -> 363670.01 | W396: =IF((Z396>T396),Y396-0.01,Y396) -> 327303 | X396: =V396-W396 -> 36367.01 | Y396: =ROUND((V396*T396/100),2) -> 327303.01 | Z396: =IF((V396=0),0,Y396/V396*100) -> 90
A397: 18 | B397: Волховский район | C397: Иссадское сельское поселение | D397: 2027 | K397: =E397+F397+G397+H397+I397 -> 0 | L397: 12368.39 | M397: 11131.55 | N397: 8657.87 | O397: 6184.2 | P397: 3710.52 | Q397: 488.77 | R397: 2100 | S397: 200 | T397: 86 | U397: =IF((V397=0),0,W397/V397*100) -> 0 | V397: =ROUND(((E397*L397+F397*M397+G397*N397+H397*O397+I397*P397)+Q397*J397+R397*J397+S397*(E397+F397+G397+H397+I397)),2) -> 0 | W397: =IF((Z397>T397),Y397-0.01,Y397) -> 0 | X397: =V397-W397 -> 0 | Y397: =ROUND((V397*T397/100),2) -> 0 | Z397: =IF((V397=0),0,Y397/V397*100) -> 0
A398: 19 | B398: Волховский район | C398: Кисельнинское сельское поселение | D398: 2027 | E398: 0 | F398: 0 | G398: 0 | H398: 0 | I398: 0 | J398: 0 | K398: =E398+F398+G398+H398+I398 -> 0 | L398: 12368.39 | M398: 11131.55 | N398: 8657.87 | O398: 6184.2 | P398: 3710.52 | Q398: 488.77 | R398: 2100 | S398: 200 | T398: 84 | U398: =IF((V398=0),0,W398/V398*100) -> 0 | V398: =ROUND(((E398*L398+F398*M398+G398*N398+H398*O398+I398*P398)+Q398*J398+R398*J398+S398*(E398+F398+G398+H398+I398)),2) -> 0 | W398: =IF((Z398>T398),Y398-0.01,Y398) -> 0 | X398: =V398-W398 -> 0 | Y398: =ROUND((V398*T398/100),2) -> 0 | Z398: =IF((V398=0),0,Y398/V398*100) -> 0
A399: 20 | B399: Волховский район | C399: Колчановское сельское поселение | D399: 2027 | K399: =E399+F399+G399+H399+I399 -> 0 | L399: 12368.39 | M399: 11131.55 | N399: 8657.87 | O399: 6184.2 | P399: 3710.52 | Q399: 488.77 | R399: 2100 | S399: 200 | T399: 90 | U399: =IF((V399=0),0,W399/V399*100) -> 0 | V399: =ROUND(((E399*L399+F399*M399+G399*N399+H399*O399+I399*P399)+Q399*J399+R399*J399+S399*(E399+F399+G399+H399+I399)),2) -> 0 | W399: =IF((Z399>T399),Y399-0.01,Y399) -> 0 | X399: =V399-W399 -> 0 | Y399: =ROUND((V399*T399/100),2) -> 0 | Z399: =IF((V399=0),0,Y399/V399*100) -> 0
A400: 21 | B400: Волховский район | C400: Новоладожское городское поселение | D400: 2027 | K400: =E400+F400+G400+H400+I400 -> 0 | L400: 12368.39 | M400: 11131.55 | N400: 8657.87 | O400: 6184.2 | P400: 3710.52 | Q400: 488.77 | R400: 2100 | S400: 200 | T400: 88 | U400: =IF((V400=0),0,W400/V400*100) -> 0 | V400: =ROUND(((E400*L400+F400*M400+G400*N400+H400*O400+I400*P400)+Q400*J400+R400*J400+S400*(E400+F400+G400+H400+I400)),2) -> 0 | W400: =IF((Z400>T400),Y400-0.01,Y400) -> 0 | X400: =V400-W400 -> 0 | Y400: =ROUND((V400*T400/100),2) -> 0 | Z400: =IF((V400=0),0,Y400/V400*100) -> 0
A401: 22 | B401: Волховский район | C401: Пашское сельское поселение | D401: 2027 | E401: 0 | F401: 0 | G401: 0 | H401: 20 | I401: 0 | J401: 8 | K401: =E401+F401+G401+H401+I401 -> 20 | L401: 12368.39 | M401: 11131.55 | N401: 8657.87 | O401: 6184.2 | P401: 3710.52 | Q401: 488.77 | R401: 2100 | S401: 200 | T401: 89 | U401: =IF((V401=0),0,W401/V401*100) -> 88.999998 | V401: =ROUND(((E401*L401+F401*M401+G401*N401+H401*O401+I401*P401)+Q401*J401+R401*J401+S401*(E401+F401+G401+H401+I401)),2) -> 148394.16 | W401: =IF((Z401>T401),Y401-0.01,Y401) -> 132070.8 | X401: =V401-W401 -> 16323.36 | Y401: =ROUND((V401*T401/100),2) -> 132070.8 | Z401: =IF((V401=0),0,Y401/V401*100) -> 88.999998
A402: 23 | B402: Волховский район | C402: Потанинское сельское поселение | D402: 2027 | E402: 0 | F402: 5 | G402: 0 | H402: 0 | I402: 0 | J402: 3 | K402: =E402+F402+G402+H402+I402 -> 5 | L402: 12368.39 | M402: 11131.55 | N402: 8657.87 | O402: 6184.2 | P402: 3710.52 | Q402: 488.77 | R402: 2100 | S402: 200 | T402: 89 | U402: =IF((V402=0),0,W402/V402*100) -> 88.999995 | V402: =ROUND(((E402*L402+F402*M402+G402*N402+H402*O402+I402*P402)+Q402*J402+R402*J402+S402*(E402+F402+G402+H402+I402)),2) -> 64424.06 | W402: =IF((Z402>T402),Y402-0.01,Y402) -> 57337.41 | X402: =V402-W402 -> 7086.65 | Y402: =ROUND((V402*T402/100),2) -> 57337.41 | Z402: =IF((V402=0),0,Y402/V402*100) -> 88.999995
A403: 24 | B403: Волховский район | C403: Свирицкое сельское поселение | D403: 2027 | K403: =E403+F403+G403+H403+I403 -> 0 | L403: 12368.39 | M403: 11131.55 | N403: 8657.87 | O403: 6184.2 | P403: 3710.52 | Q403: 488.77 | R403: 2100 | S403: 200 | T403: 89 | U403: =IF((V403=0),0,W403/V403*100) -> 0 | V403: =ROUND(((E403*L403+F403*M403+G403*N403+H403*O403+I403*P403)+Q403*J403+R403*J403+S403*(E403+F403+G403+H403+I403)),2) -> 0 | W403: =IF((Z403>T403),Y403-0.01,Y403) -> 0 | X403: =V403-W403 -> 0 | Y403: =ROUND((V403*T403/100),2) -> 0 | Z403: =IF((V403=0),0,Y403/V403*100) -> 0
A404: 25 | B404: Волховский район | C404: Селивановское сельское поселение | D404: 2027 | K404: =E404+F404+G404+H404+I404 -> 0 | L404: 12368.39 | M404: 11131.55 | N404: 8657.87 | O404: 6184.2 | P404: 3710.52 | Q404: 488.77 | R404: 2100 | S404: 200 | T404: 90 | U404: =IF((V404=0),0,W404/V404*100) -> 0 | V404: =ROUND(((E404*L404+F404*M404+G404*N404+H404*O404+I404*P404)+Q404*J404+R404*J404+S404*(E404+F404+G404+H404+I404)),2) -> 0 | W404: =IF((Z404>T404),Y404-0.01,Y404) -> 0 | X404: =V404-W404 -> 0 | Y404: =ROUND((V404*T404/100),2) -> 0 | Z404: =IF((V404=0),0,Y404/V404*100) -> 0
A405: 26 | B405: Волховский район | C405: Староладожское сельское поселение | D405: 2027 | E405: 0 | F405: 0 | G405: 0 | H405: 0 | I405: 0 | J405: 0 | K405: =E405+F405+G405+H405+I405 -> 0 | L405: 12368.39 | M405: 11131.55 | N405: 8657.87 | O405: 6184.2 | P405: 3710.52 | Q405: 488.77 | R405: 2100 | S405: 200 | T405: 90 | U405: =IF((V405=0),0,W405/V405*100) -> 0 | V405: =ROUND(((E405*L405+F405*M405+G405*N405+H405*O405+I405*P405)+Q405*J405+R405*J405+S405*(E405+F405+G405+H405+I405)),2) -> 0 | W405: =IF((Z405>T405),Y405-0.01,Y405) -> 0 | X405: =V405-W405 -> 0 | Y405: =ROUND((V405*T405/100),2) -> 0 | Z405: =IF((V405=0),0,Y405/V405*100) -> 0
A406: 27 | B406: Волховский район | C406: Сясьстройское городское поселение | D406: 2027 | K406: =E406+F406+G406+H406+I406 -> 0 | L406: 12368.39 | M406: 11131.55 | N406: 8657.87 | O406: 6184.2 | P406: 3710.52 | Q406: 488.77 | R406: 2100 | S406: 200 | T406: 90 | U406: =IF((V406=0),0,W406/V406*100) -> 0 | V406: =ROUND(((E406*L406+F406*M406+G406*N406+H406*O406+I406*P406)+Q406*J406+R406*J406+S406*(E406+F406+G406+H406+I406)),2) -> 0 | W406: =IF((Z406>T406),Y406-0.01,Y406) -> 0 | X406: =V406-W406 -> 0 | Y406: =ROUND((V406*T406/100),2) -> 0 | Z406: =IF((V406=0),0,Y406/V406*100) -> 0
A407: 28 | B407: Волховский район | C407: Усадищенское сельское поселение | D407: 2027 | K407: =E407+F407+G407+H407+I407 -> 0 | L407: 12368.39 | M407: 11131.55 | N407: 8657.87 | O407: 6184.2 | P407: 3710.52 | Q407: 488.77 | R407: 2100 | S407: 200 | T407: 89 | U407: =IF((V407=0),0,W407/V407*100) -> 0 | V407: =ROUND(((E407*L407+F407*M407+G407*N407+H407*O407+I407*P407)+Q407*J407+R407*J407+S407*(E407+F407+G407+H407+I407)),2) -> 0 | W407: =IF((Z407>T407),Y407-0.01,Y407) -> 0 | X407: =V407-W407 -> 0 | Y407: =ROUND((V407*T407/100),2) -> 0 | Z407: =IF((V407=0),0,Y407/V407*100) -> 0
A408: 29 | B408: Волховский район | C408: Хваловское сельское поселение | D408: 2027 | K408: =E408+F408+G408+H408+I408 -> 0 | L408: 12368.39 | M408: 11131.55 | N408: 8657.87 | O408: 6184.2 | P408: 3710.52 | Q408: 488.77 | R408: 2100 | S408: 200 | T408: 87 | U408: =IF((V408=0),0,W408/V408*100) -> 0 | V408: =ROUND(((E408*L408+F408*M408+G408*N408+H408*O408+I408*P408)+Q408*J408+R408*J408+S408*(E408+F408+G408+H408+I408)),2) -> 0 | W408: =IF((Z408>T408),Y408-0.01,Y408) -> 0 | X408: =V408-W408 -> 0 | Y408: =ROUND((V408*T408/100),2) -> 0 | Z408: =IF((V408=0),0,Y408/V408*100) -> 0
A409: 30 | B409: Всеволожский район | C409: Агалатовское сельское поселение | D409: 2027 | K409: =E409+F409+G409+H409+I409 -> 0 | L409: 12368.39 | M409: 11131.55 | N409: 8657.87 | O409: 6184.2 | P409: 3710.52 | Q409: 488.77 | R409: 2100 | S409: 200 | T409: 89 | U409: =IF((V409=0),0,W409/V409*100) -> 0 | V409: =ROUND(((E409*L409+F409*M409+G409*N409+H409*O409+I409*P409)+Q409*J409+R409*J409+S409*(E409+F409+G409+H409+I409)),2) -> 0 | W409: =IF((Z409>T409),Y409-0.01,Y409) -> 0 | X409: =V409-W409 -> 0 | Y409: =ROUND((V409*T409/100),2) -> 0 | Z409: =IF((V409=0),0,Y409/V409*100) -> 0
A410: 31 | B410: Всеволожский район | C410: Бугровское сельское поселение | D410: 2027 | E410: 0 | F410: 0 | G410: 0 | H410: 21 | I410: 0 | J410: 7 | K410: =E410+F410+G410+H410+I410 -> 21 | L410: 12368.39 | M410: 11131.55 | N410: 8657.87 | O410: 6184.2 | P410: 3710.52 | Q410: 488.77 | R410: 2100 | S410: 200 | T410: 87 | U410: =IF((V410=0),0,W410/V410*100) -> 86.999998 | V410: =ROUND(((E410*L410+F410*M410+G410*N410+H410*O410+I410*P410)+Q410*J410+R410*J410+S410*(E410+F410+G410+H410+I410)),2) -> 152189.59 | W410: =IF((Z410>T410),Y410-0.01,Y410) -> 132404.94 | X410: =V410-W410 -> 19784.65 | Y410: =ROUND((V410*T410/100),2) -> 132404.94 | Z410: =IF((V410=0),0,Y410/V410*100) -> 86.999998
A411: 32 | B411: Всеволожский район | C411: Всеволожское городское поселение | D411: 2027 | K411: =E411+F411+G411+H411+I411 -> 0 | L411: 12368.39 | M411: 11131.55 | N411: 8657.87 | O411: 6184.2 | P411: 3710.52 | Q411: 488.77 | R411: 2100 | S411: 200 | T411: 85 | U411: =IF((V411=0),0,W411/V411*100) -> 0 | V411: =ROUND(((E411*L411+F411*M411+G411*N411+H411*O411+I411*P411)+Q411*J411+R411*J411+S411*(E411+F411+G411+H411+I411)),2) -> 0 | W411: =IF((Z411>T411),Y411-0.01,Y411) -> 0 | X411: =V411-W411 -> 0 | Y411: =ROUND((V411*T411/100),2) -> 0 | Z411: =IF((V411=0),0,Y411/V411*100) -> 0
...

Sheet Доп отбор1 2025-2027
A1: № п/п | B1: Муниципальный район | C1: Муниципальное образование | D1: Год субсидирования | E1: площадь обработки 1 года, га | F1: площадь обработки 2 года, га | G1: площадь обработки 3 года, га | H1: площадь обработки 4 года, га | I1: площадь обработки 5 года, га | J1: Количество населенных пунктов, шт. | K1: Общая площадь обработки, га | L1: Стоимость обработки 1 года, руб./га | M1: Стоимость обработки 2 года, руб./га | N1: Стоимость обработки 3 года, руб./га | O1: Стоимость обработки 4 года, руб./га | P1: Стоимость обработки 5 года, руб./га | Q1: Стоимость отбора образцов, руб./нас. пункт | R1: Стоимость анализа образцов, руб./нас. пункт | S1: Стоимость оценки эффективности, руб./га | T1: Уровень софинансирования, % | U1: Уровень софинансирования реальный, % | V1: Итого размер субсидии, руб. | W1: Итого размер средств областного бюджета окончательный, руб. | X1: Итого размер средств местного бюджета окончательный, руб. | Y1: Итого размер средств областного бюджета расчетный, руб. | Z1: Уровень софинансирования расчетный, %
A2: 1 | B2: Бокситогорский район | C2: Бокситогорское городское поселение | D2: 2025 | E2: 0.26 | F2: 0 | G2: 0 | H2: 0 | I2: 0 | J2: 0 | K2: =E2+F2+G2+H2+I2 -> 0.26 | L2: 12368.39 | M2: 11131.55 | N2: 8657.87 | O2: 6184.2 | P2: 3710.52 | Q2: 488.77 | R2: 2100 | S2: 200 | T2: 90 | U2: =IF((V2=0),0,W2/V2*100) -> 89.999939 | V2: =ROUND(((E2*L2+F2*M2+G2*N2+H2*O2+I2*P2)+Q2*J2+R2*J2+S2*(E2+F2+G2+H2+I2)),2) -> 3267.78 | W2: =IF((Z2>T2),Y2-0.01,Y2) -> 2941 | X2: =V2-W2 -> 326.78 | Y2: =ROUND((V2*T2/100),2) -> 2941 | Z2: =IF((V2=0),0,Y2/V2*100) -> 89.999939
A3: 2 | B3: Бокситогорский район | C3: Большедворское сельское поселение | D3: 2025 | E3: 0 | F3: 0 | G3: 0 | H3: 0 | I3: 0 | J3: 0 | K3: =E3+F3+G3+H3+I3 -> 0 | L3: 12368.39 | M3: 11131.55 | N3: 8657.87 | O3: 6184.2 | P3: 3710.52 | Q3: 488.77 | R3: 2100 | S3: 200 | T3: 90 | U3: =IF((V3=0),0,W3/V3*100) -> 0 | V3: =ROUND(((E3*L3+F3*M3+G3*N3+H3*O3+I3*P3)+Q3*J3+R3*J3+S3*(E3+F3+G3+H3+I3)),2) -> 0 | W3: =IF((Z3>T3),Y3-0.01,Y3) -> 0 | X3: =V3-W3 -> 0 | Y3: =ROUND((V3*T3/100),2) -> 0 | Z3: =IF((V3=0),0,Y3/V3*100) -> 0
A4: 3 | B4: Бокситогорский район | C4: Борское сельское поселение | D4: 2025 | E4: 0 | F4: 11.050247 | G4: 0 | H4: 0 | I4: 0 | J4: 3 | K4: =E4+F4+G4+H4+I4 -> 11.050247 | L4: 12368.39 | M4: 11131.55 | N4: 8657.87 | O4: 6184.2 | P4: 3710.52 | Q4: 488.77 | R4: 2100 | S4: 200 | T4: 89 | U4: =IF((V4=0),0,W4/V4*100) -> 88.999994 | V4: =ROUND(((E4*L4+F4*M4+G4*N4+H4*O4+I4*P4)+Q4*J4+R4*J4+S4*(E4+F4+G4+H4+I4)),2) -> 132982.74 | W4: =IF((Z4>T4),Y4-0.01,Y4) -> 118354.63 | X4: =V4-W4 -> 14628.11 | Y4: =ROUND((V4*T4/100),2) -> 118354.64 | Z4: =IF((V4=0),0,Y4/V4*100) -> 89.000001
A5: 4 | B5: Бокситогорский район | C5: Ефимовское городское поселение | D5: 2025 | E5: 0.2 | F5: 0 | G5: 0 | H5: 0 | I5: 0 | J5: 1 | K5: =E5+F5+G5+H5+I5 -> 0.2 | L5: 12368.39 | M5: 11131.55 | N5: 8657.87 | O5: 6184.2 | P5: 3710.52 | Q5: 488.77 | R5: 2100 | S5: 200 | T5: 93 | U5: =IF((V5=0),0,W5/V5*100) -> 92.999833 | V5: =ROUND(((E5*L5+F5*M5+G5*N5+H5*O5+I5*P5)+Q5*J5+R5*J5+S5*(E5+F5+G5+H5+I5)),2) -> 5102.45 | W5: =IF((Z5>T5),Y5-0.01,Y5) -> 4745.27 | X5: =V5-W5 -> 357.18 | Y5: =ROUND((V5*T5/100),2) -> 4745.28 | Z5: =IF((V5=0),0,Y5/V5*100) -> 93.000029
A6: 5 | B6: Бокситогорский район | C6: Лидское сельское поселение | D6: 2025 | K6: =E6+F6+G6+H6+I6 -> 0 | L6: 12368.39 | M6: 11131.55 | N6: 8657.87 | O6: 6184.2 | P6: 3710.52 | Q6: 488.77 | R6: 2100 | S6: 200 | T6: 87 | U6: =IF((V6=0),0,W6/V6*100) -> 0 | V6: =ROUND(((E6*L6+F6*M6+G6*N6+H6*O6+I6*P6)+Q6*J6+R6*J6+S6*(E6+F6+G6+H6+I6)),2) -> 0 | W6: =IF((Z6>T6),Y6-0.01,Y6) -> 0 | X6: =V6-W6 -> 0 | Y6: =ROUND((V6*T6/100),2) -> 0 | Z6: =IF((V6=0),0,Y6/V6*100) -> 0
A7: 6 | B7: Бокситогорский район | C7: Пикалёвское городское поселение | D7: 2025 | E7: 23.5 | F7: 0 | G7: 0 | H7: 0 | I7: 0 | J7: 1 | K7: =E7+F7+G7+H7+I7 -> 23.5 | L7: 12368.39 | M7: 11131.55 | N7: 8657.87 | O7: 6184.2 | P7: 3710.52 | Q7: 488.77 | R7: 2100 | S7: 200 | T7: 89 | U7: =IF((V7=0),0,W7/V7*100) -> 88.999998 | V7: =ROUND(((E7*L7+F7*M7+G7*N7+H7*O7+I7*P7)+Q7*J7+R7*J7+S7*(E7+F7+G7+H7+I7)),2) -> 297945.94 | W7: =IF((Z7>T7),Y7-0.01,Y7) -> 265171.88 | X7: =V7-W7 -> 32774.06 | Y7: =ROUND((V7*T7/100),2) -> 265171.89 | Z7: =IF((V7=0),0,Y7/V7*100) -> 89.000001
A8: 7 | B8: Бокситогорский район | C8: Самойловское сельское поселение | D8: 2025 | E8: 0 | F8: 0 | G8: 0 | H8: 0 | I8: 0 | J8: 0 | K8: =E8+F8+G8+H8+I8 -> 0 | L8: 12368.39 | M8: 11131.55 | N8: 8657.87 | O8: 6184.2 | P8: 3710.52 | Q8: 488.77 | R8: 2100 | S8: 200 | T8: 84 | U8: =IF((V8=0),0,W8/V8*100) -> 0 | V8: =ROUND(((E8*L8+F8*M8+G8*N8+H8*O8+I8*P8)+Q8*J8+R8*J8+S8*(E8+F8+G8+H8+I8)),2) -> 0 | W8: =IF((Z8>T8),Y8-0.01,Y8) -> 0 | X8: =V8-W8 -> 0 | Y8: =ROUND((V8*T8/100),2) -> 0 | Z8: =IF((V8=0),0,Y8/V8*100) -> 0
A9: 8 | B9: Волосовский район | C9: Бегуницкое сельское поселение | D9: 2025 | E9: 0 | F9: 0 | G9: 0 | H9: 0 | I9: 0 | J9: 0 | K9: =E9+F9+G9+H9+I9 -> 0 | L9: 12368.39 | M9: 11131.55 | N9: 8657.87 | O9: 6184.2 | P9: 3710.52 | Q9: 488.77 | R9: 2100 | S9: 200 | T9: 91 | U9: =IF((V9=0),0,W9/V9*100) -> 0 | V9: =ROUND(((E9*L9+F9*M9+G9*N9+H9*O9+I9*P9)+Q9*J9+R9*J9+S9*(E9+F9+G9+H9+I9)),2) -> 0 | W9: =IF((Z9>T9),Y9-0.01,Y9) -> 0 | X9: =V9-W9 -> 0 | Y9: =ROUND((V9*T9/100),2) -> 0 | Z9: =IF((V9=0),0,Y9/V9*100) -> 0
A10: 9 | B10: Волосовский район | C10: Большеврудское сельское поселение | D10: 2025 | E10: 0 | F10: 0 | G10: 0 | H10: 0 | I10: 0 | J10: 2 | K10: =E10+F10+G10+H10+I10 -> 0 | L10: 12368.39 | M10: 11131.55 | N10: 8657.87 | O10: 6184.2 | P10: 3710.52 | Q10: 488.77 | R10: 2100 | S10: 200 | T10: 91 | U10: =IF((V10=0),0,W10/V10*100) -> 90.999973 | V10: =ROUND(((E10*L10+F10*M10+G10*N10+H10*O10+I10*P10)+Q10*J10+R10*J10+S10*(E10+F10+G10+H10+I10)),2) -> 5177.54 | W10: =IF((Z10>T10),Y10-0.01,Y10) -> 4711.56 | X10: =V10-W10 -> 465.98 | Y10: =ROUND((V10*T10/100),2) -> 4711.56 | Z10: =IF((V10=0),0,Y10/V10*100) -> 90.999973
A11: 10 | B11: Волосовский район | C11: Волосовское городское поселение | D11: 2025 | E11: 0 | F11: 0 | G11: 0 | H11: 0 | I11: 0 | J11: 0 | K11: =E11+F11+G11+H11+I11 -> 0 | L11: 12368.39 | M11: 11131.55 | N11: 8657.87 | O11: 6184.2 | P11: 3710.52 | Q11: 488.77 | R11: 2100 | S11: 200 | T11: 90 | U11: =IF((V11=0),0,W11/V11*100) -> 0 | V11: =ROUND(((E11*L11+F11*M11+G11*N11+H11*O11+I11*P11)+Q11*J11+R11*J11+S11*(E11+F11+G11+H11+I11)),2) -> 0 | W11: =IF((Z11>T11),Y11-0.01,Y11) -> 0 | X11: =V11-W11 -> 0 | Y11: =ROUND((V11*T11/100),2) -> 0 | Z11: =IF((V11=0),0,Y11/V11*100) -> 0
A12: 11 | B12: Волосовский район | C12: Калитинское сельское поселение | D12: 2025 | E12: 13 | F12: 0 | G12: 0 | H12: 0 | I12: 0 | J12: 0 | K12: =E12+F12+G12+H12+I12 -> 13 | L12: 12368.39 | M12: 11131.55 | N12: 8657.87 | O12: 6184.2 | P12: 3710.52 | Q12: 488.77 | R12: 2100 | S12: 200 | T12: 91 | U12: =IF((V12=0),0,W12/V12*100) -> 90.999998 | V12: =ROUND(((E12*L12+F12*M12+G12*N12+H12*O12+I12*P12)+Q12*J12+R12*J12+S12*(E12+F12+G12+H12+I12)),2) -> 163389.07 | W12: =IF((Z12>T12),Y12-0.01,Y12) -> 148684.05 | X12: =V12-W12 -> 14705.02 | Y12: =ROUND((V12*T12/100),2) -> 148684.05 | Z12: =IF((V12=0),0,Y12/V12*100) -> 90.999998
A13: 12 | B13: Волосовский район | C13: Клопицкое сельское поселение | D13: 2025 | E13: 59.8 | F13: 0 | G13: 0 | H13: 0 | I13: 0 | J13: 17 | K13: =E13+F13+G13+H13+I13 -> 59.8 | L13: 12368.39 | M13: 11131.55 | N13: 8657.87 | O13: 6184.2 | P13: 3710.52 | Q13: 488.77 | R13: 2100 | S13: 200 | T13: 92 | U13: =IF((V13=0),0,W13/V13*100) -> 91.999999 | V13: =ROUND(((E13*L13+F13*M13+G13*N13+H13*O13+I13*P13)+Q13*J13+R13*J13+S13*(E13+F13+G13+H13+I13)),2) -> 795598.81 | W13: =IF((Z13>T13),Y13-0.01,Y13) -> 731950.9 | X13: =V13-W13 -> 63647.91 | Y13: =ROUND((V13*T13/100),2) -> 731950.91 | Z13: =IF((V13=0),0,Y13/V13*100) -> 92.000001
A14: 13 | B14: Волосовский район | C14: Рабитицкое сельское поселение | D14: 2025 | E14: 0 | F14: 0 | G14: 0 | H14: 0 | I14: 0 | J14: 0 | K14: =E14+F14+G14+H14+I14 -> 0 | L14: 12368.39 | M14: 11131.55 | N14: 8657.87 | O14: 6184.2 | P14: 3710.52 | Q14: 488.77 | R14: 2100 | S14: 200 | T14: 91 | U14: =IF((V14=0),0,W14/V14*100) -> 0 | V14: =ROUND(((E14*L14+F14*M14+G14*N14+H14*O14+I14*P14)+Q14*J14+R14*J14+S14*(E14+F14+G14+H14+I14)),2) -> 0 | W14: =IF((Z14>T14),Y14-0.01,Y14) -> 0 | X14: =V14-W14 -> 0 | Y14: =ROUND((V14*T14/100),2) -> 0 | Z14: =IF((V14=0),0,Y14/V14*100) -> 0
A15: 14 | B15: Волосовский район | C15: Сабское сельское поселение | D15: 2025 | K15: =E15+F15+G15+H15+I15 -> 0 | L15: 12368.39 | M15: 11131.55 | N15: 8657.87 | O15: 6184.2 | P15: 3710.52 | Q15: 488.77 | R15: 2100 | S15: 200 | T15: 91 | U15: =IF((V15=0),0,W15/V15*100) -> 0 | V15: =ROUND(((E15*L15+F15*M15+G15*N15+H15*O15+I15*P15)+Q15*J15+R15*J15+S15*(E15+F15+G15+H15+I15)),2) -> 0 | W15: =IF((Z15>T15),Y15-0.01,Y15) -> 0 | X15: =V15-W15 -> 0 | Y15: =ROUND((V15*T15/100),2) -> 0 | Z15: =IF((V15=0),0,Y15/V15*100) -> 0
A16: 15 | B16: Волховский район | C16: Бережковское сельское поселение | D16: 2025 | E16: 0 | F16: 0 | G16: 0 | H16: 0 | I16: 0 | J16: -1 | K16: =E16+F16+G16+H16+I16 -> 0 | L16: 12368.39 | M16: 11131.55 | N16: 8657.87 | O16: 6184.2 | P16: 3710.52 | Q16: 488.77 | R16: 2100 | S16: 200 | T16: 86 | U16: =IF((V16=0),0,W16/V16*100) -> 85.999915 | V16: =ROUND(((E16*L16+F16*M16+G16*N16+H16*O16+I16*P16)+Q16*J16+R16*J16+S16*(E16+F16+G16+H16+I16)),2) -> -2588.77 | W16: =IF((Z16>T16),Y16-0.01,Y16) -> -2226.34 | X16: =V16-W16 -> -362.43 | Y16: =ROUND((V16*T16/100),2) -> -2226.34 | Z16: =IF((V16=0),0,Y16/V16*100) -> 85.999915
A17: 16 | B17: Волховский район | C17: Волховское городское поселение | D17: 2025 | E17: 0 | F17: 0 | G17: 0 | H17: 0 | I17: 0 | J17: 0 | K17: =E17+F17+G17+H17+I17 -> 0 | L17: 12368.39 | M17: 11131.55 | N17: 8657.87 | O17: 6184.2 | P17: 3710.52 | Q17: 488.77 | R17: 2100 | S17: 200 | T17: 91 | U17: =IF((V17=0),0,W17/V17*100) -> 0 | V17: =ROUND(((E17*L17+F17*M17+G17*N17+H17*O17+I17*P17)+Q17*J17+R17*J17+S17*(E17+F17+G17+H17+I17)),2) -> 0 | W17: =IF((Z17>T17),Y17-0.01,Y17) -> 0 | X17: =V17-W17 -> 0 | Y17: =ROUND((V17*T17/100),2) -> 0 | Z17: =IF((V17=0),0,Y17/V17*100) -> 0
A18: 17 | B18: Волховский район | C18: Вындиноостровское сельское поселение | D18: 2025 | E18: 0 | F18: 0 | G18: 0 | H18: 0 | I18: 0 | J18: 0 | K18: =E18+F18+G18+H18+I18 -> 0 | L18: 12368.39 | M18: 11131.55 | N18: 8657.87 | O18: 6184.2 | P18: 3710.52 | Q18: 488.77 | R18: 2100 | S18: 200 | T18: 91 | U18: =IF((V18=0),0,W18/V18*100) -> 0 | V18: =ROUND(((E18*L18+F18*M18+G18*N18+H18*O18+I18*P18)+Q18*J18+R18*J18+S18*(E18+F18+G18+H18+I18)),2) -> 0 | W18: =IF((Z18>T18),Y18-0.01,Y18) -> 0 | X18: =V18-W18 -> 0 | Y18: =ROUND((V18*T18/100),2) -> 0 | Z18: =IF((V18=0),0,Y18/V18*100) -> 0
A19: 18 | B19: Волховский район | C19: Иссадское сельское поселение | D19: 2025 | K19: =E19+F19+G19+H19+I19 -> 0 | L19: 12368.39 | M19: 11131.55 | N19: 8657.87 | O19: 6184.2 | P19: 3710.52 | Q19: 488.77 | R19: 2100 | S19: 200 | T19: 89 | U19: =IF((V19=0),0,W19/V19*100) -> 0 | V19: =ROUND(((E19*L19+F19*M19+G19*N19+H19*O19+I19*P19)+Q19*J19+R19*J19+S19*(E19+F19+G19+H19+I19)),2) -> 0 | W19: =IF((Z19>T19),Y19-0.01,Y19) -> 0 | X19: =V19-W19 -> 0 | Y19: =ROUND((V19*T19/100),2) -> 0 | Z19: =IF((V19=0),0,Y19/V19*100) -> 0
A20: 19 | B20: Волховский район | C20: Кисельнинское сельское поселение | D20: 2025 | K20: =E20+F20+G20+H20+I20 -> 0 | L20: 12368.39 | M20: 11131.55 | N20: 8657.87 | O20: 6184.2 | P20: 3710.52 | Q20: 488.77 | R20: 2100 | S20: 200 | T20: 87 | U20: =IF((V20=0),0,W20/V20*100) -> 0 | V20: =ROUND(((E20*L20+F20*M20+G20*N20+H20*O20+I20*P20)+Q20*J20+R20*J20+S20*(E20+F20+G20+H20+I20)),2) -> 0 | W20: =IF((Z20>T20),Y20-0.01,Y20) -> 0 | X20: =V20-W20 -> 0 | Y20: =ROUND((V20*T20/100),2) -> 0 | Z20: =IF((V20=0),0,Y20/V20*100) -> 0
A21: 20 | B21: Волховский район | C21: Колчановское сельское поселение | D21: 2025 | K21: =E21+F21+G21+H21+I21 -> 0 | L21: 12368.39 | M21: 11131.55 | N21: 8657.87 | O21: 6184.2 | P21: 3710.52 | Q21: 488.77 | R21: 2100 | S21: 200 | T21: 89 | U21: =IF((V21=0),0,W21/V21*100) -> 0 | V21: =ROUND(((E21*L21+F21*M21+G21*N21+H21*O21+I21*P21)+Q21*J21+R21*J21+S21*(E21+F21+G21+H21+I21)),2) -> 0 | W21: =IF((Z21>T21),Y21-0.01,Y21) -> 0 | X21: =V21-W21 -> 0 | Y21: =ROUND((V21*T21/100),2) -> 0 | Z21: =IF((V21=0),0,Y21/V21*100) -> 0
A22: 21 | B22: Волховский район | C22: Новоладожское городское поселение | D22: 2025 | K22: =E22+F22+G22+H22+I22 -> 0 | L22: 12368.39 | M22: 11131.55 | N22: 8657.87 | O22: 6184.2 | P22: 3710.52 | Q22: 488.77 | R22: 2100 | S22: 200 | T22: 89 | U22: =IF((V22=0),0,W22/V22*100) -> 0 | V22: =ROUND(((E22*L22+F22*M22+G22*N22+H22*O22+I22*P22)+Q22*J22+R22*J22+S22*(E22+F22+G22+H22+I22)),2) -> 0 | W22: =IF((Z22>T22),Y22-0.01,Y22) -> 0 | X22: =V22-W22 -> 0 | Y22: =ROUND((V22*T22/100),2) -> 0 | Z22: =IF((V22=0),0,Y22/V22*100) -> 0
A23: 22 | B23: Волховский район | C23: Пашское сельское поселение | D23: 2025 | E23: 0 | F23: 0 | G23: 0 | H23: 0 | I23: 0 | J23: 0 | K23: =E23+F23+G23+H23+I23 -> 0 | L23: 12368.39 | M23: 11131.55 | N23: 8657.87 | O23: 6184.2 | P23: 3710.52 | Q23: 488.77 | R23: 2100 | S23: 200 | T23: 89 | U23: =IF((V23=0),0,W23/V23*100) -> 0 | V23: =ROUND(((E23*L23+F23*M23+G23*N23+H23*O23+I23*P23)+Q23*J23+R23*J23+S23*(E23+F23+G23+H23+I23)),2) -> 0 | W23: =IF((Z23>T23),Y23-0.01,Y23) -> 0 | X23: =V23-W23 -> 0 | Y23: =ROUND((V23*T23/100),2) -> 0 | Z23: =IF((V23=0),0,Y23/V23*100) -> 0
A24: 23 | B24: Волховский район | C24: Потанинское сельское поселение | D24: 2025 | E24: 0 | F24: 0 | G24: 0 | H24: 0 | I24: 0 | J24: 0 | K24: =E24+F24+G24+H24+I24 -> 0 | L24: 12368.39 | M24: 11131.55 | N24: 8657.87 | O24: 6184.2 | P24: 3710.52 | Q24: 488.77 | R24: 2100 | S24: 200 | T24: 87 | U24: =IF((V24=0),0,W24/V24*100) -> 0 | V24: =ROUND(((E24*L24+F24*M24+G24*N24+H24*O24+I24*P24)+Q24*J24+R24*J24+S24*(E24+F24+G24+H24+I24)),2) -> 0 | W24: =IF((Z24>T24),Y24-0.01,Y24) -> 0 | X24: =V24-W24 -> 0 | Y24: =ROUND((V24*T24/100),2) -> 0 | Z24: =IF((V24=0),0,Y24/V24*100) -> 0
A25: 24 | B25: Волховский район | C25: Свирицкое сельское поселение | D25: 2025 | K25: =E25+F25+G25+H25+I25 -> 0 | L25: 12368.39 | M25: 11131.55 | N25: 8657.87 | O25: 6184.2 | P25: 3710.52 | Q25: 488.77 | R25: 2100 | S25: 200 | T25: 88 | U25: =IF((V25=0),0,W25/V25*100) -> 0 | V25: =ROUND(((E25*L25+F25*M25+G25*N25+H25*O25+I25*P25)+Q25*J25+R25*J25+S25*(E25+F25+G25+H25+I25)),2) -> 0 | W25: =IF((Z25>T25),Y25-0.01,Y25) -> 0 | X25: =V25-W25 -> 0 | Y25: =ROUND((V25*T25/100),2) -> 0 | Z25: =IF((V25=0),0,Y25/V25*100) -> 0
A26: 25 | B26: Волховский район | C26: Селивановское сельское поселение | D26: 2025 | K26: =E26+F26+G26+H26+I26 -> 0 | L26: 12368.39 | M26: 11131.55 | N26: 8657.87 | O26: 6184.2 | P26: 3710.52 | Q26: 488.77 | R26: 2100 | S26: 200 | T26: 89 | U26: =IF((V26=0),0,W26/V26*100) -> 0 | V26: =ROUND(((E26*L26+F26*M26+G26*N26+H26*O26+I26*P26)+Q26*J26+R26*J26+S26*(E26+F26+G26+H26+I26)),2) -> 0 | W26: =IF((Z26>T26),Y26-0.01,Y26) -> 0 | X26: =V26-W26 -> 0 | Y26: =ROUND((V26*T26/100),2) -> 0 | Z26: =IF((V26=0),0,Y26/V26*100) -> 0
A27: 26 | B27: Волховский район | C27: Староладожское сельское поселение | D27: 2025 | K27: =E27+F27+G27+H27+I27 -> 0 | L27: 12368.39 | M27: 11131.55 | N27: 8657.87 | O27: 6184.2 | P27: 3710.52 | Q27: 488.77 | R27: 2100 | S27: 200 | T27: 91 | U27: =IF((V27=0),0,W27/V27*100) -> 0 | V27: =ROUND(((E27*L27+F27*M27+G27*N27+H27*O27+I27*P27)+Q27*J27+R27*J27+S27*(E27+F27+G27+H27+I27)),2) -> 0 | W27: =IF((Z27>T27),Y27-0.01,Y27) -> 0 | X27: =V27-W27 -> 0 | Y27: =ROUND((V27*T27/100),2) -> 0 | Z27: =IF((V27=0),0,Y27/V27*100) -> 0
A28: 27 | B28: Волховский район | C28: Сясьстройское городское поселение | D28: 2025 | K28: =E28+F28+G28+H28+I28 -> 0 | L28: 12368.39 | M28: 11131.55 | N28: 8657.87 | O28: 6184.2 | P28: 3710.52 | Q28: 488.77 | R28: 2100 | S28: 200 | T28: 90 | U28: =IF((V28=0),0,W28/V28*100) -> 0 | V28: =ROUND(((E28*L28+F28*M28+G28*N28+H28*O28+I28*P28)+Q28*J28+R28*J28+S28*(E28+F28+G28+H28+I28)),2) -> 0 | W28: =IF((Z28>T28),Y28-0.01,Y28) -> 0 | X28: =V28-W28 -> 0 | Y28: =ROUND((V28*T28/100),2) -> 0 | Z28: =IF((V28=0),0,Y28/V28*100) -> 0
A29: 28 | B29: Волховский район | C29: Усадищенское сельское поселение | D29: 2025 | K29: =E29+F29+G29+H29+I29 -> 0 | L29: 12368.39 | M29: 11131.55 | N29: 8657.87 | O29: 6184.2 | P29: 3710.52 | Q29: 488.77 | R29: 2100 | S29: 200 | T29: 91 | U29: =IF((V29=0),0,W29/V29*100) -> 0 | V29: =ROUND(((E29*L29+F29*M29+G29*N29+H29*O29+I29*P29)+Q29*J29+R29*J29+S29*(E29+F29+G29+H29+I29)),2) -> 0 | W29: =IF((Z29>T29),Y29-0.01,Y29) -> 0 | X29: =V29-W29 -> 0 | Y29: =ROUND((V29*T29/100),2) -> 0 | Z29: =IF((V29=0),0,Y29/V29*100) -> 0
A30: 29 | B30: Волховский район | C30: Хваловское сельское поселение | D30: 2025 | K30: =E30+F30+G30+H30+I30 -> 0 | L30: 12368.39 | M30: 11131.55 | N30: 8657.87 | O30: 6184.2 | P30: 3710.52 | Q30: 488.77 | R30: 2100 | S30: 200 | T30: 89 | U30: =IF((V30=0),0,W30/V30*100) -> 0 | V30: =ROUND(((E30*L30+F30*M30+G30*N30+H30*O30+I30*P30)+Q30*J30+R30*J30+S30*(E30+F30+G30+H30+I30)),2) -> 0 | W30: =IF((Z30>T30),Y30-0.01,Y30) -> 0 | X30: =V30-W30 -> 0 | Y30: =ROUND((V30*T30/100),2) -> 0 | Z30: =IF((V30=0),0,Y30/V30*100) -> 0
A31: 30 | B31: Всеволожский район | C31: Агалатовское сельское поселение | D31: 2025 | K31: =E31+F31+G31+H31+I31 -> 0 | L31: 12368.39 | M31: 11131.55 | N31: 8657.87 | O31: 6184.2 | P31: 3710.52 | Q31: 488.77 | R31: 2100 | S31: 200 | T31: 92 | U31: =IF((V31=0),0,W31/V31*100) -> 0 | V31: =ROUND(((E31*L31+F31*M31+G31*N31+H31*O31+I31*P31)+Q31*J31+R31*J31+S31*(E31+F31+G31+H31+I31)),2) -> 0 | W31: =IF((Z31>T31),Y31-0.01,Y31) -> 0 | X31: =V31-W31 -> 0 | Y31: =ROUND((V31*T31/100),2) -> 0 | Z31: =IF((V31=0),0,Y31/V31*100) -> 0
A32: 31 | B32: Всеволожский район | C32: Бугровское сельское поселение | D32: 2025 | E32: 0 | F32: 0 | G32: 0 | H32: 0 | I32: 0 | J32: 0 | K32: =E32+F32+G32+H32+I32 -> 0 | L32: 12368.39 | M32: 11131.55 | N32: 8657.87 | O32: 6184.2 | P32: 3710.52 | Q32: 488.77 | R32: 2100 | S32: 200 | T32: 88 | U32: =IF((V32=0),0,W32/V32*100) -> 0 | V32: =ROUND(((E32*L32+F32*M32+G32*N32+H32*O32+I32*P32)+Q32*J32+R32*J32+S32*(E32+F32+G32+H32+I32)),2) -> 0 | W32: =IF((Z32>T32),Y32-0.01,Y32) -> 0 | X32: =V32-W32 -> 0 | Y32: =ROUND((V32*T32/100),2) -> 0 | Z32: =IF((V32=0),0,Y32/V32*100) -> 0
A33: 32 | B33: Всеволожский район | C33: Всеволожское городское поселение | D33: 2025 | K33: =E33+F33+G33+H33+I33 -> 0 | L33: 12368.39 | M33: 11131.55 | N33: 8657.87 | O33: 6184.2 | P33: 3710.52 | Q33: 488.77 | R33: 2100 | S33: 200 | T33: 86 | U33: =IF((V33=0),0,W33/V33*100) -> 0 | V33: =ROUND(((E33*L33+F33*M33+G33*N33+H33*O33+I33*P33)+Q33*J33+R33*J33+S33*(E33+F33+G33+H33+I33)),2) -> 0 | W33: =IF((Z33>T33),Y33-0.01,Y33) -> 0 | X33: =V33-W33 -> 0 | Y33: =ROUND((V33*T33/100),2) -> 0 | Z33: =IF((V33=0),0,Y33/V33*100) -> 0
A34: 33 | B34: Всеволожский район | C34: Дубровское городское поселение | D34: 2025 | K34: =E34+F34+G34+H34+I34 -> 0 | L34: 12368.39 | M34: 11131.55 | N34: 8657.87 | O34: 6184.2 | P34: 3710.52 | Q34: 488.77 | R34: 2100 | S34: 200 | T34: 90 | U34: =IF((V34=0),0,W34/V34*100) -> 0 | V34: =ROUND(((E34*L34+F34*M34+G34*N34+H34*O34+I34*P34)+Q34*J34+R34*J34+S34*(E34+F34+G34+H34+I34)),2) -> 0 | W34: =IF((Z34>T34),Y34-0.01,Y34) -> 0 | X34: =V34-W34 -> 0 | Y34: =ROUND((V34*T34/100),2) -> 0 | Z34: =IF((V34=0),0,Y34/V34*100) -> 0
A35: 34 | B35: Всеволожский район | C35: Заневское городское поселение | D35: 2025 | K35: =E35+F35+G35+H35+I35 -> 0 | L35: 12368.39 | M35: 11131.55 | N35: 8657.87 | O35: 6184.2 | P35: 3710.52 | Q35: 488.77 | R35: 2100 | S35: 200 | T35: 91 | U35: =IF((V35=0),0,W35/V35*100) -> 0 | V35: =ROUND(((E35*L35+F35*M35+G35*N35+H35*O35+I35*P35)+Q35*J35+R35*J35+S35*(E35+F35+G35+H35+I35)),2) -> 0 | W35: =IF((Z35>T35),Y35-0.01,Y35) -> 0 | X35: =V35-W35 -> 0 | Y35: =ROUND((V35*T35/100),2) -> 0 | Z35: =IF((V35=0),0,Y35/V35*100) -> 0
A36: 35 | B36: Всеволожский район | C36: Колтушское сельское поселение | D36: 2025 | K36: =E36+F36+G36+H36+I36 -> 0 | L36: 12368.39 | M36: 11131.55 | N36: 8657.87 | O36: 6184.2 | P36: 3710.52 | Q36: 488.77 | R36: 2100 | S36: 200 | T36: 92 | U36: =IF((V36=0),0,W36/V36*100) -> 0 | V36: =ROUND(((E36*L36+F36*M36+G36*N36+H36*O36+I36*P36)+Q36*J36+R36*J36+S36*(E36+F36+G36+H36+I36)),2) -> 0 | W36: =IF((Z36>T36),Y36-0.01,Y36) -> 0 | X36: =V36-W36 -> 0 | Y36: =ROUND((V36*T36/100),2) -> 0 | Z36: =IF((V36=0),0,Y36/V36*100) -> 0
A37: 36 | B37: Всеволожский район | C37: Кузьмоловское городское поселение | D37: 2025 | K37: =E37+F37+G37+H37+I37 -> 0 | L37: 12368.39 | M37: 11131.55 | N37: 8657.87 | O37: 6184.2 | P37: 3710.52 | Q37: 488.77 | R37: 2100 | S37: 200 | T37: 86 | U37: =IF((V37=0),0,W37/V37*100) -> 0 | V37: =ROUND(((E37*L37+F37*M37+G37*N37+H37*O37+I37*P37)+Q37*J37+R37*J37+S37*(E37+F37+G37+H37+I37)),2) -> 0 | W37: =IF((Z37>T37),Y37-0.01,Y37) -> 0 | X37: =V37-W37 -> 0 | Y37: =ROUND((V37*T37/100),2) -> 0 | Z37: =IF((V37=0),0,Y37/V37*100) -> 0
A38: 37 | B38: Всеволожский район | C38: Куйвозовское сельское поселение | D38: 2025 | K38: =E38+F38+G38+H38+I38 -> 0 | L38: 12368.39 | M38: 11131.55 | N38: 8657.87 | O38: 6184.2 | P38: 3710.52 | Q38: 488.77 | R38: 2100 | S38: 200 | T38: 89 | U38: =IF((V38=0),0,W38/V38*100) -> 0 | V38: =ROUND(((E38*L38+F38*M38+G38*N38+H38*O38+I38*P38)+Q38*J38+R38*J38+S38*(E38+F38+G38+H38+I38)),2) -> 0 | W38: =IF((Z38>T38),Y38-0.01,Y38) -> 0 | X38: =V38-W38 -> 0 | Y38: =ROUND((V38*T38/100),2) -> 0 | Z38: =IF((V38=0),0,Y38/V38*100) -> 0
A39: 38 | B39: Всеволожский район | C39: Лесколовское сельское поселение | D39: 2025 | K39: =E39+F39+G39+H39+I39 -> 0 | L39: 12368.39 | M39: 11131.55 | N39: 8657.87 | O39: 6184.2 | P39: 3710.52 | Q39: 488.77 | R39: 2100 | S39: 200 | T39: 90 | U39: =IF((V39=0),0,W39/V39*100) -> 0 | V39: =ROUND(((E39*L39+F39*M39+G39*N39+H39*O39+I39*P39)+Q39*J39+R39*J39+S39*(E39+F39+G39+H39+I39)),2) -> 0 | W39: =IF((Z39>T39),Y39-0.01,Y39) -> 0 | X39: =V39-W39 -> 0 | Y39: =ROUND((V39*T39/100),2) -> 0 | Z39: =IF((V39=0),0,Y39/V39*100) -> 0
A40: 39 | B40: Всеволожский район | C40: Морозовское городское поселение | D40: 2025 | K40: =E40+F40+G40+H40+I40 -> 0 | L40: 12368.39 | M40: 11131.55 | N40: 8657.87 | O40: 6184.2 | P40: 3710.52 | Q40: 488.77 | R40: 2100 | S40: 200 | T40: 90 | U40: =IF((V40=0),0,W40/V40*100) -> 0 | V40: =ROUND(((E40*L40+F40*M40+G40*N40+H40*O40+I40*P40)+Q40*J40+R40*J40+S40*(E40+F40+G40+H40+I40)),2) -> 0 | W40: =IF((Z40>T40),Y40-0.01,Y40) -> 0 | X40: =V40-W40 -> 0 | Y40: =ROUND((V40*T40/100),2) -> 0 | Z40: =IF((V40=0),0,Y40/V40*100) -> 0
A41: 40 | B41: Всеволожский район | C41: Муринское городское поселение | D41: 2025 | K41: =E41+F41+G41+H41+I41 -> 0 | L41: 12368.39 | M41: 11131.55 | N41: 8657.87 | O41: 6184.2 | P41: 3710.52 | Q41: 488.77 | R41: 2100 | S41: 200 | T41: 93 | U41: =IF((V41=0),0,W41/V41*100) -> 0 | V41: =ROUND(((E41*L41+F41*M41+G41*N41+H41*O41+I41*P41)+Q41*J41+R41*J41+S41*(E41+F41+G41+H41+I41)),2) -> 0 | W41: =IF((Z41>T41),Y41-0.01,Y41) -> 0 | X41: =V41-W41 -> 0 | Y41: =ROUND((V41*T41/100),2) -> 0 | Z41: =IF((V41=0),0,Y41/V41*100) -> 0
A42: 41 | B42: Всеволожский район | C42: Новодевяткинское сельское поселение | D42: 2025 | K42: =E42+F42+G42+H42+I42 -> 0 | L42: 12368.39 | M42: 11131.55 | N42: 8657.87 | O42: 6184.2 | P42: 3710.52 | Q42: 488.77 | R42: 2100 | S42: 200 | T42: 92 | U42: =IF((V42=0),0,W42/V42*100) -> 0 | V42: =ROUND(((E42*L42+F42*M42+G42*N42+H42*O42+I42*P42)+Q42*J42+R42*J42+S42*(E42+F42+G42+H42+I42)),2) -> 0 | W42: =IF((Z42>T42),Y42-0.01,Y42) -> 0 | X42: =V42-W42 -> 0 | Y42: =ROUND((V42*T42/100),2) -> 0 | Z42: =IF((V42=0),0,Y42/V42*100) -> 0
A43: 42 | B43: Всеволожский район | C43: Рахьинское городское поселение | D43: 2025 | K43: =E43+F43+G43+H43+I43 -> 0 | L43: 12368.39 | M43: 11131.55 | N43: 8657.87 | O43: 6184.2 | P43: 3710.52 | Q43: 488.77 | R43: 2100 | S43: 200 | T43: 89 | U43: =IF((V43=0),0,W43/V43*100) -> 0 | V43: =ROUND(((E43*L43+F43*M43+G43*N43+H43*O43+I43*P43)+Q43*J43+R43*J43+S43*(E43+F43+G43+H43+I43)),2) -> 0 | W43: =IF((Z43>T43),Y43-0.01,Y43) -> 0 | X43: =V43-W43 -> 0 | Y43: =ROUND((V43*T43/100),2) -> 0 | Z43: =IF((V43=0),0,Y43/V43*100) -> 0
A44: 43 | B44: Всеволожский район | C44: Романовское сельское поселение | D44: 2025 | K44: =E44+F44+G44+H44+I44 -> 0 | L44: 12368.39 | M44: 11131.55 | N44: 8657.87 | O44: 6184.2 | P44: 3710.52 | Q44: 488.77 | R44: 2100 | S44: 200 | T44: 91 | U44: =IF((V44=0),0,W44/V44*100) -> 0 | V44: =ROUND(((E44*L44+F44*M44+G44*N44+H44*O44+I44*P44)+Q44*J44+R44*J44+S44*(E44+F44+G44+H44+I44)),2) -> 0 | W44: =IF((Z44>T44),Y44-0.01,Y44) -> 0 | X44: =V44-W44 -> 0 | Y44: =ROUND((V44*T44/100),2) -> 0 | Z44: =IF((V44=0),0,Y44/V44*100) -> 0
... A54: 53 | B54: Выборгский район | C54: Красносельское сельское поселение | D54: 2025 | K54: =E54+F54+G54+H54+I54 -> 0 | L54: 12368.39 | M54: 11131.55 | N54: 8657.87 | O54: 6184.2 | P54: 3710.52 | Q54: 488.77 | R54: 2100 | S54: 200 | T54: 91 | U54: =IF((V54=0),0,W54/V54*100) -> 0 | V54: =ROUND(((E54*L54+F54*M54+G54*N54+H54*O54+I54*P54)+Q54*J54+R54*J54+S54*(E54+F54+G54+H54+I54)),2) -> 0 | W54: =IF((Z54>T54),Y54-0.01,Y54) -> 0 | X54: =V54-W54 -> 0 | Y54: =ROUND((V54*T54/100),2) -> 0 | Z54: =IF((V54=0),0,Y54/V54*100) -> 0
A55: 54 | B55: Выборгский район | C55: Первомайское сельское поселение | D55: 2025 | E55: 0 | F55: 0 | G55: 0 | H55: 0 | I55: 0 | J55: 0 | K55: =E55+F55+G55+H55+I55 -> 0 | L55: 12368.39 | M55: 11131.55 | N55: 8657.87 | O55: 6184.2 | P55: 3710.52 | Q55: 488.77 | R55: 2100 | S55: 200 | T55: 82 | U55: =IF((V55=0),0,W55/V55*100) -> 0 | V55: =ROUND(((E55*L55+F55*M55+G55*N55+H55*O55+I55*P55)+Q55*J55+R55*J55+S55*(E55+F55+G55+H55+I55)),2) -> 0 | W55: =IF((Z55>T55),Y55-0.01,Y55) -> 0 | X55: =V55-W55 -> 0 | Y55: =ROUND((V55*T55/100),2) -> 0 | Z55: =IF((V55=0),0,Y55/V55*100) -> 0
A56: 55 | B56: Выборгский район | C56: Полянское сельское поселение | D56: 2025 | K56: =E56+F56+G56+H56+I56 -> 0 | L56: 12368.39 | M56: 11131.55 | N56: 8657.87 | O56: 6184.2 | P56: 3710.52 | Q56: 488.77 | R56: 2100 | S56: 200 | T56: 89 | U56: =IF((V56=0),0,W56/V56*100) -> 0 | V56: =ROUND(((E56*L56+F56*M56+G56*N56+H56*O56+I56*P56)+Q56*J56+R56*J56+S56*(E56+F56+G56+H56+I56)),2) -> 0 | W56: =IF((Z56>T56),Y56-0.01,Y56) -> 0 | X56: =V56-W56 -> 0 | Y56: =ROUND((V56*T56/100),2) -> 0 | Z56: =IF((V56=0),0,Y56/V56*100) -> 0
A57: 56 | B57: Выборгский район | C57: Приморское городское поселение | D57: 2025 | K57: =E57+F57+G57+H57+I57 -> 0 | L57: 12368.39 | M57: 11131.55 | N57: 8657.87 | O57: 6184.2 | P57: 3710.52 | Q57: 488.77 | R57: 2100 | S57: 200 | T57: 88 | U57: =IF((V57=0),0,W57/V57*100) -> 0 | V57: =ROUND(((E57*L57+F57*M57+G57*N57+H57*O57+I57*P57)+Q57*J57+R57*J57+S57*(E57+F57+G57+H57+I57)),2) -> 0 | W57: =IF((Z57>T57),Y57-0.01,Y57) -> 0 | X57: =V57-W57 -> 0 | Y57: =ROUND((V57*T57/100),2) -> 0 | Z57: =IF((V57=0),0,Y57/V57*100) -> 0
A58: 57 | B58: Выборгский район | C58: Рощинское городское поселение | D58: 2025 | E58: 5.62 | K58: =E58+F58+G58+H58+I58 -> 5.62 | L58: 12368.39 | M58: 11131.55 | N58: 8657.87 | O58: 6184.2 | P58: 3710.52 | Q58: 488.77 | R58: 2100 | S58: 200 | T58: 90 | U58: =IF((V58=0),0,W58/V58*100) -> 89.999993 | V58: =ROUND(((E58*L58+F58*M58+G58*N58+H58*O58+I58*P58)+Q58*J58+R58*J58+S58*(E58+F58+G58+H58+I58)),2) -> 70634.35 | W58: =IF((Z58>T58),Y58-0.01,Y58) -> 63570.91 | X58: =V58-W58 -> 7063.44 | Y58: =ROUND((V58*T58/100),2) -> 63570.92 | Z58: =IF((V58=0),0,Y58/V58*100) -> 90.000007
A59: 58 | B59: Выборгский район | C59: Светогорское городское поселение | D59: 2025 | K59: =E59+F59+G59+H59+I59 -> 0 | L59: 12368.39 | M59: 11131.55 | N59: 8657.87 | O59: 6184.2 | P59: 3710.52 | Q59: 488.77 | R59: 2100 | S59: 200 | T59: 91 | U59: =IF((V59=0),0,W59/V59*100) -> 0 | V59: =ROUND(((E59*L59+F59*M59+G59*N59+H59*O59+I59*P59)+Q59*J59+R59*J59+S59*(E59+F59+G59+H59+I59)),2) -> 0 | W59: =IF((Z59>T59),Y59-0.01,Y59) -> 0 | X59: =V59-W59 -> 0 | Y59: =ROUND((V59*T59/100),2) -> 0 | Z59: =IF((V59=0),0,Y59/V59*100) -> 0
A60: 59 | B60: Выборгский район | C60: Селезнёвское сельское поселение | D60: 2025 | E60: 0 | F60: 0 | G60: 5 | H60: 0 | I60: 0 | J60: 3 | K60: =E60+F60+G60+H60+I60 -> 5 | L60: 12368.39 | M60: 11131.55 | N60: 8657.87 | O60: 6184.2 | P60: 3710.52 | Q60: 488.77 | R60: 2100 | S60: 200 | T60: 92 | U60: =IF((V60=0),0,W60/V60*100) -> 91.999986 | V60: =ROUND(((E60*L60+F60*M60+G60*N60+H60*O60+I60*P60)+Q60*J60+R60*J60+S60*(E60+F60+G60+H60+I60)),2) -> 52055.66 | W60: =IF((Z60>T60),Y60-0.01,Y60) -> 47891.2 | X60: =V60-W60 -> 4164.46 | Y60: =ROUND((V60*T60/100),2) -> 47891.21 | Z60: =IF((V60=0),0,Y60/V60*100) -> 92.000005
A61: 60 | B61: Выборгский район | C61: Советское городское поселение | D61: 2025 | K61: =E61+F61+G61+H61+I61 -> 0 | L61: 12368.39 | M61: 11131.55 | N61: 8657.87 | O61: 6184.2 | P61: 3710.52 | Q61: 488.77 | R61: 2100 | S61: 200 | T61: 93 | U61: =IF((V61=0),0,W61/V61*100) -> 0 | V61: =ROUND(((E61*L61+F61*M61+G61*N61+H61*O61+I61*P61)+Q61*J61+R61*J61+S61*(E61+F61+G61+H61+I61)),2) -> 0 | W61: =IF((Z61>T61),Y61-0.01,Y61) -> 0 | X61: =V61-W61 -> 0 | Y61: =ROUND((V61*T61/100),2) -> 0 | Z61: =IF((V61=0),0,Y61/V61*100) -> 0
A62: 61.1 | B62: Гатчинский район | C62: Большеколпанское сельское поселение | D62: 2025 | K62: =E62+F62+G62+H62+I62 -> 0 | L62: 12368.39 | M62: 11131.55 | N62: 8657.87 | O62: 6184.2 | P62: 3710.52 | Q62: 488.77 | R62: 2100 | S62: 200 | T62: 95 | U62: =IF((V62=0),0,W62/V62*100) -> 0 | V62: =ROUND(((E62*L62+F62*M62+G62*N62+H62*O62+I62*P62)+Q62*J62+R62*J62+S62*(E62+F62+G62+H62+I62)),2) -> 0 | W62: =IF((Z62>T62),Y62-0.01,Y62) -> 0 | X62: =V62-W62 -> 0 | Y62: =ROUND((V62*T62/100),2) -> 0 | Z62: =IF((V62=0),0,Y62/V62*100) -> 0
A63: 61.2 | B63: Гатчинский район | C63: Веревское сельское поселение | D63: 2025 | K63: =E63+F63+G63+H63+I63 -> 0 | L63: 12368.39 | M63: 11131.55 | N63: 8657.87 | O63: 6184.2 | P63: 3710.52 | Q63: 488.77 | R63: 2100 | S63: 200 | T63: 95 | U63: =IF((V63=0),0,W63/V63*100) -> 0 | V63: =ROUND(((E63*L63+F63*M63+G63*N63+H63*O63+I63*P63)+Q63*J63+R63*J63+S63*(E63+F63+G63+H63+I63)),2) -> 0 | W63: =IF((Z63>T63),Y63-0.01,Y63) -> 0 | X63: =V63-W63 -> 0 | Y63: =ROUND((V63*T63/100),2) -> 0 | Z63: =IF((V63=0),0,Y63/V63*100) -> 0
A64: 61.3 | B64: Гатчинский район | C64: Войсковицкое сельское поселение | D64: 2025 | E64: 0 | F64: 0 | G64: 0 | H64: 0 | I64: 0 | J64: 0 | K64: =E64+F64+G64+H64+I64 -> 0 | L64: 12368.39 | M64: 11131.55 | N64: 8657.87 | O64: 6184.2 | P64: 3710.52 | Q64: 488.77 | R64: 2100 | S64: 200 | T64: 95 | U64: =IF((V64=0),0,W64/V64*100) -> 0 | V64: =ROUND(((E64*L64+F64*M64+G64*N64+H64*O64+I64*P64)+Q64*J64+R64*J64+S64*(E64+F64+G64+H64+I64)),2) -> 0 | W64: =IF((Z64>T64),Y64-0.01,Y64) -> 0 | X64: =V64-W64 -> 0 | Y64: =ROUND((V64*T64/100),2) -> 0 | Z64: =IF((V64=0),0,Y64/V64*100) -> 0
A65: 61.4 | B65: Гатчинский район | C65: Вырицкое городское поселение | D65: 2025 | K65: =E65+F65+G65+H65+I65 -> 0 | L65: 12368.39 | M65: 11131.55 | N65: 8657.87 | O65: 6184.2 | P65: 3710.52 | Q65: 488.77 | R65: 2100 | S65: 200 | T65: 95 | U65: =IF((V65=0),0,W65/V65*100) -> 0 | V65: =ROUND(((E65*L65+F65*M65+G65*N65+H65*O65+I65*P65)+Q65*J65+R65*J65+S65*(E65+F65+G65+H65+I65)),2) -> 0 | W65: =IF((Z65>T65),Y65-0.01,Y65) -> 0 | X65: =V65-W65 -> 0 | Y65: =ROUND((V65*T65/100),2) -> 0 | Z65: =IF((V65=0),0,Y65/V65*100) -> 0
A66: 61.5 | B66: Гатчинский район | C66: Гатчинское городское поселение | D66: 2025 | K66: =E66+F66+G66+H66+I66 -> 0 | L66: 12368.39 | M66: 11131.55 | N66: 8657.87 | O66: 6184.2 | P66: 3710.52 | Q66: 488.77 | R66: 2100 | S66: 200 | T66: 95 | U66: =IF((V66=0),0,W66/V66*100) -> 0 | V66: =ROUND(((E66*L66+F66*M66+G66*N66+H66*O66+I66*P66)+Q66*J66+R66*J66+S66*(E66+F66+G66+H66+I66)),2) -> 0 | W66: =IF((Z66>T66),Y66-0.01,Y66) -> 0 | X66: =V66-W66 -> 0 | Y66: =ROUND((V66*T66/100),2) -> 0 | Z66: =IF((V66=0),0,Y66/V66*100) -> 0
