Workbook

Sheet Лист1
G1: Приложение №3
A3: Расходы бюджета Территориального фонда обязательного медицинского страхования Ленинградской области из нормированного страхового запаса Фонда на 2025 год
A4: Наименование | C4: финансирование медицинской помощи, оказанной в медицинских организациях Ленинградской области гражданам, застрахованным на территории Ленинградской области | D4: на финансирование медицинской помощи, оказанной застрахованным в других субъектах Российской Федерации в медицинских учреждениях Ленинградской области | E4: на финансирование медицинской помощи, оказанной застрахованным в Ленинградской области на территории Российской Федерации | F4: на финансовое обеспечение мероприятий по организации дополнительного профессионального образования медицинских работников по программам повышения квалификации, а также по приобретению и проведению ремонта медицинского оборудования | G4: Сумма, тыс. рублей
A5: Остаток на 01.01.2025 включенный в НСЗ | C5: 0 | D5: 0 | E5: 0 | F5: 0 | G5: =SUM(C5:F5) -> 0
A6: Источники формирования | B6: Субвенции бюджетам территориальных фондов обязательного медицинского страхования на финансовое обеспечение организации обязательного медицинского страхования на территориях субъектов Российской Федерации | C6: =ROUND(([1]Доходы!G55-'[1]ЛО в РФ'!C14)/12,1) -> 2210932.9 | D6: 0 | E6: ='[1]ТП ОМС'!F14 -> 4306541.5 | F6: 0 | G6: =SUM(C6:F6) -> 6517474.4
B7: Межбюджетные трансферты из бюджетов субъектов Российской Федерации, передаваемые территориальным фондам обязательного медицинского страхования на дополнительное финансовое обеспечение реализации территориальной программы обязательного медицинского страхования в части базовой программы обязательного медицинского страхования | C7: =ROUND([1]Доходы!G48/12,1) -> 526221.4 | D7: 0 | E7: =[1]Расходы!I30 -> 0 | F7: 0 | G7: =SUM(C7:F7) -> 526221.4
B8: Прочие межбюджетные трансферты, передаваемые бюджетам территориальных фондов обязательного медицинского страхования | C8: 0 | D8: =[1]Доходы!G60 -> 4306769.8 | E8: 0 | F8: 0 | G8: =SUM(C8:F8) -> 4306769.8
B9: Прочие неналоговые поступления в территориальные фонды обязательного медицинского страхования | C9: 0 | D9: 0 | E9: 0 | F9: =[1]Доходы!G26 -> 97632.3 | G9: =SUM(C9:F9) -> 97632.3
B10: Всего на 2025 год | C10: =SUM(C6:C9) -> 2737154.3 | D10: =SUM(D6:D9) -> 4306769.8 | E10: =SUM(E6:E9) -> 4306541.5 | F10: =SUM(F6:F9) -> 97632.3 | G10: =SUM(G6:G9) -> 11448098
A11: Планируемые расходы бюджета ТФОМС ЛО в 2025 году | C11: 2737154.3 | D11: 4306769.8 | E11: 4306541.5 | F11: 97632.3 | G11: =SUM(C11:F11) -> 11448098
A13: Расходы бюджета Территориального фонда обязательного медицинского страхования Ленинградской области из нормированного страхового запаса Фонда на 2026 год
A14: Наименование | C14: финансирование медицинской помощи, оказанной в медицинских организациях Ленинградской области гражданам, застрахованным на территории Ленинградской области | D14: на финансирование медицинской помощи, оказанной застрахованным в других субъектах Российской Федерации в медицинских учреждениях Ленинградской области | E14: на финансирование медицинской помощи, оказанной застрахованным в Ленинградской области на территории Российской Федерации | F14: на финансовое обеспечение мероприятий по организации дополнительного профессионального образования медицинских работников по программам повышения квалификации, а также по приобретению и проведению ремонта медицинского оборудования | G14: Сумма, тыс. рублей
A15: Остаток на 01.01.2026 включенный в НСЗ | C15: 0 | D15: 0 | E15: 0 | F15: 0 | G15: =SUM(C15:F15) -> 0
A16: Источники формирования | B16: Субвенции бюджетам территориальных фондов обязательного медицинского страхования на финансовое обеспечение организации обязательного медицинского страхования на территориях субъектов Российской Федерации | C16: =ROUND(([1]Доходы!J55-'[1]ТП ОМС'!H14)/12,1) -> 2358702.8 | D16: 0 | E16: =[1]Расходы!L36 -> 4594373.4 | F16: 0 | G16: =SUM(C16:F16) -> 6953076.2
B17: Межбюджетные трансферты из бюджетов субъектов Российской Федерации, передаваемые территориальным фондам обязательного медицинского страхования на дополнительное финансовое обеспечение реализации территориальной программы обязательного медицинского страхования в части базовой программы обязательного медицинского страхования | C17: =ROUND([1]Доходы!J48/12,1) -> 526221.4 | D17: 0 | E17: =[1]Расходы!I47 -> 0 | F17: 0 | G17: =SUM(C17:F17) -> 526221.4
B18: Прочие межбюджетные трансферты, передаваемые бюджетам территориальных фондов обязательного медицинского страхования | C18: 0 | D18: =[1]Доходы!J60 -> 4594617 | E18: 0 | F18: 0 | G18: =SUM(C18:F18) -> 4594617
B19: Прочие неналоговые поступления в территориальные фонды обязательного медицинского страхования | C19: 0 | D19: 0 | E19: 0 | F19: ='[1]НСЗ (оборудование)'!K6 -> 104154.1 | G19: =SUM(C19:F19) -> 104154.1
B20: Всего на 2026 год | C20: =SUM(C16:C19) -> 2884924.2 | D20: =SUM(D16:D19) -> 4594617 | E20: =SUM(E16:E19) -> 4594373.4 | F20: =SUM(F16:F19) -> 104154.1 | G20: =SUM(G16:G19) -> 12178069
A21: Планируемые расходы бюджета ТФОМС ЛО в 2026 году | C21: 2884924.2 | D21: 4594617 | E21: 4594373.4 | F21: 104154.1 | G21: =SUM(C21:F21) -> 12178069
A23: Расходы бюджета Территориального фонда обязательного медицинского страхования Ленинградской области из нормированного страхового запаса Фонда на 2027 год
A24: Наименование | C24: финансирование медицинской помощи, оказанной в медицинских организациях Ленинградской области гражданам, застрахованным на территории Ленинградской области | D24: на финансирование медицинской помощи, оказанной застрахованным в других субъектах Российской Федерации в медицинских учреждениях Ленинградской области | E24: на финансирование медицинской помощи, оказанной застрахованным в Ленинградской области на территории Российской Федерации | F24: на финансовое обеспечение мероприятий по организации дополнительного профессионального образования медицинских работников по программам повышения квалификации, а также по приобретению и проведению ремонта медицинского оборудования | G24: Сумма, тыс. рублей
A25: Остаток на 01.01.2027 включенный в НСЗ | C25: 0 | D25: 0 | E25: 0 | F25: 0 | G25: =SUM(C25:F25) -> 0
A26: Источники формирования | B26: Субвенции бюджетам территориальных фондов обязательного медицинского страхования на финансовое обеспечение организации обязательного медицинского страхования на территориях субъектов Российской Федерации | C26: =ROUND(([1]Доходы!L55-'[1]ТП ОМС'!J14)/12,1) -> 2358702.8 | D26: 0 | E26: =[1]Расходы!N36 -> 4594373.4 | F26: 0 | G26: =SUM(C26:F26) -> 6953076.2
B27: Межбюджетные трансферты из бюджетов субъектов Российской Федерации, передаваемые территориальным фондам обязательного медицинского страхования на дополнительное финансовое обеспечение реализации территориальной программы обязательного медицинского страхования в части базовой программы обязательного медицинского страхования | C27: =ROUND([1]Доходы!L48/12,1) -> 526221.4 | D27: 0 | E27: =[1]Расходы!I66 -> 0 | F27: 0 | G27: =SUM(C27:F27) -> 526221.4
B28: Прочие межбюджетные трансферты, передаваемые бюджетам территориальных фондов обязательного медицинского страхования | C28: 0 | D28: =[1]Доходы!L60 -> 4594617 | E28: 0 | F28: 0 | G28: =SUM(C28:F28) -> 4594617
B29: Прочие неналоговые поступления в территориальные фонды обязательного медицинского страхования | C29: 0 | D29: 0 | E29: 0 | F29: ='[1]НСЗ (оборудование)'!L6 -> 104154.1 | G29: =SUM(C29:F29) -> 104154.1
B30: Всего на 2027 год | C30: =SUM(C26:C29) -> 2884924.2 | D30: =SUM(D26:D29) -> 4594617 | E30: =SUM(E26:E29) -> 4594373.4 | F30: =SUM(F26:F29) -> 104154.1 | G30: =SUM(G26:G29) -> 12178069
A31: Планируемые расходы бюджета ТФОМС ЛО в 2027 году | C31: 2884924.2 | D31: 4594617 | E31: 4594373.4 | F31: 104154.1 | G31: =SUM(C31:F31) -> 12178069
