Workbook

Sheet 26.08.22
P1: Рсшифровка штатного расписания
A2: Территориальный фонд обязательного медицинского | P2: Форма по ОКУД 0301017
A3: страхования Ленинградской области | P3: по ОКПО
P6: "Утверждено"
A7: Штатное расписание по состоянию на 25.03.2022 | O7: Штат в количестве 123,0 единиц
R9: ФОТ мес
A10: Наименование струк.подразделения | B10: КОД | C10: Должность(специальность),разряд,класс (категория) квалификации | D10: Кол-во штатных единиц | E10: Тарифная ставка (оклад) и пр., руб. | F10: Тарифная ставка (оклад) и пр., руб. | G10: Тарифная ставка (оклад) и пр., руб. | H10: Тарифная ставка (оклад) и пр., руб. с 01.01.2012 | I10: Тарифная ставка (оклад) и пр., руб. с 01.09.2012 | K10: Тарифная ставка (оклад) и пр., руб. | L10: Фамилия И.О. | M10: Надбавка за выслугу лет % | N10: Декретный отпуск | O10: Надбавка за выслугу лет, руб. | P10: Надбавка к основному окладу за особ.усл., руб. | Q10: Ежемесячное денежное поощрение, руб. | R10: Всего, руб. | S10: Материальная помощь, руб.(в мес.) | T10: Коэф.ежемес. ден.поощрен. | U10: Всего, руб. | V10: Всего без подоходного налога (гр.11*0,87) | W10: Всего без подоходного налога (гр.14*0,87) | X10: Должно быть | Y10: Факт
A11: 1 | B11: 2 | C11: 3 | D11: 4 | K11: 5 | L11: 6 | M11: 7 | O11: 8 | P11: 9 | Q11: 10 | R11: 11 | S11: 12 | T11: 13 | U11: 14 | V11: 15 | W11: 16
A12: Дирекция ТФОМС ЛО | F12: 1.1 | G12: 1.1 | H12: 1.1 | I12: 1.1 | J12: 1.06 | P12: 1.24 | Q12: 1,14-1,34 | S12: 0.25
C13: Директор | D13: 1 | E13: 12000 | F13: =ROUND(E13*F$12,2) -> 13200 | G13: =F13*1.1*1.1 -> 15972 | H13: 19740.75 | I13: =H13*$I$12 -> 21714.825 | J13: 23017.715 | K13: 31768.48 | L13: Алексеев А.Н. | M13: 20 | O13: =ROUND((K13*M13/100),2) -> 6353.7 | P13: =ROUND(K13*P$12,2) -> 39392.92 | Q13: =K13*T13 -> 42569.763 | R13: =K13+O13+P13+Q13 -> 120084.86 | S13: =ROUND(K13*S$12,2) -> 7942.12 | T13: 1.34 | U13: =K13+O13+P13+Q13+S13 -> 128026.98 | V13: =R13*0.87 -> 104473.83 | W13: =U13*0.87 -> 111383.48 | X13: 3 | Y13: 3 | Z13: =X13-Y13 -> 0 | AA13: =K13*Z13 -> 0 | AB13: =K13*Y13 -> 95305.44 | AD13: 0.1 | AE13: =K13*AD13 -> 3176.848 | AF13: 0.2 | AG13: =AF13*K13 -> 6353.696
C14: 1 зам. директора | D14: 0 | E14: 11500 | F14: =ROUND(E14*F$12,2) -> 12650 | G14: =F14*1.1*1.1+0.5 -> 15307 | H14: 18918.22 | I14: =H14*$I$12 -> 20810.042 | J14: 22058.645 | O14: =ROUND((K14*M14/100),2) -> 0 | P14: =ROUND(K14*P$12,2) -> 0 | Q14: =K14*T14 -> 0 | R14: =K14+O14+P14+Q14 -> 0 | S14: =ROUND(K14*S$12,2) -> 0 | T14: 1.14 | U14: =K14+O14+P14+Q14+S14 -> 0 | V14: =R14*0.87 -> 0 | W14: =U14*0.87 -> 0 | X14: 3 | Y14: 3 | Z14: =X14-Y14 -> 0 | AA14: =K14*Z14 -> 0 | AB14: =K14*Y14 -> 0 | AD14: 0.1 | AE14: =K14*AD14 -> 0 | AF14: 0.2 | AG14: =AF14*K14 -> 0 | AH14: =R14+AG14 -> 0
C15: Помощник диектора | D15: 1 | K15: 17207.94 | L15: Омаров М.М. | M15: 10 | O15: =ROUND((K15*M15/100),2) -> 1720.79 | P15: =ROUND(K15*1.14,2) -> 19617.05 | Q15: =K15*T15 -> 26500.228 | R15: =K15+O15+P15+Q15 -> 65046.008 | S15: =ROUND(K15*S$12,2) -> 4301.99 | T15: 1.54 | U15: =K15+O15+P15+Q15+S15 -> 69347.998 | V15: =R15*0.87 -> 56590.027 | W15: =U15*0.87 -> 60332.758 | X15: 3 | Y15: 3 | Z15: =X15-Y15 -> 0 | AA15: =K15*Z15 -> 0 | AB15: =K15*Y15 -> 51623.82 | AD15: 1.1 | AE15: =K15*AD15 -> 18928.734 | AF15: 1.2 | AG15: =AF15*K15 -> 20649.528 | AH15: =R15+AG15 -> 85695.536
C16: ИТОГО | D16: =SUM(D13:D15) -> 2 | E16: =SUM(E13:E14) -> 23500 | F16: =SUM(F13:F14) -> 25850 | G16: =SUM(G13:G14) -> 31279 | H16: =SUM(H13:H14) -> 38658.97 | I16: =SUM(I13:I14) -> 42524.867 | J16: 45076.359 | K16: =SUM(K13:K15) -> 48976.42 | N16: =SUM(N13:N14) -> 0 | O16: =SUM(O13:O15) -> 8074.49 | P16: =SUM(P13:P15) -> 59009.97 | Q16: =SUM(Q13:Q15) -> 69069.991 | R16: =SUM(R13:R15) -> 185130.87 | S16: =SUM(S13:S15) -> 12244.11 | U16: =SUM(U13:U15) -> 197374.98 | V16: =SUM(V13:V15) -> 161063.86 | W16: =SUM(W13:W15) -> 171716.23 | X16: =SUM(X13:X15) -> 9 | Y16: =SUM(Y13:Y15) -> 9 | Z16: =SUM(Z13:Z15) -> 0 | AA16: =SUM(AA13:AA15) -> 0 | AB16: =SUM(AB13:AB15) -> 146929.26 | ... AH16: =SUM(AH13:AH15) -> 85695.536
A17: Бухгалтерия | P17: 1,14-1,24 | Q17: 1,44-1,64 | AA17: =K17*Z17 -> 0 | AB17: =K17*Y17 -> 0 | AD17: 0.1
C18: Главный бухгалтер | D18: 1 | E18: 8500 | F18: =ROUND(E18*F$12,2) -> 9350 | G18: =F18*1.1*1.1+0.5 -> 11314 | H18: 13983.03 | I18: =H18*$I$12 -> 15381.333 | J18: 16304.213 | K18: 22502.66 | L18: Бондарева О.А. | M18: 30 | O18: =ROUND((K18*M18/100),2) -> 6750.8 | P18: =ROUND(K18*1.24,2) -> 27903.3 | Q18: =K18*T18 -> 36904.362 | R18: =K18+O18+P18+Q18 -> 94061.122 | S18: =ROUND(K18*S$12,2) -> 5625.67 | T18: 1.64 | U18: =K18+O18+P18+Q18+S18 -> 99686.792 | V18: =R18*0.87 -> 81833.176 | W18: =U18*0.87 -> 86727.509 | X18: 3 | Y18: 3 | Z18: =X18-Y18 -> 0 | AA18: =K18*Z18 -> 0 | AB18: =K18*Y18 -> 67507.98 | AD18: 0.1 | AE18: =K18*AD18 -> 2250.266 | AF18: 0.2 | AG18: =AF18*K18 -> 4500.532
C19: Зам. главного бухгалтера | D19: 1 | E19: 7700 | F19: =ROUND(E19*F$12,2) -> 8470 | G19: =F19*1.1*1.1+0.3 -> 10249 | H19: 12666.98 | I19: =H19*$I$12 -> 13933.678 | J19: 14769.699 | K19: 20384.77 | L19: Пуганова Л.И. | M19: 30 | O19: =ROUND((K19*M19/100),2) -> 6115.43 | P19: =ROUND(K19*1.14,2) -> 23238.64 | Q19: =K19*T19 -> 31392.546 | R19: =K19+O19+P19+Q19 -> 81131.386 | S19: =ROUND(K19*S$12,2) -> 5096.19 | T19: 1.54 | U19: =K19+O19+P19+Q19+S19 -> 86227.576 | V19: =R19*0.87 -> 70584.306 | W19: =U19*0.87 -> 75017.991 | X19: 3 | Z19: =X19-Y19 -> 3 | AA19: =K19*Z19 -> 61154.31 | AB19: =K19*Y19 -> 0 | AD19: 0.1 | AE19: =K19*AD19 -> 2038.477 | AF19: 0.2 | AG19: =AF19*K19 -> 4076.954
C20: Главный специалист-бухгалтер | D20: 1 | E20: 6500 | F20: =ROUND(E20*F$12,2) -> 7150 | G20: =F20*1.1*1.1+0.5 -> 8652 | H20: 10692.91 | I20: =H20*$I$12 -> 11762.201 | J20: 12467.933 | K20: 17207.94 | L20: Ятагама Гамаге Л.В. | M20: 30 | O20: =ROUND((K20*M20/100),2) -> 5162.38 | P20: =ROUND(K20*1.14,2) -> 19617.05 | Q20: =K20*T20 -> 26500.228 | R20: =K20+O20+P20+Q20 -> 68487.598 | S20: =ROUND(K20*S$12,2) -> 4301.99 | T20: 1.54 | U20: =K20+O20+P20+Q20+S20 -> 72789.588 | V20: =R20*0.87 -> 59584.21 | W20: =U20*0.87 -> 63326.941 | X20: 3 | Y20: 3 | Z20: =X20-Y20 -> 0 | AA20: =K20*Z20 -> 0 | AB20: =K20*Y20 -> 51623.82 | AD20: 0.1 | AE20: =K20*AD20 -> 1720.794 | AF20: 0.2 | AG20: =AF20*K20 -> 3441.588
C21: Главный специалист-бухгалтер | D21: 1 | E21: 6500 | F21: =ROUND(E21*F$12,2) -> 7150 | G21: =F21*1.1*1.1+0.5 -> 8652 | H21: 10692.91 | I21: =H21*$I$12 -> 11762.201 | J21: 12467.933 | K21: 17207.94 | L21: Кравецкая Л.Г. | M21: 20 | O21: =ROUND((K21*M21/100),2) -> 3441.59 | P21: =ROUND(K21*1.14,2) -> 19617.05 | Q21: =K21*T21 -> 26500.228 | R21: =K21+O21+P21+Q21 -> 66766.808 | S21: =ROUND(K21*S$12,2) -> 4301.99 | T21: 1.54 | U21: =K21+O21+P21+Q21+S21 -> 71068.798 | V21: =R21*0.87 -> 58087.123 | W21: =U21*0.87 -> 61829.854 | X21: 3 | Y21: 2 | Z21: =X21-Y21 -> 1 | AA21: =K21*Z21 -> 17207.94 | AB21: =K21*Y21 -> 34415.88 | AD21: 0.1 | AE21: =K21*AD21 -> 1720.794 | AF21: 0.2 | AG21: =AF21*K21 -> 3441.588
C22: Ведущий специалист-бухгалтер | D22: 1 | E22: 5600 | F22: =ROUND(E22*F$12,2) -> 6160 | G22: =F22*1.1*1.1+0.4 -> 7454 | H22: 9212.35 | I22: =H22*$I$12 -> 10133.585 | J22: 10741.6 | K22: 14825.32 | L22: Гуськова Е.С. | O22: =ROUND((K22*M22/100),2) -> 0 | P22: =ROUND(K22*1.14,2) -> 16900.86 | Q22: =K22*T22 -> 21348.461 | R22: =K22+O22+P22+Q22 -> 53074.641 | S22: =ROUND(K22*S$12,2) -> 3706.33 | T22: 1.44 | U22: =K22+O22+P22+Q22+S22 -> 56780.971 | V22: =R22*0.87 -> 46174.937 | W22: =U22*0.87 -> 49399.445 | X22: 3 | Y22: 3 | Z22: =X22-Y22 -> 0 | AA22: =K22*Z22 -> 0 | AB22: =K22*Y22 -> 44475.96 | AD22: 0.1 | AE22: =K22*AD22 -> 1482.532 | AF22: 0.2 | AG22: =AF22*K22 -> 2965.064
C23: Главный специалист-бухгалтер | D23: 1 | E23: 5600 | F23: =ROUND(E23*F$12,2) -> 6160 | G23: =F23*1.1*1.1+0.4 -> 7454 | H23: 9212.35 | I23: =H23*$I$12 -> 10133.585 | J23: 10741.6 | K23: 17207.94 | L23: Касаткина Л.В. | M23: 30 | O23: =ROUND((K23*M23/100),2) -> 5162.38 | P23: =ROUND(K23*1.14,2) -> 19617.05 | Q23: =K23*T23 -> 26500.228 | R23: =K23+O23+P23+Q23 -> 68487.598 | S23: =ROUND(K23*S$12,2) -> 4301.99 | T23: 1.54 | U23: =K23+O23+P23+Q23+S23 -> 72789.588 | V23: =R23*0.87 -> 59584.21 | W23: =U23*0.87 -> 63326.941 | X23: 3 | Y23: 3 | Z23: =X23-Y23 -> 0 | AA23: =K23*Z23 -> 0 | AB23: =K23*Y23 -> 51623.82 | AD23: 0.1 | AE23: =K23*AD23 -> 1720.794 | AF23: 0.2 | AG23: =AF23*K23 -> 3441.588
C24: ИТОГО по отделу | D24: =SUM(D18:D23) -> 6 | E24: =SUM(E18:E23) -> 40400 | F24: =SUM(F18:F23) -> 44440 | G24: =SUM(G18:G23) -> 53775 | H24: =SUM(H18:H23) -> 66460.53 | I24: =SUM(I18:I23) -> 73106.583 | J24: 77492.978 | K24: =SUM(K18:K23) -> 109336.57 | N24: =SUM(N18:N23) -> 0 | O24: =SUM(O18:O23) -> 26632.58 | P24: =SUM(P18:P23) -> 126893.95 | Q24: =SUM(Q18:Q23) -> 169146.05 | R24: =SUM(R18:R23) -> 432009.15 | S24: =SUM(S18:S23) -> 27334.16 | T24: =SUM(T18:T23) -> 9.24 | U24: =SUM(U18:U23) -> 459343.31 | ... W24: =SUM(W18:W23) -> 399628.68 | AA24: =K24*Z24 -> 0 | AB24: =K24*Y24 -> 0 | AD24: 0.1 | AE24: =K24*AD24 -> 10933.657 | AF24: 0.2 | AG24: =AF24*K24 -> 21867.314
A25: Департамент финансово-экономической деятельности и учета поступлений финансовых средств ОМС | P25: 1.19 | AA25: =K25*Z25 -> 0 | AB25: =K25*Y25 -> 0 | AD25: 0.1
C26: Заместитель директора-Начальник департамента | D26: 1 | G26: =11616*1.1+0.4 -> 12778 | H26: 15792.6 | I26: =H26*$I$12 -> 17371.86 | J26: 18414.172 | K26: 29121.1 | L26: Селезнева Н.М. | M26: 30 | O26: =ROUND((K26*M26/100),2) -> 8736.33 | P26: =ROUND(K26*1.19,2) -> 34654.11 | Q26: =K26*T26 -> 44846.494 | R26: =K26+O26+P26+Q26 -> 117358.03 | S26: =ROUND(K26*S$12,2) -> 7280.28 | T26: 1.54 | U26: =K26+O26+P26+Q26+S26 -> 124638.31 | V26: =R26*0.87 -> 102101.49 | W26: =U26*0.87 -> 108435.33 | X26: 3 | Y26: 3 | Z26: =X26-Y26 -> 0 | AA26: =K26*Z26 -> 0 | AB26: =K26*Y26 -> 87363.3 | AD26: 0.1 | AE26: =K26*AD26 -> 2912.11 | AF26: 0.2 | AG26: =AF26*K26 -> 5824.22
C27: Зам. начальника департамента | D27: 1 | G27: =10527*1.1+0.3 -> 11580 | H27: 14312.05 | I27: =H27*$I$12 -> 15743.255 | J27: 16687.85 | K27: 23032.18 | L27: Воронкова О.Ю. | M27: 30 | O27: =ROUND((K27*M27/100),2) -> 6909.65 | P27: =ROUND(K27*1.19,2) -> 27408.29 | Q27: =K27*T27 -> 35469.557 | R27: =K27+O27+P27+Q27 -> 92819.677 | S27: =ROUND(K27*S$12,2) -> 5758.05 | T27: 1.54 | U27: =K27+O27+P27+Q27+S27 -> 98577.727 | V27: =R27*0.87 -> 80753.119 | W27: =U27*0.87 -> 85762.623 | X27: 3 | Y27: 3 | Z27: =X27-Y27 -> 0 | AA27: =K27*Z27 -> 0 | AB27: =K27*Y27 -> 69096.54 | AD27: 0.1 | AE27: =K27*AD27 -> 2303.218 | AF27: 0.2 | AG27: =AF27*K27 -> 4606.436
A28: Отдел межтерриториальных расчетов, финансирования и планирования | P28: 1,14-1,24 | Q28: 1,44-1,54 | AA28: =K28*Z28 -> 0 | AB28: =K28*Y28 -> 0 | AD28: 0.1
C29: Начальник отдела | D29: 1 | E29: 8500 | F29: =ROUND(E29*F$12,2) -> 9350 | G29: =9075*1.1+0.5 -> 9983 | H29: 12337.98 | I29: =H29*$I$12 -> 13571.778 | J29: 14386.085 | K29: 22502.66 | L29: Жильцова Л.Н. | M29: 30 | O29: =ROUND((K29*M29/100),2) -> 6750.8 | P29: =ROUND(K29*1.24,2) -> 27903.3 | Q29: =K29*T29 -> 34654.096 | R29: =K29+O29+P29+Q29 -> 91810.856 | S29: =ROUND(K29*S$12,2) -> 5625.67 | T29: 1.54 | U29: =K29+O29+P29+Q29+S29 -> 97436.526 | V29: =R29*0.87 -> 79875.445 | W29: =U29*0.87 -> 84769.778 | X29: 3 | Y29: 3 | Z29: =X29-Y29 -> 0 | AA29: =K29*Z29 -> 0 | AB29: =K29*Y29 -> 67507.98 | AD29: 0.1 | AE29: =K29*AD29 -> 2250.266 | AF29: 0.2 | AG29: =AF29*K29 -> 4500.532
C30: Заместитель начальника отдела | D30: 1 | K30: 20384.77 | L30: Федяшина Н.Г. | M30: 30 | O30: =ROUND((K30*M30/100),2) -> 6115.43 | P30: =ROUND(K30*1.14,2) -> 23238.64 | Q30: =K30*T30 -> 31392.546 | R30: =K30+O30+P30+Q30 -> 81131.386 | S30: =ROUND(K30*S$12,2) -> 5096.19 | T30: 1.54 | U30: =K30+O30+P30+Q30+S30 -> 86227.576 | V30: =R30*0.87 -> 70584.306 | W30: =U30*0.87 -> 75017.991
C31: Главный специалист | D31: 1 | E31: 6500 | F31: =ROUND(E31*F$12,2) -> 7150 | G31: =F31*1.1*1.1+0.5 -> 8652 | H31: 10692.91 | I31: =H31*$I$12 -> 11762.201 | J31: 12467.933 | K31: 17207.94 | L31: Терновская Г.В. | M31: 30 | O31: =ROUND((K31*M31/100),2) -> 5162.38 | P31: =ROUND(K31*1.14,2) -> 19617.05 | Q31: =K31*T31 -> 26500.228 | R31: =K31+O31+P31+Q31 -> 68487.598 | S31: =ROUND(K31*S$12,2) -> 4301.99 | T31: 1.54 | U31: =K31+O31+P31+Q31+S31 -> 72789.588 | V31: =R31*0.87 -> 59584.21 | W31: =U31*0.87 -> 63326.941 | X31: 3 | Y31: 3 | Z31: =X31-Y31 -> 0 | AA31: =K31*Z31 -> 0 | AB31: =K31*Y31 -> 51623.82 | AD31: 0.1 | AE31: =K31*AD31 -> 1720.794 | AF31: 0.2 | AG31: =AF31*K31 -> 3441.588
C32: Главный специалист | D32: 1 | E32: 6500 | F32: =ROUND(E32*F$12,2) -> 7150 | G32: =F32*1.1*1.1+0.5 -> 8652 | H32: 10692.91 | I32: =H32*$I$12 -> 11762.201 | J32: 12467.933 | K32: 17207.94 | L32: Хисматуллина Р.А. | M32: 30 | O32: =ROUND((K32*M32/100),2) -> 5162.38 | P32: =ROUND(K32*1.14,2) -> 19617.05 | Q32: =K32*T32 -> 26500.228 | R32: =K32+O32+P32+Q32 -> 68487.598 | S32: =ROUND(K32*S$12,2) -> 4301.99 | T32: 1.54 | U32: =K32+O32+P32+Q32+S32 -> 72789.588 | V32: =R32*0.87 -> 59584.21 | W32: =U32*0.87 -> 63326.941 | X32: 3 | Y32: 3 | Z32: =X32-Y32 -> 0 | AA32: =K32*Z32 -> 0 | AB32: =K32*Y32 -> 51623.82 | AD32: 0.1 | AE32: =K32*AD32 -> 1720.794 | AF32: 0.2 | AG32: =AF32*K32 -> 3441.588
C33: Главный специалист | D33: 1 | E33: 6500 | F33: =ROUND(E33*F$12,2) -> 7150 | G33: =F33*1.1*1.1+0.5 -> 8652 | H33: 10692.91 | I33: =H33*$I$12 -> 11762.201 | J33: 12467.933 | K33: 17207.94 | L33: Бесклинская Ю.А. | M33: 30 | O33: =ROUND((K33*M33/100),2) -> 5162.38 | P33: =ROUND(K33*1.14,2) -> 19617.05 | Q33: =K33*T33 -> 26500.228 | R33: =K33+O33+P33+Q33 -> 68487.598 | S33: =ROUND(K33*S$12,2) -> 4301.99 | T33: 1.54 | U33: =K33+O33+P33+Q33+S33 -> 72789.588 | V33: =R33*0.87 -> 59584.21 | W33: =U33*0.87 -> 63326.941 | X33: 3 | Y33: 3 | Z33: =X33-Y33 -> 0 | AA33: =K33*Z33 -> 0 | AB33: =K33*Y33 -> 51623.82 | AD33: 0.1 | AE33: =K33*AD33 -> 1720.794 | AF33: 0.2 | AG33: =AF33*K33 -> 3441.588
C34: Главный специалист | D34: 1 | E34: 5600 | F34: 7150 | G34: =F34*1.1*1.1+0.5 -> 8652 | H34: 10692.91 | I34: =H34*$I$12 -> 11762.201 | J34: 12467.933 | K34: 17207.94 | L34: Титишева Г.М. | M34: 30 | O34: =ROUND((K34*M34/100),2) -> 5162.38 | P34: =ROUND(K34*1.14,2) -> 19617.05 | Q34: =K34*T34 -> 26500.228 | R34: =K34+O34+P34+Q34 -> 68487.598 | S34: =ROUND(K34*S$12,2) -> 4301.99 | T34: 1.54 | U34: =K34+O34+P34+Q34+S34 -> 72789.588 | V34: =R34*0.87 -> 59584.21 | W34: =U34*0.87 -> 63326.941 | X34: 3 | Y34: 3 | Z34: =X34-Y34 -> 0 | AA34: =K34*Z34 -> 0 | AB34: =K34*Y34 -> 51623.82 | AD34: 0.1 | AE34: =K34*AD34 -> 1720.794 | AF34: 0.2 | AG34: =AF34*K34 -> 3441.588
C35: Главный специалист | D35: 1 | E35: 5600 | F35: =ROUND(E35*F$12,2) -> 6160 | G35: =F35*1.1*1.1+0.4 -> 7454 | H35: 9212.35 | I35: =H35*$I$12 -> 10133.585 | J35: 10741.6 | K35: 17207.94 | L35: Зобнина Г.И. | M35: 30 | O35: =ROUND((K35*M35/100),2) -> 5162.38 | P35: =ROUND(K35*1.14,2) -> 19617.05 | Q35: =K35*T35 -> 26500.228 | R35: =K35+O35+P35+Q35 -> 68487.598 | S35: =ROUND(K35*S$12,2) -> 4301.99 | T35: 1.54 | U35: =K35+O35+P35+Q35+S35 -> 72789.588 | V35: =R35*0.87 -> 59584.21 | W35: =U35*0.87 -> 63326.941 | X35: 3 | Y35: 3 | Z35: =X35-Y35 -> 0 | AA35: =K35*Z35 -> 0 | AB35: =K35*Y35 -> 51623.82 | AD35: 0.1 | AE35: =K35*AD35 -> 1720.794 | AF35: 0.2 | AG35: =AF35*K35 -> 3441.588
C36: Главный специалист | D36: 1 | E36: 5600 | F36: =ROUND(E36*F$12,2) -> 6160 | G36: =F36*1.1*1.1+0.4 -> 7454 | H36: 9212.35 | I36: =H36*$I$12 -> 10133.585 | J36: 10741.6 | K36: 17207.94 | L36: Бакалец-Ланская Н.Л. | M36: 30 | O36: =ROUND((K36*M36/100),2) -> 5162.38 | P36: =ROUND(K36*1.14,2) -> 19617.05 | Q36: =K36*T36 -> 26500.228 | R36: =K36+O36+P36+Q36 -> 68487.598 | S36: =ROUND(K36*S$12,2) -> 4301.99 | T36: 1.54 | U36: =K36+O36+P36+Q36+S36 -> 72789.588 | V36: =R36*0.87 -> 59584.21 | W36: =U36*0.87 -> 63326.941 | X36: 3 | Y36: 3 | Z36: =X36-Y36 -> 0 | AA36: =K36*Z36 -> 0 | AB36: =K36*Y36 -> 51623.82 | AD36: 0.1 | AE36: =K36*AD36 -> 1720.794 | AF36: 0.2 | AG36: =AF36*K36 -> 3441.588
C37: Главный специалист | D37: 1 | E37: 5600 | F37: =ROUND(E37*F$12,2) -> 6160 | G37: =F37*1.1*1.1+0.4 -> 7454 | H37: 9213.35 | I37: =H37*$I$12 -> 10134.685 | J37: 10741.6 | K37: 17207.94 | L37: Редько М.А. | M37: 30 | O37: =ROUND((K37*M37/100),2) -> 5162.38 | P37: =ROUND(K37*1.14,2) -> 19617.05 | Q37: =K37*T37 -> 26500.228 | R37: =K37+O37+P37+Q37 -> 68487.598 | S37: =ROUND(K37*S$12,2) -> 4301.99 | T37: 1.54 | U37: =K37+O37+P37+Q37+S37 -> 72789.588 | V37: =R37*0.87 -> 59584.21 | W37: =U37*0.87 -> 63326.941 | X37: 3 | Y37: 3 | Z37: =X37-Y37 -> 0 | AA37: =K37*Z37 -> 0 | AB37: =K37*Y37 -> 51623.82 | AD37: 1.1 | AE37: =K37*AD37 -> 18928.734 | AF37: 1.2 | AG37: =AF37*K37 -> 20649.528
C38: Главный специалист | D38: 1 | E38: 5600 | F38: =ROUND(E38*F$12,2) -> 6160 | G38: =F38*1.1*1.1+0.4 -> 7454 | H38: 9212.35 | I38: =H38*$I$12 -> 10133.585 | J38: 10741.6 | K38: 17207.94 | L38: Сакович И.С. | M38: 20 | O38: =ROUND((K38*M38/100),2) -> 3441.59 | P38: =ROUND(K38*1.14,2) -> 19617.05 | Q38: =K38*T38 -> 26500.228 | R38: =K38+O38+P38+Q38 -> 66766.808 | S38: =ROUND(K38*S$12,2) -> 4301.99 | T38: 1.54 | U38: =K38+O38+P38+Q38+S38 -> 71068.798 | V38: =R38*0.87 -> 58087.123 | W38: =U38*0.87 -> 61829.854 | X38: 3 | Y38: 3 | Z38: =X38-Y38 -> 0 | AA38: =K38*Z38 -> 0 | AB38: =K38*Y38 -> 51623.82 | AD38: 0.1 | AE38: =K38*AD38 -> 1720.794 | AF38: 0.2 | AG38: =AF38*K38 -> 3441.588
C39: Ведущий специалист | D39: 1 | E39: 5600 | F39: =ROUND(E39*F$12,2) -> 6160 | G39: =F39*1.1*1.1+0.4 -> 7454 | H39: 9212.35 | I39: =H39*$I$12 -> 10133.585 | J39: 10741.6 | K39: 14825.32 | L39: Лукьяноа Л.В. | M39: 30 | O39: =ROUND((K39*M39/100),2) -> 4447.6 | P39: =ROUND(K39*1.14,2) -> 16900.86 | Q39: =K39*T39 -> 21348.461 | R39: =K39+O39+P39+Q39 -> 57522.241 | S39: =ROUND(K39*S$12,2) -> 3706.33 | T39: 1.44 | U39: =K39+O39+P39+Q39+S39 -> 61228.571 | V39: =R39*0.87 -> 50044.349 | W39: =U39*0.87 -> 53268.857 | X39: 3 | Y39: 3 | Z39: Коровко О.Н.
C40: Ведущий специалист | D40: 1 | K40: 14825.32 | L40: Азаренко Д.А. | M40: 15 | O40: =ROUND((K40*M40/100),2) -> 2223.8 | P40: =ROUND(K40*1.14,2) -> 16900.86 | Q40: =K40*T40 -> 21348.461 | R40: =K40+O40+P40+Q40 -> 55298.441 | S40: =ROUND(K40*S$12,2) -> 3706.33 | T40: 1.44 | U40: =K40+O40+P40+Q40+S40 -> 59004.771 | V40: =R40*0.87 -> 48109.643 | W40: =U40*0.87 -> 51334.151
C41: ИТОГО по отделу | D41: =SUM(D29:D40) -> 12 | G41: =SUM(G29:G36) -> 59499 | H41: =SUM(H29:H36) -> 73534.32 | I41: =SUM(I29:I36) -> 80887.752 | J41: 87467.35 | K41: =SUM(K29:K39) -> 195376.27 | N41: =SUM(N29:N36) -> 0 | O41: =SUM(O29:O40) -> 59115.88 | P41: =SUM(P29:P40) -> 241880.06 | Q41: =SUM(Q29:Q40) -> 320745.38 | R41: =SUM(R29:R40) -> 831942.91 | S41: =SUM(S29:S40) -> 52550.44 | T41: =SUM(T29:T40) -> 18.28 | U41: =SUM(U29:U40) -> 884493.35 | V41: =SUM(V29:V40) -> 723790.34 | W41: =SUM(W29:W40) -> 769509.22 | Z41: =X41-Y41 -> 0 | AA41: =K41*Z41 -> 0 | AB41: =K41*Y41 -> 0 | AD41: 0.1 | AE41: =K41*AD41 -> 19537.627 | AF41: 0.2 | AG41: =AF41*K41 -> 39075.254
A42: Отдел учета поступлений финансовых средств ОМС и взаимодействия со СМО | P42: 1,14-1,24 | Z42: =X42-Y42 -> 0 | AA42: =K42*Z42 -> 0 | AB42: =K42*Y42 -> 0 | AD42: 0.1
C43: Начальник отдела | D43: 1 | E43: 8500 | F43: =ROUND(E43*F$12,2) -> 9350 | G43: =9075*1.1+0.5 -> 9983 | H43: 12337.98 | I43: =H43*$I$12 -> 13571.778 | J43: 14386.085 | K43: 22502.66 | L43: Токарева Е.В. | M43: 30 | O43: =ROUND((K43*M43/100),2) -> 6750.8 | P43: =ROUND(K43*1.24,2) -> 27903.3 | Q43: =K43*T43 -> 34654.096 | R43: =K43+O43+P43+Q43 -> 91810.856 | S43: =ROUND(K43*S$12,2) -> 5625.67 | T43: 1.54 | U43: =K43+O43+P43+Q43+S43 -> 97436.526 | V43: =R43*0.87 -> 79875.445 | W43: =U43*0.87 -> 84769.778 | X43: 3 | Y43: 3 | Z43: =X43-Y43 -> 0 | AA43: =K43*Z43 -> 0 | AB43: =K43*Y43 -> 67507.98 | AD43: 0.1 | AE43: =K43*AD43 -> 2250.266 | AF43: 0.2 | AG43: =AF43*K43 -> 4500.532
...

Sheet с 01.09.2022
P1: Рсшифровка штатного расписания
A2: Территориальный фонд обязательного медицинского | P2: Форма по ОКУД 0301017
A3: страхования Ленинградской области | P3: по ОКПО
P6: "Утверждено"
A7: Штатное расписание по состоянию на 26.08.2022 | O7: Штат в количестве 123,0 единиц
R9: ФОТ мес
A10: Наименование струк.подразделения | B10: КОД | C10: Должность(специальность),разряд,класс (категория) квалификации | D10: Кол-во штатных единиц | E10: Тарифная ставка (оклад) и пр., руб. | F10: Тарифная ставка (оклад) и пр., руб. | G10: Тарифная ставка (оклад) и пр., руб. | H10: Тарифная ставка (оклад) и пр., руб. с 01.01.2012 | I10: Тарифная ставка (оклад) и пр., руб. с 01.09.2012 | K10: Тарифная ставка (оклад) и пр., руб. | L10: Фамилия И.О. | M10: Надбавка за выслугу лет % | N10: Декретный отпуск | O10: Надбавка за выслугу лет, руб. | P10: Надбавка к основному окладу за особ.усл., руб. | Q10: Ежемесячное денежное поощрение, руб. | R10: Всего, руб. | S10: Материальная помощь, руб.(в мес.) | T10: Коэф.ежемес. ден.поощрен. | U10: Всего, руб. | V10: Всего без подоходного налога (гр.11*0,87) | W10: Всего без подоходного налога (гр.14*0,87) | X10: Должно быть | Y10: Факт
A11: 1 | B11: 2 | C11: 3 | D11: 4 | K11: 5 | L11: 6 | M11: 7 | O11: 8 | P11: 9 | Q11: 10 | R11: 11 | S11: 12 | T11: 13 | U11: 14 | V11: 15 | W11: 16
A12: Дирекция ТФОМС ЛО | F12: 1.1 | G12: 1.1 | H12: 1.1 | I12: 1.1 | J12: 1.06 | P12: 1.24 | Q12: 1,14-1,34 | S12: 0.25
C13: Директор | D13: 1 | E13: 12000 | F13: =ROUND(E13*F$12,2) -> 13200 | G13: =F13*1.1*1.1 -> 15972 | H13: 19740.75 | I13: =H13*$I$12 -> 21714.825 | J13: 23017.715 | K13: 33039.22 | L13: Алексеев А.Н. | M13: 20 | O13: =ROUND((K13*M13/100),2) -> 6607.84 | P13: =ROUND(K13*P$12,2) -> 40968.63 | Q13: =K13*T13 -> 44272.555 | R13: =K13+O13+P13+Q13 -> 124888.24 | S13: =ROUND(K13*S$12,2) -> 8259.81 | T13: 1.34 | U13: =K13+O13+P13+Q13+S13 -> 133148.05 | V13: =R13*0.87 -> 108652.77 | W13: =U13*0.87 -> 115838.81 | X13: 3 | Y13: 3 | Z13: =X13-Y13 -> 0 | AA13: =K13*Z13 -> 0 | AB13: =K13*Y13 -> 99117.66 | AD13: 0.1 | AE13: =K13*AD13 -> 3303.922 | AF13: 0.2 | AG13: =AF13*K13 -> 6607.844
C14: 1 зам. директора | D14: 0 | E14: 11500 | F14: =ROUND(E14*F$12,2) -> 12650 | G14: =F14*1.1*1.1+0.5 -> 15307 | H14: 18918.22 | I14: =H14*$I$12 -> 20810.042 | J14: 22058.645 | O14: =ROUND((K14*M14/100),2) -> 0 | P14: =ROUND(K14*P$12,2) -> 0 | Q14: =K14*T14 -> 0 | R14: =K14+O14+P14+Q14 -> 0 | S14: =ROUND(K14*S$12,2) -> 0 | T14: 1.14 | U14: =K14+O14+P14+Q14+S14 -> 0 | V14: =R14*0.87 -> 0 | W14: =U14*0.87 -> 0 | X14: 3 | Y14: 3 | Z14: =X14-Y14 -> 0 | AA14: =K14*Z14 -> 0 | AB14: =K14*Y14 -> 0 | AD14: 0.1 | AE14: =K14*AD14 -> 0 | AF14: 0.2 | AG14: =AF14*K14 -> 0 | AH14: =R14+AG14 -> 0
C15: Помощник диектора | D15: 1 | K15: 17896.26 | L15: Омаров М.М. | M15: 10 | O15: =ROUND((K15*M15/100),2) -> 1789.63 | P15: =ROUND(K15*1.14,2) -> 20401.74 | Q15: =K15*T15 -> 27560.24 | R15: =K15+O15+P15+Q15 -> 67647.87 | S15: =ROUND(K15*S$12,2) -> 4474.07 | T15: 1.54 | U15: =K15+O15+P15+Q15+S15 -> 72121.94 | V15: =R15*0.87 -> 58853.647 | W15: =U15*0.87 -> 62746.088 | X15: 3 | Y15: 3 | Z15: =X15-Y15 -> 0 | AA15: =K15*Z15 -> 0 | AB15: =K15*Y15 -> 53688.78 | AD15: 1.1 | AE15: =K15*AD15 -> 19685.886 | AF15: 1.2 | AG15: =AF15*K15 -> 21475.512 | AH15: =R15+AG15 -> 89123.382
C16: ИТОГО | D16: =SUM(D13:D15) -> 2 | E16: =SUM(E13:E14) -> 23500 | F16: =SUM(F13:F14) -> 25850 | G16: =SUM(G13:G14) -> 31279 | H16: =SUM(H13:H14) -> 38658.97 | I16: =SUM(I13:I14) -> 42524.867 | J16: 45076.359 | K16: =SUM(K13:K15) -> 50935.48 | N16: =SUM(N13:N14) -> 0 | O16: =SUM(O13:O15) -> 8397.47 | P16: =SUM(P13:P15) -> 61370.37 | Q16: =SUM(Q13:Q15) -> 71832.795 | R16: =SUM(R13:R15) -> 192536.12 | S16: =SUM(S13:S15) -> 12733.88 | U16: =SUM(U13:U15) -> 205270 | V16: =SUM(V13:V15) -> 167506.42 | W16: =SUM(W13:W15) -> 178584.9 | X16: =SUM(X13:X15) -> 9 | Y16: =SUM(Y13:Y15) -> 9 | Z16: =SUM(Z13:Z15) -> 0 | AA16: =SUM(AA13:AA15) -> 0 | AB16: =SUM(AB13:AB15) -> 152806.44 | ... AH16: =SUM(AH13:AH15) -> 89123.382
A17: Бухгалтерия | P17: 1,14-1,24 | Q17: 1,44-1,64 | AA17: =K17*Z17 -> 0 | AB17: =K17*Y17 -> 0 | AD17: 0.1
C18: Главный бухгалтер | D18: 1 | E18: 8500 | F18: =ROUND(E18*F$12,2) -> 9350 | G18: =F18*1.1*1.1+0.5 -> 11314 | H18: 13983.03 | I18: =H18*$I$12 -> 15381.333 | J18: 16304.213 | K18: 23402.77 | L18: Бондарева О.А. | M18: 30 | O18: =ROUND((K18*M18/100),2) -> 7020.83 | P18: =ROUND(K18*1.24,2) -> 29019.43 | Q18: =K18*T18 -> 38380.543 | R18: =K18+O18+P18+Q18 -> 97823.573 | S18: =ROUND(K18*S$12,2) -> 5850.69 | T18: 1.64 | U18: =K18+O18+P18+Q18+S18 -> 103674.26 | V18: =R18*0.87 -> 85106.508 | W18: =U18*0.87 -> 90196.609 | X18: 3 | Y18: 3 | Z18: =X18-Y18 -> 0 | AA18: =K18*Z18 -> 0 | AB18: =K18*Y18 -> 70208.31 | AD18: 0.1 | AE18: =K18*AD18 -> 2340.277 | AF18: 0.2 | AG18: =AF18*K18 -> 4680.554
C19: Зам. главного бухгалтера | D19: 1 | E19: 7700 | F19: =ROUND(E19*F$12,2) -> 8470 | G19: =F19*1.1*1.1+0.3 -> 10249 | H19: 12666.98 | I19: =H19*$I$12 -> 13933.678 | J19: 14769.699 | K19: 21200.16 | L19: Пуганова Л.И. | M19: 30 | O19: =ROUND((K19*M19/100),2) -> 6360.05 | P19: =ROUND(K19*1.14,2) -> 24168.18 | Q19: =K19*T19 -> 32648.246 | R19: =K19+O19+P19+Q19 -> 84376.636 | S19: =ROUND(K19*S$12,2) -> 5300.04 | T19: 1.54 | U19: =K19+O19+P19+Q19+S19 -> 89676.676 | V19: =R19*0.87 -> 73407.674 | W19: =U19*0.87 -> 78018.708 | X19: 3 | Z19: =X19-Y19 -> 3 | AA19: =K19*Z19 -> 63600.48 | AB19: =K19*Y19 -> 0 | AD19: 0.1 | AE19: =K19*AD19 -> 2120.016 | AF19: 0.2 | AG19: =AF19*K19 -> 4240.032
C20: Главный специалист-бухгалтер | D20: 1 | E20: 6500 | F20: =ROUND(E20*F$12,2) -> 7150 | G20: =F20*1.1*1.1+0.5 -> 8652 | H20: 10692.91 | I20: =H20*$I$12 -> 11762.201 | J20: 12467.933 | K20: 17896.26 | L20: Ятагама Гамаге Л.В. | M20: 30 | O20: =ROUND((K20*M20/100),2) -> 5368.88 | P20: =ROUND(K20*1.14,2) -> 20401.74 | Q20: =K20*T20 -> 27560.24 | R20: =K20+O20+P20+Q20 -> 71227.12 | S20: =ROUND(K20*S$12,2) -> 4474.07 | T20: 1.54 | U20: =K20+O20+P20+Q20+S20 -> 75701.19 | V20: =R20*0.87 -> 61967.595 | W20: =U20*0.87 -> 65860.036 | X20: 3 | Y20: 3 | Z20: =X20-Y20 -> 0 | AA20: =K20*Z20 -> 0 | AB20: =K20*Y20 -> 53688.78 | AD20: 0.1 | AE20: =K20*AD20 -> 1789.626 | AF20: 0.2 | AG20: =AF20*K20 -> 3579.252
C21: Главный специалист-бухгалтер | D21: 1 | E21: 6500 | F21: =ROUND(E21*F$12,2) -> 7150 | G21: =F21*1.1*1.1+0.5 -> 8652 | H21: 10692.91 | I21: =H21*$I$12 -> 11762.201 | J21: 12467.933 | K21: 17896.26 | L21: Кравецкая Л.Г. | M21: 20 | O21: =ROUND((K21*M21/100),2) -> 3579.25 | P21: =ROUND(K21*1.14,2) -> 20401.74 | Q21: =K21*T21 -> 27560.24 | R21: =K21+O21+P21+Q21 -> 69437.49 | S21: =ROUND(K21*S$12,2) -> 4474.07 | T21: 1.54 | U21: =K21+O21+P21+Q21+S21 -> 73911.56 | V21: =R21*0.87 -> 60410.617 | W21: =U21*0.87 -> 64303.058 | X21: 3 | Y21: 2 | Z21: =X21-Y21 -> 1 | AA21: =K21*Z21 -> 17896.26 | AB21: =K21*Y21 -> 35792.52 | AD21: 0.1 | AE21: =K21*AD21 -> 1789.626 | AF21: 0.2 | AG21: =AF21*K21 -> 3579.252
C22: Ведущий специалист-бухгалтер | D22: 1 | E22: 5600 | F22: =ROUND(E22*F$12,2) -> 6160 | G22: =F22*1.1*1.1+0.4 -> 7454 | H22: 9212.35 | I22: =H22*$I$12 -> 10133.585 | J22: 10741.6 | K22: 15418.33 | L22: Гуськова Е.С. | O22: =ROUND((K22*M22/100),2) -> 0 | P22: =ROUND(K22*1.14,2) -> 17576.9 | Q22: =K22*T22 -> 22202.395 | R22: =K22+O22+P22+Q22 -> 55197.625 | S22: =ROUND(K22*S$12,2) -> 3854.58 | T22: 1.44 | U22: =K22+O22+P22+Q22+S22 -> 59052.205 | V22: =R22*0.87 -> 48021.934 | W22: =U22*0.87 -> 51375.419 | X22: 3 | Y22: 3 | Z22: =X22-Y22 -> 0 | AA22: =K22*Z22 -> 0 | AB22: =K22*Y22 -> 46254.99 | AD22: 0.1 | AE22: =K22*AD22 -> 1541.833 | AF22: 0.2 | AG22: =AF22*K22 -> 3083.666
C23: Главный специалист-бухгалтер | D23: 1 | E23: 5600 | F23: =ROUND(E23*F$12,2) -> 6160 | G23: =F23*1.1*1.1+0.4 -> 7454 | H23: 9212.35 | I23: =H23*$I$12 -> 10133.585 | J23: 10741.6 | K23: 17896.26 | L23: Касаткина Л.В. | M23: 30 | O23: =ROUND((K23*M23/100),2) -> 5368.88 | P23: =ROUND(K23*1.14,2) -> 20401.74 | Q23: =K23*T23 -> 27560.24 | R23: =K23+O23+P23+Q23 -> 71227.12 | S23: =ROUND(K23*S$12,2) -> 4474.07 | T23: 1.54 | U23: =K23+O23+P23+Q23+S23 -> 75701.19 | V23: =R23*0.87 -> 61967.595 | W23: =U23*0.87 -> 65860.036 | X23: 3 | Y23: 3 | Z23: =X23-Y23 -> 0 | AA23: =K23*Z23 -> 0 | AB23: =K23*Y23 -> 53688.78 | AD23: 0.1 | AE23: =K23*AD23 -> 1789.626 | AF23: 0.2 | AG23: =AF23*K23 -> 3579.252
C24: ИТОГО по отделу | D24: =SUM(D18:D23) -> 6 | E24: =SUM(E18:E23) -> 40400 | F24: =SUM(F18:F23) -> 44440 | G24: =SUM(G18:G23) -> 53775 | H24: =SUM(H18:H23) -> 66460.53 | I24: =SUM(I18:I23) -> 73106.583 | J24: 77492.978 | K24: =SUM(K18:K23) -> 113710.04 | N24: =SUM(N18:N23) -> 0 | O24: =SUM(O18:O23) -> 27697.89 | P24: =SUM(P18:P23) -> 131969.73 | Q24: =SUM(Q18:Q23) -> 175911.91 | R24: =SUM(R18:R23) -> 449289.57 | S24: =SUM(S18:S23) -> 28427.52 | T24: =SUM(T18:T23) -> 9.24 | U24: =SUM(U18:U23) -> 477717.09 | ... W24: =SUM(W18:W23) -> 415613.86 | AA24: =K24*Z24 -> 0 | AB24: =K24*Y24 -> 0 | AD24: 0.1 | AE24: =K24*AD24 -> 11371.004 | AF24: 0.2 | AG24: =AF24*K24 -> 22742.008
A25: Департамент финансово-экономической деятельности и учета поступлений финансовых средств ОМС | P25: 1.19 | AA25: =K25*Z25 -> 0 | AB25: =K25*Y25 -> 0 | AD25: 0.1
C26: Заместитель директора-Начальник департамента | D26: 1 | G26: =11616*1.1+0.4 -> 12778 | H26: 15792.6 | I26: =H26*$I$12 -> 17371.86 | J26: 18414.172 | K26: =ROUND('26.08.22'!K26*1.04,2) -> 30285.94 | L26: Селезнева Н.М. | M26: 30 | O26: =ROUND((K26*M26/100),2) -> 9085.78 | P26: =ROUND(K26*1.19,2) -> 36040.27 | Q26: =K26*T26 -> 46640.348 | R26: =K26+O26+P26+Q26 -> 122052.34 | S26: =ROUND(K26*S$12,2) -> 7571.49 | T26: 1.54 | U26: =K26+O26+P26+Q26+S26 -> 129623.83 | V26: =R26*0.87 -> 106185.53 | W26: =U26*0.87 -> 112772.73 | X26: 3 | Y26: 3 | Z26: =X26-Y26 -> 0 | AA26: =K26*Z26 -> 0 | AB26: =K26*Y26 -> 90857.82 | AD26: 0.1 | AE26: =K26*AD26 -> 3028.594 | AF26: 0.2 | AG26: =AF26*K26 -> 6057.188
C27: Зам. начальника департамента | D27: 1 | G27: =10527*1.1+0.3 -> 11580 | H27: 14312.05 | I27: =H27*$I$12 -> 15743.255 | J27: 16687.85 | K27: =ROUND('26.08.22'!K27*1.04,2) -> 23953.47 | L27: Воронкова О.Ю. | M27: 30 | O27: =ROUND((K27*M27/100),2) -> 7186.04 | P27: =ROUND(K27*1.19,2) -> 28504.63 | Q27: =K27*T27 -> 36888.344 | R27: =K27+O27+P27+Q27 -> 96532.484 | S27: =ROUND(K27*S$12,2) -> 5988.37 | T27: 1.54 | U27: =K27+O27+P27+Q27+S27 -> 102520.85 | V27: =R27*0.87 -> 83983.261 | W27: =U27*0.87 -> 89193.143 | X27: 3 | Y27: 3 | Z27: =X27-Y27 -> 0 | AA27: =K27*Z27 -> 0 | AB27: =K27*Y27 -> 71860.41 | AD27: 0.1 | AE27: =K27*AD27 -> 2395.347 | AF27: 0.2 | AG27: =AF27*K27 -> 4790.694
A28: Отдел межтерриториальных расчетов, финансирования и планирования | P28: 1,14-1,24 | Q28: 1,44-1,54 | AA28: =K28*Z28 -> 0 | AB28: =K28*Y28 -> 0 | AD28: 0.1
C29: Начальник отдела | D29: 1 | E29: 8500 | F29: =ROUND(E29*F$12,2) -> 9350 | G29: =9075*1.1+0.5 -> 9983 | H29: 12337.98 | I29: =H29*$I$12 -> 13571.778 | J29: 14386.085 | K29: =ROUND('26.08.22'!K29*1.04,2) -> 23402.77 | L29: Жильцова Л.Н. | M29: 30 | O29: =ROUND((K29*M29/100),2) -> 7020.83 | P29: =ROUND(K29*1.24,2) -> 29019.43 | Q29: =K29*T29 -> 36040.266 | R29: =K29+O29+P29+Q29 -> 95483.296 | S29: =ROUND(K29*S$12,2) -> 5850.69 | T29: 1.54 | U29: =K29+O29+P29+Q29+S29 -> 101333.99 | V29: =R29*0.87 -> 83070.467 | W29: =U29*0.87 -> 88160.568 | X29: 3 | Y29: 3 | Z29: =X29-Y29 -> 0 | AA29: =K29*Z29 -> 0 | AB29: =K29*Y29 -> 70208.31 | AD29: 0.1 | AE29: =K29*AD29 -> 2340.277 | AF29: 0.2 | AG29: =AF29*K29 -> 4680.554
C30: Заместитель начальника отдела | D30: 1 | K30: =ROUND('26.08.22'!K30*1.04,2) -> 21200.16 | L30: Федяшина Н.Г. | M30: 30 | O30: =ROUND((K30*M30/100),2) -> 6360.05 | P30: =ROUND(K30*1.14,2) -> 24168.18 | Q30: =K30*T30 -> 32648.246 | R30: =K30+O30+P30+Q30 -> 84376.636 | S30: =ROUND(K30*S$12,2) -> 5300.04 | T30: 1.54 | U30: =K30+O30+P30+Q30+S30 -> 89676.676 | V30: =R30*0.87 -> 73407.674 | W30: =U30*0.87 -> 78018.708
C31: Главный специалист | D31: 1 | E31: 6500 | F31: =ROUND(E31*F$12,2) -> 7150 | G31: =F31*1.1*1.1+0.5 -> 8652 | H31: 10692.91 | I31: =H31*$I$12 -> 11762.201 | J31: 12467.933 | K31: =ROUND('26.08.22'!K31*1.04,2) -> 17896.26 | L31: Терновская Г.В. | M31: 30 | O31: =ROUND((K31*M31/100),2) -> 5368.88 | P31: =ROUND(K31*1.14,2) -> 20401.74 | Q31: =K31*T31 -> 27560.24 | R31: =K31+O31+P31+Q31 -> 71227.12 | S31: =ROUND(K31*S$12,2) -> 4474.07 | T31: 1.54 | U31: =K31+O31+P31+Q31+S31 -> 75701.19 | V31: =R31*0.87 -> 61967.595 | W31: =U31*0.87 -> 65860.036 | X31: 3 | Y31: 3 | Z31: =X31-Y31 -> 0 | AA31: =K31*Z31 -> 0 | AB31: =K31*Y31 -> 53688.78 | AD31: 0.1 | AE31: =K31*AD31 -> 1789.626 | AF31: 0.2 | AG31: =AF31*K31 -> 3579.252
C32: Главный специалист | D32: 1 | E32: 6500 | F32: =ROUND(E32*F$12,2) -> 7150 | G32: =F32*1.1*1.1+0.5 -> 8652 | H32: 10692.91 | I32: =H32*$I$12 -> 11762.201 | J32: 12467.933 | K32: =ROUND('26.08.22'!K32*1.04,2) -> 17896.26 | L32: Хисматуллина Р.А. | M32: 30 | O32: =ROUND((K32*M32/100),2) -> 5368.88 | P32: =ROUND(K32*1.14,2) -> 20401.74 | Q32: =K32*T32 -> 27560.24 | R32: =K32+O32+P32+Q32 -> 71227.12 | S32: =ROUND(K32*S$12,2) -> 4474.07 | T32: 1.54 | U32: =K32+O32+P32+Q32+S32 -> 75701.19 | V32: =R32*0.87 -> 61967.595 | W32: =U32*0.87 -> 65860.036 | X32: 3 | Y32: 3 | Z32: =X32-Y32 -> 0 | AA32: =K32*Z32 -> 0 | AB32: =K32*Y32 -> 53688.78 | AD32: 0.1 | AE32: =K32*AD32 -> 1789.626 | AF32: 0.2 | AG32: =AF32*K32 -> 3579.252
C33: Главный специалист | D33: 1 | E33: 6500 | F33: =ROUND(E33*F$12,2) -> 7150 | G33: =F33*1.1*1.1+0.5 -> 8652 | H33: 10692.91 | I33: =H33*$I$12 -> 11762.201 | J33: 12467.933 | K33: =ROUND('26.08.22'!K33*1.04,2) -> 17896.26 | L33: Бесклинская Ю.А. | M33: 30 | O33: =ROUND((K33*M33/100),2) -> 5368.88 | P33: =ROUND(K33*1.14,2) -> 20401.74 | Q33: =K33*T33 -> 27560.24 | R33: =K33+O33+P33+Q33 -> 71227.12 | S33: =ROUND(K33*S$12,2) -> 4474.07 | T33: 1.54 | U33: =K33+O33+P33+Q33+S33 -> 75701.19 | V33: =R33*0.87 -> 61967.595 | W33: =U33*0.87 -> 65860.036 | X33: 3 | Y33: 3 | Z33: =X33-Y33 -> 0 | AA33: =K33*Z33 -> 0 | AB33: =K33*Y33 -> 53688.78 | AD33: 0.1 | AE33: =K33*AD33 -> 1789.626 | AF33: 0.2 | AG33: =AF33*K33 -> 3579.252
C34: Главный специалист | D34: 1 | E34: 5600 | F34: 7150 | G34: =F34*1.1*1.1+0.5 -> 8652 | H34: 10692.91 | I34: =H34*$I$12 -> 11762.201 | J34: 12467.933 | K34: =ROUND('26.08.22'!K34*1.04,2) -> 17896.26 | L34: Титишева Г.М. | M34: 30 | O34: =ROUND((K34*M34/100),2) -> 5368.88 | P34: =ROUND(K34*1.14,2) -> 20401.74 | Q34: =K34*T34 -> 27560.24 | R34: =K34+O34+P34+Q34 -> 71227.12 | S34: =ROUND(K34*S$12,2) -> 4474.07 | T34: 1.54 | U34: =K34+O34+P34+Q34+S34 -> 75701.19 | V34: =R34*0.87 -> 61967.595 | W34: =U34*0.87 -> 65860.036 | X34: 3 | Y34: 3 | Z34: =X34-Y34 -> 0 | AA34: =K34*Z34 -> 0 | AB34: =K34*Y34 -> 53688.78 | AD34: 0.1 | AE34: =K34*AD34 -> 1789.626 | AF34: 0.2 | AG34: =AF34*K34 -> 3579.252
C35: Главный специалист | D35: 1 | E35: 5600 | F35: =ROUND(E35*F$12,2) -> 6160 | G35: =F35*1.1*1.1+0.4 -> 7454 | H35: 9212.35 | I35: =H35*$I$12 -> 10133.585 | J35: 10741.6 | K35: =ROUND('26.08.22'!K35*1.04,2) -> 17896.26 | L35: Зобнина Г.И. | M35: 30 | O35: =ROUND((K35*M35/100),2) -> 5368.88 | P35: =ROUND(K35*1.14,2) -> 20401.74 | Q35: =K35*T35 -> 27560.24 | R35: =K35+O35+P35+Q35 -> 71227.12 | S35: =ROUND(K35*S$12,2) -> 4474.07 | T35: 1.54 | U35: =K35+O35+P35+Q35+S35 -> 75701.19 | V35: =R35*0.87 -> 61967.595 | W35: =U35*0.87 -> 65860.036 | X35: 3 | Y35: 3 | Z35: =X35-Y35 -> 0 | AA35: =K35*Z35 -> 0 | AB35: =K35*Y35 -> 53688.78 | AD35: 0.1 | AE35: =K35*AD35 -> 1789.626 | AF35: 0.2 | AG35: =AF35*K35 -> 3579.252
C36: Главный специалист | D36: 1 | E36: 5600 | F36: =ROUND(E36*F$12,2) -> 6160 | G36: =F36*1.1*1.1+0.4 -> 7454 | H36: 9212.35 | I36: =H36*$I$12 -> 10133.585 | J36: 10741.6 | K36: =ROUND('26.08.22'!K36*1.04,2) -> 17896.26 | L36: Бакалец-Ланская Н.Л. | M36: 30 | O36: =ROUND((K36*M36/100),2) -> 5368.88 | P36: =ROUND(K36*1.14,2) -> 20401.74 | Q36: =K36*T36 -> 27560.24 | R36: =K36+O36+P36+Q36 -> 71227.12 | S36: =ROUND(K36*S$12,2) -> 4474.07 | T36: 1.54 | U36: =K36+O36+P36+Q36+S36 -> 75701.19 | V36: =R36*0.87 -> 61967.595 | W36: =U36*0.87 -> 65860.036 | X36: 3 | Y36: 3 | Z36: =X36-Y36 -> 0 | AA36: =K36*Z36 -> 0 | AB36: =K36*Y36 -> 53688.78 | AD36: 0.1 | AE36: =K36*AD36 -> 1789.626 | AF36: 0.2 | AG36: =AF36*K36 -> 3579.252
C37: Главный специалист | D37: 0 | E37: 5600 | F37: =ROUND(E37*F$12,2) -> 6160 | G37: =F37*1.1*1.1+0.4 -> 7454 | H37: 9213.35 | I37: =H37*$I$12 -> 10134.685 | J37: 10741.6 | K37: =ROUND('26.08.22'!K37*1.04,2) -> 17896.26 | M37: 0 | O37: =ROUND((K37*M37/100),2) -> 0 | P37: =ROUND(K37*1.14,2) -> 20401.74 | Q37: =K37*T37 -> 27560.24 | R37: =K37+O37+P37+Q37 -> 65858.24 | S37: =ROUND(K37*S$12,2) -> 4474.07 | T37: 1.54 | U37: =K37+O37+P37+Q37+S37 -> 70332.31 | V37: =R37*0.87 -> 57296.669 | W37: =U37*0.87 -> 61189.11 | X37: 3 | Y37: 3 | Z37: =X37-Y37 -> 0 | AA37: =K37*Z37 -> 0 | AB37: =K37*Y37 -> 53688.78 | AD37: 1.1 | AE37: =K37*AD37 -> 19685.886 | AF37: 1.2 | AG37: =AF37*K37 -> 21475.512
C38: Главный специалист | D38: 1 | E38: 5600 | F38: =ROUND(E38*F$12,2) -> 6160 | G38: =F38*1.1*1.1+0.4 -> 7454 | H38: 9212.35 | I38: =H38*$I$12 -> 10133.585 | J38: 10741.6 | K38: =ROUND('26.08.22'!K38*1.04,2) -> 17896.26 | L38: Сакович И.С. | M38: 20 | O38: =ROUND((K38*M38/100),2) -> 3579.25 | P38: =ROUND(K38*1.14,2) -> 20401.74 | Q38: =K38*T38 -> 27560.24 | R38: =K38+O38+P38+Q38 -> 69437.49 | S38: =ROUND(K38*S$12,2) -> 4474.07 | T38: 1.54 | U38: =K38+O38+P38+Q38+S38 -> 73911.56 | V38: =R38*0.87 -> 60410.617 | W38: =U38*0.87 -> 64303.058 | X38: 3 | Y38: 3 | Z38: =X38-Y38 -> 0 | AA38: =K38*Z38 -> 0 | AB38: =K38*Y38 -> 53688.78 | AD38: 0.1 | AE38: =K38*AD38 -> 1789.626 | AF38: 0.2 | AG38: =AF38*K38 -> 3579.252
C39: Ведущий специалист | D39: 1 | E39: 5600 | F39: =ROUND(E39*F$12,2) -> 6160 | G39: =F39*1.1*1.1+0.4 -> 7454 | H39: 9212.35 | I39: =H39*$I$12 -> 10133.585 | J39: 10741.6 | K39: =ROUND('26.08.22'!K39*1.04,2) -> 15418.33 | L39: Лукьяноа Л.В. | M39: 30 | O39: =ROUND((K39*M39/100),2) -> 4625.5 | P39: =ROUND(K39*1.14,2) -> 17576.9 | Q39: =K39*T39 -> 22202.395 | R39: =K39+O39+P39+Q39 -> 59823.125 | S39: =ROUND(K39*S$12,2) -> 3854.58 | T39: 1.44 | U39: =K39+O39+P39+Q39+S39 -> 63677.705 | V39: =R39*0.87 -> 52046.119 | W39: =U39*0.87 -> 55399.604 | X39: 3 | Y39: 3 | Z39: Коровко О.Н.
C40: Ведущий специалист | D40: 1 | K40: =ROUND('26.08.22'!K40*1.04,2) -> 15418.33 | L40: Азаренко Д.А. | M40: 15 | O40: =ROUND((K40*M40/100),2) -> 2312.75 | P40: =ROUND(K40*1.14,2) -> 17576.9 | Q40: =K40*T40 -> 22202.395 | R40: =K40+O40+P40+Q40 -> 57510.375 | S40: =ROUND(K40*S$12,2) -> 3854.58 | T40: 1.44 | U40: =K40+O40+P40+Q40+S40 -> 61364.955 | V40: =R40*0.87 -> 50034.026 | W40: =U40*0.87 -> 53387.511
C41: ИТОГО по отделу | D41: =SUM(D29:D40) -> 11 | G41: =SUM(G29:G36) -> 59499 | H41: =SUM(H29:H36) -> 73534.32 | I41: =SUM(I29:I36) -> 80887.752 | J41: 87467.35 | K41: =SUM(K29:K40) -> 218609.67 | N41: =SUM(N29:N36) -> 0 | O41: =SUM(O29:O40) -> 56111.66 | P41: =SUM(P29:P40) -> 251555.33 | Q41: =SUM(Q29:Q40) -> 333575.23 | R41: =SUM(R29:R40) -> 859851.89 | S41: =SUM(S29:S40) -> 54652.45 | T41: =SUM(T29:T40) -> 18.28 | U41: =SUM(U29:U40) -> 914504.34 | V41: =SUM(V29:V40) -> 748071.14 | W41: =SUM(W29:W40) -> 795618.77 | Z41: =X41-Y41 -> 0 | AA41: =K41*Z41 -> 0 | AB41: =K41*Y41 -> 0 | AD41: 0.1 | AE41: =K41*AD41 -> 21860.967 | AF41: 0.2 | AG41: =AF41*K41 -> 43721.934
A42: Отдел учета поступлений финансовых средств ОМС и взаимодействия со СМО | P42: 1,14-1,24 | Z42: =X42-Y42 -> 0 | AA42: =K42*Z42 -> 0 | AB42: =K42*Y42 -> 0 | AD42: 0.1
C43: Начальник отдела | D43: 1 | E43: 8500 | F43: =ROUND(E43*F$12,2) -> 9350 | G43: =9075*1.1+0.5 -> 9983 | H43: 12337.98 | I43: =H43*$I$12 -> 13571.778 | J43: 14386.085 | K43: =ROUND('26.08.22'!K43*1.04,2) -> 23402.77 | L43: Токарева Е.В. | M43: 30 | O43: =ROUND((K43*M43/100),2) -> 7020.83 | P43: =ROUND(K43*1.24,2) -> 29019.43 | Q43: =K43*T43 -> 36040.266 | R43: =K43+O43+P43+Q43 -> 95483.296 | S43: =ROUND(K43*S$12,2) -> 5850.69 | T43: 1.54 | U43: =K43+O43+P43+Q43+S43 -> 101333.99 | V43: =R43*0.87 -> 83070.467 | W43: =U43*0.87 -> 88160.568 | X43: 3 | Y43: 3 | Z43: =X43-Y43 -> 0 | AA43: =K43*Z43 -> 0 | AB43: =K43*Y43 -> 70208.31 | AD43: 0.1 | AE43: =K43*AD43 -> 2340.277 | AF43: 0.2 | AG43: =AF43*K43 -> 4680.554
...

Sheet 14.10.22
P1: Рсшифровка штатного расписания
A2: Территориальный фонд обязательного медицинского | P2: Форма по ОКУД 0301017
A3: страхования Ленинградской области | P3: по ОКПО
P6: "Утверждено"
A7: Штатное расписание по состоянию на 14.10.2022 | O7: Штат в количестве 123,0 единиц
R9: ФОТ мес
A10: Наименование струк.подразделения | B10: КОД | C10: Должность(специальность),разряд,класс (категория) квалификации | D10: Кол-во штатных единиц | E10: Тарифная ставка (оклад) и пр., руб. | F10: Тарифная ставка (оклад) и пр., руб. | G10: Тарифная ставка (оклад) и пр., руб. | H10: Тарифная ставка (оклад) и пр., руб. с 01.01.2012 | I10: Тарифная ставка (оклад) и пр., руб. с 01.09.2012 | K10: Тарифная ставка (оклад) и пр., руб. | L10: Фамилия И.О. | M10: Надбавка за выслугу лет % | N10: Декретный отпуск | O10: Надбавка за выслугу лет, руб. | P10: Надбавка к основному окладу за особ.усл., руб. | Q10: Ежемесячное денежное поощрение, руб. | R10: Всего, руб. | S10: Материальная помощь, руб.(в мес.) | T10: Коэф.ежемес. ден.поощрен. | U10: Всего, руб. | V10: Всего без подоходного налога (гр.11*0,87) | W10: Всего без подоходного налога (гр.14*0,87) | X10: Должно быть | Y10: Факт
A11: 1 | B11: 2 | C11: 3 | D11: 4 | K11: 5 | L11: 6 | M11: 7 | O11: 8 | P11: 9 | Q11: 10 | R11: 11 | S11: 12 | T11: 13 | U11: 14 | V11: 15 | W11: 16
A12: Дирекция ТФОМС ЛО | F12: 1.1 | G12: 1.1 | H12: 1.1 | I12: 1.1 | J12: 1.06 | P12: 1.24 | Q12: 1,14-1,34 | S12: 0.25
C13: Директор | D13: 1 | E13: 12000 | F13: =ROUND(E13*F$12,2) -> 13200 | G13: =F13*1.1*1.1 -> 15972 | H13: 19740.75 | I13: =H13*$I$12 -> 21714.825 | J13: 23017.715 | K13: 33039.22 | L13: Алексеев А.Н. | M13: 30 | O13: =ROUND((K13*M13/100),2) -> 9911.77 | P13: =ROUND(K13*P$12,2) -> 40968.63 | Q13: =K13*T13 -> 44272.555 | R13: =K13+O13+P13+Q13 -> 128192.17 | S13: =ROUND(K13*S$12,2) -> 8259.81 | T13: 1.34 | U13: =K13+O13+P13+Q13+S13 -> 136451.98 | V13: =R13*0.87 -> 111527.19 | W13: =U13*0.87 -> 118713.23 | X13: 3 | Y13: 3 | Z13: =X13-Y13 -> 0 | AA13: =K13*Z13 -> 0 | AB13: =K13*Y13 -> 99117.66 | AD13: 0.1 | AE13: =K13*AD13 -> 3303.922 | AF13: 0.2 | AG13: =AF13*K13 -> 6607.844
C14: 1 зам. директора | D14: 0 | E14: 11500 | F14: =ROUND(E14*F$12,2) -> 12650 | G14: =F14*1.1*1.1+0.5 -> 15307 | H14: 18918.22 | I14: =H14*$I$12 -> 20810.042 | J14: 22058.645 | O14: =ROUND((K14*M14/100),2) -> 0 | P14: =ROUND(K14*P$12,2) -> 0 | Q14: =K14*T14 -> 0 | R14: =K14+O14+P14+Q14 -> 0 | S14: =ROUND(K14*S$12,2) -> 0 | T14: 1.14 | U14: =K14+O14+P14+Q14+S14 -> 0 | V14: =R14*0.87 -> 0 | W14: =U14*0.87 -> 0 | X14: 3 | Y14: 3 | Z14: =X14-Y14 -> 0 | AA14: =K14*Z14 -> 0 | AB14: =K14*Y14 -> 0 | AD14: 0.1 | AE14: =K14*AD14 -> 0 | AF14: 0.2 | AG14: =AF14*K14 -> 0 | AH14: =R14+AG14 -> 0
C15: Помощник диектора | D15: 1 | K15: 17896.26 | L15: Омаров М.М. | M15: 10 | O15: =ROUND((K15*M15/100),2) -> 1789.63 | P15: =ROUND(K15*1.14,2) -> 20401.74 | Q15: =K15*T15 -> 27560.24 | R15: =K15+O15+P15+Q15 -> 67647.87 | S15: =ROUND(K15*S$12,2) -> 4474.07 | T15: 1.54 | U15: =K15+O15+P15+Q15+S15 -> 72121.94 | V15: =R15*0.87 -> 58853.647 | W15: =U15*0.87 -> 62746.088 | X15: 3 | Y15: 3 | Z15: =X15-Y15 -> 0 | AA15: =K15*Z15 -> 0 | AB15: =K15*Y15 -> 53688.78 | AD15: 1.1 | AE15: =K15*AD15 -> 19685.886 | AF15: 1.2 | AG15: =AF15*K15 -> 21475.512 | AH15: =R15+AG15 -> 89123.382
C16: ИТОГО | D16: =SUM(D13:D15) -> 2 | E16: =SUM(E13:E14) -> 23500 | F16: =SUM(F13:F14) -> 25850 | G16: =SUM(G13:G14) -> 31279 | H16: =SUM(H13:H14) -> 38658.97 | I16: =SUM(I13:I14) -> 42524.867 | J16: 45076.359 | K16: =SUM(K13:K15) -> 50935.48 | N16: =SUM(N13:N14) -> 0 | O16: =SUM(O13:O15) -> 11701.4 | P16: =SUM(P13:P15) -> 61370.37 | Q16: =SUM(Q13:Q15) -> 71832.795 | R16: =SUM(R13:R15) -> 195840.05 | S16: =SUM(S13:S15) -> 12733.88 | U16: =SUM(U13:U15) -> 208573.93 | V16: =SUM(V13:V15) -> 170380.84 | W16: =SUM(W13:W15) -> 181459.31 | X16: =SUM(X13:X15) -> 9 | Y16: =SUM(Y13:Y15) -> 9 | Z16: =SUM(Z13:Z15) -> 0 | AA16: =SUM(AA13:AA15) -> 0 | AB16: =SUM(AB13:AB15) -> 152806.44 | ... AH16: =SUM(AH13:AH15) -> 89123.382
A17: Бухгалтерия | P17: 1,14-1,24 | Q17: 1,44-1,64 | AA17: =K17*Z17 -> 0 | AB17: =K17*Y17 -> 0 | AD17: 0.1
C18: Главный бухгалтер | D18: 1 | E18: 8500 | F18: =ROUND(E18*F$12,2) -> 9350 | G18: =F18*1.1*1.1+0.5 -> 11314 | H18: 13983.03 | I18: =H18*$I$12 -> 15381.333 | J18: 16304.213 | K18: 23402.77 | L18: Бондарева О.А. | M18: 30 | O18: =ROUND((K18*M18/100),2) -> 7020.83 | P18: =ROUND(K18*1.24,2) -> 29019.43 | Q18: =K18*T18 -> 38380.543 | R18: =K18+O18+P18+Q18 -> 97823.573 | S18: =ROUND(K18*S$12,2) -> 5850.69 | T18: 1.64 | U18: =K18+O18+P18+Q18+S18 -> 103674.26 | V18: =R18*0.87 -> 85106.508 | W18: =U18*0.87 -> 90196.609 | X18: 3 | Y18: 3 | Z18: =X18-Y18 -> 0 | AA18: =K18*Z18 -> 0 | AB18: =K18*Y18 -> 70208.31 | AD18: 0.1 | AE18: =K18*AD18 -> 2340.277 | AF18: 0.2 | AG18: =AF18*K18 -> 4680.554
C19: Зам. главного бухгалтера | D19: 1 | E19: 7700 | F19: =ROUND(E19*F$12,2) -> 8470 | G19: =F19*1.1*1.1+0.3 -> 10249 | H19: 12666.98 | I19: =H19*$I$12 -> 13933.678 | J19: 14769.699 | K19: 21200.16 | L19: Пуганова Л.И. | M19: 30 | O19: =ROUND((K19*M19/100),2) -> 6360.05 | P19: =ROUND(K19*1.14,2) -> 24168.18 | Q19: =K19*T19 -> 32648.246 | R19: =K19+O19+P19+Q19 -> 84376.636 | S19: =ROUND(K19*S$12,2) -> 5300.04 | T19: 1.54 | U19: =K19+O19+P19+Q19+S19 -> 89676.676 | V19: =R19*0.87 -> 73407.674 | W19: =U19*0.87 -> 78018.708 | X19: 3 | Z19: =X19-Y19 -> 3 | AA19: =K19*Z19 -> 63600.48 | AB19: =K19*Y19 -> 0 | AD19: 0.1 | AE19: =K19*AD19 -> 2120.016 | AF19: 0.2 | AG19: =AF19*K19 -> 4240.032
C20: Главный специалист-бухгалтер | D20: 1 | E20: 6500 | F20: =ROUND(E20*F$12,2) -> 7150 | G20: =F20*1.1*1.1+0.5 -> 8652 | H20: 10692.91 | I20: =H20*$I$12 -> 11762.201 | J20: 12467.933 | K20: 17896.26 | L20: Ятагама Гамаге Л.В. | M20: 30 | O20: =ROUND((K20*M20/100),2) -> 5368.88 | P20: =ROUND(K20*1.14,2) -> 20401.74 | Q20: =K20*T20 -> 27560.24 | R20: =K20+O20+P20+Q20 -> 71227.12 | S20: =ROUND(K20*S$12,2) -> 4474.07 | T20: 1.54 | U20: =K20+O20+P20+Q20+S20 -> 75701.19 | V20: =R20*0.87 -> 61967.595 | W20: =U20*0.87 -> 65860.036 | X20: 3 | Y20: 3 | Z20: =X20-Y20 -> 0 | AA20: =K20*Z20 -> 0 | AB20: =K20*Y20 -> 53688.78 | AD20: 0.1 | AE20: =K20*AD20 -> 1789.626 | AF20: 0.2 | AG20: =AF20*K20 -> 3579.252
C21: Главный специалист-бухгалтер | D21: 1 | E21: 6500 | F21: =ROUND(E21*F$12,2) -> 7150 | G21: =F21*1.1*1.1+0.5 -> 8652 | H21: 10692.91 | I21: =H21*$I$12 -> 11762.201 | J21: 12467.933 | K21: 17896.26 | L21: Кравецкая Л.Г. | M21: 30 | O21: =ROUND((K21*M21/100),2) -> 5368.88 | P21: =ROUND(K21*1.14,2) -> 20401.74 | Q21: =K21*T21 -> 27560.24 | R21: =K21+O21+P21+Q21 -> 71227.12 | S21: =ROUND(K21*S$12,2) -> 4474.07 | T21: 1.54 | U21: =K21+O21+P21+Q21+S21 -> 75701.19 | V21: =R21*0.87 -> 61967.595 | W21: =U21*0.87 -> 65860.036 | X21: 3 | Y21: 2 | Z21: =X21-Y21 -> 1 | AA21: =K21*Z21 -> 17896.26 | AB21: =K21*Y21 -> 35792.52 | AD21: 0.1 | AE21: =K21*AD21 -> 1789.626 | AF21: 0.2 | AG21: =AF21*K21 -> 3579.252
C22: Ведущий специалист-бухгалтер | D22: 1 | E22: 5600 | F22: =ROUND(E22*F$12,2) -> 6160 | G22: =F22*1.1*1.1+0.4 -> 7454 | H22: 9212.35 | I22: =H22*$I$12 -> 10133.585 | J22: 10741.6 | K22: 15418.33 | L22: Гуськова Е.С. | M22: 30 | O22: =ROUND((K22*M22/100),2) -> 4625.5 | P22: =ROUND(K22*1.14,2) -> 17576.9 | Q22: =K22*T22 -> 22202.395 | R22: =K22+O22+P22+Q22 -> 59823.125 | S22: =ROUND(K22*S$12,2) -> 3854.58 | T22: 1.44 | U22: =K22+O22+P22+Q22+S22 -> 63677.705 | V22: =R22*0.87 -> 52046.119 | W22: =U22*0.87 -> 55399.604 | X22: 3 | Y22: 3 | Z22: =X22-Y22 -> 0 | AA22: =K22*Z22 -> 0 | AB22: =K22*Y22 -> 46254.99 | AD22: 0.1 | AE22: =K22*AD22 -> 1541.833 | AF22: 0.2 | AG22: =AF22*K22 -> 3083.666
C23: Главный специалист-бухгалтер | D23: 1 | E23: 5600 | F23: =ROUND(E23*F$12,2) -> 6160 | G23: =F23*1.1*1.1+0.4 -> 7454 | H23: 9212.35 | I23: =H23*$I$12 -> 10133.585 | J23: 10741.6 | K23: 17896.26 | L23: Касаткина Л.В. | M23: 30 | O23: =ROUND((K23*M23/100),2) -> 5368.88 | P23: =ROUND(K23*1.14,2) -> 20401.74 | Q23: =K23*T23 -> 27560.24 | R23: =K23+O23+P23+Q23 -> 71227.12 | S23: =ROUND(K23*S$12,2) -> 4474.07 | T23: 1.54 | U23: =K23+O23+P23+Q23+S23 -> 75701.19 | V23: =R23*0.87 -> 61967.595 | W23: =U23*0.87 -> 65860.036 | X23: 3 | Y23: 3 | Z23: =X23-Y23 -> 0 | AA23: =K23*Z23 -> 0 | AB23: =K23*Y23 -> 53688.78 | AD23: 0.1 | AE23: =K23*AD23 -> 1789.626 | AF23: 0.2 | AG23: =AF23*K23 -> 3579.252
C24: ИТОГО по отделу | D24: =SUM(D18:D23) -> 6 | E24: =SUM(E18:E23) -> 40400 | F24: =SUM(F18:F23) -> 44440 | G24: =SUM(G18:G23) -> 53775 | H24: =SUM(H18:H23) -> 66460.53 | I24: =SUM(I18:I23) -> 73106.583 | J24: 77492.978 | K24: =SUM(K18:K23) -> 113710.04 | N24: =SUM(N18:N23) -> 0 | O24: =SUM(O18:O23) -> 34113.02 | P24: =SUM(P18:P23) -> 131969.73 | Q24: =SUM(Q18:Q23) -> 175911.91 | R24: =SUM(R18:R23) -> 455704.7 | S24: =SUM(S18:S23) -> 28427.52 | T24: =SUM(T18:T23) -> 9.24 | U24: =SUM(U18:U23) -> 484132.22 | ... W24: =SUM(W18:W23) -> 421195.03 | AA24: =K24*Z24 -> 0 | AB24: =K24*Y24 -> 0 | AD24: 0.1 | AE24: =K24*AD24 -> 11371.004 | AF24: 0.2 | AG24: =AF24*K24 -> 22742.008
A25: Департамент финансово-экономической деятельности и учета поступлений финансовых средств ОМС | P25: 1.19 | AA25: =K25*Z25 -> 0 | AB25: =K25*Y25 -> 0 | AD25: 0.1
C26: Заместитель директора-Начальник департамента | D26: 1 | G26: =11616*1.1+0.4 -> 12778 | H26: 15792.6 | I26: =H26*$I$12 -> 17371.86 | J26: 18414.172 | K26: =ROUND('26.08.22'!K26*1.04,2) -> 30285.94 | L26: Селезнева Н.М. | M26: 30 | O26: =ROUND((K26*M26/100),2) -> 9085.78 | P26: =ROUND(K26*1.19,2) -> 36040.27 | Q26: =K26*T26 -> 46640.348 | R26: =K26+O26+P26+Q26 -> 122052.34 | S26: =ROUND(K26*S$12,2) -> 7571.49 | T26: 1.54 | U26: =K26+O26+P26+Q26+S26 -> 129623.83 | V26: =R26*0.87 -> 106185.53 | W26: =U26*0.87 -> 112772.73 | X26: 3 | Y26: 3 | Z26: =X26-Y26 -> 0 | AA26: =K26*Z26 -> 0 | AB26: =K26*Y26 -> 90857.82 | AD26: 0.1 | AE26: =K26*AD26 -> 3028.594 | AF26: 0.2 | AG26: =AF26*K26 -> 6057.188
C27: Зам. начальника департамента | D27: 1 | G27: =10527*1.1+0.3 -> 11580 | H27: 14312.05 | I27: =H27*$I$12 -> 15743.255 | J27: 16687.85 | K27: =ROUND('26.08.22'!K27*1.04,2) -> 23953.47 | L27: Воронкова О.Ю. | M27: 30 | O27: =ROUND((K27*M27/100),2) -> 7186.04 | P27: =ROUND(K27*1.19,2) -> 28504.63 | Q27: =K27*T27 -> 36888.344 | R27: =K27+O27+P27+Q27 -> 96532.484 | S27: =ROUND(K27*S$12,2) -> 5988.37 | T27: 1.54 | U27: =K27+O27+P27+Q27+S27 -> 102520.85 | V27: =R27*0.87 -> 83983.261 | W27: =U27*0.87 -> 89193.143 | X27: 3 | Y27: 3 | Z27: =X27-Y27 -> 0 | AA27: =K27*Z27 -> 0 | AB27: =K27*Y27 -> 71860.41 | AD27: 0.1 | AE27: =K27*AD27 -> 2395.347 | AF27: 0.2 | AG27: =AF27*K27 -> 4790.694
A28: Отдел межтерриториальных расчетов, финансирования и планирования | P28: 1,14-1,24 | Q28: 1,44-1,54 | AA28: =K28*Z28 -> 0 | AB28: =K28*Y28 -> 0 | AD28: 0.1
C29: Начальник отдела | D29: 1 | E29: 8500 | F29: =ROUND(E29*F$12,2) -> 9350 | G29: =9075*1.1+0.5 -> 9983 | H29: 12337.98 | I29: =H29*$I$12 -> 13571.778 | J29: 14386.085 | K29: =ROUND('26.08.22'!K29*1.04,2) -> 23402.77 | L29: Жильцова Л.Н. | M29: 30 | O29: =ROUND((K29*M29/100),2) -> 7020.83 | P29: =ROUND(K29*1.24,2) -> 29019.43 | Q29: =K29*T29 -> 36040.266 | R29: =K29+O29+P29+Q29 -> 95483.296 | S29: =ROUND(K29*S$12,2) -> 5850.69 | T29: 1.54 | U29: =K29+O29+P29+Q29+S29 -> 101333.99 | V29: =R29*0.87 -> 83070.467 | W29: =U29*0.87 -> 88160.568 | X29: 3 | Y29: 3 | Z29: =X29-Y29 -> 0 | AA29: =K29*Z29 -> 0 | AB29: =K29*Y29 -> 70208.31 | AD29: 0.1 | AE29: =K29*AD29 -> 2340.277 | AF29: 0.2 | AG29: =AF29*K29 -> 4680.554
C30: Заместитель начальника отдела | D30: 1 | K30: =ROUND('26.08.22'!K30*1.04,2) -> 21200.16 | L30: Федяшина Н.Г. | M30: 30 | O30: =ROUND((K30*M30/100),2) -> 6360.05 | P30: =ROUND(K30*1.14,2) -> 24168.18 | Q30: =K30*T30 -> 32648.246 | R30: =K30+O30+P30+Q30 -> 84376.636 | S30: =ROUND(K30*S$12,2) -> 5300.04 | T30: 1.54 | U30: =K30+O30+P30+Q30+S30 -> 89676.676 | V30: =R30*0.87 -> 73407.674 | W30: =U30*0.87 -> 78018.708
C31: Главный специалист | D31: 1 | E31: 6500 | F31: =ROUND(E31*F$12,2) -> 7150 | G31: =F31*1.1*1.1+0.5 -> 8652 | H31: 10692.91 | I31: =H31*$I$12 -> 11762.201 | J31: 12467.933 | K31: =ROUND('26.08.22'!K31*1.04,2) -> 17896.26 | L31: Терновская Г.В. | M31: 30 | O31: =ROUND((K31*M31/100),2) -> 5368.88 | P31: =ROUND(K31*1.14,2) -> 20401.74 | Q31: =K31*T31 -> 27560.24 | R31: =K31+O31+P31+Q31 -> 71227.12 | S31: =ROUND(K31*S$12,2) -> 4474.07 | T31: 1.54 | U31: =K31+O31+P31+Q31+S31 -> 75701.19 | V31: =R31*0.87 -> 61967.595 | W31: =U31*0.87 -> 65860.036 | X31: 3 | Y31: 3 | Z31: =X31-Y31 -> 0 | AA31: =K31*Z31 -> 0 | AB31: =K31*Y31 -> 53688.78 | AD31: 0.1 | AE31: =K31*AD31 -> 1789.626 | AF31: 0.2 | AG31: =AF31*K31 -> 3579.252
C32: Главный специалист | D32: 1 | E32: 6500 | F32: =ROUND(E32*F$12,2) -> 7150 | G32: =F32*1.1*1.1+0.5 -> 8652 | H32: 10692.91 | I32: =H32*$I$12 -> 11762.201 | J32: 12467.933 | K32: =ROUND('26.08.22'!K32*1.04,2) -> 17896.26 | L32: Хисматуллина Р.А. | M32: 30 | O32: =ROUND((K32*M32/100),2) -> 5368.88 | P32: =ROUND(K32*1.14,2) -> 20401.74 | Q32: =K32*T32 -> 27560.24 | R32: =K32+O32+P32+Q32 -> 71227.12 | S32: =ROUND(K32*S$12,2) -> 4474.07 | T32: 1.54 | U32: =K32+O32+P32+Q32+S32 -> 75701.19 | V32: =R32*0.87 -> 61967.595 | W32: =U32*0.87 -> 65860.036 | X32: 3 | Y32: 3 | Z32: =X32-Y32 -> 0 | AA32: =K32*Z32 -> 0 | AB32: =K32*Y32 -> 53688.78 | AD32: 0.1 | AE32: =K32*AD32 -> 1789.626 | AF32: 0.2 | AG32: =AF32*K32 -> 3579.252
C33: Главный специалист | D33: 1 | E33: 6500 | F33: =ROUND(E33*F$12,2) -> 7150 | G33: =F33*1.1*1.1+0.5 -> 8652 | H33: 10692.91 | I33: =H33*$I$12 -> 11762.201 | J33: 12467.933 | K33: =ROUND('26.08.22'!K33*1.04,2) -> 17896.26 | L33: Бесклинская Ю.А. | M33: 30 | O33: =ROUND((K33*M33/100),2) -> 5368.88 | P33: =ROUND(K33*1.14,2) -> 20401.74 | Q33: =K33*T33 -> 27560.24 | R33: =K33+O33+P33+Q33 -> 71227.12 | S33: =ROUND(K33*S$12,2) -> 4474.07 | T33: 1.54 | U33: =K33+O33+P33+Q33+S33 -> 75701.19 | V33: =R33*0.87 -> 61967.595 | W33: =U33*0.87 -> 65860.036 | X33: 3 | Y33: 3 | Z33: =X33-Y33 -> 0 | AA33: =K33*Z33 -> 0 | AB33: =K33*Y33 -> 53688.78 | AD33: 0.1 | AE33: =K33*AD33 -> 1789.626 | AF33: 0.2 | AG33: =AF33*K33 -> 3579.252
C34: Главный специалист | D34: 1 | E34: 5600 | F34: 7150 | G34: =F34*1.1*1.1+0.5 -> 8652 | H34: 10692.91 | I34: =H34*$I$12 -> 11762.201 | J34: 12467.933 | K34: =ROUND('26.08.22'!K34*1.04,2) -> 17896.26 | L34: Титишева Г.М. | M34: 30 | O34: =ROUND((K34*M34/100),2) -> 5368.88 | P34: =ROUND(K34*1.14,2) -> 20401.74 | Q34: =K34*T34 -> 27560.24 | R34: =K34+O34+P34+Q34 -> 71227.12 | S34: =ROUND(K34*S$12,2) -> 4474.07 | T34: 1.54 | U34: =K34+O34+P34+Q34+S34 -> 75701.19 | V34: =R34*0.87 -> 61967.595 | W34: =U34*0.87 -> 65860.036 | X34: 3 | Y34: 3 | Z34: =X34-Y34 -> 0 | AA34: =K34*Z34 -> 0 | AB34: =K34*Y34 -> 53688.78 | AD34: 0.1 | AE34: =K34*AD34 -> 1789.626 | AF34: 0.2 | AG34: =AF34*K34 -> 3579.252
C35: Главный специалист | D35: 1 | E35: 5600 | F35: =ROUND(E35*F$12,2) -> 6160 | G35: =F35*1.1*1.1+0.4 -> 7454 | H35: 9212.35 | I35: =H35*$I$12 -> 10133.585 | J35: 10741.6 | K35: =ROUND('26.08.22'!K35*1.04,2) -> 17896.26 | L35: Зобнина Г.И. | M35: 30 | O35: =ROUND((K35*M35/100),2) -> 5368.88 | P35: =ROUND(K35*1.14,2) -> 20401.74 | Q35: =K35*T35 -> 27560.24 | R35: =K35+O35+P35+Q35 -> 71227.12 | S35: =ROUND(K35*S$12,2) -> 4474.07 | T35: 1.54 | U35: =K35+O35+P35+Q35+S35 -> 75701.19 | V35: =R35*0.87 -> 61967.595 | W35: =U35*0.87 -> 65860.036 | X35: 3 | Y35: 3 | Z35: =X35-Y35 -> 0 | AA35: =K35*Z35 -> 0 | AB35: =K35*Y35 -> 53688.78 | AD35: 0.1 | AE35: =K35*AD35 -> 1789.626 | AF35: 0.2 | AG35: =AF35*K35 -> 3579.252
C36: Главный специалист | D36: 1 | E36: 5600 | F36: =ROUND(E36*F$12,2) -> 6160 | G36: =F36*1.1*1.1+0.4 -> 7454 | H36: 9212.35 | I36: =H36*$I$12 -> 10133.585 | J36: 10741.6 | K36: =ROUND('26.08.22'!K36*1.04,2) -> 17896.26 | L36: Бакалец-Ланская Н.Л. | M36: 30 | O36: =ROUND((K36*M36/100),2) -> 5368.88 | P36: =ROUND(K36*1.14,2) -> 20401.74 | Q36: =K36*T36 -> 27560.24 | R36: =K36+O36+P36+Q36 -> 71227.12 | S36: =ROUND(K36*S$12,2) -> 4474.07 | T36: 1.54 | U36: =K36+O36+P36+Q36+S36 -> 75701.19 | V36: =R36*0.87 -> 61967.595 | W36: =U36*0.87 -> 65860.036 | X36: 3 | Y36: 3 | Z36: =X36-Y36 -> 0 | AA36: =K36*Z36 -> 0 | AB36: =K36*Y36 -> 53688.78 | AD36: 0.1 | AE36: =K36*AD36 -> 1789.626 | AF36: 0.2 | AG36: =AF36*K36 -> 3579.252
C37: Главный специалист | D37: 1 | E37: 5600 | F37: =ROUND(E37*F$12,2) -> 6160 | G37: =F37*1.1*1.1+0.4 -> 7454 | H37: 9213.35 | I37: =H37*$I$12 -> 10134.685 | J37: 10741.6 | K37: =ROUND('26.08.22'!K37*1.04,2) -> 17896.26 | L37: Орлов Н.Ю. | M37: 30 | O37: =ROUND((K37*M37/100),2) -> 5368.88 | P37: =ROUND(K37*1.14,2) -> 20401.74 | Q37: =K37*T37 -> 27560.24 | R37: =K37+O37+P37+Q37 -> 71227.12 | S37: =ROUND(K37*S$12,2) -> 4474.07 | T37: 1.54 | U37: =K37+O37+P37+Q37+S37 -> 75701.19 | V37: =R37*0.87 -> 61967.595 | W37: =U37*0.87 -> 65860.036 | X37: 3 | Y37: 3 | Z37: =X37-Y37 -> 0 | AA37: =K37*Z37 -> 0 | AB37: =K37*Y37 -> 53688.78 | AD37: 1.1 | AE37: =K37*AD37 -> 19685.886 | AF37: 1.2 | AG37: =AF37*K37 -> 21475.512
C38: Главный специалист | D38: 1 | E38: 5600 | F38: =ROUND(E38*F$12,2) -> 6160 | G38: =F38*1.1*1.1+0.4 -> 7454 | H38: 9212.35 | I38: =H38*$I$12 -> 10133.585 | J38: 10741.6 | K38: =ROUND('26.08.22'!K38*1.04,2) -> 17896.26 | L38: Сакович И.С. | M38: 20 | O38: =ROUND((K38*M38/100),2) -> 3579.25 | P38: =ROUND(K38*1.14,2) -> 20401.74 | Q38: =K38*T38 -> 27560.24 | R38: =K38+O38+P38+Q38 -> 69437.49 | S38: =ROUND(K38*S$12,2) -> 4474.07 | T38: 1.54 | U38: =K38+O38+P38+Q38+S38 -> 73911.56 | V38: =R38*0.87 -> 60410.617 | W38: =U38*0.87 -> 64303.058 | X38: 3 | Y38: 3 | Z38: =X38-Y38 -> 0 | AA38: =K38*Z38 -> 0 | AB38: =K38*Y38 -> 53688.78 | AD38: 0.1 | AE38: =K38*AD38 -> 1789.626 | AF38: 0.2 | AG38: =AF38*K38 -> 3579.252
C39: Ведущий специалист | D39: 1 | E39: 5600 | F39: =ROUND(E39*F$12,2) -> 6160 | G39: =F39*1.1*1.1+0.4 -> 7454 | H39: 9212.35 | I39: =H39*$I$12 -> 10133.585 | J39: 10741.6 | K39: =ROUND('26.08.22'!K39*1.04,2) -> 15418.33 | L39: Лукьяноа Л.В. | M39: 30 | O39: =ROUND((K39*M39/100),2) -> 4625.5 | P39: =ROUND(K39*1.14,2) -> 17576.9 | Q39: =K39*T39 -> 22202.395 | R39: =K39+O39+P39+Q39 -> 59823.125 | S39: =ROUND(K39*S$12,2) -> 3854.58 | T39: 1.44 | U39: =K39+O39+P39+Q39+S39 -> 63677.705 | V39: =R39*0.87 -> 52046.119 | W39: =U39*0.87 -> 55399.604 | X39: 3 | Y39: 3 | Z39: Коровко О.Н.
C40: Ведущий специалист | D40: 1 | K40: =ROUND('26.08.22'!K40*1.04,2) -> 15418.33 | L40: Азаренко Д.А. | M40: 15 | O40: =ROUND((K40*M40/100),2) -> 2312.75 | P40: =ROUND(K40*1.14,2) -> 17576.9 | Q40: =K40*T40 -> 22202.395 | R40: =K40+O40+P40+Q40 -> 57510.375 | S40: =ROUND(K40*S$12,2) -> 3854.58 | T40: 1.44 | U40: =K40+O40+P40+Q40+S40 -> 61364.955 | V40: =R40*0.87 -> 50034.026 | W40: =U40*0.87 -> 53387.511
C41: ИТОГО по отделу | D41: =SUM(D29:D40) -> 12 | G41: =SUM(G29:G36) -> 59499 | H41: =SUM(H29:H36) -> 73534.32 | I41: =SUM(I29:I36) -> 80887.752 | J41: 87467.35 | K41: =SUM(K29:K40) -> 218609.67 | N41: =SUM(N29:N36) -> 0 | O41: =SUM(O29:O40) -> 61480.54 | P41: =SUM(P29:P40) -> 251555.33 | Q41: =SUM(Q29:Q40) -> 333575.23 | R41: =SUM(R29:R40) -> 865220.77 | S41: =SUM(S29:S40) -> 54652.45 | T41: =SUM(T29:T40) -> 18.28 | U41: =SUM(U29:U40) -> 919873.22 | V41: =SUM(V29:V40) -> 752742.07 | W41: =SUM(W29:W40) -> 800289.7 | Z41: =X41-Y41 -> 0 | AA41: =K41*Z41 -> 0 | AB41: =K41*Y41 -> 0 | AD41: 0.1 | AE41: =K41*AD41 -> 21860.967 | AF41: 0.2 | AG41: =AF41*K41 -> 43721.934
A42: Отдел учета поступлений финансовых средств ОМС и взаимодействия со СМО | P42: 1,14-1,24 | Z42: =X42-Y42 -> 0 | AA42: =K42*Z42 -> 0 | AB42: =K42*Y42 -> 0 | AD42: 0.1
C43: Начальник отдела | D43: 1 | E43: 8500 | F43: =ROUND(E43*F$12,2) -> 9350 | G43: =9075*1.1+0.5 -> 9983 | H43: 12337.98 | I43: =H43*$I$12 -> 13571.778 | J43: 14386.085 | K43: =ROUND('26.08.22'!K43*1.04,2) -> 23402.77 | L43: Токарева Е.В. | M43: 30 | O43: =ROUND((K43*M43/100),2) -> 7020.83 | P43: =ROUND(K43*1.24,2) -> 29019.43 | Q43: =K43*T43 -> 36040.266 | R43: =K43+O43+P43+Q43 -> 95483.296 | S43: =ROUND(K43*S$12,2) -> 5850.69 | T43: 1.54 | U43: =K43+O43+P43+Q43+S43 -> 101333.99 | V43: =R43*0.87 -> 83070.467 | W43: =U43*0.87 -> 88160.568 | X43: 3 | Y43: 3 | Z43: =X43-Y43 -> 0 | AA43: =K43*Z43 -> 0 | AB43: =K43*Y43 -> 70208.31 | AD43: 0.1 | AE43: =K43*AD43 -> 2340.277 | AF43: 0.2 | AG43: =AF43*K43 -> 4680.554
...

