Workbook

Sheet Приложение(9)_4_исход
C1: Субсидии бюджетам муниципальных образований Ленинградской области на создание в общеобразовательных организациях, расположенных в сельской местности, условий для занятий физической культурой и спортом на 2021 год и на плановый период 2022 и 2023 годов
A3: № п/п | B3: Наименование муниципальных районов и городского поселения | C3: Расчетная бюджетная обеспеченность после выравнивания | F3: Предельный уровень софинансирования | I3: Доля софинансирования | L3: Создание условий для занятий физкультурой и спортом в общеобразовательных организациях, расположенных в сельской местности - 52020210 | U3: 2021 | AI3: 2022 | AW3: 2023
C4: 2018 | D4: 2019 | E4: 2020 | L4: Количество образовательных организаций | M4: k1 | N4: областной бюджет | O4: k2 | P4: федеральный бюджет | Q4: ФБ+ОБ | R4: местный бюджет | T4: Итого | U4: заведено в АЦК | W4: к снятию | Z4: Количество образовательных организаций | AA4: k1 | AB4: областной бюджет | AC4: k2 | AD4: федеральный бюджет | AE4: ФБ+ОБ | AF4: местный бюджет | AH4: Итого | AI4: заведено в АЦК | AK4: к снятию | AN4: Количество образовательных организаций | AO4: k1 | AP4: областной бюджет | AQ4: k2 | AR4: федеральный бюджет | AS4: ФБ+ОБ | AT4: местный бюджет | AV4: Итого | AW4: заведено в АЦК | AY4: к снятию | BB4: в закон
F5: 2021 | G5: 2022 | H5: 2023 | I5: 2021 | J5: 2022 | K5: 2023 | L5: 2021 | U5: ФБ | V5: ОБ | W5: ФБ | X5: ОБ | Z5: 2022 | AI5: ФБ | AJ5: ОБ | AK5: ФБ | AL5: ОБ | AN5: 2023 | AW5: ФБ | AX5: ОБ | AY5: ФБ | AZ5: ОБ | BB5: 2021 | BC5: 2022 | BD5: 2023
A6: 1 | B6: Бокситогорский | C6: 1.492 | D6: 1.492 | E6: 1.492 | F6: =100%-I6 -> 0.89 | G6: =100%-J6 -> 0.89 | H6: =100%-K6 -> 0.89 | I6: 0.11 | J6: 0.11 | K6: 0.11 | M6: =$N$27/$N$26 -> 0.95590079 | N6: =ROUND($N$26*(($L6*$F6)/SUMPRODUCT($F$6:$F$23,$L$6:$L$23))*M6,0) -> 0 | O6: =$N$28/$N$26 -> 0.044099207 | P6: =ROUND($N$26*(($L6*$F6)/SUMPRODUCT($F$6:$F$23,$L$6:$L$23))*O6,0) -> 0 | Q6: =N6+P6 -> 0 | R6: =ROUNDUP(Q6/F6*I6,-2) -> 0 | T6: =N6+P6+R6 -> 0 | U6: 0 | V6: 0 | W6: =P6-U6 -> 0 | X6: =N6-V6 -> 0 | AA6: =$AB$27/$AB$26 -> 0.96007586 | AB6: =ROUND($N$26*(($L6*$F6)/SUMPRODUCT($F$6:$F$23,$L$6:$L$23))*AA6,0) -> 0 | AC6: =$AB$28/$AB$26 -> 0.039924142 | AD6: =ROUND($N$26*(($L6*$F6)/SUMPRODUCT($F$6:$F$23,$L$6:$L$23))*AC6,0) -> 0 | AE6: =AB6+AD6 -> 0 | AF6: =ROUNDUP(AE6/G6*J6,-2) -> 0 | AH6: =AB6+AD6+AF6 -> 0 | AI6: 0 | AJ6: 0 | AK6: =AD6-AI6 -> 0 | AL6: =AB6-AJ6 -> 0 | AN6: =Z6 -> 0 | AO6: =$AP$27/$AP$26 -> 0.32999311 | AP6: =ROUND($AP$26*(($AN6*$H6)/SUMPRODUCT($AN$6:$AN$23,$H$6:$H$23))*AO6,0) -> 0 | AQ6: =$AP$28/$AP$26 -> 0.67000689 | AR6: =ROUND($AP$26*(($AN6*$H6)/SUMPRODUCT($AN$6:$AN$23,$H$6:$H$23))*AQ6,0) -> 0 | AS6: =AP6+AR6 -> 0 | AT6: =ROUNDUP(AS6/H6*K6,-2) -> 0 | AV6: =AP6+AR6+AT6 -> 0 | AW6: 0 | AX6: 0 | AY6: =AR6-AW6 -> 0 | AZ6: =AP6-AX6 -> 0 | BB6: =ROUND(Q6/1000,1) -> 0 | BC6: =ROUND(AE6/1000,1) -> 0 | BD6: =ROUND(AS6/1000,1) -> 0
A7: 2 | B7: Волосовский | C7: 1.492 | D7: 1.492 | E7: 1.492 | F7: =100%-I7 -> 0.9 | G7: =100%-J7 -> 0.9 | H7: =100%-K7 -> 0.9 | I7: 0.1 | J7: 0.1 | K7: 0.1 | L7: 1 | M7: =$N$27/$N$26 -> 0.95590079 | N7: =ROUND($N$26*(($L7*$F7)/SUMPRODUCT($F$6:$F$23,$L$6:$L$23))*M7,0) -> 1880591 | O7: =$N$28/$N$26 -> 0.044099207 | P7: =ROUND($N$26*(($L7*$F7)/SUMPRODUCT($F$6:$F$23,$L$6:$L$23))*O7,0) -> 86759 | Q7: =N7+P7 -> 1967350 | R7: =ROUNDUP(Q7/F7*I7,-2) -> 218600 | S7: =R7/T7 -> 0.10000229 | T7: =N7+P7+R7 -> 2185950 | U7: 267311 | V7: 1880591 | W7: =P7-U7 -> -180552 | X7: =N7-V7 -> 0 | AA7: =$AB$27/$AB$26 -> 0.96007586 | AB7: =ROUND($AB$26*(($Z7*$G7)/SUMPRODUCT($Z$7:$Z$23,$G$7:$G$23))*AA7,0) -> 0 | AC7: =$AB$28/$AB$26 -> 0.039924142 | AD7: =ROUND($AB$26*(($Z7*$G7)/SUMPRODUCT($Z$7:$Z$23,$G$7:$G$23))*AC7,0) -> 0 | AE7: =AB7+AD7 -> 0 | AF7: =ROUNDUP(AE7/G7*J7,-2) -> 0 | AH7: =AB7+AD7+AF7 -> 0 | AI7: 0 | AJ7: 0 | AK7: =AD7-AI7 -> 0 | AL7: =AB7-AJ7 -> 0 | AN7: =Z7 -> 0 | AO7: =$AP$27/$AP$26 -> 0.32999311 | AP7: =ROUND($AP$26*(($AN7*$H7)/SUMPRODUCT($AN$6:$AN$23,$H$6:$H$23))*AO7,0) -> 0 | AQ7: =$AP$28/$AP$26 -> 0.67000689 | AR7: =ROUND($AP$26*(($AN7*$H7)/SUMPRODUCT($AN$6:$AN$23,$H$6:$H$23))*AQ7,0) -> 0 | AS7: =AP7+AR7 -> 0 | AT7: =ROUNDUP(AS7/H7*K7,-2) -> 0 | AV7: =AP7+AR7+AT7 -> 0 | AW7: 0 | AX7: 0 | AY7: =AR7-AW7 -> 0 | AZ7: =AP7-AX7 -> 0 | BB7: =ROUND(Q7/1000,1) -> 1967.4 | BC7: =ROUND(AE7/1000,1) -> 0 | BD7: =ROUND(AS7/1000,1) -> 0
A8: 3 | B8: Волховский | C8: 1.492 | D8: 1.492 | E8: 1.492 | F8: =100%-I8 -> 0.9 | G8: =100%-J8 -> 0.9 | H8: =100%-K8 -> 0.9 | I8: 0.1 | J8: 0.1 | K8: 0.1 | L8: 1 | M8: =$N$27/$N$26 -> 0.95590079 | N8: =ROUND($N$26*(($L8*$F8)/SUMPRODUCT($F$6:$F$23,$L$6:$L$23))*M8,0) -> 1880591 | O8: =$N$28/$N$26 -> 0.044099207 | P8: =ROUND($N$26*(($L8*$F8)/SUMPRODUCT($F$6:$F$23,$L$6:$L$23))*O8,0) -> 86759 | Q8: =N8+P8 -> 1967350 | R8: =ROUNDUP(Q8/F8*I8,-2) -> 218600 | S8: =R8/T8 -> 0.10000229 | T8: =N8+P8+R8 -> 2185950 | U8: 267311 | V8: 1880591 | W8: =P8-U8 -> -180552 | X8: =N8-V8 -> 0 | AA8: =$AB$27/$AB$26 -> 0.96007586 | AB8: =ROUND($AB$26*(($Z8*$G8)/SUMPRODUCT($Z$7:$Z$23,$G$7:$G$23))*AA8,0) -> 0 | AC8: =$AB$28/$AB$26 -> 0.039924142 | AD8: =ROUND($AB$26*(($Z8*$G8)/SUMPRODUCT($Z$7:$Z$23,$G$7:$G$23))*AC8,0) -> 0 | AE8: =AB8+AD8 -> 0 | AF8: =ROUNDUP(AE8/G8*J8,-2) -> 0 | AH8: =AB8+AD8+AF8 -> 0 | AI8: 0 | AJ8: 0 | AK8: =AD8-AI8 -> 0 | AL8: =AB8-AJ8 -> 0 | AN8: =Z8 -> 0 | AO8: =$AP$27/$AP$26 -> 0.32999311 | AP8: =ROUND($AP$26*(($AN8*$H8)/SUMPRODUCT($AN$6:$AN$23,$H$6:$H$23))*AO8,0) -> 0 | AQ8: =$AP$28/$AP$26 -> 0.67000689 | AR8: =ROUND($AP$26*(($AN8*$H8)/SUMPRODUCT($AN$6:$AN$23,$H$6:$H$23))*AQ8,0) -> 0 | AS8: =AP8+AR8 -> 0 | AT8: =ROUNDUP(AS8/H8*K8,-2) -> 0 | AV8: =AP8+AR8+AT8 -> 0 | AW8: 0 | AX8: 0 | AY8: =AR8-AW8 -> 0 | AZ8: =AP8-AX8 -> 0 | BB8: =ROUND(Q8/1000,1) -> 1967.4 | BC8: =ROUND(AE8/1000,1) -> 0 | BD8: =ROUND(AS8/1000,1) -> 0
A9: 4 | B9: Всеволожский | C9: 1.492 | D9: 1.492 | E9: 1.492 | F9: =100%-I9 -> 0.9 | G9: =100%-J9 -> 0.9 | H9: =100%-K9 -> 0.9 | I9: 0.1 | J9: 0.1 | K9: 0.1 | M9: =$N$27/$N$26 -> 0.95590079 | N9: =ROUND($N$26*(($L9*$F9)/SUMPRODUCT($F$6:$F$23,$L$6:$L$23))*M9,0) -> 0 | O9: =$N$28/$N$26 -> 0.044099207 | P9: =ROUND($N$26*(($L9*$F9)/SUMPRODUCT($F$6:$F$23,$L$6:$L$23))*O9,0) -> 0 | Q9: =N9+P9 -> 0 | R9: =ROUNDUP(Q9/F9*I9,-2) -> 0 | T9: =N9+P9+R9 -> 0 | U9: 0 | V9: 0 | W9: =P9-U9 -> 0 | X9: =N9-V9 -> 0 | AA9: =$AB$27/$AB$26 -> 0.96007586 | AB9: =ROUND($AB$26*(($Z9*$G9)/SUMPRODUCT($Z$7:$Z$23,$G$7:$G$23))*AA9,0) -> 0 | AC9: =$AB$28/$AB$26 -> 0.039924142 | AD9: =ROUND($AB$26*(($Z9*$G9)/SUMPRODUCT($Z$7:$Z$23,$G$7:$G$23))*AC9,0) -> 0 | AE9: =AB9+AD9 -> 0 | AF9: =ROUNDUP(AE9/G9*J9,-2) -> 0 | AH9: =AB9+AD9+AF9 -> 0 | AI9: 0 | AJ9: 0 | AK9: =AD9-AI9 -> 0 | AL9: =AB9-AJ9 -> 0 | AN9: =Z9 -> 0 | AO9: =$AP$27/$AP$26 -> 0.32999311 | AP9: =ROUND($AP$26*(($AN9*$H9)/SUMPRODUCT($AN$6:$AN$23,$H$6:$H$23))*AO9,0) -> 0 | AQ9: =$AP$28/$AP$26 -> 0.67000689 | AR9: =ROUND($AP$26*(($AN9*$H9)/SUMPRODUCT($AN$6:$AN$23,$H$6:$H$23))*AQ9,0) -> 0 | AS9: =AP9+AR9 -> 0 | AT9: =ROUNDUP(AS9/H9*K9,-2) -> 0 | AV9: =AP9+AR9+AT9 -> 0 | AW9: 0 | AX9: 0 | AY9: =AR9-AW9 -> 0 | AZ9: =AP9-AX9 -> 0 | BB9: =ROUND(Q9/1000,1) -> 0 | BC9: =ROUND(AE9/1000,1) -> 0 | BD9: =ROUND(AS9/1000,1) -> 0
A10: 5 | B10: Выборгский | C10: 1.492 | D10: 1.492 | E10: 1.492 | F10: =100%-I10 -> 0.88 | G10: =100%-J10 -> 0.88 | H10: =100%-K10 -> 0.89 | I10: 0.12 | J10: 0.12 | K10: 0.11 | L10: 3 | M10: =$N$27/$N$26 -> 0.95590079 | N10: =ROUND($N$26*(($L10*$F10)/SUMPRODUCT($F$6:$F$23,$L$6:$L$23))*M10,0) -> 5516401 | O10: =$N$28/$N$26 -> 0.044099207 | P10: =ROUND($N$26*(($L10*$F10)/SUMPRODUCT($F$6:$F$23,$L$6:$L$23))*O10,0) -> 254492 | Q10: =N10+P10 -> 5770893 | R10: =ROUNDUP(Q10/F10*I10,-2) -> 787000 | S10: =R10/T10 -> 0.12000806 | T10: =N10+P10+R10 -> 6557893 | U10: 784112 | V10: 5516401 | W10: =P10-U10 -> -529620 | X10: =N10-V10 -> 0 | AA10: =$AB$27/$AB$26 -> 0.96007586 | AB10: =ROUND($AB$26*(($Z10*$G10)/SUMPRODUCT($Z$7:$Z$23,$G$7:$G$23))*AA10,0) -> 0 | AC10: =$AB$28/$AB$26 -> 0.039924142 | AD10: =ROUND($AB$26*(($Z10*$G10)/SUMPRODUCT($Z$7:$Z$23,$G$7:$G$23))*AC10,0) -> 0 | AE10: =AB10+AD10 -> 0 | AF10: =ROUNDUP(AE10/G10*J10,-2) -> 0 | AH10: =AB10+AD10+AF10 -> 0 | AI10: 0 | AJ10: 0 | AK10: =AD10-AI10 -> 0 | AL10: =AB10-AJ10 -> 0 | AN10: =Z10 -> 0 | AO10: =$AP$27/$AP$26 -> 0.32999311 | AP10: =ROUND($AP$26*(($AN10*$H10)/SUMPRODUCT($AN$6:$AN$23,$H$6:$H$23))*AO10,0) -> 0 | AQ10: =$AP$28/$AP$26 -> 0.67000689 | AR10: =ROUND($AP$26*(($AN10*$H10)/SUMPRODUCT($AN$6:$AN$23,$H$6:$H$23))*AQ10,0) -> 0 | AS10: =AP10+AR10 -> 0 | AT10: =ROUNDUP(AS10/H10*K10,-2) -> 0 | AV10: =AP10+AR10+AT10 -> 0 | AW10: 0 | AX10: 0 | AY10: =AR10-AW10 -> 0 | AZ10: =AP10-AX10 -> 0 | BB10: =ROUNDDOWN(Q10/1000,1) -> 5770.8 | BC10: =ROUND(AE10/1000,1) -> 0 | BD10: =ROUND(AS10/1000,1) -> 0
A11: 6 | B11: Гатчинский | C11: 1.492 | D11: 1.492 | E11: 1.492 | F11: =100%-I11 -> 0.9 | G11: =100%-J11 -> 0.9 | H11: =100%-K11 -> 0.87 | I11: 0.1 | J11: 0.1 | K11: 0.13 | L11: 3 | M11: =$N$27/$N$26 -> 0.95590079 | N11: =ROUND($N$26*(($L11*$F11)/SUMPRODUCT($F$6:$F$23,$L$6:$L$23))*M11,0) -> 5641774 | O11: =$N$28/$N$26 -> 0.044099207 | P11: =ROUND($N$26*(($L11*$F11)/SUMPRODUCT($F$6:$F$23,$L$6:$L$23))*O11,0) -> 260276 | Q11: =N11+P11 -> 5902050 | R11: =ROUNDUP(Q11/F11*I11,-2) -> 655800 | S11: =R11/T11 -> 0.10000229 | T11: =N11+P11+R11 -> 6557850 | U11: 801932 | V11: 5641774 | W11: =P11-U11 -> -541656 | X11: =N11-V11 -> 0 | Z11: 3 | AA11: =$AB$27/$AB$26 -> 0.96007586 | AB11: =ROUND($AB$26*(($Z11*$G11)/SUMPRODUCT($Z$7:$Z$23,$G$7:$G$23))*AA11,0) -> 5659813 | AC11: =$AB$28/$AB$26 -> 0.039924142 | AD11: =ROUND($AB$26*(($Z11*$G11)/SUMPRODUCT($Z$7:$Z$23,$G$7:$G$23))*AC11,0) -> 235360 | AE11: =AB11+AD11 -> 5895173 | AF11: =ROUNDUP(AE11/G11*J11,-2) -> 655100 | AG11: =AF11/AH11 -> 0.1000111 | AH11: =AB11+AD11+AF11 -> 6550273 | AI11: 848698 | AJ11: 5659813 | AK11: =AD11-AI11 -> -613338 | AL11: =AB11-AJ11 -> 0 | AN11: =Z11 -> 3 | AO11: =$AP$27/$AP$26 -> 0.32999311 | AP11: =ROUND($AP$26*(($AN11*$H11)/SUMPRODUCT($AN$6:$AN$23,$H$6:$H$23))*AO11,0)-1 -> 110192 | AQ11: =$AP$28/$AP$26 -> 0.67000689 | AR11: =ROUND($AP$26*(($AN11*$H11)/SUMPRODUCT($AN$6:$AN$23,$H$6:$H$23))*AQ11,0)+1 -> 223733 | AS11: =AP11+AR11 -> 333925 | AT11: =ROUNDUP(AS11/H11*K11,-2) -> 49900 | AU11: =AT11/AV11 -> 0.13000716 | AV11: =AP11+AR11+AT11 -> 383825 | AW11: 0 | AX11: 0 | AY11: =AR11-AW11 -> 223733 | AZ11: =AP11-AX11 -> 110192 | BB11: =ROUNDDOWN(Q11/1000,1) -> 5902 | BC11: =ROUNDDOWN(AE11/1000,1) -> 5895.1 | BD11: =ROUND(AS11/1000,1) -> 333.9
A12: 7 | B12: Кингисеппский | C12: 1.492 | D12: 1.492 | E12: 1.492 | F12: =100%-I12 -> 0.88 | G12: =100%-J12 -> 0.88 | H12: =100%-K12 -> 0.89 | I12: 0.12 | J12: 0.12 | K12: 0.11 | M12: =$N$27/$N$26 -> 0.95590079 | N12: =ROUND($N$26*(($L12*$F12)/SUMPRODUCT($F$6:$F$23,$L$6:$L$23))*M12,0) -> 0 | O12: =$N$28/$N$26 -> 0.044099207 | P12: =ROUND($N$26*(($L12*$F12)/SUMPRODUCT($F$6:$F$23,$L$6:$L$23))*O12,0) -> 0 | Q12: =N12+P12 -> 0 | R12: =ROUNDUP(Q12/F12*I12,-2) -> 0 | T12: =N12+P12+R12 -> 0 | U12: 0 | V12: 0 | W12: =P12-U12 -> 0 | X12: =N12-V12 -> 0 | Z12: 3 | AA12: =$AB$27/$AB$26 -> 0.96007586 | AB12: =ROUND($AB$26*(($Z12*$G12)/SUMPRODUCT($Z$7:$Z$23,$G$7:$G$23))*AA12,0) -> 5534039 | AC12: =$AB$28/$AB$26 -> 0.039924142 | AD12: =ROUND($AB$26*(($Z12*$G12)/SUMPRODUCT($Z$7:$Z$23,$G$7:$G$23))*AC12,0)+1 -> 230130 | AE12: =AB12+AD12 -> 5764169 | AF12: =ROUNDUP(AE12/G12*J12,-2) -> 786100 | AG12: =AF12/AH12 -> 0.12001034 | AH12: =AB12+AD12+AF12 -> 6550269 | AI12: 829838 | AJ12: 5534039 | AK12: =AD12-AI12 -> -599708 | AL12: =AB12-AJ12 -> 0 | AN12: =Z12 -> 3 | AO12: =$AP$27/$AP$26 -> 0.32999311 | AP12: =ROUND($AP$26*(($AN12*$H12)/SUMPRODUCT($AN$6:$AN$23,$H$6:$H$23))*AO12,0) -> 112726 | AQ12: =$AP$28/$AP$26 -> 0.67000689 | AR12: =ROUND($AP$26*(($AN12*$H12)/SUMPRODUCT($AN$6:$AN$23,$H$6:$H$23))*AQ12,0) -> 228875 | AS12: =AP12+AR12 -> 341601 | AT12: =ROUNDUP(AS12/H12*K12,-2) -> 42300 | AU12: =AT12/AV12 -> 0.11018466 | AV12: =AP12+AR12+AT12 -> 383901 | AW12: 0 | AX12: 0 | AY12: =AR12-AW12 -> 228875 | AZ12: =AP12-AX12 -> 112726 | BB12: =ROUND(Q12/1000,1) -> 0 | BC12: =ROUNDDOWN(AE12/1000,1) -> 5764.1 | BD12: =ROUND(AS12/1000,1) -> 341.6
A13: 8 | B13: Киришский | C13: 1.492 | D13: 1.492 | E13: 1.492 | F13: =100%-I13 -> 0.87 | G13: =100%-J13 -> 0.87 | H13: =100%-K13 -> 0.89 | I13: 0.13 | J13: 0.13 | K13: 0.11 | M13: =$N$27/$N$26 -> 0.95590079 | N13: =ROUND($N$26*(($L13*$F13)/SUMPRODUCT($F$6:$F$23,$L$6:$L$23))*M13,0) -> 0 | O13: =$N$28/$N$26 -> 0.044099207 | P13: =ROUND($N$26*(($L13*$F13)/SUMPRODUCT($F$6:$F$23,$L$6:$L$23))*O13,0) -> 0 | Q13: =N13+P13 -> 0 | R13: =ROUNDUP(Q13/F13*I13,-2) -> 0 | T13: =N13+P13+R13 -> 0 | U13: 0 | V13: 0 | W13: =P13-U13 -> 0 | X13: =N13-V13 -> 0 | AA13: =$AB$27/$AB$26 -> 0.96007586 | AB13: =ROUND($AB$26*(($Z13*$G13)/SUMPRODUCT($Z$7:$Z$23,$G$7:$G$23))*AA13,0) -> 0 | AC13: =$AB$28/$AB$26 -> 0.039924142 | AD13: =ROUND($AB$26*(($Z13*$G13)/SUMPRODUCT($Z$7:$Z$23,$G$7:$G$23))*AC13,0) -> 0 | AE13: =AB13+AD13 -> 0 | AF13: =ROUNDUP(AE13/G13*J13,-2) -> 0 | AH13: =AB13+AD13+AF13 -> 0 | AI13: 0 | AJ13: 0 | AK13: =AD13-AI13 -> 0 | AL13: =AB13-AJ13 -> 0 | AN13: =Z13 -> 0 | AO13: =$AP$27/$AP$26 -> 0.32999311 | AP13: =ROUND($AP$26*(($AN13*$H13)/SUMPRODUCT($AN$6:$AN$23,$H$6:$H$23))*AO13,0) -> 0 | AQ13: =$AP$28/$AP$26 -> 0.67000689 | AR13: =ROUND($AP$26*(($AN13*$H13)/SUMPRODUCT($AN$6:$AN$23,$H$6:$H$23))*AQ13,0) -> 0 | AS13: =AP13+AR13 -> 0 | AT13: =ROUNDUP(AS13/H13*K13,-2) -> 0 | AV13: =AP13+AR13+AT13 -> 0 | AW13: 0 | AX13: 0 | AY13: =AR13-AW13 -> 0 | AZ13: =AP13-AX13 -> 0 | BB13: =ROUND(Q13/1000,1) -> 0 | BC13: =ROUND(AE13/1000,1) -> 0 | BD13: =ROUND(AS13/1000,1) -> 0
A14: 9 | B14: Кировский | C14: 1.492 | D14: 1.492 | E14: 1.492 | F14: =100%-I14 -> 0.9 | G14: =100%-J14 -> 0.9 | H14: =100%-K14 -> 0.9 | I14: 0.1 | J14: 0.1 | K14: 0.1 | M14: =$N$27/$N$26 -> 0.95590079 | N14: =ROUND($N$26*(($L14*$F14)/SUMPRODUCT($F$6:$F$23,$L$6:$L$23))*M14,0) -> 0 | O14: =$N$28/$N$26 -> 0.044099207 | P14: =ROUND($N$26*(($L14*$F14)/SUMPRODUCT($F$6:$F$23,$L$6:$L$23))*O14,0) -> 0 | Q14: =N14+P14 -> 0 | R14: =ROUNDUP(Q14/F14*I14,-2) -> 0 | T14: =N14+P14+R14 -> 0 | U14: 0 | V14: 0 | W14: =P14-U14 -> 0 | X14: =N14-V14 -> 0 | Z14: 1 | AA14: =$AB$27/$AB$26 -> 0.96007586 | AB14: =ROUND($AB$26*(($Z14*$G14)/SUMPRODUCT($Z$7:$Z$23,$G$7:$G$23))*AA14,0) -> 1886604 | AC14: =$AB$28/$AB$26 -> 0.039924142 | AD14: =ROUND($AB$26*(($Z14*$G14)/SUMPRODUCT($Z$7:$Z$23,$G$7:$G$23))*AC14,0) -> 78453 | AE14: =AB14+AD14 -> 1965057 | AF14: =ROUNDUP(AE14/G14*J14,-2) -> 218400 | AG14: =AF14/AH14 -> 0.10002487 | AH14: =AB14+AD14+AF14 -> 2183457 | AI14: 282899 | AJ14: 1886604 | AK14: =AD14-AI14 -> -204446 | AL14: =AB14-AJ14 -> 0 | AN14: =Z14 -> 1 | AO14: =$AP$27/$AP$26 -> 0.32999311 | AP14: =ROUND($AP$26*(($AN14*$H14)/SUMPRODUCT($AN$6:$AN$23,$H$6:$H$23))*AO14,0) -> 37998 | AQ14: =$AP$28/$AP$26 -> 0.67000689 | AR14: =ROUND($AP$26*(($AN14*$H14)/SUMPRODUCT($AN$6:$AN$23,$H$6:$H$23))*AQ14,0) -> 77149 | AS14: =AP14+AR14 -> 115147 | AT14: =ROUNDUP(AS14/H14*K14,-2) -> 12800 | AU14: =AT14/AV14 -> 0.10004142 | AV14: =AP14+AR14+AT14 -> 127947 | AW14: 0 | AX14: 0 | AY14: =AR14-AW14 -> 77149 | AZ14: =AP14-AX14 -> 37998 | BB14: =ROUND(Q14/1000,1) -> 0 | BC14: =ROUND(AE14/1000,1) -> 1965.1 | BD14: =ROUND(AS14/1000,1) -> 115.1
A15: 10 | B15: Лодейнопольский | C15: 1.492 | D15: 1.492 | E15: 1.492 | F15: =100%-I15 -> 0.9 | G15: =100%-J15 -> 0.9 | H15: =100%-K15 -> 0.9 | I15: 0.1 | J15: 0.1 | K15: 0.1 | L15: 1 | M15: =$N$27/$N$26 -> 0.95590079 | N15: =ROUND($N$26*(($L15*$F15)/SUMPRODUCT($F$6:$F$23,$L$6:$L$23))*M15,0) -> 1880591 | O15: =$N$28/$N$26 -> 0.044099207 | P15: =ROUND($N$26*(($L15*$F15)/SUMPRODUCT($F$6:$F$23,$L$6:$L$23))*O15,0) -> 86759 | Q15: =N15+P15 -> 1967350 | R15: =ROUNDUP(Q15/F15*I15,-2) -> 218600 | S15: =R15/T15 -> 0.10000229 | T15: =N15+P15+R15 -> 2185950 | U15: 267311 | V15: 1880591 | W15: =P15-U15 -> -180552 | X15: =N15-V15 -> 0 | Z15: 2 | AA15: =$AB$27/$AB$26 -> 0.96007586 | AB15: =ROUND($AB$26*(($Z15*$G15)/SUMPRODUCT($Z$7:$Z$23,$G$7:$G$23))*AA15,0) -> 3773209 | AC15: =$AB$28/$AB$26 -> 0.039924142 | AD15: =ROUND($AB$26*(($Z15*$G15)/SUMPRODUCT($Z$7:$Z$23,$G$7:$G$23))*AC15,0) -> 156906 | AE15: =AB15+AD15 -> 3930115 | AF15: =ROUNDUP(AE15/G15*J15,-2) -> 436700 | AG15: =AF15/AH15 -> 0.10000424 | AH15: =AB15+AD15+AF15 -> 4366815 | AI15: 565799 | AJ15: 3773209 | AK15: =AD15-AI15 -> -408893 | AL15: =AB15-AJ15 -> 0 | AN15: =Z15 -> 2 | AO15: =$AP$27/$AP$26 -> 0.32999311 | AP15: =ROUND($AP$26*(($AN15*$H15)/SUMPRODUCT($AN$6:$AN$23,$H$6:$H$23))*AO15,0) -> 75995 | AQ15: =$AP$28/$AP$26 -> 0.67000689 | AR15: =ROUND($AP$26*(($AN15*$H15)/SUMPRODUCT($AN$6:$AN$23,$H$6:$H$23))*AQ15,0) -> 154298 | AS15: =AP15+AR15 -> 230293 | AT15: =ROUNDUP(AS15/H15*K15,-2) -> 25600 | AU15: =AT15/AV15 -> 0.10004181 | AV15: =AP15+AR15+AT15 -> 255893 | AW15: 0 | AX15: 0 | AY15: =AR15-AW15 -> 154298 | AZ15: =AP15-AX15 -> 75995 | BB15: =ROUND(Q15/1000,1) -> 1967.4 | BC15: =ROUND(AE15/1000,1) -> 3930.1 | BD15: =ROUND(AS15/1000,1) -> 230.3
A16: 11 | B16: Ломоносовский | C16: 1.492 | D16: 1.492 | E16: 1.492 | F16: =100%-I16 -> 0.89 | G16: =100%-J16 -> 0.89 | H16: =100%-K16 -> 0.89 | I16: 0.11 | J16: 0.11 | K16: 0.11 | M16: =$N$27/$N$26 -> 0.95590079 | N16: =ROUND($N$26*(($L16*$F16)/SUMPRODUCT($F$6:$F$23,$L$6:$L$23))*M16,0) -> 0 | O16: =$N$28/$N$26 -> 0.044099207 | P16: =ROUND($N$26*(($L16*$F16)/SUMPRODUCT($F$6:$F$23,$L$6:$L$23))*O16,0) -> 0 | Q16: =N16+P16 -> 0 | R16: =ROUNDUP(Q16/F16*I16,-2) -> 0 | T16: =N16+P16+R16 -> 0 | U16: 0 | V16: 0 | W16: =P16-U16 -> 0 | X16: =N16-V16 -> 0 | AA16: =$AB$27/$AB$26 -> 0.96007586 | AB16: =ROUND($AB$26*(($Z16*$G16)/SUMPRODUCT($Z$7:$Z$23,$G$7:$G$23))*AA16,0) -> 0 | AC16: =$AB$28/$AB$26 -> 0.039924142 | AD16: =ROUND($AB$26*(($Z16*$G16)/SUMPRODUCT($Z$7:$Z$23,$G$7:$G$23))*AC16,0) -> 0 | AE16: =AB16+AD16 -> 0 | AF16: =ROUNDUP(AE16/G16*J16,-2) -> 0 | AH16: =AB16+AD16+AF16 -> 0 | AI16: 0 | AJ16: 0 | AK16: =AD16-AI16 -> 0 | AL16: =AB16-AJ16 -> 0 | AN16: =Z16 -> 0 | AO16: =$AP$27/$AP$26 -> 0.32999311 | AP16: =ROUND($AP$26*(($AN16*$H16)/SUMPRODUCT($AN$6:$AN$23,$H$6:$H$23))*AO16,0) -> 0 | AQ16: =$AP$28/$AP$26 -> 0.67000689 | AR16: =ROUND($AP$26*(($AN16*$H16)/SUMPRODUCT($AN$6:$AN$23,$H$6:$H$23))*AQ16,0) -> 0 | AS16: =AP16+AR16 -> 0 | AT16: =ROUNDUP(AS16/H16*K16,-2) -> 0 | AV16: =AP16+AR16+AT16 -> 0 | AW16: 0 | AX16: 0 | AY16: =AR16-AW16 -> 0 | AZ16: =AP16-AX16 -> 0 | BB16: =ROUND(Q16/1000,1) -> 0 | BC16: =ROUND(AE16/1000,1) -> 0 | BD16: =ROUND(AS16/1000,1) -> 0
A17: 12 | B17: Лужский | C17: 1.492 | D17: 1.492 | E17: 1.492 | F17: =100%-I17 -> 0.91 | G17: =100%-J17 -> 0.91 | H17: =100%-K17 -> 0.9 | I17: 0.09 | J17: 0.09 | K17: 0.1 | L17: 1 | M17: =$N$27/$N$26 -> 0.95590079 | N17: =ROUND($N$26*(($L17*$F17)/SUMPRODUCT($F$6:$F$23,$L$6:$L$23))*M17,0) -> 1901487 | O17: =$N$28/$N$26 -> 0.044099207 | P17: =ROUND($N$26*(($L17*$F17)/SUMPRODUCT($F$6:$F$23,$L$6:$L$23))*O17,0)-3 -> 87720 | Q17: =N17+P17 -> 1989207 | R17: =ROUNDUP(Q17/F17*I17,-2) -> 196800 | S17: =R17/T17 -> 0.090027159 | T17: =N17+P17+R17 -> 2186007 | U17: 270280 | V17: 1901487 | W17: =P17-U17 -> -182560 | X17: =N17-V17 -> 0 | Z17: 1 | AA17: =$AB$27/$AB$26 -> 0.96007586 | AB17: =ROUND($AB$26*(($Z17*$G17)/SUMPRODUCT($Z$7:$Z$23,$G$7:$G$23))*AA17,0) -> 1907567 | AC17: =$AB$28/$AB$26 -> 0.039924142 | AD17: =ROUND($AB$26*(($Z17*$G17)/SUMPRODUCT($Z$7:$Z$23,$G$7:$G$23))*AC17,0) -> 79325 | AE17: =AB17+AD17 -> 1986892 | AF17: =ROUNDUP(AE17/G17*J17,-2) -> 196600 | AG17: =AF17/AH17 -> 0.090039258 | AH17: =AB17+AD17+AF17 -> 2183492 | AI17: 286043 | AJ17: 1907567 | AK17: =AD17-AI17 -> -206718 | AL17: =AB17-AJ17 -> 0 | AN17: =Z17 -> 1 | AO17: =$AP$27/$AP$26 -> 0.32999311 | AP17: =ROUND($AP$26*(($AN17*$H17)/SUMPRODUCT($AN$6:$AN$23,$H$6:$H$23))*AO17,0) -> 37998 | AQ17: =$AP$28/$AP$26 -> 0.67000689 | AR17: =ROUND($AP$26*(($AN17*$H17)/SUMPRODUCT($AN$6:$AN$23,$H$6:$H$23))*AQ17,0) -> 77149 | AS17: =AP17+AR17 -> 115147 | AT17: =ROUNDUP(AS17/H17*K17,-2) -> 12800 | AU17: =AT17/AV17 -> 0.10004142 | AV17: =AP17+AR17+AT17 -> 127947 | AW17: 0 | AX17: 0 | AY17: =AR17-AW17 -> 77149 | AZ17: =AP17-AX17 -> 37998 | BB17: =ROUND(Q17/1000,1) -> 1989.2 | BC17: =ROUND(AE17/1000,1) -> 1986.9 | BD17: =ROUNDUP(AS17/1000,1) -> 115.2
A18: 13 | B18: Подпорожский | C18: 1.492 | D18: 1.492 | E18: 1.492 | F18: =100%-I18 -> 0.9 | G18: =100%-J18 -> 0.9 | H18: =100%-K18 -> 0.9 | I18: 0.1 | J18: 0.1 | K18: 0.1 | M18: =$N$27/$N$26 -> 0.95590079 | N18: =ROUND($N$26*(($L18*$F18)/SUMPRODUCT($F$6:$F$23,$L$6:$L$23))*M18,0) -> 0 | O18: =$N$28/$N$26 -> 0.044099207 | P18: =ROUND($N$26*(($L18*$F18)/SUMPRODUCT($F$6:$F$23,$L$6:$L$23))*O18,0) -> 0 | Q18: =N18+P18 -> 0 | R18: =ROUNDUP(Q18/F18*I18,-2) -> 0 | T18: =N18+P18+R18 -> 0 | U18: 0 | V18: 0 | W18: =P18-U18 -> 0 | X18: =N18-V18 -> 0 | Z18: 1 | AA18: =$AB$27/$AB$26 -> 0.96007586 | AB18: =ROUND($AB$26*(($Z18*$G18)/SUMPRODUCT($Z$7:$Z$23,$G$7:$G$23))*AA18,0) -> 1886604 | AC18: =$AB$28/$AB$26 -> 0.039924142 | AD18: =ROUND($AB$26*(($Z18*$G18)/SUMPRODUCT($Z$7:$Z$23,$G$7:$G$23))*AC18,0) -> 78453 | AE18: =AB18+AD18 -> 1965057 | AF18: =ROUNDUP(AE18/G18*J18,-2) -> 218400 | AG18: =AF18/AH18 -> 0.10002487 | AH18: =AB18+AD18+AF18 -> 2183457 | AI18: 282899 | AJ18: 1886604 | AK18: =AD18-AI18 -> -204446 | AL18: =AB18-AJ18 -> 0 | AN18: =Z18 -> 1 | AO18: =$AP$27/$AP$26 -> 0.32999311 | AP18: =ROUND($AP$26*(($AN18*$H18)/SUMPRODUCT($AN$6:$AN$23,$H$6:$H$23))*AO18,0) -> 37998 | AQ18: =$AP$28/$AP$26 -> 0.67000689 | AR18: =ROUND($AP$26*(($AN18*$H18)/SUMPRODUCT($AN$6:$AN$23,$H$6:$H$23))*AQ18,0) -> 77149 | AS18: =AP18+AR18 -> 115147 | AT18: =ROUNDUP(AS18/H18*K18,-2) -> 12800 | AU18: =AT18/AV18 -> 0.10004142 | AV18: =AP18+AR18+AT18 -> 127947 | AW18: 0 | AX18: 0 | AY18: =AR18-AW18 -> 77149 | AZ18: =AP18-AX18 -> 37998 | BB18: =ROUND(Q18/1000,1) -> 0 | BC18: =ROUND(AE18/1000,1) -> 1965.1 | BD18: =ROUNDUP(AS18/1000,1) -> 115.2
A19: 14 | B19: Приозерский | C19: 1.492 | D19: 1.492 | E19: 1.492 | F19: =100%-I19 -> 0.9 | G19: =100%-J19 -> 0.9 | H19: =100%-K19 -> 0.9 | I19: 0.1 | J19: 0.1 | K19: 0.1 | L19: 3 | M19: =$N$27/$N$26 -> 0.95590079 | N19: =ROUND($N$26*(($L19*$F19)/SUMPRODUCT($F$6:$F$23,$L$6:$L$23))*M19,0) -> 5641774 | O19: =$N$28/$N$26 -> 0.044099207 | P19: =ROUND($N$26*(($L19*$F19)/SUMPRODUCT($F$6:$F$23,$L$6:$L$23))*O19,0) -> 260276 | Q19: =N19+P19 -> 5902050 | R19: =ROUNDUP(Q19/F19*I19,-2) -> 655800 | S19: =R19/T19 -> 0.10000229 | T19: =N19+P19+R19 -> 6557850 | U19: 801932 | V19: 5641774 | W19: =P19-U19 -> -541656 | X19: =N19-V19 -> 0 | Z19: 1 | AA19: =$AB$27/$AB$26 -> 0.96007586 | AB19: =ROUND($AB$26*(($Z19*$G19)/SUMPRODUCT($Z$7:$Z$23,$G$7:$G$23))*AA19,0) -> 1886604 | AC19: =$AB$28/$AB$26 -> 0.039924142 | AD19: =ROUND($AB$26*(($Z19*$G19)/SUMPRODUCT($Z$7:$Z$23,$G$7:$G$23))*AC19,0) -> 78453 | AE19: =AB19+AD19 -> 1965057 | AF19: =ROUNDUP(AE19/G19*J19,-2) -> 218400 | AG19: =AF19/AH19 -> 0.10002487 | AH19: =AB19+AD19+AF19 -> 2183457 | AI19: 282899 | AJ19: 1886604 | AK19: =AD19-AI19 -> -204446 | AL19: =AB19-AJ19 -> 0 | AN19: =Z19 -> 1 | AO19: =$AP$27/$AP$26 -> 0.32999311 | AP19: =ROUND($AP$26*(($AN19*$H19)/SUMPRODUCT($AN$6:$AN$23,$H$6:$H$23))*AO19,0) -> 37998 | AQ19: =$AP$28/$AP$26 -> 0.67000689 | AR19: =ROUND($AP$26*(($AN19*$H19)/SUMPRODUCT($AN$6:$AN$23,$H$6:$H$23))*AQ19,0) -> 77149 | AS19: =AP19+AR19 -> 115147 | AT19: =ROUNDUP(AS19/H19*K19,-2) -> 12800 | AU19: =AT19/AV19 -> 0.10004142 | AV19: =AP19+AR19+AT19 -> 127947 | AW19: 0 | AX19: 0 | AY19: =AR19-AW19 -> 77149 | AZ19: =AP19-AX19 -> 37998 | BB19: =ROUNDDOWN(Q19/1000,1) -> 5902 | BC19: =ROUND(AE19/1000,1) -> 1965.1 | BD19: =ROUND(AS19/1000,1) -> 115.1
A20: 15 | B20: Сланцевский | C20: 1.492 | D20: 1.492 | E20: 1.492 | F20: =100%-I20 -> 0.88 | G20: =100%-J20 -> 0.88 | H20: =100%-K20 -> 0.9 | I20: 0.12 | J20: 0.12 | K20: 0.1 | M20: =$N$27/$N$26 -> 0.95590079 | N20: =ROUND($N$26*(($L20*$F20)/SUMPRODUCT($F$6:$F$23,$L$6:$L$23))*M20,0) -> 0 | O20: =$N$28/$N$26 -> 0.044099207 | P20: =ROUND($N$26*(($L20*$F20)/SUMPRODUCT($F$6:$F$23,$L$6:$L$23))*O20,0) -> 0 | Q20: =N20+P20 -> 0 | R20: =ROUNDUP(Q20/F20*I20,-2) -> 0 | T20: =N20+P20+R20 -> 0 | U20: 0 | V20: 0 | W20: =P20-U20 -> 0 | X20: =N20-V20 -> 0 | Z20: 2 | AA20: =$AB$27/$AB$26 -> 0.96007586 | AB20: =ROUND($AB$26*(($Z20*$G20)/SUMPRODUCT($Z$7:$Z$23,$G$7:$G$23))*AA20,0) -> 3689360 | AC20: =$AB$28/$AB$26 -> 0.039924142 | AD20: =ROUND($AB$26*(($Z20*$G20)/SUMPRODUCT($Z$7:$Z$23,$G$7:$G$23))*AC20,0) -> 153420 | AE20: =AB20+AD20 -> 3842780 | AF20: =ROUNDUP(AE20/G20*J20,-2) -> 524100 | AG20: =AF20/AH20 -> 0.12001704 | AH20: =AB20+AD20+AF20 -> 4366880 | AI20: 553225 | AJ20: 3689360 | AK20: =AD20-AI20 -> -399805 | AL20: =AB20-AJ20 -> 0 | AN20: =Z20 -> 2 | AO20: =$AP$27/$AP$26 -> 0.32999311 | AP20: =ROUND($AP$26*(($AN20*$H20)/SUMPRODUCT($AN$6:$AN$23,$H$6:$H$23))*AO20,0) -> 75995 | AQ20: =$AP$28/$AP$26 -> 0.67000689 | AR20: =ROUND($AP$26*(($AN20*$H20)/SUMPRODUCT($AN$6:$AN$23,$H$6:$H$23))*AQ20,0) -> 154298 | AS20: =AP20+AR20 -> 230293 | AT20: =ROUNDUP(AS20/H20*K20,-2) -> 25600 | AU20: =AT20/AV20 -> 0.10004181 | AV20: =AP20+AR20+AT20 -> 255893 | AW20: 0 | AX20: 0 | AY20: =AR20-AW20 -> 154298 | AZ20: =AP20-AX20 -> 75995 | BB20: =ROUND(Q20/1000,1) -> 0 | BC20: =ROUND(AE20/1000,1) -> 3842.8 | BD20: =ROUND(AS20/1000,1) -> 230.3
A21: 16 | B21: Тихвинский | C21: 1.492 | D21: 1.492 | E21: 1.492 | F21: =100%-I21 -> 0.91 | G21: =100%-J21 -> 0.91 | H21: =100%-K21 -> 0.9 | I21: 0.09 | J21: 0.09 | K21: 0.1 | M21: =$N$27/$N$26 -> 0.95590079 | N21: =ROUND($N$26*(($L21*$F21)/SUMPRODUCT($F$6:$F$23,$L$6:$L$23))*M21,0) -> 0 | O21: =$N$28/$N$26 -> 0.044099207 | P21: =ROUND($N$26*(($L21*$F21)/SUMPRODUCT($F$6:$F$23,$L$6:$L$23))*O21,0) -> 0 | Q21: =N21+P21 -> 0 | R21: =ROUNDUP(Q21/F21*I21,-2) -> 0 | T21: =N21+P21+R21 -> 0 | U21: 0 | V21: 0 | W21: =P21-U21 -> 0 | X21: =N21-V21 -> 0 | AA21: =$AB$27/$AB$26 -> 0.96007586 | AB21: =ROUND($AB$26*(($Z21*$G21)/SUMPRODUCT($Z$7:$Z$23,$G$7:$G$23))*AA21,0) -> 0 | AC21: =$AB$28/$AB$26 -> 0.039924142 | AD21: =ROUND($AB$26*(($Z21*$G21)/SUMPRODUCT($Z$7:$Z$23,$G$7:$G$23))*AC21,0) -> 0 | AE21: =AB21+AD21 -> 0 | AF21: =ROUNDUP(AE21/G21*J21,-2) -> 0 | AH21: =AB21+AD21+AF21 -> 0 | AI21: 0 | AJ21: 0 | AK21: =AD21-AI21 -> 0 | AL21: =AB21-AJ21 -> 0 | AN21: =Z21 -> 0 | AO21: =$AP$27/$AP$26 -> 0.32999311 | AP21: =ROUND($AP$26*(($AN21*$H21)/SUMPRODUCT($AN$6:$AN$23,$H$6:$H$23))*AO21,0) -> 0 | AQ21: =$AP$28/$AP$26 -> 0.67000689 | AR21: =ROUND($AP$26*(($AN21*$H21)/SUMPRODUCT($AN$6:$AN$23,$H$6:$H$23))*AQ21,0) -> 0 | AS21: =AP21+AR21 -> 0 | AT21: =ROUNDUP(AS21/H21*K21,-2) -> 0 | AV21: =AP21+AR21+AT21 -> 0 | AW21: 0 | AX21: 0 | AY21: =AR21-AW21 -> 0 | AZ21: =AP21-AX21 -> 0 | BB21: =ROUND(Q21/1000,1) -> 0 | BC21: =ROUND(AE21/1000,1) -> 0 | BD21: =ROUND(AS21/1000,1) -> 0
A22: 17 | B22: Тосненский | C22: 1.492 | D22: 1.492 | E22: 1.492 | F22: =100%-I22 -> 0.9 | G22: =100%-J22 -> 0.9 | H22: =100%-K22 -> 0.9 | I22: 0.1 | J22: 0.1 | K22: 0.1 | L22: 1 | M22: =$N$27/$N$26 -> 0.95590079 | N22: =ROUND($N$26*(($L22*$F22)/SUMPRODUCT($F$6:$F$23,$L$6:$L$23))*M22,0) -> 1880591 | O22: =$N$28/$N$26 -> 0.044099207 | P22: =ROUND($N$26*(($L22*$F22)/SUMPRODUCT($F$6:$F$23,$L$6:$L$23))*O22,0) -> 86759 | Q22: =N22+P22 -> 1967350 | R22: =ROUNDUP(Q22/F22*I22,-2) -> 218600 | S22: =R22/T22 -> 0.10000229 | T22: =N22+P22+R22 -> 2185950 | U22: 267311 | V22: 1880591 | W22: =P22-U22 -> -180552 | X22: =N22-V22 -> 0 | AA22: =$AB$27/$AB$26 -> 0.96007586 | AB22: =ROUND($AB$26*(($Z22*$G22)/SUMPRODUCT($Z$7:$Z$23,$G$7:$G$23))*AA22,0) -> 0 | AC22: =$AB$28/$AB$26 -> 0.039924142 | AD22: =ROUND($AB$26*(($Z22*$G22)/SUMPRODUCT($Z$7:$Z$23,$G$7:$G$23))*AC22,0) -> 0 | AE22: =AB22+AD22 -> 0 | AF22: =ROUNDUP(AE22/G22*J22,-2) -> 0 | AH22: =AB22+AD22+AF22 -> 0 | AI22: 0 | AJ22: 0 | AK22: =AD22-AI22 -> 0 | AL22: =AB22-AJ22 -> 0 | AN22: =Z22 -> 0 | AO22: =$AP$27/$AP$26 -> 0.32999311 | AP22: =ROUND($AP$26*(($AN22*$H22)/SUMPRODUCT($AN$6:$AN$23,$H$6:$H$23))*AO22,0) -> 0 | AQ22: =$AP$28/$AP$26 -> 0.67000689 | AR22: =ROUND($AP$26*(($AN22*$H22)/SUMPRODUCT($AN$6:$AN$23,$H$6:$H$23))*AQ22,0) -> 0 | AS22: =AP22+AR22 -> 0 | AT22: =ROUNDUP(AS22/H22*K22,-2) -> 0 | AV22: =AP22+AR22+AT22 -> 0 | AW22: 0 | AX22: 0 | AY22: =AR22-AW22 -> 0 | AZ22: =AP22-AX22 -> 0 | BB22: =ROUND(Q22/1000,1) -> 1967.4 | BC22: =ROUND(AE22/1000,1) -> 0 | BD22: =ROUND(AS22/1000,1) -> 0
A23: 18 | B23: Сосновоборский | C23: 2.113 | D23: 2.124 | E23: 2.124 | F23: =100%-I23 -> 0.75 | G23: =100%-J23 -> 0.75 | H23: =100%-K23 -> 0.77 | I23: 0.25 | J23: 0.25 | K23: 0.23 | M23: =$N$27/$N$26 -> 0.95590079 | N23: =ROUND($N$26*(($L23*$F23)/SUMPRODUCT($F$6:$F$23,$L$6:$L$23))*M23,0) -> 0 | O23: =$N$28/$N$26 -> 0.044099207 | P23: =ROUND($N$26*(($L23*$F23)/SUMPRODUCT($F$6:$F$23,$L$6:$L$23))*O23,0) -> 0 | Q23: =N23+P23 -> 0 | R23: =ROUNDUP(Q23/F23*I23,-2) -> 0 | T23: =N23+P23+R23 -> 0 | U23: 0 | V23: 0 | W23: =P23-U23 -> 0 | X23: =N23-V23 -> 0 | AA23: =$AB$27/$AB$26 -> 0.96007586 | AB23: =ROUND($AB$26*(($Z23*$G23)/SUMPRODUCT($Z$7:$Z$23,$G$7:$G$23))*AA23,0) -> 0 | AC23: =$AB$28/$AB$26 -> 0.039924142 | AD23: =ROUND($AB$26*(($Z23*$G23)/SUMPRODUCT($Z$7:$Z$23,$G$7:$G$23))*AC23,0) -> 0 | AE23: =AB23+AD23 -> 0 | AF23: =ROUNDUP(AE23/G23*J23,-2) -> 0 | AH23: =AB23+AD23+AF23 -> 0 | AI23: 0 | AJ23: 0 | AK23: =AD23-AI23 -> 0 | AL23: =AB23-AJ23 -> 0 | AN23: =Z23 -> 0 | AO23: =$AP$27/$AP$26 -> 0.32999311 | AP23: =ROUND($AP$26*(($AN23*$H23)/SUMPRODUCT($AN$6:$AN$23,$H$6:$H$23))*AO23,0) -> 0 | AQ23: =$AP$28/$AP$26 -> 0.67000689 | AR23: =ROUND($AP$26*(($AN23*$H23)/SUMPRODUCT($AN$6:$AN$23,$H$6:$H$23))*AQ23,0) -> 0 | AS23: =AP23+AR23 -> 0 | AT23: =ROUNDUP(AS23/H23*K23,-2) -> 0 | AV23: =AP23+AR23+AT23 -> 0 | AW23: 0 | AX23: 0 | AY23: =AR23-AW23 -> 0 | AZ23: =AP23-AX23 -> 0 | BB23: =ROUND(Q23/1000,1) -> 0 | BC23: =ROUND(AE23/1000,1) -> 0 | BD23: =ROUND(AS23/1000,1) -> 0
B24: Всего | C24: 1.513 | D24: 1.513 | E24: 1.513 | L24: =SUM(L6:L23) -> 14 | N24: =SUM(N6:N23) -> 26223800 | P24: =SUM(P6:P23) -> 1209800 | Q24: =SUM(Q6:Q23) -> 27433600 | R24: =SUM(R6:R23) -> 3169800 | T24: =SUM(T6:T23) -> 30603400 | U24: =SUM(U6:U23) -> 3727500 | V24: =SUM(V6:V23) -> 26223800 | W24: =SUM(W6:W23) -> -2517700 | X24: =SUM(X6:X23) -> 0 | Z24: =SUM(Z6:Z23) -> 14 | AB24: =SUM(AB6:AB23) -> 26223800 | AD24: =SUM(AD6:AD23) -> 1090500 | AE24: =SUM(AE6:AE23) -> 27314300 | AF24: =SUM(AF6:AF23) -> 3253800 | AH24: =SUM(AH6:AH23) -> 30568100 | AI24: =SUM(AI6:AI23) -> 3932300 | AJ24: =SUM(AJ6:AJ23) -> 26223800 | AK24: =SUM(AK6:AK23) -> -2841800 | AL24: =SUM(AL6:AL23) -> 0 | AN24: =SUM(AN6:AN23) -> 14 | AP24: =SUM(AP6:AP23) -> 526900 | AR24: =SUM(AR6:AR23) -> 1069800 | AS24: =SUM(AS6:AS23) -> 1596700 | AT24: =SUM(AT6:AT23) -> 194600 | AV24: =SUM(AV6:AV23) -> 1791300 | AW24: =SUM(AW6:AW23) -> 0 | AX24: =SUM(AX6:AX23) -> 0 | AY24: =SUM(AY6:AY23) -> 1069800 | AZ24: =SUM(AZ6:AZ23) -> 526900 | BB24: =SUM(BB6:BB23) -> 27433.6 | BC24: =SUM(BC6:BC23) -> 27314.3 | BD24: =SUM(BD6:BD23) -> 1596.7
BB25: =Q24 -> 27433600 | BC25: =AE24 -> 27314300 | BD25: =AS24 -> 1596700
N26: =N27+N28 -> 27433600 | AB26: =AB27+AB28 -> 27314300 | AP26: =AP27+AP28 -> 1596700 | BB26: =BB25-BB24*1000 -> 0 | BC26: =BC25-BC24*1000 -> 0 | BD26: =BD25-BD24*1000 -> 0
M27: =N27+N28 -> 27433600 | N27: =26223800 -> 26223800 | O27: ОБ | AA27: =AB27+AB28 -> 27314300 | AB27: =26223800 -> 26223800 | AC27: ОБ | AO27: =AP27+AP28 -> 1596700 | AP27: 526900 | AQ27: ОБ
N28: 1209800 | O28: ФБ | AB28: 1090500 | AC28: ФБ | AP28: 1069800 | AQ28: ФБ

Sheet расчет точ
AM1: Приложение 45 к пояснительной записке 2023 г.
A2: Субсидии на обновление материально-технической базы для формирования у обучающихся современных технологических и гуманитарных навыков в целях реализации федерального проекта «Современная школа» 2023-2025
A3: № п\п | B3: Название муниципального района | C3: предельный уровень софинансирования, % | AJ3: В проект закона, руб | AM3: В проект закона, тыс. руб.
F4: 2023 год | P4: 2024 год | Z4: 2025 год
F5: Количество Центров в МР (ГО) | H5: ВСЕГО | I5: распределение | N5: проверка % софинансирования МБ | O5: средняя стоимость 1 объекта | P5: Количество Центров в МР (ГО) | R5: ВСЕГО | S5: распределение | X5: проверка % софинансирования МБ | Y5: средняя стоимость 1 объекта | Z5: Количество Центров в МР (ГО) | AB5: ВСЕГО | AC5: распределение | AH5: проверка % софинансирования МБ | AI5: средняя стоимость 1 объекта
C6: 2023 | D6: 2024 | E6: 2025 | I6: ФБ+ОБ+МБ | J6: ИТОГО ФБ+ОБ | K6: фб_по предельному уровню | L6: об_по предельному уровню | M6: мб_по предельному уровню | S6: ФБ+ОБ+МБ | T6: ИТОГО ФБ+ОБ | U6: фб_по предельному уровню | V6: об_по предельному уровню | W6: мб_по предельному уровню | AC6: ФБ+ОБ+МБ | AD6: ИТОГО ФБ+ОБ | AE6: фб_по предельному уровню | AF6: об_по рпедельному уровню | AG6: мб_по предельному уровню | AJ6: 2023 | AK6: 2024 | AL6: 2025 | AM6: 2023 | AN6: 2024 | AO6: 2025
A7: 1 | B7: Бокситогорский | C7: 0.89 | D7: 0.89 | E7: 0.9 | F7: 2 | G7: =C7*F7 -> 1.78 | H7: =K7+L7+M7 -> 3503269 | I7: =ROUND($H$33/$G$29*F7,2) -> 3503269 | J7: =K7+L7 -> 3117909.4 | K7: =ROUND((I7-M7)*(1-$H$35),2) -> 2088997.2 | L7: =ROUND((I7-M7)*$H$35,2)-0.01 -> 1028912.3 | M7: =ROUNDUP(I7*(1-C7),2)-0.01 -> 385359.59 | N7: =IF(I7=0,0,M7/I7) -> 0.11 | O7: =IF(F7=0,0,I7/F7) -> 1751634.5 | P7: 4 | Q7: =P7*D7 -> 3.56 | R7: =U7+V7+W7 -> 6703343.2 | S7: =ROUND($S$33/$Q$29*P7,2) -> 6703343.2 | T7: =U7+V7 -> 5965975.4 | U7: =ROUND((S7-W7)*(1-$S$35),2) -> 3997203.5 | V7: =ROUND((S7-W7)*$S$35,2) -> 1968771.9 | W7: =ROUND(S7*(1-D7),2)+0.01 -> 737367.76 | X7: =IF(S7=0,0,W7/S7) -> 0.11 | Y7: =IF(P7=0,0,S7/P7) -> 1675835.8 | AA7: =E7*Z7 -> 0 | AB7: =AE7+AF7+AG7 -> #DIV/0! | AC7: =ROUND($AC$33/$AA$29*Z7,2) -> #DIV/0! | AD7: =AE7+AF7 -> #DIV/0! | AE7: =ROUND((AC7-AG7)*(1-$AC$35),2) -> #DIV/0! | AF7: =ROUND((AC7-AG7)*$AC$35,2) -> #DIV/0! | AG7: =ROUNDUP(AC7*(1-E7),2) -> #DIV/0! | AH7: =IF(AC7=0,0,AG7/AC7) -> #DIV/0! | AI7: =IF(Z7=0,0,AC7/Z7) -> 0 | AJ7: =K7+L7 -> 3117909.4 | AK7: =U7+V7 -> 5965975.4 | AL7: - | AM7: =ROUND(AJ7/1000,1) -> 3117.9 | AN7: =ROUND(AK7/1000,1) -> 5966 | AO7: -
A8: 2 | B8: Волосовский | C8: 0.9 | D8: 0.9 | E8: 0.89 | F8: 1 | G8: =C8*F8 -> 0.9 | H8: =K8+L8+M8 -> 1751634.5 | I8: =ROUND($H$33/$G$29*F8,2) -> 1751634.5 | J8: =K8+L8 -> 1576471.1 | K8: =ROUND((I8-M8)*(1-$H$35),2) -> 1056234.5 | L8: =ROUND((I8-M8)*$H$35,2) -> 520236.55 | M8: =ROUNDUP(I8*(1-C8),2)-0.01 -> 175163.45 | N8: =IF(I8=0,0,M8/I8) -> 0.099999999 | O8: =IF(F8=0,0,I8/F8) -> 1751634.5 | P8: 6 | Q8: =P8*D8 -> 5.4 | R8: =U8+V8+W8 -> 10055015 | S8: =ROUND($S$33/$Q$29*P8,2) -> 10055015 | T8: =U8+V8 -> 9049513.3 | U8: =ROUND((S8-W8)*(1-$S$35),2) -> 6063173.9 | V8: =ROUND((S8-W8)*$S$35,2) -> 2986339.4 | W8: =ROUND(S8*(1-D8),2)+0.01 -> 1005501.5 | X8: =IF(S8=0,0,W8/S8) -> 0.1 | Y8: =IF(P8=0,0,S8/P8) -> 1675835.8 | AA8: =E8*Z8 -> 0 | AB8: =AE8+AF8+AG8 -> #DIV/0! | AC8: =ROUND($AC$33/$AA$29*Z8,2) -> #DIV/0! | AD8: =AE8+AF8 -> #DIV/0! | AE8: =ROUND((AC8-AG8)*(1-$AC$35),2) -> #DIV/0! | AF8: =ROUND((AC8-AG8)*$AC$35,2) -> #DIV/0! | AG8: =ROUNDUP(AC8*(1-E8),2) -> #DIV/0! | AH8: =IF(AC8=0,0,AG8/AC8) -> #DIV/0! | AI8: =IF(Z8=0,0,AC8/Z8) -> 0 | AJ8: =K8+L8 -> 1576471.1 | AK8: =U8+V8 -> 9049513.3 | AL8: - | AM8: =ROUND(AJ8/1000,1) -> 1576.5 | AN8: =ROUND(AK8/1000,1) -> 9049.5 | AO8: -
A9: 3 | B9: Волховский | C9: 0.9 | D9: 0.9 | E9: 0.9 | F9: 1 | G9: =C9*F9 -> 0.9 | H9: =K9+L9+M9 -> 1751634.5 | I9: =ROUND($H$33/$G$29*F9,2) -> 1751634.5 | J9: =K9+L9 -> 1576471.1 | K9: =ROUND((I9-M9)*(1-$H$35),2) -> 1056234.5 | L9: =ROUND((I9-M9)*$H$35,2) -> 520236.55 | M9: =ROUNDUP(I9*(1-C9),2)-0.01 -> 175163.45 | N9: =IF(I9=0,0,M9/I9) -> 0.099999999 | O9: =IF(F9=0,0,I9/F9) -> 1751634.5 | P9: 7 | Q9: =P9*D9 -> 6.3 | R9: =U9+V9+W9 -> 11730851 | S9: =ROUND($S$33/$Q$29*P9,2) -> 11730851 | T9: =U9+V9 -> 10557766 | U9: =ROUND((S9-W9)*(1-$S$35),2) -> 7073702.9 | V9: =ROUND((S9-W9)*$S$35,2) -> 3484062.6 | W9: =ROUND(S9*(1-D9),2)+0.01 -> 1173085.1 | X9: =IF(S9=0,0,W9/S9) -> 0.1 | Y9: =IF(P9=0,0,S9/P9) -> 1675835.8 | AA9: =E9*Z9 -> 0 | AB9: =AE9+AF9+AG9 -> #DIV/0! | AC9: =ROUND($AC$33/$AA$29*Z9,2) -> #DIV/0! | AD9: =AE9+AF9 -> #DIV/0! | AE9: =ROUND((AC9-AG9)*(1-$AC$35),2) -> #DIV/0! | AF9: =ROUND((AC9-AG9)*$AC$35,2) -> #DIV/0! | AG9: =ROUNDUP(AC9*(1-E9),2) -> #DIV/0! | AH9: =IF(AC9=0,0,AG9/AC9) -> #DIV/0! | AI9: =IF(Z9=0,0,AC9/Z9) -> 0 | AJ9: =K9+L9 -> 1576471.1 | AK9: =U9+V9 -> 10557766 | AL9: - | AM9: =ROUND(AJ9/1000,1) -> 1576.5 | AN9: =ROUND(AK9/1000,1) -> 10557.8 | AO9: -
A10: 4 | B10: Всеволожский | C10: 0.9 | D10: 0.9 | E10: 0.89 | F10: 1 | G10: =C10*F10 -> 0.9 | H10: =K10+L10+M10 -> 1751634.5 | I10: =ROUND($H$33/$G$29*F10,2) -> 1751634.5 | J10: =K10+L10 -> 1576471.1 | K10: =ROUND((I10-M10)*(1-$H$35),2) -> 1056234.5 | L10: =ROUND((I10-M10)*$H$35,2) -> 520236.55 | M10: =ROUNDUP(I10*(1-C10),2)-0.01 -> 175163.45 | N10: =IF(I10=0,0,M10/I10) -> 0.099999999 | O10: =IF(F10=0,0,I10/F10) -> 1751634.5 | P10: 15 | Q10: =P10*D10 -> 13.5 | R10: =U10+V10+W10 -> 25137537 | S10: =ROUND($S$33/$Q$29*P10,2) -> 25137537 | T10: =U10+V10 -> 22623783 | U10: =ROUND((S10-W10)*(1-$S$35),2) -> 15157935 | V10: =ROUND((S10-W10)*$S$35,2) -> 7465848.5 | W10: =ROUND(S10*(1-D10),2)+0.01 -> 2513753.7 | X10: =IF(S10=0,0,W10/S10) -> 0.1 | Y10: =IF(P10=0,0,S10/P10) -> 1675835.8 | AA10: =E10*Z10 -> 0 | AB10: =AE10+AF10+AG10 -> #DIV/0! | AC10: =ROUND($AC$33/$AA$29*Z10,2) -> #DIV/0! | AD10: =AE10+AF10 -> #DIV/0! | AE10: =ROUND((AC10-AG10)*(1-$AC$35),2) -> #DIV/0! | AF10: =ROUND((AC10-AG10)*$AC$35,2) -> #DIV/0! | AG10: =ROUNDUP(AC10*(1-E10),2) -> #DIV/0! | AH10: =IF(AC10=0,0,AG10/AC10) -> #DIV/0! | AI10: =IF(Z10=0,0,AC10/Z10) -> 0 | AJ10: =K10+L10 -> 1576471.1 | AK10: =U10+V10 -> 22623783 | AL10: - | AM10: =ROUND(AJ10/1000,1) -> 1576.5 | AN10: =ROUND(AK10/1000,1) -> 22623.8 | AO10: -
A11: 5 | B11: Выборгский | C11: 0.89 | D11: 0.89 | E11: 0.9 | F11: 1 | G11: =C11*F11 -> 0.89 | H11: =K11+L11+M11 -> 1751634.5 | I11: =ROUND($H$33/$G$29*F11,2) -> 1751634.5 | J11: =K11+L11 -> 1558954.7 | K11: =ROUND((I11-M11)*(1-$H$35),2) -> 1044498.6 | L11: =ROUND((I11-M11)*$H$35,2)-0.01 -> 514456.13 | M11: =ROUNDUP(I11*(1-C11),2) -> 192679.8 | N11: =IF(I11=0,0,M11/I11) -> 0.11 | O11: =IF(F11=0,0,I11/F11) -> 1751634.5 | P11: 12 | Q11: =P11*D11 -> 10.68 | R11: =U11+V11+W11 -> 20110030 | S11: =ROUND($S$33/$Q$29*P11,2) -> 20110030 | T11: =U11+V11 -> 17897926 | U11: =ROUND((S11-W11)*(1-$S$35),2) -> 11991611 | V11: =ROUND((S11-W11)*$S$35,2) -> 5906315.7 | W11: =ROUND(S11*(1-D11),2) -> 2212103.3 | X11: =IF(S11=0,0,W11/S11) -> 0.11 | Y11: =IF(P11=0,0,S11/P11) -> 1675835.8 | AA11: =E11*Z11 -> 0 | AB11: =AE11+AF11+AG11 -> #DIV/0! | AC11: =ROUND($AC$33/$AA$29*Z11,2) -> #DIV/0! | AD11: =AE11+AF11 -> #DIV/0! | AE11: =ROUND((AC11-AG11)*(1-$AC$35),2) -> #DIV/0! | AF11: =ROUND((AC11-AG11)*$AC$35,2) -> #DIV/0! | AG11: =ROUNDUP(AC11*(1-E11),2) -> #DIV/0! | AH11: =IF(AC11=0,0,AG11/AC11) -> #DIV/0! | AI11: =IF(Z11=0,0,AC11/Z11) -> 0 | AJ11: =K11+L11 -> 1558954.7 | AK11: =U11+V11 -> 17897926 | AL11: - | AM11: =ROUND(AJ11/1000,1) -> 1559 | AN11: =ROUND(AK11/1000,1)-0.1 -> 17897.8 | AO11: -
A12: 6 | B12: Гатчинский | C12: 0.87 | D12: 0.87 | E12: 0.87 | F12: 1 | G12: =C12*F12 -> 0.87 | H12: =K12+L12+M12 -> 1751634.5 | I12: =ROUND($H$33/$G$29*F12,2) -> 1751634.5 | J12: =K12+L12 -> 1523922 | K12: =ROUND((I12-M12)*(1-$H$35),2) -> 1021026.7 | L12: =ROUND((I12-M12)*$H$35,2) -> 502895.33 | M12: =ROUNDUP(I12*(1-C12),2) -> 227712.49 | N12: =IF(I12=0,0,M12/I12) -> 0.13 | O12: =IF(F12=0,0,I12/F12) -> 1751634.5 | P12: 8 | Q12: =P12*D12 -> 6.96 | R12: =U12+V12+W12 -> 13406686 | S12: =ROUND($S$33/$Q$29*P12,2) -> 13406686 | T12: =U12+V12 -> 11663817 | U12: =ROUND((S12-W12)*(1-$S$35),2) -> 7814757.5 | V12: =ROUND((S12-W12)*$S$35,2) -> 3849059.7 | W12: =ROUND(S12*(1-D12),2)+0.01 -> 1742869.2 | X12: =IF(S12=0,0,W12/S12) -> 0.13 | Y12: =IF(P12=0,0,S12/P12) -> 1675835.8 | AA12: =E12*Z12 -> 0 | AB12: =AE12+AF12+AG12 -> #DIV/0! | AC12: =ROUND($AC$33/$AA$29*Z12,2) -> #DIV/0! | AD12: =AE12+AF12 -> #DIV/0! | AE12: =ROUND((AC12-AG12)*(1-$AC$35),2) -> #DIV/0! | AF12: =ROUND((AC12-AG12)*$AC$35,2) -> #DIV/0! | AG12: =ROUNDUP(AC12*(1-E12),2) -> #DIV/0! | AH12: =IF(AC12=0,0,AG12/AC12) -> #DIV/0! | AI12: =IF(Z12=0,0,AC12/Z12) -> 0 | AJ12: =K12+L12 -> 1523922 | AK12: =U12+V12 -> 11663817 | AL12: - | AM12: =ROUND(AJ12/1000,1) -> 1523.9 | AN12: =ROUND(AK12/1000,1) -> 11663.8 | AO12: -
A13: 7 | B13: Кингисеппский | C13: 0.89 | D13: 0.9 | E13: 0.89 | F13: 2 | G13: =C13*F13 -> 1.78 | H13: =K13+L13+M13 -> 3503269 | I13: =ROUND($H$33/$G$29*F13,2) -> 3503269 | J13: =K13+L13 -> 3117909.4 | K13: =ROUND((I13-M13)*(1-$H$35),2)-0.01 -> 2088997.1 | L13: =ROUND((I13-M13)*$H$35,2)-0.01 -> 1028912.3 | M13: =ROUNDUP(I13*(1-C13),2)-0.01 -> 385359.59 | N13: =IF(I13=0,0,M13/I13) -> 0.11 | O13: =IF(F13=0,0,I13/F13) -> 1751634.5 | P13: 8 | Q13: =P13*D13 -> 7.2 | R13: =U13+V13+W13 -> 13406686 | S13: =ROUND($S$33/$Q$29*P13,2) -> 13406686 | T13: =U13+V13 -> 12066018 | U13: =ROUND((S13-W13)*(1-$S$35),2) -> 8084231.9 | V13: =ROUND((S13-W13)*$S$35,2) -> 3981785.9 | W13: =ROUND(S13*(1-D13),2)+0.01 -> 1340668.6 | X13: =IF(S13=0,0,W13/S13) -> 0.1 | Y13: =IF(P13=0,0,S13/P13) -> 1675835.8 | AA13: =E13*Z13 -> 0 | AB13: =AE13+AF13+AG13 -> #DIV/0! | AC13: =ROUND($AC$33/$AA$29*Z13,2) -> #DIV/0! | AD13: =AE13+AF13 -> #DIV/0! | AE13: =ROUND((AC13-AG13)*(1-$AC$35),2) -> #DIV/0! | AF13: =ROUND((AC13-AG13)*$AC$35,2) -> #DIV/0! | AG13: =ROUNDUP(AC13*(1-E13),2) -> #DIV/0! | AH13: =IF(AC13=0,0,AG13/AC13) -> #DIV/0! | AI13: =IF(Z13=0,0,AC13/Z13) -> 0 | AJ13: =K13+L13 -> 3117909.4 | AK13: =U13+V13 -> 12066018 | AL13: - | AM13: =ROUND(AJ13/1000,1) -> 3117.9 | AN13: =ROUND(AK13/1000,1) -> 12066 | AO13: -
A14: 8 | B14: Киришский | C14: 0.89 | D14: 0.9 | E14: 0.9 | F14: 0 | G14: =C14*F14 -> 0 | H14: =K14+L14+M14 -> 0 | I14: =ROUND($H$33/$G$29*F14,2) -> 0 | J14: =K14+L14 -> 0 | K14: =ROUND((I14-M14)*(1-$H$35),2) -> 0 | L14: =ROUND((I14-M14)*$H$35,2) -> 0 | M14: =ROUNDUP(I14*(1-C14),2) -> 0 | N14: =IF(I14=0,0,M14/I14) -> 0 | O14: =IF(F14=0,0,I14/F14) -> 0 | P14: 8 | Q14: =P14*D14 -> 7.2 | R14: =U14+V14+W14 -> 13406686 | S14: =ROUND($S$33/$Q$29*P14,2) -> 13406686 | T14: =U14+V14 -> 12066018 | U14: =ROUND((S14-W14)*(1-$S$35),2) -> 8084231.9 | V14: =ROUND((S14-W14)*$S$35,2) -> 3981785.9 | W14: =ROUND(S14*(1-D14),2)+0.01 -> 1340668.6 | X14: =IF(S14=0,0,W14/S14) -> 0.1 | Y14: =IF(P14=0,0,S14/P14) -> 1675835.8 | AA14: =E14*Z14 -> 0 | AB14: =AE14+AF14+AG14 -> #DIV/0! | AC14: =ROUND($AC$33/$AA$29*Z14,2) -> #DIV/0! | AD14: =AE14+AF14 -> #DIV/0! | AE14: =ROUND((AC14-AG14)*(1-$AC$35),2) -> #DIV/0! | AF14: =ROUND((AC14-AG14)*$AC$35,2) -> #DIV/0! | AG14: =ROUNDUP(AC14*(1-E14),2) -> #DIV/0! | AH14: =IF(AC14=0,0,AG14/AC14) -> #DIV/0! | AI14: =IF(Z14=0,0,AC14/Z14) -> 0 | AJ14: =K14+L14 -> 0 | AK14: =U14+V14 -> 12066018 | AL14: - | AM14: =ROUND(AJ14/1000,1) -> 0 | AN14: =ROUND(AK14/1000,1) -> 12066 | AO14: -
A15: 9 | B15: Кировский | C15: 0.9 | D15: 0.9 | E15: 0.89 | F15: 1 | G15: =C15*F15 -> 0.9 | H15: =K15+L15+M15 -> 1751634.5 | I15: =ROUND($H$33/$G$29*F15,2) -> 1751634.5 | J15: =K15+L15 -> 1576471.1 | K15: =ROUND((I15-M15)*(1-$H$35),2) -> 1056234.5 | L15: =ROUND((I15-M15)*$H$35,2) -> 520236.55 | M15: =ROUNDUP(I15*(1-C15),2)-0.01 -> 175163.45 | N15: =IF(I15=0,0,M15/I15) -> 0.099999999 | O15: =IF(F15=0,0,I15/F15) -> 1751634.5 | P15: 9 | Q15: =P15*D15 -> 8.1 | R15: =U15+V15+W15 -> 15082522 | S15: =ROUND($S$33/$Q$29*P15,2) -> 15082522 | T15: =U15+V15 -> 13574270 | U15: =ROUND((S15-W15)*(1-$S$35),2) -> 9094760.9 | V15: =ROUND((S15-W15)*$S$35,2) -> 4479509.1 | W15: =ROUND(S15*(1-D15),2)+0.01 -> 1508252.2 | X15: =IF(S15=0,0,W15/S15) -> 0.1 | Y15: =IF(P15=0,0,S15/P15) -> 1675835.8 | AA15: =E15*Z15 -> 0 | AB15: =AE15+AF15+AG15 -> #DIV/0! | AC15: =ROUND($AC$33/$AA$29*Z15,2) -> #DIV/0! | AD15: =AE15+AF15 -> #DIV/0! | AE15: =ROUND((AC15-AG15)*(1-$AC$35),2) -> #DIV/0! | AF15: =ROUND((AC15-AG15)*$AC$35,2) -> #DIV/0! | AG15: =ROUNDUP(AC15*(1-E15),2) -> #DIV/0! | AH15: =IF(AC15=0,0,AG15/AC15) -> #DIV/0! | AI15: =IF(Z15=0,0,AC15/Z15) -> 0 | AJ15: =K15+L15 -> 1576471.1 | AK15: =U15+V15 -> 13574270 | AL15: - | AM15: =ROUND(AJ15/1000,1) -> 1576.5 | AN15: =ROUND(AK15/1000,1) -> 13574.3 | AO15: -
A16: 10 | B16: Лодейнопольский | C16: 0.9 | D16: 0.89 | E16: 0.9 | F16: 1 | G16: =C16*F16 -> 0.9 | H16: =K16+L16+M16 -> 1751634.5 | I16: =ROUND($H$33/$G$29*F16,2) -> 1751634.5 | J16: =K16+L16 -> 1576471.1 | K16: =ROUND((I16-M16)*(1-$H$35),2) -> 1056234.5 | L16: =ROUND((I16-M16)*$H$35,2) -> 520236.55 | M16: =ROUNDUP(I16*(1-C16),2)-0.01 -> 175163.45 | N16: =IF(I16=0,0,M16/I16) -> 0.099999999 | O16: =IF(F16=0,0,I16/F16) -> 1751634.5 | P16: 1 | Q16: =P16*D16 -> 0.89 | R16: =U16+V16+W16 -> 1675835.8 | S16: =ROUND($S$33/$Q$29*P16,2) -> 1675835.8 | T16: =U16+V16 -> 1491493.9 | U16: =ROUND((S16-W16)*(1-$S$35),2) -> 999300.89 | V16: =ROUND((S16-W16)*$S$35,2) -> 492192.97 | W16: =ROUND(S16*(1-D16),2) -> 184341.94 | X16: =IF(S16=0,0,W16/S16) -> 0.11 | Y16: =IF(P16=0,0,S16/P16) -> 1675835.8 | AA16: =E16*Z16 -> 0 | AB16: =AE16+AF16+AG16 -> #DIV/0! | AC16: =ROUND($AC$33/$AA$29*Z16,2) -> #DIV/0! | AD16: =AE16+AF16 -> #DIV/0! | AE16: =ROUND((AC16-AG16)*(1-$AC$35),2) -> #DIV/0! | AF16: =ROUND((AC16-AG16)*$AC$35,2) -> #DIV/0! | AG16: =ROUNDUP(AC16*(1-E16),2) -> #DIV/0! | AH16: =IF(AC16=0,0,AG16/AC16) -> #DIV/0! | AI16: =IF(Z16=0,0,AC16/Z16) -> 0 | AJ16: =K16+L16 -> 1576471.1 | AK16: =U16+V16 -> 1491493.9 | AL16: - | AM16: =ROUND(AJ16/1000,1) -> 1576.5 | AN16: =ROUND(AK16/1000,1) -> 1491.5 | AO16: -
A17: 11 | B17: Ломоносовский | C17: 0.89 | D17: 0.89 | E17: 0.9 | F17: 1 | G17: =C17*F17 -> 0.89 | H17: =K17+L17+M17 -> 1751634.5 | I17: =ROUND($H$33/$G$29*F17,2) -> 1751634.5 | J17: =K17+L17 -> 1558954.7 | K17: =ROUND((I17-M17)*(1-$H$35),2) -> 1044498.6 | L17: =ROUND((I17-M17)*$H$35,2)-0.01 -> 514456.13 | M17: =ROUNDUP(I17*(1-C17),2) -> 192679.8 | N17: =IF(I17=0,0,M17/I17) -> 0.11 | O17: =IF(F17=0,0,I17/F17) -> 1751634.5 | P17: 9 | Q17: =P17*D17 -> 8.01 | R17: =U17+V17+W17 -> 15082522 | S17: =ROUND($S$33/$Q$29*P17,2) -> 15082522 | T17: =U17+V17 -> 13423445 | U17: =ROUND((S17-W17)*(1-$S$35),2) -> 8993708 | V17: =ROUND((S17-W17)*$S$35,2) -> 4429736.8 | W17: =ROUND(S17*(1-D17),2)+0.01 -> 1659077.4 | X17: =IF(S17=0,0,W17/S17) -> 0.11 | Y17: =IF(P17=0,0,S17/P17) -> 1675835.8 | AA17: =E17*Z17 -> 0 | AB17: =AE17+AF17+AG17 -> #DIV/0! | AC17: =ROUND($AC$33/$AA$29*Z17,2) -> #DIV/0! | AD17: =AE17+AF17 -> #DIV/0! | AE17: =ROUND((AC17-AG17)*(1-$AC$35),2) -> #DIV/0! | AF17: =ROUND((AC17-AG17)*$AC$35,2) -> #DIV/0! | AG17: =ROUNDUP(AC17*(1-E17),2) -> #DIV/0! | AH17: =IF(AC17=0,0,AG17/AC17) -> #DIV/0! | AI17: =IF(Z17=0,0,AC17/Z17) -> 0 | AJ17: =K17+L17 -> 1558954.7 | AK17: =U17+V17 -> 13423445 | AL17: - | AM17: =ROUND(AJ17/1000,1) -> 1559 | AN17: =ROUND(AK17/1000,1)-0.1 -> 13423.3 | AO17: -
A18: 12 | B18: Лужский | C18: 0.9 | D18: 0.9 | E18: 0.89 | F18: 1 | G18: =C18*F18 -> 0.9 | H18: =K18+L18+M18 -> 1751634.5 | I18: =ROUND($H$33/$G$29*F18,2) -> 1751634.5 | J18: =K18+L18 -> 1576471.1 | K18: =ROUND((I18-M18)*(1-$H$35),2) -> 1056234.5 | L18: =ROUND((I18-M18)*$H$35,2) -> 520236.55 | M18: =ROUNDUP(I18*(1-C18),2)-0.01 -> 175163.45 | N18: =IF(I18=0,0,M18/I18) -> 0.099999999 | O18: =IF(F18=0,0,I18/F18) -> 1751634.5 | P18: 8 | Q18: =P18*D18 -> 7.2 | R18: =U18+V18+W18 -> 13406686 | S18: =ROUND($S$33/$Q$29*P18,2) -> 13406686 | T18: =U18+V18 -> 12066018 | U18: =ROUND((S18-W18)*(1-$S$35),2) -> 8084231.9 | V18: =ROUND((S18-W18)*$S$35,2) -> 3981785.9 | W18: =ROUND(S18*(1-D18),2)+0.01 -> 1340668.6 | X18: =IF(S18=0,0,W18/S18) -> 0.1 | Y18: =IF(P18=0,0,S18/P18) -> 1675835.8 | AA18: =E18*Z18 -> 0 | AB18: =AE18+AF18+AG18 -> #DIV/0! | AC18: =ROUND($AC$33/$AA$29*Z18,2) -> #DIV/0! | AD18: =AE18+AF18 -> #DIV/0! | AE18: =ROUND((AC18-AG18)*(1-$AC$35),2) -> #DIV/0! | AF18: =ROUND((AC18-AG18)*$AC$35,2) -> #DIV/0! | AG18: =ROUNDUP(AC18*(1-E18),2) -> #DIV/0! | AH18: =IF(AC18=0,0,AG18/AC18) -> #DIV/0! | AI18: =IF(Z18=0,0,AC18/Z18) -> 0 | AJ18: =K18+L18 -> 1576471.1 | AK18: =U18+V18 -> 12066018 | AL18: - | AM18: =ROUND(AJ18/1000,1) -> 1576.5 | AN18: =ROUND(AK18/1000,1) -> 12066 | AO18: -
A19: 13 | B19: Подпорожский | C19: 0.9 | D19: 0.9 | E19: 0.9 | F19: 1 | G19: =C19*F19 -> 0.9 | H19: =K19+L19+M19 -> 1751634.5 | I19: =ROUND($H$33/$G$29*F19,2) -> 1751634.5 | J19: =K19+L19 -> 1576471.1 | K19: =ROUND((I19-M19)*(1-$H$35),2) -> 1056234.5 | L19: =ROUND((I19-M19)*$H$35,2) -> 520236.55 | M19: =ROUNDUP(I19*(1-C19),2)-0.01 -> 175163.45 | N19: =IF(I19=0,0,M19/I19) -> 0.099999999 | O19: =IF(F19=0,0,I19/F19) -> 1751634.5 | P19: 2 | Q19: =P19*D19 -> 1.8 | R19: =U19+V19+W19 -> 3351671.6 | S19: =ROUND($S$33/$Q$29*P19,2) -> 3351671.6 | T19: =U19+V19 -> 3016504.4 | U19: =ROUND((S19-W19)*(1-$S$35),2) -> 2021058 | V19: =ROUND((S19-W19)*$S$35,2) -> 995446.47 | W19: =ROUND(S19*(1-D19),2) -> 335167.16 | X19: =IF(S19=0,0,W19/S19) -> 0.1 | Y19: =IF(P19=0,0,S19/P19) -> 1675835.8 | AA19: =E19*Z19 -> 0 | AB19: =AE19+AF19+AG19 -> #DIV/0! | AC19: =ROUND($AC$33/$AA$29*Z19,2) -> #DIV/0! | AD19: =AE19+AF19 -> #DIV/0! | AE19: =ROUND((AC19-AG19)*(1-$AC$35),2) -> #DIV/0! | AF19: =ROUND((AC19-AG19)*$AC$35,2) -> #DIV/0! | AG19: =ROUNDUP(AC19*(1-E19),2) -> #DIV/0! | AH19: =IF(AC19=0,0,AG19/AC19) -> #DIV/0! | AI19: =IF(Z19=0,0,AC19/Z19) -> 0 | AJ19: =K19+L19 -> 1576471.1 | AK19: =U19+V19 -> 3016504.4 | AL19: - | AM19: =ROUND(AJ19/1000,1) -> 1576.5 | AN19: =ROUND(AK19/1000,1) -> 3016.5 | AO19: -
A20: 14 | B20: Приозерский | C20: 0.89 | D20: 0.89 | E20: 0.89 | F20: 1 | G20: =C20*F20 -> 0.89 | H20: =K20+L20+M20 -> 1751634.5 | I20: =ROUND($H$33/$G$29*F20,2) -> 1751634.5 | J20: =K20+L20 -> 1558954.7 | K20: =ROUND((I20-M20)*(1-$H$35),2) -> 1044498.6 | L20: =ROUND((I20-M20)*$H$35,2)-0.01 -> 514456.13 | M20: =ROUNDUP(I20*(1-C20),2) -> 192679.8 | N20: =IF(I20=0,0,M20/I20) -> 0.11 | O20: =IF(F20=0,0,I20/F20) -> 1751634.5 | P20: 12 | Q20: =P20*D20 -> 10.68 | R20: =U20+V20+W20 -> 20110030 | S20: =ROUND($S$33/$Q$29*P20,2) -> 20110030 | T20: =U20+V20 -> 17897926 | U20: =ROUND((S20-W20)*(1-$S$35),2) -> 11991611 | V20: =ROUND((S20-W20)*$S$35,2) -> 5906315.7 | W20: =ROUND(S20*(1-D20),2) -> 2212103.3 | X20: =IF(S20=0,0,W20/S20) -> 0.11 | Y20: =IF(P20=0,0,S20/P20) -> 1675835.8 | AA20: =E20*Z20 -> 0 | AB20: =AE20+AF20+AG20 -> #DIV/0! | AC20: =ROUND($AC$33/$AA$29*Z20,2) -> #DIV/0! | AD20: =AE20+AF20 -> #DIV/0! | AE20: =ROUND((AC20-AG20)*(1-$AC$35),2) -> #DIV/0! | AF20: =ROUND((AC20-AG20)*$AC$35,2) -> #DIV/0! | AG20: =ROUNDUP(AC20*(1-E20),2) -> #DIV/0! | AH20: =IF(AC20=0,0,AG20/AC20) -> #DIV/0! | AI20: =IF(Z20=0,0,AC20/Z20) -> 0 | AJ20: =K20+L20 -> 1558954.7 | AK20: =U20+V20 -> 17897926 | AL20: - | AM20: =ROUND(AJ20/1000,1) -> 1559 | AN20: =ROUND(AK20/1000,1)-0.1 -> 17897.8 | AO20: -
A21: 15 | B21: Сланцевский | C21: 0.9 | D21: 0.89 | E21: 0.88 | F21: 2 | G21: =C21*F21 -> 1.8 | H21: =K21+L21+M21 -> 3503269 | I21: =ROUND($H$33/$G$29*F21,2) -> 3503269 | J21: =K21+L21 -> 3152942.1 | K21: =ROUND((I21-M21)*(1-$H$35),2) -> 2112469 | L21: =ROUND((I21-M21)*$H$35,2) -> 1040473.1 | M21: =ROUNDUP(I21*(1-C21),2)-0.01 -> 350326.9 | N21: =IF(I21=0,0,M21/I21) -> 0.099999999 | O21: =IF(F21=0,0,I21/F21) -> 1751634.5 | P21: 1 | Q21: =P21*D21 -> 0.89 | R21: =U21+V21+W21 -> 1675835.8 | S21: =ROUND($S$33/$Q$29*P21,2) -> 1675835.8 | T21: =U21+V21 -> 1491493.9 | U21: =ROUND((S21-W21)*(1-$S$35),2) -> 999300.89 | V21: =ROUND((S21-W21)*$S$35,2) -> 492192.97 | W21: =ROUND(S21*(1-D21),2) -> 184341.94 | X21: =IF(S21=0,0,W21/S21) -> 0.11 | Y21: =IF(P21=0,0,S21/P21) -> 1675835.8 | AA21: =E21*Z21 -> 0 | AB21: =AE21+AF21+AG21 -> #DIV/0! | AC21: =ROUND($AC$33/$AA$29*Z21,2) -> #DIV/0! | AD21: =AE21+AF21 -> #DIV/0! | AE21: =ROUND((AC21-AG21)*(1-$AC$35),2) -> #DIV/0! | AF21: =ROUND((AC21-AG21)*$AC$35,2) -> #DIV/0! | AG21: =ROUNDUP(AC21*(1-E21),2) -> #DIV/0! | AH21: =IF(AC21=0,0,AG21/AC21) -> #DIV/0! | AI21: =IF(Z21=0,0,AC21/Z21) -> 0 | AJ21: =K21+L21 -> 3152942.1 | AK21: =U21+V21 -> 1491493.9 | AL21: - | AM21: =ROUND(AJ21/1000,1) -> 3152.9 | AN21: =ROUND(AK21/1000,1) -> 1491.5 | AO21: -
A22: 16 | B22: Тихвинский | C22: 0.9 | D22: 0.91 | E22: 0.91 | F22: 1 | G22: =C22*F22 -> 0.9 | H22: =K22+L22+M22 -> 1751634.5 | I22: =ROUND($H$33/$G$29*F22,2) -> 1751634.5 | J22: =K22+L22 -> 1576471.1 | K22: =ROUND((I22-M22)*(1-$H$35),2) -> 1056234.5 | L22: =ROUND((I22-M22)*$H$35,2) -> 520236.55 | M22: =ROUNDUP(I22*(1-C22),2)-0.01 -> 175163.45 | N22: =IF(I22=0,0,M22/I22) -> 0.099999999 | O22: =IF(F22=0,0,I22/F22) -> 1751634.5 | P22: 10 | Q22: =P22*D22 -> 9.1 | R22: =U22+V22+W22 -> 16758358 | S22: =ROUND($S$33/$Q$29*P22,2) -> 16758358 | T22: =U22+V22 -> 15250106 | U22: =ROUND((S22-W22)*(1-$S$35),2) -> 10217571 | V22: =ROUND((S22-W22)*$S$35,2) -> 5032534.9 | W22: =ROUND(S22*(1-D22),2)+0.01 -> 1508252.2 | X22: =IF(S22=0,0,W22/S22) -> 0.09 | Y22: =IF(P22=0,0,S22/P22) -> 1675835.8 | AA22: =E22*Z22 -> 0 | AB22: =AE22+AF22+AG22 -> #DIV/0! | AC22: =ROUND($AC$33/$AA$29*Z22,2) -> #DIV/0! | AD22: =AE22+AF22 -> #DIV/0! | AE22: =ROUND((AC22-AG22)*(1-$AC$35),2) -> #DIV/0! | AF22: =ROUND((AC22-AG22)*$AC$35,2) -> #DIV/0! | AG22: =ROUNDUP(AC22*(1-E22),2) -> #DIV/0! | AH22: =IF(AC22=0,0,AG22/AC22) -> #DIV/0! | AI22: =IF(Z22=0,0,AC22/Z22) -> 0 | AJ22: =K22+L22 -> 1576471.1 | AK22: =U22+V22 -> 15250106 | AL22: - | AM22: =ROUND(AJ22/1000,1) -> 1576.5 | AN22: =ROUND(AK22/1000,1) -> 15250.1 | AO22: -
A23: 17 | B23: Тосненский | C23: 0.9 | D23: 0.89 | E23: 0.89 | F23: 4 | G23: =C23*F23 -> 3.6 | H23: =K23+L23+M23 -> 7006538.1 | I23: =ROUND($H$33/$G$29*F23,2) -> 7006538.1 | J23: =K23+L23 -> 6305884.3 | K23: =ROUND((I23-M23)*(1-$H$35),2)-0.02 -> 4224938.1 | L23: =ROUND((I23-M23)*$H$35,2)+0.03 -> 2080946.2 | M23: =ROUNDUP(I23*(1-C23),2) -> 700653.81 | N23: =IF(I23=0,0,M23/I23) -> 0.1 | O23: =IF(F23=0,0,I23/F23) -> 1751634.5 | P23: 12 | Q23: =P23*D23 -> 10.68 | R23: =U23+V23+W23 -> 20110030 | S23: =ROUND($S$33/$Q$29*P23,2) -> 20110030 | T23: =U23+V23 -> 17897926 | U23: =ROUND((S23-W23)*(1-$S$35),2)+0.06 -> 11991611 | V23: =ROUND((S23-W23)*$S$35,2)+0.03 -> 5906315.7 | W23: =ROUND(S23*(1-D23),2) -> 2212103.3 | X23: =IF(S23=0,0,W23/S23) -> 0.11 | Y23: =IF(P23=0,0,S23/P23) -> 1675835.8 | AA23: =E23*Z23 -> 0 | AB23: =AE23+AF23+AG23 -> #DIV/0! | AC23: =ROUND($AC$33/$AA$29*Z23,2) -> #DIV/0! | AD23: =AE23+AF23 -> #DIV/0! | AE23: =ROUND((AC23-AG23)*(1-$AC$35),2)+0.06 -> #DIV/0! | AF23: =ROUND((AC23-AG23)*$AC$35,2)+0.03 -> #DIV/0! | AG23: =ROUNDUP(AC23*(1-E23),2) -> #DIV/0! | AH23: =IF(AC23=0,0,AG23/AC23) -> #DIV/0! | AI23: =IF(Z23=0,0,AC23/Z23) -> 0 | AJ23: =K23+L23 -> 6305884.3 | AK23: =U23+V23 -> 17897926 | AL23: - | AM23: =ROUND(AJ23/1000,1) -> 6305.9 | AN23: =ROUND(AK23/1000,1) -> 17897.9 | AO23: -
A24: 18 | B24: Сосновоборский | C24: 0.77 | D24: 0.76 | E24: 0.78 | G24: =C24*F24 -> 0 | H24: =K24+L24+M24 -> 0 | I24: =ROUND($H$33/$G$29*F24,2) -> 0 | J24: =K24+L24 -> 0 | K24: =ROUND((I24-M24)*(1-$H$35),2) -> 0 | L24: =ROUND((I24-M24)*$H$35,2) -> 0 | M24: =ROUNDUP(I24*(1-C24),2) -> 0 | N24: =IF(I24=0,0,M24/I24) -> 0 | O24: =IF(F24=0,0,I24/F24) -> 0 | Q24: =P24*D24 -> 0 | R24: =U24+V24+W24 -> 0 | S24: =ROUND($S$33/$Q$29*P24,2) -> 0 | T24: =U24+V24 -> 0 | U24: =ROUND((S24-W24)*(1-$S$35),2) -> 0 | V24: =ROUND((S24-W24)*$S$35,2) -> 0 | W24: =ROUND(S24*(1-D24),2) -> 0 | X24: =IF(S24=0,0,W24/S24) -> 0 | Y24: =IF(P24=0,0,S24/P24) -> 0 | AA24: =E24*Z24 -> 0 | AB24: =AE24+AF24+AG24 -> #DIV/0! | AC24: =ROUND($AC$33/$AA$29*Z24,2) -> #DIV/0! | AD24: =AE24+AF24 -> #DIV/0! | AE24: =ROUND((AC24-AG24)*(1-$AC$35),2) -> #DIV/0! | AF24: =ROUND((AC24-AG24)*$AC$35,2) -> #DIV/0! | AG24: =ROUNDUP(AC24*(1-E24),2) -> #DIV/0! | AH24: =IF(AC24=0,0,AG24/AC24) -> #DIV/0! | AI24: =IF(Z24=0,0,AC24/Z24) -> 0 | AJ24: =K24+L24 -> 0 | AK24: =U24+V24 -> 0 | AL24: - | AM24: =ROUND(AJ24/1000,1) -> 0 | AN24: =ROUND(AK24/1000,1) -> 0 | AO24: -
B25: Всего по МР (ГО) | F25: =SUM(F7:F24) -> 22 | G25: =SUM(G7:G24) -> 19.7 | H25: =SUM(H7:H24) -> 38535959 | I25: =SUM(I7:I24) -> 38535959 | J25: =SUM(J7:J24) -> 34507200 | K25: =SUM(K7:K24) -> 23119800 | L25: =SUM(L7:L24) -> 11387400 | M25: =SUM(M7:M24) -> 4028759.4 | N25: =IF(I25=0,0,M25/I25) -> 0.10454545 | O25: =IF(F25=0,0,I25/F25) -> 1751634.5 | P25: =SUM(P7:P24) -> 132 | Q25: =SUM(Q7:Q24) -> 118.15 | R25: =SUM(R7:R24) -> 2.2121033e+08 | S25: =SUM(S7:S24) -> 2.2121033e+08 | T25: =SUM(T7:T24) -> 198000000 | U25: =SUM(U7:U24) -> 1.3266e+08 | V25: =SUM(V7:V24) -> 65340000 | W25: =SUM(W7:W24) -> 23210326 | X25: =IF(S25=0,0,W25/S25) -> 0.10492424 | Y25: =IF(P25=0,0,S25/P25) -> 1675835.8 | Z25: =SUM(Z7:Z24) -> 0 | AA25: =SUM(AA7:AA24) -> 0 | AB25: =SUM(AB7:AB24) -> #DIV/0! | AC25: =SUM(AC7:AC24) -> #DIV/0! | AD25: =SUM(AD7:AD24) -> #DIV/0! | AE25: =SUM(AE7:AE24) -> #DIV/0! | AF25: =SUM(AF7:AF24) -> #DIV/0! | AG25: =SUM(AG7:AG24) -> #DIV/0! | AH25: =IF(AC25=0,0,AG25/AC25) -> #DIV/0! | AI25: =IF(Z25=0,0,AC25/Z25) -> 0 | AJ25: =SUM(AJ7:AJ24) -> 34507200 | AK25: =SUM(AK7:AK24) -> 198000000 | AL25: - | AM25: =SUM(AM7:AM24) -> 34507.5 | AN25: =SUM(AN7:AN24) -> 197999.6 | AO25: -
A26: 0702 | B26: ГУ | G26: =C26*F26 -> 0 | H26: =K26+L26+M26 -> 0 | I26: =ROUND($H$33/$G$29*F26,2) -> 0 | J26: =K26+L26 -> 0 | K26: =ROUND((I26-M26)*(1-$H$35),2) -> 0 | L26: =ROUND((I26-M26)*$H$35,2) -> 0 | M26: =ROUNDUP(I26*(1-C26),2) -> 0 | N26: =IF(I26=0,0,M26/I26) -> 0 | O26: =IF(F26=0,0,I26/F26) -> 0 | Q26: =P26*D26 -> 0 | R26: =U26+V26+W26 -> 0 | S26: =ROUND($S$33/$Q$29*P26,2) -> 0 | T26: =U26+V26 -> 0 | U26: =ROUND((S26-W26)*(1-$S$35),2) -> 0 | V26: =ROUND((S26-W26)*$S$35,2) -> 0 | W26: =ROUND(S26*(1-D26),2) -> 0 | X26: =IF(S26=0,0,W26/S26) -> 0 | Y26: =IF(P26=0,0,S26/P26) -> 0 | AB26: =AE26+AF26+AG26 -> #DIV/0! | AC26: =ROUND($AC$33/$AA$29*Z26,2) -> #DIV/0! | AD26: =AE26+AF26 -> #DIV/0! | AE26: =ROUND((AC26-AG26)*(1-$AC$35),2) -> #DIV/0! | AF26: =ROUND((AC26-AG26)*$AC$35,2) -> #DIV/0! | AG26: =ROUNDUP(AC26*(1-E26),2) -> #DIV/0! | AH26: =IF(AC26=0,0,AG26/AC26) -> #DIV/0! | AI26: =IF(Z26=0,0,AC26/Z26) -> 0 | AJ26: =K26+L26 -> 0 | AK26: =U26+V26 -> 0 | AL26: - | AM26: =ROUND(AJ26/1000,1) -> 0 | AN26: =ROUND(AK26/1000,1) -> 0 | AO26: -
A27: 0703 | B27: ГУ | G27: =C27*F27 -> 0 | H27: =K27+L27+M27 -> 0 | I27: =ROUND($H$33/$G$29*F27,2) -> 0 | J27: =K27+L27 -> 0 | K27: =ROUND((I27-M27)*(1-$H$35),2) -> 0 | L27: =ROUND((I27-M27)*$H$35,2) -> 0 | M27: =ROUNDUP(I27*(1-C27),2) -> 0 | N27: =IF(I27=0,0,M27/I27) -> 0 | O27: =IF(F27=0,0,I27/F27) -> 0 | Q27: =P27*D27 -> 0 | R27: =U27+V27+W27 -> 0 | S27: =ROUND($S$33/$Q$29*P27,2) -> 0 | T27: =U27+V27 -> 0 | U27: =ROUND((S27-W27)*(1-$S$35),2) -> 0 | V27: =ROUND((S27-W27)*$S$35,2) -> 0 | W27: =ROUND(S27*(1-D27),2) -> 0 | X27: =IF(S27=0,0,W27/S27) -> 0 | Y27: =IF(P27=0,0,S27/P27) -> 0 | AB27: =AE27+AF27+AG27 -> #DIV/0! | AC27: =ROUND($AC$33/$AA$29*Z27,2) -> #DIV/0! | AD27: =AE27+AF27 -> #DIV/0! | AE27: =ROUND((AC27-AG27)*(1-$AC$35),2) -> #DIV/0! | AF27: =ROUND((AC27-AG27)*$AC$35,2) -> #DIV/0! | AG27: =ROUNDUP(AC27*(1-E27),2) -> #DIV/0! | AH27: =IF(AC27=0,0,AG27/AC27) -> #DIV/0! | AI27: =IF(Z27=0,0,AC27/Z27) -> 0 | AJ27: =K27+L27 -> 0 | AK27: =U27+V27 -> 0 | AL27: - | AM27: =ROUND(AJ27/1000,1) -> 0 | AN27: =ROUND(AK27/1000,1) -> 0 | AO27: -
A28: 0704 | B28: ГУ | G28: =C28*F28 -> 0 | H28: =K28+L28+M28 -> 0 | I28: =ROUND($H$33/$G$29*F28,2) -> 0 | J28: =K28+L28 -> 0 | K28: =ROUND((I28-M28)*(1-$H$35),2) -> 0 | L28: =ROUND((I28-M28)*$H$35,2) -> 0 | M28: =ROUNDUP(I28*(1-C28),2) -> 0 | N28: =IF(I28=0,0,M28/I28) -> 0 | O28: =IF(F28=0,0,I28/F28) -> 0 | Q28: =P28*D28 -> 0 | R28: =U28+V28+W28 -> 0 | S28: =ROUND($S$33/$Q$29*P28,2) -> 0 | T28: =U28+V28 -> 0 | U28: =ROUND((S28-W28)*(1-$S$35),2) -> 0 | V28: =ROUND((S28-W28)*$S$35,2) -> 0 | W28: =ROUND(S28*(1-D28),2) -> 0 | X28: =IF(S28=0,0,W28/S28) -> 0 | Y28: =IF(P28=0,0,S28/P28) -> 0 | AB28: =AE28+AF28+AG28 -> #DIV/0! | AC28: =ROUND($AC$33/$AA$29*Z28,2) -> #DIV/0! | AD28: =AE28+AF28 -> #DIV/0! | AE28: =ROUND((AC28-AG28)*(1-$AC$35),2) -> #DIV/0! | AF28: =ROUND((AC28-AG28)*$AC$35,2) -> #DIV/0! | AG28: =ROUNDUP(AC28*(1-E28),2) -> #DIV/0! | AH28: =IF(AC28=0,0,AG28/AC28) -> #DIV/0! | AI28: =IF(Z28=0,0,AC28/Z28) -> 0 | AJ28: =K28+L28 -> 0 | AK28: =U28+V28 -> 0 | AL28: - | AM28: =ROUND(AJ28/1000,1) -> 0 | AN28: =ROUND(AK28/1000,1) -> 0 | AO28: -
B29: Итого | F29: =F25+F26+F27+F28 -> 22 | G29: =G25+G26+G27+G28 -> 19.7 | H29: =H25+H26+H27+H28 -> 38535959 | I29: =I25+I26+I27+I28 -> 38535959 | J29: =J25+J26+J27+J28 -> 34507200 | K29: =K25+K26+K27+K28 -> 23119800 | L29: =L25+L26+L27+L28 -> 11387400 | M29: =M25+M26+M27+M28 -> 4028759.4 | N29: =IF(I29=0,0,M29/I29) -> 0.10454545 | O29: =IF(F29=0,0,I29/F29) -> 1751634.5 | P29: =P25+P26+P27+P28 -> 132 | Q29: =Q25+Q26+Q27+Q28 -> 118.15 | R29: =R25+R26+R27+R28 -> 2.2121033e+08 | S29: =S25+S26+S27+S28 -> 2.2121033e+08 | T29: =T25+T26+T27+T28 -> 198000000 | U29: =U25+U26+U27+U28 -> 1.3266e+08 | V29: =V25+V26+V27+V28 -> 65340000 | W29: =W25+W26+W27+W28 -> 23210326 | X29: =IF(S29=0,0,W29/S29) -> 0.10492424 | Y29: =IF(P29=0,0,S29/P29) -> 1675835.8 | Z29: =Z25+Z26+Z27+Z28 -> 0 | AA29: =AA25+AA26+AA27+AA28 -> 0 | AB29: =AB25+AB26+AB27+AB28 -> #DIV/0! | AC29: =AC25+AC26+AC27+AC28 -> #DIV/0! | AD29: =AD25+AD26+AD27+AD28 -> #DIV/0! | AE29: =AE25+AE26+AE27+AE28 -> #DIV/0! | AF29: =AF25+AF26+AF27+AF28 -> #DIV/0! | AG29: =AG25+AG26+AG27+AG28 -> #DIV/0! | AH29: =IF(AC29=0,0,AG29/AC29) -> #DIV/0! | AI29: =IF(Z29=0,0,AC29/Z29) -> 0 | AJ29: =AJ25+AJ26+AJ27+AJ28 -> 34507200 | AK29: =AK25+AK26+AK27+AK28 -> 198000000 | AL29: - | AM29: =AM25+AM26+AM27+AM28 -> 34507.5 | AN29: =AN25+AN26+AN27+AN28 -> 197999.6 | AO29: -
AM30: =ROUND(AJ30/1000,1) -> 0 | AN30: =ROUND(AK30/1000,1) -> 0 | AO30: =ROUND(AL30/1000,1) -> 0
G31: ФБ | H31: 23119800 | I31: =H31-K29 -> 0 | S31: 132660000 | T31: =S31-U29 -> 0 | AC31: 132660000 | AD31: =AC31-AE29 -> #DIV/0!
G32: ОБ | H32: 11387400 | I32: =H32-L29 -> 0 | S32: 65340000 | T32: =S32-V29 -> 0 | AC32: 65340000 | AD32: =AC32-AF29 -> #DIV/0!
G33: ФБ+ОБ | H33: =SUM(H31:H32) -> 34507200 | S33: =SUM(S31:S32) -> 198000000 | AC33: =SUM(AC31:AC32) -> 198000000
H35: =H32/H33 -> 0.3300007 | S35: =S32/S33 -> 0.33 | AC35: =AC32/AC33 -> 0.33

Sheet расчет спорт в бюджет
C1: Субсидии бюджетам муниципальных образований Ленинградской области на создание в общеобразовательных организациях, расположенных в сельской местности, условий для занятий физической культурой и спортом на 2023 год и на плановый период 2024 и 2025 годов
A2: № п\п | B2: Название муниципального района | C2: предельный уровень софинансирования, % | F2: Создание условий для занятий физкультурой и спортом в общеобразовательных организациях, расположенных в сельской местности - 52020210 | AJ2: В проект закона, руб | AM2: В проект закона, тыс. руб.
F3: 2023 год | P3: 2024 год | Z3: 2025 год
F4: Количество Центров в МР (ГО) | H4: ВСЕГО | I4: распределение | N4: проверка % софинансирования МБ | O4: средняя стоимость 1 объекта | P4: Количество Центров в МР (ГО) | R4: ВСЕГО | S4: распределение | X4: проверка % софинансирования МБ | Y4: средняя стоимость 1 объекта | Z4: Количество Центров в МР (ГО) | AB4: ВСЕГО | AC4: распределение | AH4: проверка % софинансирования МБ | AI4: средняя стоимость 1 объекта
C5: =+'расчет точ'!C6 -> 2023 | D5: =+'расчет точ'!D6 -> 2024 | E5: =+'расчет точ'!E6 -> 2025 | I5: ФБ+ОБ+МБ | J5: ИТОГО ФБ+ОБ | K5: фб_по предельному уровню | L5: об_по предельному уровню | M5: мб_по предельному уровню | S5: ФБ+ОБ+МБ | T5: ИТОГО ФБ+ОБ | U5: фб_по предельному уровню | V5: об_по предельному уровню | W5: мб_по предельному уровню | AC5: ФБ+ОБ+МБ | AD5: ИТОГО ФБ+ОБ | AE5: фб_по предельному уровню | AF5: об_по рпедельному уровню | AG5: мб_по предельному уровню | AJ5: 2023 | AK5: 2024 | AL5: 2025 | AM5: 2023 | AN5: 2024 | AO5: 2025
A6: 1 | B6: Бокситогорский | C6: =+'расчет точ'!C7 -> 0.89 | D6: =+'расчет точ'!D7 -> 0.89 | E6: =+'расчет точ'!E7 -> 0.9 | F6: 2 | G6: =C6*F6 -> 1.78 | H6: =K6+L6+M6 -> 225019.99 | I6: =ROUND($H$32/$G$28*F6,2) -> 225019.98 | J6: =K6+L6 -> 200267.79 | K6: =ROUND((I6-M6)*(1-$H$34),2) -> 125297.2 | L6: =ROUND((I6-M6)*$H$34,2)+0.01 -> 74970.59 | M6: =ROUNDUP(I6*(1-C6),2) -> 24752.2 | N6: =IF(I6=0,0,M6/I6) -> 0.11000001 | O6: =IF(F6=0,0,I6/F6) -> 112509.99 | P6: 1 | Q6: =P6*D6 -> 0.89 | R6: =U6+V6+W6 -> 118699.07 | S6: =ROUND($S$32/$Q$28*P6,2) -> 118699.07 | T6: =U6+V6 -> 105642.17 | U6: =ROUND((S6-W6)*(1-$S$34),2) -> 70780.25 | V6: =ROUND((S6-W6)*$S$34,2) -> 34861.92 | W6: =ROUND(S6*(1-D6),2) -> 13056.9 | X6: =IF(S6=0,0,W6/S6) -> 0.11000002 | Y6: =IF(P6=0,0,S6/P6) -> 118699.07 | AA6: =E6*Z6 -> 0 | AB6: =AE6+AF6+AG6 -> 0 | AC6: =ROUND($AC$32/$AA$28*Z6,2) -> #DIV/0! | AD6: =AE6+AF6 -> 0 | AH6: =IF(AC6=0,0,AG6/AC6) -> #DIV/0! | AI6: =IF(Z6=0,0,AC6/Z6) -> 0 | AJ6: =K6+L6 -> 200267.79 | AK6: =U6+V6 -> 105642.17 | AL6: =AE6+AF6 -> 0 | AM6: =ROUND(AJ6/1000,1) -> 200.3 | AN6: =ROUND(AK6/1000,1) -> 105.6 | AO6: =ROUND(AL6/1000,1) -> 0
A7: 2 | B7: Волосовский | C7: =+'расчет точ'!C8 -> 0.9 | D7: =+'расчет точ'!D8 -> 0.9 | E7: =+'расчет точ'!E8 -> 0.89 | G7: =C7*F7 -> 0 | H7: =K7+L7+M7 -> 0 | I7: =ROUND($H$32/$G$28*F7,2) -> 0 | J7: =K7+L7 -> 0 | K7: =ROUND((I7-M7)*(1-$H$34),2) -> 0 | L7: =ROUND((I7-M7)*$H$34,2) -> 0 | M7: =ROUNDUP(I7*(1-C7),2) -> 0 | N7: =IF(I7=0,0,M7/I7) -> 0 | O7: =IF(F7=0,0,I7/F7) -> 0 | Q7: =P7*D7 -> 0 | R7: =U7+V7+W7 -> 0 | S7: =ROUND($S$32/$Q$28*P7,2) -> 0 | T7: =U7+V7 -> 0 | U7: =ROUND((S7-W7)*(1-$S$34),2) -> 0 | V7: =ROUND((S7-W7)*$S$34,2) -> 0 | W7: =ROUND(S7*(1-D7),2) -> 0 | X7: =IF(S7=0,0,W7/S7) -> 0 | Y7: =IF(P7=0,0,S7/P7) -> 0 | AA7: =E7*Z7 -> 0 | AB7: =AE7+AF7+AG7 -> 0 | AC7: =ROUND($AC$32/$AA$28*Z7,2) -> #DIV/0! | AD7: =AE7+AF7 -> 0 | AH7: =IF(AC7=0,0,AG7/AC7) -> #DIV/0! | AI7: =IF(Z7=0,0,AC7/Z7) -> 0 | AJ7: =K7+L7 -> 0 | AK7: =U7+V7 -> 0 | AL7: =AE7+AF7 -> 0 | AM7: =ROUND(AJ7/1000,1) -> 0 | AN7: =ROUND(AK7/1000,1) -> 0 | AO7: =ROUND(AL7/1000,1) -> 0
A8: 3 | B8: Волховский | C8: =+'расчет точ'!C9 -> 0.9 | D8: =+'расчет точ'!D9 -> 0.9 | E8: =+'расчет точ'!E9 -> 0.9 | F8: 1 | G8: =C8*F8 -> 0.9 | H8: =K8+L8+M8 -> 112509.99 | I8: =ROUND($H$32/$G$28*F8,2) -> 112509.99 | J8: =K8+L8 -> 101258.99 | K8: =ROUND((I8-M8)*(1-$H$34),2) -> 63352.52 | L8: =ROUND((I8-M8)*$H$34,2) -> 37906.47 | M8: =ROUNDUP(I8*(1-C8),2) -> 11251 | N8: =IF(I8=0,0,M8/I8) -> 0.10000001 | O8: =IF(F8=0,0,I8/F8) -> 112509.99 | P8: 1 | Q8: =P8*D8 -> 0.9 | R8: =U8+V8+W8 -> 118699.07 | S8: =ROUND($S$32/$Q$28*P8,2) -> 118699.07 | T8: =U8+V8 -> 106829.16 | U8: =ROUND((S8-W8)*(1-$S$34),2) -> 71575.54 | V8: =ROUND((S8-W8)*$S$34,2) -> 35253.62 | W8: =ROUND(S8*(1-D8),2) -> 11869.91 | X8: =IF(S8=0,0,W8/S8) -> 0.10000003 | Y8: =IF(P8=0,0,S8/P8) -> 118699.07 | AA8: =E8*Z8 -> 0 | AB8: =AE8+AF8+AG8 -> 0 | AC8: =ROUND($AC$32/$AA$28*Z8,2) -> #DIV/0! | AD8: =AE8+AF8 -> 0 | AH8: =IF(AC8=0,0,AG8/AC8) -> #DIV/0! | AI8: =IF(Z8=0,0,AC8/Z8) -> 0 | AJ8: =K8+L8 -> 101258.99 | AK8: =U8+V8 -> 106829.16 | AL8: =AE8+AF8 -> 0 | AM8: =ROUND(AJ8/1000,1) -> 101.3 | AN8: =ROUND(AK8/1000,1) -> 106.8 | AO8: =ROUND(AL8/1000,1) -> 0
A9: 4 | B9: Всеволожский | C9: =+'расчет точ'!C10 -> 0.9 | D9: =+'расчет точ'!D10 -> 0.9 | E9: =+'расчет точ'!E10 -> 0.89 | F9: 4 | G9: =C9*F9 -> 3.6 | H9: =K9+L9+M9 -> 450039.97 | I9: =ROUND($H$32/$G$28*F9,2) -> 450039.97 | J9: =K9+L9 -> 405035.97 | K9: =ROUND((I9-M9)*(1-$H$34),2) -> 253410.07 | L9: =ROUND((I9-M9)*$H$34,2) -> 151625.9 | M9: =ROUNDUP(I9*(1-C9),2) -> 45004 | N9: =IF(I9=0,0,M9/I9) -> 0.10000001 | O9: =IF(F9=0,0,I9/F9) -> 112509.99 | Q9: =P9*D9 -> 0 | R9: =U9+V9+W9 -> 0 | S9: =ROUND($S$32/$Q$28*P9,2) -> 0 | T9: =U9+V9 -> 0 | U9: =ROUND((S9-W9)*(1-$S$34),2) -> 0 | V9: =ROUND((S9-W9)*$S$34,2) -> 0 | W9: =ROUND(S9*(1-D9),2) -> 0 | X9: =IF(S9=0,0,W9/S9) -> 0 | Y9: =IF(P9=0,0,S9/P9) -> 0 | AA9: =E9*Z9 -> 0 | AB9: =AE9+AF9+AG9 -> 0 | AC9: =ROUND($AC$32/$AA$28*Z9,2) -> #DIV/0! | AD9: =AE9+AF9 -> 0 | AH9: =IF(AC9=0,0,AG9/AC9) -> #DIV/0! | AI9: =IF(Z9=0,0,AC9/Z9) -> 0 | AJ9: =K9+L9 -> 405035.97 | AK9: =U9+V9 -> 0 | AL9: =AE9+AF9 -> 0 | AM9: =ROUND(AJ9/1000,1) -> 405 | AN9: =ROUND(AK9/1000,1) -> 0 | AO9: =ROUND(AL9/1000,1) -> 0
A10: 5 | B10: Выборгский | C10: =+'расчет точ'!C11 -> 0.89 | D10: =+'расчет точ'!D11 -> 0.89 | E10: =+'расчет точ'!E11 -> 0.9 | F10: 1 | G10: =C10*F10 -> 0.89 | H10: =K10+L10+M10 -> 112509.99 | I10: =ROUND($H$32/$G$28*F10,2) -> 112509.99 | J10: =K10+L10 -> 100133.89 | K10: =ROUND((I10-M10)*(1-$H$34),2) -> 62648.6 | L10: =ROUND((I10-M10)*$H$34,2) -> 37485.29 | M10: =ROUNDUP(I10*(1-C10),2) -> 12376.1 | N10: =IF(I10=0,0,M10/I10) -> 0.11000001 | O10: =IF(F10=0,0,I10/F10) -> 112509.99 | P10: 3 | Q10: =P10*D10 -> 2.67 | R10: =U10+V10+W10 -> 356097.21 | S10: =ROUND($S$32/$Q$28*P10,2) -> 356097.21 | T10: =U10+V10 -> 316926.51 | U10: =ROUND((S10-W10)*(1-$S$34),2) -> 212340.76 | V10: =ROUND((S10-W10)*$S$34,2) -> 104585.75 | W10: =ROUND(S10*(1-D10),2)+0.01 -> 39170.7 | X10: =IF(S10=0,0,W10/S10) -> 0.11000002 | Y10: =IF(P10=0,0,S10/P10) -> 118699.07 | AA10: =E10*Z10 -> 0 | AB10: =AE10+AF10+AG10 -> 0 | AC10: =ROUND($AC$32/$AA$28*Z10,2) -> #DIV/0! | AD10: =AE10+AF10 -> 0 | AH10: =IF(AC10=0,0,AG10/AC10) -> #DIV/0! | AI10: =IF(Z10=0,0,AC10/Z10) -> 0 | AJ10: =K10+L10 -> 100133.89 | AK10: =U10+V10 -> 316926.51 | AL10: =AE10+AF10 -> 0 | AM10: =ROUND(AJ10/1000,1) -> 100.1 | AN10: =ROUND(AK10/1000,1) -> 316.9 | AO10: =ROUND(AL10/1000,1) -> 0
A11: 6 | B11: Гатчинский | C11: =+'расчет точ'!C12 -> 0.87 | D11: =+'расчет точ'!D12 -> 0.87 | E11: =+'расчет точ'!E12 -> 0.87 | F11: 1 | G11: =C11*F11 -> 0.87 | H11: =K11+L11+M11 -> 112509.99 | I11: =ROUND($H$32/$G$28*F11,2) -> 112509.99 | J11: =K11+L11 -> 97883.69 | K11: =ROUND((I11-M11)*(1-$H$34),2) -> 61240.77 | L11: =ROUND((I11-M11)*$H$34,2) -> 36642.92 | M11: =ROUNDUP(I11*(1-C11),2) -> 14626.3 | N11: =IF(I11=0,0,M11/I11) -> 0.13000001 | O11: =IF(F11=0,0,I11/F11) -> 112509.99 | Q11: =P11*D11 -> 0 | R11: =U11+V11+W11 -> 0 | S11: =ROUND($S$32/$Q$28*P11,2) -> 0 | T11: =U11+V11 -> 0 | U11: =ROUND((S11-W11)*(1-$S$34),2) -> 0 | V11: =ROUND((S11-W11)*$S$34,2) -> 0 | W11: =ROUND(S11*(1-D11),2) -> 0 | X11: =IF(S11=0,0,W11/S11) -> 0 | Y11: =IF(P11=0,0,S11/P11) -> 0 | AA11: =E11*Z11 -> 0 | AB11: =AE11+AF11+AG11 -> 0 | AC11: =ROUND($AC$32/$AA$28*Z11,2) -> #DIV/0! | AD11: =AE11+AF11 -> 0 | AH11: =IF(AC11=0,0,AG11/AC11) -> #DIV/0! | AI11: =IF(Z11=0,0,AC11/Z11) -> 0 | AJ11: =K11+L11 -> 97883.69 | AK11: =U11+V11 -> 0 | AL11: =AE11+AF11 -> 0 | AM11: =ROUND(AJ11/1000,1) -> 97.9 | AN11: =ROUND(AK11/1000,1) -> 0 | AO11: =ROUND(AL11/1000,1) -> 0
A12: 7 | B12: Кингисеппский | C12: =+'расчет точ'!C13 -> 0.89 | D12: =+'расчет точ'!D13 -> 0.9 | E12: =+'расчет точ'!E13 -> 0.89 | F12: 2 | G12: =C12*F12 -> 1.78 | H12: =K12+L12+M12 -> 225019.98 | I12: =ROUND($H$32/$G$28*F12,2) -> 225019.98 | J12: =K12+L12 -> 200267.78 | K12: =ROUND((I12-M12)*(1-$H$34),2) -> 125297.2 | L12: =ROUND((I12-M12)*$H$34,2) -> 74970.58 | M12: =ROUNDUP(I12*(1-C12),2) -> 24752.2 | N12: =IF(I12=0,0,M12/I12) -> 0.11000001 | O12: =IF(F12=0,0,I12/F12) -> 112509.99 | P12: 1 | Q12: =P12*D12 -> 0.9 | R12: =U12+V12+W12 -> 118699.07 | S12: =ROUND($S$32/$Q$28*P12,2) -> 118699.07 | T12: =U12+V12 -> 106829.16 | U12: =ROUND((S12-W12)*(1-$S$34),2) -> 71575.54 | V12: =ROUND((S12-W12)*$S$34,2) -> 35253.62 | W12: =ROUND(S12*(1-D12),2) -> 11869.91 | X12: =IF(S12=0,0,W12/S12) -> 0.10000003 | Y12: =IF(P12=0,0,S12/P12) -> 118699.07 | AA12: =E12*Z12 -> 0 | AB12: =AE12+AF12+AG12 -> 0 | AC12: =ROUND($AC$32/$AA$28*Z12,2) -> #DIV/0! | AD12: =AE12+AF12 -> 0 | AH12: =IF(AC12=0,0,AG12/AC12) -> #DIV/0! | AI12: =IF(Z12=0,0,AC12/Z12) -> 0 | AJ12: =K12+L12 -> 200267.78 | AK12: =U12+V12 -> 106829.16 | AL12: =AE12+AF12 -> 0 | AM12: =ROUND(AJ12/1000,1)-0.1 -> 200.2 | AN12: =ROUND(AK12/1000,1) -> 106.8 | AO12: =ROUND(AL12/1000,1) -> 0
A13: 8 | B13: Киришский | C13: =+'расчет точ'!C14 -> 0.89 | D13: =+'расчет точ'!D14 -> 0.9 | E13: =+'расчет точ'!E14 -> 0.9 | G13: =C13*F13 -> 0 | H13: =K13+L13+M13 -> 0 | I13: =ROUND($H$32/$G$28*F13,2) -> 0 | J13: =K13+L13 -> 0 | K13: =ROUND((I13-M13)*(1-$H$34),2) -> 0 | L13: =ROUND((I13-M13)*$H$34,2) -> 0 | M13: =ROUNDUP(I13*(1-C13),2) -> 0 | N13: =IF(I13=0,0,M13/I13) -> 0 | O13: =IF(F13=0,0,I13/F13) -> 0 | Q13: =P13*D13 -> 0 | R13: =U13+V13+W13 -> 0 | S13: =ROUND($S$32/$Q$28*P13,2) -> 0 | T13: =U13+V13 -> 0 | U13: =ROUND((S13-W13)*(1-$S$34),2) -> 0 | V13: =ROUND((S13-W13)*$S$34,2) -> 0 | W13: =ROUND(S13*(1-D13),2) -> 0 | X13: =IF(S13=0,0,W13/S13) -> 0 | Y13: =IF(P13=0,0,S13/P13) -> 0 | AA13: =E13*Z13 -> 0 | AB13: =AE13+AF13+AG13 -> 0 | AC13: =ROUND($AC$32/$AA$28*Z13,2) -> #DIV/0! | AD13: =AE13+AF13 -> 0 | AH13: =IF(AC13=0,0,AG13/AC13) -> #DIV/0! | AI13: =IF(Z13=0,0,AC13/Z13) -> 0 | AJ13: =K13+L13 -> 0 | AK13: =U13+V13 -> 0 | AL13: =AE13+AF13 -> 0 | AM13: =ROUND(AJ13/1000,1) -> 0 | AN13: =ROUND(AK13/1000,1) -> 0 | AO13: =ROUND(AL13/1000,1) -> 0
A14: 9 | B14: Кировский | C14: =+'расчет точ'!C15 -> 0.9 | D14: =+'расчет точ'!D15 -> 0.9 | E14: =+'расчет точ'!E15 -> 0.89 | G14: =C14*F14 -> 0 | H14: =K14+L14+M14 -> 0 | I14: =ROUND($H$32/$G$28*F14,2) -> 0 | J14: =K14+L14 -> 0 | K14: =ROUND((I14-M14)*(1-$H$34),2) -> 0 | L14: =ROUND((I14-M14)*$H$34,2) -> 0 | M14: =ROUNDUP(I14*(1-C14),2) -> 0 | N14: =IF(I14=0,0,M14/I14) -> 0 | O14: =IF(F14=0,0,I14/F14) -> 0 | Q14: =P14*D14 -> 0 | R14: =U14+V14+W14 -> 0 | S14: =ROUND($S$32/$Q$28*P14,2) -> 0 | T14: =U14+V14 -> 0 | U14: =ROUND((S14-W14)*(1-$S$34),2) -> 0 | V14: =ROUND((S14-W14)*$S$34,2) -> 0 | W14: =ROUND(S14*(1-D14),2) -> 0 | X14: =IF(S14=0,0,W14/S14) -> 0 | Y14: =IF(P14=0,0,S14/P14) -> 0 | AA14: =E14*Z14 -> 0 | AB14: =AE14+AF14+AG14 -> 0 | AC14: =ROUND($AC$32/$AA$28*Z14,2) -> #DIV/0! | AD14: =AE14+AF14 -> 0 | AH14: =IF(AC14=0,0,AG14/AC14) -> #DIV/0! | AI14: =IF(Z14=0,0,AC14/Z14) -> 0 | AJ14: =K14+L14 -> 0 | AK14: =U14+V14 -> 0 | AL14: =AE14+AF14 -> 0 | AM14: =ROUND(AJ14/1000,1) -> 0 | AN14: =ROUND(AK14/1000,1) -> 0 | AO14: =ROUND(AL14/1000,1) -> 0
A15: 10 | B15: Лодейнопольский | C15: =+'расчет точ'!C16 -> 0.9 | D15: =+'расчет точ'!D16 -> 0.89 | E15: =+'расчет точ'!E16 -> 0.9 | G15: =C15*F15 -> 0 | H15: =K15+L15+M15 -> 0 | I15: =ROUND($H$32/$G$28*F15,2) -> 0 | J15: =K15+L15 -> 0 | K15: =ROUND((I15-M15)*(1-$H$34),2) -> 0 | L15: =ROUND((I15-M15)*$H$34,2) -> 0 | M15: =ROUNDUP(I15*(1-C15),2) -> 0 | N15: =IF(I15=0,0,M15/I15) -> 0 | O15: =IF(F15=0,0,I15/F15) -> 0 | P15: 2 | Q15: =P15*D15 -> 1.78 | R15: =U15+V15+W15 -> 237398.15 | S15: =ROUND($S$32/$Q$28*P15,2) -> 237398.14 | T15: =U15+V15 -> 211284.35 | U15: =ROUND((S15-W15)*(1-$S$34),2)+0.01 -> 141560.52 | V15: =ROUND((S15-W15)*$S$34,2) -> 69723.83 | W15: =ROUND(S15*(1-D15),2) -> 26113.8 | X15: =IF(S15=0,0,W15/S15) -> 0.11000002 | Y15: =IF(P15=0,0,S15/P15) -> 118699.07 | AA15: =E15*Z15 -> 0 | AB15: =AE15+AF15+AG15 -> 0 | AC15: =ROUND($AC$32/$AA$28*Z15,2) -> #DIV/0! | AD15: =AE15+AF15 -> 0 | AH15: =IF(AC15=0,0,AG15/AC15) -> #DIV/0! | AI15: =IF(Z15=0,0,AC15/Z15) -> 0 | AJ15: =K15+L15 -> 0 | AK15: =U15+V15 -> 211284.35 | AL15: =AE15+AF15 -> 0 | AM15: =ROUND(AJ15/1000,1) -> 0 | AN15: =ROUND(AK15/1000,1) -> 211.3 | AO15: =ROUND(AL15/1000,1) -> 0
A16: 11 | B16: Ломоносовский | C16: =+'расчет точ'!C17 -> 0.89 | D16: =+'расчет точ'!D17 -> 0.89 | E16: =+'расчет точ'!E17 -> 0.9 | F16: 1 | G16: =C16*F16 -> 0.89 | H16: =K16+L16+M16 -> 112509.99 | I16: =ROUND($H$32/$G$28*F16,2) -> 112509.99 | J16: =K16+L16 -> 100133.89 | K16: =ROUND((I16-M16)*(1-$H$34),2) -> 62648.6 | L16: =ROUND((I16-M16)*$H$34,2) -> 37485.29 | M16: =ROUNDUP(I16*(1-C16),2) -> 12376.1 | N16: =IF(I16=0,0,M16/I16) -> 0.11000001 | O16: =IF(F16=0,0,I16/F16) -> 112509.99 | Q16: =P16*D16 -> 0 | R16: =U16+V16+W16 -> 0 | S16: =ROUND($S$32/$Q$28*P16,2) -> 0 | T16: =U16+V16 -> 0 | U16: =ROUND((S16-W16)*(1-$S$34),2) -> 0 | V16: =ROUND((S16-W16)*$S$34,2) -> 0 | W16: =ROUND(S16*(1-D16),2) -> 0 | X16: =IF(S16=0,0,W16/S16) -> 0 | Y16: =IF(P16=0,0,S16/P16) -> 0 | AA16: =E16*Z16 -> 0 | AB16: =AE16+AF16+AG16 -> 0 | AC16: =ROUND($AC$32/$AA$28*Z16,2) -> #DIV/0! | AD16: =AE16+AF16 -> 0 | AH16: =IF(AC16=0,0,AG16/AC16) -> #DIV/0! | AI16: =IF(Z16=0,0,AC16/Z16) -> 0 | AJ16: =K16+L16 -> 100133.89 | AK16: =U16+V16 -> 0 | AL16: =AE16+AF16 -> 0 | AM16: =ROUND(AJ16/1000,1) -> 100.1 | AN16: =ROUND(AK16/1000,1) -> 0 | AO16: =ROUND(AL16/1000,1) -> 0
A17: 12 | B17: Лужский | C17: =+'расчет точ'!C18 -> 0.9 | D17: =+'расчет точ'!D18 -> 0.9 | E17: =+'расчет точ'!E18 -> 0.89 | G17: =C17*F17 -> 0 | H17: =K17+L17+M17 -> 0 | I17: =ROUND($H$32/$G$28*F17,2) -> 0 | J17: =K17+L17 -> 0 | K17: =ROUND((I17-M17)*(1-$H$34),2) -> 0 | L17: =ROUND((I17-M17)*$H$34,2) -> 0 | M17: =ROUNDUP(I17*(1-C17),2) -> 0 | N17: =IF(I17=0,0,M17/I17) -> 0 | O17: =IF(F17=0,0,I17/F17) -> 0 | P17: 2 | Q17: =P17*D17 -> 1.8 | R17: =U17+V17+W17 -> 237398.15 | S17: =ROUND($S$32/$Q$28*P17,2) -> 237398.14 | T17: =U17+V17 -> 213658.33 | U17: =ROUND((S17-W17)*(1-$S$34),2)+0.01 -> 143151.08 | V17: =ROUND((S17-W17)*$S$34,2) -> 70507.25 | W17: =ROUND(S17*(1-D17),2)+0.01 -> 23739.82 | X17: =IF(S17=0,0,W17/S17) -> 0.10000003 | Y17: =IF(P17=0,0,S17/P17) -> 118699.07 | AA17: =E17*Z17 -> 0 | AB17: =AE17+AF17+AG17 -> 0 | AC17: =ROUND($AC$32/$AA$28*Z17,2) -> #DIV/0! | AD17: =AE17+AF17 -> 0 | AH17: =IF(AC17=0,0,AG17/AC17) -> #DIV/0! | AI17: =IF(Z17=0,0,AC17/Z17) -> 0 | AJ17: =K17+L17 -> 0 | AK17: =U17+V17 -> 213658.33 | AL17: =AE17+AF17 -> 0 | AM17: =ROUND(AJ17/1000,1) -> 0 | AN17: =ROUND(AK17/1000,1) -> 213.7 | AO17: =ROUND(AL17/1000,1) -> 0
A18: 13 | B18: Подпорожский | C18: =+'расчет точ'!C19 -> 0.9 | D18: =+'расчет точ'!D19 -> 0.9 | E18: =+'расчет точ'!E19 -> 0.9 | G18: =C18*F18 -> 0 | H18: =K18+L18+M18 -> 0 | I18: =ROUND($H$32/$G$28*F18,2) -> 0 | J18: =K18+L18 -> 0 | K18: =ROUND((I18-M18)*(1-$H$34),2) -> 0 | L18: =ROUND((I18-M18)*$H$34,2) -> 0 | M18: =ROUNDUP(I18*(1-C18),2) -> 0 | N18: =IF(I18=0,0,M18/I18) -> 0 | O18: =IF(F18=0,0,I18/F18) -> 0 | P18: 1 | Q18: =P18*D18 -> 0.9 | R18: =U18+V18+W18 -> 118699.07 | S18: =ROUND($S$32/$Q$28*P18,2) -> 118699.07 | T18: =U18+V18 -> 106829.16 | U18: =ROUND((S18-W18)*(1-$S$34),2) -> 71575.54 | V18: =ROUND((S18-W18)*$S$34,2) -> 35253.62 | W18: =ROUND(S18*(1-D18),2) -> 11869.91 | X18: =IF(S18=0,0,W18/S18) -> 0.10000003 | Y18: =IF(P18=0,0,S18/P18) -> 118699.07 | AA18: =E18*Z18 -> 0 | AB18: =AE18+AF18+AG18 -> 0 | AC18: =ROUND($AC$32/$AA$28*Z18,2) -> #DIV/0! | AD18: =AE18+AF18 -> 0 | AH18: =IF(AC18=0,0,AG18/AC18) -> #DIV/0! | AI18: =IF(Z18=0,0,AC18/Z18) -> 0 | AJ18: =K18+L18 -> 0 | AK18: =U18+V18 -> 106829.16 | AL18: =AE18+AF18 -> 0 | AM18: =ROUND(AJ18/1000,1) -> 0 | AN18: =ROUND(AK18/1000,1) -> 106.8 | AO18: =ROUND(AL18/1000,1) -> 0
A19: 14 | B19: Приозерский | C19: =+'расчет точ'!C20 -> 0.89 | D19: =+'расчет точ'!D20 -> 0.89 | E19: =+'расчет точ'!E20 -> 0.89 | G19: =C19*F19 -> 0 | H19: =K19+L19+M19 -> 0 | I19: =ROUND($H$32/$G$28*F19,2) -> 0 | J19: =K19+L19 -> 0 | K19: =ROUND((I19-M19)*(1-$H$34),2) -> 0 | L19: =ROUND((I19-M19)*$H$34,2) -> 0 | M19: =ROUNDUP(I19*(1-C19),2) -> 0 | N19: =IF(I19=0,0,M19/I19) -> 0 | O19: =IF(F19=0,0,I19/F19) -> 0 | P19: 1 | Q19: =P19*D19 -> 0.89 | R19: =U19+V19+W19 -> 118699.08 | S19: =ROUND($S$32/$Q$28*P19,2) -> 118699.07 | T19: =U19+V19 -> 105642.18 | U19: =ROUND((S19-W19)*(1-$S$34),2) -> 70780.25 | V19: =ROUND((S19-W19)*$S$34,2)+0.01 -> 34861.93 | W19: =ROUND(S19*(1-D19),2) -> 13056.9 | X19: =IF(S19=0,0,W19/S19) -> 0.11000002 | Y19: =IF(P19=0,0,S19/P19) -> 118699.07 | AA19: =E19*Z19 -> 0 | AB19: =AE19+AF19+AG19 -> 0 | AC19: =ROUND($AC$32/$AA$28*Z19,2) -> #DIV/0! | AD19: =AE19+AF19 -> 0 | AH19: =IF(AC19=0,0,AG19/AC19) -> #DIV/0! | AI19: =IF(Z19=0,0,AC19/Z19) -> 0 | AJ19: =K19+L19 -> 0 | AK19: =U19+V19 -> 105642.18 | AL19: =AE19+AF19 -> 0 | AM19: =ROUND(AJ19/1000,1) -> 0 | AN19: =ROUND(AK19/1000,1) -> 105.6 | AO19: =ROUND(AL19/1000,1) -> 0
A20: 15 | B20: Сланцевский | C20: =+'расчет точ'!C21 -> 0.9 | D20: =+'расчет точ'!D21 -> 0.89 | E20: =+'расчет точ'!E21 -> 0.88 | F20: 2 | G20: =C20*F20 -> 1.8 | H20: =K20+L20+M20 -> 225020 | I20: =ROUND($H$32/$G$28*F20,2) -> 225019.98 | J20: =K20+L20 -> 202518 | K20: =ROUND((I20-M20)*(1-$H$34),2)+0.01 -> 126705.04 | L20: =ROUND((I20-M20)*$H$34,2)+0.01 -> 75812.96 | M20: =ROUNDUP(I20*(1-C20),2) -> 22502 | N20: =IF(I20=0,0,M20/I20) -> 0.10000001 | O20: =IF(F20=0,0,I20/F20) -> 112509.99 | Q20: =P20*D20 -> 0 | R20: =U20+V20+W20 -> 0 | S20: =ROUND($S$32/$Q$28*P20,2) -> 0 | T20: =U20+V20 -> 0 | U20: =ROUND((S20-W20)*(1-$S$34),2) -> 0 | V20: =ROUND((S20-W20)*$S$34,2) -> 0 | W20: =ROUND(S20*(1-D20),2) -> 0 | X20: =IF(S20=0,0,W20/S20) -> 0 | Y20: =IF(P20=0,0,S20/P20) -> 0 | AA20: =E20*Z20 -> 0 | AB20: =AE20+AF20+AG20 -> 0 | AC20: =ROUND($AC$32/$AA$28*Z20,2) -> #DIV/0! | AD20: =AE20+AF20 -> 0 | AH20: =IF(AC20=0,0,AG20/AC20) -> #DIV/0! | AI20: =IF(Z20=0,0,AC20/Z20) -> 0 | AJ20: =K20+L20 -> 202518 | AK20: =U20+V20 -> 0 | AL20: =AE20+AF20 -> 0 | AM20: =ROUND(AJ20/1000,1) -> 202.5 | AN20: =ROUND(AK20/1000,1) -> 0 | AO20: =ROUND(AL20/1000,1) -> 0
A21: 16 | B21: Тихвинский | C21: =+'расчет точ'!C22 -> 0.9 | D21: =+'расчет точ'!D22 -> 0.91 | E21: =+'расчет точ'!E22 -> 0.91 | G21: =C21*F21 -> 0 | H21: =K21+L21+M21 -> 0 | I21: =ROUND($H$32/$G$28*F21,2) -> 0 | J21: =K21+L21 -> 0 | K21: =ROUND((I21-M21)*(1-$H$34),2) -> 0 | L21: =ROUND((I21-M21)*$H$34,2) -> 0 | M21: =ROUNDUP(I21*(1-C21),2) -> 0 | N21: =IF(I21=0,0,M21/I21) -> 0 | O21: =IF(F21=0,0,I21/F21) -> 0 | Q21: =P21*D21 -> 0 | R21: =U21+V21+W21 -> 0 | S21: =ROUND($S$32/$Q$28*P21,2) -> 0 | T21: =U21+V21 -> 0 | U21: =ROUND((S21-W21)*(1-$S$34),2) -> 0 | V21: =ROUND((S21-W21)*$S$34,2) -> 0 | W21: =ROUND(S21*(1-D21),2) -> 0 | X21: =IF(S21=0,0,W21/S21) -> 0 | Y21: =IF(P21=0,0,S21/P21) -> 0 | AA21: =E21*Z21 -> 0 | AB21: =AE21+AF21+AG21 -> 0 | AC21: =ROUND($AC$32/$AA$28*Z21,2) -> #DIV/0! | AD21: =AE21+AF21 -> 0 | AH21: =IF(AC21=0,0,AG21/AC21) -> #DIV/0! | AI21: =IF(Z21=0,0,AC21/Z21) -> 0 | AJ21: =K21+L21 -> 0 | AK21: =U21+V21 -> 0 | AL21: =AE21+AF21 -> 0 | AM21: =ROUND(AJ21/1000,1) -> 0 | AN21: =ROUND(AK21/1000,1) -> 0 | AO21: =ROUND(AL21/1000,1) -> 0
A22: 17 | B22: Тосненский | C22: =+'расчет точ'!C23 -> 0.9 | D22: =+'расчет точ'!D23 -> 0.89 | E22: =+'расчет точ'!E23 -> 0.89 | G22: =C22*F22 -> 0 | H22: =K22+L22+M22 -> 0 | I22: =ROUND($H$32/$G$28*F22,2) -> 0 | J22: =K22+L22 -> 0 | K22: =ROUND((I22-M22)*(1-$H$34),2) -> 0 | L22: =ROUND((I22-M22)*$H$34,2) -> 0 | M22: =ROUNDUP(I22*(1-C22),2) -> 0 | N22: =IF(I22=0,0,M22/I22) -> 0 | O22: =IF(F22=0,0,I22/F22) -> 0 | P22: 2 | Q22: =P22*D22 -> 1.78 | R22: =U22+V22+W22 -> 237398.15 | S22: =ROUND($S$32/$Q$28*P22,2) -> 237398.14 | T22: =U22+V22 -> 211284.35 | U22: =ROUND((S22-W22)*(1-$S$34),2)+0.01 -> 141560.52 | V22: =ROUND((S22-W22)*$S$34,2) -> 69723.83 | W22: =ROUND(S22*(1-D22),2) -> 26113.8 | X22: =IF(S22=0,0,W22/S22) -> 0.11000002 | Y22: =IF(P22=0,0,S22/P22) -> 118699.07 | AA22: =E22*Z22 -> 0 | AB22: =AE22+AF22+AG22 -> 0 | AC22: =ROUND($AC$32/$AA$28*Z22,2) -> #DIV/0! | AD22: =AE22+AF22 -> 0 | AH22: =IF(AC22=0,0,AG22/AC22) -> #DIV/0! | AI22: =IF(Z22=0,0,AC22/Z22) -> 0 | AJ22: =K22+L22 -> 0 | AK22: =U22+V22 -> 211284.35 | AL22: =AE22+AF22 -> 0 | AM22: =ROUND(AJ22/1000,1) -> 0 | AN22: =ROUND(AK22/1000,1) -> 211.3 | AO22: =ROUND(AL22/1000,1) -> 0
A23: 18 | B23: Сосновоборский | C23: =+'расчет точ'!C24 -> 0.77 | D23: =+'расчет точ'!D24 -> 0.76 | E23: =+'расчет точ'!E24 -> 0.78 | G23: =C23*F23 -> 0 | H23: =K23+L23+M23 -> 0 | I23: =ROUND($H$32/$G$28*F23,2) -> 0 | J23: =K23+L23 -> 0 | K23: =ROUND((I23-M23)*(1-$H$34),2) -> 0 | L23: =ROUND((I23-M23)*$H$34,2) -> 0 | M23: =ROUNDUP(I23*(1-C23),2) -> 0 | N23: =IF(I23=0,0,M23/I23) -> 0 | O23: =IF(F23=0,0,I23/F23) -> 0 | Q23: =P23*D23 -> 0 | R23: =U23+V23+W23 -> 0 | S23: =ROUND($S$32/$Q$28*P23,2) -> 0 | T23: =U23+V23 -> 0 | U23: =ROUND((S23-W23)*(1-$S$34),2) -> 0 | V23: =ROUND((S23-W23)*$S$34,2) -> 0 | W23: =ROUND(S23*(1-D23),2) -> 0 | X23: =IF(S23=0,0,W23/S23) -> 0 | Y23: =IF(P23=0,0,S23/P23) -> 0 | AA23: =E23*Z23 -> 0 | AB23: =AE23+AF23+AG23 -> 0 | AC23: =ROUND($AC$32/$AA$28*Z23,2) -> #DIV/0! | AD23: =AE23+AF23 -> 0 | AH23: =IF(AC23=0,0,AG23/AC23) -> #DIV/0! | AI23: =IF(Z23=0,0,AC23/Z23) -> 0 | AJ23: =K23+L23 -> 0 | AK23: =U23+V23 -> 0 | AL23: =AE23+AF23 -> 0 | AM23: =ROUND(AJ23/1000,1) -> 0 | AN23: =ROUND(AK23/1000,1) -> 0 | AO23: =ROUND(AL23/1000,1) -> 0
B24: Всего по МР (ГО) | F24: =SUM(F6:F23) -> 14 | G24: =SUM(G6:G23) -> 12.51 | H24: =SUM(H6:H23) -> 1575139.9 | I24: =SUM(I6:I23) -> 1575139.9 | J24: =SUM(J6:J23) -> 1407500 | K24: =SUM(K6:K23) -> 880600 | L24: =SUM(L6:L23) -> 526900 | M24: =SUM(M6:M23) -> 167639.9 | N24: =IF(I24=0,0,M24/I24) -> 0.10642858 | O24: =IF(F24=0,0,I24/F24) -> 112509.99 | P24: =SUM(P6:P23) -> 14 | Q24: =SUM(Q6:Q23) -> 12.51 | R24: =SUM(R6:R23) -> 1661787 | S24: =SUM(S6:S23) -> 1661787 | T24: =SUM(T6:T23) -> 1484925.4 | U24: =SUM(U6:U23) -> 994900 | V24: =SUM(V6:V23) -> 490025.37 | W24: =SUM(W6:W23) -> 176861.65 | X24: =IF(S24=0,0,W24/S24) -> 0.10642859 | Y24: =IF(P24=0,0,S24/P24) -> 118699.07 | Z24: =SUM(Z6:Z23) -> 0 | AA24: =SUM(AA6:AA23) -> 0 | AB24: =SUM(AB6:AB23) -> 0 | AC24: =SUM(AC6:AC23) -> #DIV/0! | AD24: =SUM(AD6:AD23) -> 0 | AE24: =SUM(AE6:AE23) -> 0 | AF24: =SUM(AF6:AF23) -> 0 | AG24: =SUM(AG6:AG23) -> 0 | AH24: =IF(AC24=0,0,AG24/AC24) -> #DIV/0! | AI24: =IF(Z24=0,0,AC24/Z24) -> 0 | AJ24: =SUM(AJ6:AJ23) -> 1407500 | AK24: =SUM(AK6:AK23) -> 1484925.4 | AL24: =SUM(AL6:AL23) -> 0 | AM24: =SUM(AM6:AM23) -> 1407.4 | AN24: =SUM(AN6:AN23) -> 1484.8 | AO24: =SUM(AO6:AO23) -> 0
A25: 0702 | B25: ГУ | G25: =C25*F25 -> 0 | H25: =K25+L25+M25 -> 0 | I25: =ROUND($H$32/$G$28*F25,2) -> 0 | J25: =K25+L25 -> 0 | K25: =ROUND((I25-M25)*(1-$H$34),2) -> 0 | L25: =ROUND((I25-M25)*$H$34,2) -> 0 | M25: =ROUNDUP(I25*(1-C25),2) -> 0 | N25: =IF(I25=0,0,M25/I25) -> 0 | O25: =IF(F25=0,0,I25/F25) -> 0 | Q25: =P25*D25 -> 0 | R25: =U25+V25+W25 -> 0 | S25: =ROUND($S$32/$Q$28*P25,2) -> 0 | T25: =U25+V25 -> 0 | U25: =ROUND((S25-W25)*(1-$S$34),2) -> 0 | V25: =ROUND((S25-W25)*$S$34,2) -> 0 | W25: =ROUND(S25*(1-D25),2) -> 0 | X25: =IF(S25=0,0,W25/S25) -> 0 | Y25: =IF(P25=0,0,S25/P25) -> 0 | AB25: =AE25+AF25+AG25 -> 0 | AC25: =ROUND($AC$32/$AA$28*Z25,2) -> #DIV/0! | AD25: =AE25+AF25 -> 0 | AH25: =IF(AC25=0,0,AG25/AC25) -> #DIV/0! | AI25: =IF(Z25=0,0,AC25/Z25) -> 0 | AJ25: =K25+L25 -> 0 | AK25: =U25+V25 -> 0 | AL25: =AE25+AF25 -> 0 | AM25: =ROUND(AJ25/1000,1) -> 0 | AN25: =ROUND(AK25/1000,1) -> 0 | AO25: =ROUND(AL25/1000,1) -> 0
A26: 0703 | B26: ГУ | G26: =C26*F26 -> 0 | H26: =K26+L26+M26 -> 0 | I26: =ROUND($H$32/$G$28*F26,2) -> 0 | J26: =K26+L26 -> 0 | K26: =ROUND((I26-M26)*(1-$H$34),2) -> 0 | L26: =ROUND((I26-M26)*$H$34,2) -> 0 | M26: =ROUNDUP(I26*(1-C26),2) -> 0 | N26: =IF(I26=0,0,M26/I26) -> 0 | O26: =IF(F26=0,0,I26/F26) -> 0 | Q26: =P26*D26 -> 0 | R26: =U26+V26+W26 -> 0 | S26: =ROUND($S$32/$Q$28*P26,2) -> 0 | T26: =U26+V26 -> 0 | U26: =ROUND((S26-W26)*(1-$S$34),2) -> 0 | V26: =ROUND((S26-W26)*$S$34,2) -> 0 | W26: =ROUND(S26*(1-D26),2) -> 0 | X26: =IF(S26=0,0,W26/S26) -> 0 | Y26: =IF(P26=0,0,S26/P26) -> 0 | AB26: =AE26+AF26+AG26 -> 0 | AC26: =ROUND($AC$32/$AA$28*Z26,2) -> #DIV/0! | AD26: =AE26+AF26 -> 0 | AH26: =IF(AC26=0,0,AG26/AC26) -> #DIV/0! | AI26: =IF(Z26=0,0,AC26/Z26) -> 0 | AJ26: =K26+L26 -> 0 | AK26: =U26+V26 -> 0 | AL26: =AE26+AF26 -> 0 | AM26: =ROUND(AJ26/1000,1) -> 0 | AN26: =ROUND(AK26/1000,1) -> 0 | AO26: =ROUND(AL26/1000,1) -> 0
A27: 0704 | B27: ГУ | G27: =C27*F27 -> 0 | H27: =K27+L27+M27 -> 0 | I27: =ROUND($H$32/$G$28*F27,2) -> 0 | J27: =K27+L27 -> 0 | K27: =ROUND((I27-M27)*(1-$H$34),2) -> 0 | L27: =ROUND((I27-M27)*$H$34,2) -> 0 | M27: =ROUNDUP(I27*(1-C27),2) -> 0 | N27: =IF(I27=0,0,M27/I27) -> 0 | O27: =IF(F27=0,0,I27/F27) -> 0 | Q27: =P27*D27 -> 0 | R27: =U27+V27+W27 -> 0 | S27: =ROUND($S$32/$Q$28*P27,2) -> 0 | T27: =U27+V27 -> 0 | U27: =ROUND((S27-W27)*(1-$S$34),2) -> 0 | V27: =ROUND((S27-W27)*$S$34,2) -> 0 | W27: =ROUND(S27*(1-D27),2) -> 0 | X27: =IF(S27=0,0,W27/S27) -> 0 | Y27: =IF(P27=0,0,S27/P27) -> 0 | AB27: =AE27+AF27+AG27 -> 0 | AC27: =ROUND($AC$32/$AA$28*Z27,2) -> #DIV/0! | AD27: =AE27+AF27 -> 0 | AH27: =IF(AC27=0,0,AG27/AC27) -> #DIV/0! | AI27: =IF(Z27=0,0,AC27/Z27) -> 0 | AJ27: =K27+L27 -> 0 | AK27: =U27+V27 -> 0 | AL27: =AE27+AF27 -> 0 | AM27: =ROUND(AJ27/1000,1) -> 0 | AN27: =ROUND(AK27/1000,1) -> 0 | AO27: =ROUND(AL27/1000,1) -> 0
B28: Итого | F28: =F24+F25+F26+F27 -> 14 | G28: =G24+G25+G26+G27 -> 12.51 | H28: =H24+H25+H26+H27 -> 1575139.9 | I28: =I24+I25+I26+I27 -> 1575139.9 | J28: =J24+J25+J26+J27 -> 1407500 | K28: =K24+K25+K26+K27 -> 880600 | L28: =L24+L25+L26+L27 -> 526900 | M28: =M24+M25+M26+M27 -> 167639.9 | N28: =IF(I28=0,0,M28/I28) -> 0.10642858 | O28: =IF(F28=0,0,I28/F28) -> 112509.99 | P28: =P24+P25+P26+P27 -> 14 | Q28: =Q24+Q25+Q26+Q27 -> 12.51 | R28: =R24+R25+R26+R27 -> 1661787 | S28: =S24+S25+S26+S27 -> 1661787 | T28: =T24+T25+T26+T27 -> 1484925.4 | U28: =U24+U25+U26+U27 -> 994900 | V28: =V24+V25+V26+V27 -> 490025.37 | W28: =W24+W25+W26+W27 -> 176861.65 | X28: =IF(S28=0,0,W28/S28) -> 0.10642859 | Y28: =IF(P28=0,0,S28/P28) -> 118699.07 | Z28: =Z24+Z25+Z26+Z27 -> 0 | AA28: =AA24+AA25+AA26+AA27 -> 0 | AB28: =AB24+AB25+AB26+AB27 -> 0 | AC28: =AC24+AC25+AC26+AC27 -> #DIV/0! | AD28: =AD24+AD25+AD26+AD27 -> 0 | AE28: =AE24+AE25+AE26+AE27 -> 0 | AF28: =AF24+AF25+AF26+AF27 -> 0 | AG28: =AG24+AG25+AG26+AG27 -> 0 | AH28: =IF(AC28=0,0,AG28/AC28) -> #DIV/0! | AI28: =IF(Z28=0,0,AC28/Z28) -> 0 | AJ28: =AJ24+AJ25+AJ26+AJ27 -> 1407500 | AK28: =AK24+AK25+AK26+AK27 -> 1484925.4 | AL28: =AL24+AL25+AL26+AL27 -> 0 | AM28: =AM24+AM25+AM26+AM27 -> 1407.4 | AN28: =AN24+AN25+AN26+AN27 -> 1484.8 | AO28: =AO24+AO25+AO26+AO27 -> 0
AM29: =ROUND(AJ29/1000,1) -> 0 | AN29: =ROUND(AK29/1000,1) -> 0 | AO29: =ROUND(AL29/1000,1) -> 0
G30: ФБ | H30: 880600 | I30: =H30-K28 -> 0 | S30: 994900 | T30: =S30-U28 -> 0 | AD30: =AC30-AE28 -> 0
G31: ОБ | H31: 526900 | I31: =H31-L28 -> 0 | S31: =S30/67*33 -> 490025.37 | T31: =S31-V28 -> 0.0031343284 | AC31: =AC30/67*33 -> 0 | AD31: =AC31-AF28 -> 0
G32: ФБ+ОБ | H32: =SUM(H30:H31) -> 1407500 | S32: =SUM(S30:S31) -> 1484925.4 | AC32: =SUM(AC30:AC31) -> 0
H34: =H31/H32 -> 0.37435169 | S34: =S31/S32 -> 0.33 | AC34: =AC31/AC32 -> #DIV/0!

Sheet расчет спорт в бюджет_
AO1: Приложение 45 к пояснительной записке 2023 г.
A2: Субсидии бюджетам муниципальных образований Ленинградской области на создание в общеобразовательных организациях, расположенных в сельской местности, условий для занятий физической культурой и спортом на 2023 год и на плановый период 2024 и 2025 годов
A3: № п\п | B3: Название муниципального района | C3: предельный уровень софинансирования, % | AJ3: В проект закона, руб | AM3: В проект закона, тыс. руб.
F4: 2023 год | P4: 2024 год | Z4: 2025 год
F5: Количество Центров в МР (ГО) | H5: ВСЕГО | I5: распределение | N5: проверка % софинансирования МБ | O5: средняя стоимость 1 объекта | P5: Количество Центров в МР (ГО) | R5: ВСЕГО | S5: распределение | X5: проверка % софинансирования МБ | Y5: средняя стоимость 1 объекта | Z5: Количество Центров в МР (ГО) | AB5: ВСЕГО | AC5: распределение | AH5: проверка % софинансирования МБ | AI5: средняя стоимость 1 объекта
C6: =+'расчет точ'!C6 -> 2023 | D6: =+'расчет точ'!D6 -> 2024 | E6: =+'расчет точ'!E6 -> 2025 | I6: ФБ+ОБ+МБ | J6: ИТОГО ФБ+ОБ | K6: фб_по предельному уровню | L6: об_по предельному уровню | M6: мб_по предельному уровню | S6: ФБ+ОБ+МБ | T6: ИТОГО ФБ+ОБ | U6: фб_по предельному уровню | V6: об_по предельному уровню | W6: мб_по предельному уровню | AC6: ФБ+ОБ+МБ | AD6: ИТОГО ФБ+ОБ | AE6: фб_по предельному уровню | AF6: об_по рпедельному уровню | AG6: мб_по предельному уровню | AJ6: 2023 | AK6: 2024 | AL6: 2025 | AM6: 2023 | AN6: 2024 | AO6: 2025
A7: 1 | B7: Бокситогорский | C7: =+'расчет точ'!C7 -> 0.89 | D7: =+'расчет точ'!D7 -> 0.89 | E7: =+'расчет точ'!E7 -> 0.9 | F7: 2 | G7: =C7*F7 -> 1.78 | H7: =ROUND(F7*O7,0) -> 4335955 | I7: =+H7 -> 4335955 | J7: =K7+L7 -> 3859000 | K7: 125297.2 | L7: =+H7-K7-M7 -> 3733702.8 | M7: =ROUNDUP(I7*(1-C7),2) -> 476955.05 | N7: =IF(I7=0,0,M7/I7) -> 0.11 | O7: 2167977.6 | P7: 1 | Q7: =P7*D7 -> 0.89 | R7: =ROUND(P7*Y7,0) -> 2167978 | S7: =+R7 -> 2167978 | T7: =U7+V7 -> 1929499.4 | U7: 70780.25 | V7: =+R7-U7-W7-1 -> 1858719.2 | W7: =ROUND(S7*(1-D7),2) -> 238477.58 | X7: =IF(S7=0,0,W7/S7) -> 0.11 | Y7: 2167977.6 | AA7: =E7*Z7 -> 0 | AB7: =AE7+AF7+AG7 -> 0 | AC7: =ROUND($AC$33/$AA$29*Z7,2) -> #DIV/0! | AD7: =AE7+AF7 -> 0 | AH7: =IF(AC7=0,0,AG7/AC7) -> #DIV/0! | AI7: =IF(Z7=0,0,AC7/Z7) -> 0 | AJ7: =K7+L7 -> 3859000 | AK7: =U7+V7 -> 1929499.4 | AL7: =AE7+AF7 -> 0 | AM7: =ROUND(AJ7/1000,1) -> 3859 | AN7: =ROUND(AK7/1000,1)-0.1 -> 1929.4 | AO7: =ROUND(AL7/1000,1) -> 0
A8: 2 | B8: Волосовский | C8: =+'расчет точ'!C8 -> 0.9 | D8: =+'расчет точ'!D8 -> 0.9 | E8: =+'расчет точ'!E8 -> 0.89 | G8: =C8*F8 -> 0 | H8: =ROUND(F8*O8,0) -> 0 | I8: =+H8 -> 0 | J8: =K8+L8 -> 0 | K8: 0 | L8: =+H8-K8-M8 -> 0 | M8: =ROUNDUP(I8*(1-C8),2) -> 0 | N8: =IF(I8=0,0,M8/I8) -> 0 | O8: 2167977.6 | Q8: =P8*D8 -> 0 | R8: =ROUND(P8*Y8,0) -> 0 | S8: =+R8 -> 0 | T8: =U8+V8 -> 0 | U8: 0 | V8: =+R8-U8-W8 -> 0 | W8: =ROUND(S8*(1-D8),2) -> 0 | X8: =IF(S8=0,0,W8/S8) -> 0 | Y8: 2167977.6 | AA8: =E8*Z8 -> 0 | AB8: =AE8+AF8+AG8 -> 0 | AC8: =ROUND($AC$33/$AA$29*Z8,2) -> #DIV/0! | AD8: =AE8+AF8 -> 0 | AH8: =IF(AC8=0,0,AG8/AC8) -> #DIV/0! | AI8: =IF(Z8=0,0,AC8/Z8) -> 0 | AJ8: =K8+L8 -> 0 | AK8: =U8+V8 -> 0 | AL8: =AE8+AF8 -> 0 | AM8: =ROUND(AJ8/1000,1) -> 0 | AN8: =ROUND(AK8/1000,1) -> 0 | AO8: =ROUND(AL8/1000,1) -> 0
A9: 3 | B9: Волховский | C9: =+'расчет точ'!C9 -> 0.9 | D9: =+'расчет точ'!D9 -> 0.9 | E9: =+'расчет точ'!E9 -> 0.9 | F9: 1 | G9: =C9*F9 -> 0.9 | H9: =ROUND(F9*O9,0) -> 2167978 | I9: =+H9 -> 2167978 | J9: =K9+L9 -> 1951180.2 | K9: 63352.52 | L9: =+H9-K9-M9 -> 1887827.7 | M9: =ROUNDUP(I9*(1-C9),2) -> 216797.8 | N9: =IF(I9=0,0,M9/I9) -> 0.1 | O9: 2167977.6 | P9: 1 | Q9: =P9*D9 -> 0.9 | R9: =ROUND(P9*Y9,0) -> 2167978 | S9: =+R9 -> 2167978 | T9: =U9+V9 -> 1951180.2 | U9: 71575.54 | V9: =+R9-U9-W9 -> 1879604.7 | W9: =ROUND(S9*(1-D9),2) -> 216797.8 | X9: =IF(S9=0,0,W9/S9) -> 0.1 | Y9: 2167977.6 | AA9: =E9*Z9 -> 0 | AB9: =AE9+AF9+AG9 -> 0 | AC9: =ROUND($AC$33/$AA$29*Z9,2) -> #DIV/0! | AD9: =AE9+AF9 -> 0 | AH9: =IF(AC9=0,0,AG9/AC9) -> #DIV/0! | AI9: =IF(Z9=0,0,AC9/Z9) -> 0 | AJ9: =K9+L9 -> 1951180.2 | AK9: =U9+V9 -> 1951180.2 | AL9: =AE9+AF9 -> 0 | AM9: =ROUND(AJ9/1000,1) -> 1951.2 | AN9: =ROUND(AK9/1000,1) -> 1951.2 | AO9: =ROUND(AL9/1000,1) -> 0
A10: 4 | B10: Всеволожский | C10: =+'расчет точ'!C10 -> 0.9 | D10: =+'расчет точ'!D10 -> 0.9 | E10: =+'расчет точ'!E10 -> 0.89 | F10: 4 | G10: =C10*F10 -> 3.6 | H10: =ROUND(F10*O10,0) -> 8671910 | I10: =+H10 -> 8671910 | J10: =K10+L10 -> 7804719 | K10: 253410.07 | L10: =+H10-K10-M10 -> 7551308.9 | M10: =ROUNDUP(I10*(1-C10),2) -> 867191 | N10: =IF(I10=0,0,M10/I10) -> 0.1 | O10: 2167977.6 | Q10: =P10*D10 -> 0 | R10: =ROUND(P10*Y10,0) -> 0 | S10: =+R10 -> 0 | T10: =U10+V10 -> 0 | U10: 0 | V10: =+R10-U10-W10 -> 0 | W10: =ROUND(S10*(1-D10),2) -> 0 | X10: =IF(S10=0,0,W10/S10) -> 0 | Y10: 2167977.6 | AA10: =E10*Z10 -> 0 | AB10: =AE10+AF10+AG10 -> 0 | AC10: =ROUND($AC$33/$AA$29*Z10,2) -> #DIV/0! | AD10: =AE10+AF10 -> 0 | AH10: =IF(AC10=0,0,AG10/AC10) -> #DIV/0! | AI10: =IF(Z10=0,0,AC10/Z10) -> 0 | AJ10: =K10+L10 -> 7804719 | AK10: =U10+V10 -> 0 | AL10: =AE10+AF10 -> 0 | AM10: =ROUND(AJ10/1000,1) -> 7804.7 | AN10: =ROUND(AK10/1000,1) -> 0 | AO10: =ROUND(AL10/1000,1) -> 0
A11: 5 | B11: Выборгский | C11: =+'расчет точ'!C11 -> 0.89 | D11: =+'расчет точ'!D11 -> 0.89 | E11: =+'расчет точ'!E11 -> 0.9 | F11: 1 | G11: =C11*F11 -> 0.89 | H11: =ROUND(F11*O11,0) -> 2167978 | I11: =+H11 -> 2167978 | J11: =K11+L11 -> 1929500.4 | K11: 62648.6 | L11: =+H11-K11-M11 -> 1866851.8 | M11: =ROUNDUP(I11*(1-C11),2) -> 238477.58 | N11: =IF(I11=0,0,M11/I11) -> 0.11 | O11: 2167977.6 | P11: 3 | Q11: =P11*D11 -> 2.67 | R11: =ROUND(P11*Y11,0) -> 6503933 | S11: =+R11 -> 6503933 | T11: =U11+V11 -> 5788500.4 | U11: 212340.76 | V11: =+R11-U11-W11 -> 5576159.6 | W11: =ROUND(S11*(1-D11),2)+0.01 -> 715432.64 | X11: =IF(S11=0,0,W11/S11) -> 0.11 | Y11: 2167977.6 | AA11: =E11*Z11 -> 0 | AB11: =AE11+AF11+AG11 -> 0 | AC11: =ROUND($AC$33/$AA$29*Z11,2) -> #DIV/0! | AD11: =AE11+AF11 -> 0 | AH11: =IF(AC11=0,0,AG11/AC11) -> #DIV/0! | AI11: =IF(Z11=0,0,AC11/Z11) -> 0 | AJ11: =K11+L11 -> 1929500.4 | AK11: =U11+V11 -> 5788500.4 | AL11: =AE11+AF11 -> 0 | AM11: =ROUND(AJ11/1000,1) -> 1929.5 | AN11: =ROUND(AK11/1000,1) -> 5788.5 | AO11: =ROUND(AL11/1000,1) -> 0
A12: 6 | B12: Гатчинский | C12: =+'расчет точ'!C12 -> 0.87 | D12: =+'расчет точ'!D12 -> 0.87 | E12: =+'расчет точ'!E12 -> 0.87 | F12: 1 | G12: =C12*F12 -> 0.87 | H12: =ROUND(F12*O12,0) -> 2167978 | I12: =+H12 -> 2167978 | J12: =K12+L12 -> 1886140.9 | K12: 61240.77 | L12: =+H12-K12-M12 -> 1824900.1 | M12: =ROUNDUP(I12*(1-C12),2) -> 281837.14 | N12: =IF(I12=0,0,M12/I12) -> 0.13 | O12: 2167977.6 | Q12: =P12*D12 -> 0 | R12: =ROUND(P12*Y12,0) -> 0 | S12: =+R12 -> 0 | T12: =U12+V12 -> 0 | U12: 0 | V12: =+R12-U12-W12 -> 0 | W12: =ROUND(S12*(1-D12),2) -> 0 | X12: =IF(S12=0,0,W12/S12) -> 0 | Y12: 2167977.6 | AA12: =E12*Z12 -> 0 | AB12: =AE12+AF12+AG12 -> 0 | AC12: =ROUND($AC$33/$AA$29*Z12,2) -> #DIV/0! | AD12: =AE12+AF12 -> 0 | AH12: =IF(AC12=0,0,AG12/AC12) -> #DIV/0! | AI12: =IF(Z12=0,0,AC12/Z12) -> 0 | AJ12: =K12+L12 -> 1886140.9 | AK12: =U12+V12 -> 0 | AL12: =AE12+AF12 -> 0 | AM12: =ROUND(AJ12/1000,1) -> 1886.1 | AN12: =ROUND(AK12/1000,1) -> 0 | AO12: =ROUND(AL12/1000,1) -> 0
A13: 7 | B13: Кингисеппский | C13: =+'расчет точ'!C13 -> 0.89 | D13: =+'расчет точ'!D13 -> 0.9 | E13: =+'расчет точ'!E13 -> 0.89 | F13: 2 | G13: =C13*F13 -> 1.78 | H13: =ROUND(F13*O13,0) -> 4335955 | I13: =+H13 -> 4335955 | J13: =K13+L13 -> 3859000 | K13: 125297.2 | L13: =+H13-K13-M13 -> 3733702.8 | M13: =ROUNDUP(I13*(1-C13),2) -> 476955.05 | N13: =IF(I13=0,0,M13/I13) -> 0.11 | O13: 2167977.6 | P13: 1 | Q13: =P13*D13 -> 0.9 | R13: =ROUND(P13*Y13,0) -> 2167978 | S13: =+R13 -> 2167978 | T13: =U13+V13 -> 1951180.2 | U13: 71575.54 | V13: =+R13-U13-W13 -> 1879604.7 | W13: =ROUND(S13*(1-D13),2) -> 216797.8 | X13: =IF(S13=0,0,W13/S13) -> 0.1 | Y13: 2167977.6 | AA13: =E13*Z13 -> 0 | AB13: =AE13+AF13+AG13 -> 0 | AC13: =ROUND($AC$33/$AA$29*Z13,2) -> #DIV/0! | AD13: =AE13+AF13 -> 0 | AH13: =IF(AC13=0,0,AG13/AC13) -> #DIV/0! | AI13: =IF(Z13=0,0,AC13/Z13) -> 0 | AJ13: =K13+L13 -> 3859000 | AK13: =U13+V13 -> 1951180.2 | AL13: =AE13+AF13 -> 0 | AM13: =ROUND(AJ13/1000,1)-0.1 -> 3858.9 | AN13: =ROUND(AK13/1000,1) -> 1951.2 | AO13: =ROUND(AL13/1000,1) -> 0
A14: 8 | B14: Киришский | C14: =+'расчет точ'!C14 -> 0.89 | D14: =+'расчет точ'!D14 -> 0.9 | E14: =+'расчет точ'!E14 -> 0.9 | G14: =C14*F14 -> 0 | H14: =ROUND(F14*O14,0) -> 0 | I14: =+H14 -> 0 | J14: =K14+L14 -> 0 | K14: 0 | L14: =+H14-K14-M14 -> 0 | M14: =ROUNDUP(I14*(1-C14),2) -> 0 | N14: =IF(I14=0,0,M14/I14) -> 0 | O14: 2167977.6 | Q14: =P14*D14 -> 0 | R14: =ROUND(P14*Y14,0) -> 0 | S14: =+R14 -> 0 | T14: =U14+V14 -> 0 | U14: 0 | V14: =+R14-U14-W14 -> 0 | W14: =ROUND(S14*(1-D14),2) -> 0 | X14: =IF(S14=0,0,W14/S14) -> 0 | Y14: 2167977.6 | AA14: =E14*Z14 -> 0 | AB14: =AE14+AF14+AG14 -> 0 | AC14: =ROUND($AC$33/$AA$29*Z14,2) -> #DIV/0! | AD14: =AE14+AF14 -> 0 | AH14: =IF(AC14=0,0,AG14/AC14) -> #DIV/0! | AI14: =IF(Z14=0,0,AC14/Z14) -> 0 | AJ14: =K14+L14 -> 0 | AK14: =U14+V14 -> 0 | AL14: =AE14+AF14 -> 0 | AM14: =ROUND(AJ14/1000,1) -> 0 | AN14: =ROUND(AK14/1000,1) -> 0 | AO14: =ROUND(AL14/1000,1) -> 0
A15: 9 | B15: Кировский | C15: =+'расчет точ'!C15 -> 0.9 | D15: =+'расчет точ'!D15 -> 0.9 | E15: =+'расчет точ'!E15 -> 0.89 | G15: =C15*F15 -> 0 | H15: =ROUND(F15*O15,0) -> 0 | I15: =+H15 -> 0 | J15: =K15+L15 -> 0 | K15: 0 | L15: =+H15-K15-M15 -> 0 | M15: =ROUNDUP(I15*(1-C15),2) -> 0 | N15: =IF(I15=0,0,M15/I15) -> 0 | O15: 2167977.6 | Q15: =P15*D15 -> 0 | R15: =ROUND(P15*Y15,0) -> 0 | S15: =+R15 -> 0 | T15: =U15+V15 -> 0 | U15: 0 | V15: =+R15-U15-W15 -> 0 | W15: =ROUND(S15*(1-D15),2) -> 0 | X15: =IF(S15=0,0,W15/S15) -> 0 | Y15: 2167977.6 | AA15: =E15*Z15 -> 0 | AB15: =AE15+AF15+AG15 -> 0 | AC15: =ROUND($AC$33/$AA$29*Z15,2) -> #DIV/0! | AD15: =AE15+AF15 -> 0 | AH15: =IF(AC15=0,0,AG15/AC15) -> #DIV/0! | AI15: =IF(Z15=0,0,AC15/Z15) -> 0 | AJ15: =K15+L15 -> 0 | AK15: =U15+V15 -> 0 | AL15: =AE15+AF15 -> 0 | AM15: =ROUND(AJ15/1000,1) -> 0 | AN15: =ROUND(AK15/1000,1) -> 0 | AO15: =ROUND(AL15/1000,1) -> 0
A16: 10 | B16: Лодейнопольский | C16: =+'расчет точ'!C16 -> 0.9 | D16: =+'расчет точ'!D16 -> 0.89 | E16: =+'расчет точ'!E16 -> 0.9 | G16: =C16*F16 -> 0 | H16: =ROUND(F16*O16,0) -> 0 | I16: =+H16 -> 0 | J16: =K16+L16 -> 0 | K16: 0 | L16: =+H16-K16-M16 -> 0 | M16: =ROUNDUP(I16*(1-C16),2) -> 0 | N16: =IF(I16=0,0,M16/I16) -> 0 | O16: 2167977.6 | P16: 2 | Q16: =P16*D16 -> 1.78 | R16: =ROUND(P16*Y16,0) -> 4335955 | S16: =+R16 -> 4335955 | T16: =U16+V16 -> 3859000 | U16: 141560.52 | V16: =+R16-U16-W16 -> 3717439.4 | W16: =ROUND(S16*(1-D16),2) -> 476955.05 | X16: =IF(S16=0,0,W16/S16) -> 0.11 | Y16: 2167977.6 | AA16: =E16*Z16 -> 0 | AB16: =AE16+AF16+AG16 -> 0 | AC16: =ROUND($AC$33/$AA$29*Z16,2) -> #DIV/0! | AD16: =AE16+AF16 -> 0 | AH16: =IF(AC16=0,0,AG16/AC16) -> #DIV/0! | AI16: =IF(Z16=0,0,AC16/Z16) -> 0 | AJ16: =K16+L16 -> 0 | AK16: =U16+V16 -> 3859000 | AL16: =AE16+AF16 -> 0 | AM16: =ROUND(AJ16/1000,1) -> 0 | AN16: =ROUND(AK16/1000,1) -> 3859 | AO16: =ROUND(AL16/1000,1) -> 0
A17: 11 | B17: Ломоносовский | C17: =+'расчет точ'!C17 -> 0.89 | D17: =+'расчет точ'!D17 -> 0.89 | E17: =+'расчет точ'!E17 -> 0.9 | F17: 1 | G17: =C17*F17 -> 0.89 | H17: =ROUND(F17*O17,0) -> 2167978 | I17: =+H17 -> 2167978 | J17: =K17+L17 -> 1929500.4 | K17: 62648.6 | L17: =+H17-K17-M17 -> 1866851.8 | M17: =ROUNDUP(I17*(1-C17),2) -> 238477.58 | N17: =IF(I17=0,0,M17/I17) -> 0.11 | O17: 2167977.6 | Q17: =P17*D17 -> 0 | R17: =ROUND(P17*Y17,0) -> 0 | S17: =+R17 -> 0 | T17: =U17+V17 -> 0 | U17: 0 | V17: =+R17-U17-W17 -> 0 | W17: =ROUND(S17*(1-D17),2) -> 0 | X17: =IF(S17=0,0,W17/S17) -> 0 | Y17: 2167977.6 | AA17: =E17*Z17 -> 0 | AB17: =AE17+AF17+AG17 -> 0 | AC17: =ROUND($AC$33/$AA$29*Z17,2) -> #DIV/0! | AD17: =AE17+AF17 -> 0 | AH17: =IF(AC17=0,0,AG17/AC17) -> #DIV/0! | AI17: =IF(Z17=0,0,AC17/Z17) -> 0 | AJ17: =K17+L17 -> 1929500.4 | AK17: =U17+V17 -> 0 | AL17: =AE17+AF17 -> 0 | AM17: =ROUND(AJ17/1000,1) -> 1929.5 | AN17: =ROUND(AK17/1000,1) -> 0 | AO17: =ROUND(AL17/1000,1) -> 0
A18: 12 | B18: Лужский | C18: =+'расчет точ'!C18 -> 0.9 | D18: =+'расчет точ'!D18 -> 0.9 | E18: =+'расчет точ'!E18 -> 0.89 | G18: =C18*F18 -> 0 | H18: =ROUND(F18*O18,0) -> 0 | I18: =+H18 -> 0 | J18: =K18+L18 -> 0 | K18: 0 | L18: =+H18-K18-M18 -> 0 | M18: =ROUNDUP(I18*(1-C18),2) -> 0 | N18: =IF(I18=0,0,M18/I18) -> 0 | O18: 2167977.6 | P18: 2 | Q18: =P18*D18 -> 1.8 | R18: =ROUND(P18*Y18,0) -> 4335955 | S18: =+R18 -> 4335955 | T18: =U18+V18 -> 3902359.5 | U18: 143151.08 | V18: =+R18-U18-W18 -> 3759208.4 | W18: =ROUND(S18*(1-D18),2)+0.01 -> 433595.51 | X18: =IF(S18=0,0,W18/S18) -> 0.1 | Y18: 2167977.6 | AA18: =E18*Z18 -> 0 | AB18: =AE18+AF18+AG18 -> 0 | AC18: =ROUND($AC$33/$AA$29*Z18,2) -> #DIV/0! | AD18: =AE18+AF18 -> 0 | AH18: =IF(AC18=0,0,AG18/AC18) -> #DIV/0! | AI18: =IF(Z18=0,0,AC18/Z18) -> 0 | AJ18: =K18+L18 -> 0 | AK18: =U18+V18 -> 3902359.5 | AL18: =AE18+AF18 -> 0 | AM18: =ROUND(AJ18/1000,1) -> 0 | AN18: =ROUND(AK18/1000,1) -> 3902.4 | AO18: =ROUND(AL18/1000,1) -> 0
A19: 13 | B19: Подпорожский | C19: =+'расчет точ'!C19 -> 0.9 | D19: =+'расчет точ'!D19 -> 0.9 | E19: =+'расчет точ'!E19 -> 0.9 | G19: =C19*F19 -> 0 | H19: =ROUND(F19*O19,0) -> 0 | I19: =+H19 -> 0 | J19: =K19+L19 -> 0 | K19: 0 | L19: =+H19-K19-M19 -> 0 | M19: =ROUNDUP(I19*(1-C19),2) -> 0 | N19: =IF(I19=0,0,M19/I19) -> 0 | O19: 2167977.6 | P19: 1 | Q19: =P19*D19 -> 0.9 | R19: =ROUND(P19*Y19,0) -> 2167978 | S19: =+R19 -> 2167978 | T19: =U19+V19 -> 1951180.2 | U19: 71575.54 | V19: =+R19-U19-W19 -> 1879604.7 | W19: =ROUND(S19*(1-D19),2) -> 216797.8 | X19: =IF(S19=0,0,W19/S19) -> 0.1 | Y19: 2167977.6 | AA19: =E19*Z19 -> 0 | AB19: =AE19+AF19+AG19 -> 0 | AC19: =ROUND($AC$33/$AA$29*Z19,2) -> #DIV/0! | AD19: =AE19+AF19 -> 0 | AH19: =IF(AC19=0,0,AG19/AC19) -> #DIV/0! | AI19: =IF(Z19=0,0,AC19/Z19) -> 0 | AJ19: =K19+L19 -> 0 | AK19: =U19+V19 -> 1951180.2 | AL19: =AE19+AF19 -> 0 | AM19: =ROUND(AJ19/1000,1) -> 0 | AN19: =ROUND(AK19/1000,1) -> 1951.2 | AO19: =ROUND(AL19/1000,1) -> 0
A20: 14 | B20: Приозерский | C20: =+'расчет точ'!C20 -> 0.89 | D20: =+'расчет точ'!D20 -> 0.89 | E20: =+'расчет точ'!E20 -> 0.89 | G20: =C20*F20 -> 0 | H20: =ROUND(F20*O20,0) -> 0 | I20: =+H20 -> 0 | J20: =K20+L20 -> 0 | K20: 0 | L20: =+H20-K20-M20 -> 0 | M20: =ROUNDUP(I20*(1-C20),2) -> 0 | N20: =IF(I20=0,0,M20/I20) -> 0 | O20: 2167977.6 | P20: 1 | Q20: =P20*D20 -> 0.89 | R20: =ROUND(P20*Y20,0) -> 2167978 | S20: =+R20 -> 2167978 | T20: =U20+V20 -> 1929500.4 | U20: 70780.25 | V20: =+R20-U20-W20 -> 1858720.2 | W20: =ROUND(S20*(1-D20),2) -> 238477.58 | X20: =IF(S20=0,0,W20/S20) -> 0.11 | Y20: 2167977.6 | AA20: =E20*Z20 -> 0 | AB20: =AE20+AF20+AG20 -> 0 | AC20: =ROUND($AC$33/$AA$29*Z20,2) -> #DIV/0! | AD20: =AE20+AF20 -> 0 | AH20: =IF(AC20=0,0,AG20/AC20) -> #DIV/0! | AI20: =IF(Z20=0,0,AC20/Z20) -> 0 | AJ20: =K20+L20 -> 0 | AK20: =U20+V20 -> 1929500.4 | AL20: =AE20+AF20 -> 0 | AM20: =ROUND(AJ20/1000,1) -> 0 | AN20: =ROUND(AK20/1000,1) -> 1929.5 | AO20: =ROUND(AL20/1000,1) -> 0
A21: 15 | B21: Сланцевский | C21: =+'расчет точ'!C21 -> 0.9 | D21: =+'расчет точ'!D21 -> 0.89 | E21: =+'расчет точ'!E21 -> 0.88 | F21: 2 | G21: =C21*F21 -> 1.8 | H21: =ROUND(F21*O21,0) -> 4335955 | I21: =+H21 -> 4335955 | J21: =K21+L21 -> 3902359.5 | K21: 126705.04 | L21: =+H21-K21-M21 -> 3775654.5 | M21: =ROUNDUP(I21*(1-C21),2) -> 433595.5 | N21: =IF(I21=0,0,M21/I21) -> 0.1 | O21: 2167977.6 | Q21: =P21*D21 -> 0 | R21: =ROUND(P21*Y21,0) -> 0 | S21: =+R21 -> 0 | T21: =U21+V21 -> 0 | U21: 0 | V21: =+R21-U21-W21 -> 0 | W21: =ROUND(S21*(1-D21),2) -> 0 | X21: =IF(S21=0,0,W21/S21) -> 0 | Y21: 2167977.6 | AA21: =E21*Z21 -> 0 | AB21: =AE21+AF21+AG21 -> 0 | AC21: =ROUND($AC$33/$AA$29*Z21,2) -> #DIV/0! | AD21: =AE21+AF21 -> 0 | AH21: =IF(AC21=0,0,AG21/AC21) -> #DIV/0! | AI21: =IF(Z21=0,0,AC21/Z21) -> 0 | AJ21: =K21+L21 -> 3902359.5 | AK21: =U21+V21 -> 0 | AL21: =AE21+AF21 -> 0 | AM21: =ROUND(AJ21/1000,1) -> 3902.4 | AN21: =ROUND(AK21/1000,1) -> 0 | AO21: =ROUND(AL21/1000,1) -> 0
A22: 16 | B22: Тихвинский | C22: =+'расчет точ'!C22 -> 0.9 | D22: =+'расчет точ'!D22 -> 0.91 | E22: =+'расчет точ'!E22 -> 0.91 | G22: =C22*F22 -> 0 | H22: =ROUND(F22*O22,0) -> 0 | I22: =+H22 -> 0 | J22: =K22+L22 -> 0 | K22: 0 | L22: =+H22-K22-M22 -> 0 | M22: =ROUNDUP(I22*(1-C22),2) -> 0 | N22: =IF(I22=0,0,M22/I22) -> 0 | O22: 2167977.6 | Q22: =P22*D22 -> 0 | R22: =ROUND(P22*Y22,0) -> 0 | S22: =+R22 -> 0 | T22: =U22+V22 -> 0 | U22: 0 | V22: =+R22-U22-W22 -> 0 | W22: =ROUND(S22*(1-D22),2) -> 0 | X22: =IF(S22=0,0,W22/S22) -> 0 | Y22: 2167977.6 | AA22: =E22*Z22 -> 0 | AB22: =AE22+AF22+AG22 -> 0 | AC22: =ROUND($AC$33/$AA$29*Z22,2) -> #DIV/0! | AD22: =AE22+AF22 -> 0 | AH22: =IF(AC22=0,0,AG22/AC22) -> #DIV/0! | AI22: =IF(Z22=0,0,AC22/Z22) -> 0 | AJ22: =K22+L22 -> 0 | AK22: =U22+V22 -> 0 | AL22: =AE22+AF22 -> 0 | AM22: =ROUND(AJ22/1000,1) -> 0 | AN22: =ROUND(AK22/1000,1) -> 0 | AO22: =ROUND(AL22/1000,1) -> 0
A23: 17 | B23: Тосненский | C23: =+'расчет точ'!C23 -> 0.9 | D23: =+'расчет точ'!D23 -> 0.89 | E23: =+'расчет точ'!E23 -> 0.89 | G23: =C23*F23 -> 0 | H23: =ROUND(F23*O23,0) -> 0 | I23: =+H23 -> 0 | J23: =K23+L23 -> 0 | K23: 0 | L23: =+H23-K23-M23 -> 0 | M23: =ROUNDUP(I23*(1-C23),2) -> 0 | N23: =IF(I23=0,0,M23/I23) -> 0 | O23: 2167977.6 | P23: 2 | Q23: =P23*D23 -> 1.78 | R23: =ROUND(P23*Y23,0) -> 4335955 | S23: =+R23 -> 4335955 | T23: =U23+V23 -> 3859000 | U23: 141560.52 | V23: =+R23-U23-W23 -> 3717439.4 | W23: =ROUND(S23*(1-D23),2) -> 476955.05 | X23: =IF(S23=0,0,W23/S23) -> 0.11 | Y23: 2167977.6 | AA23: =E23*Z23 -> 0 | AB23: =AE23+AF23+AG23 -> 0 | AC23: =ROUND($AC$33/$AA$29*Z23,2) -> #DIV/0! | AD23: =AE23+AF23 -> 0 | AH23: =IF(AC23=0,0,AG23/AC23) -> #DIV/0! | AI23: =IF(Z23=0,0,AC23/Z23) -> 0 | AJ23: =K23+L23 -> 0 | AK23: =U23+V23 -> 3859000 | AL23: =AE23+AF23 -> 0 | AM23: =ROUND(AJ23/1000,1) -> 0 | AN23: =ROUND(AK23/1000,1) -> 3859 | AO23: =ROUND(AL23/1000,1) -> 0
A24: 18 | B24: Сосновоборский | C24: =+'расчет точ'!C24 -> 0.77 | D24: =+'расчет точ'!D24 -> 0.76 | E24: =+'расчет точ'!E24 -> 0.78 | G24: =C24*F24 -> 0 | H24: =ROUND(F24*O24,0) -> 0 | I24: =+H24 -> 0 | J24: =K24+L24 -> 0 | K24: 0 | L24: =+H24-K24-M24 -> 0 | M24: =ROUNDUP(I24*(1-C24),2) -> 0 | N24: =IF(I24=0,0,M24/I24) -> 0 | O24: 2167977.6 | Q24: =P24*D24 -> 0 | R24: =ROUND(P24*Y24,0) -> 0 | S24: =+R24 -> 0 | T24: =U24+V24 -> 0 | U24: 0 | V24: =+R24-U24-W24 -> 0 | W24: =ROUND(S24*(1-D24),2) -> 0 | X24: =IF(S24=0,0,W24/S24) -> 0 | Y24: 2167977.6 | AA24: =E24*Z24 -> 0 | AB24: =AE24+AF24+AG24 -> 0 | AC24: =ROUND($AC$33/$AA$29*Z24,2) -> #DIV/0! | AD24: =AE24+AF24 -> 0 | AH24: =IF(AC24=0,0,AG24/AC24) -> #DIV/0! | AI24: =IF(Z24=0,0,AC24/Z24) -> 0 | AJ24: =K24+L24 -> 0 | AK24: =U24+V24 -> 0 | AL24: =AE24+AF24 -> 0 | AM24: =ROUND(AJ24/1000,1) -> 0 | AN24: =ROUND(AK24/1000,1) -> 0 | AO24: =ROUND(AL24/1000,1) -> 0
B25: Всего по МР (ГО) | F25: =SUM(F7:F24) -> 14 | G25: =SUM(G7:G24) -> 12.51 | H25: =SUM(H7:H24) -> 30351687 | I25: =SUM(I7:I24) -> 30351687 | J25: =SUM(J7:J24) -> 27121400 | K25: =SUM(K7:K24) -> 880600 | L25: =SUM(L7:L24) -> 26240800 | M25: =SUM(M7:M24) -> 3230286.7 | N25: =IF(I25=0,0,M25/I25) -> 0.10642857 | O25: 2167977.6 | P25: =SUM(P7:P24) -> 14 | Q25: =SUM(Q7:Q24) -> 12.51 | R25: =ROUND(P25*Y25,0) -> 30351687 | S25: =+R25 -> 30351687 | T25: =SUM(T7:T24) -> 27121400 | U25: 994900 | V25: =+R25-U25-W25 -> 26126500 | W25: =SUM(W7:W24) -> 3230286.8 | X25: =IF(S25=0,0,W25/S25) -> 0.10642858 | Y25: 2167977.6 | Z25: =SUM(Z7:Z24) -> 0 | AA25: =SUM(AA7:AA24) -> 0 | AB25: =SUM(AB7:AB24) -> 0 | AC25: =SUM(AC7:AC24) -> #DIV/0! | AD25: =SUM(AD7:AD24) -> 0 | AE25: =SUM(AE7:AE24) -> 0 | AF25: =SUM(AF7:AF24) -> 0 | AG25: =SUM(AG7:AG24) -> 0 | AH25: =IF(AC25=0,0,AG25/AC25) -> #DIV/0! | AI25: =IF(Z25=0,0,AC25/Z25) -> 0 | AJ25: =SUM(AJ7:AJ24) -> 27121400 | AK25: =SUM(AK7:AK24) -> 27121400 | AL25: =SUM(AL7:AL24) -> 0 | AM25: =SUM(AM7:AM24)+0.1 -> 27121.4 | AN25: =SUM(AN7:AN24) -> 27121.4 | AO25: =SUM(AO7:AO24) -> 0
A26: 0702 | B26: ГУ | G26: =C26*F26 -> 0 | H26: =K26+L26+M26 -> 0 | I26: =ROUND($H$33/$G$29*F26,2) -> 0 | J26: =K26+L26 -> 0 | K26: =ROUND((I26-M26)*(1-$H$35),2) -> 0 | L26: =ROUND((I26-M26)*$H$35,2) -> 0 | M26: =ROUNDUP(I26*(1-C26),2) -> 0 | N26: =IF(I26=0,0,M26/I26) -> 0 | O26: 2167977.6 | Q26: =P26*D26 -> 0 | R26: =ROUND(P26*Y26,0) -> 0 | S26: =+R26 -> 0 | T26: =U26+V26 -> 0 | U26: 0 | V26: =+R26-U26-W26 -> 0 | W26: =ROUND(S26*(1-D26),2) -> 0 | X26: =IF(S26=0,0,W26/S26) -> 0 | Y26: 2167977.6 | AB26: =AE26+AF26+AG26 -> 0 | AC26: =ROUND($AC$33/$AA$29*Z26,2) -> #DIV/0! | AD26: =AE26+AF26 -> 0 | AH26: =IF(AC26=0,0,AG26/AC26) -> #DIV/0! | AI26: =IF(Z26=0,0,AC26/Z26) -> 0 | AJ26: =K26+L26 -> 0 | AK26: =U26+V26 -> 0 | AL26: =AE26+AF26 -> 0 | AM26: =ROUND(AJ26/1000,1) -> 0 | AN26: =ROUND(AK26/1000,1) -> 0 | AO26: =ROUND(AL26/1000,1) -> 0
A27: 0703 | B27: ГУ | G27: =C27*F27 -> 0 | H27: =K27+L27+M27 -> 0 | I27: =ROUND($H$33/$G$29*F27,2) -> 0 | J27: =K27+L27 -> 0 | K27: =ROUND((I27-M27)*(1-$H$35),2) -> 0 | L27: =ROUND((I27-M27)*$H$35,2) -> 0 | M27: =ROUNDUP(I27*(1-C27),2) -> 0 | N27: =IF(I27=0,0,M27/I27) -> 0 | O27: 2167977.6 | Q27: =P27*D27 -> 0 | R27: =ROUND(P27*Y27,0) -> 0 | S27: =+R27 -> 0 | T27: =U27+V27 -> 0 | U27: 0 | V27: =+R27-U27-W27 -> 0 | W27: =ROUND(S27*(1-D27),2) -> 0 | X27: =IF(S27=0,0,W27/S27) -> 0 | Y27: 2167977.6 | AB27: =AE27+AF27+AG27 -> 0 | AC27: =ROUND($AC$33/$AA$29*Z27,2) -> #DIV/0! | AD27: =AE27+AF27 -> 0 | AH27: =IF(AC27=0,0,AG27/AC27) -> #DIV/0! | AI27: =IF(Z27=0,0,AC27/Z27) -> 0 | AJ27: =K27+L27 -> 0 | AK27: =U27+V27 -> 0 | AL27: =AE27+AF27 -> 0 | AM27: =ROUND(AJ27/1000,1) -> 0 | AN27: =ROUND(AK27/1000,1) -> 0 | AO27: =ROUND(AL27/1000,1) -> 0
A28: 0704 | B28: ГУ | G28: =C28*F28 -> 0 | H28: =K28+L28+M28 -> 0 | I28: =ROUND($H$33/$G$29*F28,2) -> 0 | J28: =K28+L28 -> 0 | K28: =ROUND((I28-M28)*(1-$H$35),2) -> 0 | L28: =ROUND((I28-M28)*$H$35,2) -> 0 | M28: =ROUNDUP(I28*(1-C28),2) -> 0 | N28: =IF(I28=0,0,M28/I28) -> 0 | O28: 2167977.6 | Q28: =P28*D28 -> 0 | R28: =ROUND(P28*Y28,0) -> 0 | S28: =+R28 -> 0 | T28: =U28+V28 -> 0 | U28: 0 | V28: =+R28-U28-W28 -> 0 | W28: =ROUND(S28*(1-D28),2) -> 0 | X28: =IF(S28=0,0,W28/S28) -> 0 | Y28: 2167977.6 | AB28: =AE28+AF28+AG28 -> 0 | AC28: =ROUND($AC$33/$AA$29*Z28,2) -> #DIV/0! | AD28: =AE28+AF28 -> 0 | AH28: =IF(AC28=0,0,AG28/AC28) -> #DIV/0! | AI28: =IF(Z28=0,0,AC28/Z28) -> 0 | AJ28: =K28+L28 -> 0 | AK28: =U28+V28 -> 0 | AL28: =AE28+AF28 -> 0 | AM28: =ROUND(AJ28/1000,1) -> 0 | AN28: =ROUND(AK28/1000,1) -> 0 | AO28: =ROUND(AL28/1000,1) -> 0
B29: Итого | F29: =F25+F26+F27+F28 -> 14 | G29: =G25+G26+G27+G28 -> 12.51 | H29: =H25+H26+H27+H28 -> 30351687 | I29: =I25+I26+I27+I28 -> 30351687 | J29: =J25+J26+J27+J28 -> 27121400 | K29: =K25+K26+K27+K28 -> 880600 | L29: =L25+L26+L27+L28 -> 26240800 | M29: =M25+M26+M27+M28 -> 3230286.7 | N29: =IF(I29=0,0,M29/I29) -> 0.10642857 | O29: 2167977.6 | P29: =P25+P26+P27+P28 -> 14 | Q29: =Q25+Q26+Q27+Q28 -> 12.51 | R29: =R25+R26+R27+R28 -> 30351687 | S29: =+R29 -> 30351687 | T29: =T25+T26+T27+T28 -> 27121400 | U29: =U25+U26+U27+U28 -> 994900 | V29: =V25+V26+V27+V28 -> 26126500 | W29: =W25+W26+W27+W28 -> 3230286.8 | X29: =IF(S29=0,0,W29/S29) -> 0.10642858 | Y29: 2167977.6 | Z29: =Z25+Z26+Z27+Z28 -> 0 | AA29: =AA25+AA26+AA27+AA28 -> 0 | AB29: =AB25+AB26+AB27+AB28 -> 0 | AC29: =AC25+AC26+AC27+AC28 -> #DIV/0! | AD29: =AD25+AD26+AD27+AD28 -> 0 | AE29: =AE25+AE26+AE27+AE28 -> 0 | AF29: =AF25+AF26+AF27+AF28 -> 0 | AG29: =AG25+AG26+AG27+AG28 -> 0 | AH29: =IF(AC29=0,0,AG29/AC29) -> #DIV/0! | AI29: =IF(Z29=0,0,AC29/Z29) -> 0 | AJ29: =AJ25+AJ26+AJ27+AJ28 -> 27121400 | AK29: =AK25+AK26+AK27+AK28 -> 27121400 | AL29: =AL25+AL26+AL27+AL28 -> 0 | AM29: =AM25+AM26+AM27+AM28 -> 27121.4 | AN29: =AN25+AN26+AN27+AN28 -> 27121.4 | AO29: =AO25+AO26+AO27+AO28 -> 0
J30: =+J29-K29 -> 26240800 | L30: 526900 | V30: 490025.37 | AM30: =ROUND(AJ30/1000,1) -> 0 | AN30: =ROUND(AK30/1000,1) -> 0 | AO30: =ROUND(AL30/1000,1) -> 0
G31: ФБ | H31: 880600 | I31: =H31-K29 -> 0 | L31: =+L29-L30 -> 25713900 | S31: 994900 | T31: =S31-U29 -> 0 | V31: =+V29-V30 -> 25636475 | AD31: =AC31-AE29 -> 0
G32: ОБ | H32: =+L25 -> 26240800 | I32: =H32-L29 -> 0 | S32: =+V25 -> 26126500 | T32: =S32-V29 -> 0 | AC32: =AC31/67*33 -> 0 | AD32: =AC32-AF29 -> 0
G33: ФБ+ОБ | H33: =+H31+H32 -> 27121400 | S33: =SUM(S31:S32) -> 27121400 | AC33: =SUM(AC31:AC32) -> 0
H35: =H32/H33 -> 0.96753118 | S35: =S32/S33 -> 0.96331679 | AC35: =AC32/AC33 -> #DIV/0!

Sheet расчет квант
AO1: Приложение 45 к пояснительной записке 2023 г.
A2: Расчет субстидий на создание детских технопарков "Кванториум" на 2023 год и на плановый период 2024 и 2025 годов
A3: № п\п | B3: Название муниципального района | C3: предельный уровень софинансирования, % | AJ3: В проект закона, руб | AM3: В проект закона, тыс. руб.
F4: 2023 год | P4: 2024 год | Z4: 2025 год
F5: Количество Центров в МР (ГО) | H5: ВСЕГО | I5: распределение | N5: проверка % софинансирования МБ | O5: средняя стоимость 1 объекта | P5: Количество Центров в МР (ГО) | R5: ВСЕГО | S5: распределение | X5: проверка % софинансирования МБ | Y5: средняя стоимость 1 объекта | Z5: Количество Центров в МР (ГО) | AB5: ВСЕГО | AC5: распределение | AH5: проверка % софинансирования МБ | AI5: средняя стоимость 1 объекта
C6: =+'расчет точ'!C6 -> 2023 | D6: =+'расчет точ'!D6 -> 2024 | E6: =+'расчет точ'!E6 -> 2025 | I6: ФБ+ОБ+МБ | J6: ИТОГО ФБ+ОБ | K6: фб_по предельному уровню | L6: об_по предельному уровню | M6: мб_по предельному уровню | S6: ФБ+ОБ+МБ | T6: ИТОГО ФБ+ОБ | U6: фб_по предельному уровню | V6: об_по предельному уровню | W6: мб_по предельному уровню | AC6: ФБ+ОБ+МБ | AD6: ИТОГО ФБ+ОБ | AE6: фб_по предельному уровню | AF6: об_по рпедельному уровню | AG6: мб_по предельному уровню | AJ6: 2023 | AK6: 2024 | AL6: 2025 | AM6: 2023 | AN6: 2024 | AO6: 2025
A7: 1 | B7: Бокситогорский | C7: =+'расчет точ'!C7 -> 0.89 | D7: =+'расчет точ'!D7 -> 0.89 | E7: =+'расчет точ'!E7 -> 0.9 | G7: =C7*F7 -> 0 | H7: =K7+L7+M7 -> 0 | I7: =ROUND($H$33/$G$29*F7,2) -> 0 | J7: =K7+L7 -> 0 | K7: =ROUND((I7-M7)*(1-$H$35),2) -> 0 | L7: =ROUND((I7-M7)*$H$35,2) -> 0 | M7: =ROUNDUP(I7*(1-C7),2) -> 0 | N7: =IF(I7=0,0,M7/I7) -> 0 | O7: =IF(F7=0,0,I7/F7) -> 0 | Q7: =P7*D7 -> 0 | R7: =U7+V7+W7 -> 0 | S7: =ROUND($S$33/$Q$29*P7,2) -> 0 | T7: =U7+V7 -> 0 | U7: =ROUND((S7-W7)*(1-$S$35),2) -> 0 | V7: =ROUND((S7-W7)*$S$35,2) -> 0 | W7: =ROUND(S7*(1-D7),2) -> 0 | X7: =IF(S7=0,0,W7/S7) -> 0 | Y7: =IF(P7=0,0,S7/P7) -> 0 | AA7: =E7*Z7 -> 0 | AB7: =AE7+AF7+AG7 -> #DIV/0! | AC7: =ROUND($AC$33/$AA$29*Z7,2) -> #DIV/0! | AD7: =AE7+AF7 -> #DIV/0! | AE7: =ROUND((AC7-AG7)*(1-$AC$35),2) -> #DIV/0! | AF7: =ROUND((AC7-AG7)*$AC$35,2) -> #DIV/0! | AG7: =ROUNDUP(AC7*(1-E7),2) -> #DIV/0! | AH7: =IF(AC7=0,0,AG7/AC7) -> #DIV/0! | AI7: =IF(Z7=0,0,AC7/Z7) -> 0 | AJ7: =K7+L7 -> 0 | AK7: =U7+V7 -> 0 | AL7: - | AM7: =ROUND(AJ7/1000,1) -> 0 | AN7: =ROUND(AK7/1000,1) -> 0 | AO7: -
A8: 2 | B8: Волосовский | C8: =+'расчет точ'!C8 -> 0.9 | D8: =+'расчет точ'!D8 -> 0.9 | E8: =+'расчет точ'!E8 -> 0.89 | G8: =C8*F8 -> 0 | H8: =K8+L8+M8 -> 0 | I8: =ROUND($H$33/$G$29*F8,2) -> 0 | J8: =K8+L8 -> 0 | K8: =ROUND((I8-M8)*(1-$H$35),2) -> 0 | L8: =ROUND((I8-M8)*$H$35,2) -> 0 | M8: =ROUNDUP(I8*(1-C8),2) -> 0 | N8: =IF(I8=0,0,M8/I8) -> 0 | O8: =IF(F8=0,0,I8/F8) -> 0 | Q8: =P8*D8 -> 0 | R8: =U8+V8+W8 -> 0 | S8: =ROUND($S$33/$Q$29*P8,2) -> 0 | T8: =U8+V8 -> 0 | U8: =ROUND((S8-W8)*(1-$S$35),2) -> 0 | V8: =ROUND((S8-W8)*$S$35,2) -> 0 | W8: =ROUND(S8*(1-D8),2) -> 0 | X8: =IF(S8=0,0,W8/S8) -> 0 | Y8: =IF(P8=0,0,S8/P8) -> 0 | AA8: =E8*Z8 -> 0 | AB8: =AE8+AF8+AG8 -> #DIV/0! | AC8: =ROUND($AC$33/$AA$29*Z8,2) -> #DIV/0! | AD8: =AE8+AF8 -> #DIV/0! | AE8: =ROUND((AC8-AG8)*(1-$AC$35),2) -> #DIV/0! | AF8: =ROUND((AC8-AG8)*$AC$35,2) -> #DIV/0! | AG8: =ROUNDUP(AC8*(1-E8),2) -> #DIV/0! | AH8: =IF(AC8=0,0,AG8/AC8) -> #DIV/0! | AI8: =IF(Z8=0,0,AC8/Z8) -> 0 | AJ8: =K8+L8 -> 0 | AK8: =U8+V8 -> 0 | AL8: - | AM8: =ROUND(AJ8/1000,1) -> 0 | AN8: =ROUND(AK8/1000,1) -> 0 | AO8: -
A9: 3 | B9: Волховский | C9: =+'расчет точ'!C9 -> 0.9 | D9: =+'расчет точ'!D9 -> 0.9 | E9: =+'расчет точ'!E9 -> 0.9 | G9: =C9*F9 -> 0 | H9: =K9+L9+M9 -> 0 | I9: =ROUND($H$33/$G$29*F9,2) -> 0 | J9: =K9+L9 -> 0 | K9: =ROUND((I9-M9)*(1-$H$35),2) -> 0 | L9: =ROUND((I9-M9)*$H$35,2) -> 0 | M9: =ROUNDUP(I9*(1-C9),2) -> 0 | N9: =IF(I9=0,0,M9/I9) -> 0 | O9: =IF(F9=0,0,I9/F9) -> 0 | Q9: =P9*D9 -> 0 | R9: =U9+V9+W9 -> 0 | S9: =ROUND($S$33/$Q$29*P9,2) -> 0 | T9: =U9+V9 -> 0 | U9: =ROUND((S9-W9)*(1-$S$35),2) -> 0 | V9: =ROUND((S9-W9)*$S$35,2) -> 0 | W9: =ROUND(S9*(1-D9),2) -> 0 | X9: =IF(S9=0,0,W9/S9) -> 0 | Y9: =IF(P9=0,0,S9/P9) -> 0 | AA9: =E9*Z9 -> 0 | AB9: =AE9+AF9+AG9 -> #DIV/0! | AC9: =ROUND($AC$33/$AA$29*Z9,2) -> #DIV/0! | AD9: =AE9+AF9 -> #DIV/0! | AE9: =ROUND((AC9-AG9)*(1-$AC$35),2) -> #DIV/0! | AF9: =ROUND((AC9-AG9)*$AC$35,2) -> #DIV/0! | AG9: =ROUNDUP(AC9*(1-E9),2) -> #DIV/0! | AH9: =IF(AC9=0,0,AG9/AC9) -> #DIV/0! | AI9: =IF(Z9=0,0,AC9/Z9) -> 0 | AJ9: =K9+L9 -> 0 | AK9: =U9+V9 -> 0 | AL9: - | AM9: =ROUND(AJ9/1000,1) -> 0 | AN9: =ROUND(AK9/1000,1) -> 0 | AO9: -
A10: 4 | B10: Всеволожский | C10: =+'расчет точ'!C10 -> 0.9 | D10: =+'расчет точ'!D10 -> 0.9 | E10: =+'расчет точ'!E10 -> 0.89 | F10: 1 | G10: =C10*F10 -> 0.9 | H10: =K10+L10+M10 -> 23730111 | I10: =ROUND($H$33/$G$29*F10,2) -> 23730111 | J10: =K10+L10 -> 21357100 | K10: =ROUND((I10-M10)*(1-$H$35),2) -> 14309200 | L10: =ROUND((I10-M10)*$H$35,2) -> 7047900 | M10: =ROUNDUP(I10*(1-C10),2)-0.01 -> 2373011.1 | N10: =IF(I10=0,0,M10/I10) -> 0.1 | O10: =IF(F10=0,0,I10/F10) -> 23730111 | Q10: =P10*D10 -> 0 | R10: =U10+V10+W10 -> 0 | S10: =ROUND($S$33/$Q$29*P10,2) -> 0 | T10: =U10+V10 -> 0 | U10: =ROUND((S10-W10)*(1-$S$35),2) -> 0 | V10: =ROUND((S10-W10)*$S$35,2) -> 0 | W10: =ROUND(S10*(1-D10),2) -> 0 | X10: =IF(S10=0,0,W10/S10) -> 0 | Y10: =IF(P10=0,0,S10/P10) -> 0 | AA10: =E10*Z10 -> 0 | AB10: =AE10+AF10+AG10 -> #DIV/0! | AC10: =ROUND($AC$33/$AA$29*Z10,2) -> #DIV/0! | AD10: =AE10+AF10 -> #DIV/0! | AE10: =ROUND((AC10-AG10)*(1-$AC$35),2) -> #DIV/0! | AF10: =ROUND((AC10-AG10)*$AC$35,2) -> #DIV/0! | AG10: =ROUNDUP(AC10*(1-E10),2) -> #DIV/0! | AH10: =IF(AC10=0,0,AG10/AC10) -> #DIV/0! | AI10: =IF(Z10=0,0,AC10/Z10) -> 0 | AJ10: =K10+L10 -> 21357100 | AK10: =U10+V10 -> 0 | AL10: - | AM10: =ROUND(AJ10/1000,1) -> 21357.1 | AN10: =ROUND(AK10/1000,1) -> 0 | AO10: -
A11: 5 | B11: Выборгский | C11: =+'расчет точ'!C11 -> 0.89 | D11: =+'расчет точ'!D11 -> 0.89 | E11: =+'расчет точ'!E11 -> 0.9 | G11: =C11*F11 -> 0 | H11: =K11+L11+M11 -> 0 | I11: =ROUND($H$33/$G$29*F11,2) -> 0 | J11: =K11+L11 -> 0 | K11: =ROUND((I11-M11)*(1-$H$35),2) -> 0 | L11: =ROUND((I11-M11)*$H$35,2) -> 0 | M11: =ROUNDUP(I11*(1-C11),2) -> 0 | N11: =IF(I11=0,0,M11/I11) -> 0 | O11: =IF(F11=0,0,I11/F11) -> 0 | Q11: =P11*D11 -> 0 | R11: =U11+V11+W11 -> 0 | S11: =ROUND($S$33/$Q$29*P11,2) -> 0 | T11: =U11+V11 -> 0 | U11: =ROUND((S11-W11)*(1-$S$35),2) -> 0 | V11: =ROUND((S11-W11)*$S$35,2) -> 0 | W11: =ROUND(S11*(1-D11),2) -> 0 | X11: =IF(S11=0,0,W11/S11) -> 0 | Y11: =IF(P11=0,0,S11/P11) -> 0 | AA11: =E11*Z11 -> 0 | AB11: =AE11+AF11+AG11 -> #DIV/0! | AC11: =ROUND($AC$33/$AA$29*Z11,2) -> #DIV/0! | AD11: =AE11+AF11 -> #DIV/0! | AE11: =ROUND((AC11-AG11)*(1-$AC$35),2) -> #DIV/0! | AF11: =ROUND((AC11-AG11)*$AC$35,2) -> #DIV/0! | AG11: =ROUNDUP(AC11*(1-E11),2) -> #DIV/0! | AH11: =IF(AC11=0,0,AG11/AC11) -> #DIV/0! | AI11: =IF(Z11=0,0,AC11/Z11) -> 0 | AJ11: =K11+L11 -> 0 | AK11: =U11+V11 -> 0 | AL11: - | AM11: =ROUND(AJ11/1000,1) -> 0 | AN11: =ROUND(AK11/1000,1) -> 0 | AO11: -
A12: 6 | B12: Гатчинский | C12: =+'расчет точ'!C12 -> 0.87 | D12: =+'расчет точ'!D12 -> 0.87 | E12: =+'расчет точ'!E12 -> 0.87 | G12: =C12*F12 -> 0 | H12: =K12+L12+M12 -> 0 | I12: =ROUND($H$33/$G$29*F12,2) -> 0 | J12: =K12+L12 -> 0 | K12: =ROUND((I12-M12)*(1-$H$35),2) -> 0 | L12: =ROUND((I12-M12)*$H$35,2) -> 0 | M12: =ROUNDUP(I12*(1-C12),2) -> 0 | N12: =IF(I12=0,0,M12/I12) -> 0 | O12: =IF(F12=0,0,I12/F12) -> 0 | Q12: =P12*D12 -> 0 | R12: =U12+V12+W12 -> 0 | S12: =ROUND($S$33/$Q$29*P12,2) -> 0 | T12: =U12+V12 -> 0 | U12: =ROUND((S12-W12)*(1-$S$35),2) -> 0 | V12: =ROUND((S12-W12)*$S$35,2) -> 0 | W12: =ROUND(S12*(1-D12),2) -> 0 | X12: =IF(S12=0,0,W12/S12) -> 0 | Y12: =IF(P12=0,0,S12/P12) -> 0 | AA12: =E12*Z12 -> 0 | AB12: =AE12+AF12+AG12 -> #DIV/0! | AC12: =ROUND($AC$33/$AA$29*Z12,2) -> #DIV/0! | AD12: =AE12+AF12 -> #DIV/0! | AE12: =ROUND((AC12-AG12)*(1-$AC$35),2) -> #DIV/0! | AF12: =ROUND((AC12-AG12)*$AC$35,2) -> #DIV/0! | AG12: =ROUNDUP(AC12*(1-E12),2) -> #DIV/0! | AH12: =IF(AC12=0,0,AG12/AC12) -> #DIV/0! | AI12: =IF(Z12=0,0,AC12/Z12) -> 0 | AJ12: =K12+L12 -> 0 | AK12: =U12+V12 -> 0 | AL12: - | AM12: =ROUND(AJ12/1000,1) -> 0 | AN12: =ROUND(AK12/1000,1) -> 0 | AO12: -
A13: 7 | B13: Кингисеппский | C13: =+'расчет точ'!C13 -> 0.89 | D13: =+'расчет точ'!D13 -> 0.9 | E13: =+'расчет точ'!E13 -> 0.89 | G13: =C13*F13 -> 0 | H13: =K13+L13+M13 -> 0 | I13: =ROUND($H$33/$G$29*F13,2) -> 0 | J13: =K13+L13 -> 0 | K13: =ROUND((I13-M13)*(1-$H$35),2) -> 0 | L13: =ROUND((I13-M13)*$H$35,2) -> 0 | M13: =ROUNDUP(I13*(1-C13),2) -> 0 | N13: =IF(I13=0,0,M13/I13) -> 0 | O13: =IF(F13=0,0,I13/F13) -> 0 | Q13: =P13*D13 -> 0 | R13: =U13+V13+W13 -> 0 | S13: =ROUND($S$33/$Q$29*P13,2) -> 0 | T13: =U13+V13 -> 0 | U13: =ROUND((S13-W13)*(1-$S$35),2) -> 0 | V13: =ROUND((S13-W13)*$S$35,2) -> 0 | W13: =ROUND(S13*(1-D13),2) -> 0 | X13: =IF(S13=0,0,W13/S13) -> 0 | Y13: =IF(P13=0,0,S13/P13) -> 0 | AA13: =E13*Z13 -> 0 | AB13: =AE13+AF13+AG13 -> #DIV/0! | AC13: =ROUND($AC$33/$AA$29*Z13,2) -> #DIV/0! | AD13: =AE13+AF13 -> #DIV/0! | AE13: =ROUND((AC13-AG13)*(1-$AC$35),2) -> #DIV/0! | AF13: =ROUND((AC13-AG13)*$AC$35,2) -> #DIV/0! | AG13: =ROUNDUP(AC13*(1-E13),2) -> #DIV/0! | AH13: =IF(AC13=0,0,AG13/AC13) -> #DIV/0! | AI13: =IF(Z13=0,0,AC13/Z13) -> 0 | AJ13: =K13+L13 -> 0 | AK13: =U13+V13 -> 0 | AL13: - | AM13: =ROUND(AJ13/1000,1) -> 0 | AN13: =ROUND(AK13/1000,1) -> 0 | AO13: -
A14: 8 | B14: Киришский | C14: =+'расчет точ'!C14 -> 0.89 | D14: =+'расчет точ'!D14 -> 0.9 | E14: =+'расчет точ'!E14 -> 0.9 | G14: =C14*F14 -> 0 | H14: =K14+L14+M14 -> 0 | I14: =ROUND($H$33/$G$29*F14,2) -> 0 | J14: =K14+L14 -> 0 | K14: =ROUND((I14-M14)*(1-$H$35),2) -> 0 | L14: =ROUND((I14-M14)*$H$35,2) -> 0 | M14: =ROUNDUP(I14*(1-C14),2) -> 0 | N14: =IF(I14=0,0,M14/I14) -> 0 | O14: =IF(F14=0,0,I14/F14) -> 0 | Q14: =P14*D14 -> 0 | R14: =U14+V14+W14 -> 0 | S14: =ROUND($S$33/$Q$29*P14,2) -> 0 | T14: =U14+V14 -> 0 | U14: =ROUND((S14-W14)*(1-$S$35),2) -> 0 | V14: =ROUND((S14-W14)*$S$35,2) -> 0 | W14: =ROUND(S14*(1-D14),2) -> 0 | X14: =IF(S14=0,0,W14/S14) -> 0 | Y14: =IF(P14=0,0,S14/P14) -> 0 | AA14: =E14*Z14 -> 0 | AB14: =AE14+AF14+AG14 -> #DIV/0! | AC14: =ROUND($AC$33/$AA$29*Z14,2) -> #DIV/0! | AD14: =AE14+AF14 -> #DIV/0! | AE14: =ROUND((AC14-AG14)*(1-$AC$35),2) -> #DIV/0! | AF14: =ROUND((AC14-AG14)*$AC$35,2) -> #DIV/0! | AG14: =ROUNDUP(AC14*(1-E14),2) -> #DIV/0! | AH14: =IF(AC14=0,0,AG14/AC14) -> #DIV/0! | AI14: =IF(Z14=0,0,AC14/Z14) -> 0 | AJ14: =K14+L14 -> 0 | AK14: =U14+V14 -> 0 | AL14: - | AM14: =ROUND(AJ14/1000,1) -> 0 | AN14: =ROUND(AK14/1000,1) -> 0 | AO14: -
A15: 9 | B15: Кировский | C15: =+'расчет точ'!C15 -> 0.9 | D15: =+'расчет точ'!D15 -> 0.9 | E15: =+'расчет точ'!E15 -> 0.89 | G15: =C15*F15 -> 0 | H15: =K15+L15+M15 -> 0 | I15: =ROUND($H$33/$G$29*F15,2) -> 0 | J15: =K15+L15 -> 0 | K15: =ROUND((I15-M15)*(1-$H$35),2) -> 0 | L15: =ROUND((I15-M15)*$H$35,2) -> 0 | M15: =ROUNDUP(I15*(1-C15),2) -> 0 | N15: =IF(I15=0,0,M15/I15) -> 0 | O15: =IF(F15=0,0,I15/F15) -> 0 | Q15: =P15*D15 -> 0 | R15: =U15+V15+W15 -> 0 | S15: =ROUND($S$33/$Q$29*P15,2) -> 0 | T15: =U15+V15 -> 0 | U15: =ROUND((S15-W15)*(1-$S$35),2) -> 0 | V15: =ROUND((S15-W15)*$S$35,2) -> 0 | W15: =ROUND(S15*(1-D15),2) -> 0 | X15: =IF(S15=0,0,W15/S15) -> 0 | Y15: =IF(P15=0,0,S15/P15) -> 0 | AA15: =E15*Z15 -> 0 | AB15: =AE15+AF15+AG15 -> #DIV/0! | AC15: =ROUND($AC$33/$AA$29*Z15,2) -> #DIV/0! | AD15: =AE15+AF15 -> #DIV/0! | AE15: =ROUND((AC15-AG15)*(1-$AC$35),2) -> #DIV/0! | AF15: =ROUND((AC15-AG15)*$AC$35,2) -> #DIV/0! | AG15: =ROUNDUP(AC15*(1-E15),2) -> #DIV/0! | AH15: =IF(AC15=0,0,AG15/AC15) -> #DIV/0! | AI15: =IF(Z15=0,0,AC15/Z15) -> 0 | AJ15: =K15+L15 -> 0 | AK15: =U15+V15 -> 0 | AL15: - | AM15: =ROUND(AJ15/1000,1) -> 0 | AN15: =ROUND(AK15/1000,1) -> 0 | AO15: -
A16: 10 | B16: Лодейнопольский | C16: =+'расчет точ'!C16 -> 0.9 | D16: =+'расчет точ'!D16 -> 0.89 | E16: =+'расчет точ'!E16 -> 0.9 | G16: =C16*F16 -> 0 | H16: =K16+L16+M16 -> 0 | I16: =ROUND($H$33/$G$29*F16,2) -> 0 | J16: =K16+L16 -> 0 | K16: =ROUND((I16-M16)*(1-$H$35),2) -> 0 | L16: =ROUND((I16-M16)*$H$35,2) -> 0 | M16: =ROUNDUP(I16*(1-C16),2) -> 0 | N16: =IF(I16=0,0,M16/I16) -> 0 | O16: =IF(F16=0,0,I16/F16) -> 0 | Q16: =P16*D16 -> 0 | R16: =U16+V16+W16 -> 0 | S16: =ROUND($S$33/$Q$29*P16,2) -> 0 | T16: =U16+V16 -> 0 | U16: =ROUND((S16-W16)*(1-$S$35),2) -> 0 | V16: =ROUND((S16-W16)*$S$35,2) -> 0 | W16: =ROUND(S16*(1-D16),2) -> 0 | X16: =IF(S16=0,0,W16/S16) -> 0 | Y16: =IF(P16=0,0,S16/P16) -> 0 | AA16: =E16*Z16 -> 0 | AB16: =AE16+AF16+AG16 -> #DIV/0! | AC16: =ROUND($AC$33/$AA$29*Z16,2) -> #DIV/0! | AD16: =AE16+AF16 -> #DIV/0! | AE16: =ROUND((AC16-AG16)*(1-$AC$35),2) -> #DIV/0! | AF16: =ROUND((AC16-AG16)*$AC$35,2) -> #DIV/0! | AG16: =ROUNDUP(AC16*(1-E16),2) -> #DIV/0! | AH16: =IF(AC16=0,0,AG16/AC16) -> #DIV/0! | AI16: =IF(Z16=0,0,AC16/Z16) -> 0 | AJ16: =K16+L16 -> 0 | AK16: =U16+V16 -> 0 | AL16: - | AM16: =ROUND(AJ16/1000,1) -> 0 | AN16: =ROUND(AK16/1000,1) -> 0 | AO16: -
A17: 11 | B17: Ломоносовский | C17: =+'расчет точ'!C17 -> 0.89 | D17: =+'расчет точ'!D17 -> 0.89 | E17: =+'расчет точ'!E17 -> 0.9 | G17: =C17*F17 -> 0 | H17: =K17+L17+M17 -> 0 | I17: =ROUND($H$33/$G$29*F17,2) -> 0 | J17: =K17+L17 -> 0 | K17: =ROUND((I17-M17)*(1-$H$35),2) -> 0 | L17: =ROUND((I17-M17)*$H$35,2) -> 0 | M17: =ROUNDUP(I17*(1-C17),2) -> 0 | N17: =IF(I17=0,0,M17/I17) -> 0 | O17: =IF(F17=0,0,I17/F17) -> 0 | Q17: =P17*D17 -> 0 | R17: =U17+V17+W17 -> 0 | S17: =ROUND($S$33/$Q$29*P17,2) -> 0 | T17: =U17+V17 -> 0 | U17: =ROUND((S17-W17)*(1-$S$35),2) -> 0 | V17: =ROUND((S17-W17)*$S$35,2) -> 0 | W17: =ROUND(S17*(1-D17),2) -> 0 | X17: =IF(S17=0,0,W17/S17) -> 0 | Y17: =IF(P17=0,0,S17/P17) -> 0 | AA17: =E17*Z17 -> 0 | AB17: =AE17+AF17+AG17 -> #DIV/0! | AC17: =ROUND($AC$33/$AA$29*Z17,2) -> #DIV/0! | AD17: =AE17+AF17 -> #DIV/0! | AE17: =ROUND((AC17-AG17)*(1-$AC$35),2) -> #DIV/0! | AF17: =ROUND((AC17-AG17)*$AC$35,2) -> #DIV/0! | AG17: =ROUNDUP(AC17*(1-E17),2) -> #DIV/0! | AH17: =IF(AC17=0,0,AG17/AC17) -> #DIV/0! | AI17: =IF(Z17=0,0,AC17/Z17) -> 0 | AJ17: =K17+L17 -> 0 | AK17: =U17+V17 -> 0 | AL17: - | AM17: =ROUND(AJ17/1000,1) -> 0 | AN17: =ROUND(AK17/1000,1) -> 0 | AO17: -
A18: 12 | B18: Лужский | C18: =+'расчет точ'!C18 -> 0.9 | D18: =+'расчет точ'!D18 -> 0.9 | E18: =+'расчет точ'!E18 -> 0.89 | G18: =C18*F18 -> 0 | H18: =K18+L18+M18 -> 0 | I18: =ROUND($H$33/$G$29*F18,2) -> 0 | J18: =K18+L18 -> 0 | K18: =ROUND((I18-M18)*(1-$H$35),2) -> 0 | L18: =ROUND((I18-M18)*$H$35,2) -> 0 | M18: =ROUNDUP(I18*(1-C18),2) -> 0 | N18: =IF(I18=0,0,M18/I18) -> 0 | O18: =IF(F18=0,0,I18/F18) -> 0 | Q18: =P18*D18 -> 0 | R18: =U18+V18+W18 -> 0 | S18: =ROUND($S$33/$Q$29*P18,2) -> 0 | T18: =U18+V18 -> 0 | U18: =ROUND((S18-W18)*(1-$S$35),2) -> 0 | V18: =ROUND((S18-W18)*$S$35,2) -> 0 | W18: =ROUND(S18*(1-D18),2) -> 0 | X18: =IF(S18=0,0,W18/S18) -> 0 | Y18: =IF(P18=0,0,S18/P18) -> 0 | AA18: =E18*Z18 -> 0 | AB18: =AE18+AF18+AG18 -> #DIV/0! | AC18: =ROUND($AC$33/$AA$29*Z18,2) -> #DIV/0! | AD18: =AE18+AF18 -> #DIV/0! | AE18: =ROUND((AC18-AG18)*(1-$AC$35),2) -> #DIV/0! | AF18: =ROUND((AC18-AG18)*$AC$35,2) -> #DIV/0! | AG18: =ROUNDUP(AC18*(1-E18),2) -> #DIV/0! | AH18: =IF(AC18=0,0,AG18/AC18) -> #DIV/0! | AI18: =IF(Z18=0,0,AC18/Z18) -> 0 | AJ18: =K18+L18 -> 0 | AK18: =U18+V18 -> 0 | AL18: - | AM18: =ROUND(AJ18/1000,1) -> 0 | AN18: =ROUND(AK18/1000,1) -> 0 | AO18: -
A19: 13 | B19: Подпорожский | C19: =+'расчет точ'!C19 -> 0.9 | D19: =+'расчет точ'!D19 -> 0.9 | E19: =+'расчет точ'!E19 -> 0.9 | G19: =C19*F19 -> 0 | H19: =K19+L19+M19 -> 0 | I19: =ROUND($H$33/$G$29*F19,2) -> 0 | J19: =K19+L19 -> 0 | K19: =ROUND((I19-M19)*(1-$H$35),2) -> 0 | L19: =ROUND((I19-M19)*$H$35,2) -> 0 | M19: =ROUNDUP(I19*(1-C19),2) -> 0 | N19: =IF(I19=0,0,M19/I19) -> 0 | O19: =IF(F19=0,0,I19/F19) -> 0 | Q19: =P19*D19 -> 0 | R19: =U19+V19+W19 -> 0 | S19: =ROUND($S$33/$Q$29*P19,2) -> 0 | T19: =U19+V19 -> 0 | U19: =ROUND((S19-W19)*(1-$S$35),2) -> 0 | V19: =ROUND((S19-W19)*$S$35,2) -> 0 | W19: =ROUND(S19*(1-D19),2) -> 0 | X19: =IF(S19=0,0,W19/S19) -> 0 | Y19: =IF(P19=0,0,S19/P19) -> 0 | AA19: =E19*Z19 -> 0 | AB19: =AE19+AF19+AG19 -> #DIV/0! | AC19: =ROUND($AC$33/$AA$29*Z19,2) -> #DIV/0! | AD19: =AE19+AF19 -> #DIV/0! | AE19: =ROUND((AC19-AG19)*(1-$AC$35),2) -> #DIV/0! | AF19: =ROUND((AC19-AG19)*$AC$35,2) -> #DIV/0! | AG19: =ROUNDUP(AC19*(1-E19),2) -> #DIV/0! | AH19: =IF(AC19=0,0,AG19/AC19) -> #DIV/0! | AI19: =IF(Z19=0,0,AC19/Z19) -> 0 | AJ19: =K19+L19 -> 0 | AK19: =U19+V19 -> 0 | AL19: - | AM19: =ROUND(AJ19/1000,1) -> 0 | AN19: =ROUND(AK19/1000,1) -> 0 | AO19: -
A20: 14 | B20: Приозерский | C20: =+'расчет точ'!C20 -> 0.89 | D20: =+'расчет точ'!D20 -> 0.89 | E20: =+'расчет точ'!E20 -> 0.89 | G20: =C20*F20 -> 0 | H20: =K20+L20+M20 -> 0 | I20: =ROUND($H$33/$G$29*F20,2) -> 0 | J20: =K20+L20 -> 0 | K20: =ROUND((I20-M20)*(1-$H$35),2) -> 0 | L20: =ROUND((I20-M20)*$H$35,2) -> 0 | M20: =ROUNDUP(I20*(1-C20),2) -> 0 | N20: =IF(I20=0,0,M20/I20) -> 0 | O20: =IF(F20=0,0,I20/F20) -> 0 | Q20: =P20*D20 -> 0 | R20: =U20+V20+W20 -> 0 | S20: =ROUND($S$33/$Q$29*P20,2) -> 0 | T20: =U20+V20 -> 0 | U20: =ROUND((S20-W20)*(1-$S$35),2) -> 0 | V20: =ROUND((S20-W20)*$S$35,2) -> 0 | W20: =ROUND(S20*(1-D20),2) -> 0 | X20: =IF(S20=0,0,W20/S20) -> 0 | Y20: =IF(P20=0,0,S20/P20) -> 0 | AA20: =E20*Z20 -> 0 | AB20: =AE20+AF20+AG20 -> #DIV/0! | AC20: =ROUND($AC$33/$AA$29*Z20,2) -> #DIV/0! | AD20: =AE20+AF20 -> #DIV/0! | AE20: =ROUND((AC20-AG20)*(1-$AC$35),2) -> #DIV/0! | AF20: =ROUND((AC20-AG20)*$AC$35,2) -> #DIV/0! | AG20: =ROUNDUP(AC20*(1-E20),2) -> #DIV/0! | AH20: =IF(AC20=0,0,AG20/AC20) -> #DIV/0! | AI20: =IF(Z20=0,0,AC20/Z20) -> 0 | AJ20: =K20+L20 -> 0 | AK20: =U20+V20 -> 0 | AL20: - | AM20: =ROUND(AJ20/1000,1) -> 0 | AN20: =ROUND(AK20/1000,1) -> 0 | AO20: -
A21: 15 | B21: Сланцевский | C21: =+'расчет точ'!C21 -> 0.9 | D21: =+'расчет точ'!D21 -> 0.89 | E21: =+'расчет точ'!E21 -> 0.88 | G21: =C21*F21 -> 0 | H21: =K21+L21+M21 -> 0 | I21: =ROUND($H$33/$G$29*F21,2) -> 0 | J21: =K21+L21 -> 0 | K21: =ROUND((I21-M21)*(1-$H$35),2) -> 0 | L21: =ROUND((I21-M21)*$H$35,2) -> 0 | M21: =ROUNDUP(I21*(1-C21),2) -> 0 | N21: =IF(I21=0,0,M21/I21) -> 0 | O21: =IF(F21=0,0,I21/F21) -> 0 | Q21: =P21*D21 -> 0 | R21: =U21+V21+W21 -> 0 | S21: =ROUND($S$33/$Q$29*P21,2) -> 0 | T21: =U21+V21 -> 0 | U21: =ROUND((S21-W21)*(1-$S$35),2) -> 0 | V21: =ROUND((S21-W21)*$S$35,2) -> 0 | W21: =ROUND(S21*(1-D21),2) -> 0 | X21: =IF(S21=0,0,W21/S21) -> 0 | Y21: =IF(P21=0,0,S21/P21) -> 0 | AA21: =E21*Z21 -> 0 | AB21: =AE21+AF21+AG21 -> #DIV/0! | AC21: =ROUND($AC$33/$AA$29*Z21,2) -> #DIV/0! | AD21: =AE21+AF21 -> #DIV/0! | AE21: =ROUND((AC21-AG21)*(1-$AC$35),2) -> #DIV/0! | AF21: =ROUND((AC21-AG21)*$AC$35,2) -> #DIV/0! | AG21: =ROUNDUP(AC21*(1-E21),2) -> #DIV/0! | AH21: =IF(AC21=0,0,AG21/AC21) -> #DIV/0! | AI21: =IF(Z21=0,0,AC21/Z21) -> 0 | AJ21: =K21+L21 -> 0 | AK21: =U21+V21 -> 0 | AL21: - | AM21: =ROUND(AJ21/1000,1) -> 0 | AN21: =ROUND(AK21/1000,1) -> 0 | AO21: -
A22: 16 | B22: Тихвинский | C22: =+'расчет точ'!C22 -> 0.9 | D22: =+'расчет точ'!D22 -> 0.91 | E22: =+'расчет точ'!E22 -> 0.91 | G22: =C22*F22 -> 0 | H22: =K22+L22+M22 -> 0 | I22: =ROUND($H$33/$G$29*F22,2) -> 0 | J22: =K22+L22 -> 0 | K22: =ROUND((I22-M22)*(1-$H$35),2) -> 0 | L22: =ROUND((I22-M22)*$H$35,2) -> 0 | M22: =ROUNDUP(I22*(1-C22),2) -> 0 | N22: =IF(I22=0,0,M22/I22) -> 0 | O22: =IF(F22=0,0,I22/F22) -> 0 | P22: 1 | Q22: =P22*D22 -> 0.91 | R22: =U22+V22+W22 -> 25280120 | S22: =ROUND($S$33/$Q$29*P22,2) -> 25280120 | T22: =U22+V22 -> 23004909 | U22: =ROUND((S22-W22)*(1-$S$35),2) -> 15413275 | V22: =ROUND((S22-W22)*$S$35,2) -> 7591634.1 | W22: =ROUND(S22*(1-D22),2) -> 2275210.8 | X22: =IF(S22=0,0,W22/S22) -> 0.09 | Y22: =IF(P22=0,0,S22/P22) -> 25280120 | AA22: =E22*Z22 -> 0 | AB22: =AE22+AF22+AG22 -> #DIV/0! | AC22: =ROUND($AC$33/$AA$29*Z22,2) -> #DIV/0! | AD22: =AE22+AF22 -> #DIV/0! | AE22: =ROUND((AC22-AG22)*(1-$AC$35),2) -> #DIV/0! | AF22: =ROUND((AC22-AG22)*$AC$35,2) -> #DIV/0! | AG22: =ROUNDUP(AC22*(1-E22),2) -> #DIV/0! | AH22: =IF(AC22=0,0,AG22/AC22) -> #DIV/0! | AI22: =IF(Z22=0,0,AC22/Z22) -> 0 | AJ22: =K22+L22 -> 0 | AK22: =U22+V22 -> 23004909 | AL22: - | AM22: =ROUND(AJ22/1000,1) -> 0 | AN22: =ROUND(AK22/1000,1) -> 23004.9 | AO22: -
A23: 17 | B23: Тосненский | C23: =+'расчет точ'!C23 -> 0.9 | D23: =+'расчет точ'!D23 -> 0.89 | E23: =+'расчет точ'!E23 -> 0.89 | G23: =C23*F23 -> 0 | H23: =K23+L23+M23 -> 0 | I23: =ROUND($H$33/$G$29*F23,2) -> 0 | J23: =K23+L23 -> 0 | K23: =ROUND((I23-M23)*(1-$H$35),2) -> 0 | L23: =ROUND((I23-M23)*$H$35,2) -> 0 | M23: =ROUNDUP(I23*(1-C23),2) -> 0 | N23: =IF(I23=0,0,M23/I23) -> 0 | O23: =IF(F23=0,0,I23/F23) -> 0 | Q23: =P23*D23 -> 0 | R23: =U23+V23+W23 -> 0 | S23: =ROUND($S$33/$Q$29*P23,2) -> 0 | T23: =U23+V23 -> 0 | U23: =ROUND((S23-W23)*(1-$S$35),2) -> 0 | V23: =ROUND((S23-W23)*$S$35,2) -> 0 | W23: =ROUND(S23*(1-D23),2) -> 0 | X23: =IF(S23=0,0,W23/S23) -> 0 | Y23: =IF(P23=0,0,S23/P23) -> 0 | AA23: =E23*Z23 -> 0 | AB23: =AE23+AF23+AG23 -> #DIV/0! | AC23: =ROUND($AC$33/$AA$29*Z23,2) -> #DIV/0! | AD23: =AE23+AF23 -> #DIV/0! | AE23: =ROUND((AC23-AG23)*(1-$AC$35),2) -> #DIV/0! | AF23: =ROUND((AC23-AG23)*$AC$35,2) -> #DIV/0! | AG23: =ROUNDUP(AC23*(1-E23),2) -> #DIV/0! | AH23: =IF(AC23=0,0,AG23/AC23) -> #DIV/0! | AI23: =IF(Z23=0,0,AC23/Z23) -> 0 | AJ23: =K23+L23 -> 0 | AK23: =U23+V23 -> 0 | AL23: - | AM23: =ROUND(AJ23/1000,1) -> 0 | AN23: =ROUND(AK23/1000,1) -> 0 | AO23: -
A24: 18 | B24: Сосновоборский | C24: =+'расчет точ'!C24 -> 0.77 | D24: =+'расчет точ'!D24 -> 0.76 | E24: =+'расчет точ'!E24 -> 0.78 | G24: =C24*F24 -> 0 | H24: =K24+L24+M24 -> 0 | I24: =ROUND($H$33/$G$29*F24,2) -> 0 | J24: =K24+L24 -> 0 | K24: =ROUND((I24-M24)*(1-$H$35),2) -> 0 | L24: =ROUND((I24-M24)*$H$35,2) -> 0 | M24: =ROUNDUP(I24*(1-C24),2) -> 0 | N24: =IF(I24=0,0,M24/I24) -> 0 | O24: =IF(F24=0,0,I24/F24) -> 0 | P24: 1 | Q24: =P24*D24 -> 0.76 | R24: =U24+V24+W24 -> 25280120 | S24: =ROUND($S$33/$Q$29*P24,2) -> 25280120 | T24: =U24+V24 -> 19212891 | U24: =ROUND((S24-W24)*(1-$S$35),2)+0.01 -> 12872625 | V24: =ROUND((S24-W24)*$S$35,2) -> 6340265.9 | W24: =ROUND(S24*(1-D24),2)+0.01 -> 6067228.8 | X24: =IF(S24=0,0,W24/S24) -> 0.24 | Y24: =IF(P24=0,0,S24/P24) -> 25280120 | AA24: =E24*Z24 -> 0 | AB24: =AE24+AF24+AG24 -> #DIV/0! | AC24: =ROUND($AC$33/$AA$29*Z24,2) -> #DIV/0! | AD24: =AE24+AF24 -> #DIV/0! | AE24: =ROUND((AC24-AG24)*(1-$AC$35),2)+0.01 -> #DIV/0! | AF24: =ROUND((AC24-AG24)*$AC$35,2) -> #DIV/0! | AG24: =ROUNDUP(AC24*(1-E24),2) -> #DIV/0! | AH24: =IF(AC24=0,0,AG24/AC24) -> #DIV/0! | AI24: =IF(Z24=0,0,AC24/Z24) -> 0 | AJ24: =K24+L24 -> 0 | AK24: =U24+V24 -> 19212891 | AL24: - | AM24: =ROUND(AJ24/1000,1) -> 0 | AN24: =ROUND(AK24/1000,1) -> 19212.9 | AO24: -
B25: Всего по МР (ГО) | F25: =SUM(F7:F24) -> 1 | G25: =SUM(G7:G24) -> 0.9 | H25: =SUM(H7:H24) -> 23730111 | I25: =SUM(I7:I24) -> 23730111 | J25: =SUM(J7:J24) -> 21357100 | K25: =SUM(K7:K24) -> 14309200 | L25: =SUM(L7:L24) -> 7047900 | M25: =SUM(M7:M24) -> 2373011.1 | N25: =IF(I25=0,0,M25/I25) -> 0.1 | O25: =IF(F25=0,0,I25/F25) -> 23730111 | P25: =SUM(P7:P24) -> 2 | Q25: =SUM(Q7:Q24) -> 1.67 | R25: =SUM(R7:R24) -> 50560240 | S25: =SUM(S7:S24) -> 50560240 | T25: =SUM(T7:T24) -> 42217800 | U25: =SUM(U7:U24) -> 28285900 | V25: =SUM(V7:V24) -> 13931900 | W25: =SUM(W7:W24) -> 8342439.5 | X25: =IF(S25=0,0,W25/S25) -> 0.165 | Y25: =IF(P25=0,0,S25/P25) -> 25280120 | Z25: =SUM(Z7:Z24) -> 0 | AA25: =SUM(AA7:AA24) -> 0 | AB25: =SUM(AB7:AB24) -> #DIV/0! | AC25: =SUM(AC7:AC24) -> #DIV/0! | AD25: =SUM(AD7:AD24) -> #DIV/0! | AE25: =SUM(AE7:AE24) -> #DIV/0! | AF25: =SUM(AF7:AF24) -> #DIV/0! | AG25: =SUM(AG7:AG24) -> #DIV/0! | AH25: =IF(AC25=0,0,AG25/AC25) -> #DIV/0! | AI25: =IF(Z25=0,0,AC25/Z25) -> 0 | AJ25: =SUM(AJ7:AJ24) -> 21357100 | AK25: =SUM(AK7:AK24) -> 42217800 | AL25: - | AM25: =SUM(AM7:AM24) -> 21357.1 | AN25: =SUM(AN7:AN24) -> 42217.8 | AO25: -
A26: 0702 | B26: ГУ | G26: =C26*F26 -> 0 | H26: =K26+L26+M26 -> 0 | I26: =ROUND($H$33/$G$29*F26,2) -> 0 | J26: =K26+L26 -> 0 | K26: =ROUND((I26-M26)*(1-$H$35),2) -> 0 | L26: =ROUND((I26-M26)*$H$35,2) -> 0 | M26: =ROUNDUP(I26*(1-C26),2) -> 0 | N26: =IF(I26=0,0,M26/I26) -> 0 | O26: =IF(F26=0,0,I26/F26) -> 0 | Q26: =P26*D26 -> 0 | R26: =U26+V26+W26 -> 0 | S26: =ROUND($S$33/$Q$29*P26,2) -> 0 | T26: =U26+V26 -> 0 | U26: =ROUND((S26-W26)*(1-$S$35),2) -> 0 | V26: =ROUND((S26-W26)*$S$35,2) -> 0 | W26: =ROUND(S26*(1-D26),2) -> 0 | X26: =IF(S26=0,0,W26/S26) -> 0 | Y26: =IF(P26=0,0,S26/P26) -> 0 | AB26: =AE26+AF26+AG26 -> #DIV/0! | AC26: =ROUND($AC$33/$AA$29*Z26,2) -> #DIV/0! | AD26: =AE26+AF26 -> #DIV/0! | AE26: =ROUND((AC26-AG26)*(1-$AC$35),2) -> #DIV/0! | AF26: =ROUND((AC26-AG26)*$AC$35,2) -> #DIV/0! | AG26: =ROUNDUP(AC26*(1-E26),2) -> #DIV/0! | AH26: =IF(AC26=0,0,AG26/AC26) -> #DIV/0! | AI26: =IF(Z26=0,0,AC26/Z26) -> 0 | AJ26: =K26+L26 -> 0 | AK26: =U26+V26 -> 0 | AL26: =AE26+AF26 -> #DIV/0! | AM26: =ROUND(AJ26/1000,1) -> 0 | AN26: =ROUND(AK26/1000,1) -> 0 | AO26: =ROUND(AL26/1000,1) -> #DIV/0!
A27: 0703 | B27: ГУ | G27: =C27*F27 -> 0 | H27: =K27+L27+M27 -> 0 | I27: =ROUND($H$33/$G$29*F27,2) -> 0 | J27: =K27+L27 -> 0 | K27: =ROUND((I27-M27)*(1-$H$35),2) -> 0 | L27: =ROUND((I27-M27)*$H$35,2) -> 0 | M27: =ROUNDUP(I27*(1-C27),2) -> 0 | N27: =IF(I27=0,0,M27/I27) -> 0 | O27: =IF(F27=0,0,I27/F27) -> 0 | Q27: =P27*D27 -> 0 | R27: =U27+V27+W27 -> 0 | S27: =ROUND($S$33/$Q$29*P27,2) -> 0 | T27: =U27+V27 -> 0 | U27: =ROUND((S27-W27)*(1-$S$35),2) -> 0 | V27: =ROUND((S27-W27)*$S$35,2) -> 0 | W27: =ROUND(S27*(1-D27),2) -> 0 | X27: =IF(S27=0,0,W27/S27) -> 0 | Y27: =IF(P27=0,0,S27/P27) -> 0 | AB27: =AE27+AF27+AG27 -> #DIV/0! | AC27: =ROUND($AC$33/$AA$29*Z27,2) -> #DIV/0! | AD27: =AE27+AF27 -> #DIV/0! | AE27: =ROUND((AC27-AG27)*(1-$AC$35),2) -> #DIV/0! | AF27: =ROUND((AC27-AG27)*$AC$35,2) -> #DIV/0! | AG27: =ROUNDUP(AC27*(1-E27),2) -> #DIV/0! | AH27: =IF(AC27=0,0,AG27/AC27) -> #DIV/0! | AI27: =IF(Z27=0,0,AC27/Z27) -> 0 | AJ27: =K27+L27 -> 0 | AK27: =U27+V27 -> 0 | AL27: =AE27+AF27 -> #DIV/0! | AM27: =ROUND(AJ27/1000,1) -> 0 | AN27: =ROUND(AK27/1000,1) -> 0 | AO27: =ROUND(AL27/1000,1) -> #DIV/0!
A28: 0704 | B28: ГУ | G28: =C28*F28 -> 0 | H28: =K28+L28+M28 -> 0 | I28: =ROUND($H$33/$G$29*F28,2) -> 0 | J28: =K28+L28 -> 0 | K28: =ROUND((I28-M28)*(1-$H$35),2) -> 0 | L28: =ROUND((I28-M28)*$H$35,2) -> 0 | M28: =ROUNDUP(I28*(1-C28),2) -> 0 | N28: =IF(I28=0,0,M28/I28) -> 0 | O28: =IF(F28=0,0,I28/F28) -> 0 | Q28: =P28*D28 -> 0 | R28: =U28+V28+W28 -> 0 | S28: =ROUND($S$33/$Q$29*P28,2) -> 0 | T28: =U28+V28 -> 0 | U28: =ROUND((S28-W28)*(1-$S$35),2) -> 0 | V28: =ROUND((S28-W28)*$S$35,2) -> 0 | W28: =ROUND(S28*(1-D28),2) -> 0 | X28: =IF(S28=0,0,W28/S28) -> 0 | Y28: =IF(P28=0,0,S28/P28) -> 0 | AB28: =AE28+AF28+AG28 -> #DIV/0! | AC28: =ROUND($AC$33/$AA$29*Z28,2) -> #DIV/0! | AD28: =AE28+AF28 -> #DIV/0! | AE28: =ROUND((AC28-AG28)*(1-$AC$35),2) -> #DIV/0! | AF28: =ROUND((AC28-AG28)*$AC$35,2) -> #DIV/0! | AG28: =ROUNDUP(AC28*(1-E28),2) -> #DIV/0! | AH28: =IF(AC28=0,0,AG28/AC28) -> #DIV/0! | AI28: =IF(Z28=0,0,AC28/Z28) -> 0 | AJ28: =K28+L28 -> 0 | AK28: =U28+V28 -> 0 | AL28: =AE28+AF28 -> #DIV/0! | AM28: =ROUND(AJ28/1000,1) -> 0 | AN28: =ROUND(AK28/1000,1) -> 0 | AO28: =ROUND(AL28/1000,1) -> #DIV/0!
B29: Итого | F29: =F25+F26+F27+F28 -> 1 | G29: =G25+G26+G27+G28 -> 0.9 | H29: =H25+H26+H27+H28 -> 23730111 | I29: =I25+I26+I27+I28 -> 23730111 | J29: =J25+J26+J27+J28 -> 21357100 | K29: =K25+K26+K27+K28 -> 14309200 | L29: =L25+L26+L27+L28 -> 7047900 | M29: =M25+M26+M27+M28 -> 2373011.1 | N29: =IF(I29=0,0,M29/I29) -> 0.1 | O29: =IF(F29=0,0,I29/F29) -> 23730111 | P29: =P25+P26+P27+P28 -> 2 | Q29: =Q25+Q26+Q27+Q28 -> 1.67 | R29: =R25+R26+R27+R28 -> 50560240 | S29: =S25+S26+S27+S28 -> 50560240 | T29: =T25+T26+T27+T28 -> 42217800 | U29: =U25+U26+U27+U28 -> 28285900 | V29: =V25+V26+V27+V28 -> 13931900 | W29: =W25+W26+W27+W28 -> 8342439.5 | X29: =IF(S29=0,0,W29/S29) -> 0.165 | Y29: =IF(P29=0,0,S29/P29) -> 25280120 | Z29: =Z25+Z26+Z27+Z28 -> 0 | AA29: =AA25+AA26+AA27+AA28 -> 0 | AB29: =AB25+AB26+AB27+AB28 -> #DIV/0! | AC29: =AC25+AC26+AC27+AC28 -> #DIV/0! | AD29: =AD25+AD26+AD27+AD28 -> #DIV/0! | AE29: =AE25+AE26+AE27+AE28 -> #DIV/0! | AF29: =AF25+AF26+AF27+AF28 -> #DIV/0! | AG29: =AG25+AG26+AG27+AG28 -> #DIV/0! | AH29: =IF(AC29=0,0,AG29/AC29) -> #DIV/0! | AI29: =IF(Z29=0,0,AC29/Z29) -> 0 | AJ29: =AJ25+AJ26+AJ27+AJ28 -> 21357100 | AK29: =AK25+AK26+AK27+AK28 -> 42217800 | AL29: =AL25+AL26+AL27+AL28 -> #VALUE! | AM29: =AM25+AM26+AM27+AM28 -> 21357.1 | AN29: =AN25+AN26+AN27+AN28 -> 42217.8 | AO29: =AO25+AO26+AO27+AO28 -> #VALUE!
K30: =+K29+L29 -> 21357100 | U30: =+U29+V29 -> 42217800 | AM30: =ROUND(AJ30/1000,1) -> 0 | AN30: =ROUND(AK30/1000,1) -> 0 | AO30: =ROUND(AL30/1000,1) -> 0
G31: ФБ | H31: 14309200 | I31: =H31-K29 -> 0 | S31: 28285900 | T31: =S31-U29 -> 0 | AD31: =AC31-AE29 -> #DIV/0!
G32: ОБ | H32: 7047900 | I32: =H32-L29 -> 0 | S32: 13931900 | T32: =S32-V29 -> 0 | AD32: =AC32-AF29 -> #DIV/0!
G33: ФБ+ОБ | H33: =SUM(H31:H32) -> 21357100 | S33: =SUM(S31:S32) -> 42217800 | AC33: =SUM(AC31:AC32) -> 0
H35: =H32/H33 -> 0.33000267 | S35: =S32/S33 -> 0.33000062 | AC35: =AC32/AC33 -> #DIV/0!

Sheet расчетЦОС
AM1: Приложение 45 к пояснительной записке 2023 г.
A2: № п\п | B2: Название муниципального района | C2: предельный уровень софинансирования, % | F2: Расчет субсидий на обеспечение образовательных организаций материально-технической базой для внедрения цифровой образовательной среды на 2023-2025 годы | AJ2: В проект закона, руб | AM2: В проект закона, тыс. руб.
F3: 2023 год | P3: 2024 год | Z3: 2025 год
F4: Количество Центров в МР (ГО) | H4: ВСЕГО | I4: распределение | N4: проверка % софинансирования МБ | O4: средняя стоимость 1 объекта | P4: Количество Центров в МР (ГО) | R4: ВСЕГО | S4: распределение | X4: проверка % софинансирования МБ | Y4: средняя стоимость 1 объекта | Z4: Количество Центров в МР (ГО) | AB4: ВСЕГО | AC4: распределение | AH4: проверка % софинансирования МБ | AI4: средняя стоимость 1 объекта
C5: =+'расчет точ'!C6 -> 2023 | D5: =+'расчет точ'!D6 -> 2024 | E5: =+'расчет точ'!E6 -> 2025 | I5: ФБ+ОБ+МБ | J5: ИТОГО ФБ+ОБ | K5: фб_по предельному уровню | L5: об_по предельному уровню | M5: мб_по предельному уровню | S5: ФБ+ОБ+МБ | T5: ИТОГО ФБ+ОБ | U5: фб_по предельному уровню | V5: об_по предельному уровню | W5: мб_по предельному уровню | AC5: ФБ+ОБ+МБ | AD5: ИТОГО ФБ+ОБ | AE5: фб_по предельному уровню | AF5: об_по рпедельному уровню | AG5: мб_по предельному уровню | AJ5: 2023 | AK5: 2024 | AL5: 2025 | AM5: 2023 | AN5: 2024 | AO5: 2025
A6: 1 | B6: Бокситогорский | C6: =+'расчет точ'!C7 -> 0.89 | D6: =+'расчет точ'!D7 -> 0.89 | E6: =+'расчет точ'!E7 -> 0.9 | F6: 3 | G6: =C6*F6 -> 2.67 | H6: =K6+L6+M6 -> 5267020.2 | I6: =ROUND($H$32/$G$28*F6,2) -> 5267020.2 | J6: =K6+L6 -> 4687648 | K6: =ROUND((I6-M6)*(1-$H$34),2)+0.04 -> 3140715.9 | L6: =ROUND((I6-M6)*$H$34,2)-0.01 -> 1546932.1 | M6: =ROUNDUP(I6*(1-C6),2)-0.01 -> 579372.22 | N6: =IF(I6=0,0,M6/I6) -> 0.11 | O6: =IF(F6=0,0,I6/F6) -> 1755673.4 | P6: 3 | Q6: =P6*D6 -> 2.67 | R6: =U6+V6+W6 -> 5285548.5 | S6: =ROUND($S$32/$Q$28*P6,2) -> 5285548.5 | T6: =U6+V6 -> 4704138.2 | U6: =ROUND((S6-W6)*(1-$S$34),2) -> 3151769.8 | V6: =ROUND((S6-W6)*$S$34,2) -> 1552368.4 | W6: =ROUND(S6*(1-D6),2)+0.01 -> 581410.34 | X6: =IF(S6=0,0,W6/S6) -> 0.11 | Y6: =IF(P6=0,0,S6/P6) -> 1761849.5 | AA6: =E6*Z6 -> 0 | AB6: =AE6+AF6+AG6 -> #DIV/0! | AC6: =ROUND($AC$32/$AA$28*Z6,2) -> #DIV/0! | AD6: =AE6+AF6 -> #DIV/0! | AE6: =ROUND((AC6-AG6)*(1-$AC$34),2)-0.01 -> #DIV/0! | AF6: =ROUND((AC6-AG6)*$AC$34,2) -> #DIV/0! | AG6: =ROUNDUP(AC6*(1-E6),2) -> #DIV/0! | AH6: =IF(AC6=0,0,AG6/AC6) -> #DIV/0! | AI6: =IF(Z6=0,0,AC6/Z6) -> 0 | AJ6: =K6+L6 -> 4687648 | AK6: =U6+V6 -> 4704138.2 | AL6: - | AM6: =ROUND(AJ6/1000,1)+0.1 -> 4687.7 | AN6: =ROUND(AK6/1000,1) -> 4704.1 | AO6: -
A7: 2 | B7: Волосовский | C7: =+'расчет точ'!C8 -> 0.9 | D7: =+'расчет точ'!D8 -> 0.9 | E7: =+'расчет точ'!E8 -> 0.89 | F7: 1 | G7: =C7*F7 -> 0.9 | H7: =K7+L7+M7 -> 1755673.4 | I7: =ROUND($H$32/$G$28*F7,2) -> 1755673.4 | J7: =K7+L7 -> 1580106.1 | K7: =ROUND((I7-M7)*(1-$H$34),2)-0.01 -> 1058668.3 | L7: =ROUND((I7-M7)*$H$34,2) -> 521437.79 | M7: =ROUNDUP(I7*(1-C7),2) -> 175567.34 | N7: =IF(I7=0,0,M7/I7) -> 0.1 | O7: =IF(F7=0,0,I7/F7) -> 1755673.4 | P7: 5 | Q7: =P7*D7 -> 4.5 | R7: =U7+V7+W7 -> 8809247.5 | S7: =ROUND($S$32/$Q$28*P7,2) -> 8809247.5 | T7: =U7+V7 -> 7928322.7 | U7: =ROUND((S7-W7)*(1-$S$34),2) -> 5311971.6 | V7: =ROUND((S7-W7)*$S$34,2) -> 2616351.2 | W7: =ROUND(S7*(1-D7),2) -> 880924.75 | X7: =IF(S7=0,0,W7/S7) -> 0.1 | Y7: =IF(P7=0,0,S7/P7) -> 1761849.5 | AA7: =E7*Z7 -> 0 | AB7: =AE7+AF7+AG7 -> #DIV/0! | AC7: =ROUND($AC$32/$AA$28*Z7,2) -> #DIV/0! | AD7: =AE7+AF7 -> #DIV/0! | AE7: =ROUND((AC7-AG7)*(1-$AC$34),2) -> #DIV/0! | AF7: =ROUND((AC7-AG7)*$AC$34,2) -> #DIV/0! | AG7: =ROUNDUP(AC7*(1-E7),2) -> #DIV/0! | AH7: =IF(AC7=0,0,AG7/AC7) -> #DIV/0! | AI7: =IF(Z7=0,0,AC7/Z7) -> 0 | AJ7: =K7+L7 -> 1580106.1 | AK7: =U7+V7 -> 7928322.7 | AL7: - | AM7: =ROUND(AJ7/1000,1) -> 1580.1 | AN7: =ROUND(AK7/1000,1) -> 7928.3 | AO7: -
A8: 3 | B8: Волховский | C8: =+'расчет точ'!C9 -> 0.9 | D8: =+'расчет точ'!D9 -> 0.9 | E8: =+'расчет точ'!E9 -> 0.9 | G8: =C8*F8 -> 0 | H8: =K8+L8+M8 -> 0 | I8: =ROUND($H$32/$G$28*F8,2) -> 0 | J8: =K8+L8 -> 0 | K8: =ROUND((I8-M8)*(1-$H$34),2) -> 0 | L8: =ROUND((I8-M8)*$H$34,2) -> 0 | M8: =ROUNDUP(I8*(1-C8),2) -> 0 | N8: =IF(I8=0,0,M8/I8) -> 0 | O8: =IF(F8=0,0,I8/F8) -> 0 | P8: 6 | Q8: =P8*D8 -> 5.4 | R8: =U8+V8+W8 -> 10571097 | S8: =ROUND($S$32/$Q$28*P8,2) -> 10571097 | T8: =U8+V8 -> 9513987.3 | U8: =ROUND((S8-W8)*(1-$S$34),2)-0.01 -> 6374365.9 | V8: =ROUND((S8-W8)*$S$34,2) -> 3139621.4 | W8: =ROUND(S8*(1-D8),2) -> 1057109.7 | X8: =IF(S8=0,0,W8/S8) -> 0.1 | Y8: =IF(P8=0,0,S8/P8) -> 1761849.5 | AA8: =E8*Z8 -> 0 | AB8: =AE8+AF8+AG8 -> #DIV/0! | AC8: =ROUND($AC$32/$AA$28*Z8,2) -> #DIV/0! | AD8: =AE8+AF8 -> #DIV/0! | AE8: =ROUND((AC8-AG8)*(1-$AC$34),2)-0.01 -> #DIV/0! | AF8: =ROUND((AC8-AG8)*$AC$34,2) -> #DIV/0! | AG8: =ROUNDUP(AC8*(1-E8),2) -> #DIV/0! | AH8: =IF(AC8=0,0,AG8/AC8) -> #DIV/0! | AI8: =IF(Z8=0,0,AC8/Z8) -> 0 | AJ8: =K8+L8 -> 0 | AK8: =U8+V8 -> 9513987.3 | AL8: - | AM8: =ROUND(AJ8/1000,1) -> 0 | AN8: =ROUND(AK8/1000,1) -> 9514 | AO8: -
A9: 4 | B9: Всеволожский | C9: =+'расчет точ'!C10 -> 0.9 | D9: =+'расчет точ'!D10 -> 0.9 | E9: =+'расчет точ'!E10 -> 0.89 | G9: =C9*F9 -> 0 | H9: =K9+L9+M9 -> 0 | I9: =ROUND($H$32/$G$28*F9,2) -> 0 | J9: =K9+L9 -> 0 | K9: =ROUND((I9-M9)*(1-$H$34),2) -> 0 | L9: =ROUND((I9-M9)*$H$34,2) -> 0 | M9: =ROUNDUP(I9*(1-C9),2) -> 0 | N9: =IF(I9=0,0,M9/I9) -> 0 | O9: =IF(F9=0,0,I9/F9) -> 0 | P9: 4 | Q9: =P9*D9 -> 3.6 | R9: =U9+V9+W9 -> 7047398 | S9: =ROUND($S$32/$Q$28*P9,2) -> 7047398 | T9: =U9+V9 -> 6342658.2 | U9: =ROUND((S9-W9)*(1-$S$34),2) -> 4249577.2 | V9: =ROUND((S9-W9)*$S$34,2) -> 2093080.9 | W9: =ROUND(S9*(1-D9),2) -> 704739.8 | X9: =IF(S9=0,0,W9/S9) -> 0.1 | Y9: =IF(P9=0,0,S9/P9) -> 1761849.5 | AA9: =E9*Z9 -> 0 | AB9: =AE9+AF9+AG9 -> #DIV/0! | AC9: =ROUND($AC$32/$AA$28*Z9,2) -> #DIV/0! | AD9: =AE9+AF9 -> #DIV/0! | AE9: =ROUND((AC9-AG9)*(1-$AC$34),2) -> #DIV/0! | AF9: =ROUND((AC9-AG9)*$AC$34,2) -> #DIV/0! | AG9: =ROUNDUP(AC9*(1-E9),2) -> #DIV/0! | AH9: =IF(AC9=0,0,AG9/AC9) -> #DIV/0! | AI9: =IF(Z9=0,0,AC9/Z9) -> 0 | AJ9: =K9+L9 -> 0 | AK9: =U9+V9 -> 6342658.2 | AL9: - | AM9: =ROUND(AJ9/1000,1) -> 0 | AN9: =ROUND(AK9/1000,1) -> 6342.7 | AO9: -
A10: 5 | B10: Выборгский | C10: =+'расчет точ'!C11 -> 0.89 | D10: =+'расчет точ'!D11 -> 0.89 | E10: =+'расчет точ'!E11 -> 0.9 | G10: =C10*F10 -> 0 | H10: =K10+L10+M10 -> 0 | I10: =ROUND($H$32/$G$28*F10,2) -> 0 | J10: =K10+L10 -> 0 | K10: =ROUND((I10-M10)*(1-$H$34),2) -> 0 | L10: =ROUND((I10-M10)*$H$34,2) -> 0 | M10: =ROUNDUP(I10*(1-C10),2) -> 0 | N10: =IF(I10=0,0,M10/I10) -> 0 | O10: =IF(F10=0,0,I10/F10) -> 0 | P10: 1 | Q10: =P10*D10 -> 0.89 | R10: =U10+V10+W10 -> 1761849.5 | S10: =ROUND($S$32/$Q$28*P10,2) -> 1761849.5 | T10: =U10+V10 -> 1568046 | U10: =ROUND((S10-W10)*(1-$S$34),2)-0.01 -> 1050589.9 | V10: =ROUND((S10-W10)*$S$34,2) -> 517456.12 | W10: =ROUND(S10*(1-D10),2) -> 193803.45 | X10: =IF(S10=0,0,W10/S10) -> 0.11 | Y10: =IF(P10=0,0,S10/P10) -> 1761849.5 | AA10: =E10*Z10 -> 0 | AB10: =AE10+AF10+AG10 -> #DIV/0! | AC10: =ROUND($AC$32/$AA$28*Z10,2) -> #DIV/0! | AD10: =AE10+AF10 -> #DIV/0! | AE10: =ROUND((AC10-AG10)*(1-$AC$34),2) -> #DIV/0! | AF10: =ROUND((AC10-AG10)*$AC$34,2) -> #DIV/0! | AG10: =ROUNDUP(AC10*(1-E10),2) -> #DIV/0! | AH10: =IF(AC10=0,0,AG10/AC10) -> #DIV/0! | AI10: =IF(Z10=0,0,AC10/Z10) -> 0 | AJ10: =K10+L10 -> 0 | AK10: =U10+V10 -> 1568046 | AL10: - | AM10: =ROUND(AJ10/1000,1) -> 0 | AN10: =ROUND(AK10/1000,1)+0.1 -> 1568.1 | AO10: -
A11: 6 | B11: Гатчинский | C11: =+'расчет точ'!C12 -> 0.87 | D11: =+'расчет точ'!D12 -> 0.87 | E11: =+'расчет точ'!E12 -> 0.87 | F11: 1 | G11: =C11*F11 -> 0.87 | H11: =K11+L11+M11 -> 1755673.4 | I11: =ROUND($H$32/$G$28*F11,2) -> 1755673.4 | J11: =K11+L11 -> 1527435.9 | K11: =ROUND((I11-M11)*(1-$H$34),2)-0.01 -> 1023379.3 | L11: =ROUND((I11-M11)*$H$34,2) -> 504056.53 | M11: =ROUNDUP(I11*(1-C11),2)-0.01 -> 228237.54 | N11: =IF(I11=0,0,M11/I11) -> 0.13 | O11: =IF(F11=0,0,I11/F11) -> 1755673.4 | P11: 3 | Q11: =P11*D11 -> 2.61 | R11: =U11+V11+W11 -> 5285548.5 | S11: =ROUND($S$32/$Q$28*P11,2) -> 5285548.5 | T11: =U11+V11 -> 4598427.2 | U11: =ROUND((S11-W11)*(1-$S$34),2) -> 3080943.5 | V11: =ROUND((S11-W11)*$S$34,2) -> 1517483.7 | W11: =ROUND(S11*(1-D11),2)+0.01 -> 687121.31 | X11: =IF(S11=0,0,W11/S11) -> 0.13 | Y11: =IF(P11=0,0,S11/P11) -> 1761849.5 | AA11: =E11*Z11 -> 0 | AB11: =AE11+AF11+AG11 -> #DIV/0! | AC11: =ROUND($AC$32/$AA$28*Z11,2) -> #DIV/0! | AD11: =AE11+AF11 -> #DIV/0! | AE11: =ROUND((AC11-AG11)*(1-$AC$34),2) -> #DIV/0! | AF11: =ROUND((AC11-AG11)*$AC$34,2) -> #DIV/0! | AG11: =ROUNDUP(AC11*(1-E11),2) -> #DIV/0! | AH11: =IF(AC11=0,0,AG11/AC11) -> #DIV/0! | AI11: =IF(Z11=0,0,AC11/Z11) -> 0 | AJ11: =K11+L11 -> 1527435.9 | AK11: =U11+V11 -> 4598427.2 | AL11: - | AM11: =ROUND(AJ11/1000,1) -> 1527.4 | AN11: =ROUND(AK11/1000,1) -> 4598.4 | AO11: -
A12: 7 | B12: Кингисеппский | C12: =+'расчет точ'!C13 -> 0.89 | D12: =+'расчет точ'!D13 -> 0.9 | E12: =+'расчет точ'!E13 -> 0.89 | G12: =C12*F12 -> 0 | H12: =K12+L12+M12 -> 0 | I12: =ROUND($H$32/$G$28*F12,2) -> 0 | J12: =K12+L12 -> 0 | K12: =ROUND((I12-M12)*(1-$H$34),2) -> 0 | L12: =ROUND((I12-M12)*$H$34,2) -> 0 | M12: =ROUNDUP(I12*(1-C12),2) -> 0 | N12: =IF(I12=0,0,M12/I12) -> 0 | O12: =IF(F12=0,0,I12/F12) -> 0 | P12: 6 | Q12: =P12*D12 -> 5.4 | R12: =U12+V12+W12 -> 10571097 | S12: =ROUND($S$32/$Q$28*P12,2) -> 10571097 | T12: =U12+V12 -> 9513987.3 | U12: =ROUND((S12-W12)*(1-$S$34),2) -> 6374365.9 | V12: =ROUND((S12-W12)*$S$34,2) -> 3139621.4 | W12: =ROUND(S12*(1-D12),2) -> 1057109.7 | X12: =IF(S12=0,0,W12/S12) -> 0.1 | Y12: =IF(P12=0,0,S12/P12) -> 1761849.5 | AA12: =E12*Z12 -> 0 | AB12: =AE12+AF12+AG12 -> #DIV/0! | AC12: =ROUND($AC$32/$AA$28*Z12,2) -> #DIV/0! | AD12: =AE12+AF12 -> #DIV/0! | AE12: =ROUND((AC12-AG12)*(1-$AC$34),2)-0.01 -> #DIV/0! | AF12: =ROUND((AC12-AG12)*$AC$34,2) -> #DIV/0! | AG12: =ROUNDUP(AC12*(1-E12),2) -> #DIV/0! | AH12: =IF(AC12=0,0,AG12/AC12) -> #DIV/0! | AI12: =IF(Z12=0,0,AC12/Z12) -> 0 | AJ12: =K12+L12 -> 0 | AK12: =U12+V12 -> 9513987.3 | AL12: - | AM12: =ROUND(AJ12/1000,1) -> 0 | AN12: =ROUND(AK12/1000,1) -> 9514 | AO12: -
A13: 8 | B13: Киришский | C13: =+'расчет точ'!C14 -> 0.89 | D13: =+'расчет точ'!D14 -> 0.9 | E13: =+'расчет точ'!E14 -> 0.9 | G13: =C13*F13 -> 0 | H13: =K13+L13+M13 -> 0 | I13: =ROUND($H$32/$G$28*F13,2) -> 0 | J13: =K13+L13 -> 0 | K13: =ROUND((I13-M13)*(1-$H$34),2) -> 0 | L13: =ROUND((I13-M13)*$H$34,2) -> 0 | M13: =ROUNDUP(I13*(1-C13),2) -> 0 | N13: =IF(I13=0,0,M13/I13) -> 0 | O13: =IF(F13=0,0,I13/F13) -> 0 | P13: 4 | Q13: =P13*D13 -> 3.6 | R13: =U13+V13+W13 -> 7047398 | S13: =ROUND($S$32/$Q$28*P13,2) -> 7047398 | T13: =U13+V13 -> 6342658.2 | U13: =ROUND((S13-W13)*(1-$S$34),2)-0.01 -> 4249577.2 | V13: =ROUND((S13-W13)*$S$34,2) -> 2093080.9 | W13: =ROUND(S13*(1-D13),2) -> 704739.8 | X13: =IF(S13=0,0,W13/S13) -> 0.1 | Y13: =IF(P13=0,0,S13/P13) -> 1761849.5 | AA13: =E13*Z13 -> 0 | AB13: =AE13+AF13+AG13 -> #DIV/0! | AC13: =ROUND($AC$32/$AA$28*Z13,2) -> #DIV/0! | AD13: =AE13+AF13 -> #DIV/0! | AE13: =ROUND((AC13-AG13)*(1-$AC$34),2) -> #DIV/0! | AF13: =ROUND((AC13-AG13)*$AC$34,2) -> #DIV/0! | AG13: =ROUNDUP(AC13*(1-E13),2) -> #DIV/0! | AH13: =IF(AC13=0,0,AG13/AC13) -> #DIV/0! | AI13: =IF(Z13=0,0,AC13/Z13) -> 0 | AJ13: =K13+L13 -> 0 | AK13: =U13+V13 -> 6342658.2 | AL13: - | AM13: =ROUND(AJ13/1000,1) -> 0 | AN13: =ROUND(AK13/1000,1) -> 6342.7 | AO13: -
A14: 9 | B14: Кировский | C14: =+'расчет точ'!C15 -> 0.9 | D14: =+'расчет точ'!D15 -> 0.9 | E14: =+'расчет точ'!E15 -> 0.89 | G14: =C14*F14 -> 0 | H14: =K14+L14+M14 -> 0 | I14: =ROUND($H$32/$G$28*F14,2) -> 0 | J14: =K14+L14 -> 0 | K14: =ROUND((I14-M14)*(1-$H$34),2) -> 0 | L14: =ROUND((I14-M14)*$H$34,2) -> 0 | M14: =ROUNDUP(I14*(1-C14),2) -> 0 | N14: =IF(I14=0,0,M14/I14) -> 0 | O14: =IF(F14=0,0,I14/F14) -> 0 | P14: 2 | Q14: =P14*D14 -> 1.8 | R14: =U14+V14+W14 -> 3523699 | S14: =ROUND($S$32/$Q$28*P14,2) -> 3523699 | T14: =U14+V14 -> 3171329.1 | U14: =ROUND((S14-W14)*(1-$S$34),2) -> 2124788.6 | V14: =ROUND((S14-W14)*$S$34,2) -> 1046540.5 | W14: =ROUND(S14*(1-D14),2) -> 352369.9 | X14: =IF(S14=0,0,W14/S14) -> 0.1 | Y14: =IF(P14=0,0,S14/P14) -> 1761849.5 | AA14: =E14*Z14 -> 0 | AB14: =AE14+AF14+AG14 -> #DIV/0! | AC14: =ROUND($AC$32/$AA$28*Z14,2) -> #DIV/0! | AD14: =AE14+AF14 -> #DIV/0! | AE14: =ROUND((AC14-AG14)*(1-$AC$34),2) -> #DIV/0! | AF14: =ROUND((AC14-AG14)*$AC$34,2) -> #DIV/0! | AG14: =ROUNDUP(AC14*(1-E14),2) -> #DIV/0! | AH14: =IF(AC14=0,0,AG14/AC14) -> #DIV/0! | AI14: =IF(Z14=0,0,AC14/Z14) -> 0 | AJ14: =K14+L14 -> 0 | AK14: =U14+V14 -> 3171329.1 | AL14: - | AM14: =ROUND(AJ14/1000,1) -> 0 | AN14: =ROUND(AK14/1000,1) -> 3171.3 | AO14: -
A15: 10 | B15: Лодейнопольский | C15: =+'расчет точ'!C16 -> 0.9 | D15: =+'расчет точ'!D16 -> 0.89 | E15: =+'расчет точ'!E16 -> 0.9 | G15: =C15*F15 -> 0 | H15: =K15+L15+M15 -> 0 | I15: =ROUND($H$32/$G$28*F15,2) -> 0 | J15: =K15+L15 -> 0 | K15: =ROUND((I15-M15)*(1-$H$34),2) -> 0 | L15: =ROUND((I15-M15)*$H$34,2) -> 0 | M15: =ROUNDUP(I15*(1-C15),2) -> 0 | N15: =IF(I15=0,0,M15/I15) -> 0 | O15: =IF(F15=0,0,I15/F15) -> 0 | P15: 1 | Q15: =P15*D15 -> 0.89 | R15: =U15+V15+W15 -> 1761849.5 | S15: =ROUND($S$32/$Q$28*P15,2) -> 1761849.5 | T15: =U15+V15 -> 1568046 | U15: =ROUND((S15-W15)*(1-$S$34),2) -> 1050589.9 | V15: =ROUND((S15-W15)*$S$34,2) -> 517456.12 | W15: =ROUND(S15*(1-D15),2) -> 193803.45 | X15: =IF(S15=0,0,W15/S15) -> 0.11 | Y15: =IF(P15=0,0,S15/P15) -> 1761849.5 | AA15: =E15*Z15 -> 0 | AB15: =AE15+AF15+AG15 -> #DIV/0! | AC15: =ROUND($AC$32/$AA$28*Z15,2) -> #DIV/0! | AD15: =AE15+AF15 -> #DIV/0! | AE15: =ROUND((AC15-AG15)*(1-$AC$34),2) -> #DIV/0! | AF15: =ROUND((AC15-AG15)*$AC$34,2) -> #DIV/0! | AG15: =ROUNDUP(AC15*(1-E15),2) -> #DIV/0! | AH15: =IF(AC15=0,0,AG15/AC15) -> #DIV/0! | AI15: =IF(Z15=0,0,AC15/Z15) -> 0 | AJ15: =K15+L15 -> 0 | AK15: =U15+V15 -> 1568046 | AL15: - | AM15: =ROUND(AJ15/1000,1) -> 0 | AN15: =ROUND(AK15/1000,1)+0.1 -> 1568.1 | AO15: -
A16: 11 | B16: Ломоносовский | C16: =+'расчет точ'!C17 -> 0.89 | D16: =+'расчет точ'!D17 -> 0.89 | E16: =+'расчет точ'!E17 -> 0.9 | G16: =C16*F16 -> 0 | H16: =K16+L16+M16 -> 0 | I16: =ROUND($H$32/$G$28*F16,2) -> 0 | J16: =K16+L16 -> 0 | K16: =ROUND((I16-M16)*(1-$H$34),2) -> 0 | L16: =ROUND((I16-M16)*$H$34,2) -> 0 | M16: =ROUNDUP(I16*(1-C16),2) -> 0 | N16: =IF(I16=0,0,M16/I16) -> 0 | O16: =IF(F16=0,0,I16/F16) -> 0 | P16: 5 | Q16: =P16*D16 -> 4.45 | R16: =U16+V16+W16 -> 8809247.5 | S16: =ROUND($S$32/$Q$28*P16,2) -> 8809247.5 | T16: =U16+V16 -> 7840230.2 | U16: =ROUND((S16-W16)*(1-$S$34),2)-0.01 -> 5252949.7 | V16: =ROUND((S16-W16)*$S$34,2) -> 2587280.6 | W16: =ROUND(S16*(1-D16),2)+0.01 -> 969017.23 | X16: =IF(S16=0,0,W16/S16) -> 0.11 | Y16: =IF(P16=0,0,S16/P16) -> 1761849.5 | AA16: =E16*Z16 -> 0 | AB16: =AE16+AF16+AG16 -> #DIV/0! | AC16: =ROUND($AC$32/$AA$28*Z16,2) -> #DIV/0! | AD16: =AE16+AF16 -> #DIV/0! | AE16: =ROUND((AC16-AG16)*(1-$AC$34),2)-0.01 -> #DIV/0! | AF16: =ROUND((AC16-AG16)*$AC$34,2) -> #DIV/0! | AG16: =ROUNDUP(AC16*(1-E16),2) -> #DIV/0! | AH16: =IF(AC16=0,0,AG16/AC16) -> #DIV/0! | AI16: =IF(Z16=0,0,AC16/Z16) -> 0 | AJ16: =K16+L16 -> 0 | AK16: =U16+V16 -> 7840230.2 | AL16: - | AM16: =ROUND(AJ16/1000,1) -> 0 | AN16: =ROUND(AK16/1000,1) -> 7840.2 | AO16: -
A17: 12 | B17: Лужский | C17: =+'расчет точ'!C18 -> 0.9 | D17: =+'расчет точ'!D18 -> 0.9 | E17: =+'расчет точ'!E18 -> 0.89 | F17: 1 | G17: =C17*F17 -> 0.9 | H17: =K17+L17+M17 -> 1755673.4 | I17: =ROUND($H$32/$G$28*F17,2) -> 1755673.4 | J17: =K17+L17 -> 1580106.1 | K17: =ROUND((I17-M17)*(1-$H$34),2)-0.01 -> 1058668.3 | L17: =ROUND((I17-M17)*$H$34,2) -> 521437.79 | M17: =ROUNDUP(I17*(1-C17),2) -> 175567.34 | N17: =IF(I17=0,0,M17/I17) -> 0.1 | O17: =IF(F17=0,0,I17/F17) -> 1755673.4 | P17: 3 | Q17: =P17*D17 -> 2.7 | R17: =U17+V17+W17 -> 5285548.5 | S17: =ROUND($S$32/$Q$28*P17,2) -> 5285548.5 | T17: =U17+V17 -> 4756993.6 | U17: =ROUND((S17-W17)*(1-$S$34),2) -> 3187182.9 | V17: =ROUND((S17-W17)*$S$34,2) -> 1569810.7 | W17: =ROUND(S17*(1-D17),2) -> 528554.85 | X17: =IF(S17=0,0,W17/S17) -> 0.1 | Y17: =IF(P17=0,0,S17/P17) -> 1761849.5 | AA17: =E17*Z17 -> 0 | AB17: =AE17+AF17+AG17 -> #DIV/0! | AC17: =ROUND($AC$32/$AA$28*Z17,2) -> #DIV/0! | AD17: =AE17+AF17 -> #DIV/0! | AE17: =ROUND((AC17-AG17)*(1-$AC$34),2) -> #DIV/0! | AF17: =ROUND((AC17-AG17)*$AC$34,2) -> #DIV/0! | AG17: =ROUNDUP(AC17*(1-E17),2) -> #DIV/0! | AH17: =IF(AC17=0,0,AG17/AC17) -> #DIV/0! | AI17: =IF(Z17=0,0,AC17/Z17) -> 0 | AJ17: =K17+L17 -> 1580106.1 | AK17: =U17+V17 -> 4756993.6 | AL17: - | AM17: =ROUND(AJ17/1000,1) -> 1580.1 | AN17: =ROUND(AK17/1000,1) -> 4757 | AO17: -
A18: 13 | B18: Подпорожский | C18: =+'расчет точ'!C19 -> 0.9 | D18: =+'расчет точ'!D19 -> 0.9 | E18: =+'расчет точ'!E19 -> 0.9 | G18: =C18*F18 -> 0 | H18: =K18+L18+M18 -> 0 | I18: =ROUND($H$32/$G$28*F18,2) -> 0 | J18: =K18+L18 -> 0 | K18: =ROUND((I18-M18)*(1-$H$34),2) -> 0 | L18: =ROUND((I18-M18)*$H$34,2) -> 0 | M18: =ROUNDUP(I18*(1-C18),2) -> 0 | N18: =IF(I18=0,0,M18/I18) -> 0 | O18: =IF(F18=0,0,I18/F18) -> 0 | P18: 1 | Q18: =P18*D18 -> 0.9 | R18: =U18+V18+W18 -> 1761849.5 | S18: =ROUND($S$32/$Q$28*P18,2) -> 1761849.5 | T18: =U18+V18 -> 1585664.6 | U18: =ROUND((S18-W18)*(1-$S$34),2) -> 1062394.3 | V18: =ROUND((S18-W18)*$S$34,2) -> 523270.23 | W18: =ROUND(S18*(1-D18),2) -> 176184.95 | X18: =IF(S18=0,0,W18/S18) -> 0.1 | Y18: =IF(P18=0,0,S18/P18) -> 1761849.5 | AA18: =E18*Z18 -> 0 | AB18: =AE18+AF18+AG18 -> #DIV/0! | AC18: =ROUND($AC$32/$AA$28*Z18,2) -> #DIV/0! | AD18: =AE18+AF18 -> #DIV/0! | AE18: =ROUND((AC18-AG18)*(1-$AC$34),2) -> #DIV/0! | AF18: =ROUND((AC18-AG18)*$AC$34,2) -> #DIV/0! | AG18: =ROUNDUP(AC18*(1-E18),2) -> #DIV/0! | AH18: =IF(AC18=0,0,AG18/AC18) -> #DIV/0! | AI18: =IF(Z18=0,0,AC18/Z18) -> 0 | AJ18: =K18+L18 -> 0 | AK18: =U18+V18 -> 1585664.6 | AL18: - | AM18: =ROUND(AJ18/1000,1) -> 0 | AN18: =ROUND(AK18/1000,1) -> 1585.7 | AO18: -
A19: 14 | B19: Приозерский | C19: =+'расчет точ'!C20 -> 0.89 | D19: =+'расчет точ'!D20 -> 0.89 | E19: =+'расчет точ'!E20 -> 0.89 | G19: =C19*F19 -> 0 | H19: =K19+L19+M19 -> 0 | I19: =ROUND($H$32/$G$28*F19,2) -> 0 | J19: =K19+L19 -> 0 | K19: =ROUND((I19-M19)*(1-$H$34),2) -> 0 | L19: =ROUND((I19-M19)*$H$34,2) -> 0 | M19: =ROUNDUP(I19*(1-C19),2) -> 0 | N19: =IF(I19=0,0,M19/I19) -> 0 | O19: =IF(F19=0,0,I19/F19) -> 0 | P19: 2 | Q19: =P19*D19 -> 1.78 | R19: =U19+V19+W19 -> 3523699 | S19: =ROUND($S$32/$Q$28*P19,2) -> 3523699 | T19: =U19+V19 -> 3136092.1 | U19: =ROUND((S19-W19)*(1-$S$34),2)-0.01 -> 2101179.9 | V19: =ROUND((S19-W19)*$S$34,2) -> 1034912.2 | W19: =ROUND(S19*(1-D19),2) -> 387606.89 | X19: =IF(S19=0,0,W19/S19) -> 0.11 | Y19: =IF(P19=0,0,S19/P19) -> 1761849.5 | AA19: =E19*Z19 -> 0 | AB19: =AE19+AF19+AG19 -> #DIV/0! | AC19: =ROUND($AC$32/$AA$28*Z19,2) -> #DIV/0! | AD19: =AE19+AF19 -> #DIV/0! | AE19: =ROUND((AC19-AG19)*(1-$AC$34),2)-0.01 -> #DIV/0! | AF19: =ROUND((AC19-AG19)*$AC$34,2) -> #DIV/0! | AG19: =ROUNDUP(AC19*(1-E19),2) -> #DIV/0! | AH19: =IF(AC19=0,0,AG19/AC19) -> #DIV/0! | AI19: =IF(Z19=0,0,AC19/Z19) -> 0 | AJ19: =K19+L19 -> 0 | AK19: =U19+V19 -> 3136092.1 | AL19: - | AM19: =ROUND(AJ19/1000,1) -> 0 | AN19: =ROUND(AK19/1000,1) -> 3136.1 | AO19: -
A20: 15 | B20: Сланцевский | C20: =+'расчет точ'!C21 -> 0.9 | D20: =+'расчет точ'!D21 -> 0.89 | E20: =+'расчет точ'!E21 -> 0.88 | F20: 1 | G20: =C20*F20 -> 0.9 | H20: =K20+L20+M20 -> 1755673.4 | I20: =ROUND($H$32/$G$28*F20,2) -> 1755673.4 | J20: =K20+L20 -> 1580106.1 | K20: =ROUND((I20-M20)*(1-$H$34),2)-0.01 -> 1058668.3 | L20: =ROUND((I20-M20)*$H$34,2) -> 521437.79 | M20: =ROUNDUP(I20*(1-C20),2) -> 175567.34 | N20: =IF(I20=0,0,M20/I20) -> 0.1 | O20: =IF(F20=0,0,I20/F20) -> 1755673.4 | P20: 1 | Q20: =P20*D20 -> 0.89 | R20: =U20+V20+W20 -> 1761849.5 | S20: =ROUND($S$32/$Q$28*P20,2) -> 1761849.5 | T20: =U20+V20 -> 1568046 | U20: =ROUND((S20-W20)*(1-$S$34),2) -> 1050589.9 | V20: =ROUND((S20-W20)*$S$34,2)-0.01 -> 517456.11 | W20: =ROUND(S20*(1-D20),2) -> 193803.45 | X20: =IF(S20=0,0,W20/S20) -> 0.11 | Y20: =IF(P20=0,0,S20/P20) -> 1761849.5 | AA20: =E20*Z20 -> 0 | AB20: =AE20+AF20+AG20 -> #DIV/0! | AC20: =ROUND($AC$32/$AA$28*Z20,2) -> #DIV/0! | AD20: =AE20+AF20 -> #DIV/0! | AE20: =ROUND((AC20-AG20)*(1-$AC$34),2) -> #DIV/0! | AF20: =ROUND((AC20-AG20)*$AC$34,2)-0.01 -> #DIV/0! | AG20: =ROUNDUP(AC20*(1-E20),2) -> #DIV/0! | AH20: =IF(AC20=0,0,AG20/AC20) -> #DIV/0! | AI20: =IF(Z20=0,0,AC20/Z20) -> 0 | AJ20: =K20+L20 -> 1580106.1 | AK20: =U20+V20 -> 1568046 | AL20: - | AM20: =ROUND(AJ20/1000,1) -> 1580.1 | AN20: =ROUND(AK20/1000,1) -> 1568 | AO20: -
A21: 16 | B21: Тихвинский | C21: =+'расчет точ'!C22 -> 0.9 | D21: =+'расчет точ'!D22 -> 0.91 | E21: =+'расчет точ'!E22 -> 0.91 | G21: =C21*F21 -> 0 | H21: =K21+L21+M21 -> 0 | I21: =ROUND($H$32/$G$28*F21,2) -> 0 | J21: =K21+L21 -> 0 | K21: =ROUND((I21-M21)*(1-$H$34),2) -> 0 | L21: =ROUND((I21-M21)*$H$34,2) -> 0 | M21: =ROUNDUP(I21*(1-C21),2) -> 0 | N21: =IF(I21=0,0,M21/I21) -> 0 | O21: =IF(F21=0,0,I21/F21) -> 0 | P21: 3 | Q21: =P21*D21 -> 2.73 | R21: =U21+V21+W21 -> 5285548.5 | S21: =ROUND($S$32/$Q$28*P21,2) -> 5285548.5 | T21: =U21+V21 -> 4809849.1 | U21: =ROUND((S21-W21)*(1-$S$34),2) -> 3222596.1 | V21: =ROUND((S21-W21)*$S$34,2) -> 1587253 | W21: =ROUND(S21*(1-D21),2)+0.01 -> 475699.37 | X21: =IF(S21=0,0,W21/S21) -> 0.090000001 | Y21: =IF(P21=0,0,S21/P21) -> 1761849.5 | AA21: =E21*Z21 -> 0 | AB21: =AE21+AF21+AG21 -> #DIV/0! | AC21: =ROUND($AC$32/$AA$28*Z21,2) -> #DIV/0! | AD21: =AE21+AF21 -> #DIV/0! | AE21: =ROUND((AC21-AG21)*(1-$AC$34),2) -> #DIV/0! | AF21: =ROUND((AC21-AG21)*$AC$34,2) -> #DIV/0! | AG21: =ROUNDUP(AC21*(1-E21),2) -> #DIV/0! | AH21: =IF(AC21=0,0,AG21/AC21) -> #DIV/0! | AI21: =IF(Z21=0,0,AC21/Z21) -> 0 | AJ21: =K21+L21 -> 0 | AK21: =U21+V21 -> 4809849.1 | AL21: - | AM21: =ROUND(AJ21/1000,1) -> 0 | AN21: =ROUND(AK21/1000,1) -> 4809.8 | AO21: -
A22: 17 | B22: Тосненский | C22: =+'расчет точ'!C23 -> 0.9 | D22: =+'расчет точ'!D23 -> 0.89 | E22: =+'расчет точ'!E23 -> 0.89 | G22: =C22*F22 -> 0 | H22: =K22+L22+M22 -> 0 | I22: =ROUND($H$32/$G$28*F22,2) -> 0 | J22: =K22+L22 -> 0 | K22: =ROUND((I22-M22)*(1-$H$34),2) -> 0 | L22: =ROUND((I22-M22)*$H$34,2) -> 0 | M22: =ROUNDUP(I22*(1-C22),2) -> 0 | N22: =IF(I22=0,0,M22/I22) -> 0 | O22: =IF(F22=0,0,I22/F22) -> 0 | P22: 7 | Q22: =P22*D22 -> 6.23 | R22: =U22+V22+W22 -> 12332946 | S22: =ROUND($S$32/$Q$28*P22,2) -> 12332946 | T22: =U22+V22 -> 10976322 | U22: =ROUND((S22-W22)*(1-$S$34),2) -> 7354129.5 | V22: =ROUND((S22-W22)*$S$34,2) -> 3622192.8 | W22: =ROUND(S22*(1-D22),2)+0.01 -> 1356624.1 | X22: =IF(S22=0,0,W22/S22) -> 0.11 | Y22: =IF(P22=0,0,S22/P22) -> 1761849.5 | AA22: =E22*Z22 -> 0 | AB22: =AE22+AF22+AG22 -> #DIV/0! | AC22: =ROUND($AC$32/$AA$28*Z22,2) -> #DIV/0! | AD22: =AE22+AF22 -> #DIV/0! | AE22: =ROUND((AC22-AG22)*(1-$AC$34),2) -> #DIV/0! | AF22: =ROUND((AC22-AG22)*$AC$34,2) -> #DIV/0! | AG22: =ROUNDUP(AC22*(1-E22),2) -> #DIV/0! | AH22: =IF(AC22=0,0,AG22/AC22) -> #DIV/0! | AI22: =IF(Z22=0,0,AC22/Z22) -> 0 | AJ22: =K22+L22 -> 0 | AK22: =U22+V22 -> 10976322 | AL22: - | AM22: =ROUND(AJ22/1000,1) -> 0 | AN22: =ROUND(AK22/1000,1) -> 10976.3 | AO22: -
A23: 18 | B23: Сосновоборский | C23: =+'расчет точ'!C24 -> 0.77 | D23: =+'расчет точ'!D24 -> 0.76 | E23: =+'расчет точ'!E24 -> 0.78 | G23: =C23*F23 -> 0 | H23: =K23+L23+M23 -> 0 | I23: =ROUND($H$32/$G$28*F23,2) -> 0 | J23: =K23+L23 -> 0 | K23: =ROUND((I23-M23)*(1-$H$34),2) -> 0 | L23: =ROUND((I23-M23)*$H$34,2) -> 0 | M23: =ROUNDUP(I23*(1-C23),2) -> 0 | N23: =IF(I23=0,0,M23/I23) -> 0 | O23: =IF(F23=0,0,I23/F23) -> 0 | P23: 1 | Q23: =P23*D23 -> 0.76 | R23: =U23+V23+W23 -> 1761849.5 | S23: =ROUND($S$32/$Q$28*P23,2) -> 1761849.5 | T23: =U23+V23 -> 1339005.6 | U23: =ROUND((S23-W23)*(1-$S$34),2) -> 897132.98 | V23: =ROUND((S23-W23)*$S$34,2) -> 441872.64 | W23: =ROUND(S23*(1-D23),2) -> 422843.88 | X23: =IF(S23=0,0,W23/S23) -> 0.24 | Y23: =IF(P23=0,0,S23/P23) -> 1761849.5 | AA23: =E23*Z23 -> 0 | AB23: =AE23+AF23+AG23 -> #DIV/0! | AC23: =ROUND($AC$32/$AA$28*Z23,2) -> #DIV/0! | AD23: =AE23+AF23 -> #DIV/0! | AE23: =ROUND((AC23-AG23)*(1-$AC$34),2) -> #DIV/0! | AF23: =ROUND((AC23-AG23)*$AC$34,2) -> #DIV/0! | AG23: =ROUNDUP(AC23*(1-E23),2) -> #DIV/0! | AH23: =IF(AC23=0,0,AG23/AC23) -> #DIV/0! | AI23: =IF(Z23=0,0,AC23/Z23) -> 0 | AJ23: =K23+L23 -> 0 | AK23: =U23+V23 -> 1339005.6 | AL23: - | AM23: =ROUND(AJ23/1000,1) -> 0 | AN23: =ROUND(AK23/1000,1) -> 1339 | AO23: -
B24: Всего по МР (ГО) | F24: =SUM(F6:F23) -> 7 | G24: =SUM(G6:G23) -> 6.24 | H24: =SUM(H6:H23) -> 12289714 | I24: =SUM(I6:I23) -> 12289714 | J24: =SUM(J6:J23) -> 10955402 | K24: =SUM(K6:K23) -> 7340100 | L24: =SUM(L6:L23) -> 3615302 | M24: =SUM(M6:M23) -> 1334311.8 | N24: =IF(I24=0,0,M24/I24) -> 0.10857143 | O24: =IF(F24=0,0,I24/F24) -> 1755673.4 | P24: =SUM(P6:P23) -> 58 | Q24: =SUM(Q6:Q23) -> 51.8 | R24: =SUM(R6:R23) -> 1.0218727e+08 | S24: =SUM(S6:S23) -> 1.0218727e+08 | T24: =SUM(T6:T23) -> 91263804 | U24: =SUM(U6:U23) -> 61146695 | V24: =SUM(V6:V23) -> 30117109 | W24: =SUM(W6:W23) -> 10923467 | X24: =IF(S24=0,0,W24/S24) -> 0.10689655 | Y24: =IF(P24=0,0,S24/P24) -> 1761849.5 | Z24: =SUM(Z6:Z23) -> 0 | AA24: =SUM(AA6:AA23) -> 0 | AB24: =SUM(AB6:AB23) -> #DIV/0! | AC24: =SUM(AC6:AC23) -> #DIV/0! | AD24: =SUM(AD6:AD23) -> #DIV/0! | AE24: =SUM(AE6:AE23) -> #DIV/0! | AF24: =SUM(AF6:AF23) -> #DIV/0! | AG24: =SUM(AG6:AG23) -> #DIV/0! | AH24: =IF(AC24=0,0,AG24/AC24) -> #DIV/0! | AI24: =IF(Z24=0,0,AC24/Z24) -> 0 | AJ24: =SUM(AJ6:AJ23) -> 10955402 | AK24: =SUM(AK6:AK23) -> 91263804 | AL24: - | AM24: =SUM(AM6:AM23) -> 10955.4 | AN24: =SUM(AN6:AN23) -> 91263.8 | AO24: -
A25: 0702 | B25: ГУ | C25: 1 | D25: 1 | E25: 1 | G25: =C25*F25 -> 0 | H25: =K25+L25+M25 -> 0 | I25: =ROUND($H$32/$G$28*F25,2) -> 0 | J25: =K25+L25 -> 0 | K25: =ROUND((I25-M25)*(1-$H$34),2) -> 0 | L25: =ROUND((I25-M25)*$H$34,2) -> 0 | M25: =ROUNDUP(I25*(1-C25),2) -> 0 | N25: =IF(I25=0,0,M25/I25) -> 0 | O25: =IF(F25=0,0,I25/F25) -> 0 | Q25: =P25*D25 -> 0 | R25: =U25+V25+W25 -> 0 | S25: =ROUND($S$32/$Q$28*P25,2) -> 0 | T25: =U25+V25 -> 0 | U25: =ROUND((S25-W25)*(1-$S$34),2) -> 0 | V25: =ROUND((S25-W25)*$S$34,2) -> 0 | W25: =ROUND(S25*(1-D25),2) -> 0 | X25: =IF(S25=0,0,W25/S25) -> 0 | Y25: =IF(P25=0,0,S25/P25) -> 0 | AA25: =E25*Z25 -> 0 | AB25: =AE25+AF25+AG25 -> #DIV/0! | AC25: =ROUND($AC$32/$AA$28*Z25,2) -> #DIV/0! | AD25: =AE25+AF25 -> #DIV/0! | AE25: =ROUND((AC25-AG25)*(1-$AC$34),2) -> #DIV/0! | AF25: =ROUND((AC25-AG25)*$AC$34,2) -> #DIV/0! | AG25: =ROUNDUP(AC25*(1-E25),2) -> #DIV/0! | AH25: =IF(AC25=0,0,AG25/AC25) -> #DIV/0! | AI25: =IF(Z25=0,0,AC25/Z25) -> 0 | AJ25: =K25+L25 -> 0 | AK25: =U25+V25 -> 0 | AL25: - | AM25: =ROUND(AJ25/1000,1) -> 0 | AN25: =ROUND(AK25/1000,1) -> 0 | AO25: -
A26: 0703 | B26: ГУ | C26: 1 | D26: 1 | E26: 1 | G26: =C26*F26 -> 0 | H26: =K26+L26+M26 -> 0 | I26: =ROUND($H$32/$G$28*F26,2) -> 0 | J26: =K26+L26 -> 0 | K26: =ROUND((I26-M26)*(1-$H$34),2) -> 0 | L26: =ROUND((I26-M26)*$H$34,2) -> 0 | M26: =ROUNDUP(I26*(1-C26),2) -> 0 | N26: =IF(I26=0,0,M26/I26) -> 0 | O26: =IF(F26=0,0,I26/F26) -> 0 | Q26: =P26*D26 -> 0 | R26: =U26+V26+W26 -> 0 | S26: =ROUND($S$32/$Q$28*P26,2) -> 0 | T26: =U26+V26 -> 0 | U26: =ROUND((S26-W26)*(1-$S$34),2) -> 0 | V26: =ROUND((S26-W26)*$S$34,2) -> 0 | W26: =ROUND(S26*(1-D26),2) -> 0 | X26: =IF(S26=0,0,W26/S26) -> 0 | Y26: =IF(P26=0,0,S26/P26) -> 0 | AA26: =E26*Z26 -> 0 | AB26: =AE26+AF26+AG26 -> #DIV/0! | AC26: =ROUND($AC$32/$AA$28*Z26,2) -> #DIV/0! | AD26: =AE26+AF26 -> #DIV/0! | AE26: =ROUND((AC26-AG26)*(1-$AC$34),2) -> #DIV/0! | AF26: =ROUND((AC26-AG26)*$AC$34,2) -> #DIV/0! | AG26: =ROUNDUP(AC26*(1-E26),2) -> #DIV/0! | AH26: =IF(AC26=0,0,AG26/AC26) -> #DIV/0! | AI26: =IF(Z26=0,0,AC26/Z26) -> 0 | AJ26: =K26+L26 -> 0 | AK26: =U26+V26 -> 0 | AL26: - | AM26: =ROUND(AJ26/1000,1) -> 0 | AN26: =ROUND(AK26/1000,1) -> 0 | AO26: -
A27: 0704 | B27: ГУ | C27: 1 | D27: 1 | E27: 1 | G27: =C27*F27 -> 0 | H27: =K27+L27+M27 -> 0 | I27: =ROUND($H$32/$G$28*F27,2) -> 0 | J27: =K27+L27 -> 0 | K27: =ROUND((I27-M27)*(1-$H$34),2) -> 0 | L27: =ROUND((I27-M27)*$H$34,2) -> 0 | M27: =ROUNDUP(I27*(1-C27),2) -> 0 | N27: =IF(I27=0,0,M27/I27) -> 0 | O27: =IF(F27=0,0,I27/F27) -> 0 | P27: 8 | Q27: =P27*D27 -> 8 | R27: =U27+V27+W27 -> 14094796 | S27: =ROUND($S$32/$Q$28*P27,2) -> 14094796 | T27: =U27+V27 -> 14094796 | U27: =ROUND((S27-W27)*(1-$S$34),2)+0.09 -> 9443505.1 | V27: =ROUND((S27-W27)*$S$34,2)+0.03 -> 4651291 | W27: =ROUND(S27*(1-D27),2) -> 0 | X27: =IF(S27=0,0,W27/S27) -> 0 | Y27: =IF(P27=0,0,S27/P27) -> 1761849.5 | AA27: =E27*Z27 -> 0 | AB27: =AE27+AF27+AG27 -> #DIV/0! | AC27: =ROUND($AC$32/$AA$28*Z27,2) -> #DIV/0! | AD27: =AE27+AF27 -> #DIV/0! | AE27: =ROUND((AC27-AG27)*(1-$AC$34),2)+0.09 -> #DIV/0! | AF27: =ROUND((AC27-AG27)*$AC$34,2)+0.03 -> #DIV/0! | AG27: =ROUNDUP(AC27*(1-E27),2) -> #DIV/0! | AH27: =IF(AC27=0,0,AG27/AC27) -> #DIV/0! | AI27: =IF(Z27=0,0,AC27/Z27) -> 0 | AJ27: =K27+L27 -> 0 | AK27: =U27+V27 -> 14094796 | AL27: - | AM27: =ROUND(AJ27/1000,1) -> 0 | AN27: =ROUND(AK27/1000,1) -> 14094.8 | AO27: -
B28: Итого | F28: =F24+F25+F26+F27 -> 7 | G28: =G24+G25+G26+G27 -> 6.24 | H28: =H24+H25+H26+H27 -> 12289714 | I28: =I24+I25+I26+I27 -> 12289714 | J28: =J24+J25+J26+J27 -> 10955402 | K28: =K24+K25+K26+K27 -> 7340100 | L28: =L24+L25+L26+L27 -> 3615302 | M28: =M24+M25+M26+M27 -> 1334311.8 | N28: =IF(I28=0,0,M28/I28) -> 0.10857143 | O28: =IF(F28=0,0,I28/F28) -> 1755673.4 | P28: =P24+P25+P26+P27 -> 66 | Q28: =Q24+Q25+Q26+Q27 -> 59.8 | R28: =R24+R25+R26+R27 -> 1.1628207e+08 | S28: =S24+S25+S26+S27 -> 1.1628207e+08 | T28: =T24+T25+T26+T27 -> 105358600 | U28: =U24+U25+U26+U27 -> 70590200 | V28: =V24+V25+V26+V27 -> 34768400 | W28: =W24+W25+W26+W27 -> 10923467 | X28: =IF(S28=0,0,W28/S28) -> 0.093939394 | Y28: =IF(P28=0,0,S28/P28) -> 1761849.5 | Z28: =Z24+Z25+Z26+Z27 -> 0 | AA28: =AA24+AA25+AA26+AA27 -> 0 | AB28: =AB24+AB25+AB26+AB27 -> #DIV/0! | AC28: =AC24+AC25+AC26+AC27 -> #DIV/0! | AD28: =AD24+AD25+AD26+AD27 -> #DIV/0! | AE28: =AE24+AE25+AE26+AE27 -> #DIV/0! | AF28: =AF24+AF25+AF26+AF27 -> #DIV/0! | AG28: =AG24+AG25+AG26+AG27 -> #DIV/0! | AH28: =IF(AC28=0,0,AG28/AC28) -> #DIV/0! | AI28: =IF(Z28=0,0,AC28/Z28) -> 0 | AJ28: =AJ24+AJ25+AJ26+AJ27 -> 10955402 | AK28: =AK24+AK25+AK26+AK27 -> 105358600 | AL28: - | AM28: =AM24+AM25+AM26+AM27 -> 10955.4 | AN28: =AN24+AN25+AN26+AN27 -> 105358.6 | AO28: -
T29: 91263804 | U29: 61146695 | V29: =+T29-U29 -> 30117109 | AL29: - | AM29: =ROUND(AJ29/1000,1) -> 0 | AN29: =ROUND(AK29/1000,1) -> 0 | AO29: -
G30: ФБ | H30: 7340100 | I30: =H30-K28 -> 0 | K30: =+K6/J6 -> 0.66999824 | L30: =+L6/J6 -> 0.33000176 | S30: 70590200 | T30: =S30-U28 -> 0 | AD30: =AC30-AE28 -> #DIV/0! | AL30: - | AO30: -
G31: ОБ | H31: 3615302 | I31: =H31-L28 -> 0 | K31: =+K7/J7 -> 0.66999823 | L31: =+L7/J7 -> 0.33000177 | S31: 34768400 | T31: =S31-V28 -> 0 | AD31: =AC31-AF28 -> #DIV/0! | AL31: - | AO31: -
G32: ФБ+ОБ | H32: =SUM(H30:H31) -> 10955402 | K32: =+K8/J8 -> #DIV/0! | L32: =+L8/J8 -> #DIV/0! | S32: 105358600 | AC32: =SUM(AC30:AC31) -> 0 | AL32: - | AO32: -
K33: =+K9/J9 -> #DIV/0! | L33: =+L9/J9 -> #DIV/0! | AL33: - | AO33: -
H34: =H31/H32 -> 0.33000177 | K34: =+K10/J10 -> #DIV/0! | L34: =+L10/J10 -> #DIV/0! | S34: =S31/S32 -> 0.33000059 | AC34: =AC31/AC32 -> #DIV/0! | AL34: - | AO34: -
K35: =+K11/J11 -> 0.66999823 | L35: =+L11/J11 -> 0.33000177 | AL35: - | AO35: -
K36: =+K12/J12 -> #DIV/0! | L36: =+L12/J12 -> #DIV/0! | AL36: - | AO36: -
K37: =+K13/J13 -> #DIV/0! | L37: =+L13/J13 -> #DIV/0! | AL37: - | AO37: -
K38: =+K14/J14 -> #DIV/0! | L38: =+L14/J14 -> #DIV/0! | AL38: - | AO38: -
K39: =+K15/J15 -> #DIV/0! | L39: =+L15/J15 -> #DIV/0! | AL39: - | AO39: -
K40: =+K16/J16 -> #DIV/0! | L40: =+L16/J16 -> #DIV/0! | AL40: - | AO40: -
K41: =+K17/J17 -> 0.66999823 | L41: =+L17/J17 -> 0.33000177 | AL41: - | AO41: -
K42: =+K18/J18 -> #DIV/0! | L42: =+L18/J18 -> #DIV/0! | AL42: - | AO42: -
K43: =+K19/J19 -> #DIV/0! | L43: =+L19/J19 -> #DIV/0! | AL43: - | AO43: -
K44: =+K20/J20 -> 0.66999823 | L44: =+L20/J20 -> 0.33000177 | AL44: - | AO44: -
K45: =+K21/J21 -> #DIV/0! | L45: =+L21/J21 -> #DIV/0! | AL45: - | AO45: -
K46: =+K22/J22 -> #DIV/0! | L46: =+L22/J22 -> #DIV/0! | AL46: - | AO46: -
... K52: =+K28/J28 -> 0.66999823 | L52: =+L28/J28 -> 0.33000177 | AL52: - | AO52: -
AL53: - | AO53: -
AL54: - | AO54: -
AL55: - | AO55: -
AL56: - | AO56: -
AL57: - | AO57: -
AL58: - | AO58: -
AL59: - | AO59: -
AL60: - | AO60: -
AL61: - | AO61: -
AL62: - | AO62: -
AL63: - | AO63: -
AL64: - | AO64: -
... AL72: - | AO72: -

Sheet расчет куб
AQ1: Приложение 45 к пояснительной записке 2023 г.
A2: Расчет субсидий на создание центров цифрового образования детей 2023-2025 годы
A3: № п\п | B3: Название муниципального района | C3: предельный уровень софинансирования, % | F3: Создание центров цифрового образования детей | AJ3: В проект закона, руб | AN3: В проект закона, тыс. руб.
F4: 2023 год | P4: 2023 год | Z4: 2024 год
F5: Количество Центров в МР (ГО) | H5: ВСЕГО | I5: распределение | N5: проверка % софинансирования МБ | O5: средняя стоимость 1 объекта | P5: Количество Центров в МР (ГО) | R5: ВСЕГО | S5: распределение | X5: проверка % софинансирования МБ | Y5: средняя стоимость 1 объекта | Z5: Количество Центров в МР (ГО) | AB5: ВСЕГО | AC5: распределение | AH5: проверка % софинансирования МБ | AI5: средняя стоимость 1 объекта
C6: 2023 | D6: 2024 | E6: 2025 | I6: ФБ+ОБ+МБ | J6: ИТОГО ФБ+ОБ | K6: фб_по предельному уровню | L6: об_по предельному уровню | M6: мб_по предельному уровню | S6: ФБ+ОБ+МБ | T6: ИТОГО ФБ+ОБ | U6: фб_по предельному уровню | V6: об_по рпедельному уровню | W6: мб_по предельному уровню | AC6: ФБ+ОБ+МБ | AD6: ИТОГО ФБ+ОБ | AE6: фб_по предельному уровню | AF6: об_по рпедельному уровню | AG6: мб_по предельному уровню | AJ6: 2023 | AK6: 2023 | AL6: 2024 | AM6: 2025 | AN6: =+AJ6 -> 2023 | AO6: =+AK6 -> 2023 | AP6: =+AL6 -> 2024 | AQ6: 2025
A7: 1 | B7: Бокситогорский | C7: =+'расчет точ'!C7 -> 0.89 | D7: =+'расчет точ'!D7 -> 0.89 | E7: =+'расчет точ'!E7 -> 0.9 | G7: =C7*F7 -> 0 | H7: =K7+L7+M7 -> 0 | I7: =ROUND($H$33/$G$29*F7,2) -> 0 | J7: =K7+L7 -> 0 | K7: =ROUND((I7-M7)*(1-$H$35),2) -> 0 | L7: =ROUND((I7-M7)*$H$35,2) -> 0 | M7: =ROUNDUP(I7*(1-C7),2) -> 0 | N7: =IF(I7=0,0,M7/I7) -> 0 | O7: =IF(F7=0,0,I7/F7) -> 0 | Q7: =P7*D7 -> 0 | R7: =U7+V7+W7 -> 0 | S7: =ROUND($S$33/$Q$29*P7,2) -> 0 | T7: =U7+V7 -> 0 | U7: =ROUND((S7-W7)*(1-$S$35),2) -> 0 | V7: =ROUND((S7-W7)*$S$35,2) -> 0 | W7: =ROUND(S7*(1-D7),2) -> 0 | X7: =IF(S7=0,0,W7/S7) -> 0 | Y7: =IF(P7=0,0,S7/P7) -> 0 | AA7: =E7*Z7 -> 0 | AB7: =AE7+AF7+AG7 -> 0 | AC7: =ROUND($AC$33/$AA$29*Z7,2) -> 0 | AD7: =AE7+AF7 -> 0 | AE7: =ROUND((AC7-AG7)*(1-$AC$35),2) -> 0 | AF7: =ROUND((AC7-AG7)*$AC$35,2) -> 0 | AG7: =ROUNDUP(AC7*(1-E7),2) -> 0 | AH7: =IF(AC7=0,0,AG7/AC7) -> 0 | AI7: =IF(Z7=0,0,AC7/Z7) -> 0 | AJ7: =K7+L7 -> 0 | AK7: =U7+V7 -> 0 | AL7: =AE7+AF7 -> 0 | AN7: =ROUND(AJ7/1000,1) -> 0 | AO7: =ROUND(AK7/1000,1) -> 0 | AP7: =ROUND(AL7/1000,1) -> 0 | AQ7: -
A8: 2 | B8: Волосовский | C8: =+'расчет точ'!C8 -> 0.9 | D8: =+'расчет точ'!D8 -> 0.9 | E8: =+'расчет точ'!E8 -> 0.89 | G8: =C8*F8 -> 0 | H8: =K8+L8+M8 -> 0 | I8: =ROUND($H$33/$G$29*F8,2) -> 0 | J8: =K8+L8 -> 0 | K8: =ROUND((I8-M8)*(1-$H$35),2) -> 0 | L8: =ROUND((I8-M8)*$H$35,2) -> 0 | M8: =ROUNDUP(I8*(1-C8),2) -> 0 | N8: =IF(I8=0,0,M8/I8) -> 0 | O8: =IF(F8=0,0,I8/F8) -> 0 | Q8: =P8*D8 -> 0 | R8: =U8+V8+W8 -> 0 | S8: =ROUND($S$33/$Q$29*P8,2) -> 0 | T8: =U8+V8 -> 0 | U8: =ROUND((S8-W8)*(1-$S$35),2) -> 0 | V8: =ROUND((S8-W8)*$S$35,2) -> 0 | W8: =ROUND(S8*(1-D8),2) -> 0 | X8: =IF(S8=0,0,W8/S8) -> 0 | Y8: =IF(P8=0,0,S8/P8) -> 0 | AA8: =E8*Z8 -> 0 | AB8: =AE8+AF8+AG8 -> 0 | AC8: =ROUND($AC$33/$AA$29*Z8,2) -> 0 | AD8: =AE8+AF8 -> 0 | AE8: =ROUND((AC8-AG8)*(1-$AC$35),2) -> 0 | AF8: =ROUND((AC8-AG8)*$AC$35,2) -> 0 | AG8: =ROUNDUP(AC8*(1-E8),2) -> 0 | AH8: =IF(AC8=0,0,AG8/AC8) -> 0 | AI8: =IF(Z8=0,0,AC8/Z8) -> 0 | AJ8: =K8+L8 -> 0 | AK8: =U8+V8 -> 0 | AL8: =AE8+AF8 -> 0 | AN8: =ROUND(AJ8/1000,1) -> 0 | AO8: =ROUND(AK8/1000,1) -> 0 | AP8: =ROUND(AL8/1000,1) -> 0 | AQ8: -
A9: 3 | B9: Волховский | C9: =+'расчет точ'!C9 -> 0.9 | D9: =+'расчет точ'!D9 -> 0.9 | E9: =+'расчет точ'!E9 -> 0.9 | G9: =C9*F9 -> 0 | H9: =K9+L9+M9 -> 0 | I9: =ROUND($H$33/$G$29*F9,2) -> 0 | J9: =K9+L9 -> 0 | K9: =ROUND((I9-M9)*(1-$H$35),2) -> 0 | L9: =ROUND((I9-M9)*$H$35,2) -> 0 | M9: =ROUNDUP(I9*(1-C9),2) -> 0 | N9: =IF(I9=0,0,M9/I9) -> 0 | O9: =IF(F9=0,0,I9/F9) -> 0 | Q9: =P9*D9 -> 0 | R9: =U9+V9+W9 -> 0 | S9: =ROUND($S$33/$Q$29*P9,2) -> 0 | T9: =U9+V9 -> 0 | U9: =ROUND((S9-W9)*(1-$S$35),2) -> 0 | V9: =ROUND((S9-W9)*$S$35,2) -> 0 | W9: =ROUND(S9*(1-D9),2) -> 0 | X9: =IF(S9=0,0,W9/S9) -> 0 | Y9: =IF(P9=0,0,S9/P9) -> 0 | Z9: 2 | AA9: =E9*Z9 -> 1.8 | AB9: =AE9+AF9+AG9 -> 23334889 | AC9: =ROUND($AC$33/$AA$29*Z9,2) -> 23334889 | AD9: =AE9+AF9 -> 21001400 | AE9: =ROUND((AC9-AG9)*(1-$AC$35),2) -> 14070900 | AF9: =ROUND((AC9-AG9)*$AC$35,2) -> 6930500 | AG9: =ROUNDUP(AC9*(1-E9),2) -> 2333488.9 | AH9: =IF(AC9=0,0,AG9/AC9) -> 0.1 | AI9: =IF(Z9=0,0,AC9/Z9) -> 11667444 | AJ9: =K9+L9 -> 0 | AK9: =U9+V9 -> 0 | AL9: =AE9+AF9 -> 21001400 | AN9: =ROUND(AJ9/1000,1) -> 0 | AO9: =ROUND(AK9/1000,1) -> 0 | AP9: =ROUND(AL9/1000,1) -> 21001.4 | AQ9: -
A10: 4 | B10: Всеволожский | C10: =+'расчет точ'!C10 -> 0.9 | D10: =+'расчет точ'!D10 -> 0.9 | E10: =+'расчет точ'!E10 -> 0.89 | G10: =C10*F10 -> 0 | H10: =K10+L10+M10 -> 0 | I10: =ROUND($H$33/$G$29*F10,2) -> 0 | J10: =K10+L10 -> 0 | K10: =ROUND((I10-M10)*(1-$H$35),2) -> 0 | L10: =ROUND((I10-M10)*$H$35,2) -> 0 | M10: =ROUNDUP(I10*(1-C10),2) -> 0 | N10: =IF(I10=0,0,M10/I10) -> 0 | O10: =IF(F10=0,0,I10/F10) -> 0 | Q10: =P10*D10 -> 0 | R10: =U10+V10+W10 -> 0 | S10: =ROUND($S$33/$Q$29*P10,2) -> 0 | T10: =U10+V10 -> 0 | U10: =ROUND((S10-W10)*(1-$S$35),2) -> 0 | V10: =ROUND((S10-W10)*$S$35,2) -> 0 | W10: =ROUND(S10*(1-D10),2) -> 0 | X10: =IF(S10=0,0,W10/S10) -> 0 | Y10: =IF(P10=0,0,S10/P10) -> 0 | AA10: =E10*Z10 -> 0 | AB10: =AE10+AF10+AG10 -> 0 | AC10: =ROUND($AC$33/$AA$29*Z10,2) -> 0 | AD10: =AE10+AF10 -> 0 | AE10: =ROUND((AC10-AG10)*(1-$AC$35),2) -> 0 | AF10: =ROUND((AC10-AG10)*$AC$35,2) -> 0 | AG10: =ROUNDUP(AC10*(1-E10),2) -> 0 | AH10: =IF(AC10=0,0,AG10/AC10) -> 0 | AI10: =IF(Z10=0,0,AC10/Z10) -> 0 | AJ10: =K10+L10 -> 0 | AK10: =U10+V10 -> 0 | AL10: =AE10+AF10 -> 0 | AN10: =ROUND(AJ10/1000,1) -> 0 | AO10: =ROUND(AK10/1000,1) -> 0 | AP10: =ROUND(AL10/1000,1) -> 0 | AQ10: -
A11: 5 | B11: Выборгский | C11: =+'расчет точ'!C11 -> 0.89 | D11: =+'расчет точ'!D11 -> 0.89 | E11: =+'расчет точ'!E11 -> 0.9 | G11: =C11*F11 -> 0 | H11: =K11+L11+M11 -> 0 | I11: =ROUND($H$33/$G$29*F11,2) -> 0 | J11: =K11+L11 -> 0 | K11: =ROUND((I11-M11)*(1-$H$35),2) -> 0 | L11: =ROUND((I11-M11)*$H$35,2) -> 0 | M11: =ROUNDUP(I11*(1-C11),2) -> 0 | N11: =IF(I11=0,0,M11/I11) -> 0 | O11: =IF(F11=0,0,I11/F11) -> 0 | Q11: =P11*D11 -> 0 | R11: =U11+V11+W11 -> 0 | S11: =ROUND($S$33/$Q$29*P11,2) -> 0 | T11: =U11+V11 -> 0 | U11: =ROUND((S11-W11)*(1-$S$35),2) -> 0 | V11: =ROUND((S11-W11)*$S$35,2) -> 0 | W11: =ROUND(S11*(1-D11),2) -> 0 | X11: =IF(S11=0,0,W11/S11) -> 0 | Y11: =IF(P11=0,0,S11/P11) -> 0 | AA11: =E11*Z11 -> 0 | AB11: =AE11+AF11+AG11 -> 0 | AC11: =ROUND($AC$33/$AA$29*Z11,2) -> 0 | AD11: =AE11+AF11 -> 0 | AE11: =ROUND((AC11-AG11)*(1-$AC$35),2) -> 0 | AF11: =ROUND((AC11-AG11)*$AC$35,2) -> 0 | AG11: =ROUNDUP(AC11*(1-E11),2) -> 0 | AH11: =IF(AC11=0,0,AG11/AC11) -> 0 | AI11: =IF(Z11=0,0,AC11/Z11) -> 0 | AJ11: =K11+L11 -> 0 | AK11: =U11+V11 -> 0 | AL11: =AE11+AF11 -> 0 | AN11: =ROUND(AJ11/1000,1) -> 0 | AO11: =ROUND(AK11/1000,1) -> 0 | AP11: =ROUND(AL11/1000,1) -> 0 | AQ11: -
A12: 6 | B12: Гатчинский | C12: =+'расчет точ'!C12 -> 0.87 | D12: =+'расчет точ'!D12 -> 0.87 | E12: =+'расчет точ'!E12 -> 0.87 | F12: 0.0001 | G12: =C12*F12 -> 8.7e-05 | H12: =K12+L12+M12 -> 0 | I12: =ROUND($H$33/$G$29*F12,2) -> 0 | J12: =K12+L12 -> 0 | K12: =ROUND((I12-M12)*(1-$H$35),2) -> 0 | L12: =ROUND((I12-M12)*$H$35,2) -> 0 | M12: =ROUNDUP(I12*(1-C12),2) -> 0 | N12: =IF(I12=0,0,M12/I12) -> 0 | O12: =IF(F12=0,0,I12/F12) -> 0 | Q12: =P12*D12 -> 0 | R12: =U12+V12+W12 -> 0 | S12: =ROUND($S$33/$Q$29*P12,2) -> 0 | T12: =U12+V12 -> 0 | U12: =ROUND((S12-W12)*(1-$S$35),2) -> 0 | V12: =ROUND((S12-W12)*$S$35,2) -> 0 | W12: =ROUND(S12*(1-D12),2) -> 0 | X12: =IF(S12=0,0,W12/S12) -> 0 | Y12: =IF(P12=0,0,S12/P12) -> 0 | AA12: =E12*Z12 -> 0 | AB12: =AE12+AF12+AG12 -> 0 | AC12: =ROUND($AC$33/$AA$29*Z12,2) -> 0 | AD12: =AE12+AF12 -> 0 | AE12: =ROUND((AC12-AG12)*(1-$AC$35),2) -> 0 | AF12: =ROUND((AC12-AG12)*$AC$35,2) -> 0 | AG12: =ROUNDUP(AC12*(1-E12),2) -> 0 | AH12: =IF(AC12=0,0,AG12/AC12) -> 0 | AI12: =IF(Z12=0,0,AC12/Z12) -> 0 | AJ12: =K12+L12 -> 0 | AK12: =U12+V12 -> 0 | AL12: =AE12+AF12 -> 0 | AN12: =ROUND(AJ12/1000,1) -> 0 | AO12: =ROUND(AK12/1000,1) -> 0 | AP12: =ROUND(AL12/1000,1) -> 0 | AQ12: -
A13: 7 | B13: Кингисеппский | C13: =+'расчет точ'!C13 -> 0.89 | D13: =+'расчет точ'!D13 -> 0.9 | E13: =+'расчет точ'!E13 -> 0.89 | G13: =C13*F13 -> 0 | H13: =K13+L13+M13 -> 0 | I13: =ROUND($H$33/$G$29*F13,2) -> 0 | J13: =K13+L13 -> 0 | K13: =ROUND((I13-M13)*(1-$H$35),2) -> 0 | L13: =ROUND((I13-M13)*$H$35,2) -> 0 | M13: =ROUNDUP(I13*(1-C13),2) -> 0 | N13: =IF(I13=0,0,M13/I13) -> 0 | O13: =IF(F13=0,0,I13/F13) -> 0 | Q13: =P13*D13 -> 0 | R13: =U13+V13+W13 -> 0 | S13: =ROUND($S$33/$Q$29*P13,2) -> 0 | T13: =U13+V13 -> 0 | U13: =ROUND((S13-W13)*(1-$S$35),2) -> 0 | V13: =ROUND((S13-W13)*$S$35,2) -> 0 | W13: =ROUND(S13*(1-D13),2) -> 0 | X13: =IF(S13=0,0,W13/S13) -> 0 | Y13: =IF(P13=0,0,S13/P13) -> 0 | AA13: =E13*Z13 -> 0 | AB13: =AE13+AF13+AG13 -> 0 | AC13: =ROUND($AC$33/$AA$29*Z13,2) -> 0 | AD13: =AE13+AF13 -> 0 | AE13: =ROUND((AC13-AG13)*(1-$AC$35),2) -> 0 | AF13: =ROUND((AC13-AG13)*$AC$35,2) -> 0 | AG13: =ROUNDUP(AC13*(1-E13),2) -> 0 | AH13: =IF(AC13=0,0,AG13/AC13) -> 0 | AI13: =IF(Z13=0,0,AC13/Z13) -> 0 | AJ13: =K13+L13 -> 0 | AK13: =U13+V13 -> 0 | AL13: =AE13+AF13 -> 0 | AN13: =ROUND(AJ13/1000,1) -> 0 | AO13: =ROUND(AK13/1000,1) -> 0 | AP13: =ROUND(AL13/1000,1) -> 0 | AQ13: -
A14: 8 | B14: Киришский | C14: =+'расчет точ'!C14 -> 0.89 | D14: =+'расчет точ'!D14 -> 0.9 | E14: =+'расчет точ'!E14 -> 0.9 | G14: =C14*F14 -> 0 | H14: =K14+L14+M14 -> 0 | I14: =ROUND($H$33/$G$29*F14,2) -> 0 | J14: =K14+L14 -> 0 | K14: =ROUND((I14-M14)*(1-$H$35),2) -> 0 | L14: =ROUND((I14-M14)*$H$35,2) -> 0 | M14: =ROUNDUP(I14*(1-C14),2) -> 0 | N14: =IF(I14=0,0,M14/I14) -> 0 | O14: =IF(F14=0,0,I14/F14) -> 0 | Q14: =P14*D14 -> 0 | R14: =U14+V14+W14 -> 0 | S14: =ROUND($S$33/$Q$29*P14,2) -> 0 | T14: =U14+V14 -> 0 | U14: =ROUND((S14-W14)*(1-$S$35),2) -> 0 | V14: =ROUND((S14-W14)*$S$35,2) -> 0 | W14: =ROUND(S14*(1-D14),2) -> 0 | X14: =IF(S14=0,0,W14/S14) -> 0 | Y14: =IF(P14=0,0,S14/P14) -> 0 | AA14: =E14*Z14 -> 0 | AB14: =AE14+AF14+AG14 -> 0 | AC14: =ROUND($AC$33/$AA$29*Z14,2) -> 0 | AD14: =AE14+AF14 -> 0 | AE14: =ROUND((AC14-AG14)*(1-$AC$35),2) -> 0 | AF14: =ROUND((AC14-AG14)*$AC$35,2) -> 0 | AG14: =ROUNDUP(AC14*(1-E14),2) -> 0 | AH14: =IF(AC14=0,0,AG14/AC14) -> 0 | AI14: =IF(Z14=0,0,AC14/Z14) -> 0 | AJ14: =K14+L14 -> 0 | AK14: =U14+V14 -> 0 | AL14: =AE14+AF14 -> 0 | AN14: =ROUND(AJ14/1000,1) -> 0 | AO14: =ROUND(AK14/1000,1) -> 0 | AP14: =ROUND(AL14/1000,1) -> 0 | AQ14: -
A15: 9 | B15: Кировский | C15: =+'расчет точ'!C15 -> 0.9 | D15: =+'расчет точ'!D15 -> 0.9 | E15: =+'расчет точ'!E15 -> 0.89 | G15: =C15*F15 -> 0 | H15: =K15+L15+M15 -> 0 | I15: =ROUND($H$33/$G$29*F15,2) -> 0 | J15: =K15+L15 -> 0 | K15: =ROUND((I15-M15)*(1-$H$35),2) -> 0 | L15: =ROUND((I15-M15)*$H$35,2) -> 0 | M15: =ROUNDUP(I15*(1-C15),2) -> 0 | N15: =IF(I15=0,0,M15/I15) -> 0 | O15: =IF(F15=0,0,I15/F15) -> 0 | Q15: =P15*D15 -> 0 | R15: =U15+V15+W15 -> 0 | S15: =ROUND($S$33/$Q$29*P15,2) -> 0 | T15: =U15+V15 -> 0 | U15: =ROUND((S15-W15)*(1-$S$35),2) -> 0 | V15: =ROUND((S15-W15)*$S$35,2) -> 0 | W15: =ROUND(S15*(1-D15),2) -> 0 | X15: =IF(S15=0,0,W15/S15) -> 0 | Y15: =IF(P15=0,0,S15/P15) -> 0 | AA15: =E15*Z15 -> 0 | AB15: =AE15+AF15+AG15 -> 0 | AC15: =ROUND($AC$33/$AA$29*Z15,2) -> 0 | AD15: =AE15+AF15 -> 0 | AE15: =ROUND((AC15-AG15)*(1-$AC$35),2) -> 0 | AF15: =ROUND((AC15-AG15)*$AC$35,2) -> 0 | AG15: =ROUNDUP(AC15*(1-E15),2) -> 0 | AH15: =IF(AC15=0,0,AG15/AC15) -> 0 | AI15: =IF(Z15=0,0,AC15/Z15) -> 0 | AJ15: =K15+L15 -> 0 | AK15: =U15+V15 -> 0 | AL15: =AE15+AF15 -> 0 | AN15: =ROUND(AJ15/1000,1) -> 0 | AO15: =ROUND(AK15/1000,1) -> 0 | AP15: =ROUND(AL15/1000,1) -> 0 | AQ15: -
A16: 10 | B16: Лодейнопольский | C16: =+'расчет точ'!C16 -> 0.9 | D16: =+'расчет точ'!D16 -> 0.89 | E16: =+'расчет точ'!E16 -> 0.9 | G16: =C16*F16 -> 0 | H16: =K16+L16+M16 -> 0 | I16: =ROUND($H$33/$G$29*F16,2) -> 0 | J16: =K16+L16 -> 0 | K16: =ROUND((I16-M16)*(1-$H$35),2) -> 0 | L16: =ROUND((I16-M16)*$H$35,2) -> 0 | M16: =ROUNDUP(I16*(1-C16),2) -> 0 | N16: =IF(I16=0,0,M16/I16) -> 0 | O16: =IF(F16=0,0,I16/F16) -> 0 | Q16: =P16*D16 -> 0 | R16: =U16+V16+W16 -> 0 | S16: =ROUND($S$33/$Q$29*P16,2) -> 0 | T16: =U16+V16 -> 0 | U16: =ROUND((S16-W16)*(1-$S$35),2) -> 0 | V16: =ROUND((S16-W16)*$S$35,2) -> 0 | W16: =ROUND(S16*(1-D16),2) -> 0 | X16: =IF(S16=0,0,W16/S16) -> 0 | Y16: =IF(P16=0,0,S16/P16) -> 0 | AA16: =E16*Z16 -> 0 | AB16: =AE16+AF16+AG16 -> 0 | AC16: =ROUND($AC$33/$AA$29*Z16,2) -> 0 | AD16: =AE16+AF16 -> 0 | AE16: =ROUND((AC16-AG16)*(1-$AC$35),2) -> 0 | AF16: =ROUND((AC16-AG16)*$AC$35,2) -> 0 | AG16: =ROUNDUP(AC16*(1-E16),2) -> 0 | AH16: =IF(AC16=0,0,AG16/AC16) -> 0 | AI16: =IF(Z16=0,0,AC16/Z16) -> 0 | AJ16: =K16+L16 -> 0 | AK16: =U16+V16 -> 0 | AL16: =AE16+AF16 -> 0 | AN16: =ROUND(AJ16/1000,1) -> 0 | AO16: =ROUND(AK16/1000,1) -> 0 | AP16: =ROUND(AL16/1000,1) -> 0 | AQ16: -
A17: 11 | B17: Ломоносовский | C17: =+'расчет точ'!C17 -> 0.89 | D17: =+'расчет точ'!D17 -> 0.89 | E17: =+'расчет точ'!E17 -> 0.9 | G17: =C17*F17 -> 0 | H17: =K17+L17+M17 -> 0 | I17: =ROUND($H$33/$G$29*F17,2) -> 0 | J17: =K17+L17 -> 0 | K17: =ROUND((I17-M17)*(1-$H$35),2) -> 0 | L17: =ROUND((I17-M17)*$H$35,2) -> 0 | M17: =ROUNDUP(I17*(1-C17),2) -> 0 | N17: =IF(I17=0,0,M17/I17) -> 0 | O17: =IF(F17=0,0,I17/F17) -> 0 | P17: 1 | Q17: =P17*D17 -> 0.89 | R17: =U17+V17+W17 -> 22836404 | S17: =ROUND($S$33/$Q$29*P17,2) -> 22836404 | T17: =U17+V17 -> 20324400 | U17: =ROUND((S17-W17)*(1-$S$35),2) -> 13617300 | V17: =ROUND((S17-W17)*$S$35,2) -> 6707100 | W17: =ROUND(S17*(1-D17),2) -> 2512004.5 | X17: =IF(S17=0,0,W17/S17) -> 0.11 | Y17: =IF(P17=0,0,S17/P17) -> 22836404 | AA17: =E17*Z17 -> 0 | AB17: =AE17+AF17+AG17 -> 0 | AC17: =ROUND($AC$33/$AA$29*Z17,2) -> 0 | AD17: =AE17+AF17 -> 0 | AE17: =ROUND((AC17-AG17)*(1-$AC$35),2) -> 0 | AF17: =ROUND((AC17-AG17)*$AC$35,2) -> 0 | AG17: =ROUNDUP(AC17*(1-E17),2) -> 0 | AH17: =IF(AC17=0,0,AG17/AC17) -> 0 | AI17: =IF(Z17=0,0,AC17/Z17) -> 0 | AJ17: =K17+L17 -> 0 | AK17: =U17+V17 -> 20324400 | AL17: =AE17+AF17 -> 0 | AN17: =ROUND(AJ17/1000,1) -> 0 | AO17: =ROUND(AK17/1000,1) -> 20324.4 | AP17: =ROUND(AL17/1000,1) -> 0 | AQ17: -
A18: 12 | B18: Лужский | C18: =+'расчет точ'!C18 -> 0.9 | D18: =+'расчет точ'!D18 -> 0.9 | E18: =+'расчет точ'!E18 -> 0.89 | G18: =C18*F18 -> 0 | H18: =K18+L18+M18 -> 0 | I18: =ROUND($H$33/$G$29*F18,2) -> 0 | J18: =K18+L18 -> 0 | K18: =ROUND((I18-M18)*(1-$H$35),2) -> 0 | L18: =ROUND((I18-M18)*$H$35,2) -> 0 | M18: =ROUNDUP(I18*(1-C18),2) -> 0 | N18: =IF(I18=0,0,M18/I18) -> 0 | O18: =IF(F18=0,0,I18/F18) -> 0 | Q18: =P18*D18 -> 0 | R18: =U18+V18+W18 -> 0 | S18: =ROUND($S$33/$Q$29*P18,2) -> 0 | T18: =U18+V18 -> 0 | U18: =ROUND((S18-W18)*(1-$S$35),2) -> 0 | V18: =ROUND((S18-W18)*$S$35,2) -> 0 | W18: =ROUND(S18*(1-D18),2) -> 0 | X18: =IF(S18=0,0,W18/S18) -> 0 | Y18: =IF(P18=0,0,S18/P18) -> 0 | AA18: =E18*Z18 -> 0 | AB18: =AE18+AF18+AG18 -> 0 | AC18: =ROUND($AC$33/$AA$29*Z18,2) -> 0 | AD18: =AE18+AF18 -> 0 | AE18: =ROUND((AC18-AG18)*(1-$AC$35),2) -> 0 | AF18: =ROUND((AC18-AG18)*$AC$35,2) -> 0 | AG18: =ROUNDUP(AC18*(1-E18),2) -> 0 | AH18: =IF(AC18=0,0,AG18/AC18) -> 0 | AI18: =IF(Z18=0,0,AC18/Z18) -> 0 | AJ18: =K18+L18 -> 0 | AK18: =U18+V18 -> 0 | AL18: =AE18+AF18 -> 0 | AN18: =ROUND(AJ18/1000,1) -> 0 | AO18: =ROUND(AK18/1000,1) -> 0 | AP18: =ROUND(AL18/1000,1) -> 0 | AQ18: -
A19: 13 | B19: Подпорожский | C19: =+'расчет точ'!C19 -> 0.9 | D19: =+'расчет точ'!D19 -> 0.9 | E19: =+'расчет точ'!E19 -> 0.9 | G19: =C19*F19 -> 0 | H19: =K19+L19+M19 -> 0 | I19: =ROUND($H$33/$G$29*F19,2) -> 0 | J19: =K19+L19 -> 0 | K19: =ROUND((I19-M19)*(1-$H$35),2) -> 0 | L19: =ROUND((I19-M19)*$H$35,2) -> 0 | M19: =ROUNDUP(I19*(1-C19),2) -> 0 | N19: =IF(I19=0,0,M19/I19) -> 0 | O19: =IF(F19=0,0,I19/F19) -> 0 | Q19: =P19*D19 -> 0 | R19: =U19+V19+W19 -> 0 | S19: =ROUND($S$33/$Q$29*P19,2) -> 0 | T19: =U19+V19 -> 0 | U19: =ROUND((S19-W19)*(1-$S$35),2) -> 0 | V19: =ROUND((S19-W19)*$S$35,2) -> 0 | W19: =ROUND(S19*(1-D19),2) -> 0 | X19: =IF(S19=0,0,W19/S19) -> 0 | Y19: =IF(P19=0,0,S19/P19) -> 0 | AA19: =E19*Z19 -> 0 | AB19: =AE19+AF19+AG19 -> 0 | AC19: =ROUND($AC$33/$AA$29*Z19,2) -> 0 | AD19: =AE19+AF19 -> 0 | AE19: =ROUND((AC19-AG19)*(1-$AC$35),2) -> 0 | AF19: =ROUND((AC19-AG19)*$AC$35,2) -> 0 | AG19: =ROUNDUP(AC19*(1-E19),2) -> 0 | AH19: =IF(AC19=0,0,AG19/AC19) -> 0 | AI19: =IF(Z19=0,0,AC19/Z19) -> 0 | AJ19: =K19+L19 -> 0 | AK19: =U19+V19 -> 0 | AL19: =AE19+AF19 -> 0 | AN19: =ROUND(AJ19/1000,1) -> 0 | AO19: =ROUND(AK19/1000,1) -> 0 | AP19: =ROUND(AL19/1000,1) -> 0 | AQ19: -
A20: 14 | B20: Приозерский | C20: =+'расчет точ'!C20 -> 0.89 | D20: =+'расчет точ'!D20 -> 0.89 | E20: =+'расчет точ'!E20 -> 0.89 | G20: =C20*F20 -> 0 | H20: =K20+L20+M20 -> 0 | I20: =ROUND($H$33/$G$29*F20,2) -> 0 | J20: =K20+L20 -> 0 | K20: =ROUND((I20-M20)*(1-$H$35),2) -> 0 | L20: =ROUND((I20-M20)*$H$35,2) -> 0 | M20: =ROUNDUP(I20*(1-C20),2) -> 0 | N20: =IF(I20=0,0,M20/I20) -> 0 | O20: =IF(F20=0,0,I20/F20) -> 0 | Q20: =P20*D20 -> 0 | R20: =U20+V20+W20 -> 0 | S20: =ROUND($S$33/$Q$29*P20,2) -> 0 | T20: =U20+V20 -> 0 | U20: =ROUND((S20-W20)*(1-$S$35),2) -> 0 | V20: =ROUND((S20-W20)*$S$35,2) -> 0 | W20: =ROUND(S20*(1-D20),2) -> 0 | X20: =IF(S20=0,0,W20/S20) -> 0 | Y20: =IF(P20=0,0,S20/P20) -> 0 | AA20: =E20*Z20 -> 0 | AB20: =AE20+AF20+AG20 -> 0 | AC20: =ROUND($AC$33/$AA$29*Z20,2) -> 0 | AD20: =AE20+AF20 -> 0 | AE20: =ROUND((AC20-AG20)*(1-$AC$35),2) -> 0 | AF20: =ROUND((AC20-AG20)*$AC$35,2) -> 0 | AG20: =ROUNDUP(AC20*(1-E20),2) -> 0 | AH20: =IF(AC20=0,0,AG20/AC20) -> 0 | AI20: =IF(Z20=0,0,AC20/Z20) -> 0 | AJ20: =K20+L20 -> 0 | AK20: =U20+V20 -> 0 | AL20: =AE20+AF20 -> 0 | AN20: =ROUND(AJ20/1000,1) -> 0 | AO20: =ROUND(AK20/1000,1) -> 0 | AP20: =ROUND(AL20/1000,1) -> 0 | AQ20: -
A21: 15 | B21: Сланцевский | C21: =+'расчет точ'!C21 -> 0.9 | D21: =+'расчет точ'!D21 -> 0.89 | E21: =+'расчет точ'!E21 -> 0.88 | G21: =C21*F21 -> 0 | H21: =K21+L21+M21 -> 0 | I21: =ROUND($H$33/$G$29*F21,2) -> 0 | J21: =K21+L21 -> 0 | K21: =ROUND((I21-M21)*(1-$H$35),2) -> 0 | L21: =ROUND((I21-M21)*$H$35,2) -> 0 | M21: =ROUNDUP(I21*(1-C21),2) -> 0 | N21: =IF(I21=0,0,M21/I21) -> 0 | O21: =IF(F21=0,0,I21/F21) -> 0 | Q21: =P21*D21 -> 0 | R21: =U21+V21+W21 -> 0 | S21: =ROUND($S$33/$Q$29*P21,2) -> 0 | T21: =U21+V21 -> 0 | U21: =ROUND((S21-W21)*(1-$S$35),2) -> 0 | V21: =ROUND((S21-W21)*$S$35,2) -> 0 | W21: =ROUND(S21*(1-D21),2) -> 0 | X21: =IF(S21=0,0,W21/S21) -> 0 | Y21: =IF(P21=0,0,S21/P21) -> 0 | AA21: =E21*Z21 -> 0 | AB21: =AE21+AF21+AG21 -> 0 | AC21: =ROUND($AC$33/$AA$29*Z21,2) -> 0 | AD21: =AE21+AF21 -> 0 | AE21: =ROUND((AC21-AG21)*(1-$AC$35),2) -> 0 | AF21: =ROUND((AC21-AG21)*$AC$35,2) -> 0 | AG21: =ROUNDUP(AC21*(1-E21),2) -> 0 | AH21: =IF(AC21=0,0,AG21/AC21) -> 0 | AI21: =IF(Z21=0,0,AC21/Z21) -> 0 | AJ21: =K21+L21 -> 0 | AK21: =U21+V21 -> 0 | AL21: =AE21+AF21 -> 0 | AN21: =ROUND(AJ21/1000,1) -> 0 | AO21: =ROUND(AK21/1000,1) -> 0 | AP21: =ROUND(AL21/1000,1) -> 0 | AQ21: -
A22: 16 | B22: Тихвинский | C22: =+'расчет точ'!C22 -> 0.9 | D22: =+'расчет точ'!D22 -> 0.91 | E22: =+'расчет точ'!E22 -> 0.91 | G22: =C22*F22 -> 0 | H22: =K22+L22+M22 -> 0 | I22: =ROUND($H$33/$G$29*F22,2) -> 0 | J22: =K22+L22 -> 0 | K22: =ROUND((I22-M22)*(1-$H$35),2) -> 0 | L22: =ROUND((I22-M22)*$H$35,2) -> 0 | M22: =ROUNDUP(I22*(1-C22),2) -> 0 | N22: =IF(I22=0,0,M22/I22) -> 0 | O22: =IF(F22=0,0,I22/F22) -> 0 | Q22: =P22*D22 -> 0 | R22: =U22+V22+W22 -> 0 | S22: =ROUND($S$33/$Q$29*P22,2) -> 0 | T22: =U22+V22 -> 0 | U22: =ROUND((S22-W22)*(1-$S$35),2) -> 0 | V22: =ROUND((S22-W22)*$S$35,2) -> 0 | W22: =ROUND(S22*(1-D22),2) -> 0 | X22: =IF(S22=0,0,W22/S22) -> 0 | Y22: =IF(P22=0,0,S22/P22) -> 0 | AA22: =E22*Z22 -> 0 | AB22: =AE22+AF22+AG22 -> 0 | AC22: =ROUND($AC$33/$AA$29*Z22,2) -> 0 | AD22: =AE22+AF22 -> 0 | AE22: =ROUND((AC22-AG22)*(1-$AC$35),2) -> 0 | AF22: =ROUND((AC22-AG22)*$AC$35,2) -> 0 | AG22: =ROUNDUP(AC22*(1-E22),2) -> 0 | AH22: =IF(AC22=0,0,AG22/AC22) -> 0 | AI22: =IF(Z22=0,0,AC22/Z22) -> 0 | AJ22: =K22+L22 -> 0 | AK22: =U22+V22 -> 0 | AL22: =AE22+AF22 -> 0 | AN22: =ROUND(AJ22/1000,1) -> 0 | AO22: =ROUND(AK22/1000,1) -> 0 | AP22: =ROUND(AL22/1000,1) -> 0 | AQ22: -
A23: 17 | B23: Тосненский | C23: =+'расчет точ'!C23 -> 0.9 | D23: =+'расчет точ'!D23 -> 0.89 | E23: =+'расчет точ'!E23 -> 0.89 | G23: =C23*F23 -> 0 | H23: =K23+L23+M23 -> 0 | I23: =ROUND($H$33/$G$29*F23,2) -> 0 | J23: =K23+L23 -> 0 | K23: =ROUND((I23-M23)*(1-$H$35),2) -> 0 | L23: =ROUND((I23-M23)*$H$35,2) -> 0 | M23: =ROUNDUP(I23*(1-C23),2) -> 0 | N23: =IF(I23=0,0,M23/I23) -> 0 | O23: =IF(F23=0,0,I23/F23) -> 0 | Q23: =P23*D23 -> 0 | R23: =U23+V23+W23 -> 0 | S23: =ROUND($S$33/$Q$29*P23,2) -> 0 | T23: =U23+V23 -> 0 | U23: =ROUND((S23-W23)*(1-$S$35),2) -> 0 | V23: =ROUND((S23-W23)*$S$35,2) -> 0 | W23: =ROUND(S23*(1-D23),2) -> 0 | X23: =IF(S23=0,0,W23/S23) -> 0 | Y23: =IF(P23=0,0,S23/P23) -> 0 | AA23: =E23*Z23 -> 0 | AB23: =AE23+AF23+AG23 -> 0 | AC23: =ROUND($AC$33/$AA$29*Z23,2) -> 0 | AD23: =AE23+AF23 -> 0 | AE23: =ROUND((AC23-AG23)*(1-$AC$35),2) -> 0 | AF23: =ROUND((AC23-AG23)*$AC$35,2) -> 0 | AG23: =ROUNDUP(AC23*(1-E23),2) -> 0 | AH23: =IF(AC23=0,0,AG23/AC23) -> 0 | AI23: =IF(Z23=0,0,AC23/Z23) -> 0 | AJ23: =K23+L23 -> 0 | AK23: =U23+V23 -> 0 | AL23: =AE23+AF23 -> 0 | AN23: =ROUND(AJ23/1000,1) -> 0 | AO23: =ROUND(AK23/1000,1) -> 0 | AP23: =ROUND(AL23/1000,1) -> 0 | AQ23: -
A24: 18 | B24: Сосновоборский | C24: =+'расчет точ'!C24 -> 0.77 | D24: =+'расчет точ'!D24 -> 0.76 | E24: =+'расчет точ'!E24 -> 0.78 | G24: =C24*F24 -> 0 | H24: =K24+L24+M24 -> 0 | I24: =ROUND($H$33/$G$29*F24,2) -> 0 | J24: =K24+L24 -> 0 | K24: =ROUND((I24-M24)*(1-$H$35),2) -> 0 | L24: =ROUND((I24-M24)*$H$35,2) -> 0 | M24: =ROUNDUP(I24*(1-C24),2) -> 0 | N24: =IF(I24=0,0,M24/I24) -> 0 | O24: =IF(F24=0,0,I24/F24) -> 0 | Q24: =P24*D24 -> 0 | R24: =U24+V24+W24 -> 0 | S24: =ROUND($S$33/$Q$29*P24,2) -> 0 | T24: =U24+V24 -> 0 | U24: =ROUND((S24-W24)*(1-$S$35),2) -> 0 | V24: =ROUND((S24-W24)*$S$35,2) -> 0 | W24: =ROUND(S24*(1-D24),2) -> 0 | X24: =IF(S24=0,0,W24/S24) -> 0 | Y24: =IF(P24=0,0,S24/P24) -> 0 | Z24: 0 | AA24: =E24*Z24 -> 0 | AB24: =AE24+AF24+AG24 -> 0 | AC24: =ROUND($AC$33/$AA$29*Z24,2) -> 0 | AD24: =AE24+AF24 -> 0 | AE24: =ROUND((AC24-AG24)*(1-$AC$35),2) -> 0 | AF24: =ROUND((AC24-AG24)*$AC$35,2) -> 0 | AG24: =ROUNDUP(AC24*(1-E24),2) -> 0 | AH24: =IF(AC24=0,0,AG24/AC24) -> 0 | AI24: =IF(Z24=0,0,AC24/Z24) -> 0 | AJ24: =K24+L24 -> 0 | AK24: =U24+V24 -> 0 | AL24: =AE24+AF24 -> 0 | AN24: =ROUND(AJ24/1000,1) -> 0 | AO24: =ROUND(AK24/1000,1) -> 0 | AP24: =ROUND(AL24/1000,1) -> 0 | AQ24: -
B25: Всего по МР (ГО) | F25: =SUM(F7:F24) -> 0.0001 | G25: =SUM(G7:G24) -> 8.7e-05 | H25: =SUM(H7:H24) -> 0 | I25: =SUM(I7:I24) -> 0 | J25: =SUM(J7:J24) -> 0 | K25: =SUM(K7:K24) -> 0 | L25: =SUM(L7:L24) -> 0 | M25: =SUM(M7:M24) -> 0 | N25: =IF(I25=0,0,M25/I25) -> 0 | O25: =IF(F25=0,0,I25/F25) -> 0 | P25: =SUM(P7:P24) -> 1 | Q25: =SUM(Q7:Q24) -> 0.89 | R25: =SUM(R7:R24) -> 22836404 | S25: =SUM(S7:S24) -> 22836404 | T25: =SUM(T7:T24) -> 20324400 | U25: =SUM(U7:U24) -> 13617300 | V25: =SUM(V7:V24) -> 6707100 | W25: =SUM(W7:W24) -> 2512004.5 | X25: =IF(S25=0,0,W25/S25) -> 0.11 | Y25: =IF(P25=0,0,S25/P25) -> 22836404 | Z25: =SUM(Z7:Z24) -> 2 | AA25: =SUM(AA7:AA24) -> 1.8 | AB25: =SUM(AB7:AB24) -> 23334889 | AC25: =SUM(AC7:AC24) -> 23334889 | AD25: =SUM(AD7:AD24) -> 21001400 | AE25: =SUM(AE7:AE24) -> 14070900 | AF25: =SUM(AF7:AF24) -> 6930500 | AG25: =SUM(AG7:AG24) -> 2333488.9 | AH25: =IF(AC25=0,0,AG25/AC25) -> 0.1 | AI25: =IF(Z25=0,0,AC25/Z25) -> 11667444 | AJ25: =SUM(AJ7:AJ24) -> 0 | AK25: =SUM(AK7:AK24) -> 20324400 | AL25: =SUM(AL7:AL24) -> 21001400 | AN25: =SUM(AN7:AN24) -> 0 | AO25: =SUM(AO7:AO24) -> 20324.4 | AP25: =SUM(AP7:AP24) -> 21001.4 | AQ25: -
A26: 0702 | B26: ГУ | G26: =C26*F26 -> 0 | H26: =K26+L26+M26 -> 0 | I26: =ROUND($H$33/$G$29*F26,2) -> 0 | J26: =K26+L26 -> 0 | K26: =ROUND((I26-M26)*(1-$H$35),2) -> 0 | L26: =ROUND((I26-M26)*$H$35,2) -> 0 | M26: =ROUNDUP(I26*(1-C26),2) -> 0 | N26: =IF(I26=0,0,M26/I26) -> 0 | O26: =IF(F26=0,0,I26/F26) -> 0 | Q26: =P26*D26 -> 0 | R26: =U26+V26+W26 -> 0 | S26: =ROUND($S$33/$Q$29*P26,2) -> 0 | T26: =U26+V26 -> 0 | U26: =ROUND((S26-W26)*(1-$S$35),2) -> 0 | V26: =ROUND((S26-W26)*$S$35,2) -> 0 | W26: =ROUND(S26*(1-D26),2) -> 0 | X26: =IF(S26=0,0,W26/S26) -> 0 | Y26: =IF(P26=0,0,S26/P26) -> 0 | AB26: =AE26+AF26+AG26 -> 0 | AC26: =ROUND($AC$33/$AA$29*Z26,2) -> 0 | AD26: =AE26+AF26 -> 0 | AE26: =ROUND((AC26-AG26)*(1-$AC$35),2) -> 0 | AF26: =ROUND((AC26-AG26)*$AC$35,2) -> 0 | AG26: =ROUNDUP(AC26*(1-E26),2) -> 0 | AH26: =IF(AC26=0,0,AG26/AC26) -> 0 | AI26: =IF(Z26=0,0,AC26/Z26) -> 0 | AJ26: =K26+L26 -> 0 | AK26: =U26+V26 -> 0 | AL26: =AE26+AF26 -> 0 | AN26: =ROUND(AJ26/1000,1) -> 0 | AO26: =ROUND(AK26/1000,1) -> 0 | AP26: =ROUND(AL26/1000,1) -> 0 | AQ26: -
