Workbook

Sheet ЧДОУ
B1: 2023 год | D1: Расчет объема субвенции бюджетам муниципальных образований на осуществление отдельных государственных полномочий Ленинградской области на обеспечение государственных гарантий реализации прав на получение общедоступного и бесплатного дошкольного образования в частных организациях и у индивидуальных предпринимателей, включая расходы на оплату труда, приобретение учебников и учебных пособий, средств обучения (за исключением расходов на содержание зданий и оплату коммунальных услуг), на 2023 год
A3: №№ | C3: Наименование | D3: группы общеразвивающей направленности, обычные группы | X3: группы компенсирующей направленности для детей с тяжелыми нарушениями речи | AF3: группы компенсирующей направленности для детей с задержкой психического развития | AN3: Всего | AR3: Итого потребность на 2023 год | AT3: Средства на организацию полномочий | AV3: Итого потребность | AY3: В бюджет на 2023 год | AZ3: В бюджете после уточнения 34-оз от 01.04.2022 | BC3: Перераспределение | BF3: Дополнительная потребность | BI3: Обеспеченность
D4: кратковременного пребывания | H4: сокращенного дня | L4: полного дня | P4: продленного дня | T4: круглосуточным пребыванием | X4: полного дня | AB4: продленного дня | AF4: сокращенного дня | AJ4: полного дня | BI4: % | BJ4: кол-во месяцев
D5: до 5 часов | H5: 8 - 10 часов | L5: 10,5 - 12 часов | P5: 13 - 14 часов | T5: 24 часа | X5: 12 часов | AB5: 13-14 часов | AF5: 8 - 10,5 часов | AJ5: 12 часов | AV5: на реализацию полномочий | AW5: на организацию полномочий | AX5: Всего | AZ5: на реализацию полномочий | BA5: на организацию полномочий | BB5: Всего | BC5: на реализацию полномочий | BD5: на организацию полномочий | BE5: Всего | BF5: на реализацию полномочий | BG5: на организацию полномочий | BH5: Всего
D6: до 3 лет | F6: старше 3 лет | H6: до 3 лет | J6: старше 3 лет | L6: до 3 лет | N6: старше 3 лет | P6: до 3 лет | R6: старше 3 лет | T6: до 3 лет | V6: старше 3 лет | X6: до 3 лет | Z6: старше 3 лет | AB6: до 3 лет | AD6: старше 3 лет | AF6: до 3 лет | AH6: старше 3 лет | AJ6: до 3 лет | AL6: старше 3 лет | AN6: до 3 лет | AP6: старше 3 лет
D7: 19 | E7: 23 | F7: 19 | G7: 23 | H7: 19 | I7: 23 | J7: 19 | K7: 23 | L7: 19 | M7: 23 | N7: 15 | O7: 20 | P7: 15 | Q7: 20 | R7: 15 | S7: 20 | T7: 15 | U7: 20 | V7: 15 | W7: 20 | X7: 19 | Y7: 23 | Z7: 19 | AA7: 23 | AB7: 19 | AC7: 23 | AD7: 19 | AE7: 23 | AF7: 19 | AG7: 23 | AH7: 19 | AI7: 23 | AJ7: 19 | AK7: 23 | AL7: 19 | AM7: 23 | AN7: 15 | AO7: 20 | AP7: 15 | AQ7: 20 | AR7: 15 | AS7: 20
D8: кон-т | E8: сумма | F8: кон-т | G8: сумма | H8: кон-т | I8: сумма | J8: кон-т | K8: сумма | L8: кон-т | M8: сумма | N8: кон-т | O8: сумма | P8: кон-т | Q8: сумма | R8: кон-т | S8: сумма | T8: кон-т | U8: сумма | V8: кон-т | W8: сумма | X8: кон-т | Y8: сумма | Z8: кон-т | AA8: сумма | AB8: кон-т | AC8: сумма | AD8: кон-т | AE8: сумма | AF8: кон-т | AG8: сумма | AH8: кон-т | AI8: сумма | AJ8: кон-т | AK8: сумма | AL8: кон-т | AM8: сумма | AN8: кон-т | AO8: сумма | AP8: кон-т | AQ8: сумма | AR8: кон-т | AS8: сумма | AT8: кол-во ставок | AU8: сумма
A9: 3 | E9: 53119 | I9: 92630 | M9: 108434 | O9: 96192 | Q9: 124238 | S9: 109247 | U9: 151947 | W9: 132137 | AA9: 369105 | AE9: 407435 | AM9: 510321 | AV9: 1 | BE9: 0
A10: 1 | B10: Всеволожский | C10: ООО «Центр развития «Тигренок» | E10: =D10*E$9 -> 0 | G10: =F10*G$9 -> 0 | I10: =H10*I$9 -> 0 | K10: =J10*K$9 -> 0 | L10: 159 | M10: =L10*M$9 -> 17241006 | N10: 136 | O10: =N10*O$9 -> 13082112 | Q10: =P10*Q$9 -> 0 | S10: =R10*S$9 -> 0 | U10: =T10*U$9 -> 0 | W10: =V10*W$9 -> 0 | Y10: =X10*Y$9 -> 0 | AA10: =Z10*AA$9 -> 0 | AC10: =AB10*AC$9 -> 0 | AE10: =AD10*AE$9 -> 0 | AG10: =AF10*AG$9 -> 0 | AI10: =AH10*AI$9 -> 0 | AK10: =AJ10*AK$9 -> 0 | AM10: =AL10*AM$9 -> 0 | AN10: =D10+H10+L10+P10+T10+X10+AB10+AF10+AJ10 -> 159 | AO10: =E10+I10+M10+Q10+U10+Y10+AC10+AG10+AK10 -> 17241006 | AP10: =F10+J10+N10+R10+V10+Z10+AD10+AH10+AL10 -> 136 | AQ10: =G10+K10+O10+S10+W10+AA10+AE10+AI10+AM10 -> 13082112 | AR10: =AN10+AP10 -> 295 | AS10: =ROUND(AO10+AQ10,-2) -> 30323100 | BE10: =BC10+BD10 -> 0
A11: 2 | B11: Всеволожский | C11: ЧУДО "Маленькая страна "Кудрово" | E11: =D11*E$9 -> 0 | G11: =F11*G$9 -> 0 | I11: =H11*I$9 -> 0 | K11: =J11*K$9 -> 0 | M11: =L11*M$9 -> 0 | O11: =N11*O$9 -> 0 | P11: 22 | Q11: =P11*Q$9 -> 2733236 | R11: 108 | S11: =R11*S$9 -> 11798676 | U11: =T11*U$9 -> 0 | W11: =V11*W$9 -> 0 | Y11: =X11*Y$9 -> 0 | AA11: =Z11*AA$9 -> 0 | AC11: =AB11*AC$9 -> 0 | AD11: 0 | AE11: =AD11*AE$9 -> 0 | AG11: =AF11*AG$9 -> 0 | AI11: =AH11*AI$9 -> 0 | AK11: =AJ11*AK$9 -> 0 | AL11: 0 | AM11: =AL11*AM$9 -> 0 | AN11: =D11+H11+L11+P11+T11+X11+AB11+AF11+AJ11 -> 22 | AO11: =E11+I11+M11+Q11+U11+Y11+AC11+AG11+AK11 -> 2733236 | AP11: =F11+J11+N11+R11+V11+Z11+AD11+AH11+AL11 -> 108 | AQ11: =G11+K11+O11+S11+W11+AA11+AE11+AI11+AM11 -> 11798676 | AR11: =AN11+AP11 -> 130 | AS11: =ROUND(AO11+AQ11,-2) -> 14531900 | BE11: =BC11+BD11 -> 0
A12: 3 | B12: Всеволожский | C12: АНО ДО "Детский сад "Лучик" | E12: =D12*E$9 -> 0 | G12: =F12*G$9 -> 0 | I12: =H12*I$9 -> 0 | K12: =J12*K$9 -> 0 | L12: 0 | M12: =L12*M$9 -> 0 | N12: 0 | O12: =N12*O$9 -> 0 | P12: 380 | Q12: =P12*Q$9 -> 47210440 | R12: 454 | S12: =R12*S$9 -> 49598138 | U12: =T12*U$9 -> 0 | W12: =V12*W$9 -> 0 | Y12: =X12*Y$9 -> 0 | AA12: =Z12*AA$9 -> 0 | AC12: =AB12*AC$9 -> 0 | AE12: =AD12*AE$9 -> 0 | AG12: =AF12*AG$9 -> 0 | AI12: =AH12*AI$9 -> 0 | AK12: =AJ12*AK$9 -> 0 | AM12: =AL12*AM$9 -> 0 | AN12: =D12+H12+L12+P12+T12+X12+AB12+AF12+AJ12 -> 380 | AO12: =E12+I12+M12+Q12+U12+Y12+AC12+AG12+AK12 -> 47210440 | AP12: =F12+J12+N12+R12+V12+Z12+AD12+AH12+AL12 -> 454 | AQ12: =G12+K12+O12+S12+W12+AA12+AE12+AI12+AM12 -> 49598138 | AR12: =AN12+AP12 -> 834 | AS12: =ROUND(AO12+AQ12,-2) -> 96808600 | BE12: =BC12+BD12 -> 0
A13: 4 | B13: Всеволожский | C13: ООО ДО "Детский сад "Лучик" | E13: =D13*E$9 -> 0 | G13: =F13*G$9 -> 0 | I13: =H13*I$9 -> 0 | K13: =J13*K$9 -> 0 | L13: 0 | M13: =L13*M$9 -> 0 | N13: 0 | O13: =N13*O$9 -> 0 | P13: 410 | Q13: =P13*Q$9 -> 50937580 | R13: 425 | S13: =R13*S$9 -> 46429975 | U13: =T13*U$9 -> 0 | W13: =V13*W$9 -> 0 | Y13: =X13*Y$9 -> 0 | AA13: =Z13*AA$9 -> 0 | AC13: =AB13*AC$9 -> 0 | AE13: =AD13*AE$9 -> 0 | AG13: =AF13*AG$9 -> 0 | AI13: =AH13*AI$9 -> 0 | AK13: =AJ13*AK$9 -> 0 | AM13: =AL13*AM$9 -> 0 | AN13: =D13+H13+L13+P13+T13+X13+AB13+AF13+AJ13 -> 410 | AO13: =E13+I13+M13+Q13+U13+Y13+AC13+AG13+AK13 -> 50937580 | AP13: =F13+J13+N13+R13+V13+Z13+AD13+AH13+AL13 -> 425 | AQ13: =G13+K13+O13+S13+W13+AA13+AE13+AI13+AM13 -> 46429975 | AR13: =AN13+AP13 -> 835 | AS13: =ROUND(AO13+AQ13,-2) -> 97367600 | BE13: =BC13+BD13 -> 0
A14: 5 | B14: Всеволожский | C14: ООО "Система" | E14: =D14*E$9 -> 0 | G14: =F14*G$9 -> 0 | I14: =H14*I$9 -> 0 | K14: =J14*K$9 -> 0 | L14: 163 | M14: =L14*M$9 -> 17674742 | N14: 178 | O14: =N14*O$9 -> 17122176 | Q14: =P14*Q$9 -> 0 | S14: =R14*S$9 -> 0 | U14: =T14*U$9 -> 0 | W14: =V14*W$9 -> 0 | Y14: =X14*Y$9 -> 0 | AA14: =Z14*AA$9 -> 0 | AC14: =AB14*AC$9 -> 0 | AE14: =AD14*AE$9 -> 0 | AG14: =AF14*AG$9 -> 0 | AI14: =AH14*AI$9 -> 0 | AK14: =AJ14*AK$9 -> 0 | AM14: =AL14*AM$9 -> 0 | AN14: =D14+H14+L14+P14+T14+X14+AB14+AF14+AJ14 -> 163 | AO14: =E14+I14+M14+Q14+U14+Y14+AC14+AG14+AK14 -> 17674742 | AP14: =F14+J14+N14+R14+V14+Z14+AD14+AH14+AL14 -> 178 | AQ14: =G14+K14+O14+S14+W14+AA14+AE14+AI14+AM14 -> 17122176 | AR14: =AN14+AP14 -> 341 | AS14: =ROUND(AO14+AQ14,-2) -> 34796900 | BE14: =BC14+BD14 -> 0
A15: 6 | B15: Всеволожский | C15: ЧОУНОО "Умный Мир" | E15: =D15*E$9 -> 0 | G15: =F15*G$9 -> 0 | I15: =H15*I$9 -> 0 | K15: =J15*K$9 -> 0 | L15: 163 | M15: =L15*M$9 -> 17674742 | N15: 360 | O15: =N15*O$9 -> 34629120 | Q15: =P15*Q$9 -> 0 | S15: =R15*S$9 -> 0 | U15: =T15*U$9 -> 0 | W15: =V15*W$9 -> 0 | Y15: =X15*Y$9 -> 0 | AA15: =Z15*AA$9 -> 0 | AC15: =AB15*AC$9 -> 0 | AE15: =AD15*AE$9 -> 0 | AG15: =AF15*AG$9 -> 0 | AI15: =AH15*AI$9 -> 0 | AK15: =AJ15*AK$9 -> 0 | AM15: =AL15*AM$9 -> 0 | AN15: =D15+H15+L15+P15+T15+X15+AB15+AF15+AJ15 -> 163 | AO15: =E15+I15+M15+Q15+U15+Y15+AC15+AG15+AK15 -> 17674742 | AP15: =F15+J15+N15+R15+V15+Z15+AD15+AH15+AL15 -> 360 | AQ15: =G15+K15+O15+S15+W15+AA15+AE15+AI15+AM15 -> 34629120 | AR15: =AN15+AP15 -> 523 | AS15: =ROUND(AO15+AQ15,-2) -> 52303900 | BE15: =BC15+BD15 -> 0
A16: 7 | B16: Всеволожский | C16: ЧОУ Гимназия "Грэйс" | E16: =D16*E$9 -> 0 | G16: =F16*G$9 -> 0 | I16: =H16*I$9 -> 0 | K16: =J16*K$9 -> 0 | M16: =L16*M$9 -> 0 | N16: 118 | O16: =N16*O$9 -> 11350656 | Q16: =P16*Q$9 -> 0 | S16: =R16*S$9 -> 0 | U16: =T16*U$9 -> 0 | W16: =V16*W$9 -> 0 | Y16: =X16*Y$9 -> 0 | AA16: =Z16*AA$9 -> 0 | AC16: =AB16*AC$9 -> 0 | AE16: =AD16*AE$9 -> 0 | AG16: =AF16*AG$9 -> 0 | AI16: =AH16*AI$9 -> 0 | AK16: =AJ16*AK$9 -> 0 | AM16: =AL16*AM$9 -> 0 | AN16: =D16+H16+L16+P16+T16+X16+AB16+AF16+AJ16 -> 0 | AO16: =E16+I16+M16+Q16+U16+Y16+AC16+AG16+AK16 -> 0 | AP16: =F16+J16+N16+R16+V16+Z16+AD16+AH16+AL16 -> 118 | AQ16: =G16+K16+O16+S16+W16+AA16+AE16+AI16+AM16 -> 11350656 | AR16: =AN16+AP16 -> 118 | AS16: =ROUND(AO16+AQ16,-2) -> 11350700 | BE16: =BC16+BD16 -> 0
A17: 8 | B17: Всеволожский | C17: АНОО "Новая История" | E17: =D17*E$9 -> 0 | G17: =F17*G$9 -> 0 | I17: =H17*I$9 -> 0 | K17: =J17*K$9 -> 0 | L17: 42 | M17: =L17*M$9 -> 4554228 | N17: 200 | O17: =N17*O$9 -> 19238400 | Q17: =P17*Q$9 -> 0 | S17: =R17*S$9 -> 0 | U17: =T17*U$9 -> 0 | W17: =V17*W$9 -> 0 | Y17: =X17*Y$9 -> 0 | AA17: =Z17*AA$9 -> 0 | AC17: =AB17*AC$9 -> 0 | AE17: =AD17*AE$9 -> 0 | AG17: =AF17*AG$9 -> 0 | AI17: =AH17*AI$9 -> 0 | AK17: =AJ17*AK$9 -> 0 | AM17: =AL17*AM$9 -> 0 | AN17: =D17+H17+L17+P17+T17+X17+AB17+AF17+AJ17 -> 42 | AO17: =E17+I17+M17+Q17+U17+Y17+AC17+AG17+AK17 -> 4554228 | AP17: =F17+J17+N17+R17+V17+Z17+AD17+AH17+AL17 -> 200 | AQ17: =G17+K17+O17+S17+W17+AA17+AE17+AI17+AM17 -> 19238400 | AR17: =AN17+AP17 -> 242 | AS17: =ROUND(AO17+AQ17,-2) -> 23792600 | BE17: =BC17+BD17 -> 0
A18: 9 | B18: Всеволожский | C18: ООО "УМКА" | E18: =D18*E$9 -> 0 | G18: =F18*G$9 -> 0 | I18: =H18*I$9 -> 0 | K18: =J18*K$9 -> 0 | L18: 20 | M18: =L18*M$9 -> 2168680 | O18: =N18*O$9 -> 0 | P18: 18 | Q18: =P18*Q$9 -> 2236284 | R18: 59 | S18: =R18*S$9 -> 6445573 | U18: =T18*U$9 -> 0 | W18: =V18*W$9 -> 0 | Y18: =X18*Y$9 -> 0 | AA18: =Z18*AA$9 -> 0 | AC18: =AB18*AC$9 -> 0 | AE18: =AD18*AE$9 -> 0 | AG18: =AF18*AG$9 -> 0 | AI18: =AH18*AI$9 -> 0 | AK18: =AJ18*AK$9 -> 0 | AM18: =AL18*AM$9 -> 0 | AN18: =D18+H18+L18+P18+T18+X18+AB18+AF18+AJ18 -> 38 | AO18: =E18+I18+M18+Q18+U18+Y18+AC18+AG18+AK18 -> 4404964 | AP18: =F18+J18+N18+R18+V18+Z18+AD18+AH18+AL18 -> 59 | AQ18: =G18+K18+O18+S18+W18+AA18+AE18+AI18+AM18 -> 6445573 | AR18: =AN18+AP18 -> 97 | AS18: =ROUND(AO18+AQ18,-2) -> 10850500 | BE18: =BC18+BD18 -> 0
A19: 10 | B19: Всеволожский | C19: ООО"Эрудит" | L19: 310 | M19: =L19*M$9 -> 33614540 | N19: 215 | O19: =N19*O$9 -> 20681280 | P19: 0 | Q19: 0 | R19: 0 | S19: 0 | W19: =V19*W$9 -> 0 | Y19: =X19*Y$9 -> 0 | AA19: =Z19*AA$9 -> 0 | AE19: =AD19*AE$9 -> 0 | AM19: =AL19*AM$9 -> 0 | AN19: =D19+H19+L19+P19+T19+X19+AB19+AF19+AJ19 -> 310 | AO19: =E19+I19+M19+Q19+U19+Y19+AC19+AG19+AK19 -> 33614540 | AP19: =F19+J19+N19+R19+V19+Z19+AD19+AH19+AL19 -> 215 | AQ19: =G19+K19+O19+S19+W19+AA19+AE19+AI19+AM19 -> 20681280 | AR19: =AN19+AP19 -> 525 | AS19: =ROUND(AO19+AQ19,-2) -> 54295800 | BE19: =BC19+BD19 -> 0
A20: 11 | B20: Всеволожский | C20: ООО "Мама Оля" | E20: =D20*E$9 -> 0 | G20: =F20*G$9 -> 0 | I20: =H20*I$9 -> 0 | K20: =J20*K$9 -> 0 | M20: =L20*M$9 -> 0 | O20: =N20*O$9 -> 0 | P20: 77 | Q20: =P20*Q$9 -> 9566326 | R20: 75 | S20: =R20*S$9 -> 8193525 | U20: =T20*U$9 -> 0 | W20: =V20*W$9 -> 0 | Y20: =X20*Y$9 -> 0 | AA20: =Z20*AA$9 -> 0 | AC20: =AB20*AC$9 -> 0 | AE20: =AD20*AE$9 -> 0 | AG20: =AF20*AG$9 -> 0 | AI20: =AH20*AI$9 -> 0 | AK20: =AJ20*AK$9 -> 0 | AM20: =AL20*AM$9 -> 0 | AN20: =D20+H20+L20+P20+T20+X20+AB20+AF20+AJ20 -> 77 | AO20: =E20+I20+M20+Q20+U20+Y20+AC20+AG20+AK20 -> 9566326 | AP20: =F20+J20+N20+R20+V20+Z20+AD20+AH20+AL20 -> 75 | AQ20: =G20+K20+O20+S20+W20+AA20+AE20+AI20+AM20 -> 8193525 | AR20: =AN20+AP20 -> 152 | AS20: =ROUND(AO20+AQ20,-2) -> 17759900 | BE20: =BC20+BD20 -> 0
A21: 12 | B21: Всеволожский | C21: ООО "Центр" | L21: 135 | M21: =L21*M$9 -> 14638590 | N21: 78 | O21: =N21*O$9 -> 7502976 | W21: =V21*W$9 -> 0 | AA21: =Z21*AA$9 -> 0 | AN21: =D21+H21+L21+P21+T21+X21+AB21+AF21+AJ21 -> 135 | AO21: =E21+I21+M21+Q21+U21+Y21+AC21+AG21+AK21 -> 14638590 | AP21: =F21+J21+N21+R21+V21+Z21+AD21+AH21+AL21 -> 78 | AQ21: =G21+K21+O21+S21+W21+AA21+AE21+AI21+AM21 -> 7502976 | AR21: =AN21+AP21 -> 213 | AS21: =ROUND(AO21+AQ21,-2) -> 22141600 | BE21: =BC21+BD21 -> 0
A22: 13 | B22: Всеволожский | C22: ООО "Новое Поколение" | L22: 25 | M22: =L22*M$9 -> 2710850 | N22: 25 | O22: =N22*O$9 -> 2404800 | W22: =V22*W$9 -> 0 | AA22: =Z22*AA$9 -> 0 | AN22: =D22+H22+L22+P22+T22+X22+AB22+AF22+AJ22 -> 25 | AO22: =E22+I22+M22+Q22+U22+Y22+AC22+AG22+AK22 -> 2710850 | AP22: =F22+J22+N22+R22+V22+Z22+AD22+AH22+AL22 -> 25 | AQ22: =G22+K22+O22+S22+W22+AA22+AE22+AI22+AM22 -> 2404800 | AR22: =AN22+AP22 -> 50 | AS22: =ROUND(AO22+AQ22,-2) -> 5115700 | BE22: =BC22+BD22 -> 0
A23: 14 | B23: Всеволожский | C23: ИП Иванов А.С. | L23: 71 | M23: =L23*M$9 -> 7698814 | N23: 76 | O23: =N23*O$9 -> 7310592 | W23: =V23*W$9 -> 0 | Z23: 12 | AA23: =Z23*AA$9 -> 4429260 | AN23: =D23+H23+L23+P23+T23+X23+AB23+AF23+AJ23 -> 71 | AO23: =E23+I23+M23+Q23+U23+Y23+AC23+AG23+AK23 -> 7698814 | AP23: =F23+J23+N23+R23+V23+Z23+AD23+AH23+AL23 -> 88 | AQ23: =G23+K23+O23+S23+W23+AA23+AE23+AI23+AM23 -> 11739852 | AR23: =AN23+AP23 -> 159 | AS23: =ROUND(AO23+AQ23,-2) -> 19438700 | BE23: =BC23+BD23 -> 0
A24: 15 | B24: Всеволожский | C24: ООО "Корпорация Детства" | L24: 107 | M24: =L24*M$9 -> 11602438 | N24: 58 | O24: =N24*O$9 -> 5579136 | P24: 0 | R24: 0 | AA24: =Z24*AA$9 -> 0 | AN24: =D24+H24+L24+P24+T24+X24+AB24+AF24+AJ24 -> 107 | AO24: =E24+I24+M24+Q24+U24+Y24+AC24+AG24+AK24 -> 11602438 | AP24: =F24+J24+N24+R24+V24+Z24+AD24+AH24+AL24 -> 58 | AQ24: =G24+K24+O24+S24+W24+AA24+AE24+AI24+AM24 -> 5579136 | AR24: =AN24+AP24 -> 165 | AS24: =ROUND(AO24+AQ24,-2) -> 17181600
A25: 16 | B25: Всеволожский | C25: ООО "Детский Мир" | L25: 60 | M25: =L25*M$9 -> 6506040 | N25: 60 | O25: =N25*O$9 -> 5771520 | P25: 0 | R25: 0 | W25: =V25*W$9 -> 0 | AA25: =Z25*AA$9 -> 0 | AN25: =D25+H25+L25+P25+T25+X25+AB25+AF25+AJ25 -> 60 | AO25: =E25+I25+M25+Q25+U25+Y25+AC25+AG25+AK25 -> 6506040 | AP25: =F25+J25+N25+R25+V25+Z25+AD25+AH25+AL25 -> 60 | AQ25: =G25+K25+O25+S25+W25+AA25+AE25+AI25+AM25 -> 5771520 | AR25: =AN25+AP25 -> 120 | AS25: =ROUND(AO25+AQ25,-2) -> 12277600 | BE25: =BC25+BD25 -> 0
A26: 17 | B26: Всеволожский | C26: ООО "МАЛ ДА ВЕЛИК" | E26: =D26*E$9 -> 0 | G26: =F26*G$9 -> 0 | I26: =H26*I$9 -> 0 | K26: =J26*K$9 -> 0 | M26: =L26*M$9 -> 0 | O26: =N26*O$9 -> 0 | P26: 20 | Q26: =P26*Q$9 -> 2484760 | R26: 68 | S26: =R26*S$9 -> 7428796 | U26: =T26*U$9 -> 0 | W26: =V26*W$9 -> 0 | Y26: =X26*Y$9 -> 0 | AA26: =Z26*AA$9 -> 0 | AC26: =AB26*AC$9 -> 0 | AE26: =AD26*AE$9 -> 0 | AG26: =AF26*AG$9 -> 0 | AI26: =AH26*AI$9 -> 0 | AK26: =AJ26*AK$9 -> 0 | AM26: =AL26*AM$9 -> 0 | AN26: =D26+H26+L26+P26+T26+X26+AB26+AF26+AJ26 -> 20 | AO26: =E26+I26+M26+Q26+U26+Y26+AC26+AG26+AK26 -> 2484760 | AP26: =F26+J26+N26+R26+V26+Z26+AD26+AH26+AL26 -> 68 | AQ26: =G26+K26+O26+S26+W26+AA26+AE26+AI26+AM26 -> 7428796 | AR26: =AN26+AP26 -> 88 | AS26: =ROUND(AO26+AQ26,-2) -> 9913600 | BE26: =BC26+BD26 -> 0
B27: Всеволожский Итог | D27: =SUBTOTAL(9,D10:D26) -> 0 | E27: =SUBTOTAL(9,E10:E26) -> 0 | F27: =SUBTOTAL(9,F10:F26) -> 0 | G27: =SUBTOTAL(9,G10:G26) -> 0 | H27: =SUBTOTAL(9,H10:H26) -> 0 | I27: =SUBTOTAL(9,I10:I26) -> 0 | J27: =SUBTOTAL(9,J10:J26) -> 0 | K27: =SUBTOTAL(9,K10:K26) -> 0 | ... Y27: =SUBTOTAL(9,Y10:Y26) -> 0 | AA27: =Z27*AA$9 -> 0 | AB27: =SUBTOTAL(9,AB10:AB26) -> 0 | AC27: =SUBTOTAL(9,AC10:AC26) -> 0 | AD27: =SUBTOTAL(9,AD10:AD26) -> 0 | AE27: =SUBTOTAL(9,AE10:AE26) -> 0 | AF27: =SUBTOTAL(9,AF10:AF26) -> 0 | AG27: =SUBTOTAL(9,AG10:AG26) -> 0 | AH27: =SUBTOTAL(9,AH10:AH26) -> 0 | AI27: =SUBTOTAL(9,AI10:AI26) -> 0 | ... AS27: =SUBTOTAL(9,AS10:AS26) -> 530250300 | AT27: =ROUND(AR27/5000,2) -> 0.98 | AU27: =ROUND(AT27*$AN$52*$AN$53*$AN$54*1.2,-2) -> 1376800 | AV27: =ROUND(AS27*$AV$9,-2) -> 530250300 | AW27: =AU27 -> 1376800 | AX27: =AV27+AW27 -> 531627100 | AY27: 216505900 | AZ27: =BB27-BA27 -> 219508100 | BA27: 580900 | BB27: 220089000 | BC27: -4500000 | BE27: =BC27+BD27 -> -4500000 | BF27: =AV27-AZ27-BC27 -> 315242200 | BG27: =AW27-BA27-BD27 -> 795900 | BH27: =AX27-BB27-BE27 -> 316038100 | BI27: =(BB27+BE27)/AX27 -> 0.40552673 | BJ27: =12*BI27 -> 4.8663208
A28: 18 | B28: Выборгский | C28: ИП Токубаев В.Э. | M28: =L28*M$9 -> 0 | O28: =N28*O$9 -> 0 | P28: 8 | Q28: =P28*Q$9 -> 993904 | R28: 27 | S28: =R28*S$9 -> 2949669 | T28: 10 | U28: =T28*U$9 -> 1519470 | V28: 7 | W28: =V28*W$9 -> 924959 | X28: =SUBTOTAL(9,X11:X27) -> 0 | Y28: =SUBTOTAL(9,Y11:Y27) -> 0 | Z28: =SUBTOTAL(9,Z11:Z27) -> 12 | AA28: =SUBTOTAL(9,AA11:AA27) -> 4429260 | AB28: =SUBTOTAL(9,AB11:AB27) -> 0 | AC28: =SUBTOTAL(9,AC11:AC27) -> 0 | AD28: =SUBTOTAL(9,AD11:AD27) -> 0 | AE28: =SUBTOTAL(9,AE11:AE27) -> 0 | AN28: =D28+H28+L28+P28+T28+X28+AB28+AF28+AJ28 -> 18 | AO28: =E28+I28+M28+Q28+U28+Y28+AC28+AG28+AK28 -> 2513374 | AP28: =F28+J28+N28+R28+V28+Z28+AD28+AH28+AL28 -> 46 | AQ28: =G28+K28+O28+S28+W28+AA28+AE28+AI28+AM28 -> 8303888 | AR28: =AN28+AP28 -> 64 | AS28: =ROUND(AO28+AQ28,-2) -> 10817300 | BE28: =BC28+BD28 -> 0 | BF28: =AV28-AZ28-BC28 -> 0 | BG28: =AW28-BA28-BD28 -> 0 | BH28: =AX28-BB28-BE28 -> 0
A29: 19 | B29: Выборгский | C29: ИП Козина Н.А. | L29: 30 | M29: =L29*M$9 -> 3253020 | N29: 56 | O29: =N29*O$9 -> 5386752 | Q29: =P29*Q$9 -> 0 | S29: =R29*S$9 -> 0 | U29: =T29*U$9 -> 0 | W29: =V29*W$9 -> 0 | AN29: =D29+H29+L29+P29+T29+X29+AB29+AF29+AJ29 -> 30 | AO29: =E29+I29+M29+Q29+U29+Y29+AC29+AG29+AK29 -> 3253020 | AP29: =F29+J29+N29+R29+V29+Z29+AD29+AH29+AL29 -> 56 | AQ29: =G29+K29+O29+S29+W29+AA29+AE29+AI29+AM29 -> 5386752 | AR29: =AN29+AP29 -> 86 | AS29: =ROUND(AO29+AQ29,-2) -> 8639800 | BE29: =BC29+BD29 -> 0 | BF29: =AV29-AZ29-BC29 -> 0 | BG29: =AW29-BA29-BD29 -> 0 | BH29: =AX29-BB29-BE29 -> 0
A30: 20 | B30: Выборгский | C30: ИП Белова О.П. | L30: 38 | M30: =L30*M$9 -> 4120492 | N30: 0 | O30: =N30*O$9 -> 0 | Q30: =P30*Q$9 -> 0 | S30: =R30*S$9 -> 0 | U30: =T30*U$9 -> 0 | W30: =V30*W$9 -> 0 | AN30: =D30+H30+L30+P30+T30+X30+AB30+AF30+AJ30 -> 38 | AO30: =E30+I30+M30+Q30+U30+Y30+AC30+AG30+AK30 -> 4120492 | AP30: =F30+J30+N30+R30+V30+Z30+AD30+AH30+AL30 -> 0 | AQ30: =G30+K30+O30+S30+W30+AA30+AE30+AI30+AM30 -> 0 | AR30: =AN30+AP30 -> 38 | AS30: =ROUND(AO30+AQ30,-2) -> 4120500 | BE30: =BC30+BD30 -> 0 | BF30: =AV30-AZ30-BC30 -> 0 | BG30: =AW30-BA30-BD30 -> 0 | BH30: =AX30-BB30-BE30 -> 0
A31: 21 | B31: Выборгский | C31: ИП Семцова А.П. | L31: 27 | M31: =L31*M$9 -> 2927718 | N31: 38 | O31: =N31*O$9 -> 3655296 | Q31: =P31*Q$9 -> 0 | S31: =R31*S$9 -> 0 | U31: =T31*U$9 -> 0 | W31: =V31*W$9 -> 0 | AN31: =D31+H31+L31+P31+T31+X31+AB31+AF31+AJ31 -> 27 | AO31: =E31+I31+M31+Q31+U31+Y31+AC31+AG31+AK31 -> 2927718 | AP31: =F31+J31+N31+R31+V31+Z31+AD31+AH31+AL31 -> 38 | AQ31: =G31+K31+O31+S31+W31+AA31+AE31+AI31+AM31 -> 3655296 | AR31: =AN31+AP31 -> 65 | AS31: =ROUND(AO31+AQ31,-2) -> 6583000 | BE31: =BC31+BD31 -> 0 | BF31: =AV31-AZ31-BC31 -> 0 | BG31: =AW31-BA31-BD31 -> 0 | BH31: =AX31-BB31-BE31 -> 0
B32: Выборгский Итог | D32: =SUBTOTAL(9,D28:D31) -> 0 | E32: =SUBTOTAL(9,E28:E31) -> 0 | F32: =SUBTOTAL(9,F28:F31) -> 0 | G32: =SUBTOTAL(9,G28:G31) -> 0 | H32: =SUBTOTAL(9,H28:H31) -> 0 | I32: =SUBTOTAL(9,I28:I31) -> 0 | J32: =SUBTOTAL(9,J28:J31) -> 0 | K32: =SUBTOTAL(9,K28:K31) -> 0 | ... AS32: =SUBTOTAL(9,AS28:AS31) -> 30160600 | AT32: =ROUND(AR32/5000,2) -> 0.05 | AU32: =ROUND(AT32*$AN$52*$AN$53*$AN$54*1.2,-2) -> 70200 | AV32: =ROUND(AS32*$AV$9,-2) -> 30160600 | AW32: =AU32 -> 70200 | AX32: =AV32+AW32 -> 30230800 | AY32: 12311300 | AZ32: =BB32-BA32 -> 17023900 | BA32: 54000 | BB32: 17077900 | BC32: -3800000 | BE32: =BC32+BD32 -> -3800000 | BF32: =AV32-AZ32-BC32 -> 16936700 | BG32: =AW32-BA32-BD32 -> 16200 | BH32: =AX32-BB32-BE32 -> 16952900 | BI32: =(BB32+BE32)/AX32 -> 0.43921762 | BJ32: =12*BI32 -> 5.2706114
A33: 22 | B33: Гатчинский | C33: ЧДОУ "Творец" | D33: 15 | E33: =D33*E$9 -> 796785 | G33: =F33*G$9 -> 0 | I33: =H33*I$9 -> 0 | K33: =J33*K$9 -> 0 | L33: 40 | M33: =L33*M$9 -> 4337360 | O33: =N33*O$9 -> 0 | Q33: =P33*Q$9 -> 0 | S33: =R33*S$9 -> 0 | U33: =T33*U$9 -> 0 | W33: =V33*W$9 -> 0 | Y33: =X33*Y$9 -> 0 | AA33: =Z33*AA$9 -> 0 | AC33: =AB33*AC$9 -> 0 | AE33: =AD33*AE$9 -> 0 | AG33: =AF33*AG$9 -> 0 | AI33: =AH33*AI$9 -> 0 | AK33: =AJ33*AK$9 -> 0 | AM33: =AL33*AM$9 -> 0 | AN33: =D33+H33+L33+P33+T33+X33+AB33+AF33+AJ33 -> 55 | AO33: =E33+I33+M33+Q33+U33+Y33+AC33+AG33+AK33 -> 5134145 | AP33: =F33+J33+N33+R33+V33+Z33+AD33+AH33+AL33 -> 0 | AQ33: =G33+K33+O33+S33+W33+AA33+AE33+AI33+AM33 -> 0 | AR33: =AN33+AP33 -> 55 | AS33: =ROUND(AO33+AQ33,-2) -> 5134100 | BE33: =BC33+BD33 -> 0 | BF33: =AV33-AZ33-BC33 -> 0 | BG33: =AW33-BA33-BD33 -> 0 | BH33: =AX33-BB33-BE33 -> 0
A34: 23 | B34: Гатчинский | C34: НО ЧДОУ Детский сад "Планета ДЕТСТВА" | E34: =D34*E$9 -> 0 | G34: =F34*G$9 -> 0 | I34: =H34*I$9 -> 0 | K34: =J34*K$9 -> 0 | M34: =L34*M$9 -> 0 | O34: =N34*O$9 -> 0 | P34: 30 | Q34: =P34*Q$9 -> 3727140 | R34: 48 | S34: =R34*S$9 -> 5243856 | U34: =T34*U$9 -> 0 | W34: =V34*W$9 -> 0 | Y34: =X34*Y$9 -> 0 | AA34: =Z34*AA$9 -> 0 | AC34: =AB34*AC$9 -> 0 | AE34: =AD34*AE$9 -> 0 | AG34: =AF34*AG$9 -> 0 | AI34: =AH34*AI$9 -> 0 | AK34: =AJ34*AK$9 -> 0 | AM34: =AL34*AM$9 -> 0 | AN34: =D34+H34+L34+P34+T34+X34+AB34+AF34+AJ34 -> 30 | AO34: =E34+I34+M34+Q34+U34+Y34+AC34+AG34+AK34 -> 3727140 | AP34: =F34+J34+N34+R34+V34+Z34+AD34+AH34+AL34 -> 48 | AQ34: =G34+K34+O34+S34+W34+AA34+AE34+AI34+AM34 -> 5243856 | AR34: =AN34+AP34 -> 78 | AS34: =ROUND(AO34+AQ34,-2) -> 8971000 | BE34: =BC34+BD34 -> 0 | BF34: =AV34-AZ34-BC34 -> 0 | BG34: =AW34-BA34-BD34 -> 0 | BH34: =AX34-BB34-BE34 -> 0
A35: 24 | B35: Гатчинский | C35: ИП Копцева И.Н. | L35: 19 | M35: =L35*M$9 -> 2060246 | N35: 11 | O35: =N35*O$9 -> 1058112 | Q35: =P35*Q$9 -> 0 | S35: =R35*S$9 -> 0 | U35: =T35*U$9 -> 0 | W35: =V35*W$9 -> 0 | AN35: =D35+H35+L35+P35+T35+X35+AB35+AF35+AJ35 -> 19 | AO35: =E35+I35+M35+Q35+U35+Y35+AC35+AG35+AK35 -> 2060246 | AP35: =F35+J35+N35+R35+V35+Z35+AD35+AH35+AL35 -> 11 | AQ35: =G35+K35+O35+S35+W35+AA35+AE35+AI35+AM35 -> 1058112 | AR35: =AN35+AP35 -> 30 | AS35: =ROUND(AO35+AQ35,-2) -> 3118400 | BE35: =BC35+BD35 -> 0 | BF35: =AV35-AZ35-BC35 -> 0 | BG35: =AW35-BA35-BD35 -> 0 | BH35: =AX35-BB35-BE35 -> 0
B36: Гатчинский Итог | D36: =SUBTOTAL(9,D33:D35) -> 15 | E36: =SUBTOTAL(9,E33:E35) -> 796785 | F36: =SUBTOTAL(9,F33:F35) -> 0 | G36: =SUBTOTAL(9,G33:G35) -> 0 | H36: =SUBTOTAL(9,H33:H35) -> 0 | I36: =SUBTOTAL(9,I33:I35) -> 0 | J36: =SUBTOTAL(9,J33:J35) -> 0 | K36: =SUBTOTAL(9,K33:K35) -> 0 | ... AS36: =SUBTOTAL(9,AS33:AS35) -> 17223500 | AT36: =ROUND(AR36/5000,2) -> 0.03 | AU36: =ROUND(AT36*$AN$52*$AN$53*$AN$54*1.2,-2) -> 42100 | AV36: =ROUND(AS36*$AV$9,-2) -> 17223500 | AW36: =AU36 -> 42100 | AX36: =AV36+AW36 -> 17265600 | AY36: 7031400 | AZ36: =BB36-BA36 -> 21212500 | BA36: 54000 | BB36: 21266500 | BC36: -10000000 | BE36: =BC36+BD36 -> -10000000 | BF36: =AV36-AZ36-BC36 -> 6011000 | BG36: =AW36-BA36-BD36 -> -11900 | BH36: =AX36-BB36-BE36 -> 5999100 | BI36: =(BB36+BE36)/AX36 -> 0.65254031 | BJ36: =12*BI36 -> 7.8304837
A37: 25 | B37: Ломоносовский | C37: ООО "Детский центр "Доброград" (рег. Гатчинский МР) | E37: =D37*E$9 -> 0 | G37: =F37*G$9 -> 0 | I37: =H37*I$9 -> 0 | K37: =J37*K$9 -> 0 | L37: 17 | M37: =L37*M$9 -> 1843378 | N37: 58 | O37: =N37*O$9 -> 5579136 | Q37: =P37*Q$9 -> 0 | S37: =R37*S$9 -> 0 | U37: =T37*U$9 -> 0 | W37: =V37*W$9 -> 0 | Y37: =X37*Y$9 -> 0 | AA37: =Z37*AA$9 -> 0 | AC37: =AB37*AC$9 -> 0 | AE37: =AD37*AE$9 -> 0 | AG37: =AF37*AG$9 -> 0 | AI37: =AH37*AI$9 -> 0 | AK37: =AJ37*AK$9 -> 0 | AM37: =AL37*AM$9 -> 0 | AN37: =D37+H37+L37+P37+T37+X37+AB37+AF37+AJ37 -> 17 | AO37: =E37+I37+M37+Q37+U37+Y37+AC37+AG37+AK37 -> 1843378 | AP37: =F37+J37+N37+R37+V37+Z37+AD37+AH37+AL37 -> 58 | AQ37: =G37+K37+O37+S37+W37+AA37+AE37+AI37+AM37 -> 5579136 | AR37: =AN37+AP37 -> 75 | AS37: =ROUND(AO37+AQ37,-2) -> 7422500 | BE37: =BC37+BD37 -> 0 | BF37: =AV37-AZ37-BC37 -> 0 | BG37: =AW37-BA37-BD37 -> 0 | BH37: =AX37-BB37-BE37 -> 0
A38: 26 | B38: Ломоносовский | C38: ООО Корпорация Детства (рег. Всеволожск) | L38: 110 | M38: =L38*M$9 -> 11927740 | N38: 55 | O38: =N38*O$9 -> 5290560 | Q38: =P38*Q$9 -> 0 | S38: =R38*S$9 -> 0 | U38: =T38*U$9 -> 0 | W38: =V38*W$9 -> 0 | AE38: =AD38*AE$9 -> 0 | AN38: =D38+H38+L38+P38+T38+X38+AB38+AF38+AJ38 -> 110 | AO38: =E38+I38+M38+Q38+U38+Y38+AC38+AG38+AK38 -> 11927740 | AP38: =F38+J38+N38+R38+V38+Z38+AD38+AH38+AL38 -> 55 | AQ38: =G38+K38+O38+S38+W38+AA38+AE38+AI38+AM38 -> 5290560 | AR38: =AN38+AP38 -> 165 | AS38: =ROUND(AO38+AQ38,-2) -> 17218300 | BE38: =BC38+BD38 -> 0 | BF38: =AV38-AZ38-BC38 -> 0 | BG38: =AW38-BA38-BD38 -> 0 | BH38: =AX38-BB38-BE38 -> 0
A39: 27 | B39: Ломоносовский | C39: ООО Система (рег. Всеволожск) | L39: 77 | M39: =L39*M$9 -> 8349418 | N39: 33 | O39: =N39*O$9 -> 3174336 | Q39: =P39*Q$9 -> 0 | S39: =R39*S$9 -> 0 | U39: =T39*U$9 -> 0 | W39: =V39*W$9 -> 0 | AE39: =AD39*AE$9 -> 0 | AN39: =D39+H39+L39+P39+T39+X39+AB39+AF39+AJ39 -> 77 | AO39: =E39+I39+M39+Q39+U39+Y39+AC39+AG39+AK39 -> 8349418 | AP39: =F39+J39+N39+R39+V39+Z39+AD39+AH39+AL39 -> 33 | AQ39: =G39+K39+O39+S39+W39+AA39+AE39+AI39+AM39 -> 3174336 | AR39: =AN39+AP39 -> 110 | AS39: =ROUND(AO39+AQ39,-2) -> 11523800 | BE39: =BC39+BD39 -> 0 | BF39: =AV39-AZ39-BC39 -> 0 | BG39: =AW39-BA39-BD39 -> 0 | BH39: =AX39-BB39-BE39 -> 0
A40: 28 | B40: Ломоносовский | C40: ООО "Маленькая страна Новогорелово" | M40: =L40*M$9 -> 0 | O40: =N40*O$9 -> 0 | P40: 33 | Q40: =P40*Q$9 -> 4099854 | R40: 29 | S40: =R40*S$9 -> 3168163 | U40: =T40*U$9 -> 0 | W40: =V40*W$9 -> 0 | AD40: 13 | AE40: =AD40*AE$9 -> 5296655 | AL40: 13 | AM40: =+AL40*AM9 -> 6634173 | AN40: =D40+H40+L40+P40+T40+X40+AB40+AF40+AJ40 -> 33 | AO40: =E40+I40+M40+Q40+U40+Y40+AC40+AG40+AK40 -> 4099854 | AP40: =F40+J40+N40+R40+V40+Z40+AD40+AH40+AL40 -> 55 | AQ40: =G40+K40+O40+S40+W40+AA40+AE40+AI40+AM40 -> 15098991 | AR40: =AN40+AP40 -> 88 | AS40: =ROUND(AO40+AQ40,-2) -> 19198800 | BE40: =BC40+BD40 -> 0 | BF40: =AV40-AZ40-BC40 -> 0 | BG40: =AW40-BA40-BD40 -> 0 | BH40: =AX40-BB40-BE40 -> 0
A41: 29 | B41: Ломоносовский | C41: ИП Розвезев А.В. | M41: =L41*M$9 -> 0 | O41: =N41*O$9 -> 0 | P41: 11 | Q41: =P41*Q$9 -> 1366618 | R41: 71 | S41: =R41*S$9 -> 7756537 | AE41: =AD41*AE$9 -> 0 | AN41: =D41+H41+L41+P41+T41+X41+AB41+AF41+AJ41 -> 11 | AO41: =E41+I41+M41+Q41+U41+Y41+AC41+AG41+AK41 -> 1366618 | AP41: =F41+J41+N41+R41+V41+Z41+AD41+AH41+AL41 -> 71 | AQ41: =G41+K41+O41+S41+W41+AA41+AE41+AI41+AM41 -> 7756537 | AR41: =AN41+AP41 -> 82 | AS41: =ROUND(AO41+AQ41,-2) -> 9123200 | BE41: =BC41+BD41 -> 0 | BF41: =AV41-AZ41-BC41 -> 0 | BG41: =AW41-BA41-BD41 -> 0 | BH41: =AX41-BB41-BE41 -> 0
...

Sheet документы_2021
C1: 1 | D1: 2 | E1: 3 | F1: 4 | G1: 5 | H1: 6 | I1: 7 | J1: 8 | K1: 9 | L1: 11 | M1: 10 | N1: 12 | O1: 13 | P1: 14 | Q1: 15 | R1: 16 | S1: 17 | T1: 18 | U1: 19 | V1: 20
A2: N п/п | B2: Наименование образовательной организации | C2: Опись документов | D2: Наличие лицензии на осуществление образовательной деятельности | E2: Наличие государственной аккредитации по соответствующим общеобразовательным программам (если дошкольное, аккредитация не должна быть) | F2: Заявка на получение субсидии по форме, утвержденной приказом комитета | G2: Краткая информация о претенденте на получение субсидии (год образования, статус, род деятельности, цели, задачи, состав и квалификация работников, достижения, динамика численности, результаты деятельности) по форме, установленной приказом комитета, - для индивидуальных предпринимателей ИНФОРМАЦИЯ ДОЛЖНА БЫТЬ ЗАВИЗИРОВАНА ДИРЕКТОРОМ УЧРЕЖДЕНИЯ! | H2: Справка о среднем размере заработной платы работников в текущем году | I2: Расчет размера субсидии на возмещение затрат по оказанию образовательных услуг по форме согласно приложению к настоящему Порядку | J2: Расчет доходов и расходов на очередной год по форме, утвержденной приказом комитета | K2: Копия свидетельства о государственной регистрации в качестве индивидуального предпринимателя, юридического лица | L2: Копии приказов о зачислении воспитанников и учащихся в образовательную организацию для получения дошкольного, начального общего, основного общего, среднего общего образования в текущем учебном году, копии приказов о переводе воспитанников в другую возрастную группу, в другой класс | M2: Копии документов, подтверждающих назначение на должность руководителя организации, или доверенность, подтверждающую полномочия физического лица на подписание договоров от лица организации | N2: Копия учредительных документов | O2: для ИП: ИНН ИП | P2: Копия свидетельства о постановке на учет в налоговом органе | Q2: Выписка из Единого государственного реестра юридических лиц (или ЕГРП) выписки должны быть выданы не ранее чем за один месяц до дня подачи заявки на предоставление субсидии | R2: Справки налогового органа и государственных внебюджетных фондов РФ об отсутствии просроченной задолженности по уплате налогов, сборов и иных обязательных платежей в бюджеты бюджетной системы РФ | S2: Документы заверены директором либо нотариально (печать и подпись), ИфП | T2: Численность детей в приказе о зачислении, в заявке и в расчете субсидии должно совпадать | U2: Документы, подтверждающие фактически произведенные затраты, в соответствии с перечнем, устанавливаемым правовым актом комитета | V2: Отчет о фактически оказанных образовательных услугах за отчетный период с обоснованием, подтверждающим произведенные затраты на заработную плату с начислениями и учебные расходы (справки, акты, подтверждающие объем фактически оказанных услуг, счета-фактуры), по форме, утвержденной правовым актом комитета
B4: ЧООУ | T4: =SUM(T5:T14) -> 1188
A5: 1 | B5: ЧОУ Гимназия "Грэйс" | C5: 1 | D5: с 04.02.2016 | E5: с 22.04.2016 | F5: 1 | G5: 1 | H5: 1 | K5: 1 | L5: 1 | M5: 1 | N5: 1 | O5: - | P5: 1 | Q5: 1 | R5: 1 | S5: 1 | T5: 139
A6: 2 | B6: ЧОУ "Школа "Лужки" | C6: 1 | D6: с 20.11.2017 | E6: с 18.04.2014 | F6: 1 | G6: 1 | H6: 1 | I6: 1 | J6: 1 | K6: 1 | L6: 1 | M6: 1 | N6: 1 | O6: - | P6: 1 | Q6: 1 | R6: 1 | S6: 1 | T6: 75
A7: 3 | B7: ЧОУ "Гатчинская гимназия Апекс" | C7: 1 | D7: с 13.11.2017 | E7: с 10.05.2017 | F7: 1 | G7: 1 | H7: 1 | I7: 1 | J7: 1 | K7: 1 | L7: 1 | M7: 1 | N7: 1 | O7: - | P7: 1 | Q7: 1 | R7: 1 | T7: 139
A8: 4 | B8: ЧОУ "Первая академическая гимназия г.Гатчины" | C8: 1 | D8: с 24.11.2015 | E8: с 24.11.2015 | F8: 1 | G8: 1 | H8: 1 | I8: 1 | J8: 1 | K8: 1 | L8: 1 | M8: 1 | N8: 1 | O8: - | P8: 1 | Q8: 1 | R8: 1 | S8: 1 | T8: 123
A9: 5 | B9: АНО ОУ "Школа имени императора Александра III" | D9: с 26.02.2019 | E9: 26 | F9: 1 | G9: 1 | H9: 1 | I9: 1 | J9: 1 | K9: 1 | L9: 1 | M9: 1 | N9: 1 | O9: - | P9: 1 | Q9: 1 | R9: 1 | S9: 1 | T9: 165
A10: 6 | B10: ЧОУ "Кингисеппская СОШ Православной культуры" | D10: с 23.12.2016 | E10: с 20.01.2017 | F10: 1 | G10: 1 | H10: 1 | I10: 1 | J10: 1 | K10: 1 | L10: 1 | M10: 1 | N10: 1 | O10: - | P10: 1 | Q10: 1 | R10: 1 | S10: 1 | T10: 121
A11: 7 | B11: НОУ школа "Истоки" | C11: 1 | D11: с 16.11.2016 | E11: с 31.05.2013 | F11: 1 | G11: 1 | H11: 1 | I11: 1 | J11: 1 | K11: 1 | L11: 1 | M11: 1 | N11: 1 | O11: - | P11: 1 | Q11: 1 | R11: 1 | S11: 1 | T11: 67
A12: 8 | B12: НОУ СО "Школа Русской Культуры преподобных Сергия и Германа Валаамсяких" | D12: с 12.12.2016 | E12: с 18.04.2014 | F12: 1 | G12: 1 | H12: 1 | I12: 1 | J12: 1 | K12: 1 | L12: 1 | M12: 1 | N12: 1 | O12: - | P12: 1 | S12: 1 | T12: 33
A13: 9 | B13: АНО "Сосновоборская частная школа" | C13: 1 | D13: с 02.03.2016 | E13: с 20.02.2016 | F13: 1 | G13: 1 | H13: 1 | I13: 1 | J13: 1 | K13: 1 | L13: 1 | M13: 1 | N13: 1 | O13: - | P13: 1 | Q13: 1 | R13: 1 | S13: 1 | T13: 187
A14: 10 | B14: ЧОУ "Деловая волна" | C14: 1 | D14: с 10.02.2016 | E14: с 09.01.20158 | F14: 1 | G14: 1 | H14: 1 | I14: 1 | J14: 1 | K14: 1 | L14: 1 | M14: 1 | N14: 1 | P14: 1 | Q14: 1 | R14: 1 | S14: 1 | T14: 139
B15: ЧДОУ | T15: =SUM(T16:T36) -> 2376
A16: 1 | B16: ЧДОУ "Творец" | C16: 1 | D16: с 13.04.2015 | E16: не нужно | F16: 1 | G16: 1 | H16: 1 | I16: 1 | J16: 1 | K16: 1 | L16: 1 | M16: 1 | O16: - | P16: 1 | Q16: 1 | R16: 1 | S16: 1 | T16: 55
A17: 2 | B17: ООО "Детский центр "Доброград" | C17: 1 | D17: 43501 | E17: не нужно | F17: 1 | G17: 1 | H17: 1 | I17: 1 | J17: 1 | K17: лист записи | L17: 1 | M17: 1 | N17: 1 | O17: - | P17: 1 | Q17: 1 | R17: 1 | S17: 1 | T17: 56 | V17: 1
A18: 3 | B18: АНО "Сосновоборская частная школа" (дошкольное отделение) | C18: 1 | D18: 42431 | E18: не нужно | F18: 1 | G18: 1 | H18: 1 | I18: 1 | J18: 1 | K18: 1 | L18: 1 | M18: 1 | N18: 1 | O18: - | P18: 1 | Q18: 1 | R18: 1 | S18: 1 | T18: 25
A19: 4 | B19: ООО «Центр развития «Тигренок» | C19: 1 | D19: с 31.01.2018 | E19: не нужно | F19: 1 | G19: 1 | H19: 1 | I19: 1 | J19: 1 | K19: лист записи | L19: 1 | M19: 1 | N19: 1 | O19: - | P19: 1 | Q19: 1 | R19: 1 | S19: 1 | T19: 234 | V19: 1
A20: 5 | B20: ЧУДО "Маленькая страна "Кудрово" | C20: 1 | D20: с 08.11.2017 | E20: не нужно | F20: 1 | G20: 1 | H20: 1 | I20: 1 | J20: 1 | K20: 1 | L20: 1 | M20: 1 | N20: 1 | O20: - | P20: 1 | Q20: 1 | R20: 1 | S20: 1 | T20: 130
A21: 6 | B21: АНО ДО "Детский сад "Лучик" | C21: 1 | D21: с 22.12.2020 | E21: не нужно | F21: 1 | G21: 1 | H21: 1 | I21: 1 | J21: 1 | K21: 1 | L21: 1 | M21: 1 | N21: 1 | O21: - | P21: 1 | Q21: 1 | R21: 1 | S21: 1 | T21: 404
A22: 7 | B22: ООО ДО "Детский сад "Лучик" | C22: 1 | D22: с 30.07.2020 | E22: не нужно | F22: 1 | G22: 1 | H22: 1 | I22: 1 | J22: 1 | K22: лист записи | L22: 1 | M22: 1 | N22: 1 | O22: - | P22: 1 | Q22: 1 | R22: 1 | S22: 1 | T22: 285
A23: 8 | B23: ООО "Система" (Эрудит) | C23: 1 | D23: с 30.01.2019 | E23: не нужно | F23: 1 | G23: 1 | H23: 1 | I23: 1 | J23: 1 | K23: 1 | L23: 1 | M23: 1 | N23: 1 | O23: - | P23: 1 | Q23: 1 | R23: 1 | S23: 1 | T23: 136 | V23: 1
A24: 9 | B24: ООО "Маленькая страна Новогорелово" | C24: 1 | D24: с 12.04.2019 | E24: не нужно | F24: 1 | G24: 1 | H24: 1 | I24: 1 | J24: 1 | K24: 1 | L24: 1 | M24: 1 | N24: 1 | O24: - | P24: 1 | Q24: 1 | R24: 1 | S24: 1 | T24: 72
A25: 10 | B25: НО ЧДОУ Детский сад "Планета ДЕТСТВА" | C25: 1 | D25: с 21.12.2016 | E25: не нужно | F25: 1 | G25: 1 | H25: 1 | I25: 1 | J25: 1 | K25: 1 | L25: 1 | M25: 1 | N25: 1 | O25: - | P25: 1 | Q25: 1 | R25: 1 | T25: 76
A26: 11 | B26: ЧОУНОО "Умный Мир" | C26: 1 | D26: с 17.06.2013 | E26: не нужно | F26: 1 | G26: 1 | H26: 1 | I26: 1 | J26: 1 | K26: 1 | M26: 1 | N26: 1 | O26: - | P26: 1 | Q26: 1 | S26: 1 | T26: 490
A27: 12 | B27: ЧОУ Гимназия "Грэйс" (дошкольное отделение) | C27: 1 | D27: с 04.02.2016 | E27: не нужно | F27: 1 | G27: 1 | H27: 1 | I27: 1 | J27: 1 | K27: 1 | L27: 1 | M27: 1 | N27: 1 | O27: - | P27: 1 | Q27: 1 | R27: 1 | S27: 1 | T27: 20
A28: 13 | B28: ООО "ТОСНО ПРОЕКТ" | C28: 1 | D28: с 04.02.2020 | E28: не нужно | F28: 1 | G28: 1 | H28: 1 | I28: 1 | K28: 1 | L28: 1 | M28: 1 | N28: 1 | O28: - | P28: 1 | Q28: 1 | R28: 1 | S28: 1 | T28: 20
A29: 14 | B29: АНОО "Новая История" | C29: 1 | D29: с 23.03.2020 | E29: не нужно | F29: 1 | G29: 1 | H29: 1 | I29: 1 | J29: 1 | K29: 1 | L29: 1 | M29: 1 | N29: 1 | O29: - | P29: 1 | Q29: 1 | R29: 1 | S29: 1 | T29: 150
A30: 15 | B30: ООО "РОСТ ОК" | E30: не нужно | O30: -
A31: 16 | B31: ООО "Умка" | C31: 1 | D31: 44074 | E31: не нужно | F31: 1 | G31: 1 | H31: 1 | I31: 1 | J31: 1 | K31: 1 | L31: 1 | M31: 1 | N31: 1 | O31: - | P31: 1 | Q31: 1 | R31: 1 | S31: 1 | T31: 25
A32: 17 | B32: ООО "УМКА" (структурное подразделение "Умелый Карапуз") | C32: 1 | D32: 44074 | E32: не нужно | F32: 1 | G32: 1 | H32: 1 | I32: 1 | J32: 1 | K32: 1 | L32: 1 | M32: 1 | N32: 1 | O32: - | P32: 1 | Q32: 1 | R32: 1 | S32: 1 | T32: 40
A33: 18 | B33: ООО "Мама Оля" | C33: 1 | D33: с 07.12.2020 | E33: не нужно | F33: 1 | G33: 1 | H33: 1 | I33: 1 | J33: 1 | K33: 1 | L33: 1 | M33: 1 | N33: 1 | O33: - | P33: 1 | Q33: 1 | R33: 1 | S33: 1 | T33: 72
A34: 19 | B34: ООО "МАЛ ДА ВЕЛИК" | C34: 1 | D34: с 25.11.2020 | E34: не нужно | F34: 1 | G34: 1 | H34: 1 | I34: 1 | J34: 1 | K34: лист записи | L34: 1 | M34: 1 | N34: 1 | O34: - | P34: 1 | Q34: 1 | R34: 1 | S34: 1 | T34: 86
A35: 20 | B35: ООО "НОВОЕ ПОКОЛЕНИЕ" | E35: не нужно | O35: -
E36: не нужно | O36: -
B37: ИП | T37: =SUM(T38:T43) -> 272
A38: 1 | B38: ИП Токубаев В.Э. | C38: 1 | D38: с 24.12.2014 | E38: не нужно | F38: 1 | G38: 1 | H38: 1 | I38: 1 | J38: 1 | K38: 1 | L38: 1 | M38: 1 | N38: - | P38: 1 | Q38: 1 | R38: 1 | S38: 1 | T38: 26
A39: 2 | B39: ИП Козина Н.А. | C39: 1 | D39: с 24.01.2019 | E39: не нужно | F39: 1 | G39: 1 | H39: 1 | I39: 1 | J39: 1 | K39: 1 | L39: 1 | M39: 1 | N39: - | P39: 1 | Q39: 1 | R39: 1 | S39: 1 | T39: 80
A40: 3 | B40: ИП Копцева И.Н. | C40: 1 | D40: с 25.02.2019 | E40: не нужно | F40: 1 | G40: 1 | H40: 1 | I40: 1 | J40: 1 | K40: 1 | L40: 1 | M40: 1 | N40: - | P40: 1 | Q40: 1 | R40: 1 | S40: 1 | T40: 30 | V40: 1
A41: 4 | B41: ИП Иванов А.С. | C41: 1 | D41: с 14.01.2020 | E41: не нужно | F41: 1 | G41: 1 | H41: 1 | I41: 1 | J41: 1 | K41: 1 | L41: 1 | M41: 1 | N41: - | P41: 1 | Q41: 1 | R41: 1 | S41: 1 | T41: 64
...

Sheet ЧООУ
D1: Расчет объема субвенции бюджетам муниципальных образований на осуществление отдельных государственных полномочий Ленинградской области на обеспечение государственных гарантий реализации прав на получение общедоступного и бесплатного начального общего, основного общего, среднего общего образования в частных общеобразовательных организациях, включая расходы на оплату труда, приобретение учебников и учебных пособий, средств обучения (за исключением расходов на содержание зданий и оплату коммунальных услуг), на 2023 год
A2: №№ | C2: Наименование | D2: На одного обучающегося в общеобразовательных классах (в том числе с углубленным изучением отдельных учебных предметов, профильного образования) общеобразовательных организаций по начальному общему образованию - более 149 человек, по основному общему образованию - более 199 человек, по среднему общему образованию - более 74 человек | J2: по 1 варианту слабослышащие (познооглохшие) | N2: по 1 варианту с тяжелыми нарушениями речи | Q2: по 1 варианту с нарушением опорно-двигательного аппарата | U2: по 1 варианту с задержкой психического развития (ЗПР) | Y2: по 3 варианту с умственной отсталостью (интеллектуальными нарушениями) | AB2: Всего обучающихся (общий контингент школ) и потребность на 2023 год | AH2: Средства на организацию полномочий | AJ2: В бюджет | AM2: В бюджете на 2023 год | AN2: В бюджете после уточнения № 1 на 2023 | AQ2: Дополнительная потребность | AT2: Обеспеченность
D3: классы, реализующие ФГОС | H3: всего | I3: сумма | J3: классы, не реализующие ФГОС | L3: всего | M3: сумма | N3: классы, реализующие ФГОС | O3: всего | P3: сумма | Q3: классы, реализующие ФГОС | S3: всего | T3: сумма | U3: классы, реализующие ФГОС | W3: всего | X3: сумма | Z3: всего | AA3: сумма | AB3: 1-4 классы | AC3: 5-9 классы | AD3: 10-11 кл | AE3: 10-11 кл профильное | AF3: всего | AG3: Итого потребность на 2023 год | AT3: % | AU3: кол-во месяцев
D4: 1-4 классы | E4: 5-9 классы | F4: 10-11 кл | G4: 10-11 кл профильное | J4: 1-4 классы | K4: 5-9 классы | N4: 1-4 классы | Q4: 1-4 классы | R4: 5-9 классы | U4: 1-4 классы | V4: 5-9 классы | Y4: 5-9 классы | AH4: кол-во ставок | AI4: сумма | AJ4: на реализацию полномочий | AK4: на организацию полномочий | AL4: Всего | AN4: на реализацию полномочий | AO4: на организацию полномочий | AP4: Всего | AQ4: на реализацию полномочий | AR4: на организацию полномочий | AS4: Всего | AT4: % | AU4: кол-во месяцев
D5: 56663 | E5: 77917 | F5: 82443 | G5: ='[1]Нормативы ОО'!M459 -> 78016 | J5: 118158 | K5: 140778 | N5: 148905 | Q5: 317384 | R5: 419442 | U5: 217232 | V5: 277432 | Y5: 425276 | AJ5: 1
A6: 1 | B6: Всеволожский | C6: ЧОУ Гимназия "Грэйс" | D6: 104 | E6: 82 | F6: 17 | H6: =SUM(D6:G6) -> 203 | I6: =(D6*D$5+E6*E$5+F6*F$5+G6*G$5) -> 13683677 | L6: =SUM(J6:K6) -> 0 | M6: =(J6*J$5+K6*K$5) -> 0 | O6: =SUM(N6:N6) -> 0 | P6: =(N6*N$5) -> 0 | S6: =Q6+R6 -> 0 | T6: =(Q6*Q$5+$R$5*R6) -> 0 | W6: =SUM(U6:V6) -> 0 | X6: =(U6*U$5+V6*V$5) -> 0 | Z6: =SUM(Y6:Y6) -> 0 | AA6: =(Y6*Y$5) -> 0 | AB6: =D6+J6+N6+Q6+U6 -> 104 | AC6: =E6+K6+V6+Y6+R6 -> 82 | AD6: =F6 -> 17 | AE6: =G6 -> 0 | AF6: =AB6+AC6+AD6+AE6 -> 203 | AG6: =ROUND(I6+M6+P6+T6+X6+AA6,-2) -> 13683700
A7: 2 | B7: Всеволожский | C7: АНО "ДП Центр им. Св. Николая" | D7: 96 | E7: 68 | F7: 18 | H7: =SUM(D7:G7) -> 182 | I7: =(D7*D$5+E7*E$5+F7*F$5+G7*G$5) -> 12221978 | S7: =Q7+R7 -> 0 | T7: =(Q7*Q$5+$R$5*R7) -> 0 | AB7: =D7+J7+N7+Q7+U7 -> 96 | AC7: =E7+K7+V7+Y7+R7 -> 68 | AD7: =F7 -> 18 | AF7: =AB7+AC7+AD7+AE7 -> 182 | AG7: =ROUND(I7+M7+P7+T7+X7+AA7,-2) -> 12222000
A8: 3 | B8: Всеволожский | C8: ЧОУ «Деловая волна» | D8: 45 | E8: 0 | F8: 0 | H8: =SUM(D8:G8) -> 45 | I8: =(D8*D$5+E8*E$5+F8*F$5+G8*G$5) -> 2549835 | L8: =SUM(J8:K8) -> 0 | M8: =(J8*J$5+K8*K$5) -> 0 | O8: =SUM(N8:N8) -> 0 | P8: =(N8*N$5) -> 0 | S8: =Q8+R8 -> 0 | T8: =(Q8*Q$5+$R$5*R8) -> 0 | W8: =SUM(U8:V8) -> 0 | X8: =(U8*U$5+V8*V$5) -> 0 | Z8: =SUM(Y8:Y8) -> 0 | AA8: =(Y8*Y$5) -> 0 | AB8: =D8+J8+N8+Q8+U8 -> 45 | AC8: =E8+K8+V8+Y8+R8 -> 0 | AD8: =F8 -> 0 | AE8: =G8 -> 0 | AF8: =AB8+AC8+AD8+AE8 -> 45 | AG8: =ROUND(I8+M8+P8+T8+X8+AA8,-2) -> 2549800
B9: Всеволожский Итог | D9: =SUBTOTAL(9,D6:D8) -> 245 | E9: =SUBTOTAL(9,E6:E8) -> 150 | F9: =SUBTOTAL(9,F6:F8) -> 35 | G9: =SUBTOTAL(9,G6:G8) -> 0 | H9: =SUBTOTAL(9,H6:H8) -> 430 | I9: =SUBTOTAL(9,I6:I8) -> 28455490 | J9: =SUBTOTAL(9,J6:J8) -> 0 | K9: =SUBTOTAL(9,K6:K8) -> 0 | ... AG9: =SUBTOTAL(9,AG6:AG8) -> 28455500 | AH9: =ROUND(AF9/5000,2) -> 0.09 | AI9: =ROUND(AH9*$Z$26*$Z$27*$Z$28*1.2,-2) -> 126400 | AJ9: =ROUND(AG9*$AJ$5,-2) -> 28455500 | AK9: =AI9 -> 126400 | AL9: =AJ9+AK9 -> 28581900 | AM9: 20776000 | AN9: =AP9-AO9 -> 16702800 | AO9: 81100 | AP9: 16783900 | AQ9: =AJ9-AN9 -> 11752700 | AR9: =AK9-AO9 -> 45300 | AS9: =AL9-AP9 -> 11798000 | AT9: =AP9/AL9 -> 0.58722128 | AU9: =12*AT9 -> 7.0466554
A10: 4 | B10: Выборгский | C10: ЧОУ "Школа "Лужки"" | D10: 17 | E10: 37 | F10: 7 | H10: =SUM(D10:G10) -> 61 | I10: =(D10*D$5+E10*E$5+F10*F$5+G10*G$5) -> 4423301 | L10: =SUM(J10:K10) -> 0 | M10: =(J10*J$5+K10*K$5) -> 0 | O10: =SUM(N10:N10) -> 0 | P10: =(N10*N$5) -> 0 | S10: =Q10+R10 -> 0 | T10: =(Q10*Q$5+$R$5*R10) -> 0 | W10: =SUM(U10:V10) -> 0 | X10: =(U10*U$5+V10*V$5) -> 0 | Z10: =SUM(Y10:Y10) -> 0 | AA10: =(Y10*Y$5) -> 0 | AB10: =D10+J10+N10+Q10+U10 -> 17 | AC10: =E10+K10+V10+Y10+R10 -> 37 | AD10: =F10 -> 7 | AE10: =G10 -> 0 | AF10: =AB10+AC10+AD10+AE10 -> 61 | AG10: =ROUND(I10+M10+P10+T10+X10+AA10,-2) -> 4423300 | AN10: =AP10-AO10 -> 0 | AQ10: =AJ10-AN10 -> 0 | AR10: =AK10-AO10 -> 0 | AS10: =AL10-AP10 -> 0
B11: Выборгский Итог | D11: =SUBTOTAL(9,D10:D10) -> 17 | E11: =SUBTOTAL(9,E10:E10) -> 37 | F11: =SUBTOTAL(9,F10:F10) -> 7 | G11: =SUBTOTAL(9,G10:G10) -> 0 | H11: =SUBTOTAL(9,H10:H10) -> 61 | I11: =SUBTOTAL(9,I10:I10) -> 4423301 | J11: =SUBTOTAL(9,J10:J10) -> 0 | K11: =SUBTOTAL(9,K10:K10) -> 0 | ... AG11: =SUBTOTAL(9,AG10:AG10) -> 4423300 | AH11: =ROUND(AF11/5000,2) -> 0.01 | AI11: =ROUND(AH11*$Z$26*$Z$27*$Z$28*1.2,-2) -> 14000 | AJ11: =ROUND(AG11*$AJ$5,-2) -> 4423300 | AK11: =AI11 -> 14000 | AL11: =AJ11+AK11 -> 4437300 | AM11: 3224400 | AN11: =AP11-AO11 -> 4801900 | AO11: 27000 | AP11: 4828900 | AQ11: =AJ11-AN11 -> -378600 | AR11: =AK11-AO11 -> -13000 | AS11: =AL11-AP11 -> -391600 | AT11: =AP11/AL11 -> 1.0882519 | AU11: =12*AT11 -> 13.059022
A12: 5 | B12: Гатчинский | C12: ЧОУ "Гатчинская гимназия Апекс" | D12: 65 | E12: 72 | F12: 15 | H12: =SUM(D12:G12) -> 152 | I12: =(D12*D$5+E12*E$5+F12*F$5+G12*G$5) -> 10529764 | L12: =SUM(J12:K12) -> 0 | M12: =(J12*J$5+K12*K$5) -> 0 | O12: =SUM(N12:N12) -> 0 | P12: =(N12*N$5) -> 0 | S12: =Q12+R12 -> 0 | T12: =(Q12*Q$5+$R$5*R12) -> 0 | W12: =SUM(U12:V12) -> 0 | X12: =(U12*U$5+V12*V$5) -> 0 | Z12: =SUM(Y12:Y12) -> 0 | AA12: =(Y12*Y$5) -> 0 | AB12: =D12+J12+N12+Q12+U12 -> 65 | AC12: =E12+K12+V12+Y12+R12 -> 72 | AD12: =F12 -> 15 | AE12: =G12 -> 0 | AF12: =AB12+AC12+AD12+AE12 -> 152 | AG12: =ROUND(I12+M12+P12+T12+X12+AA12,-2) -> 10529800 | AN12: =AP12-AO12 -> 0 | AQ12: =AJ12-AN12 -> 0 | AR12: =AK12-AO12 -> 0 | AS12: =AL12-AP12 -> 0
A13: 6 | B13: Гатчинский | C13: ЧОУ "Первая академическая гимназия г.Гатчины" | D13: 51 | E13: 68 | F13: 16 | H13: =SUM(D13:G13) -> 135 | I13: =(D13*D$5+E13*E$5+F13*F$5+G13*G$5) -> 9507257 | L13: =SUM(J13:K13) -> 0 | M13: =(J13*J$5+K13*K$5) -> 0 | O13: =SUM(N13:N13) -> 0 | P13: =(N13*N$5) -> 0 | S13: =Q13+R13 -> 0 | T13: =(Q13*Q$5+$R$5*R13) -> 0 | W13: =SUM(U13:V13) -> 0 | X13: =(U13*U$5+V13*V$5) -> 0 | Z13: =SUM(Y13:Y13) -> 0 | AA13: =(Y13*Y$5) -> 0 | AB13: =D13+J13+N13+Q13+U13 -> 51 | AC13: =E13+K13+V13+Y13+R13 -> 68 | AD13: =F13 -> 16 | AE13: =G13 -> 0 | AF13: =AB13+AC13+AD13+AE13 -> 135 | AG13: =ROUND(I13+M13+P13+T13+X13+AA13,-2) -> 9507300 | AN13: =AP13-AO13 -> 0 | AQ13: =AJ13-AN13 -> 0 | AR13: =AK13-AO13 -> 0 | AS13: =AL13-AP13 -> 0
A14: 7 | B14: Гатчинский | C14: АНО ОУ "Школа имени императора Александра III" | D14: 99 | E14: 108 | F14: 17 | H14: =SUM(D14:G14) -> 224 | I14: =(D14*D$5+E14*E$5+F14*F$5+G14*G$5) -> 15426204 | L14: =SUM(J14:K14) -> 0 | M14: =(J14*J$5+K14*K$5) -> 0 | O14: =SUM(N14:N14) -> 0 | P14: =(N14*N$5) -> 0 | S14: =Q14+R14 -> 0 | T14: =(Q14*Q$5+$R$5*R14) -> 0 | U14: 3 | V14: 9 | W14: =SUM(U14:V14) -> 12 | X14: =(U14*U$5+V14*V$5) -> 3148584 | Y14: 1 | Z14: =SUM(Y14:Y14) -> 1 | AA14: =(Y14*Y$5) -> 425276 | AB14: =D14+J14+N14+Q14+U14 -> 102 | AC14: =E14+K14+V14+Y14+R14 -> 118 | AD14: =F14 -> 17 | AE14: =G14 -> 0 | AF14: =AB14+AC14+AD14+AE14 -> 237 | AG14: =ROUND(I14+M14+P14+T14+X14+AA14,-2) -> 19000100 | AN14: =AP14-AO14 -> 0 | AQ14: =AJ14-AN14 -> 0 | AR14: =AK14-AO14 -> 0 | AS14: =AL14-AP14 -> 0
B15: Гатчинский Итог | D15: =SUBTOTAL(9,D12:D14) -> 215 | E15: =SUBTOTAL(9,E12:E14) -> 248 | F15: =SUBTOTAL(9,F12:F14) -> 48 | G15: =SUBTOTAL(9,G12:G14) -> 0 | H15: =SUBTOTAL(9,H12:H14) -> 511 | I15: =SUBTOTAL(9,I12:I14) -> 35463225 | J15: =SUBTOTAL(9,J12:J14) -> 0 | K15: =SUBTOTAL(9,K12:K14) -> 0 | ... AG15: =SUBTOTAL(9,AG12:AG14) -> 39037200 | AH15: =ROUND(AF15/5000,2) -> 0.1 | AI15: =ROUND(AH15*$Z$26*$Z$27*$Z$28*1.2,-2) -> 140500 | AJ15: =ROUND(AG15*$AJ$5,-2) -> 39037200 | AK15: =AI15 -> 140500 | AL15: =AJ15+AK15 -> 39177700 | AM15: 28468100 | AN15: =AP15-AO15 -> 27965100 | AO15: 121600 | AP15: 28086700 | AQ15: =AJ15-AN15 -> 11072100 | AR15: =AK15-AO15 -> 18900 | AS15: =AL15-AP15 -> 11091000 | AT15: =AP15/AL15 -> 0.71690528 | AU15: =12*AT15 -> 8.6028634
A16: 8 | B16: Кингисеппский | C16: ЧОУ "Кингисеппская СОШ Православной культуры" | D16: 44 | E16: 68 | F16: 21 | H16: =SUM(D16:G16) -> 133 | I16: =(D16*D$5+E16*E$5+F16*F$5+G16*G$5) -> 9522831 | L16: =SUM(J16:K16) -> 0 | M16: =(J16*J$5+K16*K$5) -> 0 | O16: =SUM(N16:N16) -> 0 | P16: =(N16*N$5) -> 0 | S16: =Q16+R16 -> 0 | T16: =(Q16*Q$5+$R$5*R16) -> 0 | W16: =SUM(U16:V16) -> 0 | X16: =(U16*U$5+V16*V$5) -> 0 | Z16: =SUM(Y16:Y16) -> 0 | AA16: =(Y16*Y$5) -> 0 | AB16: =D16+J16+N16+Q16+U16 -> 44 | AC16: =E16+K16+V16+Y16+R16 -> 68 | AD16: =F16 -> 21 | AE16: =G16 -> 0 | AF16: =AB16+AC16+AD16+AE16 -> 133 | AG16: =ROUND(I16+M16+P16+T16+X16+AA16,-2) -> 9522800 | AN16: =AP16-AO16 -> 0 | AQ16: =AJ16-AN16 -> 0 | AR16: =AK16-AO16 -> 0 | AS16: =AL16-AP16 -> 0
B17: Кингисеппский Итог | D17: =SUBTOTAL(9,D16:D16) -> 44 | E17: =SUBTOTAL(9,E16:E16) -> 68 | F17: =SUBTOTAL(9,F16:F16) -> 21 | G17: =SUBTOTAL(9,G16:G16) -> 0 | H17: =SUBTOTAL(9,H16:H16) -> 133 | I17: =SUBTOTAL(9,I16:I16) -> 9522831 | J17: =SUBTOTAL(9,J16:J16) -> 0 | K17: =SUBTOTAL(9,K16:K16) -> 0 | ... AG17: =SUBTOTAL(9,AG16:AG16) -> 9522800 | AH17: =ROUND(AF17/5000,2) -> 0.03 | AI17: =ROUND(AH17*$Z$26*$Z$27*$Z$28*1.2,-2) -> 42100 | AJ17: =ROUND(AG17*$AJ$5,-2) -> 9522800 | AK17: =AI17 -> 42100 | AL17: =AJ17+AK17 -> 9564900 | AM17: 6951200 | AN17: =AP17-AO17 -> 7566400 | AO17: 27000 | AP17: 7593400 | AQ17: =AJ17-AN17 -> 1956400 | AR17: =AK17-AO17 -> 15100 | AS17: =AL17-AP17 -> 1971500 | AT17: =AP17/AL17 -> 0.7938818 | AU17: =12*AT17 -> 9.5265816
A18: 9 | B18: Киришский | C18: НОУ школа "Истоки" | D18: 29 | E18: 41 | H18: =SUM(D18:G18) -> 70 | I18: =(D18*D$5+E18*E$5+F18*F$5+G18*G$5) -> 4837824 | J18: 1 | L18: =SUM(J18:K18) -> 1 | M18: =(J18*J$5+K18*K$5) -> 118158 | N18: 1 | O18: =SUM(N18:N18) -> 1 | P18: =(N18*N$5) -> 148905 | Q18: 1 | R18: 1 | S18: =Q18+R18 -> 2 | T18: =(Q18*Q$5+$R$5*R18) -> 736826 | W18: =SUM(U18:V18) -> 0 | X18: =(U18*U$5+V18*V$5) -> 0 | Z18: =SUM(Y18:Y18) -> 0 | AA18: =(Y18*Y$5) -> 0 | AB18: =D18+J18+N18+Q18+U18 -> 32 | AC18: =E18+K18+V18+Y18+R18 -> 42 | AD18: =F18 -> 0 | AE18: =G18 -> 0 | AF18: =AB18+AC18+AD18+AE18 -> 74 | AG18: =ROUND(I18+M18+P18+T18+X18+AA18,-2) -> 5841700 | AN18: =AP18-AO18 -> 0 | AQ18: =AJ18-AN18 -> 0 | AR18: =AK18-AO18 -> 0 | AS18: =AL18-AP18 -> 0
B19: Киришский Итог | D19: =SUBTOTAL(9,D18:D18) -> 29 | E19: =SUBTOTAL(9,E18:E18) -> 41 | F19: =SUBTOTAL(9,F18:F18) -> 0 | G19: =SUBTOTAL(9,G18:G18) -> 0 | H19: =SUBTOTAL(9,H18:H18) -> 70 | I19: =SUBTOTAL(9,I18:I18) -> 4837824 | J19: =SUBTOTAL(9,J18:J18) -> 1 | K19: =SUBTOTAL(9,K18:K18) -> 0 | ... AG19: =SUBTOTAL(9,AG18:AG18) -> 5841700 | AH19: =ROUND(AF19/5000,2) -> 0.01 | AI19: =ROUND(AH19*$Z$26*$Z$27*$Z$28*1.2,-2) -> 14000 | AJ19: =ROUND(AG19*$AJ$5,-2) -> 5841700 | AK19: =AI19 -> 14000 | AL19: =AJ19+AK19 -> 5855700 | AM19: 4254100 | AN19: =AP19-AO19 -> 4608400 | AO19: 13500 | AP19: 4621900 | AQ19: =AJ19-AN19 -> 1233300 | AR19: =AK19-AO19 -> 500 | AS19: =AL19-AP19 -> 1233800 | AT19: =AP19/AL19 -> 0.78929932 | AU19: =12*AT19 -> 9.4715918
A20: 10 | B20: Приозерский | C20: НОУ СО "Школа Русской Культуры преподобных Сергия и Германа Валаамсяких" | D20: 9 | E20: 33 | F20: 0 | H20: =SUM(D20:G20) -> 42 | I20: =(D20*D$5+E20*E$5+F20*F$5+G20*G$5) -> 3081228 | L20: =SUM(J20:K20) -> 0 | M20: =(J20*J$5+K20*K$5) -> 0 | O20: =SUM(N20:N20) -> 0 | P20: =(N20*N$5) -> 0 | S20: =Q20+R20 -> 0 | T20: =(Q20*Q$5+$R$5*R20) -> 0 | W20: =SUM(U20:V20) -> 0 | X20: =(U20*U$5+V20*V$5) -> 0 | Z20: =SUM(Y20:Y20) -> 0 | AA20: =(Y20*Y$5) -> 0 | AB20: =D20+J20+N20+Q20+U20 -> 9 | AC20: =E20+K20+V20+Y20+R20 -> 33 | AD20: =F20 -> 0 | AE20: =G20 -> 0 | AF20: =AB20+AC20+AD20+AE20 -> 42 | AG20: =ROUND(I20+M20+P20+T20+X20+AA20,-2) -> 3081200 | AN20: =AP20-AO20 -> 0 | AQ20: =AJ20-AN20 -> 0 | AR20: =AK20-AO20 -> 0 | AS20: =AL20-AP20 -> 0
B21: Приозерский Итог | D21: =SUBTOTAL(9,D20:D20) -> 9 | E21: =SUBTOTAL(9,E20:E20) -> 33 | F21: =SUBTOTAL(9,F20:F20) -> 0 | G21: =SUBTOTAL(9,G20:G20) -> 0 | H21: =SUBTOTAL(9,H20:H20) -> 42 | I21: =SUBTOTAL(9,I20:I20) -> 3081228 | J21: =SUBTOTAL(9,J20:J20) -> 0 | K21: =SUBTOTAL(9,K20:K20) -> 0 | ... AG21: =SUBTOTAL(9,AG20:AG20) -> 3081200 | AH21: =ROUND(AF21/5000,2) -> 0.01 | AI21: =ROUND(AH21*$Z$26*$Z$27*$Z$28*1.2,-2) -> 14000 | AJ21: =ROUND(AG21*$AJ$5,-2) -> 3081200 | AK21: =AI21 -> 14000 | AL21: =AJ21+AK21 -> 3095200 | AM21: 2249300 | AN21: =AP21-AO21 -> 2107500 | AO21: 13500 | AP21: 2121000 | AQ21: =AJ21-AN21 -> 973700 | AR21: =AK21-AO21 -> 500 | AS21: =AL21-AP21 -> 974200 | AT21: =AP21/AL21 -> 0.68525459 | AU21: =12*AT21 -> 8.2230551
A22: 11 | B22: Сосновоборский | C22: АНО "Сосновоборская частная школа" | D22: 77 | E22: 83 | F22: 34 | H22: =SUM(D22:G22) -> 194 | I22: =(D22*D$5+E22*E$5+F22*F$5+G22*G$5) -> 13633224 | L22: =SUM(J22:K22) -> 0 | M22: =(J22*J$5+K22*K$5) -> 0 | O22: =SUM(N22:N22) -> 0 | P22: =(N22*N$5) -> 0 | S22: =Q22+R22 -> 0 | T22: =(Q22*Q$5+$R$5*R22) -> 0 | W22: =SUM(U22:V22) -> 0 | X22: =(U22*U$5+V22*V$5) -> 0 | Z22: =SUM(Y22:Y22) -> 0 | AA22: =(Y22*Y$5) -> 0 | AB22: =D22+J22+N22+Q22+U22 -> 77 | AC22: =E22+K22+V22+Y22+R22 -> 83 | AD22: =F22 -> 34 | AE22: =G22 -> 0 | AF22: =AB22+AC22+AD22+AE22 -> 194 | AG22: =ROUND(I22+M22+P22+T22+X22+AA22,-2) -> 13633200 | AN22: =AP22-AO22 -> 0 | AQ22: =AJ22-AN22 -> 0 | AR22: =AK22-AO22 -> 0 | AS22: =AL22-AP22 -> 0
B23: Сосновоборский Итог | D23: =SUBTOTAL(9,D22:D22) -> 77 | E23: =SUBTOTAL(9,E22:E22) -> 83 | F23: =SUBTOTAL(9,F22:F22) -> 34 | G23: =SUBTOTAL(9,G22:G22) -> 0 | H23: =SUBTOTAL(9,H22:H22) -> 194 | I23: =SUBTOTAL(9,I22:I22) -> 13633224 | J23: =SUBTOTAL(9,J22:J22) -> 0 | K23: =SUBTOTAL(9,K22:K22) -> 0 | ... AG23: =SUBTOTAL(9,AG22:AG22) -> 13633200 | AH23: =ROUND(AF23/5000,2) -> 0.04 | AI23: =ROUND(AH23*$Z$26*$Z$27*$Z$28*1.2,-2) -> 56200 | AJ23: =ROUND(AG23*$AJ$5,-2) -> 13633200 | AK23: =AI23 -> 56200 | AL23: =AJ23+AK23 -> 13689400 | AM23: 9949000 | AN23: =AP23-AO23 -> 11782300 | AO23: 54000 | AP23: 11836300 | AQ23: =AJ23-AN23 -> 1850900 | AR23: =AK23-AO23 -> 2200 | AS23: =AL23-AP23 -> 1853100 | AT23: =AP23/AL23 -> 0.86463249 | AU23: =12*AT23 -> 10.37559
B24: Общий итог | D24: =SUBTOTAL(9,D6:D22) -> 636 | E24: =SUBTOTAL(9,E6:E22) -> 660 | F24: =SUBTOTAL(9,F6:F22) -> 145 | G24: =SUBTOTAL(9,G6:G22) -> 0 | H24: =SUBTOTAL(9,H6:H22) -> 1441 | I24: =SUBTOTAL(9,I6:I22) -> 99417123 | J24: =SUBTOTAL(9,J6:J22) -> 1 | K24: =SUBTOTAL(9,K6:K22) -> 0 | ... AG24: =SUBTOTAL(9,AG6:AG22) -> 103994900 | AH24: =ROUND(AF24/5000,2) -> 0.29 | AI24: =ROUND(AH24*$Z$26*$Z$27*$Z$28*1.2,-2) -> 407400 | AJ24: =SUM(AJ6:AJ23) -> 103994900 | AK24: =SUM(AK6:AK23) -> 407200 | AL24: =SUM(AL6:AL23) -> 104402100 | AM24: =SUM(AM6:AM23) -> 75872100 | AN24: =AP24-AO24 -> 75534400 | AO24: =SUM(AO9:AO23) -> 337700 | AP24: =SUM(AP9:AP23) -> 75872100 | AQ24: =SUM(AQ9:AQ23) -> 28460500 | AR24: =SUM(AR9:AR23) -> 69500 | AS24: =SUM(AS9:AS23) -> 28530000 | AT24: =AP24/AL24 -> 0.72672963 | AU24: =12*AT24 -> 8.7207556
AL25: 98851900 | AM25: 75872100 | AS25: =+AL24-AP24 -> 28530000
V26: оклад ведущего специалиста | Z26: =ROUND(5600*1.1*1.1*1.1*1.1*1.06*1.06*1.1*1.06*1.06*1.1*1.06*1.04*1.04*1.04*1.04*1.04,1) -> 16152.5 | AG26: 88248700 | AL26: =+AL24/AF24 -> 71606.379 | AM26: =+AL24-AM24 -> 28530000 | AP26: =71360.5+4511.6 -> 75872.1
V27: кол-во должностных окладов в год | Z27: 55.67 | AL27: =+AM25/AL24*AF24 -> 1059.5718
V28: начисления | Z28: 1.302

Sheet Лист1
A1: N п/п | B1: Наименование муниципального образования | C1: Сумма на 2022 год
C2: (тысяч рублей)
A3: 1 | B3: Всеволожский муниципальный район | C3: =ЧДОУ!BL27/1000 -> 0
A4: 2 | B4: Выборгский район | C4: =ЧДОУ!BL32/1000 -> 0
A5: 3 | B5: Гатчинский муниципальный район | C5: =ЧДОУ!BL36/1000 -> 0
A6: 4 | B6: Ломоносовский муниципальный район | C6: =ЧДОУ!BL43/1000 -> 0
A7: 5 | B7: Сосновоборский городской округ | C7: =ЧДОУ!BL45/1000 -> 0
A8: 6 | B8: Тосненский район | C8: =ЧДОУ!BL48/1000 -> 0
B9: Итого | C9: =SUM(C3:C8) -> 0
