Workbook

Sheet КЦ
B3: опека
B4: =#REF!+#REF!+#REF!+#REF! -> #REF!

Sheet Население на 01.01.2019
A1: №п/п | B1: Наименование муниципального района (городского округа) | C1: Численность населения на 01.01.2019 г - ВСЕГО | D1: В том числе численность детского населения в возрасте от 0 до 18 лет (включительно) | F1: №п/п | G1: Наименование муниципального района (городского округа) | H1: Численность населения на 01.01.2018 г - ВСЕГО | I1: В том числе численность детского населения в возрасте от 0 до 18 лет | K1: динамика
K2: Численность населения | L2: В том числе численность детского населения в возрасте от 0 до 18 лет
A4: 1 | B4: Бокситогорский | C4: 49256 | D4: 9280 | F4: 1 | G4: Бокситогорский | H4: 50019 | I4: 9361 | K4: =C4-H4 -> -763 | L4: =D4-I4 -> -81
A5: 2 | B5: Волосовский | C5: 51668 | D5: 9888 | F5: 2 | G5: Волосовский | H5: 51675 | I5: 9802 | K5: =C5-H5 -> -7 | L5: =D5-I5 -> 86
A6: 3 | B6: Волховский | C6: 89070 | D6: 15298 | F6: 3 | G6: Волховский | H6: 90174 | I6: 15510 | K6: =C6-H6 -> -1104 | L6: =D6-I6 -> -212
A7: 4 | B7: Всеволожский | C7: 398896 | D7: 78461 | F7: 4 | G7: Всеволожский | H7: 354723 | I7: 66623 | K7: =C7-H7 -> 44173 | L7: =D7-I7 -> 11838
A8: 5 | B8: Выборгский | C8: 199571 | D8: 34452 | F8: 5 | G8: Выборгский | H8: 201239 | I8: 34776 | K8: =C8-H8 -> -1668 | L8: =D8-I8 -> -324
A9: 6 | B9: Гатчинский | C9: 243156 | D9: 41294 | F9: 6 | G9: Гатчинский | H9: 244252 | I9: 41277 | K9: =C9-H9 -> -1096 | L9: =D9-I9 -> 17
A10: 7 | B10: Кингисеппский | C10: 76182 | D10: 14400 | F10: 7 | G10: Кингисеппский | H10: 78839 | I10: 14652 | K10: =C10-H10 -> -2657 | L10: =D10-I10 -> -252
A11: 8 | B11: Киришский | C11: 62069 | D11: 12561 | F11: 8 | G11: Киришский | H11: 62456 | I11: 12691 | K11: =C11-H11 -> -387 | L11: =D11-I11 -> -130
A12: 9 | B12: Кировский | C12: 105936 | D12: 18214 | F12: 9 | G12: Кировский | H12: 105698 | I12: 17953 | K12: =C12-H12 -> 238 | L12: =D12-I12 -> 261
A13: 10 | B13: Лодейнопольский | C13: 28530 | D13: 5064 | F13: 10 | G13: Лодейнопольский | H13: 28916 | I13: 5233 | K13: =C13-H13 -> -386 | L13: =D13-I13 -> -169
A14: 11 | B14: Ломоносовский | C14: 73475 | D14: 12156 | F14: 11 | G14: Ломоносовский | H14: 71850 | I14: 11720 | K14: =C14-H14 -> 1625 | L14: =D14-I14 -> 436
A15: 12 | B15: Лужский | C15: 72035 | D15: 12464 | F15: 12 | G15: Лужский | H15: 72879 | I15: 12492 | K15: =C15-H15 -> -844 | L15: =D15-I15 -> -28
... A21: 18 | B21: Сосновоборский | C21: 68344 | D21: 12146 | F21: 18 | G21: Сосновоборский | H21: 68013 | I21: 11918 | K21: =C21-H21 -> 331 | L21: =D21-I21 -> 228
B22: Всего | C22: =SUM(C4:C21) -> 1847867 | D22: =SUM(D4:D21) -> 334008 | G22: Всего | H22: =SUM(H4:H21) -> 1813816 | I22: =SUM(I4:I21) -> 322184 | K22: =SUM(K4:K21) -> 34051 | L22: =SUM(L4:L21) -> 11824

Sheet органы опеки_проверка
B1: Расчет субвенций бюджетам муниципальных образований на осуществление отдельного государственного полномочия Ленинградской области по организации и осуществлению деятельности по опеке и попечительству, на 2021 год
A3: №№ | B3: Наименование муниципальных районов и городского поселения | C3: Численность населения на 01.01.2019 г - ВСЕГО | D3: Численность детского населения от 0 до 18 лет | E3: Планируемое количество специалистов по охране детства в отношении несовершеннолетних граждан в возрасте от 0 до 18 лет включительно | F3: Планируемое количество специалистов в отношении совершеннолетних граждан _x000D_ | G3: Планируемое количество специалистов по бухгалтерскому учету и контролю (не менее 1,0 ст., и не более 1,5 ст.) | H3: Планируемое количество ставок специалистов, ВСЕГО | I3: Расчет субвенций на организацию опеки и попечительства на 2021 год | L3: Утверждено в областном законе на 2020-2022 гг | M3: 4 % к 2020г | N3: в проект закона на 2021-2023 гг, тыс.руб.
I4: на ФОТ, тыс.руб. | J4: Норматив затрат в расчете на одного специалиста по организации опеки и попечительства в МО | K4: Общая потребность в средствах на 2021 год, тыс.руб. | N4: 2021 | O4: 2022 | P4: 2023 | R4: в АЦК | W4: =ROUND(E27*E28*E29,0)/1000 -> 908.969 | X4: =E5+F5+G5 -> 5.9
A5: 1 | B5: Бокситогорский | C5: ='[1]Население на 01.01.2019'!C4 -> 49256 | D5: ='[1]Население на 01.01.2019'!D4 -> 9280 | E5: =ROUND(D5/$E$24,1) -> 4.6 | F5: =ROUND((C5-D5)/$F$24,1) -> 0.3 | G5: =IF(D5/$G$24<1,1,IF(D5/$G$24>1.5,1.5,D5/$G$24)) -> 1 | H5: =ROUND(E5+F5+G5,1) -> 5.9 | I5: =ROUND(H5*$E$30,1) -> 5434.5 | J5: =ROUND(I5*0.2,1) -> 1086.9 | K5: =ROUND(I5+J5,1) -> 6521.4 | L5: 6544.8 | M5: =ROUND(L5*1.04,1) -> 6806.6 | N5: =K5 -> 6521.4 | O5: =N5 -> 6521.4 | P5: =N5 -> 6521.4 | R5: =K5*1000 -> 6521400 | S5: =R5 -> 6521400 | T5: =S5 -> 6521400
A6: 2 | B6: Волосовский | C6: ='[1]Население на 01.01.2019'!C5 -> 51668 | D6: ='[1]Население на 01.01.2019'!D5 -> 9888 | E6: =ROUND(D6/$E$24,1) -> 4.9 | F6: =ROUND((C6-D6)/$F$24,1) -> 0.3 | G6: =IF(D6/$G$24<1,1,IF(D6/$G$24>1.5,1.5,D6/$G$24)) -> 1 | H6: =ROUND(E6+F6+G6,1) -> 6.2 | I6: =ROUND(H6*$E$30,1) -> 5710.8 | J6: =ROUND(I6*0.2,1) -> 1142.2 | K6: =ROUND(I6+J6,1) -> 6853 | L6: 6763 | M6: =ROUND(L6*1.04,1) -> 7033.5 | N6: =K6 -> 6853 | O6: =N6 -> 6853 | P6: =N6 -> 6853 | R6: =K6*1000 -> 6853000 | S6: =R6 -> 6853000 | T6: =S6 -> 6853000
A7: 3 | B7: Волховский | C7: ='[1]Население на 01.01.2019'!C6 -> 89070 | D7: ='[1]Население на 01.01.2019'!D6 -> 15298 | E7: =ROUND(D7/$E$24,1) -> 7.6 | F7: =ROUND((C7-D7)/$F$24,1) -> 0.5 | G7: =IF(D7/$G$24<1,1,IF(D7/$G$24>1.5,1.5,D7/$G$24)) -> 1.0198667 | H7: =ROUND(E7+F7+G7,1) -> 9.1 | I7: =ROUND(H7*$E$30,1) -> 8382 | J7: =ROUND(I7*0.2,1) -> 1676.4 | K7: =ROUND(I7+J7,1) -> 10058.4 | L7: 10181.5 | M7: =ROUND(L7*1.04,1) -> 10588.8 | N7: =K7 -> 10058.4 | O7: =N7 -> 10058.4 | P7: =N7 -> 10058.4 | R7: =K7*1000 -> 10058400 | S7: =R7 -> 10058400 | T7: =S7 -> 10058400 | W7: =1.2*W4 -> 1090.7628
A8: 4 | B8: Всеволожский | C8: ='[1]Население на 01.01.2019'!C7 -> 398896 | D8: ='[1]Население на 01.01.2019'!D7 -> 78461 | E8: =ROUND(D8/$E$24,1) -> 39.2 | F8: =ROUND((C8-D8)/$F$24,1) -> 2.1 | G8: =IF(D8/$G$24<1,1,IF(D8/$G$24>1.5,1.5,D8/$G$24)) -> 1.5 | H8: =ROUND(E8+F8+G8,1) -> 42.8 | I8: =ROUND(H8*$E$30,1) -> 39423.1 | J8: =ROUND(I8*0.2,1) -> 7884.6 | K8: =ROUND(I8+J8,1) -> 47307.7 | L8: 40032.4 | M8: =ROUND(L8*1.04,1) -> 41633.7 | N8: =K8 -> 47307.7 | O8: =N8 -> 47307.7 | P8: =N8 -> 47307.7 | R8: =K8*1000 -> 47307700 | S8: =R8 -> 47307700 | T8: =S8 -> 47307700 | W8: =W7*X4 -> 6435.5005
A9: 5 | B9: Выборгский | C9: ='[1]Население на 01.01.2019'!C8 -> 199571 | D9: ='[1]Население на 01.01.2019'!D8 -> 34452 | E9: =ROUND(D9/$E$24,1) -> 17.2 | F9: =ROUND((C9-D9)/$F$24,1) -> 1.1 | G9: =IF(D9/$G$24<1,1,IF(D9/$G$24>1.5,1.5,D9/$G$24)) -> 1.5 | H9: =ROUND(E9+F9+G9,1) -> 19.8 | I9: =ROUND(H9*$E$30,1) -> 18237.8 | J9: =ROUND(I9*0.2,1) -> 3647.6 | K9: =ROUND(I9+J9,1) -> 21885.4 | L9: 21816 | M9: =ROUND(L9*1.04,1) -> 22688.6 | N9: =K9 -> 21885.4 | O9: =N9 -> 21885.4 | P9: =N9 -> 21885.4 | R9: =K9*1000 -> 21885400 | S9: =R9 -> 21885400 | T9: =S9 -> 21885400
A10: 6 | B10: Гатчинский | C10: ='[1]Население на 01.01.2019'!C9 -> 243156 | D10: ='[1]Население на 01.01.2019'!D9 -> 41294 | E10: =ROUND(D10/$E$24,1) -> 20.6 | F10: =ROUND((C10-D10)/$F$24,1) -> 1.3 | G10: =IF(D10/$G$24<1,1,IF(D10/$G$24>1.5,1.5,D10/$G$24)) -> 1.5 | H10: =ROUND(E10+F10+G10,1) -> 23.4 | I10: =ROUND(H10*$E$30,1) -> 21553.7 | J10: =ROUND(I10*0.2,1) -> 4310.7 | K10: =ROUND(I10+J10,1) -> 25864.4 | L10: 25633.8 | M10: =ROUND(L10*1.04,1) -> 26659.2 | N10: =K10 -> 25864.4 | O10: =N10 -> 25864.4 | P10: =N10 -> 25864.4 | R10: =K10*1000 -> 25864400 | S10: =R10 -> 25864400 | T10: =S10 -> 25864400
A11: 7 | B11: Кингисеппский | C11: ='[1]Население на 01.01.2019'!C10 -> 76182 | D11: ='[1]Население на 01.01.2019'!D10 -> 14400 | E11: =ROUND(D11/$E$24,1) -> 7.2 | F11: =ROUND((C11-D11)/$F$24,1) -> 0.4 | G11: =IF(D11/$G$24<1,1,IF(D11/$G$24>1.5,1.5,D11/$G$24)) -> 1 | H11: =ROUND(E11+F11+G11,1) -> 8.6 | I11: =ROUND(H11*$E$30,1) -> 7921.5 | J11: =ROUND(I11*0.2,1) -> 1584.3 | K11: =ROUND(I11+J11,1) -> 9505.8 | L11: 9490 | M11: =ROUND(L11*1.04,1) -> 9869.6 | N11: =K11 -> 9505.8 | O11: =N11 -> 9505.8 | P11: =N11 -> 9505.8 | R11: =K11*1000 -> 9505800 | S11: =R11 -> 9505800 | T11: =S11 -> 9505800
A12: 8 | B12: Киришский | C12: ='[1]Население на 01.01.2019'!C11 -> 62069 | D12: ='[1]Население на 01.01.2019'!D11 -> 12561 | E12: =ROUND(D12/$E$24,1) -> 6.3 | F12: =ROUND((C12-D12)/$F$24,1) -> 0.3 | G12: =IF(D12/$G$24<1,1,IF(D12/$G$24>1.5,1.5,D12/$G$24)) -> 1 | H12: =ROUND(E12+F12+G12,1) -> 7.6 | I12: =ROUND(H12*$E$30,1) -> 7000.4 | J12: =ROUND(I12*0.2,1) -> 1400.1 | K12: =ROUND(I12+J12,1) -> 8400.5 | L12: 8290.1 | M12: =ROUND(L12*1.04,1) -> 8621.7 | N12: =K12 -> 8400.5 | O12: =N12 -> 8400.5 | P12: =N12 -> 8400.5 | R12: =K12*1000 -> 8400500 | S12: =R12 -> 8400500 | T12: =S12 -> 8400500
A13: 9 | B13: Кировский | C13: ='[1]Население на 01.01.2019'!C12 -> 105936 | D13: ='[1]Население на 01.01.2019'!D12 -> 18214 | E13: =ROUND(D13/$E$24,1) -> 9.1 | F13: =ROUND((C13-D13)/$F$24,1) -> 0.6 | G13: =IF(D13/$G$24<1,1,IF(D13/$G$24>1.5,1.5,D13/$G$24)) -> 1.2142667 | H13: =ROUND(E13+F13+G13,1) -> 10.9 | I13: =ROUND(H13*$E$30,1) -> 10040 | J13: =ROUND(I13*0.2,1) -> 2008 | K13: =ROUND(I13+J13,1) -> 12048 | L13: 11777.3 | M13: =ROUND(L13*1.04,1) -> 12248.4 | N13: =K13 -> 12048 | O13: =N13 -> 12048 | P13: =N13 -> 12048 | R13: =K13*1000 -> 12048000 | S13: =R13 -> 12048000 | T13: =S13 -> 12048000
A14: 10 | B14: Лодейнопольский | C14: ='[1]Население на 01.01.2019'!C13 -> 28530 | D14: ='[1]Население на 01.01.2019'!D13 -> 5064 | E14: =ROUND(D14/$E$24,1) -> 2.5 | F14: =ROUND((C14-D14)/$F$24,1) -> 0.2 | G14: =IF(D14/$G$24<1,1,IF(D14/$G$24>1.5,1.5,D14/$G$24)) -> 1 | H14: =ROUND(E14+F14+G14,1) -> 3.7 | I14: =ROUND(H14*$E$30,1) -> 3408.1 | J14: =ROUND(I14*0.2,1) -> 681.6 | K14: =ROUND(I14+J14,1) -> 4089.7 | L14: 4145 | M14: =ROUND(L14*1.04,1) -> 4310.8 | N14: =K14 -> 4089.7 | O14: =N14 -> 4089.7 | P14: =N14 -> 4089.7 | R14: =K14*1000 -> 4089700 | S14: =R14 -> 4089700 | T14: =S14 -> 4089700
A15: 11 | B15: Ломоносовский | C15: ='[1]Население на 01.01.2019'!C14 -> 73475 | D15: ='[1]Население на 01.01.2019'!D14 -> 12156 | E15: =ROUND(D15/$E$24,1) -> 6.1 | F15: =ROUND((C15-D15)/$F$24,1) -> 0.4 | G15: =IF(D15/$G$24<1,1,IF(D15/$G$24>1.5,1.5,D15/$G$24)) -> 1 | H15: =ROUND(E15+F15+G15,1) -> 7.5 | I15: =ROUND(H15*$E$30,1) -> 6908.3 | J15: =ROUND(I15*0.2,1) -> 1381.7 | K15: =ROUND(I15+J15,1) -> 8290 | L15: 7962.8 | M15: =ROUND(L15*1.04,1) -> 8281.3 | N15: =K15 -> 8290 | O15: =N15 -> 8290 | P15: =N15 -> 8290 | R15: =K15*1000 -> 8290000 | S15: =R15 -> 8290000 | T15: =S15 -> 8290000
A16: 12 | B16: Лужский | C16: ='[1]Население на 01.01.2019'!C15 -> 72035 | D16: ='[1]Население на 01.01.2019'!D15 -> 12464 | E16: =ROUND(D16/$E$24,1) -> 6.2 | F16: =ROUND((C16-D16)/$F$24,1) -> 0.4 | G16: =IF(D16/$G$24<1,1,IF(D16/$G$24>1.5,1.5,D16/$G$24)) -> 1 | H16: =ROUND(E16+F16+G16,1) -> 7.6 | I16: =ROUND(H16*$E$30,1) -> 7000.4 | J16: =ROUND(I16*0.2,1) -> 1400.1 | K16: =ROUND(I16+J16,1) -> 8400.5 | L16: 8290.1 | M16: =ROUND(L16*1.04,1) -> 8621.7 | N16: =K16 -> 8400.5 | O16: =N16 -> 8400.5 | P16: =N16 -> 8400.5 | R16: =K16*1000 -> 8400500 | S16: =R16 -> 8400500 | T16: =S16 -> 8400500
A17: 13 | B17: Подпорожский | C17: ='[1]Население на 01.01.2019'!C16 -> 28263 | D17: ='[1]Население на 01.01.2019'!D16 -> 5544 | E17: =ROUND(D17/$E$24,1) -> 2.8 | F17: =ROUND((C17-D17)/$F$24,1) -> 0.2 | G17: =IF(D17/$G$24<1,1,IF(D17/$G$24>1.5,1.5,D17/$G$24)) -> 1 | H17: =ROUND(E17+F17+G17,1) -> 4 | I17: =ROUND(H17*$E$30,1) -> 3684.4 | J17: =ROUND(I17*0.2,1) -> 736.9 | K17: =ROUND(I17+J17,1) -> 4421.3 | L17: 4254.1 | M17: =ROUND(L17*1.04,1) -> 4424.3 | N17: =K17 -> 4421.3 | O17: =N17 -> 4421.3 | P17: =N17 -> 4421.3 | R17: =K17*1000 -> 4421300 | S17: =R17 -> 4421300 | T17: =S17 -> 4421300
A18: 14 | B18: Приозерский | C18: ='[1]Население на 01.01.2019'!C17 -> 61028 | D18: ='[1]Население на 01.01.2019'!D17 -> 10949 | E18: =ROUND(D18/$E$24,1) -> 5.5 | F18: =ROUND((C18-D18)/$F$24,1) -> 0.3 | G18: =IF(D18/$G$24<1,1,IF(D18/$G$24>1.5,1.5,D18/$G$24)) -> 1 | H18: =ROUND(E18+F18+G18,1) -> 6.8 | I18: =ROUND(H18*$E$30,1) -> 6263.5 | J18: =ROUND(I18*0.2,1) -> 1252.7 | K18: =ROUND(I18+J18,1) -> 7516.2 | L18: 7417.4 | M18: =ROUND(L18*1.04,1) -> 7714.1 | N18: =K18 -> 7516.2 | O18: =N18 -> 7516.2 | P18: =N18 -> 7516.2 | R18: =K18*1000 -> 7516200 | S18: =R18 -> 7516200 | T18: =S18 -> 7516200
A19: 15 | B19: Сланцевский | C19: ='[1]Население на 01.01.2019'!C18 -> 42494 | D19: ='[1]Население на 01.01.2019'!D18 -> 7382 | E19: =ROUND(D19/$E$24,1) -> 3.7 | F19: =ROUND((C19-D19)/$F$24,1) -> 0.2 | G19: =IF(D19/$G$24<1,1,IF(D19/$G$24>1.5,1.5,D19/$G$24)) -> 1 | H19: =ROUND(E19+F19+G19,1) -> 4.9 | I19: =ROUND(H19*$E$30,1) -> 4513.4 | J19: =ROUND(I19*0.2,1) -> 902.7 | K19: =ROUND(I19+J19,1) -> 5416.1 | L19: 5344.9 | M19: =ROUND(L19*1.04,1) -> 5558.7 | N19: =K19 -> 5416.1 | O19: =N19 -> 5416.1 | P19: =N19 -> 5416.1 | R19: =K19*1000 -> 5416100 | S19: =R19 -> 5416100 | T19: =S19 -> 5416100
A20: 16 | B20: Тихвинский | C20: ='[1]Население на 01.01.2019'!C19 -> 69567 | D20: ='[1]Население на 01.01.2019'!D19 -> 13472 | E20: =ROUND(D20/$E$24,1) -> 6.7 | F20: =ROUND((C20-D20)/$F$24,1) -> 0.4 | G20: =IF(D20/$G$24<1,1,IF(D20/$G$24>1.5,1.5,D20/$G$24)) -> 1 | H20: =ROUND(E20+F20+G20,1) -> 8.1 | I20: =ROUND(H20*$E$30,1) -> 7460.9 | J20: =ROUND(I20*0.2,1) -> 1492.2 | K20: =ROUND(I20+J20,1) -> 8953.1 | L20: 8835.5 | M20: =ROUND(L20*1.04,1) -> 9188.9 | N20: =K20 -> 8953.1 | O20: =N20 -> 8953.1 | P20: =N20 -> 8953.1 | R20: =K20*1000 -> 8953100 | S20: =R20 -> 8953100 | T20: =S20 -> 8953100
... A22: 18 | B22: Сосновоборский | C22: ='[1]Население на 01.01.2019'!C21 -> 68344 | D22: ='[1]Население на 01.01.2019'!D21 -> 12146 | E22: =ROUND(D22/$E$24,1) -> 6.1 | F22: =ROUND((C22-D22)/$F$24,1) -> 0.4 | G22: =IF(D22/$G$24<1,1,IF(D22/$G$24>1.5,1.5,D22/$G$24)) -> 1 | H22: =ROUND(E22+F22+G22,1) -> 7.5 | I22: =ROUND(H22*$E$30,1) -> 6908.3 | J22: =ROUND(I22*0.2,1) -> 1381.7 | K22: =ROUND(I22+J22,1) -> 8290 | L22: 8071.9 | M22: =ROUND(L22*1.04,1) -> 8394.8 | N22: =K22 -> 8290 | O22: =N22 -> 8290 | P22: =N22 -> 8290 | R22: =K22*1000 -> 8290000 | S22: =R22 -> 8290000 | T22: =S22 -> 8290000
B23: ИТОГО: | C23: =SUM(C5:C22) -> 1847867 | D23: =SUM(D5:D22) -> 334008 | E23: =SUM(E5:E22) -> 166.8 | F23: =SUM(F5:F22) -> 10.1 | G23: =SUM(G5:G22) -> 20.133 | H23: =SUM(H5:H22) -> 197 | I23: =SUM(I5:I22) -> 181457 | J23: =SUM(J5:J22) -> 36291.6 | ... P23: =SUM(P5:P22) -> 217748.6 | R23: =SUM(R5:R22) -> 217748600 | S23: =SUM(S5:S22) -> 217748600 | T23: =SUM(T5:T22) -> 217748600
E24: 2000 | F24: 150000 | G24: 15000 | K24: =K23/L23-100% -> 0.043295984 | M24: =M23/L23-100% -> 0.040000537
A25: 1 | B25: 2 | C25: 3 | D25: 4 | E25: 5 | F25: 6 | G25: 7 | H25: 8 | I25: 9 | J25: 10 | K25: 11 | L25: 13
C26: 1775540
B27: оклад специалиста 1 категории | E27: =ROUND(4700*1.1*1.1*1.1*1.1*1.06*1.06*1.1*1.06*1.06*1.1*1.06*1.04*1.04*1.04,1) -> 12533.8
B28: кол-во должностных окладов в год | E28: 55.7
B29: начисления | E29: 1.302
B30: средства на оплату труда с начислениями на год, тыс. руб. | E30: 921.1 | F30: =ROUND((E27*E28*E29)/1000*1.2,1) -> 1090.8 | G30: норматив на одного | H30: 9940 | I30: 909 | J30: =I30*8 -> 7272
H31: 10340 | I31: 945.3 | J31: =I31*4 -> 3781.2
J32: =SUM(J30:J31)/12 -> 921.1
D34: 2018 | E34: 2019 | F34: 2020
D35: 11588.2 | E35: 12051.7 | F35: 12533.8

Sheet Вознаграждение 
W1: Приложение 43 к пояснительной записке 2021 года
A3: Расчет объема субвенций бюджетам муниципальных образований на осуществление отдельного государственного полномочия Ленинградской области по организации выплаты вознаграждения, причитающегося приемным родителям, на 2021 год и на плановый период 2022 и 2023 годов | AK3: уточненные на июнь 2020
A5: №№ | B5: Наименование МО | C5: Количество приемных семей (с учетом ранее созданных) | D5: из них с разбивкой по количеству приемных детей в семье | M5: в том числе количество детей-инвалидов пр.категорий | N5: Количество детей в приемных семьях (без учета родных детей) -всего | O5: Размер прожиточного минимума | P5: Потребность в месяц, тыс. руб. | Q5: Начисления (27,1%) | R5: Потребность в средствах на 2021 год, тыс.руб. | S5: Утверждено в областном законе на 2020 год | T5: 4 % к 2020г | U5: в проект бюджета на 2021-2023 гг, тыс.руб. | X5: Количество приемных семей (с учетом ранее созданных) в 2020 году | Y5: Динамика численности | AF5: Количество приемных семей (с учетом ранее созданных) | AG5: из них с разбивкой по количеству приемных детей в семье | AO5: в том числе количество детей-инвалидов пр.категорий | AP5: Количество детей в приемных семьях (без учета родных детей) -всего
D6: 1 | E6: 2 | F6: 3 | G6: 4 | H6: 5 | I6: 6 | J6: 7 | K6: 8 | L6: Было на 2020 год | O6: на 1 квартал 2020 года | P6: ФОТ | U6: 2021 | V6: 2022 | W6: 2023 | AA6: в АЦК | AG6: 1 | AH6: 2 | AI6: 3 | AJ6: 4 | AK6: 5 | AL6: 6 | AM6: 7 | AN6: 8
A7: 1 | B7: Бокситогорский | C7: =SUM(D7:K7) -> 59 | D7: 45 | E7: 10 | F7: 2 | G7: 1 | H7: 1 | L7: 61 | M7: 7 | N7: =D7*$D$6+E7*$E$6+F7*$F$6+G7*$G$6+H7*$H$6+I7*$I$6+J7*$J$6+K7*$K$6 -> 80 | O7: 12060 | P7: =D7*$D$28+E7*$E$28+F7*$F$28+G7*$G$28+H7*$H$28+I7*$I$28+J7*$J$28+K7*$K$28+M7*O7/1000 -> 855.42 | Q7: =P7*0.271 -> 231.81882 | R7: =ROUND((P7+Q7)*12,1) -> 13046.9 | S7: 14240.5 | T7: =ROUND(S7*1.04,1) -> 14810.1 | U7: =R7 -> 13046.9 | V7: =U7 -> 13046.9 | W7: =V7 -> 13046.9 | X7: 61 | Y7: =C7-X7 -> -2 | AA7: =U7*1000 -> 13046900 | AB7: =AA7 -> 13046900 | AC7: =AB7 -> 13046900 | AF7: =SUM(AG7:AN7) -> 61 | AG7: 45 | AH7: 10 | AI7: 3 | AJ7: 2 | AK7: 1 | AO7: 11 | AP7: =AG7*$D$6+AH7*$E$6+AI7*$F$6+AJ7*$G$6+AK7*$H$6+AL7*$I$6+AM7*$J$6+AN7*$K$6 -> 87
A8: 2 | B8: Волосовский | C8: =SUM(D8:K8) -> 35 | D8: 24 | E8: 8 | F8: 3 | L8: 37 | M8: 7 | N8: =D8*$D$6+E8*$E$6+F8*$F$6+G8*$G$6+H8*$H$6+I8*$I$6+J8*$J$6+K8*$K$6 -> 49 | O8: 12060 | P8: =D8*$D$28+E8*$E$28+F8*$F$28+G8*$G$28+H8*$H$28+I8*$I$28+J8*$J$28+K8*$K$28+M8*O8/1000 -> 546.42 | Q8: =P8*0.271 -> 148.07982 | R8: =ROUND((P8+Q8)*12,1) -> 8334 | S8: 7504 | T8: =ROUND(S8*1.04,1) -> 7804.2 | U8: =R8 -> 8334 | V8: =U8 -> 8334 | W8: =V8 -> 8334 | X8: 37 | Y8: =C8-X8 -> -2 | AA8: =U8*1000 -> 8334000 | AB8: =AA8 -> 8334000 | AC8: =AB8 -> 8334000 | AF8: =SUM(AG8:AN8) -> 37 | AG8: 24 | AH8: 10 | AI8: 3 | AO8: 0 | AP8: =AG8*$D$6+AH8*$E$6+AI8*$F$6+AJ8*$G$6+AK8*$H$6+AL8*$I$6+AM8*$J$6+AN8*$K$6 -> 53
A9: 3 | B9: Волховский | C9: =SUM(D9:K9) -> 57 | D9: 44 | E9: 9 | F9: 3 | G9: 1 | L9: 66 | M9: 25 | N9: =D9*$D$6+E9*$E$6+F9*$F$6+G9*$G$6+H9*$H$6+I9*$I$6+J9*$J$6+K9*$K$6 -> 75 | O9: 12060 | P9: =D9*$D$28+E9*$E$28+F9*$F$28+G9*$G$28+H9*$H$28+I9*$I$28+J9*$J$28+K9*$K$28+M9*O9/1000 -> 1039.5 | Q9: =P9*0.271 -> 281.7045 | R9: =ROUND((P9+Q9)*12,1) -> 15854.5 | S9: 17670.8 | T9: =ROUND(S9*1.04,1) -> 18377.6 | U9: =R9 -> 15854.5 | V9: =U9 -> 15854.5 | W9: =V9 -> 15854.5 | X9: 66 | Y9: =C9-X9 -> -9 | AA9: =U9*1000 -> 15854500 | AB9: =AA9 -> 15854500 | AC9: =AB9 -> 15854500 | AF9: =SUM(AG9:AN9) -> 66 | AG9: 53 | AH9: 8 | AI9: 3 | AJ9: 1 | AK9: 1 | AL9: 0 | AM9: 0 | AN9: 0 | AO9: 27 | AP9: =AG9*$D$6+AH9*$E$6+AI9*$F$6+AJ9*$G$6+AK9*$H$6+AL9*$I$6+AM9*$J$6+AN9*$K$6 -> 87
A10: 4 | B10: Всеволожский | C10: =SUM(D10:K10) -> 182 | D10: 134 | E10: 32 | F10: 12 | G10: 3 | H10: 1 | L10: 152 | M10: 102 | N10: =D10*$D$6+E10*$E$6+F10*$F$6+G10*$G$6+H10*$H$6+I10*$I$6+J10*$J$6+K10*$K$6 -> 251 | O10: 12060 | P10: =D10*$D$28+E10*$E$28+F10*$F$28+G10*$G$28+H10*$H$28+I10*$I$28+J10*$J$28+K10*$K$28+M10*O10/1000 -> 3621.12 | Q10: =P10*0.271 -> 981.32352 | R10: =ROUND((P10+Q10)*12,1) -> 55229.3 | S10: 44032.6 | T10: =ROUND(S10*1.04,1) -> 45793.9 | U10: =R10 -> 55229.3 | V10: =U10 -> 55229.3 | W10: =V10 -> 55229.3 | X10: 152 | Y10: =C10-X10 -> 30 | AA10: =U10*1000 -> 55229300 | AB10: =AA10 -> 55229300 | AC10: =AB10 -> 55229300 | AF10: =SUM(AG10:AN10) -> 152 | AG10: 117 | AH10: 27 | AI10: 5 | AJ10: 2 | AK10: 1 | AO10: 82 | AP10: =AG10*$D$6+AH10*$E$6+AI10*$F$6+AJ10*$G$6+AK10*$H$6+AL10*$I$6+AM10*$J$6+AN10*$K$6 -> 199
A11: 5 | B11: Выборгский | C11: =SUM(D11:K11) -> 89 | D11: 68 | E11: 12 | F11: 7 | G11: 2 | L11: 86 | M11: 40 | N11: =D11*$D$6+E11*$E$6+F11*$F$6+G11*$G$6+H11*$H$6+I11*$I$6+J11*$J$6+K11*$K$6 -> 121 | O11: 12060 | P11: =D11*$D$28+E11*$E$28+F11*$F$28+G11*$G$28+H11*$H$28+I11*$I$28+J11*$J$28+K11*$K$28+M11*O11/1000 -> 1646.4 | Q11: =P11*0.271 -> 446.1744 | R11: =ROUND((P11+Q11)*12,1) -> 25110.9 | S11: 21571.6 | T11: =ROUND(S11*1.04,1) -> 22434.5 | U11: =R11 -> 25110.9 | V11: =U11 -> 25110.9 | W11: =V11 -> 25110.9 | X11: 86 | Y11: =C11-X11 -> 3 | AA11: =U11*1000 -> 25110900 | AB11: =AA11 -> 25110900 | AC11: =AB11 -> 25110900 | AF11: =SUM(AG11:AN11) -> 86 | AG11: 65 | AH11: 14 | AI11: 5 | AJ11: 2 | AO11: 26 | AP11: =AG11*$D$6+AH11*$E$6+AI11*$F$6+AJ11*$G$6+AK11*$H$6+AL11*$I$6+AM11*$J$6+AN11*$K$6 -> 116
A12: 6 | B12: Гатчинский | C12: =SUM(D12:K12) -> 76 | D12: 32 | E12: 18 | F12: 10 | G12: 6 | H12: 4 | I12: 3 | J12: 0 | K12: 3 | L12: 65 | M12: 85 | N12: =D12*$D$6+E12*$E$6+F12*$F$6+G12*$G$6+H12*$H$6+I12*$I$6+J12*$J$6+K12*$K$6 -> 184 | O12: 12060 | P12: =D12*$D$28+E12*$E$28+F12*$F$28+G12*$G$28+H12*$H$28+I12*$I$28+J12*$J$28+K12*$K$28+M12*O12/1000 -> 2261.1 | Q12: =P12*0.271 -> 612.7581 | R12: =ROUND((P12+Q12)*12,1) -> 34486.3 | S12: 26601.4 | T12: =ROUND(S12*1.04,1) -> 27665.5 | U12: =R12 -> 34486.3 | V12: =U12 -> 34486.3 | W12: =V12 -> 34486.3 | X12: 65 | Y12: =C12-X12 -> 11 | AA12: =U12*1000 -> 34486300 | AB12: =AA12 -> 34486300 | AC12: =AB12 -> 34486300 | AF12: =SUM(AG12:AN12) -> 65 | AG12: 26 | AH12: 18 | AI12: 8 | AJ12: 5 | AK12: 3 | AL12: 3 | AM12: 1 | AN12: 1 | AO12: 62 | AP12: =AG12*$D$6+AH12*$E$6+AI12*$F$6+AJ12*$G$6+AK12*$H$6+AL12*$I$6+AM12*$J$6+AN12*$K$6 -> 154
A13: 7 | B13: Кингисеппский | C13: =SUM(D13:K13) -> 27 | D13: 22 | E13: 3 | F13: 2 | L13: 25 | M13: 16 | N13: =D13*$D$6+E13*$E$6+F13*$F$6+G13*$G$6+H13*$H$6+I13*$I$6+J13*$J$6+K13*$K$6 -> 34 | O13: 12060 | P13: =D13*$D$28+E13*$E$28+F13*$F$28+G13*$G$28+H13*$H$28+I13*$I$28+J13*$J$28+K13*$K$28+M13*O13/1000 -> 537.96 | Q13: =P13*0.271 -> 145.78716 | R13: =ROUND((P13+Q13)*12,1) -> 8205 | S13: 7125.3 | T13: =ROUND(S13*1.04,1) -> 7410.3 | U13: =R13 -> 8205 | V13: =U13 -> 8205 | W13: =V13 -> 8205 | X13: 25 | Y13: =C13-X13 -> 2 | AA13: =U13*1000 -> 8205000 | AB13: =AA13 -> 8205000 | AC13: =AB13 -> 8205000 | AF13: =SUM(AG13:AN13) -> 25 | AG13: 20 | AH13: 3 | AI13: 2 | AJ13: 0 | AO13: 13 | AP13: =AG13*$D$6+AH13*$E$6+AI13*$F$6+AJ13*$G$6+AK13*$H$6+AL13*$I$6+AM13*$J$6+AN13*$K$6 -> 32
A14: 8 | B14: Киришский | C14: =SUM(D14:K14) -> 46 | D14: 36 | E14: 8 | F14: 1 | K14: 1 | L14: 42 | M14: 18 | N14: =D14*$D$6+E14*$E$6+F14*$F$6+G14*$G$6+H14*$H$6+I14*$I$6+J14*$J$6+K14*$K$6 -> 63 | O14: 12060 | P14: =D14*$D$28+E14*$E$28+F14*$F$28+G14*$G$28+H14*$H$28+I14*$I$28+J14*$J$28+K14*$K$28+M14*O14/1000 -> 820.08 | Q14: =P14*0.271 -> 222.24168 | R14: =ROUND((P14+Q14)*12,1) -> 12507.9 | S14: 8533.3 | T14: =ROUND(S14*1.04,1) -> 8874.6 | U14: =R14 -> 12507.9 | V14: =U14 -> 12507.9 | W14: =V14 -> 12507.9 | X14: 42 | Y14: =C14-X14 -> 4 | AA14: =U14*1000 -> 12507900 | AB14: =AA14 -> 12507900 | AC14: =AB14 -> 12507900 | AF14: =SUM(AG14:AN14) -> 42 | AG14: 35 | AH14: 6 | AL14: 1 | AO14: 2 | AP14: =AG14*$D$6+AH14*$E$6+AI14*$F$6+AJ14*$G$6+AK14*$H$6+AL14*$I$6+AM14*$J$6+AN14*$K$6 -> 53
A15: 9 | B15: Кировский | C15: =SUM(D15:K15) -> 25 | D15: 19 | E15: 5 | F15: 1 | L15: 25 | M15: 3 | N15: =D15*$D$6+E15*$E$6+F15*$F$6+G15*$G$6+H15*$H$6+I15*$I$6+J15*$J$6+K15*$K$6 -> 32 | O15: 12060 | P15: =D15*$D$28+E15*$E$28+F15*$F$28+G15*$G$28+H15*$H$28+I15*$I$28+J15*$J$28+K15*$K$28+M15*O15/1000 -> 357.18 | Q15: =P15*0.271 -> 96.79578 | R15: =ROUND((P15+Q15)*12,1) -> 5447.7 | S15: 4804.4 | T15: =ROUND(S15*1.04,1) -> 4996.6 | U15: =R15 -> 5447.7 | V15: =U15 -> 5447.7 | W15: =V15 -> 5447.7 | X15: 25 | Y15: =C15-X15 -> 0 | AA15: =U15*1000 -> 5447700 | AB15: =AA15 -> 5447700 | AC15: =AB15 -> 5447700 | AF15: =SUM(AG15:AN15) -> 25 | AG15: 21 | AH15: 3 | AI15: 1 | AO15: 0 | AP15: =AG15*$D$6+AH15*$E$6+AI15*$F$6+AJ15*$G$6+AK15*$H$6+AL15*$I$6+AM15*$J$6+AN15*$K$6 -> 30
A16: 10 | B16: Лодейнопольский | C16: =SUM(D16:K16) -> 48 | D16: 35 | E16: 12 | K16: 1 | L16: 33 | M16: 15 | N16: =D16*$D$6+E16*$E$6+F16*$F$6+G16*$G$6+H16*$H$6+I16*$I$6+J16*$J$6+K16*$K$6 -> 67 | O16: 12060 | P16: =D16*$D$28+E16*$E$28+F16*$F$28+G16*$G$28+H16*$H$28+I16*$I$28+J16*$J$28+K16*$K$28+M16*O16/1000 -> 813.9 | Q16: =P16*0.271 -> 220.5669 | R16: =ROUND((P16+Q16)*12,1) -> 12413.6 | S16: 8018.1 | T16: =ROUND(S16*1.04,1) -> 8338.8 | U16: =R16 -> 12413.6 | V16: =U16 -> 12413.6 | W16: =V16 -> 12413.6 | X16: 33 | Y16: =C16-X16 -> 15 | AA16: =U16*1000 -> 12413600 | AB16: =AA16 -> 12413600 | AC16: =AB16 -> 12413600 | AF16: =SUM(AG16:AN16) -> 33 | AG16: 22 | AH16: 10 | AN16: 1 | AO16: 7 | AP16: =AG16*$D$6+AH16*$E$6+AI16*$F$6+AJ16*$G$6+AK16*$H$6+AL16*$I$6+AM16*$J$6+AN16*$K$6 -> 50
A17: 11 | B17: Ломоносовский | C17: =SUM(D17:K17) -> 31 | D17: 19 | E17: 9 | F17: 1 | G17: 2 | L17: 23 | M17: 8 | N17: =D17*$D$6+E17*$E$6+F17*$F$6+G17*$G$6+H17*$H$6+I17*$I$6+J17*$J$6+K17*$K$6 -> 48 | O17: 12060 | P17: =D17*$D$28+E17*$E$28+F17*$F$28+G17*$G$28+H17*$H$28+I17*$I$28+J17*$J$28+K17*$K$28+M17*O17/1000 -> 519.48 | Q17: =P17*0.271 -> 140.77908 | R17: =ROUND((P17+Q17)*12,1) -> 7923.1 | S17: 5661.8 | T17: =ROUND(S17*1.04,1) -> 5888.3 | U17: =R17 -> 7923.1 | V17: =U17 -> 7923.1 | W17: =V17 -> 7923.1 | X17: 23 | Y17: =C17-X17 -> 8 | AA17: =U17*1000 -> 7923100 | AB17: =AA17 -> 7923100 | AC17: =AB17 -> 7923100 | AF17: =SUM(AG17:AN17) -> 23 | AG17: 14 | AH17: 6 | AI17: 2 | AJ17: 1 | AO17: 5 | AP17: =AG17*$D$6+AH17*$E$6+AI17*$F$6+AJ17*$G$6+AK17*$H$6+AL17*$I$6+AM17*$J$6+AN17*$K$6 -> 36
A18: 12 | B18: Лужский | C18: =SUM(D18:K18) -> 95 | D18: 63 | E18: 25 | F18: 4 | G18: 3 | L18: 86 | M18: 5 | N18: =D18*$D$6+E18*$E$6+F18*$F$6+G18*$G$6+H18*$H$6+I18*$I$6+J18*$J$6+K18*$K$6 -> 137 | O18: 12060 | P18: =D18*$D$28+E18*$E$28+F18*$F$28+G18*$G$28+H18*$H$28+I18*$I$28+J18*$J$28+K18*$K$28+M18*O18/1000 -> 1326.3 | Q18: =P18*0.271 -> 359.4273 | R18: =ROUND((P18+Q18)*12,1) -> 20228.7 | S18: 17295.8 | T18: =ROUND(S18*1.04,1) -> 17987.6 | U18: =R18 -> 20228.7 | V18: =U18 -> 20228.7 | W18: =V18 -> 20228.7 | X18: 86 | Y18: =C18-X18 -> 9 | AA18: =U18*1000 -> 20228700 | AB18: =AA18 -> 20228700 | AC18: =AB18 -> 20228700 | AF18: =SUM(AG18:AN18) -> 86 | AG18: 60 | AH18: 21 | AI18: 3 | AJ18: 1 | AK18: 1 | AO18: 0 | AP18: =AG18*$D$6+AH18*$E$6+AI18*$F$6+AJ18*$G$6+AK18*$H$6+AL18*$I$6+AM18*$J$6+AN18*$K$6 -> 120
A19: 13 | B19: Подпорожский | C19: =SUM(D19:K19) -> 33 | D19: 24 | E19: 5 | F19: 1 | H19: 1 | I19: 1 | J19: 1 | L19: 28 | M19: 35 | N19: =D19*$D$6+E19*$E$6+F19*$F$6+G19*$G$6+H19*$H$6+I19*$I$6+J19*$J$6+K19*$K$6 -> 55 | O19: 12060 | P19: =D19*$D$28+E19*$E$28+F19*$F$28+G19*$G$28+H19*$H$28+I19*$I$28+J19*$J$28+K19*$K$28+M19*O19/1000 -> 884.1 | Q19: =P19*0.271 -> 239.5911 | R19: =ROUND((P19+Q19)*12,1) -> 13484.3 | S19: 10715.9 | T19: =ROUND(S19*1.04,1) -> 11144.5 | U19: =R19 -> 13484.3 | V19: =U19 -> 13484.3 | W19: =V19 -> 13484.3 | X19: 28 | Y19: =C19-X19 -> 5 | AA19: =U19*1000 -> 13484300 | AB19: =AA19 -> 13484300 | AC19: =AB19 -> 13484300 | AF19: =SUM(AG19:AN19) -> 28 | AG19: 19 | AH19: 5 | AI19: 1 | AJ19: 1 | AL19: 1 | AM19: 1 | AO19: 27 | AP19: =AG19*$D$6+AH19*$E$6+AI19*$F$6+AJ19*$G$6+AK19*$H$6+AL19*$I$6+AM19*$J$6+AN19*$K$6 -> 49
A20: 14 | B20: Приозерский | C20: =SUM(D20:K20) -> 37 | D20: 32 | E20: 3 | F20: 1 | H20: 1 | L20: 39 | M20: 19 | N20: =D20*$D$6+E20*$E$6+F20*$F$6+G20*$G$6+H20*$H$6+I20*$I$6+J20*$J$6+K20*$K$6 -> 46 | O20: 12060 | P20: =D20*$D$28+E20*$E$28+F20*$F$28+G20*$G$28+H20*$H$28+I20*$I$28+J20*$J$28+K20*$K$28+M20*O20/1000 -> 700.14 | Q20: =P20*0.271 -> 189.73794 | R20: =ROUND((P20+Q20)*12,1) -> 10678.5 | S20: 11802.9 | T20: =ROUND(S20*1.04,1) -> 12275 | U20: =R20 -> 10678.5 | V20: =U20 -> 10678.5 | W20: =V20 -> 10678.5 | X20: 39 | Y20: =C20-X20 -> -2 | AA20: =U20*1000 -> 10678500 | AB20: =AA20 -> 10678500 | AC20: =AB20 -> 10678500 | AF20: =SUM(AG20:AN20) -> 39 | AG20: 31 | AH20: 6 | AI20: 1 | AK20: 1 | AO20: 24 | AP20: =AG20*$D$6+AH20*$E$6+AI20*$F$6+AJ20*$G$6+AK20*$H$6+AL20*$I$6+AM20*$J$6+AN20*$K$6 -> 51
A21: 15 | B21: Сланцевский | C21: =SUM(D21:K21) -> 25 | D21: 9 | E21: 10 | F21: 4 | G21: 1 | H21: 1 | L21: 31 | M21: 27 | N21: =D21*$D$6+E21*$E$6+F21*$F$6+G21*$G$6+H21*$H$6+I21*$I$6+J21*$J$6+K21*$K$6 -> 50 | O21: 12060 | P21: =D21*$D$28+E21*$E$28+F21*$F$28+G21*$G$28+H21*$H$28+I21*$I$28+J21*$J$28+K21*$K$28+M21*O21/1000 -> 700.62 | Q21: =P21*0.271 -> 189.86802 | R21: =ROUND((P21+Q21)*12,1) -> 10685.9 | S21: 12522.7 | T21: =ROUND(S21*1.04,1) -> 13023.6 | U21: =R21 -> 10685.9 | V21: =U21 -> 10685.9 | W21: =V21 -> 10685.9 | X21: 31 | Y21: =C21-X21 -> -6 | AA21: =U21*1000 -> 10685900 | AB21: =AA21 -> 10685900 | AC21: =AB21 -> 10685900 | AF21: =SUM(AG21:AN21) -> 31 | AG21: 15 | AH21: 10 | AI21: 3 | AJ21: 2 | AK21: 1 | AO21: 33 | AP21: =AG21*$D$6+AH21*$E$6+AI21*$F$6+AJ21*$G$6+AK21*$H$6+AL21*$I$6+AM21*$J$6+AN21*$K$6 -> 57
A22: 16 | B22: Тихвинский | C22: =SUM(D22:K22) -> 52 | D22: 44 | E22: 5 | F22: 3 | L22: 48 | M22: 28 | N22: =D22*$D$6+E22*$E$6+F22*$F$6+G22*$G$6+H22*$H$6+I22*$I$6+J22*$J$6+K22*$K$6 -> 63 | O22: 12060 | P22: =D22*$D$28+E22*$E$28+F22*$F$28+G22*$G$28+H22*$H$28+I22*$I$28+J22*$J$28+K22*$K$28+M22*O22/1000 -> 994.68 | Q22: =P22*0.271 -> 269.55828 | R22: =ROUND((P22+Q22)*12,1) -> 15170.9 | S22: 13232.8 | T22: =ROUND(S22*1.04,1) -> 13762.1 | U22: =R22 -> 15170.9 | V22: =U22 -> 15170.9 | W22: =V22 -> 15170.9 | X22: 48 | Y22: =C22-X22 -> 4 | AA22: =U22*1000 -> 15170900 | AB22: =AA22 -> 15170900 | AC22: =AB22 -> 15170900 | AF22: =SUM(AG22:AN22) -> 48 | AG22: 40 | AH22: 5 | AI22: 3 | AO22: 23 | AP22: =AG22*$D$6+AH22*$E$6+AI22*$F$6+AJ22*$G$6+AK22*$H$6+AL22*$I$6+AM22*$J$6+AN22*$K$6 -> 59
A23: 17 | B23: Тосненский | C23: =SUM(D23:K23) -> 44 | D23: 30 | E23: 9 | F23: 1 | G23: 3 | I23: 1 | L23: 45 | M23: 30 | N23: =D23*$D$6+E23*$E$6+F23*$F$6+G23*$G$6+H23*$H$6+I23*$I$6+J23*$J$6+K23*$K$6 -> 69 | O23: 12060 | P23: =D23*$D$28+E23*$E$28+F23*$F$28+G23*$G$28+H23*$H$28+I23*$I$28+J23*$J$28+K23*$K$28+M23*O23/1000 -> 964.8 | Q23: =P23*0.271 -> 261.4608 | R23: =ROUND((P23+Q23)*12,1) -> 14715.1 | S23: 14010.3 | T23: =ROUND(S23*1.04,1) -> 14570.7 | U23: =R23 -> 14715.1 | V23: =U23 -> 14715.1 | W23: =V23 -> 14715.1 | X23: 45 | Y23: =C23-X23 -> -1 | AA23: =U23*1000 -> 14715100 | AB23: =AA23 -> 14715100 | AC23: =AB23 -> 14715100 | AF23: =SUM(AG23:AN23) -> 45 | AG23: 31 | AH23: 10 | AJ23: 2 | AK23: 1 | AL23: 1 | AO23: 27 | AP23: =AG23*$D$6+AH23*$E$6+AI23*$F$6+AJ23*$G$6+AK23*$H$6+AL23*$I$6+AM23*$J$6+AN23*$K$6 -> 70
A24: 18 | B24: Сосновоборский | C24: =SUM(D24:K24) -> 17 | D24: 9 | E24: 4 | F24: 2 | G24: 1 | K24: 1 | L24: 19 | M24: 13 | N24: =D24*$D$6+E24*$E$6+F24*$F$6+G24*$G$6+H24*$H$6+I24*$I$6+J24*$J$6+K24*$K$6 -> 35 | O24: 12060 | P24: =D24*$D$28+E24*$E$28+F24*$F$28+G24*$G$28+H24*$H$28+I24*$I$28+J24*$J$28+K24*$K$28+M24*O24/1000 -> 414.78 | Q24: =P24*0.271 -> 112.40538 | R24: =ROUND((P24+Q24)*12,1) -> 6326.2 | S24: 5890.3 | T24: =ROUND(S24*1.04,1) -> 6125.9 | U24: =R24 -> 6326.2 | V24: =U24 -> 6326.2 | W24: =V24 -> 6326.2 | X24: 19 | Y24: =C24-X24 -> -2 | AA24: =U24*1000 -> 6326200 | AB24: =AA24 -> 6326200 | AC24: =AB24 -> 6326200 | AF24: =SUM(AG24:AN24) -> 19 | AG24: 9 | AH24: 6 | AI24: 3 | AN24: 1 | AO24: 9 | AP24: =AG24*$D$6+AH24*$E$6+AI24*$F$6+AJ24*$G$6+AK24*$H$6+AL24*$I$6+AM24*$J$6+AN24*$K$6 -> 38
A25: 19 | B25: ВСЕГО | C25: =SUM(C7:C24) -> 978 | D25: =SUM(D7:D24) -> 689 | E25: =SUM(E7:E24) -> 187 | F25: =SUM(F7:F24) -> 58 | G25: =SUM(G7:G24) -> 23 | H25: =SUM(H7:H24) -> 9 | I25: =SUM(I7:I24) -> 5 | J25: =SUM(J7:J24) -> 1 | ... N25: =SUM(N7:N24) -> 1459 | O25: 6580 | P25: =SUM(P7:P24) -> 19003.98 | Q25: =SUM(Q7:Q24) -> 5150.0786 | R25: =SUM(R7:R24) -> 289848.8 | S25: =SUM(S7:S24) -> 251234.5 | T25: =SUM(T7:T24) -> 261283.8 | U25: =SUM(U7:U24) -> 289848.8 | V25: =SUM(V7:V24) -> 289848.8 | W25: =SUM(W7:W24) -> 289848.8 | ... Y25: =SUM(Y7:Y24) -> 67 | AA25: =SUM(AA7:AA24) -> 289848800 | AB25: =SUM(AB7:AB24) -> 289848800 | AC25: =SUM(AC7:AC24) -> 289848800 | AF25: =SUM(AF7:AF24) -> 911 | AP25: =SUM(AP7:AP24) -> 1341
A26: 1 | B26: 2 | C26: 3 | D26: 4 | E26: 5 | F26: 6 | G26: 7 | H26: 8 | I26: 9 | J26: 10 | K26: 11 | L26: 12 | M26: 13 | N26: 14 | O26: 15 | P26: 16 | Q26: 17 | R26: =R25/S25-100% -> 0.15369824 | T26: =T25/S25-100% -> 0.039999682 | AF26: =C25-AF25 -> 67 | AG26: =D25-AG25 -> 689 | AH26: =E25-AH25 -> 187 | AI26: =F25-AI25 -> 58 | AJ26: =G25-AJ25 -> 23 | AK26: =H25-AK25 -> 9 | AL26: =I25-AL25 -> 5 | AM26: =J25-AM25 -> 1 | AN26: =K25-AN25 -> 6 | AO26: =M25-AO25 -> 483 | AP26: =M25-AP25 -> -858
A27: 1 | B27: 2 | C27: 3 | D27: 4 | E27: 5 | F27: 6 | G27: 7 | H27: 8 | I27: 9 | J27: 10 | K27: 11 | L27: 12 | M27: 13 | N27: 14 | O27: 15 | P27: 16 | Q27: 17 | R27: 18 | S27: 21 | X27: 23 | Y27: 24
B28: Планируемый размер вознаграждения, причитающееся приемному родителю, тыс. руб. | D28: 12 | E28: 15 | F28: 18 | G28: 21 | H28: 24 | I28: 27 | J28: 30 | K28: 33

Sheet Единовре_ФБ (проект)
A1: РАСЧЕТ ОБЪЕМА СУБВЕНЦИИ БЮДЖЕТАМ МУНИЦИПАЛЬНЫХ ОБРАЗОВАНИЙ НА ОСУЩЕСТВЛЕНИЕ ОТДЕЛЬНЫХ ГОСУДАРСТВЕННЫХ ПОЛНОМОЧИЙ ЛЕНИНГРАДСКОЙ ОБЛАСТИ ПО ВЫПЛАТЕ ЕДИНОВРЕМЕННОГО ПОСОБИЯ ПРИ ВСЕХ ФОРМАХ УСТРОЙСТВА ДЕТЕЙ, ЛИШЕННЫХ РОДИТЕЛЬСКОГО ПОПЕЧЕНИЯ, В СЕМЬЮ НА 2021 ГОД
B2: 5335260 | M2: 1000
A3: № | B3: Наименование муниципальных районов и городского поселения | C3: Всего устраиваемых детей в семью | D3: Общее количество детей-сирот и детей, оставшихся без попечения родителей, устраиваемых в семью | G3: Размер единовременного пособия при всех формах устройства детей, лишенного родительского попечения, в семью, руб. | H3: Итого на 2021 год, тыс.руб. | I3: Для получения единовременной выплаты при усыновлении детей-инвалидов, детей, старше семи лет, а также братьев и сестер | J3: Всего, планируемых к устройству в семью человек | K3: Размер единовременной выплаты, руб. | L3: Итого | M3: Общая потребность в средствах на 2021 год, руб. | N3: Утверждено в областном законе на 2020 год | O3: Утверждено в областном законе на 2021 год | P3: проект распределения ассигнований на 2021 | Q3: Утверждено в областном законе на 2022 год | R3: проект распределения ассигнований на 2022 | S3: проект распределения ассигнований на 2023 | T3: в проект бюджета на 2021-2023гг | AC3: Всего устраиваемых детей в семью, 2020 | AD3: Общее количество детей-сирот и детей, оставшихся без попечения родителей, устраиваемых в семью
D4: под опеку (попечительство) | E4: в приемную семью | F4: Усыновляемых | T4: 2021 | U4: 2022 | V4: 2023 | X4: в АЦК | AD4: под опеку (попечительство) | AE4: в приемную семью | AF4: Усыновляемых | AG4: изменения
A5: 1 | B5: Бокситогорский | C5: =D5+E5+F5 -> 15 | D5: 10 | E5: 5 | G5: 18869.72 | H5: =ROUND(C5*G5/1000,1) -> 283 | I5: 0 | J5: =I5+C5 -> 15 | K5: 144180 | L5: =ROUND(K5*I5/1000,1) -> 0 | M5: =ROUND((L5+H5),1)*$M$2 -> 283000 | N5: 405.3 | O5: 427.2 | P5: =ROUNDDOWN(M5*$O$24,-2) -> 291100 | Q5: 0 | R5: =ROUND(M5*$Q$24,-2) -> 300400 | S5: =ROUNDDOWN(M5*$S$24,-2) -> 309800 | T5: =P5/1000 -> 291.1 | U5: =R5/1000 -> 300.4 | V5: =S5/1000 -> 309.8 | X5: =T5*1000 -> 291100 | Y5: =U5*1000 -> 300400 | Z5: =V5*1000 -> 309800 | AC5: =AD5+AE5+AF5 -> 22 | AD5: 13 | AE5: 6 | AF5: 3 | AG5: =C5-AC5 -> -7
A6: 2 | B6: Волосовский | C6: =D6+E6+F6 -> 10 | D6: 4 | E6: 4 | F6: 2 | G6: 18869.72 | H6: =ROUND(C6*G6/1000,1) -> 188.7 | I6: 1 | J6: =I6+C6 -> 11 | K6: 144180 | L6: =ROUND(K6*I6/1000,1) -> 144.2 | M6: =ROUND((L6+H6),1)*$M$2 -> 332900 | N6: 417 | O6: 419.9 | P6: =ROUND(M6*$O$24,-2) -> 342500 | Q6: 493.7 | R6: =ROUND(M6*$Q$24,-2) -> 353300 | S6: =ROUNDDOWN(M6*$S$24,-2) -> 364400 | T6: =P6/1000 -> 342.5 | U6: =R6/1000 -> 353.3 | V6: =S6/1000 -> 364.4 | X6: =T6*1000 -> 342500 | Y6: =U6*1000 -> 353300 | Z6: =V6*1000 -> 364400 | AC6: =AD6+AE6+AF6 -> 15 | AD6: 8 | AE6: 6 | AF6: 1 | AG6: =C6-AC6 -> -5
A7: 3 | B7: Волховский | C7: =D7+E7+F7 -> 22 | D7: 11 | E7: 6 | F7: 5 | G7: 18869.72 | H7: =ROUND(C7*G7/1000,1) -> 415.1 | I7: 1 | J7: =I7+C7 -> 23 | K7: 144180 | L7: =ROUND(K7*I7/1000,1) -> 144.2 | M7: =ROUND((L7+H7),1)*$M$2 -> 559300 | N7: 674.9 | O7: 745.4 | P7: =ROUND(M7*$O$24,-2) -> 575500 | Q7: 799.1 | R7: =ROUND(M7*$Q$24,-2) -> 593600 | S7: =ROUNDDOWN(M7*$S$24,-2) -> 612300 | T7: =P7/1000 -> 575.5 | U7: =R7/1000 -> 593.6 | V7: =S7/1000 -> 612.3 | X7: =T7*1000 -> 575500 | Y7: =U7*1000 -> 593600 | Z7: =V7*1000 -> 612300 | AC7: =AD7+AE7+AF7 -> 29 | AD7: 17 | AE7: 10 | AF7: 2 | AG7: =C7-AC7 -> -7
A8: 4 | B8: Всеволожский | C8: =D8+E8+F8 -> 86 | D8: 40 | E8: 35 | F8: 11 | G8: 18869.72 | H8: =ROUND(C8*G8/1000,1) -> 1622.8 | I8: 4 | J8: =I8+C8 -> 90 | K8: 144180 | L8: =ROUND(K8*I8/1000,1) -> 576.7 | M8: =ROUND((L8+H8),1)*$M$2 -> 2199500 | N8: 2048.4 | O8: 2262.2 | P8: =ROUNDDOWN(M8*$O$24,-2) -> 2263100 | Q8: 2425.1 | R8: =ROUNDDOWN(M8*$Q$24,-2) -> 2334500 | S8: =ROUNDDOWN(M8*$S$24,-2) -> 2407900 | T8: =P8/1000 -> 2263.1 | U8: =R8/1000 -> 2334.5 | V8: =S8/1000 -> 2407.9 | X8: =T8*1000 -> 2263100 | Y8: =U8*1000 -> 2334500 | Z8: =V8*1000 -> 2407900 | AC8: =AD8+AE8+AF8 -> 73 | AD8: 42 | AE8: 21 | AF8: 10 | AG8: =C8-AC8 -> 13
A9: 5 | B9: Выборгский | C9: =D9+E9+F9 -> 36 | D9: 23 | E9: 10 | F9: 3 | G9: 18869.72 | H9: =ROUND(C9*G9/1000,1) -> 679.3 | I9: 0 | J9: =I9+C9 -> 36 | K9: 144180 | L9: =ROUND(K9*I9/1000,1) -> 0 | M9: =ROUND((L9+H9),1)*$M$2 -> 679300 | N9: 1105.2 | O9: 1220.6 | P9: =ROUND(M9*$O$24,-2) -> 699000 | Q9: 1308.5 | R9: =ROUND(M9*$Q$24,-2) -> 721000 | S9: =ROUNDDOWN(M9*$S$24,-2) -> 743600 | T9: =P9/1000 -> 699 | U9: =R9/1000 -> 721 | V9: =S9/1000 -> 743.6 | X9: =T9*1000 -> 699000 | Y9: =U9*1000 -> 721000 | Z9: =V9*1000 -> 743600 | AC9: =AD9+AE9+AF9 -> 36 | AD9: 23 | AE9: 10 | AF9: 3 | AG9: =C9-AC9 -> 0
A10: 6 | B10: Гатчинский | C10: =D10+E10+F10 -> 74 | D10: 47 | E10: 18 | F10: 9 | G10: 18869.72 | H10: =ROUND(C10*G10/1000,1) -> 1396.4 | I10: 5 | J10: =I10+C10 -> 79 | K10: 144180 | L10: =ROUND(K10*I10/1000,1) -> 720.9 | M10: =ROUND((L10+H10),1)*$M$2 -> 2117300 | N10: 1993.2 | O10: 2201.1 | P10: =ROUNDDOWN(M10*$O$24,-2) -> 2178600 | Q10: 2359.6 | R10: =ROUNDDOWN(M10*$Q$24,-2) -> 2247200 | S10: =ROUNDDOWN(M10*$S$24,-2) -> 2317900 | T10: =P10/1000 -> 2178.6 | U10: =R10/1000 -> 2247.2 | V10: =S10/1000 -> 2317.9 | X10: =T10*1000 -> 2178600 | Y10: =U10*1000 -> 2247200 | Z10: =V10*1000 -> 2317900 | AC10: =AD10+AE10+AF10 -> 70 | AD10: 45 | AE10: 15 | AF10: 10 | AG10: =C10-AC10 -> 4
A11: 7 | B11: Кингисеппский | C11: =D11+E11+F11 -> 8 | D11: 7 | E11: 1 | G11: 18869.72 | H11: =ROUND(C11*G11/1000,1) -> 151 | I11: 0 | J11: =I11+C11 -> 8 | K11: 144180 | L11: =ROUND(K11*I11/1000,1) -> 0 | M11: =ROUND((L11+H11),1)*$M$2 -> 151000 | N11: 147.4 | O11: 162.8 | P11: =ROUND(M11*$O$24,-2) -> 155400 | Q11: 174.5 | R11: =ROUND(M11*$Q$24,-2) -> 160300 | S11: =ROUND(M11*$S$24,-2) -> 165300 | T11: =P11/1000 -> 155.4 | U11: =R11/1000 -> 160.3 | V11: =S11/1000 -> 165.3 | X11: =T11*1000 -> 155400 | Y11: =U11*1000 -> 160300 | Z11: =V11*1000 -> 165300 | AC11: =AD11+AE11+AF11 -> 8 | AD11: 7 | AE11: 1 | AG11: =C11-AC11 -> 0
A12: 8 | B12: Киришский | C12: =D12+E12+F12 -> 22 | D12: 10 | E12: 6 | F12: 6 | G12: 18869.72 | H12: =ROUND(C12*G12/1000,1) -> 415.1 | I12: 1 | J12: =I12+C12 -> 23 | K12: 144180 | L12: =ROUND(K12*I12/1000,1) -> 144.2 | M12: =ROUND((L12+H12),1)*$M$2 -> 559300 | N12: 509.1 | O12: 562.3 | P12: =ROUND(M12*$O$24,-2) -> 575500 | Q12: 602.7 | R12: =ROUND(M12*$Q$24,-2) -> 593600 | S12: =ROUND(M12*$S$24,-2) -> 612300 | T12: =P12/1000 -> 575.5 | U12: =R12/1000 -> 593.6 | V12: =S12/1000 -> 612.3 | X12: =T12*1000 -> 575500 | Y12: =U12*1000 -> 593600 | Z12: =V12*1000 -> 612300 | AC12: =AD12+AE12+AF12 -> 20 | AD12: 10 | AE12: 6 | AF12: 4 | AG12: =C12-AC12 -> 2
A13: 9 | B13: Кировский | C13: =D13+E13+F13 -> 15 | D13: 9 | E13: 5 | F13: 1 | G13: 18869.72 | H13: =ROUND(C13*G13/1000,1) -> 283 | I13: 0 | J13: =I13+C13 -> 15 | K13: 144180 | L13: =ROUND(K13*I13/1000,1) -> 0 | M13: =ROUND((L13+H13),1)*$M$2 -> 283000 | N13: 257.9 | O13: 284.8 | P13: =ROUND(M13*$O$24,-2) -> 291200 | Q13: 305.3 | R13: =ROUND(M13*$Q$24,-2) -> 300400 | S13: =ROUND(M13*$S$24,-2) -> 309800 | T13: =P13/1000 -> 291.2 | U13: =R13/1000 -> 300.4 | V13: =S13/1000 -> 309.8 | X13: =T13*1000 -> 291200 | Y13: =U13*1000 -> 300400 | Z13: =V13*1000 -> 309800 | AC13: =AD13+AE13+AF13 -> 14 | AD13: 10 | AE13: 3 | AF13: 1 | AG13: =C13-AC13 -> 1
A14: 10 | B14: Лодейнопольский | C14: =D14+E14+F14 -> 10 | D14: 3 | E14: 7 | G14: 18869.72 | H14: =ROUND(C14*G14/1000,1) -> 188.7 | I14: 0 | J14: =I14+C14 -> 10 | K14: 144180 | L14: =ROUND(K14*I14/1000,1) -> 0 | M14: =ROUND((L14+H14),1)*$M$2 -> 188700 | N14: 184.2 | O14: 203.4 | P14: =ROUND(M14*$O$24,-2) -> 194200 | Q14: 218 | R14: =ROUND(M14*$Q$24,-2) -> 200300 | S14: =ROUND(M14*$S$24,-2) -> 206600 | T14: =P14/1000 -> 194.2 | U14: =R14/1000 -> 200.3 | V14: =S14/1000 -> 206.6 | X14: =T14*1000 -> 194200 | Y14: =U14*1000 -> 200300 | Z14: =V14*1000 -> 206600 | AC14: =AD14+AE14+AF14 -> 10 | AD14: 5 | AE14: 5 | AG14: =C14-AC14 -> 0
A15: 11 | B15: Ломоносовский | C15: =D15+E15+F15 -> 26 | D15: 20 | E15: 5 | F15: 1 | G15: 18869.72 | H15: =ROUND(C15*G15/1000,1) -> 490.6 | I15: 1 | J15: =I15+C15 -> 27 | K15: 144180 | L15: =ROUND(K15*I15/1000,1) -> 144.2 | M15: =ROUND((L15+H15),1)*$M$2 -> 634800 | N15: 693.3 | O15: 664 | P15: =ROUND(M15*$O$24,-2) -> 653200 | Q15: 711.7 | R15: =ROUND(M15*$Q$24,-2) -> 673800 | S15: =ROUND(M15*$S$24,-2) -> 695000 | T15: =P15/1000 -> 653.2 | U15: =R15/1000 -> 673.8 | V15: =S15/1000 -> 695 | X15: =T15*1000 -> 653200 | Y15: =U15*1000 -> 673800 | Z15: =V15*1000 -> 695000 | AC15: =AD15+AE15+AF15 -> 30 | AD15: 25 | AE15: 4 | AF15: 1 | AG15: =C15-AC15 -> -4
A16: 12 | B16: Лужский | C16: =D16+E16+F16 -> 20 | D16: 10 | E16: 8 | F16: 2 | G16: 18869.72 | H16: =ROUND(C16*G16/1000,1) -> 377.4 | I16: 0 | J16: =I16+C16 -> 20 | K16: 144180 | L16: =ROUND(K16*I16/1000,1) -> 0 | M16: =ROUND((L16+H16),1)*$M$2 -> 377400 | N16: 368.4 | O16: 406.9 | P16: =ROUND(M16*$O$24,-2) -> 388300 | Q16: 436.2 | R16: =ROUND(M16*$Q$24,-2) -> 400600 | S16: =ROUND(M16*$S$24,-2) -> 413200 | T16: =P16/1000 -> 388.3 | U16: =R16/1000 -> 400.6 | V16: =S16/1000 -> 413.2 | X16: =T16*1000 -> 388300 | Y16: =U16*1000 -> 400600 | Z16: =V16*1000 -> 413200 | AC16: =AD16+AE16+AF16 -> 20 | AD16: 10 | AE16: 8 | AF16: 2 | AG16: =C16-AC16 -> 0
A17: 13 | B17: Подпорожский | C17: =D17+E17+F17 -> 12 | D17: 6 | E17: 6 | F17: 0 | G17: 18869.72 | H17: =ROUND(C17*G17/1000,1) -> 226.4 | I17: 0 | J17: =I17+C17 -> 12 | K17: 144180 | L17: =ROUND(K17*I17/1000,1) -> 0 | M17: =ROUND((L17+H17),1)*$M$2 -> 226400 | N17: 398.6 | O17: 440.3 | P17: =ROUND(M17*$O$24,-2) -> 233000 | Q17: 471.8 | R17: =ROUND(M17*$Q$24,-2) -> 240300 | S17: =ROUND(M17*$S$24,-2) -> 247900 | T17: =P17/1000 -> 233 | U17: =R17/1000 -> 240.3 | V17: =S17/1000 -> 247.9 | X17: =T17*1000 -> 233000 | Y17: =U17*1000 -> 240300 | Z17: =V17*1000 -> 247900 | AC17: =AD17+AE17+AF17 -> 14 | AD17: 8 | AE17: 5 | AF17: 1 | AG17: =C17-AC17 -> -2
A18: 14 | B18: Приозерский | C18: =D18+E18+F18 -> 14 | D18: 10 | E18: 2 | F18: 2 | G18: 18869.72 | H18: =ROUND(C18*G18/1000,1) -> 264.2 | I18: 0 | J18: =I18+C18 -> 14 | K18: 144180 | L18: =ROUND(K18*I18/1000,1) -> 0 | M18: =ROUND((L18+H18),1)*$M$2 -> 264200 | N18: 349.9 | O18: 386.5 | P18: =ROUND(M18*$O$24,-2) -> 271900 | Q18: 414.4 | R18: =ROUND(M18*$Q$24,-2) -> 280400 | S18: =ROUND(M18*$S$24,-2) -> 289200 | T18: =P18/1000 -> 271.9 | U18: =R18/1000 -> 280.4 | V18: =S18/1000 -> 289.2 | X18: =T18*1000 -> 271900 | Y18: =U18*1000 -> 280400 | Z18: =V18*1000 -> 289200 | AC18: =AD18+AE18+AF18 -> 19 | AD18: 12 | AE18: 4 | AF18: 3 | AG18: =C18-AC18 -> -5
A19: 15 | B19: Сланцевский | C19: =D19+E19+F19 -> 12 | D19: 12 | G19: 18869.72 | H19: =ROUND(C19*G19/1000,1) -> 226.4 | I19: 0 | J19: =I19+C19 -> 12 | K19: 144180 | L19: =ROUND(K19*I19/1000,1) -> 0 | M19: =ROUND((L19+H19),1)*$M$2 -> 226400 | N19: 239.5 | O19: 264.4 | P19: =ROUND(M19*$O$24,-2) -> 233000 | Q19: 283.5 | R19: =ROUND(M19*$Q$24,-2) -> 240300 | S19: =ROUND(M19*$S$24,-2) -> 247900 | T19: =P19/1000 -> 233 | U19: =R19/1000 -> 240.3 | V19: =S19/1000 -> 247.9 | X19: =T19*1000 -> 233000 | Y19: =U19*1000 -> 240300 | Z19: =V19*1000 -> 247900 | AC19: =AD19+AE19+AF19 -> 13 | AD19: 10 | AE19: 3 | AG19: =C19-AC19 -> -1
A20: 16 | B20: Тихвинский | C20: =D20+E20+F20 -> 25 | D20: 17 | E20: 7 | F20: 1 | G20: 18869.72 | H20: =ROUND(C20*G20/1000,1) -> 471.7 | I20: 1 | J20: =I20+C20 -> 26 | K20: 144180 | L20: =ROUND(K20*I20/1000,1) -> 144.2 | M20: =ROUND((L20+H20),1)*$M$2 -> 615900 | N20: 509.1 | O20: 427.2 | P20: =ROUND(M20*$O$24,-2) -> 633700 | Q20: 479.7 | R20: =ROUND(M20*$Q$24,-2) -> 653700 | S20: =ROUND(M20*$S$24,-2) -> 674300 | T20: =P20/1000 -> 633.7 | U20: =R20/1000 -> 653.7 | V20: =S20/1000 -> 674.3 | X20: =T20*1000 -> 633700 | Y20: =U20*1000 -> 653700 | Z20: =V20*1000 -> 674300 | AC20: =AD20+AE20+AF20 -> 20 | AD20: 14 | AE20: 5 | AF20: 1 | AG20: =C20-AC20 -> 5
A21: 17 | B21: Тосненский | C21: =D21+E21+F21 -> 30 | D21: 20 | E21: 6 | F21: 4 | G21: 18869.72 | H21: =ROUND(C21*G21/1000,1) -> 566.1 | I21: 1 | J21: =I21+C21 -> 31 | K21: 144180 | L21: =ROUND(K21*I21/1000,1) -> 144.2 | M21: =ROUND((L21+H21),1)*$M$2 -> 710300 | N21: 767 | O21: 847.1 | P21: =ROUND(M21*$O$24,-2) -> 730900 | Q21: 908 | R21: =ROUND(M21*$Q$24,-2) -> 753900 | S21: =ROUND(M21*$S$24,-2) -> 777600 | T21: =P21/1000 -> 730.9 | U21: =R21/1000 -> 753.9 | V21: =S21/1000 -> 777.6 | X21: =T21*1000 -> 730900 | Y21: =U21*1000 -> 753900 | Z21: =V21*1000 -> 777600 | AC21: =AD21+AE21+AF21 -> 34 | AD21: 24 | AE21: 6 | AF21: 4 | AG21: =C21-AC21 -> -4
A22: 18 | B22: Сосновоборский | C22: =D22+E22+F22 -> 9 | D22: 4 | E22: 5 | G22: 18869.72 | H22: =ROUND(C22*G22/1000,1) -> 169.8 | I22: 1 | J22: =I22+C22 -> 10 | K22: 144180 | L22: =ROUND(K22*I22/1000,1) -> 144.2 | M22: =ROUND((L22+H22),1)*$M$2 -> 314000 | N22: 324.9 | O22: 358.9 | P22: =ROUND(M22*$O$24,-2) -> 323100 | Q22: 384.6 | R22: =ROUND(M22*$Q$24,-2) -> 333300 | S22: =ROUND(M22*$S$24,-2) -> 343800 | T22: =P22/1000 -> 323.1 | U22: =R22/1000 -> 333.3 | V22: =S22/1000 -> 343.8 | X22: =T22*1000 -> 323100 | Y22: =U22*1000 -> 333300 | Z22: =V22*1000 -> 343800 | AC22: =AD22+AE22+AF22 -> 10 | AD22: 5 | AE22: 4 | AF22: 1 | AG22: =C22-AC22 -> -1
B23: ИТОГО | C23: =SUM(C5:C22) -> 446 | D23: =SUM(D5:D22) -> 263 | E23: =SUM(E5:E22) -> 136 | F23: =SUM(F5:F22) -> 47 | H23: =SUM(H5:H22) -> 8415.7 | I23: =SUM(I5:I22) -> 16 | J23: =SUM(J5:J22) -> 462 | L23: =SUM(L5:L22) -> 2307 | M23: =SUM(M5:M22) -> 10722700 | N23: =SUM(N5:N22) -> 11393.3 | O23: =SUM(O5:O22) -> 12285 | P23: =SUM(P5:P22) -> 11033200 | Q23: =SUM(Q5:Q22) -> 12776.4 | R23: =SUM(R5:R22) -> 11380900 | S23: =SUM(S5:S22) -> 11738800 | ... V23: =SUM(V5:V22) -> 11738.8 | X23: =SUM(X5:X22) -> 11033200 | Y23: =SUM(Y5:Y22) -> 11380900 | Z23: =SUM(Z5:Z22) -> 11738800 | AC23: =SUM(AC5:AC22) -> 457 | AD23: =SUM(AD5:AD22) -> 288 | AE23: =SUM(AE5:AE22) -> 122 | AF23: =SUM(AF5:AF22) -> 47 | AG23: =C23-AC23 -> -11
M24: =M23/1000/N23-100% -> -0.058859154 | O24: =11033200/M23 -> 1.0289573 | Q24: =11380900/M23 -> 1.0613838 | S24: =11738800/M23 -> 1.0947616 | T24: 11033.2 | U24: 11380.9 | V24: 11738.8
T25: =T24-T23 -> 0 | U25: =U24-U23 -> 0 | V25: =V24-V23 -> 0
A26: 1 | B26: 2 | C26: 3 | D26: 4 | E26: 5 | F26: 6 | G26: 7 | H26: 8 | I26: 9 | J26: 10 | K26: 11 | L26: 12 | M26: 13 | N26: 14 | O26: 15 | P26: 16 | Q26: 17 | R26: 18 | T26: 19 | U26: 20 | V26: 21

Sheet Жилье
B1: Расчет объема субвенций бюджетам муниципальных образований Ленинградской области на осуществление отдельных государственных полномочий Ленинградской области по организации и осуществлению деятельности по обеспечению однократно благоустроенными жилыми помещениями специализированного жилищного фонда по договорам найма специализированных жилых помещений детей-сирот и детей, оставшихся без попечения родителей, а также лиц из числа детей-сирот и детей, оставшихся без попечения родителей, которые не являются нанимателями жилых помещений по договорам социального найма или членами семьи нанимателя жилого помещения по договору социального найма либо собственниками жилых помещений, а также детей-сирот и детей, оставшихся без попечения родителей, лиц из числа детей-сирот и детей, оставшихся без попечения родителей, которые являются нанимателями жилых помещений по договорам социального найма или членами семьи нанимателя жилого помещения по договору социального найма либо собственниками жилых помещений, в случае, если их проживание в ранее занимаемых жилых помещениях признается невозможным, а также лиц, которые относились к категории детей-сирот и детей, оставшихся без попечения родителей, лиц из числа детей-сирот и детей, оставшихся без попечения родителей, и достигли возраста 23 лет, до фактического обеспечения их жилыми помещениями на 2021 год
A3: № п/п | B3: Наименование муниципальных районов и городского поселения | C3: Количество детей-сирот и детей, оставшихся без попечения родителей, по заявке МО, согласно спискам на 2020 год | D3: Норма площади | E3: Стоимость одного кв м площади за 1 кв 2020 г, тыс.руб | F3: Всего потребность в средствах на 2021 год, тыс.руб. | G3: в том числе ФБ на 2021 год | H3: ИТОГО потребность в средствах ОБ на 2021 год, тыс.руб. | I3: Утверждено в областном законе на 2020 год, тыс. руб. | J3: 4 % к 2020г | K3: в рамках КЦ на | L3: доп.потребность
K4: в рамках КЦ | L4: доп.потребность | M4: в проект бюджета на 2021-2023гг
K5: в рамках КЦ | L5: доп.потребность | M5: 2021 | N5: 2022 | O5: 2023 | P5: в АЦК | S5: ДП | T5: Количество детей-сирот и детей на 2020 | U5: динамика
A6: 1 | B6: Бокситогорский | C6: 4 | D6: 33 | E6: 30.847 | F6: =ROUND(C6*D6*E6,1) -> 4071.8 | H6: =F6-G6 -> 4071.8 | I6: 4986.4 | J6: =ROUND(I6*1.04,1) -> 5185.9 | K6: =ROUND(F6*$K$26,1) -> 3103.6 | L6: =F6-K6 -> 968.2 | M6: =K6 -> 3103.6 | N6: =M6 -> 3103.6 | O6: =N6 -> 3103.6 | P6: =M6*1000 -> 3103600 | Q6: =P6 -> 3103600 | R6: =Q6 -> 3103600 | S6: =L6*1000 -> 968200 | T6: 7 | U6: =C6-T6 -> -3
A7: 2 | B7: Волосовский | C7: 22 | D7: 33 | E7: 42.70784 | F7: =ROUND(C7*D7*E7,1) -> 31005.9 | H7: =F7-G7 -> 31005.9 | I7: 32977.7 | J7: =ROUND(I7*1.04,1) -> 34296.8 | K7: =ROUND(F7*$K$26,1) -> 23632.9 | L7: =F7-K7 -> 7373 | M7: =K7 -> 23632.9 | N7: =M7 -> 23632.9 | O7: =N7 -> 23632.9 | P7: =M7*1000 -> 23632900 | Q7: =P7 -> 23632900 | R7: =Q7 -> 23632900 | S7: =L7*1000 -> 7373000 | T7: 26 | U7: =C7-T7 -> -4
A8: 3 | B8: Волховский | C8: 30 | D8: 33 | E8: 45.123 | F8: =ROUND(C8*D8*E8,1) -> 44671.8 | H8: =F8-G8 -> 44671.8 | I8: 29124.2 | J8: =ROUND(I8*1.04,1) -> 30289.2 | K8: =ROUND(F8*$K$26,1) -> 34049.2 | L8: =F8-K8 -> 10622.6 | M8: =K8 -> 34049.2 | N8: =M8 -> 34049.2 | O8: =N8 -> 34049.2 | P8: =M8*1000 -> 34049200 | Q8: =P8 -> 34049200 | R8: =Q8 -> 34049200 | S8: =L8*1000 -> 10622600 | T8: 20 | U8: =C8-T8 -> 10
A9: 4 | B9: Всеволожский | C9: 22 | D9: 33 | E9: 92.32188 | F9: =ROUND(C9*D9*E9,1) -> 67025.7 | H9: =F9-G9 -> 67025.7 | I9: 55964 | J9: =ROUND(I9*1.04,1) -> 58202.6 | K9: =ROUNDDOWN(F9*$K$26,1) -> 51087.4 | L9: =F9-K9 -> 15938.3 | M9: =K9 -> 51087.4 | N9: =M9 -> 51087.4 | O9: =N9 -> 51087.4 | P9: =M9*1000 -> 51087400 | Q9: =P9 -> 51087400 | R9: =Q9 -> 51087400 | S9: =L9*1000 -> 15938300 | T9: 27 | U9: =C9-T9 -> -5
A10: 5 | B10: Выборгский | C10: 23 | D10: 33 | E10: 54.71 | F10: =ROUND(C10*D10*E10,1) -> 41524.9 | H10: =F10-G10 -> 41524.9 | I10: 25616.9 | J10: =ROUND(I10*1.04,1) -> 26641.6 | K10: =ROUND(F10*$K$26,1) -> 31650.6 | L10: =F10-K10 -> 9874.3 | M10: =K10 -> 31650.6 | N10: =M10 -> 31650.6 | O10: =N10 -> 31650.6 | P10: =M10*1000 -> 31650600 | Q10: =P10 -> 31650600 | R10: =Q10 -> 31650600 | S10: =L10*1000 -> 9874300 | T10: 17 | U10: =C10-T10 -> 6
A11: 6 | B11: Гатчинский | C11: 33 | D11: 33 | E11: 58.69 | F11: =ROUND(C11*D11*E11,1) -> 63913.4 | H11: =F11-G11 -> 63913.4 | I11: 61328.1 | J11: =ROUND(I11*1.04,1) -> 63781.2 | K11: =ROUND(F11*$K$26,1) -> 48715.3 | L11: =F11-K11 -> 15198.1 | M11: =K11 -> 48715.3 | N11: =M11 -> 48715.3 | O11: =N11 -> 48715.3 | P11: =M11*1000 -> 48715300 | Q11: =P11 -> 48715300 | R11: =Q11 -> 48715300 | S11: =L11*1000 -> 15198100 | T11: 31 | U11: =C11-T11 -> 2
A12: 7 | B12: Кингисеппский | C12: 11 | D12: 33 | E12: 38.1875 | F12: =ROUND(C12*D12*E12,1) -> 13862.1 | H12: =F12-G12 -> 13862.1 | I12: 14300.7 | J12: =ROUND(I12*1.04,1) -> 14872.7 | K12: =ROUND(F12*$K$26,1) -> 10565.8 | L12: =F12-K12 -> 3296.3 | M12: =K12 -> 10565.8 | N12: =M12 -> 10565.8 | O12: =N12 -> 10565.8 | P12: =M12*1000 -> 10565800 | Q12: =P12 -> 10565800 | R12: =Q12 -> 10565800 | S12: =L12*1000 -> 3296300 | T12: 13 | U12: =C12-T12 -> -2
A13: 8 | B13: Киришский | C13: 15 | D13: 33 | E13: 39.826 | F13: =ROUND(C13*D13*E13,1) -> 19713.9 | H13: =F13-G13 -> 19713.9 | I13: 14333.1 | J13: =ROUND(I13*1.04,1) -> 14906.4 | K13: =ROUND(F13*$K$26,1) -> 15026.1 | L13: =F13-K13 -> 4687.8 | M13: =K13 -> 15026.1 | N13: =M13 -> 15026.1 | O13: =N13 -> 15026.1 | P13: =M13*1000 -> 15026100 | Q13: =P13 -> 15026100 | R13: =Q13 -> 15026100 | S13: =L13*1000 -> 4687800 | T13: 11 | U13: =C13-T13 -> 4
A14: 9 | B14: Кировский | C14: 15 | D14: 33 | E14: 52.078 | F14: =ROUND(C14*D14*E14,1) -> 25778.6 | H14: =F14-G14 -> 25778.6 | I14: 27066.2 | J14: =ROUND(I14*1.04,1) -> 28148.8 | K14: =ROUND(F14*$K$26,1) -> 19648.6 | L14: =F14-K14 -> 6130 | M14: =K14 -> 19648.6 | N14: =M14 -> 19648.6 | O14: =N14 -> 19648.6 | P14: =M14*1000 -> 19648600 | Q14: =P14 -> 19648600 | R14: =Q14 -> 19648600 | S14: =L14*1000 -> 6130000 | T14: 17 | U14: =C14-T14 -> -2
A15: 10 | B15: Лодейнопольский | C15: 6 | D15: 33 | E15: 39.987 | F15: =ROUND(C15*D15*E15,1) -> 7917.4 | H15: =F15-G15 -> 7917.4 | I15: 11431.8 | J15: =ROUND(I15*1.04,1) -> 11889.1 | K15: =ROUND(F15*$K$26,1) -> 6034.7 | L15: =F15-K15 -> 1882.7 | M15: =K15 -> 6034.7 | N15: =M15 -> 6034.7 | O15: =N15 -> 6034.7 | P15: =M15*1000 -> 6034700 | Q15: =P15 -> 6034700 | R15: =Q15 -> 6034700 | S15: =L15*1000 -> 1882700 | T15: 9 | U15: =C15-T15 -> -3
A16: 11 | B16: Ломоносовский | C16: 14 | D16: 33 | E16: 60.11245 | F16: =ROUND(C16*D16*E16,1) -> 27772 | H16: =F16-G16 -> 27772 | I16: 20148.3 | J16: =ROUND(I16*1.04,1) -> 20954.2 | K16: =ROUND(F16*$K$26,1) -> 21168 | L16: =F16-K16 -> 6604 | M16: =K16 -> 21168 | N16: =M16 -> 21168 | O16: =N16 -> 21168 | P16: =M16*1000 -> 21168000 | Q16: =P16 -> 21168000 | R16: =Q16 -> 21168000 | S16: =L16*1000 -> 6604000 | T16: 12 | U16: =C16-T16 -> 2
A17: 12 | B17: Лужский | C17: 13 | D17: 33 | E17: 53.049 | F17: =ROUND(C17*D17*E17,1) -> 22758 | H17: =F17-G17 -> 22758 | I17: 23157.6 | J17: =ROUND(I17*1.04,1) -> 24083.9 | K17: =ROUND(F17*$K$26,1) -> 17346.3 | L17: =F17-K17 -> 5411.7 | M17: =K17 -> 17346.3 | N17: =M17 -> 17346.3 | O17: =N17 -> 17346.3 | P17: =M17*1000 -> 17346300 | Q17: =P17 -> 17346300 | R17: =Q17 -> 17346300 | S17: =L17*1000 -> 5411700 | T17: 14 | U17: =C17-T17 -> -1
A18: 13 | B18: Подпорожский | C18: 11 | D18: 33 | E18: 32.203 | F18: =ROUND(C18*D18*E18,1) -> 11689.7 | H18: =F18-G18 -> 11689.7 | I18: 8761 | J18: =ROUND(I18*1.04,1) -> 9111.4 | K18: =ROUND(F18*$K$26,1) -> 8910 | L18: =F18-K18 -> 2779.7 | M18: =K18 -> 8910 | N18: =M18 -> 8910 | O18: =N18 -> 8910 | P18: =M18*1000 -> 8910000 | Q18: =P18 -> 8910000 | R18: =Q18 -> 8910000 | S18: =L18*1000 -> 2779700 | T18: 12 | U18: =C18-T18 -> -1
A19: 14 | B19: Приозерский | C19: 9 | D19: 33 | E19: 51.98835 | F19: =ROUND(C19*D19*E19,1) -> 15440.5 | H19: =F19-G19 -> 15440.5 | I19: 11059.7 | J19: =ROUND(I19*1.04,1) -> 11502.1 | K19: =ROUND(F19*$K$26,1) -> 11768.9 | L19: =F19-K19 -> 3671.6 | M19: =K19 -> 11768.9 | N19: =M19 -> 11768.9 | O19: =N19 -> 11768.9 | P19: =M19*1000 -> 11768900 | Q19: =P19 -> 11768900 | R19: =Q19 -> 11768900 | S19: =L19*1000 -> 3671600 | T19: 7 | U19: =C19-T19 -> 2
A20: 15 | B20: Сланцевский | C20: 18 | D20: 33 | E20: 20.219 | F20: =ROUND(C20*D20*E20,1) -> 12010.1 | H20: =F20-G20 -> 12010.1 | I20: 7164.6 | J20: =ROUND(I20*1.04,1) -> 7451.2 | K20: =ROUND(F20*$K$26,1) -> 9154.2 | L20: =F20-K20 -> 2855.9 | M20: =K20 -> 9154.2 | N20: =M20 -> 9154.2 | O20: =N20 -> 9154.2 | P20: =M20*1000 -> 9154200 | Q20: =P20 -> 9154200 | R20: =Q20 -> 9154200 | S20: =L20*1000 -> 2855900 | T20: 11 | U20: =C20-T20 -> 7
A21: 16 | B21: Тихвинский | C21: 12 | D21: 33 | E21: 47.9 | F21: =ROUND(C21*D21*E21,1) -> 18968.4 | H21: =F21-G21 -> 18968.4 | I21: 21159.5 | J21: =ROUND(I21*1.04,1) -> 22005.9 | K21: =ROUND(F21*$K$26,1) -> 14457.9 | L21: =F21-K21 -> 4510.5 | M21: =K21 -> 14457.9 | N21: =M21 -> 14457.9 | O21: =N21 -> 14457.9 | P21: =M21*1000 -> 14457900 | Q21: =P21 -> 14457900 | R21: =Q21 -> 14457900 | S21: =L21*1000 -> 4510500 | T21: 14 | U21: =C21-T21 -> -2
... A23: 18 | B23: Сосновоборский | C23: 6 | D23: 33 | E23: 94.196 | F23: =ROUND(C23*D23*E23,1) -> 18650.8 | H23: =F23-G23 -> 18650.8 | I23: 25944.3 | J23: =ROUND(I23*1.04,1) -> 26982.1 | K23: =ROUND(F23*$K$26,1) -> 14215.8 | L23: =F23-K23 -> 4435 | M23: =K23 -> 14215.8 | N23: =M23 -> 14215.8 | O23: =N23 -> 14215.8 | P23: =M23*1000 -> 14215800 | Q23: =P23 -> 14215800 | R23: =Q23 -> 14215800 | S23: =L23*1000 -> 4435000 | T23: 9 | U23: =C23-T23 -> -3
B24: Всего | C24: =SUM(C6:C23) -> 302 | F24: =SUM(F6:F23) -> 540535 | G24: =SUM(G6:G23) -> 0 | H24: =SUM(H6:H23) -> 540535 | I24: =SUM(I6:I23) -> 421201.8 | J24: =SUM(J6:J23) -> 438049.9 | K24: =SUM(K6:K23) -> 411999.9 | L24: =SUM(L6:L23) -> 128535.1 | M24: =SUM(M6:M23) -> 411999.9 | ... U24: =SUM(U6:U23) -> 30
H25: =H24/I24-100% -> 0.28331598 | J25: =J24/I24-100% -> 0.040000066 | Q25: 562156400 | R25: 584642700
K26: =(K27/1000)/F24 -> 0.76220763 | Q26: =Q25-Q24 -> 150156500 | R26: =R25-R24 -> 172642800
K27: 411999900
H31: =H24/C24 -> 1789.851 | I31: =M24/H31 -> 230.1867 | J31: =C24-I31 -> 71.813296

Sheet Питание
A1: Расчет объема субвенций бюджетам муниципальных образований Ленинградской области на осуществление отдельных государственных полномочий Ленинградской области по предоставлению бесплатного питания обучающимся по основным общеобразовательным программам в муниципальных образовательных организациях в Ленинградской области, обучающимся по имеющим государственную аккредитацию основным общеобразовательным программам в частных общеобразовательных организациях, расположенных на территории Ленинградской области, на 2021 год
A3: №№ | B3: Наименование муниципальных образований | C3: Всего планируемое количество обучающихся | D3: Прогнозируемое количество обучающихся на 2021 год по категориям установленным Социальным кодексом | U3: Потребность в средствах на питание и молоко, тыс. руб. | AA3: % невыходов | AB3: Расчет средств на реализацию полномочий | AE3: Общая потребность в средствах на 2021 год, тыс.руб. | AF3: Общая потребность в средствах на 2021 год, тыс.руб. | AI3: Утверждено на 2020 год, тыс.руб. | AK3: в рамках КЦ на | AL3: доп.потребность | AM3: в проект бюджета на 2021-2023гг
