Workbook
Name Excel_BuiltIn_Print_Titles: 'Норматив ДОУ_КОПО'!$1:$5

Sheet Нормативы ДО
B2: Нормативы: Дошкольное образование
D3: группы воспитанников до 3 лет | I3: группы воспитанников старше 3 лет
D4: кратковремен. пребывания | E4: сокращенного дня | F4: полного дня | G4: продленного дня | H4: круглосуточного пребывания | I4: кратковремен. пребывания | J4: сокращенного дня | K4: полного дня | L4: продленного дня | M4: круглосуточного пребывания
B5: Раздел 1. Удельные затраты на оплату труда основного (педагогического) персонала, включая начисления на выплаты по оплате труда | M5: =SUMPRODUCT('Нормативы ДО'!D489:M519,'Нормативы ДО'!$D$637:$M$667) -> 2.1572291e+14
B6: Дн - число рабочих дней, дней в неделю | D6: 5 | E6: 5 | F6: 5 | G6: 5 | H6: 5 | I6: 5 | J6: 5 | K6: 5 | L6: 5 | M6: 5
B7: Пд - продолжительность пребывания, часов в день | D7: 5 | E7: 10 | F7: =12 -> 12 | G7: =14 -> 14 | H7: =14 -> 14 | I7: 5 | J7: 10 | K7: =12 -> 12 | L7: 14 | M7: =14 -> 14
B8: m - расчетная наполняемость групп, воспитанников в 1 группе
B9: 1. Общеразвивающие группы | C9: в городских организациях или в организациях более 100 восп., расположенных на селе или в ПГТ | D9: 19 | I9: 23
C10: в организациях на 51-100 восп., расположенных на селе или в ПГТ | D10: 15 | I10: 20
C11: в организациях на 26-50 восп., расположеных на селе, или в организациях менее 51 восп., расположенных в ПГТ | D11: 10 | I11: 15
C12: в организациях на 11-25 восп., расположеных на селе | D12: 10 | I12: 10
C13: в организациях на 10 восп., расположеных на селе | D13: 5 | I13: 5
B14: 2. Группы комбинированной направленности | C14: 01 глухие | D14: 10 | I14: 10
C15: 02 слабослышащие (познооглохшие) | D15: 10 | I15: 15
C16: 03 слепые | D16: 10 | I16: 10
C17: 04 слабовидящие, с амблиопией, косоглазием | D17: 10 | I17: 15
C18: 05 с тяжелыми нарушениями речи | D18: 10 | I18: 15
C19: 06 с фонетико-фонематическими нарушениями речи | D19: x | I19: 17
C20: 07 с нарушениями опорно-двигательного аппарата | D20: 10 | I20: 10
C21: 08 с задержкой психического развития | D21: 10 | I21: 17
C22: 09 с расстройствами аутического спектора (аутизм) | D22: 10 | I22: 10
C23: 10 с умственной отсталостью (легкая степень) | D23: 10 | I23: 15
C24: 11 с умственной отсталостью (умеренная, тяжелая степень) | D24: x | I24: 10
C25: 12 со сложным дефектом (несколько недостатков в развитии) | D25: 10 | I25: 10
C26: 13 с иными ОВЗ | D26: 10 | I26: x
B27: 3. Группы компенсирующей направленности | C27: 01 глухие | D27: 6 | I27: 6
C28: 02 слабослышащие (познооглохшие) | D28: 6 | I28: 8
C29: 03 слепые | D29: 6 | I29: 6
C30: 04 слабовидящие, с амблиопией, косоглазием | D30: 6 | I30: 10
C31: 05 с тяжелыми нарушениями речи | D31: 6 | I31: 10
C32: 06 с фонетико-фонематическими нарушениями речи | D32: x | I32: 12
C33: 07 с нарушениями опорно-двигательного аппарата | D33: 6 | I33: 8
C34: 08 с задержкой психического развития | D34: 6 | I34: 10
C35: 09 с расстройствами аутического спектора (аутизм) | D35: 5 | I35: 5
C36: 10 с умственной отсталостью (легкая степень) | D36: 6 | I36: 10
C37: 11 с умственной отсталостью (умеренная, тяжелая степень) | D37: x | I37: 8
C38: 12 со сложным дефектом (несколько недостатков в развитии) | D38: 5 | I38: 5
C39: 13 с иными ОВЗ | D39: 10 | I39: 15
B40: m' - предельное число воспитанников с ОВЗ в группе комбинированной направленности, воспитанников с ОВЗ в 1 группе
B41: 2. Группы комбинированной направленности | C41: 01 глухие | D41: 3 | I41: 3
...

Sheet Нормативы ОО
B2: Нормативы: Общее образование
D3: начальное образование 1-4 классы | G3: основное образование 5-9 классы | J3: среднее образование 10-11 классы | M3: среднее (профиль.) 10-11 классы
B4: Раздел 1. Удельные затраты на оплату труда основного (педагогического) персонала, включая начисления на выплаты по оплате труда | O4: =SUMPRODUCT('Нормативы ОО'!D268:O305,'Нормативы ОО'!$D$499:$O$536) -> 9.7871589e+09
B5: БПН - продолжительность учебных занятий в неделю, часов в неделю
B6: 1. Учащиеся общеобразовательных классов (вкл. с углубленным изучением, с инклюзивным обучением учащихся с ОВЗ 1 варианта) | D6: 24.6 | G6: 35 | J6: 37 | M6: 37
B7: 2. Учащиеся с ОВЗ, обучаемые в коррекционных классах (ОВЗ 2-4 вариант) | D7: 22.5 | G7: 31.4 | J7: 34 | M7: x
B8: 3. Учащиеся очно-заочной формы обучения (вечернее обучение) | D8: 25 | G8: 26 | J8: 26 | M8: x
B9: 4. Учащиеся, получающие образование на дому (обучение на дому) | D9: 8 | G9: 10 | J9: 11 | M9: x
B10: 5. Учащиеся в форме семейного обучения (семейное обучение) | D10: 0.225 | G10: 0.425 | J10: 0.475 | M10: x
B11: kДЕЛ - коэффициент, учитывающий деление класса на группы при проведении учебных занятий по отдельным предметам общеобразовательных программ
B12: при расчетной наполняемости не менее 20 учащихся на класс | D12: 1.0636 | G12: 1.1512 | J12: 1.2095 | M12: 1.2095
B13: при расчетной наполняемости менее 20 учащихся на класс | D13: 1 | G13: 1 | J13: 1 | M13: 1
B14: ВДН - предельная продолжительность внеурочной деятельности, часов в неделю | D14: 10 | G14: 10 | J14: 10 | M14: 10
B15: КРН - продолжительность коррекционно-развивающих занятий для учащихся по адаптированным программам, включаемых во внеурочную деятельность, часов в неделю | D15: 5 | G15: 5 | J15: 5 | M15: 5
B16: kВД - коэффициент посещаемости занятий внеурочной деятельности
B17: 1. Учащиеся общеобразовательных классов (вкл. с углубленным изучением, с инклюзивным обучением учащихся с ОВЗ 1 варианта) | D17: 1 | G17: 0.8 | J17: 0.5 | M17: 0.5
B18: 2. Учащиеся с ОВЗ 2-4 вариантов (коррекционные классы) | D18: 1 | G18: 0.8 | J18: 0.5 | M18: x
B19: 3. Учащиеся очно-заочной формы обучения (вечернее обучение) | D19: 0 | G19: 0 | J19: 0 | M19: x
B20: 4. Учащиеся, получающие образование на дому (обучение на дому) | D20: 0 | G20: 0 | J20: 0 | M20: x
B21: 5. Учащиеся в форме семейного обучения (семейное обучение) | D21: 0 | G21: 0 | J21: 0 | M21: x
B22: m - расчетная наполняемость классов, учащихся в 1 классе
B23: Определение групп расчетной наполняемости общеобразовательных классов, исходя из контингента соответствующей ступени образования В расчет принимается численность всех общеобразовательных классов организации, включая классы с углубленным изучением отдельных предметов, классы с инклюзивным обучением учащихся с ОВЗ (1 вар.), классы с профильным обучением. Расчетная наполняемость общеобразовательных классов городских организаций принимается равной 25 и не меняется в зависимости от контингента ступени образования или организации в целом | E23: более 250 учащ. | H23: более 300 учащ. | K23: более 100 учащ. | M23: 1. ≥ 25 учащ. | N23: Группы расчетн. наполн-ти: среднее число одновозрастных учащихся в организации (общий контингент ступени делится на подолжительность обучения на этой ступени образования)
E24: 80-250 учащ. | H24: 100-300 учащ. | K24: 40-100 учащ. | M24: 2. 20-25 учащ.
E25: 60-79 учащ. | H25: 75-99 учащ. | K25: 30-39 учащ. | M25: 3. 15-19 учащ.
E26: 40-59 учащ. | H26: 50-74 учащ. | K26: 20-29 учащ. | M26: 4. 10-14 учащ.
E27: 25-39 учащ. | H27: 30-49 учащ. | K27: 13-19 учащ. | M27: 5. 7-9 учащ.
E28: 13-24 учащ. | H28: 16-29 учащ. | K28: 7-12 учащ. | M28: 6. 4-6 учащ.
E29: менее 13 учащ. | H29: менее 16 учащ. | K29: менее 7 учащ. | M29: 7. ≤ 3 учащ.
B30: 1. Общеобразовательные классы (вкл. с углубленным изучением) | C30: 1. ≥ 25 учащ. | D30: 25 | E30: 25 | F30: 25 | G30: 25 | H30: 25 | I30: 25 | J30: 25 | K30: 25 | L30: 25 | M30: 25 | N30: 25 | O30: 25
C31: 2. 20-25 учащ. | D31: 25 | E31: 23 | F31: 21 | G31: 25 | H31: 23 | I31: 21 | J31: 25 | K31: 23 | L31: 21 | M31: 25 | N31: 23 | O31: 21
C32: 3. 15-19 учащ. | D32: 25 | E32: 17 | F32: 17 | G32: 25 | H32: 17 | I32: 17 | J32: 25 | K32: 17 | L32: 17 | M32: 25 | N32: 17 | O32: 17
C33: 4. 10-14 учащ. | D33: 25 | E33: 14 | F33: 14 | G33: 25 | H33: 14 | I33: 14 | J33: 25 | K33: 14 | L33: 14 | M33: 25 | N33: 14 | O33: 14
C34: 5. 7-9 учащ. | D34: 25 | E34: 9 | F34: 9 | G34: 25 | H34: 9 | I34: 9 | J34: 25 | K34: 9 | L34: 9 | M34: 25 | N34: 9 | O34: 9
C35: 6. 4-6 учащ. | D35: 25 | E35: 9 | F35: 8 | G35: 25 | H35: 9 | I35: 8 | J35: 25 | K35: 9 | L35: 8 | M35: 25 | N35: 9 | O35: 8
C36: 7. ≤ 3 учащ. | D36: 25 | E36: 9 | F36: 7 | G36: 25 | H36: 9 | I36: 7 | J36: 25 | K36: 9 | L36: 7 | M36: 25 | N36: 9 | O36: 7
B37: инклюзивное обучение (ОВЗ 1 вар.) | C37: 01 глухие | D37: 20 | G37: 20 | J37: 20 | M37: 20
C38: 02 слабослышащие (познооглохшие) | D38: 25 | G38: 25 | J38: 25 | M38: 25
C39: 03 слепые | D39: 20 | G39: 20 | J39: 20 | M39: 20
C40: 04 слабовидящие | D40: 25 | G40: 25 | J40: 25 | M40: 25
C41: 05 с тяжелыми нарушениями речи | D41: 25 | G41: 25 | J41: 25 | M41: 25
...

Sheet ЧООУ
C1: Расчет объема субвенции бюджетам муниципальных образований на осуществление отдельных государственных полномочий Ленинградской области на обеспечение государственных гарантий реализации прав на получение общедоступного и бесплатного начального общего, основного общего, среднего общего образования в муниципальных общеобразовательных организациях, обеспечение дополнительного образования детей в муниципальных общеобразовательных организациях, включая расходы на оплату труда, приобретение учебников и учебных пособий, средств обучения (за исключением расходов на содержание зданий и оплату коммунальных услуг), на 2021 год
A2: №№ | B2: Наименование | C2: Общеобразовательные классы в общеобразовательных учреждениях, расположенных в городской местности | M2: Общеобразовательные классы в общеобразовательных учреждениях, расположенных в сельской местности, с контингентом обучающихся более 250 человек | W2: с углубленным изучением отдельных учебных предметов | AG2: по 1 варианту слабовидящие | AQ2: по 1 варианту с нарушением опорно-двигательного аппарата | BA2: по 1 варианту с задержкой психического развития (ЗПР) | BK2: по 1 варианту с расстройствами аутического спектора (РАС) | BU2: по 3 варианту с умственной отсталостью (интеллектуальными нарушениями) | CE2: Всего обучающихся (общий контингент школ) и потребность на 2021 год | CK2: в рамках контрольных цифр
C3: классы, не реализующие ФГОС | G3: классы, реализующие ФГОС | K3: всего | L3: сумма | M3: классы, не реализующие ФГОС | Q3: классы, реализующие ФГОС | U3: всего | V3: сумма | W3: классы, не реализующие ФГОС | AA3: классы, реализующие ФГОС | AE3: всего | AF3: сумма | AG3: классы, не реализующие ФГОС | AK3: классы, реализующие ФГОС | AO3: всего | AP3: сумма | AQ3: классы, не реализующие ФГОС | AU3: классы, реализующие ФГОС | AY3: всего | AZ3: сумма | BA3: классы, не реализующие ФГОС | BE3: классы, реализующие ФГОС | BI3: всего | BJ3: сумма | BK3: классы, не реализующие ФГОС | BO3: классы, реализующие ФГОС | BS3: всего | BT3: сумма | BU3: классы, не реализующие ФГОС | BY3: классы, реализующие ФГОС | CC3: всего | CD3: сумма | CE3: 1-4 классы | CF3: 5-9 классы | CG3: 10-11 кл | CH3: 10-11 кл профил | CI3: всего | CJ3: Итого потребность на 2021 год | CK3: контингент | CL3: сумма | CM3: доп.потребность
C4: 1-4 классы | D4: 5-9 классы | E4: 10-11 кл | F4: 10-11 кл профильное | G4: 1-4 классы | H4: 5-9 классы | I4: 10-11 кл | J4: 10-11 кл профильное | M4: 1-4 классы | N4: 5-9 классы | O4: 10-11 кл | P4: 10-11 кл профильное | Q4: 1-4 классы | R4: 5-9 классы | S4: 10-11 кл | T4: 10-11 кл профильное | W4: 1-4 классы | X4: 5-9 классы | Y4: 10-11 кл | Z4: 10-11 кл профильное | AA4: 1-4 классы | AB4: 5-9 классы | AC4: 10-11 кл | AD4: 10-11 кл профильное | AG4: 1-4 классы | AH4: 5-9 классы | AI4: 10-11 кл | AJ4: 10-11 кл профильное | AK4: 1-4 классы | AL4: 5-9 классы | AM4: 10-11 кл | AN4: 10-11 кл профильное | AQ4: 1-4 классы | AR4: 5-9 классы | AS4: 10-11 кл | AT4: 10-11 кл профильное | AU4: 1-4 классы | AV4: 5-9 классы | AW4: 10-11 кл | AX4: 10-11 кл профильное | BA4: 1-4 классы | BB4: 5-9 классы | BC4: 10-11 кл | BD4: 10-11 кл профильное | BE4: 1-4 классы | BF4: 5-9 классы | BG4: 10-11 кл | BH4: 10-11 кл профильное | BK4: 1-4 классы | BL4: 5-9 классы | BM4: 10-11 кл | BN4: 10-11 кл профильное | BO4: 1-4 классы | BP4: 5-9 классы | BQ4: 10-11 кл | BR4: 10-11 кл профильное | BU4: 1-4 классы | BV4: 5-9 классы | BW4: 10-11 кл | BX4: 10-11 кл профильное | BY4: 1-4 классы | BZ4: 5-9 классы | CA4: 10-11 кл | CB4: 10-11 кл профильное
C5: ='Нормативы ОО'!D459 -> 51708.52 | D5: ='Нормативы ОО'!G459 -> 70994.875 | E5: ='Нормативы ОО'!J459 -> 75102.579 | F5: ='Нормативы ОО'!M459 -> 75102.579 | G5: =C5 -> 51708.52 | H5: =D5 -> 70994.875 | I5: =E5 -> 75102.579 | J5: =F5 -> 75102.579 | Q5: ='Нормативы ОО'!F459 -> 53950.846 | R5: ='Нормативы ОО'!I459 -> 73989.143 | S5: ='Нормативы ОО'!L459 -> 78187.341 | T5: ='Нормативы ОО'!O459 -> 78187.341 | W5: =AA5 -> 51708.52 | X5: =AB5 -> 70994.875 | Y5: =AC5 -> 75102.579 | Z5: =AD5 -> 75102.579 | AA5: =G5 -> 51708.52 | AB5: =H5 -> 70994.875 | AC5: =I5 -> 75102.579 | AD5: =J5 -> 75102.579 | AL5: ='Нормативы ОО'!G469 -> 128038 | AQ5: ='Нормативы ОО'!D471 -> 288372.1 | AU5: ='Нормативы ОО'!D471 -> 288372.1 | BA5: ='Нормативы ОО'!D480 -> 231093.6 | BL5: ='Нормативы ОО'!G473 -> 256977.74 | BV5: ='Нормативы ОО'!G488 -> 377606.16
A6: 1 | B6: ЧОУ Гимназия "Грэйс" | G6: 57 | H6: 70 | I6: 10 | K6: =SUM(C6:J6) -> 137 | L6: =(C6*C$5+D6*D$5+E6*E$5+F6*F$5+G6*G$5+H6*H$5+I6*I$5+J6*J$5) -> 8668052.7 | U6: =SUM(M6:T6) -> 0 | V6: =(M6*M$5+N6*N$5+O6*O$5+P6*P$5+Q6*Q$5+R6*R$5+S6*S$5+T6*T$5) -> 0 | AE6: =SUM(W6:AD6) -> 0 | AF6: =(W6*W$5+X6*X$5+Y6*Y$5+Z6*Z$5+AA6*AA$5+AB6*AB$5+AC6*AC$5+AD6*AD$5) -> 0 | AO6: =SUM(AG6:AN6) -> 0 | AP6: =(AG6*AG$5+AH6*AH$5+AI6*AI$5+AJ6*AJ$5+AK6*AK$5+AL6*AL$5+AM6*AM$5+AN6*AN$5) -> 0 | AY6: =SUM(AQ6:AX6) -> 0 | AZ6: =(AQ6*AQ$5+AR6*AR$5+AS6*AS$5+AT6*AT$5+AU6*AU$5+AV6*AV$5+AW6*AW$5+AX6*AX$5) -> 0 | BI6: =SUM(BA6:BH6) -> 0 | BJ6: =(BA6*BA$5+BB6*BB$5+BC6*BC$5+BD6*BD$5+BE6*BE$5+BF6*BF$5+BG6*BG$5+BH6*BH$5) -> 0 | BS6: =SUM(BK6:BR6) -> 0 | BT6: =(BK6*BK$5+BL6*BL$5+BM6*BM$5+BN6*BN$5+BO6*BO$5+BP6*BP$5+BQ6*BQ$5+BR6*BR$5) -> 0 | CC6: =SUM(BU6:CB6) -> 0 | CD6: =(BU6*BU$5+BV6*BV$5+BW6*BW$5+BX6*BX$5+BY6*BY$5+BZ6*BZ$5+CA6*CA$5+CB6*CB$5) -> 0 | CE6: =C6+W6+G6+AA6+AU6+AQ6+AG6+AK6+BU6+BY6+M6+Q6+BK6+BA6+BE6+BO6 -> 57 | CF6: =D6+X6+H6+AB6+AV6+AR6+AH6+AL6+BV6+BZ6+N6+R6+BL6+BB6+BF6+BP6 -> 70 | CG6: =E6+Y6+I6+AC6+AW6+AS6+AI6+AM6+BW6+CA6+O6+S6+BM6+BC6+BG6+BQ6 -> 10 | CH6: =F6+Z6+J6+AD6+AX6+AT6+AJ6+AN6+BX6+CB6+P6+T6+BN6+BD6+BH6+BR6 -> 0 | CI6: =CE6+CF6+CG6+CH6 -> 137 | CJ6: =ROUND(L6+V6+AF6+AZ6+AP6+CD6+BJ6+BT6,-2) -> 8668100 | CK6: =CK18 -> 108.12886 | CL6: 6841400 | CM6: =CJ6-CL6 -> 1826700
A7: 2 | B7: ЧОУ "Школа "Лужки"" | K7: =SUM(C7:J7) -> 0 | L7: =(C7*C$5+D7*D$5+E7*E$5+F7*F$5+G7*G$5+H7*H$5+I7*I$5+J7*J$5) -> 0 | Q7: 31 | R7: 46 | S7: 8 | U7: =SUM(M7:T7) -> 85 | V7: =(M7*M$5+N7*N$5+O7*O$5+P7*P$5+Q7*Q$5+R7*R$5+S7*S$5+T7*T$5) -> 5701475.5 | AE7: =SUM(W7:AD7) -> 0 | AF7: =(W7*W$5+X7*X$5+Y7*Y$5+Z7*Z$5+AA7*AA$5+AB7*AB$5+AC7*AC$5+AD7*AD$5) -> 0 | AO7: =SUM(AG7:AN7) -> 0 | AP7: =(AG7*AG$5+AH7*AH$5+AI7*AI$5+AJ7*AJ$5+AK7*AK$5+AL7*AL$5+AM7*AM$5+AN7*AN$5) -> 0 | AY7: =SUM(AQ7:AX7) -> 0 | AZ7: =(AQ7*AQ$5+AR7*AR$5+AS7*AS$5+AT7*AT$5+AU7*AU$5+AV7*AV$5+AW7*AW$5+AX7*AX$5) -> 0 | BI7: =SUM(BA7:BH7) -> 0 | BJ7: =(BA7*BA$5+BB7*BB$5+BC7*BC$5+BD7*BD$5+BE7*BE$5+BF7*BF$5+BG7*BG$5+BH7*BH$5) -> 0 | BS7: =SUM(BK7:BR7) -> 0 | BT7: =(BK7*BK$5+BL7*BL$5+BM7*BM$5+BN7*BN$5+BO7*BO$5+BP7*BP$5+BQ7*BQ$5+BR7*BR$5) -> 0 | CC7: =SUM(BU7:CB7) -> 0 | CD7: =(BU7*BU$5+BV7*BV$5+BW7*BW$5+BX7*BX$5+BY7*BY$5+BZ7*BZ$5+CA7*CA$5+CB7*CB$5) -> 0 | CE7: =C7+W7+G7+AA7+AU7+AQ7+AG7+AK7+BU7+BY7+M7+Q7+BK7+BA7+BE7+BO7 -> 31 | CF7: =D7+X7+H7+AB7+AV7+AR7+AH7+AL7+BV7+BZ7+N7+R7+BL7+BB7+BF7+BP7 -> 46 | CG7: =E7+Y7+I7+AC7+AW7+AS7+AI7+AM7+BW7+CA7+O7+S7+BM7+BC7+BG7+BQ7 -> 8 | CH7: =F7+Z7+J7+AD7+AX7+AT7+AJ7+AN7+BX7+CB7+P7+T7+BN7+BD7+BH7+BR7 -> 0 | CI7: =CE7+CF7+CG7+CH7 -> 85 | CJ7: =ROUND(L7+V7+AF7+AZ7+AP7+CD7+BJ7+BT7,-2) -> 5701500 | CK7: =CK19 -> 67.095063 | CL7: 4500500 | CM7: =CJ7-CL7 -> 1201000
A8: 3 | B8: ЧОУ "Гатчинская гимназия Апекс" | F8: 14 | G8: 54 | J8: 15 | K8: =SUM(C8:J8) -> 83 | L8: =(C8*C$5+D8*D$5+E8*E$5+F8*F$5+G8*G$5+H8*H$5+I8*I$5+J8*J$5) -> 4970234.9 | U8: =SUM(M8:T8) -> 0 | V8: =(M8*M$5+N8*N$5+O8*O$5+P8*P$5+Q8*Q$5+R8*R$5+S8*S$5+T8*T$5) -> 0 | AB8: 62 | AE8: =SUM(W8:AD8) -> 62 | AF8: =(W8*W$5+X8*X$5+Y8*Y$5+Z8*Z$5+AA8*AA$5+AB8*AB$5+AC8*AC$5+AD8*AD$5) -> 4401682.2 | AO8: =SUM(AG8:AN8) -> 0 | AP8: =(AG8*AG$5+AH8*AH$5+AI8*AI$5+AJ8*AJ$5+AK8*AK$5+AL8*AL$5+AM8*AM$5+AN8*AN$5) -> 0 | AY8: =SUM(AQ8:AX8) -> 0 | AZ8: =(AQ8*AQ$5+AR8*AR$5+AS8*AS$5+AT8*AT$5+AU8*AU$5+AV8*AV$5+AW8*AW$5+AX8*AX$5) -> 0 | BI8: =SUM(BA8:BH8) -> 0 | BJ8: =(BA8*BA$5+BB8*BB$5+BC8*BC$5+BD8*BD$5+BE8*BE$5+BF8*BF$5+BG8*BG$5+BH8*BH$5) -> 0 | BS8: =SUM(BK8:BR8) -> 0 | BT8: =(BK8*BK$5+BL8*BL$5+BM8*BM$5+BN8*BN$5+BO8*BO$5+BP8*BP$5+BQ8*BQ$5+BR8*BR$5) -> 0 | CC8: =SUM(BU8:CB8) -> 0 | CD8: =(BU8*BU$5+BV8*BV$5+BW8*BW$5+BX8*BX$5+BY8*BY$5+BZ8*BZ$5+CA8*CA$5+CB8*CB$5) -> 0 | CE8: =C8+W8+G8+AA8+AU8+AQ8+AG8+AK8+BU8+BY8+M8+Q8+BK8+BA8+BE8+BO8 -> 54 | CF8: =D8+X8+H8+AB8+AV8+AR8+AH8+AL8+BV8+BZ8+N8+R8+BL8+BB8+BF8+BP8 -> 62 | CG8: =E8+Y8+I8+AC8+AW8+AS8+AI8+AM8+BW8+CA8+O8+S8+BM8+BC8+BG8+BQ8 -> 0 | CH8: =F8+Z8+J8+AD8+AX8+AT8+AJ8+AN8+BX8+CB8+P8+T8+BN8+BD8+BH8+BR8 -> 29 | CI8: =CE8+CF8+CG8+CH8 -> 145 | CJ8: =ROUND(L8+V8+AF8+AZ8+AP8+CD8+BJ8+BT8,-2) -> 9371900 | CK8: =CK20 -> 114.44942 | CL8: 7397300 | CM8: =CJ8-CL8 -> 1974600
A9: 4 | B9: ЧОУ "Первая академическая гимназия г.Гатчины" | G9: 52 | K9: =SUM(C9:J9) -> 52 | L9: =(C9*C$5+D9*D$5+E9*E$5+F9*F$5+G9*G$5+H9*H$5+I9*I$5+J9*J$5) -> 2688843 | U9: =SUM(M9:T9) -> 0 | V9: =(M9*M$5+N9*N$5+O9*O$5+P9*P$5+Q9*Q$5+R9*R$5+S9*S$5+T9*T$5) -> 0 | Z9: 10 | AB9: 56 | AD9: 8 | AE9: =SUM(W9:AD9) -> 74 | AF9: =(W9*W$5+X9*X$5+Y9*Y$5+Z9*Z$5+AA9*AA$5+AB9*AB$5+AC9*AC$5+AD9*AD$5) -> 5327559.4 | AO9: =SUM(AG9:AN9) -> 0 | AP9: =(AG9*AG$5+AH9*AH$5+AI9*AI$5+AJ9*AJ$5+AK9*AK$5+AL9*AL$5+AM9*AM$5+AN9*AN$5) -> 0 | AY9: =SUM(AQ9:AX9) -> 0 | AZ9: =(AQ9*AQ$5+AR9*AR$5+AS9*AS$5+AT9*AT$5+AU9*AU$5+AV9*AV$5+AW9*AW$5+AX9*AX$5) -> 0 | BI9: =SUM(BA9:BH9) -> 0 | BJ9: =(BA9*BA$5+BB9*BB$5+BC9*BC$5+BD9*BD$5+BE9*BE$5+BF9*BF$5+BG9*BG$5+BH9*BH$5) -> 0 | BS9: =SUM(BK9:BR9) -> 0 | BT9: =(BK9*BK$5+BL9*BL$5+BM9*BM$5+BN9*BN$5+BO9*BO$5+BP9*BP$5+BQ9*BQ$5+BR9*BR$5) -> 0 | CC9: =SUM(BU9:CB9) -> 0 | CD9: =(BU9*BU$5+BV9*BV$5+BW9*BW$5+BX9*BX$5+BY9*BY$5+BZ9*BZ$5+CA9*CA$5+CB9*CB$5) -> 0 | CE9: =C9+W9+G9+AA9+AU9+AQ9+AG9+AK9+BU9+BY9+M9+Q9+BK9+BA9+BE9+BO9 -> 52 | CF9: =D9+X9+H9+AB9+AV9+AR9+AH9+AL9+BV9+BZ9+N9+R9+BL9+BB9+BF9+BP9 -> 56 | CG9: =E9+Y9+I9+AC9+AW9+AS9+AI9+AM9+BW9+CA9+O9+S9+BM9+BC9+BG9+BQ9 -> 0 | CH9: =F9+Z9+J9+AD9+AX9+AT9+AJ9+AN9+BX9+CB9+P9+T9+BN9+BD9+BH9+BR9 -> 18 | CI9: =CE9+CF9+CG9+CH9 -> 126 | CJ9: =ROUND(L9+V9+AF9+AZ9+AP9+CD9+BJ9+BT9,-2) -> 8016400 | CK9: =CK21 -> 99.447957 | CL9: 6327100 | CM9: =CJ9-CL9 -> 1689300
A10: 5 | B10: АНО ОУ "Школа имени императора Александра III" | G10: 68 | H10: 86 | I10: 10 | K10: =SUM(C10:J10) -> 164 | L10: =(C10*C$5+D10*D$5+E10*E$5+F10*F$5+G10*G$5+H10*H$5+I10*I$5+J10*J$5) -> 10372764 | U10: =SUM(M10:T10) -> 0 | V10: =(M10*M$5+N10*N$5+O10*O$5+P10*P$5+Q10*Q$5+R10*R$5+S10*S$5+T10*T$5) -> 0 | AE10: =SUM(W10:AD10) -> 0 | AF10: =(W10*W$5+X10*X$5+Y10*Y$5+Z10*Z$5+AA10*AA$5+AB10*AB$5+AC10*AC$5+AD10*AD$5) -> 0 | AO10: =SUM(AG10:AN10) -> 0 | AP10: =(AG10*AG$5+AH10*AH$5+AI10*AI$5+AJ10*AJ$5+AK10*AK$5+AL10*AL$5+AM10*AM$5+AN10*AN$5) -> 0 | AY10: =SUM(AQ10:AX10) -> 0 | AZ10: =(AQ10*AQ$5+AR10*AR$5+AS10*AS$5+AT10*AT$5+AU10*AU$5+AV10*AV$5+AW10*AW$5+AX10*AX$5) -> 0 | BA10: 2 | BI10: =SUM(BA10:BH10) -> 2 | BJ10: =(BA10*BA$5+BB10*BB$5+BC10*BC$5+BD10*BD$5+BE10*BE$5+BF10*BF$5+BG10*BG$5+BH10*BH$5) -> 462187.19 | BL10: 1 | BS10: =SUM(BK10:BR10) -> 1 | BT10: =(BK10*BK$5+BL10*BL$5+BM10*BM$5+BN10*BN$5+BO10*BO$5+BP10*BP$5+BQ10*BQ$5+BR10*BR$5) -> 256977.74 | BV10: 1 | CC10: =SUM(BU10:CB10) -> 1 | CD10: =(BU10*BU$5+BV10*BV$5+BW10*BW$5+BX10*BX$5+BY10*BY$5+BZ10*BZ$5+CA10*CA$5+CB10*CB$5) -> 377606.16 | CE10: =C10+W10+G10+AA10+AU10+AQ10+AG10+AK10+BU10+BY10+M10+Q10+BK10+BA10+BE10+BO10 -> 70 | CF10: =D10+X10+H10+AB10+AV10+AR10+AH10+AL10+BV10+BZ10+N10+R10+BL10+BB10+BF10+BP10 -> 88 | CG10: =E10+Y10+I10+AC10+AW10+AS10+AI10+AM10+BW10+CA10+O10+S10+BM10+BC10+BG10+BQ10 -> 10 | CH10: =F10+Z10+J10+AD10+AX10+AT10+AJ10+AN10+BX10+CB10+P10+T10+BN10+BD10+BH10+BR10 -> 0 | CI10: =CE10+CF10+CG10+CH10 -> 168 | CJ10: =ROUND(L10+V10+AF10+AZ10+AP10+CD10+BJ10+BT10,-2) -> 11469500 | CK10: =CK22 -> 132.613 | CL10: 9053600 | CM10: =CJ10-CL10 -> 2415900
A11: 6 | B11: ЧОУ "Кингисеппская СОШ Православной культуры" | G11: 49 | H11: 46 | J11: 25 | K11: =SUM(C11:J11) -> 120 | L11: =(C11*C$5+D11*D$5+E11*E$5+F11*F$5+G11*G$5+H11*H$5+I11*I$5+J11*J$5) -> 7677046.2 | U11: =SUM(M11:T11) -> 0 | V11: =(M11*M$5+N11*N$5+O11*O$5+P11*P$5+Q11*Q$5+R11*R$5+S11*S$5+T11*T$5) -> 0 | AE11: =SUM(W11:AD11) -> 0 | AF11: =(W11*W$5+X11*X$5+Y11*Y$5+Z11*Z$5+AA11*AA$5+AB11*AB$5+AC11*AC$5+AD11*AD$5) -> 0 | AO11: =SUM(AG11:AN11) -> 0 | AP11: =(AG11*AG$5+AH11*AH$5+AI11*AI$5+AJ11*AJ$5+AK11*AK$5+AL11*AL$5+AM11*AM$5+AN11*AN$5) -> 0 | AY11: =SUM(AQ11:AX11) -> 0 | AZ11: =(AQ11*AQ$5+AR11*AR$5+AS11*AS$5+AT11*AT$5+AU11*AU$5+AV11*AV$5+AW11*AW$5+AX11*AX$5) -> 0 | BI11: =SUM(BA11:BH11) -> 0 | BJ11: =(BA11*BA$5+BB11*BB$5+BC11*BC$5+BD11*BD$5+BE11*BE$5+BF11*BF$5+BG11*BG$5+BH11*BH$5) -> 0 | BS11: =SUM(BK11:BR11) -> 0 | BT11: =(BK11*BK$5+BL11*BL$5+BM11*BM$5+BN11*BN$5+BO11*BO$5+BP11*BP$5+BQ11*BQ$5+BR11*BR$5) -> 0 | CC11: =SUM(BU11:CB11) -> 0 | CD11: =(BU11*BU$5+BV11*BV$5+BW11*BW$5+BX11*BX$5+BY11*BY$5+BZ11*BZ$5+CA11*CA$5+CB11*CB$5) -> 0 | CE11: =C11+W11+G11+AA11+AU11+AQ11+AG11+AK11+BU11+BY11+M11+Q11+BK11+BA11+BE11+BO11 -> 49 | CF11: =D11+X11+H11+AB11+AV11+AR11+AH11+AL11+BV11+BZ11+N11+R11+BL11+BB11+BF11+BP11 -> 46 | CG11: =E11+Y11+I11+AC11+AW11+AS11+AI11+AM11+BW11+CA11+O11+S11+BM11+BC11+BG11+BQ11 -> 0 | CH11: =F11+Z11+J11+AD11+AX11+AT11+AJ11+AN11+BX11+CB11+P11+T11+BN11+BD11+BH11+BR11 -> 25 | CI11: =CE11+CF11+CG11+CH11 -> 120 | CJ11: =ROUND(L11+V11+AF11+AZ11+AP11+CD11+BJ11+BT11,-2) -> 7677000 | CK11: =CK23 -> 94.71356 | CL11: 6059300 | CM11: =CJ11-CL11 -> 1617700
A12: 7 | B12: НОУ школа "Истоки" | G12: 26 | H12: 35 | K12: =SUM(C12:J12) -> 61 | L12: =(C12*C$5+D12*D$5+E12*E$5+F12*F$5+G12*G$5+H12*H$5+I12*I$5+J12*J$5) -> 3829242.1 | U12: =SUM(M12:T12) -> 0 | V12: =(M12*M$5+N12*N$5+O12*O$5+P12*P$5+Q12*Q$5+R12*R$5+S12*S$5+T12*T$5) -> 0 | AE12: =SUM(W12:AD12) -> 0 | AF12: =(W12*W$5+X12*X$5+Y12*Y$5+Z12*Z$5+AA12*AA$5+AB12*AB$5+AC12*AC$5+AD12*AD$5) -> 0 | AL12: 1 | AO12: =SUM(AG12:AN12) -> 1 | AP12: =(AG12*AG$5+AH12*AH$5+AI12*AI$5+AJ12*AJ$5+AK12*AK$5+AL12*AL$5+AM12*AM$5+AN12*AN$5) -> 128038 | AQ12: 3 | AY12: =SUM(AQ12:AX12) -> 3 | AZ12: =(AQ12*AQ$5+AR12*AR$5+AS12*AS$5+AT12*AT$5+AU12*AU$5+AV12*AV$5+AW12*AW$5+AX12*AX$5) -> 865116.3 | BA12: 1 | BI12: =SUM(BA12:BH12) -> 1 | BJ12: =(BA12*BA$5+BB12*BB$5+BC12*BC$5+BD12*BD$5+BE12*BE$5+BF12*BF$5+BG12*BG$5+BH12*BH$5) -> 231093.6 | BS12: =SUM(BK12:BR12) -> 0 | BT12: =(BK12*BK$5+BL12*BL$5+BM12*BM$5+BN12*BN$5+BO12*BO$5+BP12*BP$5+BQ12*BQ$5+BR12*BR$5) -> 0 | CC12: =SUM(BU12:CB12) -> 0 | CD12: =(BU12*BU$5+BV12*BV$5+BW12*BW$5+BX12*BX$5+BY12*BY$5+BZ12*BZ$5+CA12*CA$5+CB12*CB$5) -> 0 | CE12: =C12+W12+G12+AA12+AU12+AQ12+AG12+AK12+BU12+BY12+M12+Q12+BK12+BA12+BE12+BO12 -> 30 | CF12: =D12+X12+H12+AB12+AV12+AR12+AH12+AL12+BV12+BZ12+N12+R12+BL12+BB12+BF12+BP12 -> 36 | CG12: =E12+Y12+I12+AC12+AW12+AS12+AI12+AM12+BW12+CA12+O12+S12+BM12+BC12+BG12+BQ12 -> 0 | CH12: =F12+Z12+J12+AD12+AX12+AT12+AJ12+AN12+BX12+CB12+P12+T12+BN12+BD12+BH12+BR12 -> 0 | CI12: =CE12+CF12+CG12+CH12 -> 66 | CJ12: =ROUND(L12+V12+AF12+AZ12+AP12+CD12+BJ12+BT12,-2) -> 5053500 | CK12: =CK24 -> 52.109112 | CL12: 3989900 | CM12: =CJ12-CL12 -> 1063600
A13: 8 | B13: НОУ СО "Школа Русской Культуры преподобных Сергия и Германа Валаамсяких" | G13: 16 | H13: 26 | K13: =SUM(C13:J13) -> 42 | L13: =(C13*C$5+D13*D$5+E13*E$5+F13*F$5+G13*G$5+H13*H$5+I13*I$5+J13*J$5) -> 2673203.1 | U13: =SUM(M13:T13) -> 0 | V13: =(M13*M$5+N13*N$5+O13*O$5+P13*P$5+Q13*Q$5+R13*R$5+S13*S$5+T13*T$5) -> 0 | AE13: =SUM(W13:AD13) -> 0 | AF13: =(W13*W$5+X13*X$5+Y13*Y$5+Z13*Z$5+AA13*AA$5+AB13*AB$5+AC13*AC$5+AD13*AD$5) -> 0 | AO13: =SUM(AG13:AN13) -> 0 | AP13: =(AG13*AG$5+AH13*AH$5+AI13*AI$5+AJ13*AJ$5+AK13*AK$5+AL13*AL$5+AM13*AM$5+AN13*AN$5) -> 0 | AY13: =SUM(AQ13:AX13) -> 0 | AZ13: =(AQ13*AQ$5+AR13*AR$5+AS13*AS$5+AT13*AT$5+AU13*AU$5+AV13*AV$5+AW13*AW$5+AX13*AX$5) -> 0 | BI13: =SUM(BA13:BH13) -> 0 | BJ13: =(BA13*BA$5+BB13*BB$5+BC13*BC$5+BD13*BD$5+BE13*BE$5+BF13*BF$5+BG13*BG$5+BH13*BH$5) -> 0 | BS13: =SUM(BK13:BR13) -> 0 | BT13: =(BK13*BK$5+BL13*BL$5+BM13*BM$5+BN13*BN$5+BO13*BO$5+BP13*BP$5+BQ13*BQ$5+BR13*BR$5) -> 0 | CC13: =SUM(BU13:CB13) -> 0 | CD13: =(BU13*BU$5+BV13*BV$5+BW13*BW$5+BX13*BX$5+BY13*BY$5+BZ13*BZ$5+CA13*CA$5+CB13*CB$5) -> 0 | CE13: =C13+W13+G13+AA13+AU13+AQ13+AG13+AK13+BU13+BY13+M13+Q13+BK13+BA13+BE13+BO13 -> 16 | CF13: =D13+X13+H13+AB13+AV13+AR13+AH13+AL13+BV13+BZ13+N13+R13+BL13+BB13+BF13+BP13 -> 26 | CG13: =E13+Y13+I13+AC13+AW13+AS13+AI13+AM13+BW13+CA13+O13+S13+BM13+BC13+BG13+BQ13 -> 0 | CH13: =F13+Z13+J13+AD13+AX13+AT13+AJ13+AN13+BX13+CB13+P13+T13+BN13+BD13+BH13+BR13 -> 0 | CI13: =CE13+CF13+CG13+CH13 -> 42 | CJ13: =ROUND(L13+V13+AF13+AZ13+AP13+CD13+BJ13+BT13,-2) -> 2673200 | CK13: =CK25 -> 33.149708 | CL13: 2109900 | CM13: =CJ13-CL13 -> 563300
A14: 9 | B14: АНО "Сосновоборская частная школа" | G14: 72 | H14: 82 | I14: 36 | K14: =SUM(C14:J14) -> 190 | L14: =(C14*C$5+D14*D$5+E14*E$5+F14*F$5+G14*G$5+H14*H$5+I14*I$5+J14*J$5) -> 12248286 | U14: =SUM(M14:T14) -> 0 | V14: =(M14*M$5+N14*N$5+O14*O$5+P14*P$5+Q14*Q$5+R14*R$5+S14*S$5+T14*T$5) -> 0 | AE14: =SUM(W14:AD14) -> 0 | AF14: =(W14*W$5+X14*X$5+Y14*Y$5+Z14*Z$5+AA14*AA$5+AB14*AB$5+AC14*AC$5+AD14*AD$5) -> 0 | AO14: =SUM(AG14:AN14) -> 0 | AP14: =(AG14*AG$5+AH14*AH$5+AI14*AI$5+AJ14*AJ$5+AK14*AK$5+AL14*AL$5+AM14*AM$5+AN14*AN$5) -> 0 | AY14: =SUM(AQ14:AX14) -> 0 | AZ14: =(AQ14*AQ$5+AR14*AR$5+AS14*AS$5+AT14*AT$5+AU14*AU$5+AV14*AV$5+AW14*AW$5+AX14*AX$5) -> 0 | BI14: =SUM(BA14:BH14) -> 0 | BJ14: =(BA14*BA$5+BB14*BB$5+BC14*BC$5+BD14*BD$5+BE14*BE$5+BF14*BF$5+BG14*BG$5+BH14*BH$5) -> 0 | BS14: =SUM(BK14:BR14) -> 0 | BT14: =(BK14*BK$5+BL14*BL$5+BM14*BM$5+BN14*BN$5+BO14*BO$5+BP14*BP$5+BQ14*BQ$5+BR14*BR$5) -> 0 | CC14: =SUM(BU14:CB14) -> 0 | CD14: =(BU14*BU$5+BV14*BV$5+BW14*BW$5+BX14*BX$5+BY14*BY$5+BZ14*BZ$5+CA14*CA$5+CB14*CB$5) -> 0 | CE14: =C14+W14+G14+AA14+AU14+AQ14+AG14+AK14+BU14+BY14+M14+Q14+BK14+BA14+BE14+BO14 -> 72 | CF14: =D14+X14+H14+AB14+AV14+AR14+AH14+AL14+BV14+BZ14+N14+R14+BL14+BB14+BF14+BP14 -> 82 | CG14: =E14+Y14+I14+AC14+AW14+AS14+AI14+AM14+BW14+CA14+O14+S14+BM14+BC14+BG14+BQ14 -> 36 | CH14: =F14+Z14+J14+AD14+AX14+AT14+AJ14+AN14+BX14+CB14+P14+T14+BN14+BD14+BH14+BR14 -> 0 | CI14: =CE14+CF14+CG14+CH14 -> 190 | CJ14: =ROUND(L14+V14+AF14+AZ14+AP14+CD14+BJ14+BT14,-2) -> 12248300 | CK14: =CK26 -> 149.96571 | CL14: 9667500 | CM14: =CJ14-CL14 -> 2580800
A15: 10 | B15: ЧООУ «Деловая волна» | G15: 66 | H15: 54 | I15: 5 | K15: =SUM(C15:J15) -> 125 | L15: =(C15*C$5+D15*D$5+E15*E$5+F15*F$5+G15*G$5+H15*H$5+I15*I$5+J15*J$5) -> 7621998.5 | U15: =SUM(M15:T15) -> 0 | V15: =(M15*M$5+N15*N$5+O15*O$5+P15*P$5+Q15*Q$5+R15*R$5+S15*S$5+T15*T$5) -> 0 | AE15: =SUM(W15:AD15) -> 0 | AF15: =(W15*W$5+X15*X$5+Y15*Y$5+Z15*Z$5+AA15*AA$5+AB15*AB$5+AC15*AC$5+AD15*AD$5) -> 0 | AO15: =SUM(AG15:AN15) -> 0 | AP15: =(AG15*AG$5+AH15*AH$5+AI15*AI$5+AJ15*AJ$5+AK15*AK$5+AL15*AL$5+AM15*AM$5+AN15*AN$5) -> 0 | AY15: =SUM(AQ15:AX15) -> 0 | AZ15: =(AQ15*AQ$5+AR15*AR$5+AS15*AS$5+AT15*AT$5+AU15*AU$5+AV15*AV$5+AW15*AW$5+AX15*AX$5) -> 0 | BI15: =SUM(BA15:BH15) -> 0 | BJ15: =(BA15*BA$5+BB15*BB$5+BC15*BC$5+BD15*BD$5+BE15*BE$5+BF15*BF$5+BG15*BG$5+BH15*BH$5) -> 0 | BS15: =SUM(BK15:BR15) -> 0 | BT15: =(BK15*BK$5+BL15*BL$5+BM15*BM$5+BN15*BN$5+BO15*BO$5+BP15*BP$5+BQ15*BQ$5+BR15*BR$5) -> 0 | CC15: =SUM(BU15:CB15) -> 0 | CD15: =(BU15*BU$5+BV15*BV$5+BW15*BW$5+BX15*BX$5+BY15*BY$5+BZ15*BZ$5+CA15*CA$5+CB15*CB$5) -> 0 | CE15: =C15+W15+G15+AA15+AU15+AQ15+AG15+AK15+BU15+BY15+M15+Q15+BK15+BA15+BE15+BO15 -> 66 | CF15: =D15+X15+H15+AB15+AV15+AR15+AH15+AL15+BV15+BZ15+N15+R15+BL15+BB15+BF15+BP15 -> 54 | CG15: =E15+Y15+I15+AC15+AW15+AS15+AI15+AM15+BW15+CA15+O15+S15+BM15+BC15+BG15+BQ15 -> 5 | CH15: =F15+Z15+J15+AD15+AX15+AT15+AJ15+AN15+BX15+CB15+P15+T15+BN15+BD15+BH15+BR15 -> 0 | CI15: =CE15+CF15+CG15+CH15 -> 125 | CJ15: =ROUND(L15+V15+AF15+AZ15+AP15+CD15+BJ15+BT15,-2) -> 7622000 | CK15: =CK27 -> 98.650289 | CL15: 6015300 | CM15: =CJ15-CL15 -> 1606700
B16: ИТОГО | C16: =SUM(C6:C15) -> 0 | D16: =SUM(D6:D15) -> 0 | E16: =SUM(E6:E15) -> 0 | F16: =SUM(F6:F15) -> 14 | G16: =SUM(G6:G15) -> 460 | H16: =SUM(H6:H15) -> 399 | I16: =SUM(I6:I15) -> 61 | J16: =SUM(J6:J15) -> 40 | ... CM16: =SUM(CM6:CM15) -> 16539600
CJ18: =CJ6/CI6 -> 63270.803 | CK18: =CL6/CJ18 -> 108.12886 | CL18: =CI6-CK18 -> 28.871137
CJ19: =CJ7/CI7 -> 67076.471 | CK19: =CL7/CJ19 -> 67.095063 | CL19: =CI7-CK19 -> 17.904937
CJ20: =CJ8/CI8 -> 64633.793 | CK20: =CL8/CJ20 -> 114.44942 | CL20: =CI8-CK20 -> 30.550582
CJ21: =CJ9/CI9 -> 63622.222 | CK21: =CL9/CJ21 -> 99.447957 | CL21: =CI9-CK21 -> 26.552043
CJ22: =CJ10/CI10 -> 68270.833 | CK22: =CL10/CJ22 -> 132.613 | CL22: =CI10-CK22 -> 35.387
CJ23: =CJ11/CI11 -> 63975 | CK23: =CL11/CJ23 -> 94.71356 | CL23: =CI11-CK23 -> 25.28644
CJ24: =CJ12/CI12 -> 76568.182 | CK24: =CL12/CJ24 -> 52.109112 | CL24: =CI12-CK24 -> 13.890888
CJ25: =CJ13/CI13 -> 63647.619 | CK25: =CL13/CJ25 -> 33.149708 | CL25: =CI13-CK25 -> 8.8502918
CJ26: =CJ14/CI14 -> 64464.737 | CK26: =CL14/CJ26 -> 149.96571 | CL26: =CI14-CK26 -> 40.03429
CJ27: =CJ15/CI15 -> 60976 | CK27: =CL15/CJ27 -> 98.650289 | CL27: =CI15-CK27 -> 26.349711
CK28: =SUM(CK18:CK27) -> 950.32268 | CL28: =SUM(CL18:CL27) -> 253.67732

Sheet ИП
C1: Расчет объема финансового обеспечения затрат индивидуальным предпринимателям в связи с реализацией основных общеобразовательных программ дошкольного образования на 2021 год
A3: №№ | B3: Наименование | C3: группы общеразвивающей направленности, обычные группы | W3: Всего | AA3: Итого потребность на 2021 год | AC3: в рамках контрольных цифр
C4: кратковременного пребывания | G4: сокращенного дня | K4: полного дня | O4: продленного дня | S4: круглосуточным пребыванием
C5: до 5 часов | G5: 8 - 10 часов | K5: 10,5 - 12 часов | O5: 13 - 14 часов | S5: 24 часа
C6: до 3 лет | E6: старше 3 лет | G6: до 3 лет | I6: старше 3 лет | K6: до 3 лет | M6: старше 3 лет | O6: до 3 лет | Q6: старше 3 лет | S6: до 3 лет | U6: старше 3 лет | W6: до 3 лет | Y6: старше 3 лет | AC6: в рамках контрольных цифр
C7: 19 | D7: 23 | E7: 19 | F7: 23 | G7: 19 | H7: 23 | I7: 19 | J7: 23 | K7: 19 | L7: 23 | M7: 15 | N7: 20 | O7: 15 | P7: 20 | Q7: 15 | R7: 20 | S7: 15 | T7: 20 | U7: 15 | V7: 20 | W7: 15 | X7: 20 | Y7: 15 | Z7: 20 | AA7: 15 | AB7: 20 | AC7: контингент | AD7: сумма | AE7: доп.потребность
C8: кон-т | D8: сумма | E8: кон-т | F8: сумма | G8: кон-т | H8: сумма | I8: кон-т | J8: сумма | K8: кон-т | L8: сумма | M8: кон-т | N8: сумма | O8: кон-т | P8: сумма | Q8: кон-т | R8: сумма | S8: кон-т | T8: сумма | U8: кон-т | V8: сумма | W8: кон-т | X8: сумма | Y8: кон-т | Z8: сумма | AA8: кон-т | AB8: сумма
A9: 3 | L9: ='Нормативы ДО'!F605 -> 100525.02 | N9: ='Нормативы ДО'!J605 -> 77072.261 | P9: ='Нормативы ДО'!G605 -> 115176.52 | R9: ='Нормативы ДО'!L605 -> 101279.09 | T9: ='Норматив ДОУ_КОПО'!I583 -> 10462 | V9: ='Норматив ДОУ_КОПО'!I584 -> 8495
A10: 1 | B10: ИП Токубаев В.Э. "Детский образовательный центр" | D10: =C10*D$9 -> 0 | F10: =E10*F$9 -> 0 | H10: =G10*H$9 -> 0 | J10: =I10*J$9 -> 0 | L10: =K10*L$9 -> 0 | N10: =M10*N$9 -> 0 | O10: 6 | P10: =O10*P$9 -> 691059.11 | Q10: 20 | R10: =Q10*R$9 -> 2025581.9 | T10: =S10*T$9 -> 0 | V10: =U10*V$9 -> 0 | W10: =C10+G10+K10+O10+S10 -> 6 | X10: =D10+H10+L10+P10+T10 -> 691059.11 | Y10: =E10+I10+M10+Q10+U10 -> 20 | Z10: =F10+J10+N10+R10+V10 -> 2025581.9 | AA10: =W10+Y10 -> 26 | AB10: =ROUND(X10+Z10,-2) -> 2716600 | AC10: =AC19 -> 14.065229 | AD10: 1469600 | AE10: =AB10-AD10 -> 1247000
A11: 2 | B11: ИП Козина Н.А. | D11: =C11*D$9 -> 0 | F11: =E11*F$9 -> 0 | H11: =G11*H$9 -> 0 | J11: =I11*J$9 -> 0 | K11: 35 | L11: =K11*L$9 -> 3518375.5 | M11: 45 | N11: =M11*N$9 -> 3468251.8 | P11: =O11*P$9 -> 0 | R11: =Q11*R$9 -> 0 | T11: =S11*T$9 -> 0 | V11: =U11*V$9 -> 0 | W11: =C11+G11+K11+O11+S11 -> 35 | X11: =D11+H11+L11+P11+T11 -> 3518375.5 | Y11: =E11+I11+M11+Q11+U11 -> 45 | Z11: =F11+J11+N11+R11+V11 -> 3468251.8 | AA11: =W11+Y11 -> 80 | AB11: =ROUND(X11+Z11,-2) -> 6986600 | AC11: =AC20 -> 43.278276 | AD11: 3779600 | AE11: =AB11-AD11 -> 3207000
A12: 3 | B12: ИП Копцева И.Н. | D12: =C12*D$9 -> 0 | F12: =E12*F$9 -> 0 | H12: =G12*H$9 -> 0 | J12: =I12*J$9 -> 0 | K12: 19 | L12: =K12*L$9 -> 1909975.3 | M12: 11 | N12: =M12*N$9 -> 847794.88 | P12: =O12*P$9 -> 0 | R12: =Q12*R$9 -> 0 | T12: =S12*T$9 -> 0 | V12: =U12*V$9 -> 0 | W12: =C12+G12+K12+O12+S12 -> 19 | X12: =D12+H12+L12+P12+T12 -> 1909975.3 | Y12: =E12+I12+M12+Q12+U12 -> 11 | Z12: =F12+J12+N12+R12+V12 -> 847794.88 | AA12: =W12+Y12 -> 30 | AB12: =ROUND(X12+Z12,-2) -> 2757800 | AC12: =AC21 -> 16.229241 | AD12: 1491900 | AE12: =AB12-AD12 -> 1265900
A13: 4 | B13: ИП Иванов А.С. | D13: =C13*D$9 -> 0 | F13: =E13*F$9 -> 0 | H13: =G13*H$9 -> 0 | J13: =I13*J$9 -> 0 | K13: 20 | L13: =K13*L$9 -> 2010500.3 | M13: 28 | N13: =M13*N$9 -> 2158023.3 | P13: =O13*P$9 -> 0 | R13: =Q13*R$9 -> 0 | T13: =S13*T$9 -> 0 | V13: =U13*V$9 -> 0 | W13: =C13+G13+K13+O13+S13 -> 20 | X13: =D13+H13+L13+P13+T13 -> 2010500.3 | Y13: =E13+I13+M13+Q13+U13 -> 28 | Z13: =F13+J13+N13+R13+V13 -> 2158023.3 | AA13: =W13+Y13 -> 48 | AB13: =ROUND(X13+Z13,-2) -> 4168500 | AC13: =AC22 -> 25.967326 | AD13: 2255100 | AE13: =AB13-AD13 -> 1913400
A14: 5 | B14: ИП Белова О.П. | D14: =C14*D$9 -> 0 | F14: =E14*F$9 -> 0 | H14: =G14*H$9 -> 0 | J14: =I14*J$9 -> 0 | K14: 26 | L14: =K14*L$9 -> 2613650.4 | M14: 6 | N14: =M14*N$9 -> 462433.57 | P14: =O14*P$9 -> 0 | R14: =Q14*R$9 -> 0 | T14: =S14*T$9 -> 0 | V14: =U14*V$9 -> 0 | W14: =C14+G14+K14+O14+S14 -> 26 | X14: =D14+H14+L14+P14+T14 -> 2613650.4 | Y14: =E14+I14+M14+Q14+U14 -> 6 | Z14: =F14+J14+N14+R14+V14 -> 462433.57 | AA14: =W14+Y14 -> 32 | AB14: =ROUND(X14+Z14,-2) -> 3076100 | AC14: =AC23 -> 17.311271 | AD14: 1664100 | AE14: =AB14-AD14 -> 1412000
A15: 6 | B15: ИП Семцова А.П. | D15: =C15*D$9 -> 0 | F15: =E15*F$9 -> 0 | H15: =G15*H$9 -> 0 | J15: =I15*J$9 -> 0 | K15: 26 | L15: =K15*L$9 -> 2613650.4 | M15: 6 | N15: =M15*N$9 -> 462433.57 | P15: =O15*P$9 -> 0 | R15: =Q15*R$9 -> 0 | T15: =S15*T$9 -> 0 | V15: =U15*V$9 -> 0 | W15: =C15+G15+K15+O15+S15 -> 26 | X15: =D15+H15+L15+P15+T15 -> 2613650.4 | Y15: =E15+I15+M15+Q15+U15 -> 6 | Z15: =F15+J15+N15+R15+V15 -> 462433.57 | AA15: =W15+Y15 -> 32 | AB15: =ROUND(X15+Z15,-2) -> 3076100 | AC15: =AC24 -> 17.311271 | AD15: 1664100 | AE15: =AB15-AD15 -> 1412000
B16: Итого | C16: =SUM(C10:C15) -> 0 | D16: =SUM(D10:D15) -> 0 | E16: =SUM(E10:E15) -> 0 | F16: =SUM(F10:F15) -> 0 | G16: =SUM(G10:G15) -> 0 | H16: =SUM(H10:H15) -> 0 | I16: =SUM(I10:I15) -> 0 | J16: =SUM(J10:J15) -> 0 | ... AE16: =SUM(AE10:AE15) -> 10457300
AB19: =AB10/AA10 -> 104484.62 | AC19: =AD10/AB19 -> 14.065229 | AD19: =AA10-AC19 -> 11.934771
AB20: =AB11/AA11 -> 87332.5 | AC20: =AD11/AB20 -> 43.278276 | AD20: =AA11-AC20 -> 36.721724
AB21: =AB12/AA12 -> 91926.667 | AC21: =AD12/AB21 -> 16.229241 | AD21: =AA12-AC21 -> 13.770759
AB22: =AB13/AA13 -> 86843.75 | AC22: =AD13/AB22 -> 25.967326 | AD22: =AA13-AC22 -> 22.032674
AB23: =AB14/AA14 -> 96128.125 | AC23: =AD14/AB23 -> 17.311271 | AD23: =AA14-AC23 -> 14.688729
AB24: =AB15/AA15 -> 96128.125 | AC24: =AD15/AB24 -> 17.311271 | AD24: =AA15-AC24 -> 14.688729
AC25: =SUM(AC19:AC24) -> 134.16261 | AD25: =SUM(AD19:AD24) -> 113.83739

Sheet ЧДОУ
C1: Расчет объема субсидий частным дошкольным образовательным организациям на возмещение затрат по реализации основных общеобразовательных программ дошкольного образования на 2021 год
A3: №№ | B3: Наименование | C3: группы общеразвивающей направленности, обычные группы | W3: группы компенсирующей направленности для детей с фонетико-фонематическими нарушениями речи | AE3: Всего | AI3: Итого потребность на 2021 год | AK3: в рамках контрольных цифр
C4: кратковременного пребывания | G4: сокращенного дня | K4: полного дня | O4: продленного дня | S4: круглосуточным пребыванием | W4: сокращенного дня | AA4: полного дня
C5: до 5 часов | G5: 8 - 10 часов | K5: 10,5 - 12 часов | O5: 13 - 14 часов | S5: 24 часа | W5: 8 - 10,5 часов | AA5: 12 часов
C6: до 3 лет | E6: старше 3 лет | G6: до 3 лет | I6: старше 3 лет | K6: до 3 лет | M6: старше 3 лет | O6: до 3 лет | Q6: старше 3 лет | S6: до 3 лет | U6: старше 3 лет | W6: до 3 лет | Y6: старше 3 лет | AA6: до 3 лет | AC6: старше 3 лет | AE6: до 3 лет | AG6: старше 3 лет | AK6: в рамках контрольных цифр
C7: 19 | D7: 23 | E7: 19 | F7: 23 | G7: 19 | H7: 23 | I7: 19 | J7: 23 | K7: 19 | L7: 23 | M7: 15 | N7: 20 | O7: 15 | P7: 20 | Q7: 15 | R7: 20 | S7: 15 | T7: 20 | U7: 15 | V7: 20 | W7: 19 | X7: 23 | Y7: 19 | Z7: 23 | AA7: 19 | AB7: 23 | AC7: 19 | AD7: 23 | AE7: 15 | AF7: 20 | AG7: 15 | AH7: 20 | AI7: 15 | AJ7: 20 | AK7: контингент | AL7: сумма | AM7: доп.потребность
C8: кон-т | D8: сумма | E8: кон-т | F8: сумма | G8: кон-т | H8: сумма | I8: кон-т | J8: сумма | K8: кон-т | L8: сумма | M8: кон-т | N8: сумма | O8: кон-т | P8: сумма | Q8: кон-т | R8: сумма | S8: кон-т | T8: сумма | U8: кон-т | V8: сумма | W8: кон-т | X8: сумма | Y8: кон-т | Z8: сумма | AA8: кон-т | AB8: сумма | AC8: кон-т | AD8: сумма | AE8: кон-т | AF8: сумма | AG8: кон-т | AH8: сумма | AI8: кон-т | AJ8: сумма
A9: 3 | D9: ='Нормативы ДО'!D605 -> 49244.753 | H9: ='Нормативы ДО'!E605 -> 85873.512 | L9: ='Нормативы ДО'!F605 -> 100525.02 | N9: ='Нормативы ДО'!J605 -> 77072.261 | P9: ='Нормативы ДО'!G605 -> 115176.52 | R9: ='Нормативы ДО'!L605 -> 101279.09 | X9: ='Норматив ДОУ_КОПО'!F599 -> 0
A10: 1 | B10: ЧДОУ "Творец" | C10: 15 | D10: =C10*D$9 -> 738671.3 | F10: =E10*F$9 -> 0 | H10: =G10*H$9 -> 0 | J10: =I10*J$9 -> 0 | K10: 40 | L10: =K10*L$9 -> 4021000.6 | N10: =M10*N$9 -> 0 | P10: =O10*P$9 -> 0 | R10: =Q10*R$9 -> 0 | T10: =S10*T$9 -> 0 | V10: =U10*V$9 -> 0 | X10: =W10*X$9 -> 0 | Z10: =Y10*Z$9 -> 0 | AB10: =AA10*AB$9 -> 0 | AD10: =AC10*AD$9 -> 0 | AE10: =C10+G10+K10+O10+S10+W10+AA10 -> 55 | AF10: =D10+H10+L10+P10+T10+X10+AB10 -> 4759671.9 | AG10: =E10+I10+M10+Q10+U10+Y10+AC10 -> 0 | AH10: =F10+J10+N10+R10+V10+Z10+AD10 -> 0 | AI10: =AE10+AG10 -> 55 | AJ10: =ROUND(AF10+AH10,-2) -> 4759700 | AK10: =AK32 -> 23.839843 | AL10: 2063100 | AM10: =AJ10-AL10 -> 2696600
A11: 2 | B11: ООО "Детский цент "Доброград" | D11: =C11*D$9 -> 0 | F11: =E11*F$9 -> 0 | H11: =G11*H$9 -> 0 | J11: =I11*J$9 -> 0 | K11: 21 | L11: =K11*L$9 -> 2111025.3 | M11: 29 | N11: =M11*N$9 -> 2235095.6 | P11: =O11*P$9 -> 0 | R11: =Q11*R$9 -> 0 | T11: =S11*T$9 -> 0 | V11: =U11*V$9 -> 0 | X11: =W11*X$9 -> 0 | Z11: =Y11*Z$9 -> 0 | AB11: =AA11*AB$9 -> 0 | AD11: =AC11*AD$9 -> 0 | AE11: =C11+G11+K11+O11+S11+W11+AA11 -> 21 | AF11: =D11+H11+L11+P11+T11+X11+AB11 -> 2111025.3 | AG11: =E11+I11+M11+Q11+U11+Y11+AC11 -> 29 | AH11: =F11+J11+N11+R11+V11+Z11+AD11 -> 2235095.6 | AI11: =AE11+AG11 -> 50 | AJ11: =ROUND(AF11+AH11,-2) -> 4346100 | AK11: =AK33 -> 21.673454 | AL11: 1883900 | AM11: =AJ11-AL11 -> 2462200
A12: 3 | B12: АНО "Сосновоборская частная школа" (дошкольное отделение) | D12: =C12*D$9 -> 0 | F12: =E12*F$9 -> 0 | H12: =G12*H$9 -> 0 | J12: =I12*J$9 -> 0 | L12: =K12*L$9 -> 0 | M12: 25 | N12: =M12*N$9 -> 1926806.5 | P12: =O12*P$9 -> 0 | R12: =Q12*R$9 -> 0 | T12: =S12*T$9 -> 0 | V12: =U12*V$9 -> 0 | X12: =W12*X$9 -> 0 | Z12: =Y12*Z$9 -> 0 | AB12: =AA12*AB$9 -> 0 | AD12: =AC12*AD$9 -> 0 | AE12: =C12+G12+K12+O12+S12+W12+AA12 -> 0 | AF12: =D12+H12+L12+P12+T12+X12+AB12 -> 0 | AG12: =E12+I12+M12+Q12+U12+Y12+AC12 -> 25 | AH12: =F12+J12+N12+R12+V12+Z12+AD12 -> 1926806.5 | AI12: =AE12+AG12 -> 25 | AJ12: =ROUND(AF12+AH12,-2) -> 1926800 | AK12: =AK34 -> 10.83662 | AL12: 835200 | AM12: =AJ12-AL12 -> 1091600
A13: 4 | B13: ООО «Центр развития «Тигренок» | D13: =C13*D$9 -> 0 | F13: =E13*F$9 -> 0 | H13: =G13*H$9 -> 0 | J13: =I13*J$9 -> 0 | K13: 37 | L13: =K13*L$9 -> 3719425.6 | M13: 103 | N13: =M13*N$9 -> 7938442.9 | P13: =O13*P$9 -> 0 | R13: =Q13*R$9 -> 0 | T13: =S13*T$9 -> 0 | V13: =U13*V$9 -> 0 | X13: =W13*X$9 -> 0 | Z13: =Y13*Z$9 -> 0 | AB13: =AA13*AB$9 -> 0 | AD13: =AC13*AD$9 -> 0 | AE13: =C13+G13+K13+O13+S13+W13+AA13 -> 37 | AF13: =D13+H13+L13+P13+T13+X13+AB13 -> 3719425.6 | AG13: =E13+I13+M13+Q13+U13+Y13+AC13 -> 103 | AH13: =F13+J13+N13+R13+V13+Z13+AD13 -> 7938442.9 | AI13: =AE13+AG13 -> 140 | AJ13: =ROUND(AF13+AH13,-2) -> 11657900 | AK13: =AK35 -> 60.685201 | AL13: 5053300 | AM13: =AJ13-AL13 -> 6604600
A14: 5 | B14: ЧУДО "Маленькая страна "Кудрово" | D14: =C14*D$9 -> 0 | F14: =E14*F$9 -> 0 | H14: =G14*H$9 -> 0 | J14: =I14*J$9 -> 0 | L14: =K14*L$9 -> 0 | N14: =M14*N$9 -> 0 | O14: 91 | P14: =O14*P$9 -> 10481063 | Q14: 127 | R14: =Q14*R$9 -> 12862445 | T14: =S14*T$9 -> 0 | V14: =U14*V$9 -> 0 | X14: =W14*X$9 -> 0 | Z14: =Y14*Z$9 -> 0 | AB14: =AA14*AB$9 -> 0 | AC14: 0 | AD14: =AC14*AD$9 -> 0 | AE14: =C14+G14+K14+O14+S14+W14+AA14 -> 91 | AF14: =D14+H14+L14+P14+T14+X14+AB14 -> 10481063 | AG14: =E14+I14+M14+Q14+U14+Y14+AC14 -> 127 | AH14: =F14+J14+N14+R14+V14+Z14+AD14 -> 12862445 | AI14: =AE14+AG14 -> 218 | AJ14: =ROUND(AF14+AH14,-2) -> 23343500 | AK14: =AK36 -> 94.496395 | AL14: 10118700 | AM14: =AJ14-AL14 -> 13224800
A15: 6 | B15: АНО ДО "Детский сад "Лучик" | D15: =C15*D$9 -> 0 | F15: =E15*F$9 -> 0 | H15: =G15*H$9 -> 0 | J15: =I15*J$9 -> 0 | K15: 0 | L15: =K15*L$9 -> 0 | M15: 0 | N15: =M15*N$9 -> 0 | O15: 112 | P15: =O15*P$9 -> 12899770 | Q15: 218 | R15: =Q15*R$9 -> 22078842 | T15: =S15*T$9 -> 0 | V15: =U15*V$9 -> 0 | X15: =W15*X$9 -> 0 | Z15: =Y15*Z$9 -> 0 | AB15: =AA15*AB$9 -> 0 | AD15: =AC15*AD$9 -> 0 | AE15: =C15+G15+K15+O15+S15+W15+AA15 -> 112 | AF15: =D15+H15+L15+P15+T15+X15+AB15 -> 12899770 | AG15: =E15+I15+M15+Q15+U15+Y15+AC15 -> 218 | AH15: =F15+J15+N15+R15+V15+Z15+AD15 -> 22078842 | AI15: =AE15+AG15 -> 330 | AJ15: =ROUND(AF15+AH15,-2) -> 34978600 | AK15: =AK37 -> 143.0444 | AL15: 15162100 | AM15: =AJ15-AL15 -> 19816500
A16: 7 | B16: ООО ДО "Детский сад "Лучик" | D16: =C16*D$9 -> 0 | F16: =E16*F$9 -> 0 | H16: =G16*H$9 -> 0 | J16: =I16*J$9 -> 0 | K16: 0 | L16: =K16*L$9 -> 0 | M16: 0 | N16: =M16*N$9 -> 0 | O16: 191 | P16: =O16*P$9 -> 21998715 | Q16: 165 | R16: =Q16*R$9 -> 16711050 | T16: =S16*T$9 -> 0 | V16: =U16*V$9 -> 0 | X16: =W16*X$9 -> 0 | Z16: =Y16*Z$9 -> 0 | AB16: =AA16*AB$9 -> 0 | AD16: =AC16*AD$9 -> 0 | AE16: =C16+G16+K16+O16+S16+W16+AA16 -> 191 | AF16: =D16+H16+L16+P16+T16+X16+AB16 -> 21998715 | AG16: =E16+I16+M16+Q16+U16+Y16+AC16 -> 165 | AH16: =F16+J16+N16+R16+V16+Z16+AD16 -> 16711050 | AI16: =AE16+AG16 -> 356 | AJ16: =ROUND(AF16+AH16,-2) -> 38709800 | AK16: =AK38 -> 154.31406 | AL16: 16779400 | AM16: =AJ16-AL16 -> 21930400
A17: 8 | B17: ООО "Система" (Эрудит) | D17: =C17*D$9 -> 0 | F17: =E17*F$9 -> 0 | H17: =G17*H$9 -> 0 | J17: =I17*J$9 -> 0 | K17: 60 | L17: =K17*L$9 -> 6031500.9 | M17: 26 | N17: =M17*N$9 -> 2003878.8 | P17: =O17*P$9 -> 0 | R17: =Q17*R$9 -> 0 | T17: =S17*T$9 -> 0 | V17: =U17*V$9 -> 0 | X17: =W17*X$9 -> 0 | Z17: =Y17*Z$9 -> 0 | AB17: =AA17*AB$9 -> 0 | AD17: =AC17*AD$9 -> 0 | AE17: =C17+G17+K17+O17+S17+W17+AA17 -> 60 | AF17: =D17+H17+L17+P17+T17+X17+AB17 -> 6031500.9 | AG17: =E17+I17+M17+Q17+U17+Y17+AC17 -> 26 | AH17: =F17+J17+N17+R17+V17+Z17+AD17 -> 2003878.8 | AI17: =AE17+AG17 -> 86 | AJ17: =ROUND(AF17+AH17,-2) -> 8035400 | AK17: =AK39 -> 37.278368 | AL17: 3483100 | AM17: =AJ17-AL17 -> 4552300
A18: 9 | B18: ООО "Маленькая страна Новогорелово" | D18: =C18*D$9 -> 0 | F18: =E18*F$9 -> 0 | H18: =G18*H$9 -> 0 | J18: =I18*J$9 -> 0 | L18: =K18*L$9 -> 0 | N18: =M18*N$9 -> 0 | O18: 13 | P18: =O18*P$9 -> 1497294.7 | Q18: 55 | R18: =Q18*R$9 -> 5570350.1 | T18: =S18*T$9 -> 0 | V18: =U18*V$9 -> 0 | X18: =W18*X$9 -> 0 | Z18: =Y18*Z$9 -> 0 | AB18: =AA18*AB$9 -> 0 | AD18: =AC18*AD$9 -> 0 | AE18: =C18+G18+K18+O18+S18+W18+AA18 -> 13 | AF18: =D18+H18+L18+P18+T18+X18+AB18 -> 1497294.7 | AG18: =E18+I18+M18+Q18+U18+Y18+AC18 -> 55 | AH18: =F18+J18+N18+R18+V18+Z18+AD18 -> 5570350.1 | AI18: =AE18+AG18 -> 68 | AJ18: =ROUND(AF18+AH18,-2) -> 7067600 | AK18: =AK40 -> 29.476031 | AL18: 3063600 | AM18: =AJ18-AL18 -> 4004000
A19: 10 | B19: НО ЧДОУ Детский сад "Планета ДЕТСТВА" | D19: =C19*D$9 -> 0 | F19: =E19*F$9 -> 0 | H19: =G19*H$9 -> 0 | J19: =I19*J$9 -> 0 | L19: =K19*L$9 -> 0 | N19: =M19*N$9 -> 0 | O19: 35 | P19: =O19*P$9 -> 4031178.1 | Q19: 40 | R19: =Q19*R$9 -> 4051163.7 | T19: =S19*T$9 -> 0 | V19: =U19*V$9 -> 0 | X19: =W19*X$9 -> 0 | Z19: =Y19*Z$9 -> 0 | AB19: =AA19*AB$9 -> 0 | AD19: =AC19*AD$9 -> 0 | AE19: =C19+G19+K19+O19+S19+W19+AA19 -> 35 | AF19: =D19+H19+L19+P19+T19+X19+AB19 -> 4031178.1 | AG19: =E19+I19+M19+Q19+U19+Y19+AC19 -> 40 | AH19: =F19+J19+N19+R19+V19+Z19+AD19 -> 4051163.7 | AI19: =AE19+AG19 -> 75 | AJ19: =ROUND(AF19+AH19,-2) -> 8082300 | AK19: =AK41 -> 32.510857 | AL19: 3503500 | AM19: =AJ19-AL19 -> 4578800
A20: 11 | B20: ЧОУ ННО "УМНЫЙ МИР" | D20: =C20*D$9 -> 0 | F20: =E20*F$9 -> 0 | H20: =G20*H$9 -> 0 | J20: =I20*J$9 -> 0 | K20: 152 | L20: =K20*L$9 -> 15279802 | M20: 266 | N20: =M20*N$9 -> 20501222 | P20: =O20*P$9 -> 0 | R20: =Q20*R$9 -> 0 | T20: =S20*T$9 -> 0 | V20: =U20*V$9 -> 0 | X20: =W20*X$9 -> 0 | Z20: =Y20*Z$9 -> 0 | AB20: =AA20*AB$9 -> 0 | AD20: =AC20*AD$9 -> 0 | AE20: =C20+G20+K20+O20+S20+W20+AA20 -> 152 | AF20: =D20+H20+L20+P20+T20+X20+AB20 -> 15279802 | AG20: =E20+I20+M20+Q20+U20+Y20+AC20 -> 266 | AH20: =F20+J20+N20+R20+V20+Z20+AD20 -> 20501222 | AI20: =AE20+AG20 -> 418 | AJ20: =ROUND(AF20+AH20,-2) -> 35781000 | AK20: =AK42 -> 181.18941 | AL20: 15509900 | AM20: =AJ20-AL20 -> 20271100
A21: 12 | B21: ЧОУ Гимназия "Грэйс" | D21: =C21*D$9 -> 0 | F21: =E21*F$9 -> 0 | H21: =G21*H$9 -> 0 | J21: =I21*J$9 -> 0 | L21: =K21*L$9 -> 0 | M21: 25 | N21: =M21*N$9 -> 1926806.5 | P21: =O21*P$9 -> 0 | R21: =Q21*R$9 -> 0 | T21: =S21*T$9 -> 0 | V21: =U21*V$9 -> 0 | X21: =W21*X$9 -> 0 | Z21: =Y21*Z$9 -> 0 | AB21: =AA21*AB$9 -> 0 | AD21: =AC21*AD$9 -> 0 | AE21: =C21+G21+K21+O21+S21+W21+AA21 -> 0 | AF21: =D21+H21+L21+P21+T21+X21+AB21 -> 0 | AG21: =E21+I21+M21+Q21+U21+Y21+AC21 -> 25 | AH21: =F21+J21+N21+R21+V21+Z21+AD21 -> 1926806.5 | AI21: =AE21+AG21 -> 25 | AJ21: =ROUND(AF21+AH21,-2) -> 1926800 | AK21: =AK43 -> 10.83662 | AL21: 835200 | AM21: =AJ21-AL21 -> 1091600
A22: 13 | B22: ООО "Маленькая страна Щеглово" | D22: =C22*D$9 -> 0 | F22: =E22*F$9 -> 0 | H22: =G22*H$9 -> 0 | J22: =I22*J$9 -> 0 | L22: =K22*L$9 -> 0 | N22: =M22*N$9 -> 0 | O22: 39 | P22: =O22*P$9 -> 4491884.2 | Q22: 33 | R22: =Q22*R$9 -> 3342210.1 | T22: =S22*T$9 -> 0 | V22: =U22*V$9 -> 0 | X22: =W22*X$9 -> 0 | Z22: =Y22*Z$9 -> 0 | AB22: =AA22*AB$9 -> 0 | AD22: =AC22*AD$9 -> 0 | AE22: =C22+G22+K22+O22+S22+W22+AA22 -> 39 | AF22: =D22+H22+L22+P22+T22+X22+AB22 -> 4491884.2 | AG22: =E22+I22+M22+Q22+U22+Y22+AC22 -> 33 | AH22: =F22+J22+N22+R22+V22+Z22+AD22 -> 3342210.1 | AI22: =AE22+AG22 -> 72 | AJ22: =ROUND(AF22+AH22,-2) -> 7834100 | AK22: =AK44 -> 31.209405 | AL22: 3395800 | AM22: =AJ22-AL22 -> 4438300
A23: 14 | B23: ООО "ТОСНО ПРОЕКТ" | D23: =C23*D$9 -> 0 | F23: =E23*F$9 -> 0 | G23: 20 | H23: =G23*H$9 -> 1717470.2 | J23: =I23*J$9 -> 0 | L23: =K23*L$9 -> 0 | N23: =M23*N$9 -> 0 | P23: =O23*P$9 -> 0 | R23: =Q23*R$9 -> 0 | T23: =S23*T$9 -> 0 | V23: =U23*V$9 -> 0 | X23: =W23*X$9 -> 0 | Z23: =Y23*Z$9 -> 0 | AB23: =AA23*AB$9 -> 0 | AD23: =AC23*AD$9 -> 0 | AE23: =C23+G23+K23+O23+S23+W23+AA23 -> 20 | AF23: =D23+H23+L23+P23+T23+X23+AB23 -> 1717470.2 | AG23: =E23+I23+M23+Q23+U23+Y23+AC23 -> 0 | AH23: =F23+J23+N23+R23+V23+Z23+AD23 -> 0 | AI23: =AE23+AG23 -> 20 | AJ23: =ROUND(AF23+AH23,-2) -> 1717500 | AK23: =AK45 -> 8.6695779 | AL23: 744500 | AM23: =AJ23-AL23 -> 973000
A24: 15 | B24: ЧДОУ "Новая История" | D24: =C24*D$9 -> 0 | F24: =E24*F$9 -> 0 | H24: =G24*H$9 -> 0 | J24: =I24*J$9 -> 0 | K24: 64 | L24: =K24*L$9 -> 6433601 | M24: 36 | N24: =M24*N$9 -> 2774601.4 | P24: =O24*P$9 -> 0 | R24: =Q24*R$9 -> 0 | T24: =S24*T$9 -> 0 | V24: =U24*V$9 -> 0 | X24: =W24*X$9 -> 0 | Z24: =Y24*Z$9 -> 0 | AB24: =AA24*AB$9 -> 0 | AD24: =AC24*AD$9 -> 0 | AE24: =C24+G24+K24+O24+S24+W24+AA24 -> 64 | AF24: =D24+H24+L24+P24+T24+X24+AB24 -> 6433601 | AG24: =E24+I24+M24+Q24+U24+Y24+AC24 -> 36 | AH24: =F24+J24+N24+R24+V24+Z24+AD24 -> 2774601.4 | AI24: =AE24+AG24 -> 100 | AJ24: =ROUND(AF24+AH24,-2) -> 9208200 | AK24: =AK46 -> 43.346148 | AL24: 3991400 | AM24: =AJ24-AL24 -> 5216800
A25: 16 | B25: ООО "РОСТ ОК" | D25: =C25*D$9 -> 0 | F25: =E25*F$9 -> 0 | H25: =G25*H$9 -> 0 | J25: =I25*J$9 -> 0 | K25: 35 | L25: =K25*L$9 -> 3518375.5 | M25: 5 | N25: =M25*N$9 -> 385361.31 | P25: =O25*P$9 -> 0 | R25: =Q25*R$9 -> 0 | T25: =S25*T$9 -> 0 | V25: =U25*V$9 -> 0 | X25: =W25*X$9 -> 0 | Z25: =Y25*Z$9 -> 0 | AB25: =AA25*AB$9 -> 0 | AD25: =AC25*AD$9 -> 0 | AE25: =C25+G25+K25+O25+S25+W25+AA25 -> 35 | AF25: =D25+H25+L25+P25+T25+X25+AB25 -> 3518375.5 | AG25: =E25+I25+M25+Q25+U25+Y25+AC25 -> 5 | AH25: =F25+J25+N25+R25+V25+Z25+AD25 -> 385361.31 | AI25: =AE25+AG25 -> 40 | AJ25: =ROUND(AF25+AH25,-2) -> 3903700 | AK25: =AK47 -> 17.338423 | AL25: 1692100 | AM25: =AJ25-AL25 -> 2211600
A26: 17 | B26: ООО "УМКА" | D26: =C26*D$9 -> 0 | F26: =E26*F$9 -> 0 | H26: =G26*H$9 -> 0 | J26: =I26*J$9 -> 0 | K26: 26 | L26: =K26*L$9 -> 2613650.4 | N26: =M26*N$9 -> 0 | P26: =O26*P$9 -> 0 | R26: =Q26*R$9 -> 0 | T26: =S26*T$9 -> 0 | V26: =U26*V$9 -> 0 | X26: =W26*X$9 -> 0 | Z26: =Y26*Z$9 -> 0 | AB26: =AA26*AB$9 -> 0 | AD26: =AC26*AD$9 -> 0 | AE26: =C26+G26+K26+O26+S26+W26+AA26 -> 26 | AF26: =D26+H26+L26+P26+T26+X26+AB26 -> 2613650.4 | AG26: =E26+I26+M26+Q26+U26+Y26+AC26 -> 0 | AH26: =F26+J26+N26+R26+V26+Z26+AD26 -> 0 | AI26: =AE26+AG26 -> 26 | AJ26: =ROUND(AF26+AH26,-2) -> 2613700 | AK26: =AK48 -> 11.269618 | AL26: 1132900 | AM26: =AJ26-AL26 -> 1480800
B27: Итого | C27: =SUM(C10:C26) -> 15 | D27: =SUM(D10:D26) -> 738671.3 | E27: =SUM(E10:E26) -> 0 | F27: =SUM(F10:F26) -> 0 | G27: =SUM(G10:G26) -> 20 | H27: =SUM(H10:H26) -> 1717470.2 | I27: =SUM(I10:I26) -> 0 | J27: =SUM(J10:J26) -> 0 | ... AM27: =SUM(AM10:AM26) -> 116645000
AI29: =AI27+ИП!AA16+ЧООУ!CI16 -> 3556
AJ32: =AJ10/AI10 -> 86540 | AK32: =AL10/AJ32 -> 23.839843 | AL32: =AI10-AK32 -> 31.160157
AJ33: =AJ11/AI11 -> 86922 | AK33: =AL11/AJ33 -> 21.673454 | AL33: =AI11-AK33 -> 28.326546
AJ34: =AJ12/AI12 -> 77072 | AK34: =AL12/AJ34 -> 10.83662 | AL34: =AI12-AK34 -> 14.16338
AJ35: =AJ13/AI13 -> 83270.714 | AK35: =AL13/AJ35 -> 60.685201 | AL35: =AI13-AK35 -> 79.314799
AJ36: =AJ14/AI14 -> 107080.28 | AK36: =AL14/AJ36 -> 94.496395 | AL36: =AI14-AK36 -> 123.5036
AJ37: =AJ15/AI15 -> 105995.76 | AK37: =AL15/AJ37 -> 143.0444 | AL37: =AI15-AK37 -> 186.9556
AJ38: =AJ16/AI16 -> 108735.39 | AK38: =AL16/AJ38 -> 154.31406 | AL38: =AI16-AK38 -> 201.68594
AJ39: =AJ17/AI17 -> 93434.884 | AK39: =AL17/AJ39 -> 37.278368 | AL39: =AI17-AK39 -> 48.721632
AJ40: =AJ18/AI18 -> 103935.29 | AK40: =AL18/AJ40 -> 29.476031 | AL40: =AI18-AK40 -> 38.523969
AJ41: =AJ19/AI19 -> 107764 | AK41: =AL19/AJ41 -> 32.510857 | AL41: =AI19-AK41 -> 42.489143
AJ42: =AJ20/AI20 -> 85600.478 | AK42: =AL20/AJ42 -> 181.18941 | AL42: =AI20-AK42 -> 236.81059
AJ43: =AJ21/AI21 -> 77072 | AK43: =AL21/AJ43 -> 10.83662 | AL43: =AI21-AK43 -> 14.16338
... AJ48: =AJ26/AI26 -> 100526.92 | AK48: =AL26/AJ48 -> 11.269618 | AL48: =AI26-AK48 -> 14.730382
...

Sheet сравнение
A2: №№ | B2: Наименование | C2: Субсиии на 2021_КОПО | D2: Субсиии на 2021 | E2: отклонения | F2: разница,%
B3: ЧООУ | C3: =SUM(C4:C13) -> 82694400 | D3: =SUM(D4:D13) -> 78501400
A4: 1 | B4: =ЧООУ!B6 -> ЧОУ Гимназия "Грэйс" | C4: =ЧООУ_КОПО!CJ6 -> 9010600 | D4: =ЧООУ!CJ6 -> 8668100 | E4: =D4-C4 -> -342500 | F4: =E4/C4 -> -0.038010787
A5: 2 | B5: =ЧООУ!B7 -> ЧОУ "Школа "Лужки"" | C5: =ЧООУ_КОПО!CJ7 -> 7330900 | D5: =ЧООУ!CJ7 -> 5701500 | E5: =D5-C5 -> -1629400 | F5: =E5/C5 -> -0.22226466
A6: 3 | B6: =ЧООУ!B8 -> ЧОУ "Гатчинская гимназия Апекс" | C6: =ЧООУ_КОПО!CJ8 -> 10203200 | D6: =ЧООУ!CJ8 -> 9371900 | E6: =D6-C6 -> -831300 | F6: =E6/C6 -> -0.081474439
A7: 4 | B7: =ЧООУ!B9 -> ЧОУ "Первая академическая гимназия г.Гатчины" | C7: =ЧООУ_КОПО!CJ9 -> 8806200 | D7: =ЧООУ!CJ9 -> 8016400 | E7: =D7-C7 -> -789800 | F7: =E7/C7 -> -0.089686812
A8: 5 | B8: =ЧООУ!B10 -> АНО ОУ "Школа имени императора Александра III" | C8: =ЧООУ_КОПО!CJ10 -> 11129000 | D8: =ЧООУ!CJ10 -> 11469500 | E8: =D8-C8 -> 340500 | F8: =E8/C8 -> 0.030595741
A9: 6 | B9: =ЧООУ!B11 -> ЧОУ "Кингисеппская СОШ Православной культуры" | C9: =ЧООУ_КОПО!CJ11 -> 8315200 | D9: =ЧООУ!CJ11 -> 7677000 | E9: =D9-C9 -> -638200 | F9: =E9/C9 -> -0.07675101
A10: 7 | B10: =ЧООУ!B12 -> НОУ школа "Истоки" | C10: =ЧООУ_КОПО!CJ12 -> 4310500 | D10: =ЧООУ!CJ12 -> 5053500 | E10: =D10-C10 -> 743000 | F10: =E10/C10 -> 0.17236979
A11: 8 | B11: =ЧООУ!B13 -> НОУ СО "Школа Русской Культуры преподобных Сергия и Германа Валаамсяких" | C11: =ЧООУ_КОПО!CJ13 -> 2748400 | D11: =ЧООУ!CJ13 -> 2673200 | E11: =D11-C11 -> -75200 | F11: =E11/C11 -> -0.027361374
A12: 9 | B12: =ЧООУ!B14 -> АНО "Сосновоборская частная школа" | C12: =ЧООУ_КОПО!CJ14 -> 13014200 | D12: =ЧООУ!CJ14 -> 12248300 | E12: =D12-C12 -> -765900 | F12: =E12/C12 -> -0.058851101
A13: 10 | B13: =ЧООУ!B15 -> ЧООУ «Деловая волна» | C13: =ЧООУ_КОПО!CJ15 -> 7826200 | D13: =ЧООУ!CJ15 -> 7622000 | E13: =D13-C13 -> -204200 | F13: =E13/C13 -> -0.026091845
B14: ИП | C14: =SUM(C15:C20) -> 24020600 | D14: =SUM(D15:D20) -> 22781700
A15: 1 | B15: ИП Токубаев В.Э. "Детский образовательный центр" | C15: =ИП_КОПО!AB12 -> 2711000 | D15: =ИП!AB10 -> 2716600 | E15: =D15-C15 -> 5600 | F15: =E15/C15 -> 0.0020656584
A16: 2 | B16: ИП Козина Н.А. | C16: =ИП_КОПО!AB13 -> 7474800 | D16: =ИП!AB11 -> 6986600 | E16: =D16-C16 -> -488200 | F16: =E16/C16 -> -0.065312784
A17: 3 | B17: ИП Копцева И.Н. | C17: =ИП_КОПО!AB14 -> 2918400 | D17: =ИП!AB12 -> 2757800 | E17: =D17-C17 -> -160600 | F17: =E17/C17 -> -0.055030154
A18: 4 | B18: ИП Иванов А.С. | C18: =ИП_КОПО!AB15 -> 4465200 | D18: =ИП!AB13 -> 4168500 | E18: =D18-C18 -> -296700 | F18: =E18/C18 -> -0.066447192
A19: 5 | B19: ИП Белова О.П. | C19: =ИП_КОПО!AB16 -> 3225600 | D19: =ИП!AB14 -> 3076100 | E19: =D19-C19 -> -149500 | F19: =E19/C19 -> -0.046347966
A20: 6 | B20: ИП Семцова А.П. | C20: =ИП_КОПО!AB17 -> 3225600 | D20: =ИП!AB15 -> 3076100 | E20: =D20-C20 -> -149500 | F20: =E20/C20 -> -0.046347966
B21: ЧДОУ | C21: =SUM(C22:C38) -> 219694600 | D21: =SUM(D22:D38) -> 205892700
A22: 1 | B22: ЧДОУ "Творец" | C22: =ЧДОУ_КОПО!AJ12 -> 4976600 | D22: =ЧДОУ!AJ10 -> 4759700 | E22: =D22-C22 -> -216900 | F22: =E22/C22 -> -0.043583973
A23: 2 | B23: ООО "Детский цент "Доброград" | C23: =ЧДОУ_КОПО!AJ13 -> 4793500 | D23: =ЧДОУ!AJ11 -> 4346100 | E23: =D23-C23 -> -447400 | F23: =E23/C23 -> -0.093334724
A24: 3 | B24: АНО "Сосновоборская частная школа" (дошкольное отделение) | C24: =ЧДОУ_КОПО!AJ14 -> 2184300 | D24: =ЧДОУ!AJ12 -> 1926800 | E24: =D24-C24 -> -257500 | F24: =E24/C24 -> -0.11788674
A25: 4 | B25: ООО «Центр развития «Тигренок» | C25: =ЧДОУ_КОПО!AJ15 -> 12980700 | D25: =ЧДОУ!AJ13 -> 11657900 | E25: =D25-C25 -> -1322800 | F25: =E25/C25 -> -0.10190514
A26: 5 | B26: ЧУДО "Маленькая страна "Кудрово" | C26: =ЧДОУ_КОПО!AJ16 -> 24370900 | D26: =ЧДОУ!AJ14 -> 23343500 | E26: =D26-C26 -> -1027400 | F26: =E26/C26 -> -0.042156835
A27: 6 | B27: АНО ДО "Детский сад "Лучик" | C27: =ЧДОУ_КОПО!AJ17 -> 36283800 | D27: =ЧДОУ!AJ15 -> 34978600 | E27: =D27-C27 -> -1305200 | F27: =E27/C27 -> -0.035971976
A28: 7 | B28: ООО ДО "Детский сад "Лучик" | C28: =ЧДОУ_КОПО!AJ18 -> 40799000 | D28: =ЧДОУ!AJ16 -> 38709800 | E28: =D28-C28 -> -2089200 | F28: =E28/C28 -> -0.051207137
A29: 8 | B29: ООО "Система" (Эрудит) | C29: =ЧДОУ_КОПО!AJ19 -> 8727900 | D29: =ЧДОУ!AJ17 -> 8035400 | E29: =D29-C29 -> -692500 | F29: =E29/C29 -> -0.079343256
A30: 9 | B30: ООО "Маленькая страна Новогорелово" | C30: =ЧДОУ_КОПО!AJ20 -> 7238800 | D30: =ЧДОУ!AJ18 -> 7067600 | E30: =D30-C30 -> -171200 | F30: =E30/C30 -> -0.023650329
A31: 10 | B31: НО ЧДОУ Детский сад "Планета ДЕТСТВА" | C31: =ЧДОУ_КОПО!AJ21 -> 8471600 | D31: =ЧДОУ!AJ19 -> 8082300 | E31: =D31-C31 -> -389300 | F31: =E31/C31 -> -0.045953539
A32: 11 | B32: ЧОУ ННО "УМНЫЙ МИР" | C32: =ЧДОУ_КОПО!AJ22 -> 39596800 | D32: =ЧДОУ!AJ20 -> 35781000 | E32: =D32-C32 -> -3815800 | F32: =E32/C32 -> -0.096366373
A33: 12 | B33: ЧОУ Гимназия "Грэйс" | C33: =ЧДОУ_КОПО!AJ23 -> 2184300 | D33: =ЧДОУ!AJ21 -> 1926800 | E33: =D33-C33 -> -257500 | F33: =E33/C33 -> -0.11788674
... A38: 17 | B38: ООО "УМКА" | C38: =ЧДОУ_КОПО!AJ28 -> 2797700 | D38: =ЧДОУ!AJ26 -> 2613700 | E38: =D38-C38 -> -184000 | F38: =E38/C38 -> -0.06576831
B39: ИТОГО | C39: =C21+C14+C3 -> 326409600 | D39: =D21+D14+D3 -> 307175800
D40: =D39-C39 -> -19233800

Sheet Исходные для нормативов
A1: Показатели | C1: Общее образование в общеобразовательных учреждениях
C2: Начальное общее образование | D2: Основное общее образование | E2: Среднее (полное) общее образование
A3: Предельно допустимая учебная нагрузка при 6-дневной учебной неделе | C3: 3345 | D3: 6020 | E3: 2590
A4: количество лет обучения | C4: 4 | D4: 5 | E4: 2
A5: Продолжительность учебного года, в неделях | C5: 34 | D5: 34 | E5: 35
A6: Количество часов по учебному плану в неделю | C6: =C3/C4/C5 -> 24.595588 | D6: =ROUND(D3/D4/D5,0) -> 35 | E6: =E3/E4/E5 -> 37
A7: Количество часов по учебному плану в неделю для учащихся с ОВЗ при комплектовании по первому варианту | C7: =C6 -> 24.595588 | D7: =D6 -> 35 | E7: =E6 -> 37
A8: Количество часов по учебному плану в неделю для учащихся с ОВЗ при комплектовании по второму, третьему и четвертому вариантам | C8: =(21+23*3)/4 -> 22.5 | D8: =(29+30+32+33*2)/5 -> 31.4 | E8: 34
A9: Бsn - количество часов по базисному учебному плану в неделю:
A10: на реализацию общеобразовательных программ в дневных общеобразовательных учреждениях | C10: =ROUND(C6,0) -> 25 | D10: =ROUND(D6,0) -> 35 | E10: =ROUND(E6,0) -> 37
A11: на реализацию общеобразовательных программ при вечерней (заочной формой обучения) | C11: 25 | D11: 26 | E11: 26
A12: для индивидуального обучения длительно болеющих учащихся | C12: 8 | D12: 10 | E12: 11
A13: для семейного обучения | C13: 9 | D13: 17 | E13: 19
A14: Количество часов внеурочной деятельности в рамках реализации ФГОС | C14: 10 | D14: 10 | E14: 10
A15: Мsn – расчетная наполняемость:
A16: общеобразовательных классов общеобразовательных учреждений, расположенных в городской местности | C16: 25 | D16: 25 | E16: 25
A17: общеобразовательных классов общеобразовательных учреждений, расположенных в поселках городского типа с контингентом обучающихся более 300 человек | C17: 25 | D17: 25 | E17: 25
A18: общеобразовательных классов общеобразовательных учреждений, расположенных в поселках городского типа с контингентом обучающихся от 201 до 300 человек | C18: 23 | D18: 23 | E18: 23
A19: общеобразовательных классов общеобразовательных учреждений, расположенных в поселках городского типа с контингентом обучающихся от 101 до 200 человек | C19: 15 | D19: 15 | E19: 15
A20: общеобразовательных классов общеобразовательных учреждений, расположенных в поселках городского типа с контингентом обучающихся менее 100 человек | C20: 10 | D20: 10 | E20: 10
A21: общеобразовательных классов общеобразовательных учреждений с контингентом обучающихся более 250 человек, расположенных в сельской местности | C21: 20 | D21: 20 | E21: 20
A22: общеобразовательных классов общеобразовательных учреждений с контингентом обучающихся от 201 до 250 человек, расположенных в сельской местности | C22: 18 | D22: 18 | E22: 18
A23: общеобразовательных классов общеобразовательных учреждений с контингентом обучающихся от 101 до 200 человек, расположенных в сельской местности | C23: 15 | D23: 15 | E23: 15
A24: общеобразовательных классов общеобразовательных учреждений с контингентом обучающихся от 61 до 100 человек, расположенных в сельской местности; | C24: 11 | D24: 11 | E24: 11
A25: общеобразовательных классов общеобразовательных учреждений с контингентом обучающихся менее 61 человека, расположенных в сельской местности | C25: 7 | D25: 7 | E25: 7
A26: общеобразовательных школ-интернатов, расположенных в городской местности | C26: 20 | D26: 20 | E26: 20
A27: общеобразовательных школ-интернатов, расположенных в сельской местности | C27: 14 | D27: 14 | E27: 14
A28: 1 вариант программы образования учащихся с ОВЗ | B28: глухие обучающиеся | C28: 20 | D28: =C28 -> 20 | E28: =D28 -> 20
B29: слабослышащие и познооглохшие обучающиеся | C29: 25 | D29: =C29 -> 25 | E29: =D29 -> 25
B30: слепые обучающиеся | C30: 20 | D30: =C30 -> 20 | E30: =D30 -> 20
