Workbook
Name Excel_BuiltIn__FilterDatabase: 'Классное руководство'!$A$4:$D$26

Sheet Исходные для нормативов
A1: Показатели | C1: Общее образование в общеобразовательных учреждениях
C2: Начальное общее образование | D2: Основное общее образование | E2: Среднее (полное) общее образование
A3: Предельно допустимая учебная нагрузка при 6-дневной учебной неделе | C3: 3345 | D3: 6020 | E3: 2590
A4: количество лет обучения | C4: 4 | D4: 5 | E4: 2
A5: Продолжительность учебного года, в неделях | C5: 34 | D5: 34 | E5: 35
A6: Количество часов по учебному плану в неделю | C6: =C3/C4/C5 -> 24.595588 | D6: =ROUND(D3/D4/D5,0) -> 35 | E6: =E3/E4/E5 -> 37
A7: Количество часов по учебному плану в неделю для учащихся с ОВЗ при комплектовании по первому варианту | C7: =C6 -> 24.595588 | D7: =D6 -> 35 | E7: =E6 -> 37
A8: Количество часов по учебному плану в неделю для учащихся с ОВЗ при комплектовании по второму, третьему и четвертому вариантам | C8: =(21+23*3)/4 -> 22.5 | D8: =(29+30+32+33*2)/5 -> 31.4 | E8: 34
A9: Бsn - количество часов по базисному учебному плану в неделю:
A10: на реализацию общеобразовательных программ в дневных общеобразовательных учреждениях | C10: =ROUND(C6,0) -> 25 | D10: =ROUND(D6,0) -> 35 | E10: =ROUND(E6,0) -> 37
A11: на реализацию общеобразовательных программ при вечерней (заочной формой обучения) | C11: 25 | D11: 26 | E11: 26
A12: для индивидуального обучения длительно болеющих учащихся | C12: 8 | D12: 10 | E12: 11
A13: для семейного обучения | C13: 9 | D13: 17 | E13: 19
A14: Количество часов внеурочной деятельности в рамках реализации ФГОС | C14: 10 | D14: 10 | E14: 10
A15: Мsn – расчетная наполняемость:
A16: общеобразовательных классов общеобразовательных учреждений, расположенных в городской местности | C16: 25 | D16: 25 | E16: 25
A17: общеобразовательных классов общеобразовательных учреждений, расположенных в поселках городского типа с контингентом обучающихся более 300 человек | C17: 25 | D17: 25 | E17: 25
A18: общеобразовательных классов общеобразовательных учреждений, расположенных в поселках городского типа с контингентом обучающихся от 201 до 300 человек | C18: 23 | D18: 23 | E18: 23
A19: общеобразовательных классов общеобразовательных учреждений, расположенных в поселках городского типа с контингентом обучающихся от 101 до 200 человек | C19: 15 | D19: 15 | E19: 15
A20: общеобразовательных классов общеобразовательных учреждений, расположенных в поселках городского типа с контингентом обучающихся менее 100 человек | C20: 10 | D20: 10 | E20: 10
A21: общеобразовательных классов общеобразовательных учреждений с контингентом обучающихся более 250 человек, расположенных в сельской местности | C21: 20 | D21: 20 | E21: 20
A22: общеобразовательных классов общеобразовательных учреждений с контингентом обучающихся от 201 до 250 человек, расположенных в сельской местности | C22: 18 | D22: 18 | E22: 18
A23: общеобразовательных классов общеобразовательных учреждений с контингентом обучающихся от 101 до 200 человек, расположенных в сельской местности | C23: 15 | D23: 15 | E23: 15
A24: общеобразовательных классов общеобразовательных учреждений с контингентом обучающихся от 61 до 100 человек, расположенных в сельской местности; | C24: 11 | D24: 11 | E24: 11
A25: общеобразовательных классов общеобразовательных учреждений с контингентом обучающихся менее 61 человека, расположенных в сельской местности | C25: 7 | D25: 7 | E25: 7
A26: общеобразовательных школ-интернатов, расположенных в городской местности | C26: 20 | D26: 20 | E26: 20
A27: общеобразовательных школ-интернатов, расположенных в сельской местности | C27: 14 | D27: 14 | E27: 14
A28: 1 вариант программы образования учащихся с ОВЗ | B28: глухие обучающиеся | C28: 20 | D28: =C28 -> 20 | E28: =C28 -> 20
B29: слабослышащие и познооглохшие обучающиеся | C29: 25 | D29: =C29 -> 25 | E29: =C29 -> 25
B30: слепые обучающиеся | C30: 20 | D30: =C30 -> 20 | E30: =C30 -> 20
B31: слабовидящие обучающиеся | C31: 25 | D31: =C31 -> 25 | E31: =C31 -> 25
B32: обучающиеся с тяжелыми нарушениями речи (ТНР) | C32: 25 | D32: =C32 -> 25 | E32: =C32 -> 25
B33: обучающиеся с нарушением опорно-двигательного аппарата | C33: 20 | D33: =C33 -> 20 | E33: =C33 -> 20
B34: обучающиеся с задержкой психического развития (ЗПР) | C34: 25 | D34: =C34 -> 25 | E34: =C34 -> 25
B35: обучающиеся с расстройствами аутического спектора (РАС) | C35: 20 | D35: =C35 -> 20 | E35: =C35 -> 20
B36: обучающиеся с умственной отсталостью (интеллектуальными нарушениями) | C36: 0 | D36: =C36 -> 0 | E36: =C36 -> 0
A37: 2 вариант программы образования учащихся с ОВЗ | B37: глухие обучающиеся | C37: 6 | D37: =C37 -> 6 | E37: =C37 -> 6
B38: слабослышащие и познооглохшие обучающиеся | C38: 7 | D38: =C38 -> 7 | E38: =C38 -> 7
B39: слепые обучающиеся | C39: 9 | D39: =C39 -> 9 | E39: =C39 -> 9
B40: слабовидящие обучающиеся | C40: 12 | D40: =C40 -> 12 | E40: =C40 -> 12
B41: обучающиеся с тяжелыми нарушениями речи (ТНР) | C41: 12 | D41: =C41 -> 12 | E41: =C41 -> 12
B42: обучающиеся с нарушением опорно-двигательного аппарата | C42: 5 | D42: =C42 -> 5 | E42: =C42 -> 5
B43: обучающиеся с задержкой психического развития (ЗПР) | C43: 12 | D43: =C43 -> 12 | E43: =C43 -> 12
B44: обучающиеся с расстройствами аутического спектора (РАС) | C44: 12 | D44: =C44 -> 12 | E44: =C44 -> 12
B45: обучающиеся с умственной отсталостью (интеллектуальными нарушениями) | C45: 0 | D45: =C45 -> 0 | E45: =C45 -> 0
A46: 3 вариант программы образования учащихся с ОВЗ | B46: глухие обучающиеся | C46: 5 | D46: =C46 -> 5 | E46: =C46 -> 5
B47: слабослышащие и познооглохшие обучающиеся | C47: 5 | D47: =C47 -> 5 | E47: =C47 -> 5
B48: слепые обучающиеся | C48: 7 | D48: =C48 -> 7 | E48: =C48 -> 7
B49: слабовидящие обучающиеся | C49: 9 | D49: =C49 -> 9 | E49: =C49 -> 9
B50: обучающиеся с тяжелыми нарушениями речи (ТНР) | C50: 0 | D50: =C50 -> 0 | E50: =C50 -> 0
B51: обучающиеся с нарушением опорно-двигательного аппарата | C51: 5 | D51: =C51 -> 5 | E51: =C51 -> 5
B52: обучающиеся с задержкой психического развития (ЗПР) | C52: 0 | D52: =C52 -> 0 | E52: =C52 -> 0
B53: обучающиеся с расстройствами аутического спектора (РАС) | C53: 9 | D53: =C53 -> 9 | E53: =C53 -> 9
B54: обучающиеся с умственной отсталостью (интеллектуальными нарушениями) | C54: 12 | D54: =C54 -> 12 | E54: =C54 -> 12
A55: 4 вариант программы образования учащихся с ОВЗ | B55: глухие обучающиеся | C55: 5 | D55: =C55 -> 5 | E55: =C55 -> 5
B56: слабослышащие и познооглохшие обучающиеся | C56: 0 | D56: =C56 -> 0 | E56: =C56 -> 0
B57: слепые обучающиеся | C57: 5 | D57: =C57 -> 5 | E57: =C57 -> 5
B58: слабовидящие обучающиеся | C58: 0 | D58: =C58 -> 0 | E58: =C58 -> 0
B59: обучающиеся с тяжелыми нарушениями речи (ТНР) | C59: 0 | D59: =C59 -> 0 | E59: =C59 -> 0
B60: обучающиеся с нарушением опорно-двигательного аппарата | C60: 5 | D60: =C60 -> 5 | E60: =C60 -> 5
B61: обучающиеся с задержкой психического развития (ЗПР) | C61: 0 | D61: =C61 -> 0 | E61: =C61 -> 0
B62: обучающиеся с расстройствами аутического спектора (РАС) | C62: 5 | D62: =C62 -> 5 | E62: =C62 -> 5
B63: обучающиеся с умственной отсталостью (интеллектуальными нарушениями) | C63: 5 | D63: =C63 -> 5 | E63: =C63 -> 5
A64: Вsn - число часов за ставку заработной платы учителя | C64: 18 | D64: 18 | E64: 18
A65: Кудsn – повышающий коэффициент, учитывающий деление классов на группы, для реализации профильного обучения, дополнительное образование в общеобразовательных организациях | C65: 1.429 | D65: 1.52 | E65: 1.56
A66: Кушsn – коэффициент штатной обеспеченности на административно-хозяйственный персонал:
A67: общеобразовательных классов общеобразовательных учреждений, расположенных в городской местности; общеобразовательных классов общеобразовательных учреждений с контингентом обучающихся более 250 человек, расположенных в сельской местности; дошкольных учреждений | C67: 0.3 | D67: 0.3 | E67: 0.3
A68: На одного обучающегося в общеобразовательных классах общеобразовательных организаций, расположенных в поселках городского типа, с численностью обучающихся менее 101 человека | C68: 0.305 | D68: 0.305 | E68: 0.305
A69: На одного обучающегося в общеобразовательных классах общеобразовательных организаций, расположенных в сельской местности, с численностью обучающихся от 201 до 250 человек, менее 201 человека | C69: 0.362 | D69: 0.362 | E69: 0.362
A70: На одного обучающегося с очно-заочной формой обучения в общеобразовательных классах общеобразовательных организаций, расположенных в городской и сельской местности | C70: 0.28 | D70: =C70 -> 0.28 | E70: =C70 -> 0.28
A71: общеобразовательных классов общеобразовательных школ-интернатов, для обучающихся со сложным дефектом (имеющих сочетание 2 или более недостатков в физическом и (или) психическом развитии), инклюзивное обучение учащихся с ОВЗ в городской и сельской местности | C71: 0.41 | D71: =C71 -> 0.41 | E71: =D71 -> 0.41
A72: для остальных общеобразовательных классов, в сельской местности с численностью в учреждении
A73: для остальных общеобразовательных классов, не перечисленных в предыдущих строках; | C73: 0.61 | D73: =C73 -> 0.61 | E73: =C73 -> 0.61
A74: Кунsn- повышающие коэффициенты, включающие компенсационные выплаты:
A75: за выполнение дополнительных работ: проверка письменных работ (тетрадей) | C75: 0.03 | D75: 0.03 | E75: 0.03
A76: за специфику классов:
A77: с углубленным изучением отдельных предметов, профильного образования | C77: 0.12 | D77: 0.12 | E77: 0.12
A78: за работу с детьми с ограниченными возможностями здоровья | C78: 0.15 | D78: 0.15 | E78: 0.15
A79: за работу в общеобразовательной школе- интернате | C79: 0.15 | D79: 0.15 | E79: 0.15
A80: Н ф - коэффициент стимулирующих выплат
A81: стимулирующий фонд | C81: 0.3 | D81: 0.3 | E81: 0.3
A82: стимулирующий фонд для организаций на селе | C82: 0.35 | D82: 0.35 | E82: 0.35
A83: К уч 1 - коэффициент для учебных расходов с учетом доступа в сеть Интернет | C83: 0.069 | D83: =C83 -> 0.069 | E83: =C83 -> 0.069
A84: К уч 2 - коэффициент для учебных расходов для обучающихся с ОВЗ по 1 варианту получения образования с учетом расходов на обеспечение доступа в Интернет | C84: 0.085 | D84: 0.085 | E84: 0.085

Sheet Нормативы 
A1: Расчет нормативов финансирования
A2: с 01.01.2020 | D2: Классы | H2: Классы, реализующие ФГОС
A3: 9940 | D3: 1-4 классы | E3: 5-9 классы | F3: 10-11 кл д | G3: 10-11 кл ля реализации профиля | H3: 1-4 классы | I3: 5-9 классы | J3: 10-11 кл | K3: 10-11 кл ля реализации профиля
A4: Ставки педагогического работника с учетом повышения базового оклада с 01.01.2018 до 9940 | D4: =(1.7*0.2+2*0.8)*$A$3 -> 19283.6 | E4: =2*$A$3 -> 19880 | F4: =2*$A$3 -> 19880 | G4: =F4 -> 19880 | H4: =D4 -> 19283.6 | I4: =E4 -> 19880 | J4: =F4 -> 19880 | K4: =J4 -> 19880
A5: количество часов по БУП | B5: общеобразовательные классы | D5: ='Исходные для нормативов'!$C$10 -> 25 | E5: ='Исходные для нормативов'!$D$10 -> 35 | F5: ='Исходные для нормативов'!$E$10 -> 37 | G5: =F5 -> 37 | H5: ='Исходные для нормативов'!$C$10 -> 25 | I5: ='Исходные для нормативов'!$D$10 -> 35 | J5: ='Исходные для нормативов'!$E$10 -> 37 | K5: =J5 -> 37
B6: с углубленным изучением отдельных учебных предметов | D6: ='Исходные для нормативов'!$C$10 -> 25 | E6: ='Исходные для нормативов'!$D$10 -> 35 | F6: ='Исходные для нормативов'!$E$10 -> 37 | G6: =F6 -> 37 | H6: ='Исходные для нормативов'!$C$10 -> 25 | I6: ='Исходные для нормативов'!$D$10 -> 35 | J6: ='Исходные для нормативов'!$E$10 -> 37 | K6: =J6 -> 37
B7: общеобразовательные классы - ПГТ с континг более 300 | D7: ='Исходные для нормативов'!$C$10 -> 25 | E7: ='Исходные для нормативов'!$D$10 -> 35 | F7: ='Исходные для нормативов'!$E$10 -> 37 | G7: =F7 -> 37 | H7: ='Исходные для нормативов'!$C$10 -> 25 | I7: ='Исходные для нормативов'!$D$10 -> 35 | J7: ='Исходные для нормативов'!$E$10 -> 37 | K7: =J7 -> 37
B8: общеобразовательные классы - ПГТ с континг более 201-300 | D8: ='Исходные для нормативов'!$C$10 -> 25 | E8: ='Исходные для нормативов'!$D$10 -> 35 | F8: ='Исходные для нормативов'!$E$10 -> 37 | G8: =F8 -> 37 | H8: ='Исходные для нормативов'!$C$10 -> 25 | I8: ='Исходные для нормативов'!$D$10 -> 35 | J8: ='Исходные для нормативов'!$E$10 -> 37 | K8: =J8 -> 37
B9: общеобразовательные классы - ПГТ с континг более 101-200 | D9: ='Исходные для нормативов'!$C$10 -> 25 | E9: ='Исходные для нормативов'!$D$10 -> 35 | F9: ='Исходные для нормативов'!$E$10 -> 37 | G9: =F9 -> 37 | H9: ='Исходные для нормативов'!$C$10 -> 25 | I9: ='Исходные для нормативов'!$D$10 -> 35 | J9: ='Исходные для нормативов'!$E$10 -> 37 | K9: =J9 -> 37
B10: общеобразовательные классы - ПГТ с континг менее 100 | D10: ='Исходные для нормативов'!$C$10 -> 25 | E10: ='Исходные для нормативов'!$D$10 -> 35 | F10: ='Исходные для нормативов'!$E$10 -> 37 | G10: =F10 -> 37 | H10: ='Исходные для нормативов'!$C$10 -> 25 | I10: ='Исходные для нормативов'!$D$10 -> 35 | J10: ='Исходные для нормативов'!$E$10 -> 37 | K10: =J10 -> 37
B11: общеобразовательные классы - СЕЛО с континг более 250 | D11: ='Исходные для нормативов'!$C$10 -> 25 | E11: ='Исходные для нормативов'!$D$10 -> 35 | F11: ='Исходные для нормативов'!$E$10 -> 37 | G11: =F11 -> 37 | H11: ='Исходные для нормативов'!$C$10 -> 25 | I11: ='Исходные для нормативов'!$D$10 -> 35 | J11: ='Исходные для нормативов'!$E$10 -> 37 | K11: =J11 -> 37
B12: общеобразовательные классы - СЕЛО с континг 201 - 250 | D12: ='Исходные для нормативов'!$C$10 -> 25 | E12: ='Исходные для нормативов'!$D$10 -> 35 | F12: ='Исходные для нормативов'!$E$10 -> 37 | G12: =F12 -> 37 | H12: ='Исходные для нормативов'!$C$10 -> 25 | I12: ='Исходные для нормативов'!$D$10 -> 35 | J12: ='Исходные для нормативов'!$E$10 -> 37 | K12: =J12 -> 37
B13: общеобразовательные классы - СЕЛО с континг 101 - 200 | D13: ='Исходные для нормативов'!$C$10 -> 25 | E13: ='Исходные для нормативов'!$D$10 -> 35 | F13: ='Исходные для нормативов'!$E$10 -> 37 | G13: =F13 -> 37 | H13: ='Исходные для нормативов'!$C$10 -> 25 | I13: ='Исходные для нормативов'!$D$10 -> 35 | J13: ='Исходные для нормативов'!$E$10 -> 37 | K13: =J13 -> 37
B14: общеобразовательные классы - СЕЛО с континг 61 - 100 | D14: ='Исходные для нормативов'!$C$10 -> 25 | E14: ='Исходные для нормативов'!$D$10 -> 35 | F14: ='Исходные для нормативов'!$E$10 -> 37 | G14: =F14 -> 37 | H14: ='Исходные для нормативов'!$C$10 -> 25 | I14: ='Исходные для нормативов'!$D$10 -> 35 | J14: ='Исходные для нормативов'!$E$10 -> 37 | K14: =J14 -> 37
B15: общеобразовательные классы - СЕЛО с континг менее 60 | D15: ='Исходные для нормативов'!$C$10 -> 25 | E15: ='Исходные для нормативов'!$D$10 -> 35 | F15: ='Исходные для нормативов'!$E$10 -> 37 | G15: =F15 -> 37 | H15: ='Исходные для нормативов'!$C$10 -> 25 | I15: ='Исходные для нормативов'!$D$10 -> 35 | J15: ='Исходные для нормативов'!$E$10 -> 37 | K15: =J15 -> 37
B16: вечернее обучение -город | D16: ='Исходные для нормативов'!C11 -> 25 | E16: ='Исходные для нормативов'!D11 -> 26 | F16: ='Исходные для нормативов'!E11 -> 26 | H16: ='Исходные для нормативов'!C11 -> 25 | I16: ='Исходные для нормативов'!D11 -> 26 | J16: ='Исходные для нормативов'!E11 -> 26
B17: вечернее обучение -СЕЛО | D17: ='Исходные для нормативов'!C11 -> 25 | E17: ='Исходные для нормативов'!D11 -> 26 | F17: ='Исходные для нормативов'!E11 -> 26 | H17: ='Исходные для нормативов'!C11 -> 25 | I17: ='Исходные для нормативов'!D11 -> 26 | J17: ='Исходные для нормативов'!E11 -> 26
B18: индивидуальное обучение для длительно болеющих детей | D18: ='Исходные для нормативов'!C12 -> 8 | E18: ='Исходные для нормативов'!D12 -> 10 | F18: ='Исходные для нормативов'!E12 -> 11 | H18: ='Исходные для нормативов'!C12 -> 8 | I18: ='Исходные для нормативов'!D12 -> 10 | J18: ='Исходные для нормативов'!E12 -> 11
B19: семейное обучение | D19: ='Исходные для нормативов'!C13 -> 9 | E19: ='Исходные для нормативов'!D13 -> 17 | F19: ='Исходные для нормативов'!E13 -> 19 | H19: ='Исходные для нормативов'!C13 -> 9 | I19: ='Исходные для нормативов'!D13 -> 17 | J19: ='Исходные для нормативов'!E13 -> 19
B20: 1 вариант | C20: глухие | D20: ='Исходные для нормативов'!C7 -> 24.595588 | E20: ='Исходные для нормативов'!D7 -> 35 | F20: ='Исходные для нормативов'!E7 -> 37 | H20: ='Исходные для нормативов'!C7 -> 24.595588 | I20: ='Исходные для нормативов'!D7 -> 35 | J20: ='Исходные для нормативов'!E7 -> 37
C21: слабослышащие и познооглохшие | D21: =D20 -> 24.595588 | E21: =E20 -> 35 | F21: =F20 -> 37 | H21: =H20 -> 24.595588 | I21: =I20 -> 35 | J21: =J20 -> 37
C22: слепые | D22: =D21 -> 24.595588 | E22: =E21 -> 35 | F22: =F21 -> 37 | H22: =H21 -> 24.595588 | I22: =I21 -> 35 | J22: =J21 -> 37
C23: слабовидящие | D23: =D22 -> 24.595588 | E23: =E22 -> 35 | F23: =F22 -> 37 | H23: =H22 -> 24.595588 | I23: =I22 -> 35 | J23: =J22 -> 37
C24: С тяжелыми нарушениями речи (ТНР) | D24: =D23 -> 24.595588 | E24: =E23 -> 35 | F24: =F23 -> 37 | H24: =H23 -> 24.595588 | I24: =I23 -> 35 | J24: =J23 -> 37
C25: С нарушением опорно-двигательного аппарата | D25: =D24 -> 24.595588 | E25: =E24 -> 35 | F25: =F24 -> 37 | H25: =H24 -> 24.595588 | I25: =I24 -> 35 | J25: =J24 -> 37
C26: С задержкой психического развития (ЗПР) | D26: =D25 -> 24.595588 | E26: =E25 -> 35 | F26: =F25 -> 37 | H26: =H25 -> 24.595588 | I26: =I25 -> 35 | J26: =J25 -> 37
C27: С расстройствами аутического спектора (РАС) | D27: =D26 -> 24.595588 | E27: =E26 -> 35 | F27: =F26 -> 37 | H27: =H26 -> 24.595588 | I27: =I26 -> 35 | J27: =J26 -> 37
C28: С умственной отсталостью (интеллектуальными нарушениями) | D28: =D27 -> 24.595588 | E28: =E27 -> 35 | F28: =F27 -> 37 | H28: =H27 -> 24.595588 | I28: =I27 -> 35 | J28: =J27 -> 37
B29: 2 вариант | C29: глухие | D29: ='Исходные для нормативов'!C8 -> 22.5 | E29: ='Исходные для нормативов'!D8 -> 31.4 | F29: ='Исходные для нормативов'!E8 -> 34 | H29: ='Исходные для нормативов'!C8 -> 22.5 | I29: ='Исходные для нормативов'!D8 -> 31.4 | J29: ='Исходные для нормативов'!E8 -> 34
C30: слабослышащие и познооглохшие | D30: =D29 -> 22.5 | E30: =E29 -> 31.4 | F30: =F29 -> 34 | H30: =H29 -> 22.5 | I30: =I29 -> 31.4 | J30: =J29 -> 34
C31: слепые | D31: =D30 -> 22.5 | E31: =E30 -> 31.4 | F31: =F30 -> 34 | H31: =H30 -> 22.5 | I31: =I30 -> 31.4 | J31: =J30 -> 34
C32: слабовидящие | D32: =D31 -> 22.5 | E32: =E31 -> 31.4 | F32: =F31 -> 34 | H32: =H31 -> 22.5 | I32: =I31 -> 31.4 | J32: =J31 -> 34
C33: С тяжелыми нарушениями речи (ТНР) | D33: =D32 -> 22.5 | E33: =E32 -> 31.4 | F33: =F32 -> 34 | H33: =H32 -> 22.5 | I33: =I32 -> 31.4 | J33: =J32 -> 34
C34: С нарушением опорно-двигательного аппарата | D34: =D33 -> 22.5 | E34: =E33 -> 31.4 | F34: =F33 -> 34 | H34: =H33 -> 22.5 | I34: =I33 -> 31.4 | J34: =J33 -> 34
C35: С задержкой психического развития (ЗПР) | D35: =D34 -> 22.5 | E35: =E34 -> 31.4 | F35: =F34 -> 34 | H35: =H34 -> 22.5 | I35: =I34 -> 31.4 | J35: =J34 -> 34
C36: С расстройствами аутического спектора (РАС) | D36: =D35 -> 22.5 | E36: =E35 -> 31.4 | F36: =F35 -> 34 | H36: =H35 -> 22.5 | I36: =I35 -> 31.4 | J36: =J35 -> 34
C37: С умственной отсталостью (интеллектуальными нарушениями) | D37: =D36 -> 22.5 | E37: =E36 -> 31.4 | F37: =F36 -> 34 | H37: =H36 -> 22.5 | I37: =I36 -> 31.4 | J37: =J36 -> 34
B38: 3 вариант | C38: глухие | D38: =D37 -> 22.5 | E38: =E37 -> 31.4 | F38: =F37 -> 34 | H38: =H37 -> 22.5 | I38: =I37 -> 31.4 | J38: =J37 -> 34
C39: слабослышащие и познооглохшие | D39: =D38 -> 22.5 | E39: =E38 -> 31.4 | F39: =F38 -> 34 | H39: =H38 -> 22.5 | I39: =I38 -> 31.4 | J39: =J38 -> 34
C40: слепые | D40: =D39 -> 22.5 | E40: =E39 -> 31.4 | F40: =F39 -> 34 | H40: =H39 -> 22.5 | I40: =I39 -> 31.4 | J40: =J39 -> 34
C41: слабовидящие | D41: =D40 -> 22.5 | E41: =E40 -> 31.4 | F41: =F40 -> 34 | H41: =H40 -> 22.5 | I41: =I40 -> 31.4 | J41: =J40 -> 34
C42: С тяжелыми нарушениями речи (ТНР) | D42: =D41 -> 22.5 | E42: =E41 -> 31.4 | F42: =F41 -> 34 | H42: =H41 -> 22.5 | I42: =I41 -> 31.4 | J42: =J41 -> 34
C43: С нарушением опорно-двигательного аппарата | D43: =D42 -> 22.5 | E43: =E42 -> 31.4 | F43: =F42 -> 34 | H43: =H42 -> 22.5 | I43: =I42 -> 31.4 | J43: =J42 -> 34
C44: С задержкой психического развития (ЗПР) | D44: =D43 -> 22.5 | E44: =E43 -> 31.4 | F44: =F43 -> 34 | H44: =H43 -> 22.5 | I44: =I43 -> 31.4 | J44: =J43 -> 34
C45: С расстройствами аутического спектора (РАС) | D45: =D44 -> 22.5 | E45: =E44 -> 31.4 | F45: =F44 -> 34 | H45: =H44 -> 22.5 | I45: =I44 -> 31.4 | J45: =J44 -> 34
C46: С умственной отсталостью (интеллектуальными нарушениями) | D46: =D45 -> 22.5 | E46: =E45 -> 31.4 | F46: =F45 -> 34 | H46: =H45 -> 22.5 | I46: =I45 -> 31.4 | J46: =J45 -> 34
B47: 4 вариант | C47: глухие | D47: =D46 -> 22.5 | E47: =E46 -> 31.4 | F47: =F46 -> 34 | H47: =H46 -> 22.5 | I47: =I46 -> 31.4 | J47: =J46 -> 34
C48: слабослышащие и познооглохшие | D48: =D47 -> 22.5 | E48: =E47 -> 31.4 | F48: =F47 -> 34 | H48: =H47 -> 22.5 | I48: =I47 -> 31.4 | J48: =J47 -> 34
C49: слепые | D49: =D48 -> 22.5 | E49: =E48 -> 31.4 | F49: =F48 -> 34 | H49: =H48 -> 22.5 | I49: =I48 -> 31.4 | J49: =J48 -> 34
C50: слабовидящие | D50: =D49 -> 22.5 | E50: =E49 -> 31.4 | F50: =F49 -> 34 | H50: =H49 -> 22.5 | I50: =I49 -> 31.4 | J50: =J49 -> 34
C51: С тяжелыми нарушениями речи (ТНР) | D51: =D50 -> 22.5 | E51: =E50 -> 31.4 | F51: =F50 -> 34 | H51: =H50 -> 22.5 | I51: =I50 -> 31.4 | J51: =J50 -> 34
C52: С нарушением опорно-двигательного аппарата | D52: =D51 -> 22.5 | E52: =E51 -> 31.4 | F52: =F51 -> 34 | H52: =H51 -> 22.5 | I52: =I51 -> 31.4 | J52: =J51 -> 34
C53: С задержкой психического развития (ЗПР) | D53: =D52 -> 22.5 | E53: =E52 -> 31.4 | F53: =F52 -> 34 | H53: =H52 -> 22.5 | I53: =I52 -> 31.4 | J53: =J52 -> 34
C54: С расстройствами аутического спектора (РАС) | D54: =D53 -> 22.5 | E54: =E53 -> 31.4 | F54: =F53 -> 34 | H54: =H53 -> 22.5 | I54: =I53 -> 31.4 | J54: =J53 -> 34
C55: С умственной отсталостью (интеллектуальными нарушениями) | D55: =D54 -> 22.5 | E55: =E54 -> 31.4 | F55: =F54 -> 34 | H55: =H54 -> 22.5 | I55: =I54 -> 31.4 | J55: =J54 -> 34
A56: Количество часов внеурочной деятельности в рамках реализации ФГОС | D56: 0 | E56: 0 | F56: 0 | G56: =F56 -> 0 | H56: 10 | I56: 10 | J56: 10 | K56: =J56 -> 10
A57: Расчетная наполняемость классов | B57: общеобразовательные классы | D57: ='Исходные для нормативов'!C16 -> 25 | E57: ='Исходные для нормативов'!D16 -> 25 | F57: ='Исходные для нормативов'!E16 -> 25 | G57: =F57 -> 25 | H57: =D57 -> 25 | I57: =E57 -> 25 | J57: =F57 -> 25 | K57: =J57 -> 25
B58: с углубленным изучением отдельных учебных предметов | D58: ='Исходные для нормативов'!C16 -> 25 | E58: ='Исходные для нормативов'!D16 -> 25 | F58: ='Исходные для нормативов'!E16 -> 25 | G58: =F58 -> 25 | H58: =D58 -> 25 | I58: =E58 -> 25 | J58: =F58 -> 25 | K58: =J58 -> 25
B59: общеобразовательные классы - ПГТ с континг более 300 | D59: ='Исходные для нормативов'!C17 -> 25 | E59: ='Исходные для нормативов'!D17 -> 25 | F59: ='Исходные для нормативов'!E17 -> 25 | G59: =F59 -> 25 | H59: =D59 -> 25 | I59: =E59 -> 25 | J59: =F59 -> 25 | K59: =J59 -> 25
B60: общеобразовательные классы - ПГТ с континг более 201-300 | D60: ='Исходные для нормативов'!C18 -> 23 | E60: ='Исходные для нормативов'!D18 -> 23 | F60: ='Исходные для нормативов'!E18 -> 23 | G60: =F60 -> 23 | H60: =D60 -> 23 | I60: =E60 -> 23 | J60: =F60 -> 23 | K60: =J60 -> 23
B61: общеобразовательные классы - ПГТ с континг более 101-200 | D61: ='Исходные для нормативов'!C19 -> 15 | E61: ='Исходные для нормативов'!D19 -> 15 | F61: ='Исходные для нормативов'!E19 -> 15 | G61: =F61 -> 15 | H61: =D61 -> 15 | I61: =E61 -> 15 | J61: =F61 -> 15 | K61: =J61 -> 15
B62: общеобразовательные классы - ПГТ с континг менее 100 | D62: ='Исходные для нормативов'!C20 -> 10 | E62: ='Исходные для нормативов'!D20 -> 10 | F62: ='Исходные для нормативов'!E20 -> 10 | G62: =F62 -> 10 | H62: =D62 -> 10 | I62: =E62 -> 10 | J62: =F62 -> 10 | K62: =J62 -> 10
B63: общеобразовательные классы - СЕЛО с континг более 250 | D63: ='Исходные для нормативов'!C21 -> 20 | E63: ='Исходные для нормативов'!D21 -> 20 | F63: ='Исходные для нормативов'!E21 -> 20 | G63: =F63 -> 20 | H63: =D63 -> 20 | I63: =E63 -> 20 | J63: =F63 -> 20 | K63: =J63 -> 20
B64: общеобразовательные классы - СЕЛО с континг 201 - 250 | D64: ='Исходные для нормативов'!C22 -> 18 | E64: ='Исходные для нормативов'!D22 -> 18 | F64: ='Исходные для нормативов'!E22 -> 18 | G64: =F64 -> 18 | H64: =D64 -> 18 | I64: =E64 -> 18 | J64: =F64 -> 18 | K64: =J64 -> 18
B65: общеобразовательные классы - СЕЛО с континг 101 - 200 | D65: ='Исходные для нормативов'!C23 -> 15 | E65: ='Исходные для нормативов'!D23 -> 15 | F65: ='Исходные для нормативов'!E23 -> 15 | G65: =F65 -> 15 | H65: =D65 -> 15 | I65: =E65 -> 15 | J65: =F65 -> 15 | K65: =J65 -> 15
B66: общеобразовательные классы - СЕЛО с континг 61 - 100 | D66: ='Исходные для нормативов'!C24 -> 11 | E66: ='Исходные для нормативов'!D24 -> 11 | F66: ='Исходные для нормативов'!E24 -> 11 | G66: =F66 -> 11 | H66: =D66 -> 11 | I66: =E66 -> 11 | J66: =F66 -> 11 | K66: =J66 -> 11
B67: общеобразовательные классы - СЕЛО с континг менее 60 | D67: ='Исходные для нормативов'!C25 -> 7 | E67: ='Исходные для нормативов'!D25 -> 7 | F67: ='Исходные для нормативов'!E25 -> 7 | G67: =F67 -> 7 | H67: =D67 -> 7 | I67: =E67 -> 7 | J67: =F67 -> 7 | K67: =J67 -> 7
B68: вечернее обучение -город | D68: ='Исходные для нормативов'!C16 -> 25 | E68: ='Исходные для нормативов'!D16 -> 25 | F68: ='Исходные для нормативов'!E16 -> 25 | H68: =D68 -> 25 | I68: =E68 -> 25 | J68: =F68 -> 25
B69: вечернее обучение -СЕЛО | D69: ='Исходные для нормативов'!C16 -> 25 | E69: ='Исходные для нормативов'!D16 -> 25 | F69: ='Исходные для нормативов'!E16 -> 25 | H69: =D69 -> 25 | I69: =E69 -> 25 | J69: =F69 -> 25
B70: индивидуальное обучение для длительно болеющих детей | D70: 1 | E70: 1 | F70: 1 | H70: =D70 -> 1 | I70: =E70 -> 1 | J70: =F70 -> 1
B71: семейное обучение | D71: 1 | E71: 1 | F71: 1 | H71: =D71 -> 1 | I71: =E71 -> 1 | J71: =F71 -> 1
B72: 1 вариант | C72: глухие | D72: ='Исходные для нормативов'!C28 -> 20 | E72: ='Исходные для нормативов'!D28 -> 20 | F72: ='Исходные для нормативов'!E28 -> 20 | H72: =D72 -> 20 | I72: =E72 -> 20 | J72: =F72 -> 20
C73: слабослышащие и познооглохшие | D73: ='Исходные для нормативов'!C29 -> 25 | E73: ='Исходные для нормативов'!D29 -> 25 | F73: ='Исходные для нормативов'!E29 -> 25 | H73: =D73 -> 25 | I73: =E73 -> 25 | J73: =F73 -> 25
C74: слепые | D74: ='Исходные для нормативов'!C30 -> 20 | E74: ='Исходные для нормативов'!D30 -> 20 | F74: ='Исходные для нормативов'!E30 -> 20 | H74: =D74 -> 20 | I74: =E74 -> 20 | J74: =F74 -> 20
C75: слабовидящие | D75: ='Исходные для нормативов'!C31 -> 25 | E75: ='Исходные для нормативов'!D31 -> 25 | F75: ='Исходные для нормативов'!E31 -> 25 | H75: =D75 -> 25 | I75: =E75 -> 25 | J75: =F75 -> 25
C76: С тяжелыми нарушениями речи (ТНР) | D76: ='Исходные для нормативов'!C32 -> 25 | E76: ='Исходные для нормативов'!D32 -> 25 | F76: ='Исходные для нормативов'!E32 -> 25 | H76: =D76 -> 25 | I76: =E76 -> 25 | J76: =F76 -> 25
C77: С нарушением опорно-двигательного аппарата | D77: ='Исходные для нормативов'!C33 -> 20 | E77: ='Исходные для нормативов'!D33 -> 20 | F77: ='Исходные для нормативов'!E33 -> 20 | H77: =D77 -> 20 | I77: =E77 -> 20 | J77: =F77 -> 20
C78: С задержкой психического развития (ЗПР) | D78: ='Исходные для нормативов'!C34 -> 25 | E78: ='Исходные для нормативов'!D34 -> 25 | F78: ='Исходные для нормативов'!E34 -> 25 | H78: =D78 -> 25 | I78: =E78 -> 25 | J78: =F78 -> 25
C79: С расстройствами аутического спектора (РАС) | D79: ='Исходные для нормативов'!C35 -> 20 | E79: ='Исходные для нормативов'!D35 -> 20 | F79: ='Исходные для нормативов'!E35 -> 20 | H79: =D79 -> 20 | I79: =E79 -> 20 | J79: =F79 -> 20
C80: С умственной отсталостью (интеллектуальными нарушениями) | D80: ='Исходные для нормативов'!C36 -> 0 | E80: ='Исходные для нормативов'!D36 -> 0 | F80: ='Исходные для нормативов'!E36 -> 0 | H80: =D80 -> 0 | I80: =E80 -> 0 | J80: =F80 -> 0
B81: 2 вариант | C81: глухие | D81: ='Исходные для нормативов'!C37 -> 6 | E81: ='Исходные для нормативов'!D37 -> 6 | F81: ='Исходные для нормативов'!E37 -> 6 | H81: =D81 -> 6 | I81: =E81 -> 6 | J81: =F81 -> 6
C82: слабослышащие и познооглохшие | D82: ='Исходные для нормативов'!C38 -> 7 | E82: ='Исходные для нормативов'!D38 -> 7 | F82: ='Исходные для нормативов'!E38 -> 7 | H82: =D82 -> 7 | I82: =E82 -> 7 | J82: =F82 -> 7
C83: слепые | D83: ='Исходные для нормативов'!C39 -> 9 | E83: ='Исходные для нормативов'!D39 -> 9 | F83: ='Исходные для нормативов'!E39 -> 9 | H83: =D83 -> 9 | I83: =E83 -> 9 | J83: =F83 -> 9
C84: слабовидящие | D84: ='Исходные для нормативов'!C40 -> 12 | E84: ='Исходные для нормативов'!D40 -> 12 | F84: ='Исходные для нормативов'!E40 -> 12 | H84: =D84 -> 12 | I84: =E84 -> 12 | J84: =F84 -> 12
C85: С тяжелыми нарушениями речи (ТНР) | D85: ='Исходные для нормативов'!C41 -> 12 | E85: ='Исходные для нормативов'!D41 -> 12 | F85: ='Исходные для нормативов'!E41 -> 12 | H85: =D85 -> 12 | I85: =E85 -> 12 | J85: =F85 -> 12
C86: С нарушением опорно-двигательного аппарата | D86: ='Исходные для нормативов'!C42 -> 5 | E86: ='Исходные для нормативов'!D42 -> 5 | F86: ='Исходные для нормативов'!E42 -> 5 | H86: =D86 -> 5 | I86: =E86 -> 5 | J86: =F86 -> 5
C87: С задержкой психического развития (ЗПР) | D87: ='Исходные для нормативов'!C43 -> 12 | E87: ='Исходные для нормативов'!D43 -> 12 | F87: ='Исходные для нормативов'!E43 -> 12 | H87: =D87 -> 12 | I87: =E87 -> 12 | J87: =F87 -> 12
C88: С расстройствами аутического спектора (РАС) | D88: ='Исходные для нормативов'!C44 -> 12 | E88: ='Исходные для нормативов'!D44 -> 12 | F88: ='Исходные для нормативов'!E44 -> 12 | H88: =D88 -> 12 | I88: =E88 -> 12 | J88: =F88 -> 12
C89: С умственной отсталостью (интеллектуальными нарушениями) | D89: ='Исходные для нормативов'!C45 -> 0 | E89: ='Исходные для нормативов'!D45 -> 0 | F89: ='Исходные для нормативов'!E45 -> 0 | H89: =D89 -> 0 | I89: =E89 -> 0 | J89: =F89 -> 0
B90: 3 вариант | C90: глухие | D90: ='Исходные для нормативов'!C46 -> 5 | E90: ='Исходные для нормативов'!D46 -> 5 | F90: ='Исходные для нормативов'!E46 -> 5 | H90: =D90 -> 5 | I90: =E90 -> 5 | J90: =F90 -> 5
C91: слабослышащие и познооглохшие | D91: ='Исходные для нормативов'!C47 -> 5 | E91: ='Исходные для нормативов'!D47 -> 5 | F91: ='Исходные для нормативов'!E47 -> 5 | H91: =D91 -> 5 | I91: =E91 -> 5 | J91: =F91 -> 5
C92: слепые | D92: ='Исходные для нормативов'!C48 -> 7 | E92: ='Исходные для нормативов'!D48 -> 7 | F92: ='Исходные для нормативов'!E48 -> 7 | H92: =D92 -> 7 | I92: =E92 -> 7 | J92: =F92 -> 7
C93: слабовидящие | D93: ='Исходные для нормативов'!C49 -> 9 | E93: ='Исходные для нормативов'!D49 -> 9 | F93: ='Исходные для нормативов'!E49 -> 9 | H93: =D93 -> 9 | I93: =E93 -> 9 | J93: =F93 -> 9
C94: С тяжелыми нарушениями речи (ТНР) | D94: ='Исходные для нормативов'!C50 -> 0 | E94: ='Исходные для нормативов'!D50 -> 0 | F94: ='Исходные для нормативов'!E50 -> 0 | H94: =D94 -> 0 | I94: =E94 -> 0 | J94: =F94 -> 0
C95: С нарушением опорно-двигательного аппарата | D95: ='Исходные для нормативов'!C51 -> 5 | E95: ='Исходные для нормативов'!D51 -> 5 | F95: ='Исходные для нормативов'!E51 -> 5 | H95: =D95 -> 5 | I95: =E95 -> 5 | J95: =F95 -> 5
C96: С задержкой психического развития (ЗПР) | D96: ='Исходные для нормативов'!C52 -> 0 | E96: ='Исходные для нормативов'!D52 -> 0 | F96: ='Исходные для нормативов'!E52 -> 0 | H96: =D96 -> 0 | I96: =E96 -> 0 | J96: =F96 -> 0
C97: С расстройствами аутического спектора (РАС) | D97: ='Исходные для нормативов'!C53 -> 9 | E97: ='Исходные для нормативов'!D53 -> 9 | F97: ='Исходные для нормативов'!E53 -> 9 | H97: =D97 -> 9 | I97: =E97 -> 9 | J97: =F97 -> 9
C98: С умственной отсталостью (интеллектуальными нарушениями) | D98: ='Исходные для нормативов'!C54 -> 12 | E98: ='Исходные для нормативов'!D54 -> 12 | F98: ='Исходные для нормативов'!E54 -> 12 | H98: =D98 -> 12 | I98: =E98 -> 12 | J98: =F98 -> 12
B99: 4 вариант | C99: глухие | D99: ='Исходные для нормативов'!C55 -> 5 | E99: ='Исходные для нормативов'!D55 -> 5 | F99: ='Исходные для нормативов'!E55 -> 5 | H99: =D99 -> 5 | I99: =E99 -> 5 | J99: =F99 -> 5
C100: слабослышащие и познооглохшие | D100: ='Исходные для нормативов'!C56 -> 0 | E100: ='Исходные для нормативов'!D56 -> 0 | F100: ='Исходные для нормативов'!E56 -> 0 | H100: =D100 -> 0 | I100: =E100 -> 0 | J100: =F100 -> 0
...

Sheet Классное свод
A1: Муниципальное образование | F1: ВСЕГО | O1: Муниципальное образование | T1: Бокситогорский | AA1: Муниципальное образование | AF1: Волосовский | AM1: Муниципальное образование | AR1: Волховский | AY1: Муниципальное образование | BD1: Всеволожский | BK1: Муниципальное образование | BP1: Выборгский | BW1: Муниципальное образование | CB1: Гатчинский | CI1: Муниципальное образование | CN1: Кингисеппский | CU1: Муниципальное образование | CZ1: Киришский | DG1: Муниципальное образование | DL1: Кировский | DS1: Муниципальное образование | DX1: Лодейнопольский | EE1: Муниципальное образование | EJ1: Ломоносовский | EQ1: Муниципальное образование | EV1: Лужский | EW1: Лужский | FC1: Муниципальное образование | FH1: Подпорожский | FO1: Муниципальное образование | FT1: Приозерский | GA1: Муниципальное образование | GF1: Сланцевский | GM1: Муниципальное образование | GR1: Тихвинский | GY1: Муниципальное образование | HD1: Тосненский | HK1: Муниципальное образование | HP1: Сосновоборский городской округ
B2: Общеобразоват школы | D2: Школа-сад, вечерн школа, базов школа | F2: Общеобраз интернат | H2: ОВЗ в школах | J2: ВСЕГО | P2: Общеобразоват школы | R2: Школа-сад, вечерн школа, базов школа | T2: Общеобраз интернат | V2: ОВЗ в школах | X2: ВСЕГО | AB2: Общеобразоват школы | AD2: Школа-сад, вечерн школа, базов школа | AF2: Общеобраз интернат | AH2: ОВЗ в школах | AJ2: ВСЕГО | AN2: Общеобразоват школы | AP2: Школа-сад, вечерн школа, базов школа | AR2: Общеобраз интернат | AT2: ОВЗ в школах | AV2: ВСЕГО | AZ2: Общеобразоват школы | BB2: Школа-сад, вечерн школа, базов школа | BD2: Общеобраз интернат | BF2: ОВЗ в школах | BH2: ВСЕГО | BL2: Общеобразоват школы | BN2: Школа-сад, вечерн школа, базов школа | BP2: Общеобраз интернат | BR2: ОВЗ в школах | BT2: ВСЕГО | BX2: Общеобразоват школы | BZ2: Школа-сад, вечерн школа, базов школа | CB2: Общеобраз интернат | CD2: ОВЗ в школах | CF2: ВСЕГО | CJ2: Общеобразоват школы | CL2: Школа-сад, вечерн школа, базов школа | CN2: Общеобраз интернат | CP2: ОВЗ в школах | CR2: ВСЕГО | CV2: Общеобразоват школы | CX2: Школа-сад, вечерн школа, базов школа | CZ2: Общеобраз интернат | DB2: ОВЗ в школах | DD2: ВСЕГО | DG2: Наполняемость классов | DH2: Общеобразоват школы | DJ2: Школа-сад, вечерн школа, базов школа | DL2: Общеобраз интернат | DN2: Спец школа-интер, ОВЗ в школах | DP2: ВСЕГО | DT2: Общеобразоват школы | DV2: Школа-сад, вечерн школа, базов школа | DX2: Общеобраз интернат | DZ2: ОВЗ в школах | EB2: ВСЕГО | EF2: Общеобразоват школы | EH2: Школа-сад, вечерн школа, базов школа | EJ2: Общеобраз интернат | EL2: ОВЗ в школах | EN2: ВСЕГО | ER2: Общеобразоват школы | ET2: Школа-сад, вечерн школа, базов школа | EV2: Общеобраз интернат | EX2: ОВЗ в школах | EZ2: ВСЕГО | FD2: Общеобразоват школы | FF2: Школа-сад, вечерн школа, базов школа | FH2: Общеобраз интернат | FJ2: ОВЗ в школах | FL2: ВСЕГО | FP2: Общеобразоват школы | FR2: Школа-сад, вечерн школа, базов школа | FT2: Общеобраз интернат | FV2: ОВЗ в школах | FX2: ВСЕГО | GB2: Общеобразоват школы | GD2: Школа-сад, вечерн школа, базов школа | GF2: Общеобраз интернат | GH2: ОВЗ в школах | GJ2: ВСЕГО | GN2: Общеобразоват школы | GP2: Школа-сад, вечерн школа, базов школа | GR2: Общеобраз интернат | GT2: ОВЗ в школах | GV2: ВСЕГО | GZ2: Общеобразоват школы | HB2: Школа-сад, вечерн школа, базов школа | HD2: Общеобраз интернат | HF2: ОВЗ в школах | HH2: ВСЕГО | HL2: Общеобразоват школы | HN2: Школа-сад, вечерн школа, базов школа | HP2: Общеобраз интернат | HR2: ОВЗ в школах | HT2: ВСЕГО
B3: 25 | D3: 25 | F3: 20 | H3: 12 | P3: 25 | R3: 25 | T3: 20 | V3: 12 | AB3: 25 | AD3: 25 | AF3: 20 | AH3: 12 | AN3: 25 | AP3: 25 | AR3: 20 | AT3: 12 | AZ3: 25 | BB3: 25 | BD3: 20 | BF3: 12 | BL3: 25 | BN3: 25 | BP3: 20 | BR3: 12 | BX3: 25 | BZ3: 25 | CB3: 20 | CD3: 12 | CJ3: 25 | CL3: 25 | CN3: 20 | CP3: 12 | CV3: 25 | CX3: 25 | CZ3: 20 | DB3: 12 | DH3: 25 | DJ3: 25 | DL3: 20 | DN3: 12 | DT3: 25 | DV3: 25 | DX3: 20 | DZ3: 12 | EF3: 25 | EH3: 25 | EJ3: 20 | EL3: 12 | ER3: 25 | ET3: 25 | EV3: 20 | EX3: 12 | FD3: 25 | FF3: 25 | FH3: 20 | FJ3: 12 | FP3: 25 | FR3: 25 | FT3: 20 | FV3: 12 | GB3: 25 | GD3: 25 | GF3: 20 | GH3: 12 | GN3: 25 | GP3: 25 | GR3: 20 | GT3: 12 | GZ3: 25 | HB3: 25 | HD3: 20 | HF3: 12 | HL3: 25 | HN3: 25 | HP3: 20 | HR3: 12
B4: колич классов | C4: Потребность на 2018 г | D4: колич классов | E4: Потребность на 2018 г | F4: колич классов | G4: Потребность на 2018 г | H4: колич классов | I4: Потребность на 2018 г | J4: колич классов | K4: Потребность на 2018 г | P4: колич классов | Q4: Потребность на 2019 г | R4: колич классов | S4: Потребность на 2019 г | T4: колич классов | U4: Потребность на 2019 г | V4: колич классов | W4: Потребность на 2019 г | X4: колич классов | Y4: Потребность на 2019 г | AB4: колич классов | AC4: Потребность на 2018 г | AD4: колич классов | AE4: Потребность на 2018 г | AF4: колич классов | AG4: Потребность на 2018 г | AH4: колич классов | AI4: Потребность на 2018 г | AJ4: колич классов | AK4: Потребность на 2018 г | AN4: колич классов | AO4: Потребность на 2018 г | AP4: колич классов | AQ4: Потребность на 2018 г | AR4: колич классов | AS4: Потребность на 2018 г | AT4: колич классов | AU4: Потребность на 2018 г | AV4: колич классов | AW4: Потребность на 2018 г | AZ4: колич классов | BA4: Потребность на 2018 г | BB4: колич классов | BC4: Потребность на 2018 г | BD4: колич классов | BE4: Потребность на 2018 г | BF4: колич классов | BG4: Потребность на 2018 г | BH4: колич классов | BI4: Потребность на 2018 г | BL4: колич классов | BM4: Потребность на 2018 г | BN4: колич классов | BO4: Потребность на 2018 г | BP4: колич классов | BQ4: Потребность на 2018 г | BR4: колич классов | BS4: Потребность на 2018 г | BT4: колич классов | BU4: Потребность на 2018 г | BX4: колич классов | BY4: Потребность на 2018 г | BZ4: колич классов | CA4: Потребность на 2018 г | CB4: колич классов | CC4: Потребность на 2018 г | CD4: колич классов | CE4: Потребность на 2018 г | CF4: колич классов | CG4: Потребность на 2018 г | CJ4: колич классов | CK4: Потребность на 2018 г | CL4: колич классов | CM4: Потребность на 2018 г | CN4: колич классов | CO4: Потребность на 2018 г | CP4: колич классов | CQ4: Потребность на 2018 г | CR4: колич классов | CS4: Потребность на 2018 г | CV4: колич классов | CW4: Потребность на 2018 г | CX4: колич классов | CY4: Потребность на 2018 г | CZ4: колич классов | DA4: Потребность на 2018 г | DB4: колич классов | DC4: Потребность на 2018 г | DD4: колич классов | DE4: Потребность на 2018 г | DH4: колич классов | DI4: Потребность на 2019 г | DJ4: колич классов | DK4: Потребность на 2019 г | DL4: колич классов | DM4: Потребность на 2019 г | DN4: колич классов | DO4: Потребность на 2019 г | DP4: колич классов | DQ4: Потребность на 2019 г | DT4: колич классов | DU4: Потребность на 2018 г | DV4: колич классов | DW4: Потребность на 2018 г | DX4: колич классов | DY4: Потребность на 2018 г | DZ4: колич классов | EA4: Потребность на 2018 г | EB4: колич классов | EC4: Потребность на 2018 г | EF4: колич классов | EG4: Потребность на 2018 г | EH4: колич классов | EI4: Потребность на 2018 г | EJ4: колич классов | EK4: Потребность на 2018 г | EL4: колич классов | EM4: Потребность на 2018 г | EN4: колич классов | EO4: Потребность на 2018 г | ER4: колич классов | ES4: Потребность на 2018 г | ET4: колич классов | EU4: Потребность на 2018 г | EV4: колич классов | EW4: Потребность на 2018 г | EX4: колич классов | EY4: Потребность на 2018 г | EZ4: колич классов | FA4: Потребность на 2018 г | FD4: колич классов | FE4: Потребность на 2018 г | FF4: колич классов | FG4: Потребность на 2018 г | FH4: колич классов | FI4: Потребность на 2018 г | FJ4: колич классов | FK4: Потребность на 2018 г | FL4: колич классов | FM4: Потребность на 2018 г | FP4: колич классов | FQ4: Потребность на 2018 г | FR4: колич классов | FS4: Потребность на 2018 г | FT4: колич классов | FU4: Потребность на 2018 г | FV4: колич классов | FW4: Потребность на 2018 г | FX4: колич классов | FY4: Потребность на 2018 г | GB4: колич классов | GC4: Потребность на 2018 г | GD4: колич классов | GE4: Потребность на 2018 г | GF4: колич классов | GG4: Потребность на 2018 г | GH4: колич классов | GI4: Потребность на 2018 г | GJ4: колич классов | GK4: Потребность на 2018 г | GN4: колич классов | GO4: Потребность на 2018 г | GP4: колич классов | GQ4: Потребность на 2018 г | GR4: колич классов | GS4: Потребность на 2018 г | GT4: колич классов | GU4: Потребность на 2018 г | GV4: колич классов | GW4: Потребность на 2018 г | GZ4: колич классов | HA4: Потребность на 2018 г | HB4: колич классов | HC4: Потребность на 2018 г | HD4: колич классов | HE4: Потребность на 2018 г | HF4: колич классов | HG4: Потребность на 2018 г | HH4: колич классов | HI4: Потребность на 2018 г | HL4: колич классов | HM4: Потребность на 2018 г | HN4: колич классов | HO4: Потребность на 2018 г | HP4: колич классов | HQ4: Потребность на 2018 г | HR4: колич классов | HS4: Потребность на 2018 г | HT4: колич классов | HU4: Потребность на 2018 г
B6: ГОРОД | H6: город и село | P6: ГОРОД | V6: город и село | AB6: ГОРОД | AH6: город и село | AN6: ГОРОД | AT6: город и село | AZ6: ГОРОД | BF6: город и село | BL6: ГОРОД | BR6: город и село | BX6: ГОРОД | CD6: город и село | CJ6: ГОРОД | CP6: город и село | CV6: ГОРОД | DB6: город и село | DH6: ГОРОД | DN6: город и село | DT6: ГОРОД | DZ6: город и село | EF6: ГОРОД | EL6: город и село | ER6: ГОРОД | EX6: город и село | FD6: ГОРОД | FJ6: город и село | FP6: ГОРОД | FV6: город и село | GB6: ГОРОД | GH6: город и село | GN6: ГОРОД | GT6: город и село | GZ6: ГОРОД | HF6: город и село | HL6: ГОРОД | HR6: город и село
A7: 25 | B7: =P7+AB7+AN7+AZ7+BL7+BX7+CJ7+CV7+DH7+DT7+EF7+ER7+FD7+FP7+GB7+GN7+GZ7+HL7 -> 3239 | C7: =Q7+AC7+AO7+BA7+BM7+BY7+CK7+CW7+DI7+DU7+EG7+ES7+FE7+FQ7+GC7+GO7+HA7+HM7 -> 101212.1 | D7: =R7+AD7+AP7+BB7+BN7+BZ7+CL7+CX7+DJ7+DV7+EH7+ET7+FF7+FR7+GD7+GP7+HB7+HN7 -> 1 | E7: =S7+AE7+AQ7+BC7+BO7+CA7+CM7+CY7+DK7+DW7+EI7+EU7+FG7+FS7+GE7+GQ7+HC7+HO7 -> 31.2 | F7: =T7+AF7+AR7+BD7+BP7+CB7+CN7+CZ7+DL7+DX7+EJ7+EV7+FH7+FT7+GF7+GR7+HD7+HP7 -> 0 | G7: =U7+AG7+AS7+BE7+BQ7+CC7+CO7+DA7+DM7+DY7+EK7+EW7+FI7+FU7+GG7+GS7+HE7+HQ7 -> 0 | H7: =V7+AH7+AT7+BF7+BR7+CD7+CP7+DB7+DN7+DZ7+EL7+EX7+FJ7+FV7+GH7+GT7+HF7+HR7 -> 0 | I7: =W7+AI7+AU7+BG7+BS7+CE7+CQ7+DC7+DO7+EA7+EM7+EY7+FK7+FW7+GI7+GU7+HG7+HS7 -> 0 | ... K7: =Y7+AK7+AW7+BI7+BU7+CG7+CS7+DE7+DQ7+EC7+EO7+FA7+FM7+FY7+GK7+GW7+HI7+HU7 -> 101243.3 | O7: 25 | P7: 126 | Q7: =ROUND(P7*O7/25*12*2*1.302,1) -> 3937.2 | S7: =ROUND(R7*Q7/25*12*2*1.302,1) -> 0 | X7: =P7+R7+V7+T7 -> 126 | Y7: =Q7+S7+W7+U7 -> 3937.2 | AA7: 25 | AB7: 39 | AC7: =ROUND(AB7*AA7/25*12*2*1.302,1) -> 1218.7 | AE7: =ROUND(AD7*AC7/25*12*2*1.302,1) -> 0 | AJ7: =AB7+AD7+AH7+AF7 -> 39 | AK7: =AC7+AE7+AI7+AG7 -> 1218.7 | AM7: 25 | AN7: 193 | AO7: =ROUND(AN7*AM7/25*12*2*1.302,1) -> 6030.9 | AQ7: =ROUND(AP7*AM7/25*12*2*1.302,1) -> 0 | AV7: =AN7+AP7+AT7+AR7 -> 193 | AW7: =AO7+AQ7+AU7+AS7 -> 6030.9 | AY7: 25 | AZ7: 563 | BA7: =ROUND(AZ7*AY7/25*12*2*1.302,1) -> 17592.6 | BC7: =ROUND(BB7*AY7/25*12*2*1.302,1) -> 0 | BH7: =AZ7+BB7+BF7+BD7 -> 563 | BI7: =BA7+BC7+BG7+BE7 -> 17592.6 | BK7: 25 | BL7: 382 | BM7: =ROUND(BL7*BK7/25*12*2*1.302,1) -> 11936.7 | BO7: =ROUND(BN7*BM7/25*12*2*1.302,1) -> 0 | BT7: =BL7+BN7+BR7+BP7 -> 382 | BU7: =BM7+BO7+BS7+BQ7 -> 11936.7 | BW7: 25 | BX7: 364 | BY7: =ROUND(BX7*BW7/25*12*2*1.302,1) -> 11374.3 | CA7: =ROUND(BZ7*BY7/25*12*2*1.302,1) -> 0 | CF7: =BX7+BZ7+CD7+CB7 -> 364 | CG7: =BY7+CA7+CE7+CC7 -> 11374.3 | CI7: 25 | CJ7: 176 | CK7: =ROUND(CJ7*CI7/25*12*2*1.302,1) -> 5499.6 | CM7: =ROUND(CL7*CK7/25*12*2*1.302,1) -> 0 | CR7: =CJ7+CL7+CP7+CN7 -> 176 | CS7: =CK7+CM7+CQ7+CO7 -> 5499.6 | CU7: 25 | CV7: 207 | CW7: =ROUND(CV7*CU7/25*12*2*1.302,1) -> 6468.3 | CX7: 1 | CY7: =ROUND(CX7*CU7/25*12*2*1.302,1) -> 31.2 | DC7: =ROUND(DB7*CU7/12*12*2*1.302,1) -> 0 | DD7: =CV7+CX7+DB7+CZ7 -> 208 | DE7: =CW7+CY7+DC7+DA7 -> 6499.5 | DG7: 25 | DH7: 211 | DI7: =ROUND(DH7*DG7/25*12*2*1.302,1) -> 6593.3 | DK7: =ROUND(DJ7*DG7/25*12*2*1.302,1) -> 0 | DM7: =ROUND(DL7*DG7/20*12*2*1.302,1) -> 0 | DO7: =ROUND(DN7*DG7/12*12*2*1.302,1) -> 0 | DP7: =DH7+DJ7+DL7+DN7 -> 211 | DQ7: =DI7+DK7+DM7+DO7 -> 6593.3 | DS7: 25 | DT7: 61 | DU7: =ROUND(DT7*DS7/25*12*2*1.302,1) -> 1906.1 | DW7: =ROUND(DV7*DS7/25*12*2*1.302,1) -> 0 | EB7: =DT7+DV7+DX7+DZ7 -> 61 | EC7: =DU7+DW7+DY7+EA7 -> 1906.1 | EE7: 25 | EF7: 3 | EG7: =ROUND(EF7*EE7/25*12*2*1.302,1) -> 93.7 | EI7: =ROUND(EH7*EG7/25*12*2*1.302,1) -> 0 | EK7: =ROUND(EJ7*EE7/20*12*2*1.302,1) -> 0 | EM7: =ROUND(EL7*EE7/12*12*2*1.302,1) -> 0 | EN7: =EF7+EH7+EL7+EJ7 -> 3 | EO7: =EG7+EI7+EM7+EK7 -> 93.7 | EQ7: 25 | ER7: 89 | ES7: =ROUND(ER7*EQ7/25*12*2*1.302,1) -> 2781.1 | EU7: =ROUND(ET7*EQ7/25*12*2*1.302,1) -> 0 | EZ7: =ER7+ET7+EX7+EV7 -> 89 | FA7: =ES7+EU7+EY7+EW7 -> 2781.1 | FC7: 25 | FD7: 65 | FE7: =ROUND(FD7*FC7/25*12*2*1.302,1) -> 2031.1 | FG7: =ROUND(FF7*FE7/25*12*2*1.302,1) -> 0 | FL7: =FD7+FF7+FJ7+FH7 -> 65 | FM7: =FE7+FG7+FK7+FI7 -> 2031.1 | FO7: 25 | FP7: 71 | FQ7: =ROUND(FP7*FO7/25*12*2*1.302,1) -> 2218.6 | FS7: =ROUND(FR7*FQ7/25*12*2*1.302,1) -> 0 | FX7: =FP7+FR7+FV7+FT7 -> 71 | FY7: =FQ7+FS7+FW7+FU7 -> 2218.6 | GA7: 25 | GB7: 97 | GC7: =ROUND(GB7*GA7/25*12*2*1.302,1) -> 3031.1 | GD7: 0 | GE7: =ROUND(GD7*GC7/25*12*2*1.302,1) -> 0 | GI7: =ROUND(GH7*GA7/12*12*2*1.302,1) -> 0 | GJ7: =GB7+GD7+GH7+GF7 -> 97 | GK7: =GC7+GE7+GI7+GG7 -> 3031.1 | GM7: 25 | GN7: 193 | GO7: =ROUND(GN7*GM7/25*12*2*1.302,1) -> 6030.9 | GQ7: =ROUND(GP7*GO7/25*12*2*1.302,1) -> 0 | GV7: =GN7+GP7+GT7+GR7 -> 193 | GW7: =GO7+GQ7+GU7+GS7 -> 6030.9 | GY7: 25 | GZ7: 215 | HA7: =ROUND(GZ7*GY7/25*12*2*1.302,1) -> 6718.3 | HC7: =ROUND(HB7*HA7/25*12*2*1.302,1) -> 0 | HH7: =GZ7+HB7+HF7+HD7 -> 215 | HI7: =HA7+HC7+HG7+HE7 -> 6718.3 | HK7: 25 | HL7: 184 | HM7: =ROUND(HL7*HK7/25*12*2*1.302,1) -> 5749.6 | HO7: =ROUND(HN7*HM7/25*12*2*1.302,1) -> 0 | HT7: =HL7+HN7+HR7+HP7 -> 184 | HU7: =HM7+HO7+HS7+HQ7 -> 5749.6
A8: 24 | B8: =P8+AB8+AN8+AZ8+BL8+BX8+CJ8+CV8+DH8+DT8+EF8+ER8+FD8+FP8+GB8+GN8+GZ8+HL8 -> 187 | C8: =Q8+AC8+AO8+BA8+BM8+BY8+CK8+CW8+DI8+DU8+EG8+ES8+FE8+FQ8+GC8+GO8+HA8+HM8 -> 5609.9 | D8: =R8+AD8+AP8+BB8+BN8+BZ8+CL8+CX8+DJ8+DV8+EH8+ET8+FF8+FR8+GD8+GP8+HB8+HN8 -> 0 | E8: =S8+AE8+AQ8+BC8+BO8+CA8+CM8+CY8+DK8+DW8+EI8+EU8+FG8+FS8+GE8+GQ8+HC8+HO8 -> 0 | F8: =T8+AF8+AR8+BD8+BP8+CB8+CN8+CZ8+DL8+DX8+EJ8+EV8+FH8+FT8+GF8+GR8+HD8+HP8 -> 0 | G8: =U8+AG8+AS8+BE8+BQ8+CC8+CO8+DA8+DM8+DY8+EK8+EW8+FI8+FU8+GG8+GS8+HE8+HQ8 -> 0 | H8: =V8+AH8+AT8+BF8+BR8+CD8+CP8+DB8+DN8+DZ8+EL8+EX8+FJ8+FV8+GH8+GT8+HF8+HR8 -> 0 | I8: =W8+AI8+AU8+BG8+BS8+CE8+CQ8+DC8+DO8+EA8+EM8+EY8+FK8+FW8+GI8+GU8+HG8+HS8 -> 0 | ... K8: =Y8+AK8+AW8+BI8+BU8+CG8+CS8+DE8+DQ8+EC8+EO8+FA8+FM8+FY8+GK8+GW8+HI8+HU8 -> 5609.9 | O8: 24 | P8: 5 | Q8: =ROUND(P8*O8/25*12*2*1.302,1) -> 150 | S8: =ROUND(R8*Q8/25*12*2*1.302,1) -> 0 | X8: =P8+R8+V8+T8 -> 5 | Y8: =Q8+S8+W8+U8 -> 150 | AA8: 24 | AB8: 6 | AC8: =ROUND(AB8*AA8/25*12*2*1.302,1) -> 180 | AE8: =ROUND(AD8*AC8/25*12*2*1.302,1) -> 0 | AJ8: =AB8+AD8+AH8+AF8 -> 6 | AK8: =AC8+AE8+AI8+AG8 -> 180 | AM8: 24 | AN8: 8 | AO8: =ROUND(AN8*AM8/25*12*2*1.302,1) -> 240 | AQ8: =ROUND(AP8*AM8/25*12*2*1.302,1) -> 0 | AV8: =AN8+AP8+AT8+AR8 -> 8 | AW8: =AO8+AQ8+AU8+AS8 -> 240 | AY8: 24 | AZ8: 28 | BA8: =ROUND(AZ8*AY8/25*12*2*1.302,1) -> 839.9 | BC8: =ROUND(BB8*AY8/25*12*2*1.302,1) -> 0 | BH8: =AZ8+BB8+BF8+BD8 -> 28 | BI8: =BA8+BC8+BG8+BE8 -> 839.9 | BK8: 24 | BL8: 16 | BM8: =ROUND(BL8*BK8/25*12*2*1.302,1) -> 480 | BO8: =ROUND(BN8*BM8/25*12*2*1.302,1) -> 0 | BT8: =BL8+BN8+BR8+BP8 -> 16 | BU8: =BM8+BO8+BS8+BQ8 -> 480 | BW8: 24 | BX8: 22 | BY8: =ROUND(BX8*BW8/25*12*2*1.302,1) -> 660 | CA8: =ROUND(BZ8*BY8/25*12*2*1.302,1) -> 0 | CF8: =BX8+BZ8+CD8+CB8 -> 22 | CG8: =BY8+CA8+CE8+CC8 -> 660 | CI8: 24 | CJ8: 15 | CK8: =ROUND(CJ8*CI8/25*12*2*1.302,1) -> 450 | CM8: =ROUND(CL8*CK8/25*12*2*1.302,1) -> 0 | CR8: =CJ8+CL8+CP8+CN8 -> 15 | CS8: =CK8+CM8+CQ8+CO8 -> 450 | CU8: 24 | CV8: 2 | CW8: =ROUND(CV8*CU8/25*12*2*1.302,1) -> 60 | CY8: =ROUND(CX8*CU8/25*12*2*1.302,1) -> 0 | DC8: =ROUND(DB8*CU8/12*12*2*1.302,1) -> 0 | DD8: =CV8+CX8+DB8+CZ8 -> 2 | DE8: =CW8+CY8+DC8+DA8 -> 60 | DG8: 24 | DH8: 15 | DI8: =ROUND(DH8*DG8/25*12*2*1.302,1) -> 450 | DK8: =ROUND(DJ8*DG8/25*12*2*1.302,1) -> 0 | DM8: =ROUND(DL8*DG8/20*12*2*1.302,1) -> 0 | DO8: =ROUND(DN8*DG8/12*12*2*1.302,1) -> 0 | DP8: =DH8+DJ8+DL8+DN8 -> 15 | DQ8: =DI8+DK8+DM8+DO8 -> 450 | DS8: 24 | DT8: 2 | DU8: =ROUND(DT8*DS8/25*12*2*1.302,1) -> 60 | DW8: =ROUND(DV8*DS8/25*12*2*1.302,1) -> 0 | EB8: =DT8+DV8+DX8+DZ8 -> 2 | EC8: =DU8+DW8+DY8+EA8 -> 60 | EE8: 24 | EG8: =ROUND(EF8*EE8/25*12*2*1.302,1) -> 0 | EI8: =ROUND(EH8*EG8/25*12*2*1.302,1) -> 0 | EK8: =ROUND(EJ8*EE8/20*12*2*1.302,1) -> 0 | EM8: =ROUND(EL8*EE8/12*12*2*1.302,1) -> 0 | EN8: =EF8+EH8+EL8+EJ8 -> 0 | EO8: =EG8+EI8+EM8+EK8 -> 0 | EQ8: 24 | ER8: 14 | ES8: =ROUND(ER8*EQ8/25*12*2*1.302,1) -> 420 | EU8: =ROUND(ET8*EQ8/25*12*2*1.302,1) -> 0 | EZ8: =ER8+ET8+EX8+EV8 -> 14 | FA8: =ES8+EU8+EY8+EW8 -> 420 | FC8: 24 | FD8: 7 | FE8: =ROUND(FD8*FC8/25*12*2*1.302,1) -> 210 | FG8: =ROUND(FF8*FE8/25*12*2*1.302,1) -> 0 | FL8: =FD8+FF8+FJ8+FH8 -> 7 | FM8: =FE8+FG8+FK8+FI8 -> 210 | FO8: 24 | FP8: 1 | FQ8: =ROUND(FP8*FO8/25*12*2*1.302,1) -> 30 | FS8: =ROUND(FR8*FQ8/25*12*2*1.302,1) -> 0 | FX8: =FP8+FR8+FV8+FT8 -> 1 | FY8: =FQ8+FS8+FW8+FU8 -> 30 | GA8: 24 | GB8: 6 | GC8: =ROUND(GB8*GA8/25*12*2*1.302,1) -> 180 | GD8: 0 | GE8: =ROUND(GD8*GC8/25*12*2*1.302,1) -> 0 | GI8: =ROUND(GH8*GA8/12*12*2*1.302,1) -> 0 | GJ8: =GB8+GD8+GH8+GF8 -> 6 | GK8: =GC8+GE8+GI8+GG8 -> 180 | GM8: 24 | GN8: 6 | GO8: =ROUND(GN8*GM8/25*12*2*1.302,1) -> 180 | GQ8: =ROUND(GP8*GO8/25*12*2*1.302,1) -> 0 | GV8: =GN8+GP8+GT8+GR8 -> 6 | GW8: =GO8+GQ8+GU8+GS8 -> 180 | GY8: 24 | GZ8: 24 | HA8: =ROUND(GZ8*GY8/25*12*2*1.302,1) -> 720 | HC8: =ROUND(HB8*HA8/25*12*2*1.302,1) -> 0 | HH8: =GZ8+HB8+HF8+HD8 -> 24 | HI8: =HA8+HC8+HG8+HE8 -> 720 | HK8: 24 | HL8: 10 | HM8: =ROUND(HL8*HK8/25*12*2*1.302,1) -> 300 | HO8: =ROUND(HN8*HM8/25*12*2*1.302,1) -> 0 | HT8: =HL8+HN8+HR8+HP8 -> 10 | HU8: =HM8+HO8+HS8+HQ8 -> 300
A9: 23 | B9: =P9+AB9+AN9+AZ9+BL9+BX9+CJ9+CV9+DH9+DT9+EF9+ER9+FD9+FP9+GB9+GN9+GZ9+HL9 -> 155 | C9: =Q9+AC9+AO9+BA9+BM9+BY9+CK9+CW9+DI9+DU9+EG9+ES9+FE9+FQ9+GC9+GO9+HA9+HM9 -> 4455.7 | D9: =R9+AD9+AP9+BB9+BN9+BZ9+CL9+CX9+DJ9+DV9+EH9+ET9+FF9+FR9+GD9+GP9+HB9+HN9 -> 0 | E9: =S9+AE9+AQ9+BC9+BO9+CA9+CM9+CY9+DK9+DW9+EI9+EU9+FG9+FS9+GE9+GQ9+HC9+HO9 -> 0 | F9: =T9+AF9+AR9+BD9+BP9+CB9+CN9+CZ9+DL9+DX9+EJ9+EV9+FH9+FT9+GF9+GR9+HD9+HP9 -> 0 | G9: =U9+AG9+AS9+BE9+BQ9+CC9+CO9+DA9+DM9+DY9+EK9+EW9+FI9+FU9+GG9+GS9+HE9+HQ9 -> 0 | H9: =V9+AH9+AT9+BF9+BR9+CD9+CP9+DB9+DN9+DZ9+EL9+EX9+FJ9+FV9+GH9+GT9+HF9+HR9 -> 0 | I9: =W9+AI9+AU9+BG9+BS9+CE9+CQ9+DC9+DO9+EA9+EM9+EY9+FK9+FW9+GI9+GU9+HG9+HS9 -> 0 | ... K9: =Y9+AK9+AW9+BI9+BU9+CG9+CS9+DE9+DQ9+EC9+EO9+FA9+FM9+FY9+GK9+GW9+HI9+HU9 -> 4455.7 | O9: 23 | P9: 2 | Q9: =ROUND(P9*O9/25*12*2*1.302,1) -> 57.5 | S9: =ROUND(R9*Q9/25*12*2*1.302,1) -> 0 | X9: =P9+R9+V9+T9 -> 2 | Y9: =Q9+S9+W9+U9 -> 57.5 | AA9: 23 | AB9: 13 | AC9: =ROUND(AB9*AA9/25*12*2*1.302,1) -> 373.7 | AE9: =ROUND(AD9*AC9/25*12*2*1.302,1) -> 0 | AJ9: =AB9+AD9+AH9+AF9 -> 13 | AK9: =AC9+AE9+AI9+AG9 -> 373.7 | AM9: 23 | AN9: 12 | AO9: =ROUND(AN9*AM9/25*12*2*1.302,1) -> 345 | AQ9: =ROUND(AP9*AM9/25*12*2*1.302,1) -> 0 | AV9: =AN9+AP9+AT9+AR9 -> 12 | AW9: =AO9+AQ9+AU9+AS9 -> 345 | AY9: 23 | AZ9: 24 | BA9: =ROUND(AZ9*AY9/25*12*2*1.302,1) -> 690 | BC9: =ROUND(BB9*AY9/25*12*2*1.302,1) -> 0 | BH9: =AZ9+BB9+BF9+BD9 -> 24 | BI9: =BA9+BC9+BG9+BE9 -> 690 | BK9: 23 | BL9: 13 | BM9: =ROUND(BL9*BK9/25*12*2*1.302,1) -> 373.7 | BO9: =ROUND(BN9*BM9/25*12*2*1.302,1) -> 0 | BT9: =BL9+BN9+BR9+BP9 -> 13 | BU9: =BM9+BO9+BS9+BQ9 -> 373.7 | BW9: 23 | BX9: 13 | BY9: =ROUND(BX9*BW9/25*12*2*1.302,1) -> 373.7 | CA9: =ROUND(BZ9*BY9/25*12*2*1.302,1) -> 0 | CF9: =BX9+BZ9+CD9+CB9 -> 13 | CG9: =BY9+CA9+CE9+CC9 -> 373.7 | CI9: 23 | CJ9: 5 | CK9: =ROUND(CJ9*CI9/25*12*2*1.302,1) -> 143.7 | CM9: =ROUND(CL9*CK9/25*12*2*1.302,1) -> 0 | CR9: =CJ9+CL9+CP9+CN9 -> 5 | CS9: =CK9+CM9+CQ9+CO9 -> 143.7 | CU9: 23 | CV9: 4 | CW9: =ROUND(CV9*CU9/25*12*2*1.302,1) -> 115 | CY9: =ROUND(CX9*CU9/25*12*2*1.302,1) -> 0 | DC9: =ROUND(DB9*CU9/12*12*2*1.302,1) -> 0 | DD9: =CV9+CX9+DB9+CZ9 -> 4 | DE9: =CW9+CY9+DC9+DA9 -> 115 | DG9: 23 | DH9: 15 | DI9: =ROUND(DH9*DG9/25*12*2*1.302,1) -> 431.2 | DK9: =ROUND(DJ9*DG9/25*12*2*1.302,1) -> 0 | DM9: =ROUND(DL9*DG9/20*12*2*1.302,1) -> 0 | DO9: =ROUND(DN9*DG9/12*12*2*1.302,1) -> 0 | DP9: =DH9+DJ9+DL9+DN9 -> 15 | DQ9: =DI9+DK9+DM9+DO9 -> 431.2 | DS9: 23 | DT9: 3 | DU9: =ROUND(DT9*DS9/25*12*2*1.302,1) -> 86.2 | DW9: =ROUND(DV9*DS9/25*12*2*1.302,1) -> 0 | EB9: =DT9+DV9+DX9+DZ9 -> 3 | EC9: =DU9+DW9+DY9+EA9 -> 86.2 | EE9: 23 | EG9: =ROUND(EF9*EE9/25*12*2*1.302,1) -> 0 | EI9: =ROUND(EH9*EG9/25*12*2*1.302,1) -> 0 | EK9: =ROUND(EJ9*EE9/20*12*2*1.302,1) -> 0 | EM9: =ROUND(EL9*EE9/12*12*2*1.302,1) -> 0 | EN9: =EF9+EH9+EL9+EJ9 -> 0 | EO9: =EG9+EI9+EM9+EK9 -> 0 | EQ9: 23 | ER9: 20 | ES9: =ROUND(ER9*EQ9/25*12*2*1.302,1) -> 575 | EU9: =ROUND(ET9*EQ9/25*12*2*1.302,1) -> 0 | EZ9: =ER9+ET9+EX9+EV9 -> 20 | FA9: =ES9+EU9+EY9+EW9 -> 575 | FC9: 23 | FD9: 5 | FE9: =ROUND(FD9*FC9/25*12*2*1.302,1) -> 143.7 | FG9: =ROUND(FF9*FE9/25*12*2*1.302,1) -> 0 | FL9: =FD9+FF9+FJ9+FH9 -> 5 | FM9: =FE9+FG9+FK9+FI9 -> 143.7 | FO9: 23 | FP9: 5 | FQ9: =ROUND(FP9*FO9/25*12*2*1.302,1) -> 143.7 | FS9: =ROUND(FR9*FQ9/25*12*2*1.302,1) -> 0 | FX9: =FP9+FR9+FV9+FT9 -> 5 | FY9: =FQ9+FS9+FW9+FU9 -> 143.7 | GA9: 23 | GB9: 1 | GC9: =ROUND(GB9*GA9/25*12*2*1.302,1) -> 28.7 | GD9: 0 | GE9: =ROUND(GD9*GC9/25*12*2*1.302,1) -> 0 | GI9: =ROUND(GH9*GA9/12*12*2*1.302,1) -> 0 | GJ9: =GB9+GD9+GH9+GF9 -> 1 | GK9: =GC9+GE9+GI9+GG9 -> 28.7 | GM9: 23 | GN9: 7 | GO9: =ROUND(GN9*GM9/25*12*2*1.302,1) -> 201.2 | GQ9: =ROUND(GP9*GO9/25*12*2*1.302,1) -> 0 | GV9: =GN9+GP9+GT9+GR9 -> 7 | GW9: =GO9+GQ9+GU9+GS9 -> 201.2 | GY9: 23 | GZ9: 8 | HA9: =ROUND(GZ9*GY9/25*12*2*1.302,1) -> 230 | HC9: =ROUND(HB9*HA9/25*12*2*1.302,1) -> 0 | HH9: =GZ9+HB9+HF9+HD9 -> 8 | HI9: =HA9+HC9+HG9+HE9 -> 230 | HK9: 23 | HL9: 5 | HM9: =ROUND(HL9*HK9/25*12*2*1.302,1) -> 143.7 | HO9: =ROUND(HN9*HM9/25*12*2*1.302,1) -> 0 | HT9: =HL9+HN9+HR9+HP9 -> 5 | HU9: =HM9+HO9+HS9+HQ9 -> 143.7
A10: 22 | B10: =P10+AB10+AN10+AZ10+BL10+BX10+CJ10+CV10+DH10+DT10+EF10+ER10+FD10+FP10+GB10+GN10+GZ10+HL10 -> 95 | C10: =Q10+AC10+AO10+BA10+BM10+BY10+CK10+CW10+DI10+DU10+EG10+ES10+FE10+FQ10+GC10+GO10+HA10+HM10 -> 2612.5 | D10: =R10+AD10+AP10+BB10+BN10+BZ10+CL10+CX10+DJ10+DV10+EH10+ET10+FF10+FR10+GD10+GP10+HB10+HN10 -> 1 | E10: =S10+AE10+AQ10+BC10+BO10+CA10+CM10+CY10+DK10+DW10+EI10+EU10+FG10+FS10+GE10+GQ10+HC10+HO10 -> 27.5 | F10: =T10+AF10+AR10+BD10+BP10+CB10+CN10+CZ10+DL10+DX10+EJ10+EV10+FH10+FT10+GF10+GR10+HD10+HP10 -> 0 | G10: =U10+AG10+AS10+BE10+BQ10+CC10+CO10+DA10+DM10+DY10+EK10+EW10+FI10+FU10+GG10+GS10+HE10+HQ10 -> 0 | H10: =V10+AH10+AT10+BF10+BR10+CD10+CP10+DB10+DN10+DZ10+EL10+EX10+FJ10+FV10+GH10+GT10+HF10+HR10 -> 0 | I10: =W10+AI10+AU10+BG10+BS10+CE10+CQ10+DC10+DO10+EA10+EM10+EY10+FK10+FW10+GI10+GU10+HG10+HS10 -> 0 | ... K10: =Y10+AK10+AW10+BI10+BU10+CG10+CS10+DE10+DQ10+EC10+EO10+FA10+FM10+FY10+GK10+GW10+HI10+HU10 -> 2640 | O10: 22 | P10: 3 | Q10: =ROUND(P10*O10/25*12*2*1.302,1) -> 82.5 | S10: =ROUND(R10*Q10/25*12*2*1.302,1) -> 0 | X10: =P10+R10+V10+T10 -> 3 | Y10: =Q10+S10+W10+U10 -> 82.5 | AA10: 22 | AB10: 1 | AC10: =ROUND(AB10*AA10/25*12*2*1.302,1) -> 27.5 | AE10: =ROUND(AD10*AC10/25*12*2*1.302,1) -> 0 | AJ10: =AB10+AD10+AH10+AF10 -> 1 | AK10: =AC10+AE10+AI10+AG10 -> 27.5 | AM10: 22 | AN10: 5 | AO10: =ROUND(AN10*AM10/25*12*2*1.302,1) -> 137.5 | AQ10: =ROUND(AP10*AM10/25*12*2*1.302,1) -> 0 | AV10: =AN10+AP10+AT10+AR10 -> 5 | AW10: =AO10+AQ10+AU10+AS10 -> 137.5 | AY10: 22 | BA10: =ROUND(AZ10*AY10/25*12*2*1.302,1) -> 0 | BC10: =ROUND(BB10*AY10/25*12*2*1.302,1) -> 0 | BH10: =AZ10+BB10+BF10+BD10 -> 0 | BI10: =BA10+BC10+BG10+BE10 -> 0 | BK10: 22 | BL10: 8 | BM10: =ROUND(BL10*BK10/25*12*2*1.302,1) -> 220 | BO10: =ROUND(BN10*BM10/25*12*2*1.302,1) -> 0 | BT10: =BL10+BN10+BR10+BP10 -> 8 | BU10: =BM10+BO10+BS10+BQ10 -> 220 | BW10: 22 | BX10: 10 | BY10: =ROUND(BX10*BW10/25*12*2*1.302,1) -> 275 | CA10: =ROUND(BZ10*BY10/25*12*2*1.302,1) -> 0 | CF10: =BX10+BZ10+CD10+CB10 -> 10 | CG10: =BY10+CA10+CE10+CC10 -> 275 | CI10: 22 | CJ10: 6 | CK10: =ROUND(CJ10*CI10/25*12*2*1.302,1) -> 165 | CM10: =ROUND(CL10*CK10/25*12*2*1.302,1) -> 0 | CR10: =CJ10+CL10+CP10+CN10 -> 6 | CS10: =CK10+CM10+CQ10+CO10 -> 165 | CU10: 22 | CV10: 8 | CW10: =ROUND(CV10*CU10/25*12*2*1.302,1) -> 220 | CY10: =ROUND(CX10*CU10/25*12*2*1.302,1) -> 0 | DC10: =ROUND(DB10*CU10/12*12*2*1.302,1) -> 0 | DD10: =CV10+CX10+DB10+CZ10 -> 8 | DE10: =CW10+CY10+DC10+DA10 -> 220 | DG10: 22 | DH10: 13 | DI10: =ROUND(DH10*DG10/25*12*2*1.302,1) -> 357.5 | DJ10: 1 | DK10: =ROUND(DJ10*DG10/25*12*2*1.302,1) -> 27.5 | DM10: =ROUND(DL10*DG10/20*12*2*1.302,1) -> 0 | DO10: =ROUND(DN10*DG10/12*12*2*1.302,1) -> 0 | DP10: =DH10+DJ10+DL10+DN10 -> 14 | DQ10: =DI10+DK10+DM10+DO10 -> 385 | DS10: 22 | DT10: 1 | DU10: =ROUND(DT10*DS10/25*12*2*1.302,1) -> 27.5 | DW10: =ROUND(DV10*DS10/25*12*2*1.302,1) -> 0 | EB10: =DT10+DV10+DX10+DZ10 -> 1 | EC10: =DU10+DW10+DY10+EA10 -> 27.5 | EE10: 22 | EF10: 1 | EG10: =ROUND(EF10*EE10/25*12*2*1.302,1) -> 27.5 | EI10: =ROUND(EH10*EG10/25*12*2*1.302,1) -> 0 | EK10: =ROUND(EJ10*EE10/20*12*2*1.302,1) -> 0 | EM10: =ROUND(EL10*EE10/12*12*2*1.302,1) -> 0 | EN10: =EF10+EH10+EL10+EJ10 -> 1 | EO10: =EG10+EI10+EM10+EK10 -> 27.5 | EQ10: 22 | ER10: 13 | ES10: =ROUND(ER10*EQ10/25*12*2*1.302,1) -> 357.5 | EU10: =ROUND(ET10*EQ10/25*12*2*1.302,1) -> 0 | EZ10: =ER10+ET10+EX10+EV10 -> 13 | FA10: =ES10+EU10+EY10+EW10 -> 357.5 | FC10: 22 | FD10: 5 | FE10: =ROUND(FD10*FC10/25*12*2*1.302,1) -> 137.5 | FG10: =ROUND(FF10*FE10/25*12*2*1.302,1) -> 0 | FL10: =FD10+FF10+FJ10+FH10 -> 5 | FM10: =FE10+FG10+FK10+FI10 -> 137.5 | FO10: 22 | FP10: 1 | FQ10: =ROUND(FP10*FO10/25*12*2*1.302,1) -> 27.5 | FS10: =ROUND(FR10*FQ10/25*12*2*1.302,1) -> 0 | FX10: =FP10+FR10+FV10+FT10 -> 1 | FY10: =FQ10+FS10+FW10+FU10 -> 27.5 | GA10: 22 | GB10: 2 | GC10: =ROUND(GB10*GA10/25*12*2*1.302,1) -> 55 | GD10: 0 | GE10: =ROUND(GD10*GC10/25*12*2*1.302,1) -> 0 | GI10: =ROUND(GH10*GA10/12*12*2*1.302,1) -> 0 | GJ10: =GB10+GD10+GH10+GF10 -> 2 | GK10: =GC10+GE10+GI10+GG10 -> 55 | GM10: 22 | GN10: 5 | GO10: =ROUND(GN10*GM10/25*12*2*1.302,1) -> 137.5 | GQ10: =ROUND(GP10*GO10/25*12*2*1.302,1) -> 0 | GV10: =GN10+GP10+GT10+GR10 -> 5 | GW10: =GO10+GQ10+GU10+GS10 -> 137.5 | GY10: 22 | GZ10: 4 | HA10: =ROUND(GZ10*GY10/25*12*2*1.302,1) -> 110 | HC10: =ROUND(HB10*HA10/25*12*2*1.302,1) -> 0 | HH10: =GZ10+HB10+HF10+HD10 -> 4 | HI10: =HA10+HC10+HG10+HE10 -> 110 | HK10: 22 | HL10: 9 | HM10: =ROUND(HL10*HK10/25*12*2*1.302,1) -> 247.5 | HO10: =ROUND(HN10*HM10/25*12*2*1.302,1) -> 0 | HT10: =HL10+HN10+HR10+HP10 -> 9 | HU10: =HM10+HO10+HS10+HQ10 -> 247.5
A11: 21 | B11: =P11+AB11+AN11+AZ11+BL11+BX11+CJ11+CV11+DH11+DT11+EF11+ER11+FD11+FP11+GB11+GN11+GZ11+HL11 -> 96 | C11: =Q11+AC11+AO11+BA11+BM11+BY11+CK11+CW11+DI11+DU11+EG11+ES11+FE11+FQ11+GC11+GO11+HA11+HM11 -> 2519.6 | D11: =R11+AD11+AP11+BB11+BN11+BZ11+CL11+CX11+DJ11+DV11+EH11+ET11+FF11+FR11+GD11+GP11+HB11+HN11 -> 0 | E11: =S11+AE11+AQ11+BC11+BO11+CA11+CM11+CY11+DK11+DW11+EI11+EU11+FG11+FS11+GE11+GQ11+HC11+HO11 -> 0 | F11: =T11+AF11+AR11+BD11+BP11+CB11+CN11+CZ11+DL11+DX11+EJ11+EV11+FH11+FT11+GF11+GR11+HD11+HP11 -> 0 | G11: =U11+AG11+AS11+BE11+BQ11+CC11+CO11+DA11+DM11+DY11+EK11+EW11+FI11+FU11+GG11+GS11+HE11+HQ11 -> 0 | H11: =V11+AH11+AT11+BF11+BR11+CD11+CP11+DB11+DN11+DZ11+EL11+EX11+FJ11+FV11+GH11+GT11+HF11+HR11 -> 0 | I11: =W11+AI11+AU11+BG11+BS11+CE11+CQ11+DC11+DO11+EA11+EM11+EY11+FK11+FW11+GI11+GU11+HG11+HS11 -> 0 | ... K11: =Y11+AK11+AW11+BI11+BU11+CG11+CS11+DE11+DQ11+EC11+EO11+FA11+FM11+FY11+GK11+GW11+HI11+HU11 -> 2519.6 | O11: 21 | P11: 3 | Q11: =ROUND(P11*O11/25*12*2*1.302,1) -> 78.7 | S11: =ROUND(R11*Q11/25*12*2*1.302,1) -> 0 | X11: =P11+R11+V11+T11 -> 3 | Y11: =Q11+S11+W11+U11 -> 78.7 | AA11: 21 | AB11: 1 | AC11: =ROUND(AB11*AA11/25*12*2*1.302,1) -> 26.2 | AE11: =ROUND(AD11*AC11/25*12*2*1.302,1) -> 0 | AJ11: =AB11+AD11+AH11+AF11 -> 1 | AK11: =AC11+AE11+AI11+AG11 -> 26.2 | AM11: 21 | AN11: 6 | AO11: =ROUND(AN11*AM11/25*12*2*1.302,1) -> 157.5 | AQ11: =ROUND(AP11*AM11/25*12*2*1.302,1) -> 0 | AV11: =AN11+AP11+AT11+AR11 -> 6 | AW11: =AO11+AQ11+AU11+AS11 -> 157.5 | AY11: 21 | BA11: =ROUND(AZ11*AY11/25*12*2*1.302,1) -> 0 | BC11: =ROUND(BB11*AY11/25*12*2*1.302,1) -> 0 | BH11: =AZ11+BB11+BF11+BD11 -> 0 | BI11: =BA11+BC11+BG11+BE11 -> 0 | BK11: 21 | BL11: 14 | BM11: =ROUND(BL11*BK11/25*12*2*1.302,1) -> 367.5 | BO11: =ROUND(BN11*BM11/25*12*2*1.302,1) -> 0 | BT11: =BL11+BN11+BR11+BP11 -> 14 | BU11: =BM11+BO11+BS11+BQ11 -> 367.5 | BW11: 21 | BX11: 21 | BY11: =ROUND(BX11*BW11/25*12*2*1.302,1) -> 551.2 | CA11: =ROUND(BZ11*BY11/25*12*2*1.302,1) -> 0 | CF11: =BX11+BZ11+CD11+CB11 -> 21 | CG11: =BY11+CA11+CE11+CC11 -> 551.2 | CI11: 21 | CJ11: 4 | CK11: =ROUND(CJ11*CI11/25*12*2*1.302,1) -> 105 | CM11: =ROUND(CL11*CK11/25*12*2*1.302,1) -> 0 | CR11: =CJ11+CL11+CP11+CN11 -> 4 | CS11: =CK11+CM11+CQ11+CO11 -> 105 | CU11: 21 | CV11: 1 | CW11: =ROUND(CV11*CU11/25*12*2*1.302,1) -> 26.2 | CY11: =ROUND(CX11*CU11/25*12*2*1.302,1) -> 0 | DC11: =ROUND(DB11*CU11/12*12*2*1.302,1) -> 0 | DD11: =CV11+CX11+DB11+CZ11 -> 1 | DE11: =CW11+CY11+DC11+DA11 -> 26.2 | DG11: 21 | DH11: 7 | DI11: =ROUND(DH11*DG11/25*12*2*1.302,1) -> 183.7 | DK11: =ROUND(DJ11*DG11/25*12*2*1.302,1) -> 0 | DM11: =ROUND(DL11*DG11/20*12*2*1.302,1) -> 0 | DO11: =ROUND(DN11*DG11/12*12*2*1.302,1) -> 0 | DP11: =DH11+DJ11+DL11+DN11 -> 7 | DQ11: =DI11+DK11+DM11+DO11 -> 183.7 | DS11: 21 | DT11: 4 | DU11: =ROUND(DT11*DS11/25*12*2*1.302,1) -> 105 | DW11: =ROUND(DV11*DS11/25*12*2*1.302,1) -> 0 | EB11: =DT11+DV11+DX11+DZ11 -> 4 | EC11: =DU11+DW11+DY11+EA11 -> 105 | EE11: 21 | EF11: 3 | EG11: =ROUND(EF11*EE11/25*12*2*1.302,1) -> 78.7 | EI11: =ROUND(EH11*EG11/25*12*2*1.302,1) -> 0 | EK11: =ROUND(EJ11*EE11/20*12*2*1.302,1) -> 0 | EM11: =ROUND(EL11*EE11/12*12*2*1.302,1) -> 0 | EN11: =EF11+EH11+EL11+EJ11 -> 3 | EO11: =EG11+EI11+EM11+EK11 -> 78.7 | EQ11: 21 | ER11: 6 | ES11: =ROUND(ER11*EQ11/25*12*2*1.302,1) -> 157.5 | EU11: =ROUND(ET11*EQ11/25*12*2*1.302,1) -> 0 | EZ11: =ER11+ET11+EX11+EV11 -> 6 | FA11: =ES11+EU11+EY11+EW11 -> 157.5 | FC11: 21 | FD11: 4 | FE11: =ROUND(FD11*FC11/25*12*2*1.302,1) -> 105 | FG11: =ROUND(FF11*FE11/25*12*2*1.302,1) -> 0 | FL11: =FD11+FF11+FJ11+FH11 -> 4 | FM11: =FE11+FG11+FK11+FI11 -> 105 | FO11: 21 | FQ11: =ROUND(FP11*FO11/25*12*2*1.302,1) -> 0 | FS11: =ROUND(FR11*FQ11/25*12*2*1.302,1) -> 0 | FX11: =FP11+FR11+FV11+FT11 -> 0 | FY11: =FQ11+FS11+FW11+FU11 -> 0 | GA11: 21 | GB11: 1 | GC11: =ROUND(GB11*GA11/25*12*2*1.302,1) -> 26.2 | GD11: 0 | GE11: =ROUND(GD11*GC11/25*12*2*1.302,1) -> 0 | GI11: =ROUND(GH11*GA11/12*12*2*1.302,1) -> 0 | GJ11: =GB11+GD11+GH11+GF11 -> 1 | GK11: =GC11+GE11+GI11+GG11 -> 26.2 | GM11: 21 | GN11: 3 | GO11: =ROUND(GN11*GM11/25*12*2*1.302,1) -> 78.7 | GQ11: =ROUND(GP11*GO11/25*12*2*1.302,1) -> 0 | GV11: =GN11+GP11+GT11+GR11 -> 3 | GW11: =GO11+GQ11+GU11+GS11 -> 78.7 | GY11: 21 | GZ11: 10 | HA11: =ROUND(GZ11*GY11/25*12*2*1.302,1) -> 262.5 | HC11: =ROUND(HB11*HA11/25*12*2*1.302,1) -> 0 | HH11: =GZ11+HB11+HF11+HD11 -> 10 | HI11: =HA11+HC11+HG11+HE11 -> 262.5 | HK11: 21 | HL11: 8 | HM11: =ROUND(HL11*HK11/25*12*2*1.302,1) -> 210 | HO11: =ROUND(HN11*HM11/25*12*2*1.302,1) -> 0 | HT11: =HL11+HN11+HR11+HP11 -> 8 | HU11: =HM11+HO11+HS11+HQ11 -> 210
A12: 20 | B12: =P12+AB12+AN12+AZ12+BL12+BX12+CJ12+CV12+DH12+DT12+EF12+ER12+FD12+FP12+GB12+GN12+GZ12+HL12 -> 84 | C12: =Q12+AC12+AO12+BA12+BM12+BY12+CK12+CW12+DI12+DU12+EG12+ES12+FE12+FQ12+GC12+GO12+HA12+HM12 -> 2100 | D12: =R12+AD12+AP12+BB12+BN12+BZ12+CL12+CX12+DJ12+DV12+EH12+ET12+FF12+FR12+GD12+GP12+HB12+HN12 -> 0 | E12: =S12+AE12+AQ12+BC12+BO12+CA12+CM12+CY12+DK12+DW12+EI12+EU12+FG12+FS12+GE12+GQ12+HC12+HO12 -> 0 | F12: =T12+AF12+AR12+BD12+BP12+CB12+CN12+CZ12+DL12+DX12+EJ12+EV12+FH12+FT12+GF12+GR12+HD12+HP12 -> 0 | G12: =U12+AG12+AS12+BE12+BQ12+CC12+CO12+DA12+DM12+DY12+EK12+EW12+FI12+FU12+GG12+GS12+HE12+HQ12 -> 0 | H12: =V12+AH12+AT12+BF12+BR12+CD12+CP12+DB12+DN12+DZ12+EL12+EX12+FJ12+FV12+GH12+GT12+HF12+HR12 -> 0 | I12: =W12+AI12+AU12+BG12+BS12+CE12+CQ12+DC12+DO12+EA12+EM12+EY12+FK12+FW12+GI12+GU12+HG12+HS12 -> 0 | ... K12: =Y12+AK12+AW12+BI12+BU12+CG12+CS12+DE12+DQ12+EC12+EO12+FA12+FM12+FY12+GK12+GW12+HI12+HU12 -> 2100 | O12: 20 | P12: 1 | Q12: =ROUND(P12*O12/25*12*2*1.302,1) -> 25 | S12: =ROUND(R12*Q12/25*12*2*1.302,1) -> 0 | U12: =ROUND(T12*O12/20*12*2*1.302,1) -> 0 | X12: =P12+R12+V12+T12 -> 1 | Y12: =Q12+S12+W12+U12 -> 25 | AA12: 20 | AB12: 1 | AC12: =ROUND(AB12*AA12/25*12*2*1.302,1) -> 25 | AE12: =ROUND(AD12*AC12/25*12*2*1.302,1) -> 0 | AG12: =ROUND(AF12*AA12/20*12*2*1.302,1) -> 0 | AJ12: =AB12+AD12+AH12+AF12 -> 1 | AK12: =AC12+AE12+AI12+AG12 -> 25 | AM12: 20 | AN12: 6 | AO12: =ROUND(AN12*AM12/25*12*2*1.302,1) -> 150 | AQ12: =ROUND(AP12*AM12/25*12*2*1.302,1) -> 0 | AS12: =ROUND(AR12*AM12/20*12*2*1.302,1) -> 0 | AV12: =AN12+AP12+AT12+AR12 -> 6 | AW12: =AO12+AQ12+AU12+AS12 -> 150 | AY12: 20 | BA12: =ROUND(AZ12*AY12/25*12*2*1.302,1) -> 0 | BC12: =ROUND(BB12*AY12/25*12*2*1.302,1) -> 0 | BE12: =ROUND(BD12*AY12/20*12*2*1.302,1) -> 0 | BH12: =AZ12+BB12+BF12+BD12 -> 0 | BI12: =BA12+BC12+BG12+BE12 -> 0 | BK12: 20 | BL12: 12 | BM12: =ROUND(BL12*BK12/25*12*2*1.302,1) -> 300 | BO12: =ROUND(BN12*BM12/25*12*2*1.302,1) -> 0 | BQ12: =ROUND(BP12*BK12/20*12*2*1.302,1) -> 0 | BT12: =BL12+BN12+BR12+BP12 -> 12 | BU12: =BM12+BO12+BS12+BQ12 -> 300 | BW12: 20 | BX12: 16 | BY12: =ROUND(BX12*BW12/25*12*2*1.302,1) -> 400 | CA12: =ROUND(BZ12*BY12/25*12*2*1.302,1) -> 0 | CC12: =ROUND(CB12*BW12/20*12*2*1.302,1) -> 0 | CF12: =BX12+BZ12+CD12+CB12 -> 16 | CG12: =BY12+CA12+CE12+CC12 -> 400 | CI12: 20 | CJ12: 7 | CK12: =ROUND(CJ12*CI12/25*12*2*1.302,1) -> 175 | CM12: =ROUND(CL12*CK12/25*12*2*1.302,1) -> 0 | CO12: =ROUND(CN12*CI12/20*12*2*1.302,1) -> 0 | CR12: =CJ12+CL12+CP12+CN12 -> 7 | CS12: =CK12+CM12+CQ12+CO12 -> 175 | CU12: 20 | CV12: 1 | CW12: =ROUND(CV12*CU12/25*12*2*1.302,1) -> 25 | CY12: =ROUND(CX12*CU12/25*12*2*1.302,1) -> 0 | DA12: =ROUND(CZ12*CU12/20*12*2*1.302,1) -> 0 | DC12: =ROUND(DB12*CU12/12*12*2*1.302,1) -> 0 | DD12: =CV12+CX12+DB12+CZ12 -> 1 | DE12: =CW12+CY12+DC12+DA12 -> 25 | DG12: 20 | DH12: 8 | DI12: =ROUND(DH12*DG12/25*12*2*1.302,1) -> 200 | DK12: =ROUND(DJ12*DG12/25*12*2*1.302,1) -> 0 | DM12: =ROUND(DL12*DG12/20*12*2*1.302,1) -> 0 | DO12: =ROUND(DN12*DG12/12*12*2*1.302,1) -> 0 | DP12: =DH12+DJ12+DL12+DN12 -> 8 | DQ12: =DI12+DK12+DM12+DO12 -> 200 | DS12: 20 | DT12: 2 | DU12: =ROUND(DT12*DS12/25*12*2*1.302,1) -> 50 | DW12: =ROUND(DV12*DS12/25*12*2*1.302,1) -> 0 | DY12: =ROUND(DX12*DS12/20*12*2*1.302,1) -> 0 | EB12: =DT12+DV12+DX12+DZ12 -> 2 | EC12: =DU12+DW12+DY12+EA12 -> 50 | EE12: 20 | EF12: 3 | EG12: =ROUND(EF12*EE12/25*12*2*1.302,1) -> 75 | EI12: =ROUND(EH12*EG12/25*12*2*1.302,1) -> 0 | EK12: =ROUND(EJ12*EE12/20*12*2*1.302,1) -> 0 | EM12: =ROUND(EL12*EE12/12*12*2*1.302,1) -> 0 | EN12: =EF12+EH12+EL12+EJ12 -> 3 | EO12: =EG12+EI12+EM12+EK12 -> 75 | EQ12: 20 | ER12: 5 | ES12: =ROUND(ER12*EQ12/25*12*2*1.302,1) -> 125 | EU12: =ROUND(ET12*EQ12/25*12*2*1.302,1) -> 0 | EW12: =ROUND(EV12*EQ12/20*12*2*1.302,1) -> 0 | EZ12: =ER12+ET12+EX12+EV12 -> 5 | FA12: =ES12+EU12+EY12+EW12 -> 125 | FC12: 20 | FD12: 8 | FE12: =ROUND(FD12*FC12/25*12*2*1.302,1) -> 200 | FG12: =ROUND(FF12*FE12/25*12*2*1.302,1) -> 0 | FI12: =ROUND(FH12*FC12/20*12*2*1.302,1) -> 0 | FL12: =FD12+FF12+FJ12+FH12 -> 8 | FM12: =FE12+FG12+FK12+FI12 -> 200 | FO12: 20 | FQ12: =ROUND(FP12*FO12/25*12*2*1.302,1) -> 0 | FS12: =ROUND(FR12*FQ12/25*12*2*1.302,1) -> 0 | FU12: =ROUND(FT12*FO12/20*12*2*1.302,1) -> 0 | FX12: =FP12+FR12+FV12+FT12 -> 0 | FY12: =FQ12+FS12+FW12+FU12 -> 0 | GA12: 20 | GB12: 0 | GC12: =ROUND(GB12*GA12/25*12*2*1.302,1) -> 0 | GD12: 0 | GE12: =ROUND(GD12*GC12/25*12*2*1.302,1) -> 0 | GF12: 0 | GG12: 0 | GI12: =ROUND(GH12*GA12/12*12*2*1.302,1) -> 0 | GJ12: =GB12+GD12+GH12+GF12 -> 0 | GK12: =GC12+GE12+GI12+GG12 -> 0 | GM12: 20 | GN12: 2 | GO12: =ROUND(GN12*GM12/25*12*2*1.302,1) -> 50 | GQ12: =ROUND(GP12*GO12/25*12*2*1.302,1) -> 0 | GS12: =ROUND(GR12*GM12/20*12*2*1.302,1) -> 0 | GV12: =GN12+GP12+GT12+GR12 -> 2 | GW12: =GO12+GQ12+GU12+GS12 -> 50 | GY12: 20 | GZ12: 6 | HA12: =ROUND(GZ12*GY12/25*12*2*1.302,1) -> 150 | HC12: =ROUND(HB12*HA12/25*12*2*1.302,1) -> 0 | HE12: =ROUND(HD12*GY12/20*12*2*1.302,1) -> 0 | HH12: =GZ12+HB12+HF12+HD12 -> 6 | HI12: =HA12+HC12+HG12+HE12 -> 150 | HK12: 20 | HL12: 6 | HM12: =ROUND(HL12*HK12/25*12*2*1.302,1) -> 150 | HO12: =ROUND(HN12*HM12/25*12*2*1.302,1) -> 0 | HQ12: =ROUND(HP12*HK12/20*12*2*1.302,1) -> 0 | HT12: =HL12+HN12+HR12+HP12 -> 6 | HU12: =HM12+HO12+HS12+HQ12 -> 150
A13: 19 | B13: =P13+AB13+AN13+AZ13+BL13+BX13+CJ13+CV13+DH13+DT13+EF13+ER13+FD13+FP13+GB13+GN13+GZ13+HL13 -> 39 | C13: =Q13+AC13+AO13+BA13+BM13+BY13+CK13+CW13+DI13+DU13+EG13+ES13+FE13+FQ13+GC13+GO13+HA13+HM13 -> 926 | D13: =R13+AD13+AP13+BB13+BN13+BZ13+CL13+CX13+DJ13+DV13+EH13+ET13+FF13+FR13+GD13+GP13+HB13+HN13 -> 0 | E13: =S13+AE13+AQ13+BC13+BO13+CA13+CM13+CY13+DK13+DW13+EI13+EU13+FG13+FS13+GE13+GQ13+HC13+HO13 -> 0 | F13: =T13+AF13+AR13+BD13+BP13+CB13+CN13+CZ13+DL13+DX13+EJ13+EV13+FH13+FT13+GF13+GR13+HD13+HP13 -> 0 | G13: =U13+AG13+AS13+BE13+BQ13+CC13+CO13+DA13+DM13+DY13+EK13+EW13+FI13+FU13+GG13+GS13+HE13+HQ13 -> 0 | H13: =V13+AH13+AT13+BF13+BR13+CD13+CP13+DB13+DN13+DZ13+EL13+EX13+FJ13+FV13+GH13+GT13+HF13+HR13 -> 0 | I13: =W13+AI13+AU13+BG13+BS13+CE13+CQ13+DC13+DO13+EA13+EM13+EY13+FK13+FW13+GI13+GU13+HG13+HS13 -> 0 | ... K13: =Y13+AK13+AW13+BI13+BU13+CG13+CS13+DE13+DQ13+EC13+EO13+FA13+FM13+FY13+GK13+GW13+HI13+HU13 -> 926 | O13: 19 | P13: 2 | Q13: =ROUND(P13*O13/25*12*2*1.302,1) -> 47.5 | S13: =ROUND(R13*Q13/25*12*2*1.302,1) -> 0 | U13: =ROUND(T13*O13/20*12*2*1.302,1) -> 0 | X13: =P13+R13+V13+T13 -> 2 | Y13: =Q13+S13+W13+U13 -> 47.5 | AA13: 19 | AC13: =ROUND(AB13*AA13/25*12*2*1.302,1) -> 0 | AE13: =ROUND(AD13*AC13/25*12*2*1.302,1) -> 0 | AG13: =ROUND(AF13*AA13/20*12*2*1.302,1) -> 0 | AJ13: =AB13+AD13+AH13+AF13 -> 0 | AK13: =AC13+AE13+AI13+AG13 -> 0 | AM13: 19 | AN13: 1 | AO13: =ROUND(AN13*AM13/25*12*2*1.302,1) -> 23.7 | AQ13: =ROUND(AP13*AM13/25*12*2*1.302,1) -> 0 | AS13: =ROUND(AR13*AM13/20*12*2*1.302,1) -> 0 | AV13: =AN13+AP13+AT13+AR13 -> 1 | AW13: =AO13+AQ13+AU13+AS13 -> 23.7 | AY13: 19 | BA13: =ROUND(AZ13*AY13/25*12*2*1.302,1) -> 0 | BC13: =ROUND(BB13*AY13/25*12*2*1.302,1) -> 0 | BE13: =ROUND(BD13*AY13/20*12*2*1.302,1) -> 0 | BH13: =AZ13+BB13+BF13+BD13 -> 0 | BI13: =BA13+BC13+BG13+BE13 -> 0 | BK13: 19 | BL13: 3 | BM13: =ROUND(BL13*BK13/25*12*2*1.302,1) -> 71.2 | BO13: =ROUND(BN13*BM13/25*12*2*1.302,1) -> 0 | BQ13: =ROUND(BP13*BK13/20*12*2*1.302,1) -> 0 | BT13: =BL13+BN13+BR13+BP13 -> 3 | BU13: =BM13+BO13+BS13+BQ13 -> 71.2 | BW13: 19 | BX13: 13 | BY13: =ROUND(BX13*BW13/25*12*2*1.302,1) -> 308.7 | CA13: =ROUND(BZ13*BY13/25*12*2*1.302,1) -> 0 | CC13: =ROUND(CB13*BW13/20*12*2*1.302,1) -> 0 | CF13: =BX13+BZ13+CD13+CB13 -> 13 | CG13: =BY13+CA13+CE13+CC13 -> 308.7 | CI13: 19 | CK13: =ROUND(CJ13*CI13/25*12*2*1.302,1) -> 0 | CM13: =ROUND(CL13*CK13/25*12*2*1.302,1) -> 0 | CO13: =ROUND(CN13*CI13/20*12*2*1.302,1) -> 0 | CR13: =CJ13+CL13+CP13+CN13 -> 0 | CS13: =CK13+CM13+CQ13+CO13 -> 0 | CU13: 19 | CW13: =ROUND(CV13*CU13/25*12*2*1.302,1) -> 0 | CY13: =ROUND(CX13*CU13/25*12*2*1.302,1) -> 0 | DA13: =ROUND(CZ13*CU13/20*12*2*1.302,1) -> 0 | DC13: =ROUND(DB13*CU13/12*12*2*1.302,1) -> 0 | DD13: =CV13+CX13+DB13+CZ13 -> 0 | DE13: =CW13+CY13+DC13+DA13 -> 0 | DG13: 19 | DH13: 5 | DI13: =ROUND(DH13*DG13/25*12*2*1.302,1) -> 118.7 | DK13: =ROUND(DJ13*DG13/25*12*2*1.302,1) -> 0 | DM13: =ROUND(DL13*DG13/20*12*2*1.302,1) -> 0 | DO13: =ROUND(DN13*DG13/12*12*2*1.302,1) -> 0 | DP13: =DH13+DJ13+DL13+DN13 -> 5 | DQ13: =DI13+DK13+DM13+DO13 -> 118.7 | DS13: 19 | DT13: 2 | DU13: =ROUND(DT13*DS13/25*12*2*1.302,1) -> 47.5 | DW13: =ROUND(DV13*DS13/25*12*2*1.302,1) -> 0 | DY13: =ROUND(DX13*DS13/20*12*1.302,1) -> 0 | EB13: =DT13+DV13+DX13+DZ13 -> 2 | EC13: =DU13+DW13+DY13+EA13 -> 47.5 | EE13: 19 | EG13: =ROUND(EF13*EE13/25*12*2*1.302,1) -> 0 | EI13: =ROUND(EH13*EG13/25*12*2*1.302,1) -> 0 | EK13: =ROUND(EJ13*EE13/20*12*2*1.302,1) -> 0 | EM13: =ROUND(EL13*EE13/12*12*2*1.302,1) -> 0 | EN13: =EF13+EH13+EL13+EJ13 -> 0 | EO13: =EG13+EI13+EM13+EK13 -> 0 | EQ13: 19 | ER13: 4 | ES13: =ROUND(ER13*EQ13/25*12*2*1.302,1) -> 95 | EU13: =ROUND(ET13*EQ13/25*12*2*1.302,1) -> 0 | EW13: =ROUND(EV13*EQ13/20*12*2*1.302,1) -> 0 | EZ13: =ER13+ET13+EX13+EV13 -> 4 | FA13: =ES13+EU13+EY13+EW13 -> 95 | FC13: 19 | FD13: 1 | FE13: =ROUND(FD13*FC13/25*12*2*1.302,1) -> 23.7 | FG13: =ROUND(FF13*FE13/25*12*2*1.302,1) -> 0 | FI13: =ROUND(FH13*FC13/20*12*2*1.302,1) -> 0 | FL13: =FD13+FF13+FJ13+FH13 -> 1 | FM13: =FE13+FG13+FK13+FI13 -> 23.7 | FO13: 19 | FQ13: =ROUND(FP13*FO13/25*12*2*1.302,1) -> 0 | FS13: =ROUND(FR13*FQ13/25*12*2*1.302,1) -> 0 | FU13: =ROUND(FT13*FO13/20*12*2*1.302,1) -> 0 | FX13: =FP13+FR13+FV13+FT13 -> 0 | FY13: =FQ13+FS13+FW13+FU13 -> 0 | GA13: 19 | GB13: 0 | GC13: =ROUND(GB13*GA13/25*12*2*1.302,1) -> 0 | GD13: 0 | GE13: =ROUND(GD13*GC13/25*12*2*1.302,1) -> 0 | GF13: 0 | GG13: 0 | GI13: =ROUND(GH13*GA13/12*12*2*1.302,1) -> 0 | GJ13: =GB13+GD13+GH13+GF13 -> 0 | GK13: =GC13+GE13+GI13+GG13 -> 0 | GM13: 19 | GN13: 4 | GO13: =ROUND(GN13*GM13/25*12*2*1.302,1) -> 95 | GQ13: =ROUND(GP13*GO13/25*12*2*1.302,1) -> 0 | GS13: =ROUND(GR13*GM13/20*12*2*1.302,1) -> 0 | GV13: =GN13+GP13+GT13+GR13 -> 4 | GW13: =GO13+GQ13+GU13+GS13 -> 95 | GY13: 19 | GZ13: 4 | HA13: =ROUND(GZ13*GY13/25*12*2*1.302,1) -> 95 | HC13: =ROUND(HB13*HA13/25*12*2*1.302,1) -> 0 | HE13: =ROUND(HD13*GY13/20*12*2*1.302,1) -> 0 | HH13: =GZ13+HB13+HF13+HD13 -> 4 | HI13: =HA13+HC13+HG13+HE13 -> 95 | HK13: 19 | HL13: 0 | HM13: =ROUND(HL13*HK13/25*12*2*1.302,1) -> 0 | HO13: =ROUND(HN13*HM13/25*12*2*1.302,1) -> 0 | HQ13: =ROUND(HP13*HK13/20*12*2*1.302,1) -> 0 | HT13: =HL13+HN13+HR13+HP13 -> 0 | HU13: =HM13+HO13+HS13+HQ13 -> 0
A14: 18 | B14: =P14+AB14+AN14+AZ14+BL14+BX14+CJ14+CV14+DH14+DT14+EF14+ER14+FD14+FP14+GB14+GN14+GZ14+HL14 -> 63 | C14: =Q14+AC14+AO14+BA14+BM14+BY14+CK14+CW14+DI14+DU14+EG14+ES14+FE14+FQ14+GC14+GO14+HA14+HM14 -> 1417.5 | D14: =R14+AD14+AP14+BB14+BN14+BZ14+CL14+CX14+DJ14+DV14+EH14+ET14+FF14+FR14+GD14+GP14+HB14+HN14 -> 5 | E14: =S14+AE14+AQ14+BC14+BO14+CA14+CM14+CY14+DK14+DW14+EI14+EU14+FG14+FS14+GE14+GQ14+HC14+HO14 -> 112.5 | F14: =T14+AF14+AR14+BD14+BP14+CB14+CN14+CZ14+DL14+DX14+EJ14+EV14+FH14+FT14+GF14+GR14+HD14+HP14 -> 0 | G14: =U14+AG14+AS14+BE14+BQ14+CC14+CO14+DA14+DM14+DY14+EK14+EW14+FI14+FU14+GG14+GS14+HE14+HQ14 -> 0 | H14: =V14+AH14+AT14+BF14+BR14+CD14+CP14+DB14+DN14+DZ14+EL14+EX14+FJ14+FV14+GH14+GT14+HF14+HR14 -> 0 | I14: =W14+AI14+AU14+BG14+BS14+CE14+CQ14+DC14+DO14+EA14+EM14+EY14+FK14+FW14+GI14+GU14+HG14+HS14 -> 0 | ... K14: =Y14+AK14+AW14+BI14+BU14+CG14+CS14+DE14+DQ14+EC14+EO14+FA14+FM14+FY14+GK14+GW14+HI14+HU14 -> 1530 | O14: 18 | P14: 0 | Q14: =ROUND(P14*O14/25*12*2*1.302,1) -> 0 | S14: =ROUND(R14*Q14/25*12*2*1.302,1) -> 0 | U14: =ROUND(T14*O14/20*12*2*1.302,1) -> 0 | X14: =P14+R14+V14+T14 -> 0 | Y14: =Q14+S14+W14+U14 -> 0 | AA14: 18 | AC14: =ROUND(AB14*AA14/25*12*2*1.302,1) -> 0 | AE14: =ROUND(AD14*AC14/25*12*2*1.302,1) -> 0 | AG14: =ROUND(AF14*AA14/20*12*2*1.302,1) -> 0 | AJ14: =AB14+AD14+AH14+AF14 -> 0 | AK14: =AC14+AE14+AI14+AG14 -> 0 | AM14: 18 | AN14: 2 | AO14: =ROUND(AN14*AM14/25*12*2*1.302,1) -> 45 | AQ14: =ROUND(AP14*AM14/25*12*2*1.302,1) -> 0 | AS14: =ROUND(AR14*AM14/20*12*2*1.302,1) -> 0 | AV14: =AN14+AP14+AT14+AR14 -> 2 | AW14: =AO14+AQ14+AU14+AS14 -> 45 | AY14: 18 | AZ14: 28 | BA14: =ROUND(AZ14*AY14/25*12*2*1.302,1) -> 630 | BC14: =ROUND(BB14*AY14/25*12*2*1.302,1) -> 0 | BE14: =ROUND(BD14*AY14/20*12*2*1.302,1) -> 0 | BH14: =AZ14+BB14+BF14+BD14 -> 28 | BI14: =BA14+BC14+BG14+BE14 -> 630 | BK14: 18 | BL14: 4 | BM14: =ROUND(BL14*BK14/25*12*2*1.302,1) -> 90 | BO14: =ROUND(BN14*BM14/25*12*2*1.302,1) -> 0 | BQ14: =ROUND(BP14*BK14/20*12*2*1.302,1) -> 0 | BT14: =BL14+BN14+BR14+BP14 -> 4 | BU14: =BM14+BO14+BS14+BQ14 -> 90 | BW14: 18 | BX14: 8 | BY14: =ROUND(BX14*BW14/25*12*2*1.302,1) -> 180 | CA14: =ROUND(BZ14*BY14/25*12*2*1.302,1) -> 0 | CC14: =ROUND(CB14*BW14/20*12*2*1.302,1) -> 0 | CF14: =BX14+BZ14+CD14+CB14 -> 8 | CG14: =BY14+CA14+CE14+CC14 -> 180 | CI14: 18 | CK14: =ROUND(CJ14*CI14/25*12*2*1.302,1) -> 0 | CM14: =ROUND(CL14*CK14/25*12*2*1.302,1) -> 0 | CO14: =ROUND(CN14*CI14/20*12*2*1.302,1) -> 0 | CR14: =CJ14+CL14+CP14+CN14 -> 0 | CS14: =CK14+CM14+CQ14+CO14 -> 0 | CU14: 18 | CV14: 2 | CW14: =ROUND(CV14*CU14/25*12*2*1.302,1) -> 45 | CY14: =ROUND(CX14*CU14/25*12*2*1.302,1) -> 0 | DA14: =ROUND(CZ14*CU14/20*12*2*1.302,1) -> 0 | DC14: =ROUND(DB14*CU14/12*12*2*1.302,1) -> 0 | DD14: =CV14+CX14+DB14+CZ14 -> 2 | DE14: =CW14+CY14+DC14+DA14 -> 45 | DG14: 18 | DH14: 5 | DI14: =ROUND(DH14*DG14/25*12*2*1.302,1) -> 112.5 | DK14: =ROUND(DJ14*DG14/25*12*2*1.302,1) -> 0 | DM14: =ROUND(DL14*DG14/20*12*2*1.302,1) -> 0 | DO14: =ROUND(DN14*DG14/12*12*2*1.302,1) -> 0 | DP14: =DH14+DJ14+DL14+DN14 -> 5 | DQ14: =DI14+DK14+DM14+DO14 -> 112.5 | DS14: 18 | DT14: 2 | DU14: =ROUND(DT14*DS14/25*12*2*1.302,1) -> 45 | DW14: =ROUND(DV14*DS14/25*12*2*1.302,1) -> 0 | DY14: =ROUND(DX14*DS14/20*12*1.302,1) -> 0 | EB14: =DT14+DV14+DX14+DZ14 -> 2 | EC14: =DU14+DW14+DY14+EA14 -> 45 | EE14: 18 | EF14: 2 | EG14: =ROUND(EF14*EE14/25*12*2*1.302,1) -> 45 | EI14: =ROUND(EH14*EG14/25*12*2*1.302,1) -> 0 | EK14: =ROUND(EJ14*EE14/20*12*2*1.302,1) -> 0 | EM14: =ROUND(EL14*EE14/12*12*2*1.302,1) -> 0 | EN14: =EF14+EH14+EL14+EJ14 -> 2 | EO14: =EG14+EI14+EM14+EK14 -> 45 | EQ14: 18 | ER14: 3 | ES14: =ROUND(ER14*EQ14/25*12*2*1.302,1) -> 67.5 | ET14: 5 | EU14: =ROUND(ET14*EQ14/25*12*2*1.302,1) -> 112.5 | EW14: =ROUND(EV14*EQ14/20*12*2*1.302,1) -> 0 | EZ14: =ER14+ET14+EX14+EV14 -> 8 | FA14: =ES14+EU14+EY14+EW14 -> 180 | FC14: 18 | FD14: 3 | FE14: =ROUND(FD14*FC14/25*12*2*1.302,1) -> 67.5 | FG14: =ROUND(FF14*FE14/25*12*2*1.302,1) -> 0 | FI14: =ROUND(FH14*FC14/20*12*2*1.302,1) -> 0 | FL14: =FD14+FF14+FJ14+FH14 -> 3 | FM14: =FE14+FG14+FK14+FI14 -> 67.5 | FO14: 18 | FQ14: =ROUND(FP14*FO14/25*12*2*1.302,1) -> 0 | FS14: =ROUND(FR14*FQ14/25*12*2*1.302,1) -> 0 | FU14: =ROUND(FT14*FO14/20*12*2*1.302,1) -> 0 | FX14: =FP14+FR14+FV14+FT14 -> 0 | FY14: =FQ14+FS14+FW14+FU14 -> 0 | GA14: 18 | GB14: 1 | GC14: =ROUND(GB14*GA14/25*12*2*1.302,1) -> 22.5 | GD14: 0 | GE14: =ROUND(GD14*GC14/25*12*2*1.302,1) -> 0 | GF14: 0 | GG14: 0 | GI14: =ROUND(GH14*GA14/12*12*2*1.302,1) -> 0 | GJ14: =GB14+GD14+GH14+GF14 -> 1 | GK14: =GC14+GE14+GI14+GG14 -> 22.5 | GM14: 18 | GO14: =ROUND(GN14*GM14/25*12*2*1.302,1) -> 0 | GQ14: =ROUND(GP14*GO14/25*12*2*1.302,1) -> 0 | GS14: =ROUND(GR14*GM14/20*12*2*1.302,1) -> 0 | GV14: =GN14+GP14+GT14+GR14 -> 0 | GW14: =GO14+GQ14+GU14+GS14 -> 0 | GY14: 18 | GZ14: 2 | HA14: =ROUND(GZ14*GY14/25*12*2*1.302,1) -> 45 | HC14: =ROUND(HB14*HA14/25*12*2*1.302,1) -> 0 | HE14: =ROUND(HD14*GY14/20*12*2*1.302,1) -> 0 | HH14: =GZ14+HB14+HF14+HD14 -> 2 | HI14: =HA14+HC14+HG14+HE14 -> 45 | HK14: 18 | HL14: 1 | HM14: =ROUND(HL14*HK14/25*12*2*1.302,1) -> 22.5 | HO14: =ROUND(HN14*HM14/25*12*2*1.302,1) -> 0 | HQ14: =ROUND(HP14*HK14/20*12*2*1.302,1) -> 0 | HT14: =HL14+HN14+HR14+HP14 -> 1 | HU14: =HM14+HO14+HS14+HQ14 -> 22.5
A15: 17 | B15: =P15+AB15+AN15+AZ15+BL15+BX15+CJ15+CV15+DH15+DT15+EF15+ER15+FD15+FP15+GB15+GN15+GZ15+HL15 -> 32 | C15: =Q15+AC15+AO15+BA15+BM15+BY15+CK15+CW15+DI15+DU15+EG15+ES15+FE15+FQ15+GC15+GO15+HA15+HM15 -> 679.9 | D15: =R15+AD15+AP15+BB15+BN15+BZ15+CL15+CX15+DJ15+DV15+EH15+ET15+FF15+FR15+GD15+GP15+HB15+HN15 -> 7 | E15: =S15+AE15+AQ15+BC15+BO15+CA15+CM15+CY15+DK15+DW15+EI15+EU15+FG15+FS15+GE15+GQ15+HC15+HO15 -> 148.7 | F15: =T15+AF15+AR15+BD15+BP15+CB15+CN15+CZ15+DL15+DX15+EJ15+EV15+FH15+FT15+GF15+GR15+HD15+HP15 -> 0 | G15: =U15+AG15+AS15+BE15+BQ15+CC15+CO15+DA15+DM15+DY15+EK15+EW15+FI15+FU15+GG15+GS15+HE15+HQ15 -> 0 | H15: =V15+AH15+AT15+BF15+BR15+CD15+CP15+DB15+DN15+DZ15+EL15+EX15+FJ15+FV15+GH15+GT15+HF15+HR15 -> 0 | I15: =W15+AI15+AU15+BG15+BS15+CE15+CQ15+DC15+DO15+EA15+EM15+EY15+FK15+FW15+GI15+GU15+HG15+HS15 -> 0 | ... K15: =Y15+AK15+AW15+BI15+BU15+CG15+CS15+DE15+DQ15+EC15+EO15+FA15+FM15+FY15+GK15+GW15+HI15+HU15 -> 828.6 | O15: 17 | P15: 0 | Q15: =ROUND(P15*O15/25*12*2*1.302,1) -> 0 | S15: =ROUND(R15*Q15/25*12*2*1.302,1) -> 0 | U15: =ROUND(T15*O15/20*12*2*1.302,1) -> 0 | X15: =P15+R15+V15+T15 -> 0 | Y15: =Q15+S15+W15+U15 -> 0 | AA15: 17 | AC15: =ROUND(AB15*AA15/25*12*2*1.302,1) -> 0 | AE15: =ROUND(AD15*AC15/25*12*2*1.302,1) -> 0 | AG15: =ROUND(AF15*AA15/20*12*2*1.302,1) -> 0 | AJ15: =AB15+AD15+AH15+AF15 -> 0 | AK15: =AC15+AE15+AI15+AG15 -> 0 | AM15: 17 | AO15: =ROUND(AN15*AM15/25*12*2*1.302,1) -> 0 | AQ15: =ROUND(AP15*AM15/25*12*2*1.302,1) -> 0 | AS15: =ROUND(AR15*AM15/20*12*2*1.302,1) -> 0 | AV15: =AN15+AP15+AT15+AR15 -> 0 | AW15: =AO15+AQ15+AU15+AS15 -> 0 | AY15: 17 | BA15: =ROUND(AZ15*AY15/25*12*2*1.302,1) -> 0 | BC15: =ROUND(BB15*AY15/25*12*2*1.302,1) -> 0 | BE15: =ROUND(BD15*AY15/20*12*2*1.302,1) -> 0 | BH15: =AZ15+BB15+BF15+BD15 -> 0 | BI15: =BA15+BC15+BG15+BE15 -> 0 | BK15: 17 | BL15: 4 | BM15: =ROUND(BL15*BK15/25*12*2*1.302,1) -> 85 | BO15: =ROUND(BN15*BM15/25*12*2*1.302,1) -> 0 | BQ15: =ROUND(BP15*BK15/20*12*2*1.302,1) -> 0 | BT15: =BL15+BN15+BR15+BP15 -> 4 | BU15: =BM15+BO15+BS15+BQ15 -> 85 | BW15: 17 | BX15: 8 | BY15: =ROUND(BX15*BW15/25*12*2*1.302,1) -> 170 | CA15: =ROUND(BZ15*BY15/25*12*2*1.302,1) -> 0 | CC15: =ROUND(CB15*BW15/20*12*2*1.302,1) -> 0 | CF15: =BX15+BZ15+CD15+CB15 -> 8 | CG15: =BY15+CA15+CE15+CC15 -> 170 | CI15: 17 | CJ15: 3 | CK15: =ROUND(CJ15*CI15/25*12*2*1.302,1) -> 63.7 | CM15: =ROUND(CL15*CK15/25*12*2*1.302,1) -> 0 | CO15: =ROUND(CN15*CI15/20*12*2*1.302,1) -> 0 | CR15: =CJ15+CL15+CP15+CN15 -> 3 | CS15: =CK15+CM15+CQ15+CO15 -> 63.7 | CU15: 17 | CW15: =ROUND(CV15*CU15/25*12*2*1.302,1) -> 0 | CY15: =ROUND(CX15*CU15/25*12*2*1.302,1) -> 0 | DA15: =ROUND(CZ15*CU15/20*12*2*1.302,1) -> 0 | DC15: =ROUND(DB15*CU15/12*12*2*1.302,1) -> 0 | DD15: =CV15+CX15+DB15+CZ15 -> 0 | DE15: =CW15+CY15+DC15+DA15 -> 0 | DG15: 17 | DH15: 6 | DI15: =ROUND(DH15*DG15/25*12*2*1.302,1) -> 127.5 | DK15: =ROUND(DJ15*DG15/25*12*2*1.302,1) -> 0 | DM15: =ROUND(DL15*DG15/20*12*2*1.302,1) -> 0 | DO15: =ROUND(DN15*DG15/12*12*2*1.302,1) -> 0 | DP15: =DH15+DJ15+DL15+DN15 -> 6 | DQ15: =DI15+DK15+DM15+DO15 -> 127.5 | DS15: 17 | DT15: 0 | DU15: =ROUND(DT15*DS15/25*12*2*1.302,1) -> 0 | DV15: 2 | DW15: =ROUND(DV15*DS15/25*12*2*1.302,1) -> 42.5 | DY15: =ROUND(DX15*DS15/20*12*1.302,1) -> 0 | EB15: =DT15+DV15+DX15+DZ15 -> 2 | EC15: =DU15+DW15+DY15+EA15 -> 42.5 | EE15: 17 | EF15: 2 | EG15: =ROUND(EF15*EE15/25*12*2*1.302,1) -> 42.5 | EI15: =ROUND(EH15*EG15/25*12*2*1.302,1) -> 0 | EK15: =ROUND(EJ15*EE15/20*12*2*1.302,1) -> 0 | EM15: =ROUND(EL15*EE15/12*12*2*1.302,1) -> 0 | EN15: =EF15+EH15+EL15+EJ15 -> 2 | EO15: =EG15+EI15+EM15+EK15 -> 42.5 | EQ15: 17 | ER15: 0 | ES15: =ROUND(ER15*EQ15/25*12*2*1.302,1) -> 0 | ET15: 5 | EU15: =ROUND(ET15*EQ15/25*12*2*1.302,1) -> 106.2 | EW15: =ROUND(EV15*EQ15/20*12*2*1.302,1) -> 0 | EZ15: =ER15+ET15+EX15+EV15 -> 5 | FA15: =ES15+EU15+EY15+EW15 -> 106.2 | FC15: 17 | FD15: 2 | FE15: =ROUND(FD15*FC15/25*12*2*1.302,1) -> 42.5 | FG15: =ROUND(FF15*FE15/25*12*2*1.302,1) -> 0 | FI15: =ROUND(FH15*FC15/20*12*2*1.302,1) -> 0 | FL15: =FD15+FF15+FJ15+FH15 -> 2 | FM15: =FE15+FG15+FK15+FI15 -> 42.5 | FO15: 17 | FQ15: =ROUND(FP15*FO15/25*12*2*1.302,1) -> 0 | FS15: =ROUND(FR15*FQ15/25*12*2*1.302,1) -> 0 | FU15: =ROUND(FT15*FO15/20*12*2*1.302,1) -> 0 | FX15: =FP15+FR15+FV15+FT15 -> 0 | FY15: =FQ15+FS15+FW15+FU15 -> 0 | GA15: 17 | GB15: 0 | GC15: =ROUND(GB15*GA15/25*12*2*1.302,1) -> 0 | GD15: 0 | GE15: =ROUND(GD15*GC15/25*12*2*1.302,1) -> 0 | GF15: 0 | GG15: 0 | GI15: =ROUND(GH15*GA15/12*12*2*1.302,1) -> 0 | GJ15: =GB15+GD15+GH15+GF15 -> 0 | GK15: =GC15+GE15+GI15+GG15 -> 0 | GM15: 17 | GN15: 4 | GO15: =ROUND(GN15*GM15/25*12*2*1.302,1) -> 85 | GQ15: =ROUND(GP15*GO15/25*12*2*1.302,1) -> 0 | GS15: =ROUND(GR15*GM15/20*12*2*1.302,1) -> 0 | GV15: =GN15+GP15+GT15+GR15 -> 4 | GW15: =GO15+GQ15+GU15+GS15 -> 85 | GY15: 17 | GZ15: 2 | HA15: =ROUND(GZ15*GY15/25*12*2*1.302,1) -> 42.5 | HC15: =ROUND(HB15*HA15/25*12*2*1.302,1) -> 0 | HE15: =ROUND(HD15*GY15/20*12*2*1.302,1) -> 0 | HH15: =GZ15+HB15+HF15+HD15 -> 2 | HI15: =HA15+HC15+HG15+HE15 -> 42.5 | HK15: 17 | HL15: 1 | HM15: =ROUND(HL15*HK15/25*12*2*1.302,1) -> 21.2 | HO15: =ROUND(HN15*HM15/25*12*2*1.302,1) -> 0 | HQ15: =ROUND(HP15*HK15/20*12*2*1.302,1) -> 0 | HT15: =HL15+HN15+HR15+HP15 -> 1 | HU15: =HM15+HO15+HS15+HQ15 -> 21.2
A16: 16 | B16: =P16+AB16+AN16+AZ16+BL16+BX16+CJ16+CV16+DH16+DT16+EF16+ER16+FD16+FP16+GB16+GN16+GZ16+HL16 -> 23 | C16: =Q16+AC16+AO16+BA16+BM16+BY16+CK16+CW16+DI16+DU16+EG16+ES16+FE16+FQ16+GC16+GO16+HA16+HM16 -> 460 | D16: =R16+AD16+AP16+BB16+BN16+BZ16+CL16+CX16+DJ16+DV16+EH16+ET16+FF16+FR16+GD16+GP16+HB16+HN16 -> 0 | E16: =S16+AE16+AQ16+BC16+BO16+CA16+CM16+CY16+DK16+DW16+EI16+EU16+FG16+FS16+GE16+GQ16+HC16+HO16 -> 0 | F16: =T16+AF16+AR16+BD16+BP16+CB16+CN16+CZ16+DL16+DX16+EJ16+EV16+FH16+FT16+GF16+GR16+HD16+HP16 -> 0 | G16: =U16+AG16+AS16+BE16+BQ16+CC16+CO16+DA16+DM16+DY16+EK16+EW16+FI16+FU16+GG16+GS16+HE16+HQ16 -> 0 | H16: =V16+AH16+AT16+BF16+BR16+CD16+CP16+DB16+DN16+DZ16+EL16+EX16+FJ16+FV16+GH16+GT16+HF16+HR16 -> 0 | I16: =W16+AI16+AU16+BG16+BS16+CE16+CQ16+DC16+DO16+EA16+EM16+EY16+FK16+FW16+GI16+GU16+HG16+HS16 -> 0 | ... K16: =Y16+AK16+AW16+BI16+BU16+CG16+CS16+DE16+DQ16+EC16+EO16+FA16+FM16+FY16+GK16+GW16+HI16+HU16 -> 460 | O16: 16 | P16: 0 | Q16: =ROUND(P16*O16/25*12*2*1.302,1) -> 0 | S16: =ROUND(R16*Q16/25*12*2*1.302,1) -> 0 | U16: =ROUND(T16*O16/20*12*2*1.302,1) -> 0 | X16: =P16+R16+V16+T16 -> 0 | Y16: =Q16+S16+W16+U16 -> 0 | AA16: 16 | AC16: =ROUND(AB16*AA16/25*12*2*1.302,1) -> 0 | AE16: =ROUND(AD16*AC16/25*12*2*1.302,1) -> 0 | AG16: =ROUND(AF16*AA16/20*12*2*1.302,1) -> 0 | AJ16: =AB16+AD16+AH16+AF16 -> 0 | AK16: =AC16+AE16+AI16+AG16 -> 0 | AM16: 16 | AN16: 5 | AO16: =ROUND(AN16*AM16/25*12*2*1.302,1) -> 100 | AQ16: =ROUND(AP16*AM16/25*12*2*1.302,1) -> 0 | AS16: =ROUND(AR16*AM16/20*12*2*1.302,1) -> 0 | AV16: =AN16+AP16+AT16+AR16 -> 5 | AW16: =AO16+AQ16+AU16+AS16 -> 100 | AY16: 16 | BA16: =ROUND(AZ16*AY16/25*12*2*1.302,1) -> 0 | BC16: =ROUND(BB16*AY16/25*12*2*1.302,1) -> 0 | BE16: =ROUND(BD16*AY16/20*12*2*1.302,1) -> 0 | BH16: =AZ16+BB16+BF16+BD16 -> 0 | BI16: =BA16+BC16+BG16+BE16 -> 0 | BK16: 16 | BL16: 2 | BM16: =ROUND(BL16*BK16/25*12*2*1.302,1) -> 40 | BO16: =ROUND(BN16*BM16/25*12*2*1.302,1) -> 0 | BQ16: =ROUND(BP16*BK16/20*12*2*1.302,1) -> 0 | BT16: =BL16+BN16+BR16+BP16 -> 2 | BU16: =BM16+BO16+BS16+BQ16 -> 40 | BW16: 16 | BX16: 3 | BY16: =ROUND(BX16*BW16/25*12*2*1.302,1) -> 60 | CA16: =ROUND(BZ16*BY16/25*12*2*1.302,1) -> 0 | CC16: =ROUND(CB16*BW16/20*12*2*1.302,1) -> 0 | CF16: =BX16+BZ16+CD16+CB16 -> 3 | CG16: =BY16+CA16+CE16+CC16 -> 60 | CI16: 16 | CJ16: 2 | CK16: =ROUND(CJ16*CI16/25*12*2*1.302,1) -> 40 | CM16: =ROUND(CL16*CK16/25*12*2*1.302,1) -> 0 | CO16: =ROUND(CN16*CI16/20*12*2*1.302,1) -> 0 | CR16: =CJ16+CL16+CP16+CN16 -> 2 | CS16: =CK16+CM16+CQ16+CO16 -> 40 | CU16: 16 | CW16: =ROUND(CV16*CU16/25*12*2*1.302,1) -> 0 | CY16: =ROUND(CX16*CU16/25*12*2*1.302,1) -> 0 | DA16: =ROUND(CZ16*CU16/20*12*2*1.302,1) -> 0 | DC16: =ROUND(DB16*CU16/12*12*2*1.302,1) -> 0 | DD16: =CV16+CX16+DB16+CZ16 -> 0 | DE16: =CW16+CY16+DC16+DA16 -> 0 | DG16: 16 | DH16: 2 | DI16: =ROUND(DH16*DG16/25*12*2*1.302,1) -> 40 | DK16: =ROUND(DJ16*DG16/25*12*2*1.302,1) -> 0 | DM16: =ROUND(DL16*DG16/20*12*2*1.302,1) -> 0 | DO16: =ROUND(DN16*DG16/12*12*2*1.302,1) -> 0 | DP16: =DH16+DJ16+DL16+DN16 -> 2 | DQ16: =DI16+DK16+DM16+DO16 -> 40 | DS16: 16 | DT16: 1 | DU16: =ROUND(DT16*DS16/25*12*2*1.302,1) -> 20 | DW16: =ROUND(DV16*DS16/25*12*2*1.302,1) -> 0 | DY16: =ROUND(DX16*DS16/20*12*1.302,1) -> 0 | EB16: =DT16+DV16+DX16+DZ16 -> 1 | EC16: =DU16+DW16+DY16+EA16 -> 20 | EE16: 16 | EG16: =ROUND(EF16*EE16/25*12*2*1.302,1) -> 0 | EI16: =ROUND(EH16*EG16/25*12*2*1.302,1) -> 0 | EK16: =ROUND(EJ16*EE16/20*12*2*1.302,1) -> 0 | EM16: =ROUND(EL16*EE16/12*12*2*1.302,1) -> 0 | EN16: =EF16+EH16+EL16+EJ16 -> 0 | EO16: =EG16+EI16+EM16+EK16 -> 0 | EQ16: 16 | ER16: 2 | ES16: =ROUND(ER16*EQ16/25*12*2*1.302,1) -> 40 | EU16: =ROUND(ET16*EQ16/25*12*2*1.302,1) -> 0 | EW16: =ROUND(EV16*EQ16/20*12*2*1.302,1) -> 0 | EZ16: =ER16+ET16+EX16+EV16 -> 2 | FA16: =ES16+EU16+EY16+EW16 -> 40 | FC16: 16 | FD16: 3 | FE16: =ROUND(FD16*FC16/25*12*2*1.302,1) -> 60 | FG16: =ROUND(FF16*FE16/25*12*2*1.302,1) -> 0 | FI16: =ROUND(FH16*FC16/20*12*2*1.302,1) -> 0 | FL16: =FD16+FF16+FJ16+FH16 -> 3 | FM16: =FE16+FG16+FK16+FI16 -> 60 | FO16: 16 | FQ16: =ROUND(FP16*FO16/25*12*2*1.302,1) -> 0 | FS16: =ROUND(FR16*FQ16/25*12*2*1.302,1) -> 0 | FU16: =ROUND(FT16*FO16/20*12*2*1.302,1) -> 0 | FX16: =FP16+FR16+FV16+FT16 -> 0 | FY16: =FQ16+FS16+FW16+FU16 -> 0 | GA16: 16 | GB16: 0 | GC16: =ROUND(GB16*GA16/25*12*2*1.302,1) -> 0 | GD16: 0 | GE16: =ROUND(GD16*GC16/25*12*2*1.302,1) -> 0 | GF16: 0 | GG16: 0 | GI16: =ROUND(GH16*GA16/12*12*2*1.302,1) -> 0 | GJ16: =GB16+GD16+GH16+GF16 -> 0 | GK16: =GC16+GE16+GI16+GG16 -> 0 | GM16: 16 | GN16: 3 | GO16: =ROUND(GN16*GM16/25*12*2*1.302,1) -> 60 | GQ16: =ROUND(GP16*GO16/25*12*2*1.302,1) -> 0 | GS16: =ROUND(GR16*GM16/20*12*2*1.302,1) -> 0 | GV16: =GN16+GP16+GT16+GR16 -> 3 | GW16: =GO16+GQ16+GU16+GS16 -> 60 | GY16: 16 | GZ16: 0 | HA16: =ROUND(GZ16*GY16/25*12*2*1.302,1) -> 0 | HC16: =ROUND(HB16*HA16/25*12*2*1.302,1) -> 0 | HE16: =ROUND(HD16*GY16/20*12*2*1.302,1) -> 0 | HH16: =GZ16+HB16+HF16+HD16 -> 0 | HI16: =HA16+HC16+HG16+HE16 -> 0 | HK16: 16 | HL16: 0 | HM16: =ROUND(HL16*HK16/25*12*2*1.302,1) -> 0 | HO16: =ROUND(HN16*HM16/25*12*2*1.302,1) -> 0 | HQ16: =ROUND(HP16*HK16/20*12*2*1.302,1) -> 0 | HT16: =HL16+HN16+HR16+HP16 -> 0 | HU16: =HM16+HO16+HS16+HQ16 -> 0
A17: 15 | B17: =P17+AB17+AN17+AZ17+BL17+BX17+CJ17+CV17+DH17+DT17+EF17+ER17+FD17+FP17+GB17+GN17+GZ17+HL17 -> 19 | C17: =Q17+AC17+AO17+BA17+BM17+BY17+CK17+CW17+DI17+DU17+EG17+ES17+FE17+FQ17+GC17+GO17+HA17+HM17 -> 356 | D17: =R17+AD17+AP17+BB17+BN17+BZ17+CL17+CX17+DJ17+DV17+EH17+ET17+FF17+FR17+GD17+GP17+HB17+HN17 -> 1 | E17: =S17+AE17+AQ17+BC17+BO17+CA17+CM17+CY17+DK17+DW17+EI17+EU17+FG17+FS17+GE17+GQ17+HC17+HO17 -> 18.7 | F17: =T17+AF17+AR17+BD17+BP17+CB17+CN17+CZ17+DL17+DX17+EJ17+EV17+FH17+FT17+GF17+GR17+HD17+HP17 -> 0 | G17: =U17+AG17+AS17+BE17+BQ17+CC17+CO17+DA17+DM17+DY17+EK17+EW17+FI17+FU17+GG17+GS17+HE17+HQ17 -> 0 | H17: =V17+AH17+AT17+BF17+BR17+CD17+CP17+DB17+DN17+DZ17+EL17+EX17+FJ17+FV17+GH17+GT17+HF17+HR17 -> 0 | I17: =W17+AI17+AU17+BG17+BS17+CE17+CQ17+DC17+DO17+EA17+EM17+EY17+FK17+FW17+GI17+GU17+HG17+HS17 -> 0 | ... K17: =Y17+AK17+AW17+BI17+BU17+CG17+CS17+DE17+DQ17+EC17+EO17+FA17+FM17+FY17+GK17+GW17+HI17+HU17 -> 374.7 | O17: 15 | P17: 0 | Q17: =ROUND(P17*O17/25*12*2*1.302,1) -> 0 | S17: =ROUND(R17*Q17/25*12*2*1.302,1) -> 0 | U17: =ROUND(T17*O17/20*12*2*1.302,1) -> 0 | X17: =P17+R17+V17+T17 -> 0 | Y17: =Q17+S17+W17+U17 -> 0 | AA17: 15 | AC17: =ROUND(AB17*AA17/25*12*2*1.302,1) -> 0 | AE17: =ROUND(AD17*AC17/25*12*2*1.302,1) -> 0 | AG17: =ROUND(AF17*AA17/20*12*2*1.302,1) -> 0 | AJ17: =AB17+AD17+AH17+AF17 -> 0 | AK17: =AC17+AE17+AI17+AG17 -> 0 | AM17: 15 | AN17: 1 | AO17: =ROUND(AN17*AM17/25*12*2*1.302,1) -> 18.7 | AQ17: =ROUND(AP17*AM17/25*12*2*1.302,1) -> 0 | AS17: =ROUND(AR17*AM17/20*12*2*1.302,1) -> 0 | AV17: =AN17+AP17+AT17+AR17 -> 1 | AW17: =AO17+AQ17+AU17+AS17 -> 18.7 | AY17: 15 | BA17: =ROUND(AZ17*AY17/25*12*2*1.302,1) -> 0 | BC17: =ROUND(BB17*AY17/25*12*2*1.302,1) -> 0 | BE17: =ROUND(BD17*AY17/20*12*2*1.302,1) -> 0 | BH17: =AZ17+BB17+BF17+BD17 -> 0 | BI17: =BA17+BC17+BG17+BE17 -> 0 | BK17: 15 | BL17: 0 | BM17: =ROUND(BL17*BK17/25*12*2*1.302,1) -> 0 | BO17: =ROUND(BN17*BM17/25*12*2*1.302,1) -> 0 | BQ17: =ROUND(BP17*BK17/20*12*2*1.302,1) -> 0 | BT17: =BL17+BN17+BR17+BP17 -> 0 | BU17: =BM17+BO17+BS17+BQ17 -> 0 | BW17: 15 | BX17: 5 | BY17: =ROUND(BX17*BW17/25*12*2*1.302,1) -> 93.7 | CA17: =ROUND(BZ17*BY17/25*12*2*1.302,1) -> 0 | CC17: =ROUND(CB17*BW17/20*12*2*1.302,1) -> 0 | CF17: =BX17+BZ17+CD17+CB17 -> 5 | CG17: =BY17+CA17+CE17+CC17 -> 93.7 | CI17: 15 | CJ17: 2 | CK17: =ROUND(CJ17*CI17/25*12*2*1.302,1) -> 37.5 | CM17: =ROUND(CL17*CK17/25*12*2*1.302,1) -> 0 | CO17: =ROUND(CN17*CI17/20*12*2*1.302,1) -> 0 | CR17: =CJ17+CL17+CP17+CN17 -> 2 | CS17: =CK17+CM17+CQ17+CO17 -> 37.5 | CU17: 15 | CV17: 1 | CW17: =ROUND(CV17*CU17/25*12*2*1.302,1) -> 18.7 | CY17: =ROUND(CX17*CU17/25*12*2*1.302,1) -> 0 | DA17: =ROUND(CZ17*CU17/20*12*2*1.302,1) -> 0 | DC17: =ROUND(DB17*CU17/12*12*2*1.302,1) -> 0 | DD17: =CV17+CX17+DB17+CZ17 -> 1 | DE17: =CW17+CY17+DC17+DA17 -> 18.7 | DG17: 15 | DH17: 2 | DI17: =ROUND(DH17*DG17/25*12*2*1.302,1) -> 37.5 | DJ17: 1 | DK17: =ROUND(DJ17*DG17/25*12*2*1.302,1) -> 18.7 | DM17: =ROUND(DL17*DG17/20*12*2*1.302,1) -> 0 | DO17: =ROUND(DN17*DG17/12*12*2*1.302,1) -> 0 | DP17: =DH17+DJ17+DL17+DN17 -> 3 | DQ17: =DI17+DK17+DM17+DO17 -> 56.2 | DS17: 15 | DT17: 2 | DU17: =ROUND(DT17*DS17/25*12*2*1.302,1) -> 37.5 | DW17: =ROUND(DV17*DS17/25*12*2*1.302,1) -> 0 | DY17: =ROUND(DX17*DS17/20*12*1.302,1) -> 0 | EB17: =DT17+DV17+DX17+DZ17 -> 2 | EC17: =DU17+DW17+DY17+EA17 -> 37.5 | EE17: 15 | EF17: 3 | EG17: =ROUND(EF17*EE17/25*12*2*1.302,1) -> 56.2 | EI17: =ROUND(EH17*EG17/25*12*2*1.302,1) -> 0 | EK17: =ROUND(EJ17*EE17/20*12*2*1.302,1) -> 0 | EM17: =ROUND(EL17*EE17/12*12*2*1.302,1) -> 0 | EN17: =EF17+EH17+EL17+EJ17 -> 3 | EO17: =EG17+EI17+EM17+EK17 -> 56.2 | EQ17: 15 | ER17: 1 | ES17: =ROUND(ER17*EQ17/25*12*2*1.302,1) -> 18.7 | EU17: =ROUND(ET17*EQ17/25*12*2*1.302,1) -> 0 | EW17: =ROUND(EV17*EQ17/20*12*2*1.302,1) -> 0 | EZ17: =ER17+ET17+EX17+EV17 -> 1 | FA17: =ES17+EU17+EY17+EW17 -> 18.7 | FC17: 15 | FE17: =ROUND(FD17*FC17/25*12*2*1.302,1) -> 0 | FG17: =ROUND(FF17*FE17/25*12*2*1.302,1) -> 0 | FI17: =ROUND(FH17*FC17/20*12*2*1.302,1) -> 0 | FL17: =FD17+FF17+FJ17+FH17 -> 0 | FM17: =FE17+FG17+FK17+FI17 -> 0 | FO17: 15 | FQ17: =ROUND(FP17*FO17/25*12*2*1.302,1) -> 0 | FS17: =ROUND(FR17*FQ17/25*12*2*1.302,1) -> 0 | FU17: =ROUND(FT17*FO17/20*12*2*1.302,1) -> 0 | FX17: =FP17+FR17+FV17+FT17 -> 0 | FY17: =FQ17+FS17+FW17+FU17 -> 0 | GA17: 15 | GB17: 0 | GC17: =ROUND(GB17*GA17/25*12*2*1.302,1) -> 0 | GD17: 0 | GE17: =ROUND(GD17*GC17/25*12*2*1.302,1) -> 0 | GF17: 0 | GG17: 0 | GI17: =ROUND(GH17*GA17/12*12*2*1.302,1) -> 0 | GJ17: =GB17+GD17+GH17+GF17 -> 0 | GK17: =GC17+GE17+GI17+GG17 -> 0 | GM17: 15 | GO17: =ROUND(GN17*GM17/25*12*2*1.302,1) -> 0 | GQ17: =ROUND(GP17*GO17/25*12*2*1.302,1) -> 0 | GS17: =ROUND(GR17*GM17/20*12*2*1.302,1) -> 0 | GV17: =GN17+GP17+GT17+GR17 -> 0 | GW17: =GO17+GQ17+GU17+GS17 -> 0 | GY17: 15 | GZ17: 2 | HA17: =ROUND(GZ17*GY17/25*12*2*1.302,1) -> 37.5 | HC17: =ROUND(HB17*HA17/25*12*2*1.302,1) -> 0 | HE17: =ROUND(HD17*GY17/20*12*2*1.302,1) -> 0 | HH17: =GZ17+HB17+HF17+HD17 -> 2 | HI17: =HA17+HC17+HG17+HE17 -> 37.5 | HK17: 15 | HL17: 0 | HM17: =ROUND(HL17*HK17/25*12*2*1.302,1) -> 0 | HO17: =ROUND(HN17*HM17/25*12*2*1.302,1) -> 0 | HQ17: =ROUND(HP17*HK17/20*12*2*1.302,1) -> 0 | HT17: =HL17+HN17+HR17+HP17 -> 0 | HU17: =HM17+HO17+HS17+HQ17 -> 0
A18: 14 | B18: =P18+AB18+AN18+AZ18+BL18+BX18+CJ18+CV18+DH18+DT18+EF18+ER18+FD18+FP18+GB18+GN18+GZ18+HL18 -> 10 | C18: =Q18+AC18+AO18+BA18+BM18+BY18+CK18+CW18+DI18+DU18+EG18+ES18+FE18+FQ18+GC18+GO18+HA18+HM18 -> 175 | D18: =R18+AD18+AP18+BB18+BN18+BZ18+CL18+CX18+DJ18+DV18+EH18+ET18+FF18+FR18+GD18+GP18+HB18+HN18 -> 4 | E18: =S18+AE18+AQ18+BC18+BO18+CA18+CM18+CY18+DK18+DW18+EI18+EU18+FG18+FS18+GE18+GQ18+HC18+HO18 -> 70 | F18: =T18+AF18+AR18+BD18+BP18+CB18+CN18+CZ18+DL18+DX18+EJ18+EV18+FH18+FT18+GF18+GR18+HD18+HP18 -> 0 | G18: =U18+AG18+AS18+BE18+BQ18+CC18+CO18+DA18+DM18+DY18+EK18+EW18+FI18+FU18+GG18+GS18+HE18+HQ18 -> 0 | H18: =V18+AH18+AT18+BF18+BR18+CD18+CP18+DB18+DN18+DZ18+EL18+EX18+FJ18+FV18+GH18+GT18+HF18+HR18 -> 0 | I18: =W18+AI18+AU18+BG18+BS18+CE18+CQ18+DC18+DO18+EA18+EM18+EY18+FK18+FW18+GI18+GU18+HG18+HS18 -> 0 | ... K18: =Y18+AK18+AW18+BI18+BU18+CG18+CS18+DE18+DQ18+EC18+EO18+FA18+FM18+FY18+GK18+GW18+HI18+HU18 -> 245 | O18: 14 | P18: 1 | Q18: =ROUND(P18*O18/25*12*2*1.302,1) -> 17.5 | S18: =ROUND(R18*Q18/25*12*2*1.302,1) -> 0 | U18: =ROUND(T18*O18/20*12*2*1.302,1) -> 0 | X18: =P18+R18+V18+T18 -> 1 | Y18: =Q18+S18+W18+U18 -> 17.5 | AA18: 14 | AC18: =ROUND(AB18*AA18/25*12*2*1.302,1) -> 0 | AE18: =ROUND(AD18*AC18/25*12*2*1.302,1) -> 0 | AG18: =ROUND(AF18*AA18/20*12*2*1.302,1) -> 0 | AJ18: =AB18+AD18+AH18+AF18 -> 0 | AK18: =AC18+AE18+AI18+AG18 -> 0 | AM18: 14 | AO18: =ROUND(AN18*AM18/25*12*2*1.302,1) -> 0 | AQ18: =ROUND(AP18*AM18/25*12*2*1.302,1) -> 0 | AS18: =ROUND(AR18*AM18/20*12*2*1.302,1) -> 0 | AV18: =AN18+AP18+AT18+AR18 -> 0 | AW18: =AO18+AQ18+AU18+AS18 -> 0 | AY18: 14 | BA18: =ROUND(AZ18*AY18/25*12*2*1.302,1) -> 0 | BB18: 4 | BC18: =ROUND(BB18*AY18/25*12*2*1.302,1) -> 70 | BE18: =ROUND(BD18*AY18/20*12*2*1.302,1) -> 0 | BH18: =AZ18+BB18+BF18+BD18 -> 4 | BI18: =BA18+BC18+BG18+BE18 -> 70 | BK18: 14 | BL18: 2 | BM18: =ROUND(BL18*BK18/25*12*2*1.302,1) -> 35 | BO18: =ROUND(BN18*BM18/25*12*2*1.302,1) -> 0 | BQ18: =ROUND(BP18*BK18/20*12*2*1.302,1) -> 0 | BT18: =BL18+BN18+BR18+BP18 -> 2 | BU18: =BM18+BO18+BS18+BQ18 -> 35 | BW18: 14 | BX18: 1 | BY18: =ROUND(BX18*BW18/25*12*2*1.302,1) -> 17.5 | CA18: =ROUND(BZ18*BY18/25*12*2*1.302,1) -> 0 | CC18: =ROUND(CB18*BW18/20*12*2*1.302,1) -> 0 | CF18: =BX18+BZ18+CD18+CB18 -> 1 | CG18: =BY18+CA18+CE18+CC18 -> 17.5 | CI18: 14 | CK18: =ROUND(CJ18*CI18/25*12*2*1.302,1) -> 0 | CM18: =ROUND(CL18*CK18/25*12*2*1.302,1) -> 0 | CO18: =ROUND(CN18*CI18/20*12*2*1.302,1) -> 0 | CR18: =CJ18+CL18+CP18+CN18 -> 0 | CS18: =CK18+CM18+CQ18+CO18 -> 0 | CU18: 14 | CV18: 3 | CW18: =ROUND(CV18*CU18/25*12*2*1.302,1) -> 52.5 | CY18: =ROUND(CX18*CU18/25*12*2*1.302,1) -> 0 | DA18: =ROUND(CZ18*CU18/20*12*2*1.302,1) -> 0 | DC18: =ROUND(DB18*CU18/12*12*2*1.302,1) -> 0 | DD18: =CV18+CX18+DB18+CZ18 -> 3 | DE18: =CW18+CY18+DC18+DA18 -> 52.5 | DG18: 14 | DH18: 0 | DI18: =ROUND(DH18*DG18/25*12*2*1.302,1) -> 0 | DK18: =ROUND(DJ18*DG18/25*12*2*1.302,1) -> 0 | DM18: =ROUND(DL18*DG18/20*12*2*1.302,1) -> 0 | DO18: =ROUND(DN18*DG18/12*12*2*1.302,1) -> 0 | DP18: =DH18+DJ18+DL18+DN18 -> 0 | DQ18: =DI18+DK18+DM18+DO18 -> 0 | DS18: 14 | DU18: =ROUND(DT18*DS18/25*12*2*1.302,1) -> 0 | DW18: =ROUND(DV18*DS18/25*12*2*1.302,1) -> 0 | DY18: =ROUND(DX18*DS18/20*12*1.302,1) -> 0 | EB18: =DT18+DV18+DX18+DZ18 -> 0 | EC18: =DU18+DW18+DY18+EA18 -> 0 | EE18: 14 | EF18: 1 | EG18: =ROUND(EF18*EE18/25*12*2*1.302,1) -> 17.5 | EI18: =ROUND(EH18*EG18/25*12*2*1.302,1) -> 0 | EK18: =ROUND(EJ18*EE18/20*12*2*1.302,1) -> 0 | EM18: =ROUND(EL18*EE18/12*12*2*1.302,1) -> 0 | EN18: =EF18+EH18+EL18+EJ18 -> 1 | EO18: =EG18+EI18+EM18+EK18 -> 17.5 | EQ18: 14 | ES18: =ROUND(ER18*EQ18/25*12*2*1.302,1) -> 0 | EU18: =ROUND(ET18*EQ18/25*12*2*1.302,1) -> 0 | EW18: =ROUND(EV18*EQ18/20*12*2*1.302,1) -> 0 | EZ18: =ER18+ET18+EX18+EV18 -> 0 | FA18: =ES18+EU18+EY18+EW18 -> 0 | FC18: 14 | FE18: =ROUND(FD18*FC18/25*12*2*1.302,1) -> 0 | FG18: =ROUND(FF18*FE18/25*12*2*1.302,1) -> 0 | FI18: =ROUND(FH18*FC18/20*12*2*1.302,1) -> 0 | FL18: =FD18+FF18+FJ18+FH18 -> 0 | FM18: =FE18+FG18+FK18+FI18 -> 0 | FO18: 14 | FQ18: =ROUND(FP18*FO18/25*12*2*1.302,1) -> 0 | FS18: =ROUND(FR18*FQ18/25*12*2*1.302,1) -> 0 | FU18: =ROUND(FT18*FO18/20*12*2*1.302,1) -> 0 | FX18: =FP18+FR18+FV18+FT18 -> 0 | FY18: =FQ18+FS18+FW18+FU18 -> 0 | GA18: 14 | GB18: 0 | GC18: =ROUND(GB18*GA18/25*12*2*1.302,1) -> 0 | GD18: 0 | GE18: =ROUND(GD18*GC18/25*12*2*1.302,1) -> 0 | GF18: 0 | GG18: 0 | GI18: =ROUND(GH18*GA18/12*12*2*1.302,1) -> 0 | GJ18: =GB18+GD18+GH18+GF18 -> 0 | GK18: =GC18+GE18+GI18+GG18 -> 0 | GM18: 14 | GO18: =ROUND(GN18*GM18/25*12*2*1.302,1) -> 0 | GQ18: =ROUND(GP18*GO18/25*12*2*1.302,1) -> 0 | GS18: =ROUND(GR18*GM18/20*12*2*1.302,1) -> 0 | GV18: =GN18+GP18+GT18+GR18 -> 0 | GW18: =GO18+GQ18+GU18+GS18 -> 0 | GY18: 14 | GZ18: 1 | HA18: =ROUND(GZ18*GY18/25*12*2*1.302,1) -> 17.5 | HC18: =ROUND(HB18*HA18/25*12*2*1.302,1) -> 0 | HE18: =ROUND(HD18*GY18/20*12*2*1.302,1) -> 0 | HH18: =GZ18+HB18+HF18+HD18 -> 1 | HI18: =HA18+HC18+HG18+HE18 -> 17.5 | HK18: 14 | HL18: 1 | HM18: =ROUND(HL18*HK18/25*12*2*1.302,1) -> 17.5 | HO18: =ROUND(HN18*HM18/25*12*2*1.302,1) -> 0 | HQ18: =ROUND(HP18*HK18/20*12*2*1.302,1) -> 0 | HT18: =HL18+HN18+HR18+HP18 -> 1 | HU18: =HM18+HO18+HS18+HQ18 -> 17.5
A19: 13 | B19: =P19+AB19+AN19+AZ19+BL19+BX19+CJ19+CV19+DH19+DT19+EF19+ER19+FD19+FP19+GB19+GN19+GZ19+HL19 -> 11 | C19: =Q19+AC19+AO19+BA19+BM19+BY19+CK19+CW19+DI19+DU19+EG19+ES19+FE19+FQ19+GC19+GO19+HA19+HM19 -> 178.5 | D19: =R19+AD19+AP19+BB19+BN19+BZ19+CL19+CX19+DJ19+DV19+EH19+ET19+FF19+FR19+GD19+GP19+HB19+HN19 -> 1 | E19: =S19+AE19+AQ19+BC19+BO19+CA19+CM19+CY19+DK19+DW19+EI19+EU19+FG19+FS19+GE19+GQ19+HC19+HO19 -> 16.2 | F19: =T19+AF19+AR19+BD19+BP19+CB19+CN19+CZ19+DL19+DX19+EJ19+EV19+FH19+FT19+GF19+GR19+HD19+HP19 -> 0 | G19: =U19+AG19+AS19+BE19+BQ19+CC19+CO19+DA19+DM19+DY19+EK19+EW19+FI19+FU19+GG19+GS19+HE19+HQ19 -> 0 | H19: =V19+AH19+AT19+BF19+BR19+CD19+CP19+DB19+DN19+DZ19+EL19+EX19+FJ19+FV19+GH19+GT19+HF19+HR19 -> 0 | I19: =W19+AI19+AU19+BG19+BS19+CE19+CQ19+DC19+DO19+EA19+EM19+EY19+FK19+FW19+GI19+GU19+HG19+HS19 -> 0 | ... K19: =Y19+AK19+AW19+BI19+BU19+CG19+CS19+DE19+DQ19+EC19+EO19+FA19+FM19+FY19+GK19+GW19+HI19+HU19 -> 194.7 | O19: 13 | P19: 0 | Q19: =ROUND(P19*O19/25*12*2*1.302,1) -> 0 | S19: =ROUND(R19*Q19/25*12*2*1.302,1) -> 0 | U19: =ROUND(T19*O19/20*12*2*1.302,1) -> 0 | X19: =P19+R19+V19+T19 -> 0 | Y19: =Q19+S19+W19+U19 -> 0 | AA19: 13 | AC19: =ROUND(AB19*AA19/25*12*2*1.302,1) -> 0 | AE19: =ROUND(AD19*AC19/25*12*2*1.302,1) -> 0 | AG19: =ROUND(AF19*AA19/20*12*2*1.302,1) -> 0 | AJ19: =AB19+AD19+AH19+AF19 -> 0 | AK19: =AC19+AE19+AI19+AG19 -> 0 | AM19: 13 | AO19: =ROUND(AN19*AM19/25*12*2*1.302,1) -> 0 | AP19: 1 | AQ19: =ROUND(AP19*AM19/25*12*2*1.302,1) -> 16.2 | AS19: =ROUND(AR19*AM19/20*12*2*1.302,1) -> 0 | AV19: =AN19+AP19+AT19+AR19 -> 1 | AW19: =AO19+AQ19+AU19+AS19 -> 16.2 | AY19: 13 | BA19: =ROUND(AZ19*AY19/25*12*2*1.302,1) -> 0 | BC19: =ROUND(BB19*AY19/25*12*2*1.302,1) -> 0 | BE19: =ROUND(BD19*AY19/20*12*2*1.302,1) -> 0 | BH19: =AZ19+BB19+BF19+BD19 -> 0 | BI19: =BA19+BC19+BG19+BE19 -> 0 | BK19: 13 | BL19: 1 | BM19: =ROUND(BL19*BK19/25*12*2*1.302,1) -> 16.2 | BO19: =ROUND(BN19*BM19/25*12*2*1.302,1) -> 0 | BQ19: =ROUND(BP19*BK19/20*12*2*1.302,1) -> 0 | BT19: =BL19+BN19+BR19+BP19 -> 1 | BU19: =BM19+BO19+BS19+BQ19 -> 16.2 | BW19: 13 | BX19: 1 | BY19: =ROUND(BX19*BW19/25*12*2*1.302,1) -> 16.2 | CA19: =ROUND(BZ19*BY19/25*12*2*1.302,1) -> 0 | CC19: =ROUND(CB19*BW19/20*12*2*1.302,1) -> 0 | CF19: =BX19+BZ19+CD19+CB19 -> 1 | CG19: =BY19+CA19+CE19+CC19 -> 16.2 | CI19: 13 | CK19: =ROUND(CJ19*CI19/25*12*2*1.302,1) -> 0 | CM19: =ROUND(CL19*CK19/25*12*2*1.302,1) -> 0 | CO19: =ROUND(CN19*CI19/20*12*2*1.302,1) -> 0 | CR19: =CJ19+CL19+CP19+CN19 -> 0 | CS19: =CK19+CM19+CQ19+CO19 -> 0 | CU19: 13 | CV19: 3 | CW19: =ROUND(CV19*CU19/25*12*2*1.302,1) -> 48.7 | CY19: =ROUND(CX19*CU19/25*12*2*1.302,1) -> 0 | DA19: =ROUND(CZ19*CU19/20*12*2*1.302,1) -> 0 | DC19: =ROUND(DB19*CU19/12*12*2*1.302,1) -> 0 | DD19: =CV19+CX19+DB19+CZ19 -> 3 | DE19: =CW19+CY19+DC19+DA19 -> 48.7 | DG19: 13 | DH19: 2 | DI19: =ROUND(DH19*DG19/25*12*2*1.302,1) -> 32.5 | DK19: =ROUND(DJ19*DG19/25*12*2*1.302,1) -> 0 | DM19: =ROUND(DL19*DG19/20*12*2*1.302,1) -> 0 | DO19: =ROUND(DN19*DG19/12*12*2*1.302,1) -> 0 | DP19: =DH19+DJ19+DL19+DN19 -> 2 | DQ19: =DI19+DK19+DM19+DO19 -> 32.5 | DS19: 13 | DU19: =ROUND(DT19*DS19/25*12*2*1.302,1) -> 0 | DW19: =ROUND(DV19*DS19/25*12*2*1.302,1) -> 0 | DY19: =ROUND(DX19*DS19/20*12*1.302,1) -> 0 | EB19: =DT19+DV19+DX19+DZ19 -> 0 | EC19: =DU19+DW19+DY19+EA19 -> 0 | EE19: 13 | EF19: 1 | EG19: =ROUND(EF19*EE19/25*12*2*1.302,1) -> 16.2 | EI19: =ROUND(EH19*EG19/25*12*2*1.302,1) -> 0 | EK19: =ROUND(EJ19*EE19/20*12*2*1.302,1) -> 0 | EM19: =ROUND(EL19*EE19/12*12*2*1.302,1) -> 0 | EN19: =EF19+EH19+EL19+EJ19 -> 1 | EO19: =EG19+EI19+EM19+EK19 -> 16.2 | EQ19: 13 | ES19: =ROUND(ER19*EQ19/25*12*2*1.302,1) -> 0 | EU19: =ROUND(ET19*EQ19/25*12*2*1.302,1) -> 0 | EW19: =ROUND(EV19*EQ19/20*12*2*1.302,1) -> 0 | EZ19: =ER19+ET19+EX19+EV19 -> 0 | FA19: =ES19+EU19+EY19+EW19 -> 0 | FC19: 13 | FE19: =ROUND(FD19*FC19/25*12*2*1.302,1) -> 0 | FG19: =ROUND(FF19*FE19/25*12*2*1.302,1) -> 0 | FI19: =ROUND(FH19*FC19/20*12*2*1.302,1) -> 0 | FL19: =FD19+FF19+FJ19+FH19 -> 0 | FM19: =FE19+FG19+FK19+FI19 -> 0 | FO19: 13 | FP19: 1 | FQ19: =ROUND(FP19*FO19/25*12*2*1.302,1) -> 16.2 | FS19: =ROUND(FR19*FQ19/25*12*2*1.302,1) -> 0 | FU19: =ROUND(FT19*FO19/20*12*2*1.302,1) -> 0 | FX19: =FP19+FR19+FV19+FT19 -> 1 | FY19: =FQ19+FS19+FW19+FU19 -> 16.2 | GA19: 13 | GB19: 0 | GC19: =ROUND(GB19*GA19/25*12*2*1.302,1) -> 0 | GD19: 0 | GE19: =ROUND(GD19*GC19/25*12*2*1.302,1) -> 0 | GF19: 0 | GG19: 0 | GI19: =ROUND(GH19*GA19/12*12*2*1.302,1) -> 0 | GJ19: =GB19+GD19+GH19+GF19 -> 0 | GK19: =GC19+GE19+GI19+GG19 -> 0 | GM19: 13 | GO19: =ROUND(GN19*GM19/25*12*2*1.302,1) -> 0 | GQ19: =ROUND(GP19*GO19/25*12*2*1.302,1) -> 0 | GS19: =ROUND(GR19*GM19/20*12*2*1.302,1) -> 0 | GV19: =GN19+GP19+GT19+GR19 -> 0 | GW19: =GO19+GQ19+GU19+GS19 -> 0 | GY19: 13 | GZ19: 2 | HA19: =ROUND(GZ19*GY19/25*12*2*1.302,1) -> 32.5 | HC19: =ROUND(HB19*HA19/25*12*2*1.302,1) -> 0 | HE19: =ROUND(HD19*GY19/20*12*2*1.302,1) -> 0 | HH19: =GZ19+HB19+HF19+HD19 -> 2 | HI19: =HA19+HC19+HG19+HE19 -> 32.5 | HK19: 13 | HL19: 0 | HM19: =ROUND(HL19*HK19/25*12*2*1.302,1) -> 0 | HO19: =ROUND(HN19*HM19/25*12*2*1.302,1) -> 0 | HQ19: =ROUND(HP19*HK19/20*12*2*1.302,1) -> 0 | HT19: =HL19+HN19+HR19+HP19 -> 0 | HU19: =HM19+HO19+HS19+HQ19 -> 0
A20: 12 | B20: =P20+AB20+AN20+AZ20+BL20+BX20+CJ20+CV20+DH20+DT20+EF20+ER20+FD20+FP20+GB20+GN20+GZ20+HL20 -> 13 | C20: =Q20+AC20+AO20+BA20+BM20+BY20+CK20+CW20+DI20+DU20+EG20+ES20+FE20+FQ20+GC20+GO20+HA20+HM20 -> 195 | D20: =R20+AD20+AP20+BB20+BN20+BZ20+CL20+CX20+DJ20+DV20+EH20+ET20+FF20+FR20+GD20+GP20+HB20+HN20 -> 0 | E20: =S20+AE20+AQ20+BC20+BO20+CA20+CM20+CY20+DK20+DW20+EI20+EU20+FG20+FS20+GE20+GQ20+HC20+HO20 -> 0 | F20: =T20+AF20+AR20+BD20+BP20+CB20+CN20+CZ20+DL20+DX20+EJ20+EV20+FH20+FT20+GF20+GR20+HD20+HP20 -> 0 | G20: =U20+AG20+AS20+BE20+BQ20+CC20+CO20+DA20+DM20+DY20+EK20+EW20+FI20+FU20+GG20+GS20+HE20+HQ20 -> 0 | H20: =V20+AH20+AT20+BF20+BR20+CD20+CP20+DB20+DN20+DZ20+EL20+EX20+FJ20+FV20+GH20+GT20+HF20+HR20 -> 121 | I20: =W20+AI20+AU20+BG20+BS20+CE20+CQ20+DC20+DO20+EA20+EM20+EY20+FK20+FW20+GI20+GU20+HG20+HS20 -> 3780.8 | ... K20: =Y20+AK20+AW20+BI20+BU20+CG20+CS20+DE20+DQ20+EC20+EO20+FA20+FM20+FY20+GK20+GW20+HI20+HU20 -> 3975.8 | O20: 12 | P20: 2 | Q20: =ROUND(P20*O20/25*12*2*1.302,1) -> 30 | S20: =ROUND(R20*Q20/25*12*2*1.302,1) -> 0 | U20: =ROUND(T20*O20/20*12*2*1.302,1) -> 0 | V20: 7 | W20: =ROUND(V20*O20/12*12*2*1.302,1) -> 218.7 | X20: =P20+R20+V20+T20 -> 9 | Y20: =Q20+S20+W20+U20 -> 248.7 | AA20: 12 | AC20: =ROUND(AB20*AA20/25*12*2*1.302,1) -> 0 | AE20: =ROUND(AD20*AC20/25*12*2*1.302,1) -> 0 | AG20: =ROUND(AF20*AA20/20*12*2*1.302,1) -> 0 | AH20: 3 | AI20: =ROUND(AH20*AA20/12*12*2*1.302,1) -> 93.7 | AJ20: =AB20+AD20+AH20+AF20 -> 3 | AK20: =AC20+AE20+AI20+AG20 -> 93.7 | AM20: 12 | AO20: =ROUND(AN20*AM20/25*12*2*1.302,1) -> 0 | AQ20: =ROUND(AP20*AM20/25*12*2*1.302,1) -> 0 | AS20: =ROUND(AR20*AM20/20*12*2*1.302,1) -> 0 | AU20: =ROUND(AT20*AM20/12*12*2*1.302,1) -> 0 | AV20: =AN20+AP20+AT20+AR20 -> 0 | AW20: =AO20+AQ20+AU20+AS20 -> 0 | AY20: 12 | BA20: =ROUND(AZ20*AY20/25*12*2*1.302,1) -> 0 | BC20: =ROUND(BB20*AY20/25*12*2*1.302,1) -> 0 | BE20: =ROUND(BD20*AY20/20*12*2*1.302,1) -> 0 | BG20: =ROUND(BF20*AY20/12*12*2*1.302,1) -> 0 | BH20: =AZ20+BB20+BF20+BD20 -> 0 | BI20: =BA20+BC20+BG20+BE20 -> 0 | BK20: 12 | BL20: 1 | BM20: =ROUND(BL20*BK20/25*12*2*1.302,1) -> 15 | BO20: =ROUND(BN20*BM20/25*12*2*1.302,1) -> 0 | BQ20: =ROUND(BP20*BK20/20*12*2*1.302,1) -> 0 | BR20: 7 | BS20: =ROUND(BR20*BK20/12*12*2*1.302,1) -> 218.7 | BT20: =BL20+BN20+BR20+BP20 -> 8 | BU20: =BM20+BO20+BS20+BQ20 -> 233.7 | BW20: 12 | BX20: 2 | BY20: =ROUND(BX20*BW20/25*12*2*1.302,1) -> 30 | CA20: =ROUND(BZ20*BY20/25*12*2*1.302,1) -> 0 | CC20: =ROUND(CB20*BW20/20*12*2*1.302,1) -> 0 | CD20: 22 | CE20: =ROUND(CD20*BW20/12*12*2*1.302,1) -> 687.5 | CF20: =BX20+BZ20+CD20+CB20 -> 24 | CG20: =BY20+CA20+CE20+CC20 -> 717.5 | CI20: 12 | CK20: =ROUND(CJ20*CI20/25*12*2*1.302,1) -> 0 | CM20: =ROUND(CL20*CK20/25*12*2*1.302,1) -> 0 | CO20: =ROUND(CN20*CI20/20*12*2*1.302,1) -> 0 | CP20: 10 | CQ20: =ROUND(CP20*CI20/12*12*2*1.302,1) -> 312.5 | CR20: =CJ20+CL20+CP20+CN20 -> 10 | CS20: =CK20+CM20+CQ20+CO20 -> 312.5 | CU20: 12 | CW20: =ROUND(CV20*CU20/25*12*2*1.302,1) -> 0 | CY20: =ROUND(CX20*CU20/25*12*2*1.302,1) -> 0 | DA20: =ROUND(CZ20*CU20/20*12*2*1.302,1) -> 0 | DB20: 12 | DC20: =ROUND(DB20*CU20/12*12*2*1.302,1) -> 375 | DD20: =CV20+CX20+DB20+CZ20 -> 12 | DE20: =CW20+CY20+DC20+DA20 -> 375 | DG20: 12 | DH20: 3 | DI20: =ROUND(DH20*DG20/25*12*2*1.302,1) -> 45 | DK20: =ROUND(DJ20*DG20/25*12*2*1.302,1) -> 0 | DM20: =ROUND(DL20*DG20/20*12*2*1.302,1) -> 0 | DO20: =ROUND(DN20*DG20/12*12*2*1.302,1) -> 0 | DP20: =DH20+DJ20+DL20+DN20 -> 3 | DQ20: =DI20+DK20+DM20+DO20 -> 45 | DS20: 12 | DT20: 1 | DU20: =ROUND(DT20*DS20/25*12*2*1.302,1) -> 15 | DW20: =ROUND(DV20*DS20/25*12*2*1.302,1) -> 0 | DY20: =ROUND(DX20*DS20/20*12*1.302,1) -> 0 | DZ20: 9 | EA20: =ROUND(DZ20*DS20/12*12*2*1.302,1) -> 281.2 | EB20: =DT20+DV20+DX20+DZ20 -> 10 | EC20: =DU20+DW20+DY20+EA20 -> 296.2 | EE20: 12 | EF20: 2 | EG20: =ROUND(EF20*EE20/25*12*2*1.302,1) -> 30 | EI20: =ROUND(EH20*EG20/25*12*2*1.302,1) -> 0 | EK20: =ROUND(EJ20*EE20/20*12*2*1.302,1) -> 0 | EL20: 2 | EM20: =ROUND(EL20*EE20/12*12*2*1.302,1) -> 62.5 | EN20: =EF20+EH20+EL20+EJ20 -> 4 | EO20: =EG20+EI20+EM20+EK20 -> 92.5 | EQ20: 12 | ES20: =ROUND(ER20*EQ20/25*12*2*1.302,1) -> 0 | EU20: =ROUND(ET20*EQ20/25*12*2*1.302,1) -> 0 | EW20: =ROUND(EV20*EQ20/20*12*2*1.302,1) -> 0 | EY20: =ROUND(EX20*EQ20/12*12*2*1.302,1) -> 0 | EZ20: =ER20+ET20+EX20+EV20 -> 0 | FA20: =ES20+EU20+EY20+EW20 -> 0 | FC20: 12 | FD20: 1 | FE20: =ROUND(FD20*FC20/25*12*2*1.302,1) -> 15 | FG20: =ROUND(FF20*FE20/25*12*2*1.302,1) -> 0 | FI20: =ROUND(FH20*FC20/20*12*2*1.302,1) -> 0 | FJ20: 1 | FK20: =ROUND(FJ20*FC20/12*12*2*1.302,1) -> 31.2 | FL20: =FD20+FF20+FJ20+FH20 -> 2 | FM20: =FE20+FG20+FK20+FI20 -> 46.2 | FO20: 12 | FQ20: =ROUND(FP20*FO20/25*12*2*1.302,1) -> 0 | FS20: =ROUND(FR20*FQ20/25*12*2*1.302,1) -> 0 | FU20: =ROUND(FT20*FO20/20*12*2*1.302,1) -> 0 | FV20: 13 | FW20: =ROUND(FV20*FO20/12*12*2*1.302,1) -> 406.2 | FX20: =FP20+FR20+FV20+FT20 -> 13 | FY20: =FQ20+FS20+FW20+FU20 -> 406.2 | GA20: 12 | GB20: 0 | GC20: =ROUND(GB20*GA20/25*12*2*1.302,1) -> 0 | GD20: 0 | GE20: =ROUND(GD20*GC20/25*12*2*1.302,1) -> 0 | GF20: 0 | GG20: 0 | GH20: 13 | GI20: =ROUND(GH20*GA20/12*12*2*1.302,1) -> 406.2 | GJ20: =GB20+GD20+GH20+GF20 -> 13 | GK20: =GC20+GE20+GI20+GG20 -> 406.2 | GM20: 12 | GO20: =ROUND(GN20*GM20/25*12*2*1.302,1) -> 0 | GQ20: =ROUND(GP20*GO20/25*12*2*1.302,1) -> 0 | GS20: =ROUND(GR20*GM20/20*12*2*1.302,1) -> 0 | GT20: 11 | GU20: =ROUND(GT20*GM20/12*12*2*1.302,1) -> 343.7 | GV20: =GN20+GP20+GT20+GR20 -> 11 | GW20: =GO20+GQ20+GU20+GS20 -> 343.7 | GY20: 12 | GZ20: 1 | HA20: =ROUND(GZ20*GY20/25*12*2*1.302,1) -> 15 | HC20: =ROUND(HB20*HA20/25*12*2*1.302,1) -> 0 | HE20: =ROUND(HD20*GY20/20*12*2*1.302,1) -> 0 | HG20: =ROUND(HF20*GY20/12*12*2*1.302,1) -> 0 | HH20: =GZ20+HB20+HF20+HD20 -> 1 | HI20: =HA20+HC20+HG20+HE20 -> 15 | HK20: 12 | HL20: 0 | HM20: =ROUND(HL20*HK20/25*12*2*1.302,1) -> 0 | HO20: =ROUND(HN20*HM20/25*12*2*1.302,1) -> 0 | HQ20: =ROUND(HP20*HK20/20*12*2*1.302,1) -> 0 | HR20: 11 | HS20: =ROUND(HR20*HK20/12*12*2*1.302,1) -> 343.7 | HT20: =HL20+HN20+HR20+HP20 -> 11 | HU20: =HM20+HO20+HS20+HQ20 -> 343.7
A21: 11 | B21: =P21+AB21+AN21+AZ21+BL21+BX21+CJ21+CV21+DH21+DT21+EF21+ER21+FD21+FP21+GB21+GN21+GZ21+HL21 -> 12 | C21: =Q21+AC21+AO21+BA21+BM21+BY21+CK21+CW21+DI21+DU21+EG21+ES21+FE21+FQ21+GC21+GO21+HA21+HM21 -> 164.7 | D21: =R21+AD21+AP21+BB21+BN21+BZ21+CL21+CX21+DJ21+DV21+EH21+ET21+FF21+FR21+GD21+GP21+HB21+HN21 -> 0 | E21: =S21+AE21+AQ21+BC21+BO21+CA21+CM21+CY21+DK21+DW21+EI21+EU21+FG21+FS21+GE21+GQ21+HC21+HO21 -> 0 | F21: =T21+AF21+AR21+BD21+BP21+CB21+CN21+CZ21+DL21+DX21+EJ21+EV21+FH21+FT21+GF21+GR21+HD21+HP21 -> 0 | G21: =U21+AG21+AS21+BE21+BQ21+CC21+CO21+DA21+DM21+DY21+EK21+EW21+FI21+FU21+GG21+GS21+HE21+HQ21 -> 0 | H21: =V21+AH21+AT21+BF21+BR21+CD21+CP21+DB21+DN21+DZ21+EL21+EX21+FJ21+FV21+GH21+GT21+HF21+HR21 -> 6 | I21: =W21+AI21+AU21+BG21+BS21+CE21+CQ21+DC21+DO21+EA21+EM21+EY21+FK21+FW21+GI21+GU21+HG21+HS21 -> 171.7 | ... K21: =Y21+AK21+AW21+BI21+BU21+CG21+CS21+DE21+DQ21+EC21+EO21+FA21+FM21+FY21+GK21+GW21+HI21+HU21 -> 336.4 | O21: 11 | P21: 0 | Q21: =ROUND(P21*O21/25*12*2*1.302,1) -> 0 | S21: =ROUND(R21*Q21/25*12*2*1.302,1) -> 0 | U21: =ROUND(T21*O21/20*12*2*1.302,1) -> 0 | V21: 1 | W21: =ROUND(V21*O21/12*12*2*1.302,1) -> 28.6 | X21: =P21+R21+V21+T21 -> 1 | Y21: =Q21+S21+W21+U21 -> 28.6 | AA21: 11 | AC21: =ROUND(AB21*AA21/25*12*2*1.302,1) -> 0 | AE21: =ROUND(AD21*AC21/25*12*2*1.302,1) -> 0 | AG21: =ROUND(AF21*AA21/20*12*2*1.302,1) -> 0 | AI21: =ROUND(AH21*AA21/12*12*2*1.302,1) -> 0 | AJ21: =AB21+AD21+AH21+AF21 -> 0 | AK21: =AC21+AE21+AI21+AG21 -> 0 | AM21: 11 | AO21: =ROUND(AN21*AM21/25*12*2*1.302,1) -> 0 | AQ21: =ROUND(AP21*AM21/25*12*2*1.302,1) -> 0 | AS21: =ROUND(AR21*AM21/20*12*2*1.302,1) -> 0 | AU21: =ROUND(AT21*AM21/12*12*2*1.302,1) -> 0 | AV21: =AN21+AP21+AT21+AR21 -> 0 | AW21: =AO21+AQ21+AU21+AS21 -> 0 | AY21: 11 | BA21: =ROUND(AZ21*AY21/25*12*2*1.302,1) -> 0 | BC21: =ROUND(BB21*AY21/25*12*2*1.302,1) -> 0 | BE21: =ROUND(BD21*AY21/20*12*2*1.302,1) -> 0 | BG21: =ROUND(BF21*AY21/12*12*2*1.302,1) -> 0 | BH21: =AZ21+BB21+BF21+BD21 -> 0 | BI21: =BA21+BC21+BG21+BE21 -> 0 | BK21: 11 | BL21: 1 | BM21: =ROUND(BL21*BK21/25*12*2*1.302,1) -> 13.7 | BO21: =ROUND(BN21*BM21/25*12*2*1.302,1) -> 0 | BQ21: =ROUND(BP21*BK21/20*12*2*1.302,1) -> 0 | BR21: 2 | BS21: =ROUND(BR21*BK21/12*12*2*1.302,1) -> 57.3 | BT21: =BL21+BN21+BR21+BP21 -> 3 | BU21: =BM21+BO21+BS21+BQ21 -> 71 | BW21: 11 | BX21: 3 | BY21: =ROUND(BX21*BW21/25*12*2*1.302,1) -> 41.2 | CA21: =ROUND(BZ21*BY21/25*12*2*1.302,1) -> 0 | CC21: =ROUND(CB21*BW21/20*12*2*1.302,1) -> 0 | CD21: 1 | CE21: =ROUND(CD21*BW21/12*12*2*1.302,1) -> 28.6 | CF21: =BX21+BZ21+CD21+CB21 -> 4 | CG21: =BY21+CA21+CE21+CC21 -> 69.8 | CI21: 11 | CK21: =ROUND(CJ21*CI21/25*12*2*1.302,1) -> 0 | CM21: =ROUND(CL21*CK21/25*12*2*1.302,1) -> 0 | CO21: =ROUND(CN21*CI21/20*12*2*1.302,1) -> 0 | CP21: 1 | CQ21: =ROUND(CP21*CI21/12*12*2*1.302,1) -> 28.6 | CR21: =CJ21+CL21+CP21+CN21 -> 1 | CS21: =CK21+CM21+CQ21+CO21 -> 28.6 | CU21: 11 | CW21: =ROUND(CV21*CU21/25*12*2*1.302,1) -> 0 | CY21: =ROUND(CX21*CU21/25*12*2*1.302,1) -> 0 | DA21: =ROUND(CZ21*CU21/20*12*2*1.302,1) -> 0 | DC21: =ROUND(DB21*CU21/12*12*2*1.302,1) -> 0 | DD21: =CV21+CX21+DB21+CZ21 -> 0 | DE21: =CW21+CY21+DC21+DA21 -> 0 | DG21: 11 | DH21: 1 | DI21: =ROUND(DH21*DG21/25*12*2*1.302,1) -> 13.7 | DK21: =ROUND(DJ21*DG21/25*12*2*1.302,1) -> 0 | DM21: =ROUND(DL21*DG21/20*12*2*1.302,1) -> 0 | DO21: =ROUND(DN21*DG21/12*12*2*1.302,1) -> 0 | DP21: =DH21+DJ21+DL21+DN21 -> 1 | DQ21: =DI21+DK21+DM21+DO21 -> 13.7 | DS21: 11 | DU21: =ROUND(DT21*DS21/25*12*2*1.302,1) -> 0 | DW21: =ROUND(DV21*DS21/25*12*2*1.302,1) -> 0 | DY21: =ROUND(DX21*DS21/20*12*1.302,1) -> 0 | EA21: =ROUND(DZ21*DS21/12*12*1.302,1) -> 0 | EB21: =DT21+DV21+DX21+DZ21 -> 0 | EC21: =DU21+DW21+DY21+EA21 -> 0 | EE21: 11 | EF21: 1 | EG21: =ROUND(EF21*EE21/25*12*2*1.302,1) -> 13.7 | EI21: =ROUND(EH21*EG21/25*12*2*1.302,1) -> 0 | EK21: =ROUND(EJ21*EE21/20*12*2*1.302,1) -> 0 | EM21: =ROUND(EL21*EE21/12*12*2*1.302,1) -> 0 | EN21: =EF21+EH21+EL21+EJ21 -> 1 | EO21: =EG21+EI21+EM21+EK21 -> 13.7 | EQ21: 11 | ES21: =ROUND(ER21*EQ21/25*12*2*1.302,1) -> 0 | EU21: =ROUND(ET21*EQ21/25*12*2*1.302,1) -> 0 | EW21: =ROUND(EV21*EQ21/20*12*2*1.302,1) -> 0 | EY21: =ROUND(EX21*EQ21/12*12*2*1.302,1) -> 0 | EZ21: =ER21+ET21+EX21+EV21 -> 0 | FA21: =ES21+EU21+EY21+EW21 -> 0 | FC21: 11 | FD21: 1 | FE21: =ROUND(FD21*FC21/25*12*2*1.302,1) -> 13.7 | FG21: =ROUND(FF21*FE21/25*12*2*1.302,1) -> 0 | FI21: =ROUND(FH21*FC21/20*12*2*1.302,1) -> 0 | FK21: =ROUND(FJ21*FC21/12*12*2*1.302,1) -> 0 | FL21: =FD21+FF21+FJ21+FH21 -> 1 | FM21: =FE21+FG21+FK21+FI21 -> 13.7 | FO21: 11 | FP21: 2 | FQ21: =ROUND(FP21*FO21/25*12*2*1.302,1) -> 27.5 | FS21: =ROUND(FR21*FQ21/25*12*2*1.302,1) -> 0 | FU21: =ROUND(FT21*FO21/20*12*2*1.302,1) -> 0 | FW21: =ROUND(FV21*FO21/12*12*2*1.302,1) -> 0 | FX21: =FP21+FR21+FV21+FT21 -> 2 | FY21: =FQ21+FS21+FW21+FU21 -> 27.5 | GA21: 11 | GB21: 0 | GC21: =ROUND(GB21*GA21/25*12*2*1.302,1) -> 0 | GD21: 0 | GE21: =ROUND(GD21*GC21/25*12*2*1.302,1) -> 0 | GF21: 0 | GG21: 0 | GH21: 1 | GI21: =ROUND(GH21*GA21/12*12*2*1.302,1) -> 28.6 | GJ21: =GB21+GD21+GH21+GF21 -> 1 | GK21: =GC21+GE21+GI21+GG21 -> 28.6 | GM21: 11 | GO21: =ROUND(GN21*GM21/25*12*2*1.302,1) -> 0 | GQ21: =ROUND(GP21*GO21/25*12*2*1.302,1) -> 0 | GS21: =ROUND(GR21*GM21/20*12*2*1.302,1) -> 0 | GU21: =ROUND(GT21*GM21/12*12*2*1.302,1) -> 0 | GV21: =GN21+GP21+GT21+GR21 -> 0 | GW21: =GO21+GQ21+GU21+GS21 -> 0 | GY21: 11 | GZ21: 3 | HA21: =ROUND(GZ21*GY21/25*12*2*1.302,1) -> 41.2 | HC21: =ROUND(HB21*HA21/25*12*2*1.302,1) -> 0 | HE21: =ROUND(HD21*GY21/20*12*2*1.302,1) -> 0 | HG21: =ROUND(HF21*GY21/12*12*2*1.302,1) -> 0 | HH21: =GZ21+HB21+HF21+HD21 -> 3 | HI21: =HA21+HC21+HG21+HE21 -> 41.2 | HK21: 11 | HL21: 0 | HM21: =ROUND(HL21*HK21/25*12*2*1.302,1) -> 0 | HO21: =ROUND(HN21*HM21/25*12*2*1.302,1) -> 0 | HQ21: =ROUND(HP21*HK21/20*12*2*1.302,1) -> 0 | HR21: 0 | HS21: =ROUND(HR21*HK21/12*12*2*1.302,1) -> 0 | HT21: =HL21+HN21+HR21+HP21 -> 0 | HU21: =HM21+HO21+HS21+HQ21 -> 0
A22: 10 | B22: =P22+AB22+AN22+AZ22+BL22+BX22+CJ22+CV22+DH22+DT22+EF22+ER22+FD22+FP22+GB22+GN22+GZ22+HL22 -> 15 | C22: =Q22+AC22+AO22+BA22+BM22+BY22+CK22+CW22+DI22+DU22+EG22+ES22+FE22+FQ22+GC22+GO22+HA22+HM22 -> 187.5 | D22: =R22+AD22+AP22+BB22+BN22+BZ22+CL22+CX22+DJ22+DV22+EH22+ET22+FF22+FR22+GD22+GP22+HB22+HN22 -> 0 | E22: =S22+AE22+AQ22+BC22+BO22+CA22+CM22+CY22+DK22+DW22+EI22+EU22+FG22+FS22+GE22+GQ22+HC22+HO22 -> 0 | F22: =T22+AF22+AR22+BD22+BP22+CB22+CN22+CZ22+DL22+DX22+EJ22+EV22+FH22+FT22+GF22+GR22+HD22+HP22 -> 0 | G22: =U22+AG22+AS22+BE22+BQ22+CC22+CO22+DA22+DM22+DY22+EK22+EW22+FI22+FU22+GG22+GS22+HE22+HQ22 -> 0 | H22: =V22+AH22+AT22+BF22+BR22+CD22+CP22+DB22+DN22+DZ22+EL22+EX22+FJ22+FV22+GH22+GT22+HF22+HR22 -> 12 | I22: =W22+AI22+AU22+BG22+BS22+CE22+CQ22+DC22+DO22+EA22+EM22+EY22+FK22+FW22+GI22+GU22+HG22+HS22 -> 312.4 | ... K22: =Y22+AK22+AW22+BI22+BU22+CG22+CS22+DE22+DQ22+EC22+EO22+FA22+FM22+FY22+GK22+GW22+HI22+HU22 -> 499.9 | O22: 10 | P22: 2 | Q22: =ROUND(P22*O22/25*12*2*1.302,1) -> 25 | S22: =ROUND(R22*Q22/25*12*2*1.302,1) -> 0 | U22: =ROUND(T22*O22/20*12*2*1.302,1) -> 0 | V22: 0 | W22: =ROUND(V22*O22/12*12*2*1.302,1) -> 0 | X22: =P22+R22+V22+T22 -> 2 | Y22: =Q22+S22+W22+U22 -> 25 | AA22: 10 | AC22: =ROUND(AB22*AA22/25*12*2*1.302,1) -> 0 | AE22: =ROUND(AD22*AC22/25*12*2*1.302,1) -> 0 | AG22: =ROUND(AF22*AA22/20*12*2*1.302,1) -> 0 | AH22: 1 | AI22: =ROUND(AH22*AA22/12*12*2*1.302,1) -> 26 | AJ22: =AB22+AD22+AH22+AF22 -> 1 | AK22: =AC22+AE22+AI22+AG22 -> 26 | AM22: 10 | AO22: =ROUND(AN22*AM22/25*12*2*1.302,1) -> 0 | AQ22: =ROUND(AP22*AM22/25*12*2*1.302,1) -> 0 | AS22: =ROUND(AR22*AM22/20*12*2*1.302,1) -> 0 | AU22: =ROUND(AT22*AM22/12*12*2*1.302,1) -> 0 | AV22: =AN22+AP22+AT22+AR22 -> 0 | AW22: =AO22+AQ22+AU22+AS22 -> 0 | AY22: 10 | BA22: =ROUND(AZ22*AY22/25*12*2*1.302,1) -> 0 | BC22: =ROUND(BB22*AY22/25*12*2*1.302,1) -> 0 | BE22: =ROUND(BD22*AY22/20*12*2*1.302,1) -> 0 | BG22: =ROUND(BF22*AY22/12*12*2*1.302,1) -> 0 | BH22: =AZ22+BB22+BF22+BD22 -> 0 | BI22: =BA22+BC22+BG22+BE22 -> 0 | BK22: 10 | BM22: =ROUND(BL22*BK22/25*12*2*1.302,1) -> 0 | BO22: =ROUND(BN22*BM22/25*12*2*1.302,1) -> 0 | BQ22: =ROUND(BP22*BK22/20*12*2*1.302,1) -> 0 | BR22: 2 | BS22: =ROUND(BR22*BK22/12*12*2*1.302,1) -> 52.1 | BT22: =BL22+BN22+BR22+BP22 -> 2 | BU22: =BM22+BO22+BS22+BQ22 -> 52.1 | BW22: 10 | BX22: 3 | BY22: =ROUND(BX22*BW22/25*12*2*1.302,1) -> 37.5 | CA22: =ROUND(BZ22*BY22/25*12*2*1.302,1) -> 0 | CC22: =ROUND(CB22*BW22/20*12*2*1.302,1) -> 0 | CD22: 3 | CE22: =ROUND(CD22*BW22/12*12*2*1.302,1) -> 78.1 | CF22: =BX22+BZ22+CD22+CB22 -> 6 | CG22: =BY22+CA22+CE22+CC22 -> 115.6 | CI22: 10 | CK22: =ROUND(CJ22*CI22/25*12*2*1.302,1) -> 0 | CM22: =ROUND(CL22*CK22/25*12*2*1.302,1) -> 0 | CO22: =ROUND(CN22*CI22/20*12*2*1.302,1) -> 0 | CP22: 2 | CQ22: =ROUND(CP22*CI22/12*12*2*1.302,1) -> 52.1 | CR22: =CJ22+CL22+CP22+CN22 -> 2 | CS22: =CK22+CM22+CQ22+CO22 -> 52.1 | CU22: 10 | CV22: 1 | CW22: =ROUND(CV22*CU22/25*12*2*1.302,1) -> 12.5 | CY22: =ROUND(CX22*CU22/25*12*2*1.302,1) -> 0 | DA22: =ROUND(CZ22*CU22/20*12*2*1.302,1) -> 0 | DC22: =ROUND(DB22*CU22/12*12*2*1.302,1) -> 0 | DD22: =CV22+CX22+DB22+CZ22 -> 1 | DE22: =CW22+CY22+DC22+DA22 -> 12.5 | DG22: 10 | DH22: 0 | DI22: =ROUND(DH22*DG22/25*12*2*1.302,1) -> 0 | DK22: =ROUND(DJ22*DG22/25*12*2*1.302,1) -> 0 | DM22: =ROUND(DL22*DG22/20*12*2*1.302,1) -> 0 | DO22: =ROUND(DN22*DG22/12*12*2*1.302,1) -> 0 | DP22: =DH22+DJ22+DL22+DN22 -> 0 | DQ22: =DI22+DK22+DM22+DO22 -> 0 | DS22: 10 | DT22: 1 | DU22: =ROUND(DT22*DS22/25*12*2*1.302,1) -> 12.5 | DW22: =ROUND(DV22*DS22/25*12*2*1.302,1) -> 0 | DY22: =ROUND(DX22*DS22/20*12*1.302,1) -> 0 | EA22: =ROUND(DZ22*DS22/12*12*1.302,1) -> 0 | EB22: =DT22+DV22+DX22+DZ22 -> 1 | EC22: =DU22+DW22+DY22+EA22 -> 12.5 | EE22: 10 | EF22: 3 | EG22: =ROUND(EF22*EE22/25*12*2*1.302,1) -> 37.5 | EI22: =ROUND(EH22*EG22/25*12*2*1.302,1) -> 0 | EK22: =ROUND(EJ22*EE22/20*12*2*1.302,1) -> 0 | EM22: =ROUND(EL22*EE22/12*12*2*1.302,1) -> 0 | EN22: =EF22+EH22+EL22+EJ22 -> 3 | EO22: =EG22+EI22+EM22+EK22 -> 37.5 | EQ22: 10 | ES22: =ROUND(ER22*EQ22/25*12*2*1.302,1) -> 0 | EU22: =ROUND(ET22*EQ22/25*12*2*1.302,1) -> 0 | EW22: =ROUND(EV22*EQ22/20*12*2*1.302,1) -> 0 | EX22: 1 | EY22: =ROUND(EX22*EQ22/12*12*2*1.302,1) -> 26 | EZ22: =ER22+ET22+EX22+EV22 -> 1 | FA22: =ES22+EU22+EY22+EW22 -> 26 | FC22: 10 | FE22: =ROUND(FD22*FC22/25*12*2*1.302,1) -> 0 | FG22: =ROUND(FF22*FE22/25*12*2*1.302,1) -> 0 | FI22: =ROUND(FH22*FC22/20*12*2*1.302,1) -> 0 | FK22: =ROUND(FJ22*FC22/12*12*2*1.302,1) -> 0 | FL22: =FD22+FF22+FJ22+FH22 -> 0 | FM22: =FE22+FG22+FK22+FI22 -> 0 | FO22: 10 | FP22: 1 | FQ22: =ROUND(FP22*FO22/25*12*2*1.302,1) -> 12.5 | FS22: =ROUND(FR22*FQ22/25*12*2*1.302,1) -> 0 | FU22: =ROUND(FT22*FO22/20*12*2*1.302,1) -> 0 | FV22: 1 | FW22: =ROUND(FV22*FO22/12*12*2*1.302,1) -> 26 | FX22: =FP22+FR22+FV22+FT22 -> 2 | FY22: =FQ22+FS22+FW22+FU22 -> 38.5 | GA22: 10 | GB22: 0 | GC22: =ROUND(GB22*GA22/25*12*2*1.302,1) -> 0 | GD22: 0 | GE22: =ROUND(GD22*GC22/25*12*2*1.302,1) -> 0 | GF22: 0 | GG22: 0 | GH22: 0 | GI22: =ROUND(GH22*GA22/12*12*2*1.302,1) -> 0 | GJ22: =GB22+GD22+GH22+GF22 -> 0 | GK22: =GC22+GE22+GI22+GG22 -> 0 | GM22: 10 | GN22: 1 | GO22: =ROUND(GN22*GM22/25*12*2*1.302,1) -> 12.5 | GQ22: =ROUND(GP22*GO22/25*12*2*1.302,1) -> 0 | GS22: =ROUND(GR22*GM22/20*12*2*1.302,1) -> 0 | GU22: =ROUND(GT22*GM22/12*12*2*1.302,1) -> 0 | GV22: =GN22+GP22+GT22+GR22 -> 1 | GW22: =GO22+GQ22+GU22+GS22 -> 12.5 | GY22: 10 | GZ22: 2 | HA22: =ROUND(GZ22*GY22/25*12*2*1.302,1) -> 25 | HC22: =ROUND(HB22*HA22/25*12*2*1.302,1) -> 0 | HE22: =ROUND(HD22*GY22/20*12*2*1.302,1) -> 0 | HG22: =ROUND(HF22*GY22/12*12*2*1.302,1) -> 0 | HH22: =GZ22+HB22+HF22+HD22 -> 2 | HI22: =HA22+HC22+HG22+HE22 -> 25 | HK22: 10 | HL22: 1 | HM22: =ROUND(HL22*HK22/25*12*2*1.302,1) -> 12.5 | HO22: =ROUND(HN22*HM22/25*12*2*1.302,1) -> 0 | HQ22: =ROUND(HP22*HK22/20*12*2*1.302,1) -> 0 | HR22: 2 | HS22: =ROUND(HR22*HK22/12*12*2*1.302,1) -> 52.1 | HT22: =HL22+HN22+HR22+HP22 -> 3 | HU22: =HM22+HO22+HS22+HQ22 -> 64.6
A23: 9 | B23: =P23+AB23+AN23+AZ23+BL23+BX23+CJ23+CV23+DH23+DT23+EF23+ER23+FD23+FP23+GB23+GN23+GZ23+HL23 -> 6 | C23: =Q23+AC23+AO23+BA23+BM23+BY23+CK23+CW23+DI23+DU23+EG23+ES23+FE23+FQ23+GC23+GO23+HA23+HM23 -> 67.4 | D23: =R23+AD23+AP23+BB23+BN23+BZ23+CL23+CX23+DJ23+DV23+EH23+ET23+FF23+FR23+GD23+GP23+HB23+HN23 -> 1 | E23: =S23+AE23+AQ23+BC23+BO23+CA23+CM23+CY23+DK23+DW23+EI23+EU23+FG23+FS23+GE23+GQ23+HC23+HO23 -> 11.2 | F23: =T23+AF23+AR23+BD23+BP23+CB23+CN23+CZ23+DL23+DX23+EJ23+EV23+FH23+FT23+GF23+GR23+HD23+HP23 -> 0 | G23: =U23+AG23+AS23+BE23+BQ23+CC23+CO23+DA23+DM23+DY23+EK23+EW23+FI23+FU23+GG23+GS23+HE23+HQ23 -> 0 | H23: =V23+AH23+AT23+BF23+BR23+CD23+CP23+DB23+DN23+DZ23+EL23+EX23+FJ23+FV23+GH23+GT23+HF23+HR23 -> 2 | I23: =W23+AI23+AU23+BG23+BS23+CE23+CQ23+DC23+DO23+EA23+EM23+EY23+FK23+FW23+GI23+GU23+HG23+HS23 -> 46.8 | ... K23: =Y23+AK23+AW23+BI23+BU23+CG23+CS23+DE23+DQ23+EC23+EO23+FA23+FM23+FY23+GK23+GW23+HI23+HU23 -> 125.4 | O23: 9 | P23: 0 | Q23: =ROUND(P23*O23/25*12*2*1.302,1) -> 0 | S23: =ROUND(R23*Q23/25*12*2*1.302,1) -> 0 | U23: =ROUND(T23*O23/20*12*2*1.302,1) -> 0 | V23: 1 | W23: =ROUND(V23*O23/12*12*2*1.302,1) -> 23.4 | X23: =P23+R23+V23+T23 -> 1 | Y23: =Q23+S23+W23+U23 -> 23.4 | AA23: 9 | AC23: =ROUND(AB23*AA23/25*12*2*1.302,1) -> 0 | AE23: =ROUND(AD23*AC23/25*12*2*1.302,1) -> 0 | AG23: =ROUND(AF23*AA23/20*12*2*1.302,1) -> 0 | AI23: =ROUND(AH23*AA23/12*12*2*1.302,1) -> 0 | AJ23: =AB23+AD23+AH23+AF23 -> 0 | AK23: =AC23+AE23+AI23+AG23 -> 0 | AM23: 9 | AO23: =ROUND(AN23*AM23/25*12*2*1.302,1) -> 0 | AP23: 1 | AQ23: =ROUND(AP23*AM23/25*12*2*1.302,1) -> 11.2 | AS23: =ROUND(AR23*AM23/20*12*2*1.302,1) -> 0 | AU23: =ROUND(AT23*AM23/12*12*2*1.302,1) -> 0 | AV23: =AN23+AP23+AT23+AR23 -> 1 | AW23: =AO23+AQ23+AU23+AS23 -> 11.2 | AY23: 9 | BA23: =ROUND(AZ23*AY23/25*12*2*1.302,1) -> 0 | BC23: =ROUND(BB23*AY23/25*12*2*1.302,1) -> 0 | BE23: =ROUND(BD23*AY23/20*12*2*1.302,1) -> 0 | BG23: =ROUND(BF23*AY23/12*12*2*1.302,1) -> 0 | BH23: =AZ23+BB23+BF23+BD23 -> 0 | BI23: =BA23+BC23+BG23+BE23 -> 0 | BK23: 9 | BM23: =ROUND(BL23*BK23/25*12*2*1.302,1) -> 0 | BO23: =ROUND(BN23*BM23/25*12*2*1.302,1) -> 0 | BQ23: =ROUND(BP23*BK23/20*12*2*1.302,1) -> 0 | BS23: =ROUND(BR23*BK23/12*12*2*1.302,1) -> 0 | BT23: =BL23+BN23+BR23+BP23 -> 0 | BU23: =BM23+BO23+BS23+BQ23 -> 0 | BW23: 9 | BX23: 2 | BY23: =ROUND(BX23*BW23/25*12*2*1.302,1) -> 22.5 | CA23: =ROUND(BZ23*BY23/25*12*2*1.302,1) -> 0 | CC23: =ROUND(CB23*BW23/20*12*2*1.302,1) -> 0 | CD23: 1 | CE23: =ROUND(CD23*BW23/12*12*2*1.302,1) -> 23.4 | CF23: =BX23+BZ23+CD23+CB23 -> 3 | CG23: =BY23+CA23+CE23+CC23 -> 45.9 | CI23: 9 | CK23: =ROUND(CJ23*CI23/25*12*2*1.302,1) -> 0 | CM23: =ROUND(CL23*CK23/25*12*2*1.302,1) -> 0 | CO23: =ROUND(CN23*CI23/20*12*2*1.302,1) -> 0 | CQ23: =ROUND(CP23*CI23/12*12*2*1.302,1) -> 0 | CR23: =CJ23+CL23+CP23+CN23 -> 0 | CS23: =CK23+CM23+CQ23+CO23 -> 0 | CU23: 9 | CW23: =ROUND(CV23*CU23/25*12*2*1.302,1) -> 0 | CY23: =ROUND(CX23*CU23/25*12*2*1.302,1) -> 0 | DA23: =ROUND(CZ23*CU23/20*12*2*1.302,1) -> 0 | DC23: =ROUND(DB23*CU23/12*12*2*1.302,1) -> 0 | DD23: =CV23+CX23+DB23+CZ23 -> 0 | DE23: =CW23+CY23+DC23+DA23 -> 0 | DG23: 9 | DH23: 0 | DI23: =ROUND(DH23*DG23/25*12*2*1.302,1) -> 0 | DK23: =ROUND(DJ23*DG23/25*12*2*1.302,1) -> 0 | DM23: =ROUND(DL23*DG23/20*12*2*1.302,1) -> 0 | DO23: =ROUND(DN23*DG23/12*12*2*1.302,1) -> 0 | DP23: =DH23+DJ23+DL23+DN23 -> 0 | DQ23: =DI23+DK23+DM23+DO23 -> 0 | DS23: 9 | DU23: =ROUND(DT23*DS23/25*12*2*1.302,1) -> 0 | DW23: =ROUND(DV23*DS23/25*12*2*1.302,1) -> 0 | DY23: =ROUND(DX23*DS23/20*12*1.302,1) -> 0 | EA23: =ROUND(DZ23*DS23/12*12*1.302,1) -> 0 | EB23: =DT23+DV23+DX23+DZ23 -> 0 | EC23: =DU23+DW23+DY23+EA23 -> 0 | EE23: 9 | EG23: =ROUND(EF23*EE23/25*12*2*1.302,1) -> 0 | EI23: =ROUND(EH23*EG23/25*12*2*1.302,1) -> 0 | EK23: =ROUND(EJ23*EE23/20*12*2*1.302,1) -> 0 | EM23: =ROUND(EL23*EE23/12*12*2*1.302,1) -> 0 | EN23: =EF23+EH23+EL23+EJ23 -> 0 | EO23: =EG23+EI23+EM23+EK23 -> 0 | EQ23: 9 | ER23: 1 | ES23: =ROUND(ER23*EQ23/25*12*2*1.302,1) -> 11.2 | EU23: =ROUND(ET23*EQ23/25*12*2*1.302,1) -> 0 | EW23: =ROUND(EV23*EQ23/20*12*2*1.302,1) -> 0 | EY23: =ROUND(EX23*EQ23/12*12*2*1.302,1) -> 0 | EZ23: =ER23+ET23+EX23+EV23 -> 1 | FA23: =ES23+EU23+EY23+EW23 -> 11.2 | FC23: 9 | FE23: =ROUND(FD23*FC23/25*12*2*1.302,1) -> 0 | FG23: =ROUND(FF23*FE23/25*12*2*1.302,1) -> 0 | FI23: =ROUND(FH23*FC23/20*12*2*1.302,1) -> 0 | FK23: =ROUND(FJ23*FC23/12*12*2*1.302,1) -> 0 | FL23: =FD23+FF23+FJ23+FH23 -> 0 | FM23: =FE23+FG23+FK23+FI23 -> 0 | FO23: 9 | FP23: 1 | FQ23: =ROUND(FP23*FO23/25*12*2*1.302,1) -> 11.2 | FS23: =ROUND(FR23*FQ23/25*12*2*1.302,1) -> 0 | FU23: =ROUND(FT23*FO23/20*12*2*1.302,1) -> 0 | FW23: =ROUND(FV23*FO23/12*12*2*1.302,1) -> 0 | FX23: =FP23+FR23+FV23+FT23 -> 1 | FY23: =FQ23+FS23+FW23+FU23 -> 11.2 | GA23: 9 | GB23: 0 | GC23: =ROUND(GB23*GA23/25*12*2*1.302,1) -> 0 | GD23: 0 | GE23: =ROUND(GD23*GC23/25*12*2*1.302,1) -> 0 | GF23: 0 | GG23: 0 | GH23: 0 | GI23: =ROUND(GH23*GA23/12*12*2*1.302,1) -> 0 | GJ23: =GB23+GD23+GH23+GF23 -> 0 | GK23: =GC23+GE23+GI23+GG23 -> 0 | GM23: 9 | GO23: =ROUND(GN23*GM23/25*12*2*1.302,1) -> 0 | GQ23: =ROUND(GP23*GO23/25*12*2*1.302,1) -> 0 | GS23: =ROUND(GR23*GM23/20*12*2*1.302,1) -> 0 | GU23: =ROUND(GT23*GM23/12*12*2*1.302,1) -> 0 | GV23: =GN23+GP23+GT23+GR23 -> 0 | GW23: =GO23+GQ23+GU23+GS23 -> 0 | GY23: 9 | GZ23: 2 | HA23: =ROUND(GZ23*GY23/25*12*2*1.302,1) -> 22.5 | HC23: =ROUND(HB23*HA23/25*12*2*1.302,1) -> 0 | HE23: =ROUND(HD23*GY23/20*12*2*1.302,1) -> 0 | HG23: =ROUND(HF23*GY23/12*12*2*1.302,1) -> 0 | HH23: =GZ23+HB23+HF23+HD23 -> 2 | HI23: =HA23+HC23+HG23+HE23 -> 22.5 | HK23: 9 | HL23: 0 | HM23: =ROUND(HL23*HK23/25*12*2*1.302,1) -> 0 | HO23: =ROUND(HN23*HM23/25*12*2*1.302,1) -> 0 | HQ23: =ROUND(HP23*HK23/20*12*2*1.302,1) -> 0 | HR23: 0 | HS23: =ROUND(HR23*HK23/12*12*2*1.302,1) -> 0 | HT23: =HL23+HN23+HR23+HP23 -> 0 | HU23: =HM23+HO23+HS23+HQ23 -> 0
A24: 8 | B24: =P24+AB24+AN24+AZ24+BL24+BX24+CJ24+CV24+DH24+DT24+EF24+ER24+FD24+FP24+GB24+GN24+GZ24+HL24 -> 3 | C24: =Q24+AC24+AO24+BA24+BM24+BY24+CK24+CW24+DI24+DU24+EG24+ES24+FE24+FQ24+GC24+GO24+HA24+HM24 -> 30 | D24: =R24+AD24+AP24+BB24+BN24+BZ24+CL24+CX24+DJ24+DV24+EH24+ET24+FF24+FR24+GD24+GP24+HB24+HN24 -> 0 | E24: =S24+AE24+AQ24+BC24+BO24+CA24+CM24+CY24+DK24+DW24+EI24+EU24+FG24+FS24+GE24+GQ24+HC24+HO24 -> 0 | F24: =T24+AF24+AR24+BD24+BP24+CB24+CN24+CZ24+DL24+DX24+EJ24+EV24+FH24+FT24+GF24+GR24+HD24+HP24 -> 0 | G24: =U24+AG24+AS24+BE24+BQ24+CC24+CO24+DA24+DM24+DY24+EK24+EW24+FI24+FU24+GG24+GS24+HE24+HQ24 -> 0 | H24: =V24+AH24+AT24+BF24+BR24+CD24+CP24+DB24+DN24+DZ24+EL24+EX24+FJ24+FV24+GH24+GT24+HF24+HR24 -> 2 | I24: =W24+AI24+AU24+BG24+BS24+CE24+CQ24+DC24+DO24+EA24+EM24+EY24+FK24+FW24+GI24+GU24+HG24+HS24 -> 41.6 | ... K24: =Y24+AK24+AW24+BI24+BU24+CG24+CS24+DE24+DQ24+EC24+EO24+FA24+FM24+FY24+GK24+GW24+HI24+HU24 -> 71.6 | O24: 8 | P24: 0 | Q24: =ROUND(P24*O24/25*12*2*1.302,1) -> 0 | S24: =ROUND(R24*Q24/25*12*2*1.302,1) -> 0 | U24: =ROUND(T24*O24/20*12*2*1.302,1) -> 0 | W24: =ROUND(V24*O24/12*12*2*1.302,1) -> 0 | X24: =P24+R24+V24+T24 -> 0 | Y24: =Q24+S24+W24+U24 -> 0 | AA24: 8 | AC24: =ROUND(AB24*AA24/25*12*2*1.302,1) -> 0 | AE24: =ROUND(AD24*AC24/25*12*2*1.302,1) -> 0 | AG24: =ROUND(AF24*AA24/20*12*2*1.302,1) -> 0 | AI24: =ROUND(AH24*AA24/12*12*2*1.302,1) -> 0 | AJ24: =AB24+AD24+AH24+AF24 -> 0 | AK24: =AC24+AE24+AI24+AG24 -> 0 | AM24: 8 | AO24: =ROUND(AN24*AM24/25*12*2*1.302,1) -> 0 | AQ24: =ROUND(AP24*AM24/25*12*2*1.302,1) -> 0 | AS24: =ROUND(AR24*AM24/20*12*2*1.302,1) -> 0 | AU24: =ROUND(AT24*AM24/12*12*2*1.302,1) -> 0 | AV24: =AN24+AP24+AT24+AR24 -> 0 | AW24: =AO24+AQ24+AU24+AS24 -> 0 | AY24: 8 | BA24: =ROUND(AZ24*AY24/25*12*2*1.302,1) -> 0 | BC24: =ROUND(BB24*AY24/25*12*2*1.302,1) -> 0 | BE24: =ROUND(BD24*AY24/20*12*2*1.302,1) -> 0 | BG24: =ROUND(BF24*AY24/12*12*2*1.302,1) -> 0 | BH24: =AZ24+BB24+BF24+BD24 -> 0 | BI24: =BA24+BC24+BG24+BE24 -> 0 | BK24: 8 | BM24: =ROUND(BL24*BK24/25*12*2*1.302,1) -> 0 | BO24: =ROUND(BN24*BM24/25*12*2*1.302,1) -> 0 | BQ24: =ROUND(BP24*BK24/20*12*2*1.302,1) -> 0 | BR24: 1 | BS24: =ROUND(BR24*BK24/12*12*2*1.302,1) -> 20.8 | BT24: =BL24+BN24+BR24+BP24 -> 1 | BU24: =BM24+BO24+BS24+BQ24 -> 20.8 | BW24: 8 | BX24: 2 | BY24: =ROUND(BX24*BW24/25*12*2*1.302,1) -> 20 | CA24: =ROUND(BZ24*BY24/25*12*2*1.302,1) -> 0 | CC24: =ROUND(CB24*BW24/20*12*2*1.302,1) -> 0 | CD24: 1 | CE24: =ROUND(CD24*BW24/12*12*2*1.302,1) -> 20.8 | CF24: =BX24+BZ24+CD24+CB24 -> 3 | CG24: =BY24+CA24+CE24+CC24 -> 40.8 | CI24: 8 | CK24: =ROUND(CJ24*CI24/25*12*2*1.302,1) -> 0 | CM24: =ROUND(CL24*CK24/25*12*2*1.302,1) -> 0 | CO24: =ROUND(CN24*CI24/20*12*2*1.302,1) -> 0 | CQ24: =ROUND(CP24*CI24/12*12*2*1.302,1) -> 0 | CR24: =CJ24+CL24+CP24+CN24 -> 0 | CS24: =CK24+CM24+CQ24+CO24 -> 0 | CU24: 8 | CW24: =ROUND(CV24*CU24/25*12*2*1.302,1) -> 0 | CY24: =ROUND(CX24*CU24/25*12*2*1.302,1) -> 0 | DA24: =ROUND(CZ24*CU24/20*12*2*1.302,1) -> 0 | DC24: =ROUND(DB24*CU24/12*12*2*1.302,1) -> 0 | DD24: =CV24+CX24+DB24+CZ24 -> 0 | DE24: =CW24+CY24+DC24+DA24 -> 0 | DG24: 8 | DH24: 0 | DI24: =ROUND(DH24*DG24/25*12*2*1.302,1) -> 0 | DK24: =ROUND(DJ24*DG24/25*12*2*1.302,1) -> 0 | DM24: =ROUND(DL24*DG24/20*12*2*1.302,1) -> 0 | DO24: =ROUND(DN24*DG24/12*12*2*1.302,1) -> 0 | DP24: =DH24+DJ24+DL24+DN24 -> 0 | DQ24: =DI24+DK24+DM24+DO24 -> 0 | DS24: 8 | DU24: =ROUND(DT24*DS24/25*12*2*1.302,1) -> 0 | DW24: =ROUND(DV24*DS24/25*12*2*1.302,1) -> 0 | DY24: =ROUND(DX24*DS24/20*12*1.302,1) -> 0 | EA24: =ROUND(DZ24*DS24/12*12*1.302,1) -> 0 | EB24: =DT24+DV24+DX24+DZ24 -> 0 | EC24: =DU24+DW24+DY24+EA24 -> 0 | EE24: 8 | EG24: =ROUND(EF24*EE24/25*12*2*1.302,1) -> 0 | EI24: =ROUND(EH24*EG24/25*12*2*1.302,1) -> 0 | EK24: =ROUND(EJ24*EE24/20*12*2*1.302,1) -> 0 | EM24: =ROUND(EL24*EE24/12*12*2*1.302,1) -> 0 | EN24: =EF24+EH24+EL24+EJ24 -> 0 | EO24: =EG24+EI24+EM24+EK24 -> 0 | EQ24: 8 | ES24: =ROUND(ER24*EQ24/25*12*2*1.302,1) -> 0 | EU24: =ROUND(ET24*EQ24/25*12*2*1.302,1) -> 0 | EW24: =ROUND(EV24*EQ24/20*12*2*1.302,1) -> 0 | EY24: =ROUND(EX24*EQ24/12*12*2*1.302,1) -> 0 | EZ24: =ER24+ET24+EX24+EV24 -> 0 | FA24: =ES24+EU24+EY24+EW24 -> 0 | FC24: 8 | FE24: =ROUND(FD24*FC24/25*12*2*1.302,1) -> 0 | FG24: =ROUND(FF24*FE24/25*12*2*1.302,1) -> 0 | FI24: =ROUND(FH24*FC24/20*12*2*1.302,1) -> 0 | FK24: =ROUND(FJ24*FC24/12*12*2*1.302,1) -> 0 | FL24: =FD24+FF24+FJ24+FH24 -> 0 | FM24: =FE24+FG24+FK24+FI24 -> 0 | FO24: 8 | FQ24: =ROUND(FP24*FO24/25*12*2*1.302,1) -> 0 | FS24: =ROUND(FR24*FQ24/25*12*2*1.302,1) -> 0 | FU24: =ROUND(FT24*FO24/20*12*2*1.302,1) -> 0 | FW24: =ROUND(FV24*FO24/12*12*2*1.302,1) -> 0 | FX24: =FP24+FR24+FV24+FT24 -> 0 | FY24: =FQ24+FS24+FW24+FU24 -> 0 | GA24: 8 | GB24: 0 | GC24: =ROUND(GB24*GA24/25*12*2*1.302,1) -> 0 | GD24: 0 | GE24: =ROUND(GD24*GC24/25*12*2*1.302,1) -> 0 | GF24: 0 | GG24: 0 | GH24: 0 | GI24: =ROUND(GH24*GA24/12*12*2*1.302,1) -> 0 | GJ24: =GB24+GD24+GH24+GF24 -> 0 | GK24: =GC24+GE24+GI24+GG24 -> 0 | GM24: 8 | GO24: =ROUND(GN24*GM24/25*12*2*1.302,1) -> 0 | GQ24: =ROUND(GP24*GO24/25*12*2*1.302,1) -> 0 | GS24: =ROUND(GR24*GM24/20*12*2*1.302,1) -> 0 | GU24: =ROUND(GT24*GM24/12*12*2*1.302,1) -> 0 | GV24: =GN24+GP24+GT24+GR24 -> 0 | GW24: =GO24+GQ24+GU24+GS24 -> 0 | GY24: 8 | GZ24: 1 | HA24: =ROUND(GZ24*GY24/25*12*2*1.302,1) -> 10 | HC24: =ROUND(HB24*HA24/25*12*2*1.302,1) -> 0 | HE24: =ROUND(HD24*GY24/20*12*2*1.302,1) -> 0 | HG24: =ROUND(HF24*GY24/12*12*2*1.302,1) -> 0 | HH24: =GZ24+HB24+HF24+HD24 -> 1 | HI24: =HA24+HC24+HG24+HE24 -> 10 | HK24: 8 | HL24: 0 | HM24: =ROUND(HL24*HK24/25*12*2*1.302,1) -> 0 | HO24: =ROUND(HN24*HM24/25*12*2*1.302,1) -> 0 | HQ24: =ROUND(HP24*HK24/20*12*2*1.302,1) -> 0 | HR24: 0 | HS24: =ROUND(HR24*HK24/12*12*2*1.302,1) -> 0 | HT24: =HL24+HN24+HR24+HP24 -> 0 | HU24: =HM24+HO24+HS24+HQ24 -> 0
A25: 7 | B25: =P25+AB25+AN25+AZ25+BL25+BX25+CJ25+CV25+DH25+DT25+EF25+ER25+FD25+FP25+GB25+GN25+GZ25+HL25 -> 2 | C25: =Q25+AC25+AO25+BA25+BM25+BY25+CK25+CW25+DI25+DU25+EG25+ES25+FE25+FQ25+GC25+GO25+HA25+HM25 -> 17.4 | D25: =R25+AD25+AP25+BB25+BN25+BZ25+CL25+CX25+DJ25+DV25+EH25+ET25+FF25+FR25+GD25+GP25+HB25+HN25 -> 0 | E25: =S25+AE25+AQ25+BC25+BO25+CA25+CM25+CY25+DK25+DW25+EI25+EU25+FG25+FS25+GE25+GQ25+HC25+HO25 -> 0 | F25: =T25+AF25+AR25+BD25+BP25+CB25+CN25+CZ25+DL25+DX25+EJ25+EV25+FH25+FT25+GF25+GR25+HD25+HP25 -> 0 | G25: =U25+AG25+AS25+BE25+BQ25+CC25+CO25+DA25+DM25+DY25+EK25+EW25+FI25+FU25+GG25+GS25+HE25+HQ25 -> 0 | H25: =V25+AH25+AT25+BF25+BR25+CD25+CP25+DB25+DN25+DZ25+EL25+EX25+FJ25+FV25+GH25+GT25+HF25+HR25 -> 0 | I25: =W25+AI25+AU25+BG25+BS25+CE25+CQ25+DC25+DO25+EA25+EM25+EY25+FK25+FW25+GI25+GU25+HG25+HS25 -> 0 | ... K25: =Y25+AK25+AW25+BI25+BU25+CG25+CS25+DE25+DQ25+EC25+EO25+FA25+FM25+FY25+GK25+GW25+HI25+HU25 -> 17.4 | O25: 7 | P25: 0 | Q25: =ROUND(P25*O25/25*12*2*1.302,1) -> 0 | S25: =ROUND(R25*Q25/25*12*2*1.302,1) -> 0 | U25: =ROUND(T25*O25/20*12*2*1.302,1) -> 0 | W25: =ROUND(V25*O25/12*12*2*1.302,1) -> 0 | X25: =P25+R25+V25+T25 -> 0 | Y25: =Q25+S25+W25+U25 -> 0 | AA25: 7 | AC25: =ROUND(AB25*AA25/25*12*2*1.302,1) -> 0 | AE25: =ROUND(AD25*AC25/25*12*2*1.302,1) -> 0 | AG25: =ROUND(AF25*AA25/20*12*2*1.302,1) -> 0 | AI25: =ROUND(AH25*AA25/12*12*2*1.302,1) -> 0 | AJ25: =AB25+AD25+AH25+AF25 -> 0 | AK25: =AC25+AE25+AI25+AG25 -> 0 | AM25: 7 | AO25: =ROUND(AN25*AM25/25*12*2*1.302,1) -> 0 | AQ25: =ROUND(AP25*AM25/25*12*2*1.302,1) -> 0 | AS25: =ROUND(AR25*AM25/20*12*2*1.302,1) -> 0 | AU25: =ROUND(AT25*AM25/12*12*2*1.302,1) -> 0 | AV25: =AN25+AP25+AT25+AR25 -> 0 | AW25: =AO25+AQ25+AU25+AS25 -> 0 | AY25: 7 | BA25: =ROUND(AZ25*AY25/25*12*2*1.302,1) -> 0 | BC25: =ROUND(BB25*AY25/25*12*2*1.302,1) -> 0 | BE25: =ROUND(BD25*AY25/20*12*2*1.302,1) -> 0 | BG25: =ROUND(BF25*AY25/12*12*2*1.302,1) -> 0 | BH25: =AZ25+BB25+BF25+BD25 -> 0 | BI25: =BA25+BC25+BG25+BE25 -> 0 | BK25: 7 | BM25: =ROUND(BL25*BK25/25*12*2*1.302,1) -> 0 | BO25: =ROUND(BN25*BM25/25*12*2*1.302,1) -> 0 | BQ25: =ROUND(BP25*BK25/20*12*2*1.302,1) -> 0 | BS25: =ROUND(BR25*BK25/12*12*2*1.302,1) -> 0 | BT25: =BL25+BN25+BR25+BP25 -> 0 | BU25: =BM25+BO25+BS25+BQ25 -> 0 | BW25: 7 | BY25: =ROUND(BX25*BW25/25*12*2*1.302,1) -> 0 | CA25: =ROUND(BZ25*BY25/25*12*2*1.302,1) -> 0 | CC25: =ROUND(CB25*BW25/20*12*2*1.302,1) -> 0 | CE25: =ROUND(CD25*BW25/12*12*2*1.302,1) -> 0 | CF25: =BX25+BZ25+CD25+CB25 -> 0 | CG25: =BY25+CA25+CE25+CC25 -> 0 | CI25: 7 | CK25: =ROUND(CJ25*CI25/25*12*2*1.302,1) -> 0 | CM25: =ROUND(CL25*CK25/25*12*2*1.302,1) -> 0 | CO25: =ROUND(CN25*CI25/20*12*2*1.302,1) -> 0 | CQ25: =ROUND(CP25*CI25/12*12*2*1.302,1) -> 0 | CR25: =CJ25+CL25+CP25+CN25 -> 0 | CS25: =CK25+CM25+CQ25+CO25 -> 0 | CU25: 7 | CW25: =ROUND(CV25*CU25/25*12*2*1.302,1) -> 0 | CY25: =ROUND(CX25*CU25/25*12*2*1.302,1) -> 0 | DA25: =ROUND(CZ25*CU25/20*12*2*1.302,1) -> 0 | DC25: =ROUND(DB25*CU25/12*12*2*1.302,1) -> 0 | DD25: =CV25+CX25+DB25+CZ25 -> 0 | DE25: =CW25+CY25+DC25+DA25 -> 0 | DG25: 7 | DH25: 0 | DI25: =ROUND(DH25*DG25/25*12*2*1.302,1) -> 0 | DK25: =ROUND(DJ25*DG25/25*12*2*1.302,1) -> 0 | DM25: =ROUND(DL25*DG25/20*12*2*1.302,1) -> 0 | DO25: =ROUND(DN25*DG25/12*12*2*1.302,1) -> 0 | DP25: =DH25+DJ25+DL25+DN25 -> 0 | DQ25: =DI25+DK25+DM25+DO25 -> 0 | DS25: 7 | DU25: =ROUND(DT25*DS25/25*12*2*1.302,1) -> 0 | DW25: =ROUND(DV25*DS25/25*12*2*1.302,1) -> 0 | DY25: =ROUND(DX25*DS25/20*12*1.302,1) -> 0 | EA25: =ROUND(DZ25*DS25/12*12*1.302,1) -> 0 | EB25: =DT25+DV25+DX25+DZ25 -> 0 | EC25: =DU25+DW25+DY25+EA25 -> 0 | EE25: 7 | EG25: =ROUND(EF25*EE25/25*12*2*1.302,1) -> 0 | EI25: =ROUND(EH25*EG25/25*12*2*1.302,1) -> 0 | EK25: =ROUND(EJ25*EE25/20*12*2*1.302,1) -> 0 | EM25: =ROUND(EL25*EE25/12*12*2*1.302,1) -> 0 | EN25: =EF25+EH25+EL25+EJ25 -> 0 | EO25: =EG25+EI25+EM25+EK25 -> 0 | EQ25: 7 | ES25: =ROUND(ER25*EQ25/25*12*2*1.302,1) -> 0 | EU25: =ROUND(ET25*EQ25/25*12*2*1.302,1) -> 0 | EW25: =ROUND(EV25*EQ25/20*12*2*1.302,1) -> 0 | EY25: =ROUND(EX25*EQ25/12*12*2*1.302,1) -> 0 | EZ25: =ER25+ET25+EX25+EV25 -> 0 | FA25: =ES25+EU25+EY25+EW25 -> 0 | FC25: 7 | FD25: 1 | FE25: =ROUND(FD25*FC25/25*12*2*1.302,1) -> 8.7 | FG25: =ROUND(FF25*FE25/25*12*2*1.302,1) -> 0 | FI25: =ROUND(FH25*FC25/20*12*2*1.302,1) -> 0 | FK25: =ROUND(FJ25*FC25/12*12*2*1.302,1) -> 0 | FL25: =FD25+FF25+FJ25+FH25 -> 1 | FM25: =FE25+FG25+FK25+FI25 -> 8.7 | FO25: 7 | FQ25: =ROUND(FP25*FO25/25*12*2*1.302,1) -> 0 | FS25: =ROUND(FR25*FQ25/25*12*2*1.302,1) -> 0 | FU25: =ROUND(FT25*FO25/20*12*2*1.302,1) -> 0 | FW25: =ROUND(FV25*FO25/12*12*2*1.302,1) -> 0 | FX25: =FP25+FR25+FV25+FT25 -> 0 | FY25: =FQ25+FS25+FW25+FU25 -> 0 | GA25: 7 | GB25: 0 | GC25: =ROUND(GB25*GA25/25*12*2*1.302,1) -> 0 | GD25: 0 | GE25: =ROUND(GD25*GC25/25*12*2*1.302,1) -> 0 | GF25: 0 | GG25: 0 | GH25: 0 | GI25: =ROUND(GH25*GA25/12*12*2*1.302,1) -> 0 | GJ25: =GB25+GD25+GH25+GF25 -> 0 | GK25: =GC25+GE25+GI25+GG25 -> 0 | GM25: 7 | GO25: =ROUND(GN25*GM25/25*12*2*1.302,1) -> 0 | GQ25: =ROUND(GP25*GO25/25*12*2*1.302,1) -> 0 | GS25: =ROUND(GR25*GM25/20*12*2*1.302,1) -> 0 | GU25: =ROUND(GT25*GM25/12*12*2*1.302,1) -> 0 | GV25: =GN25+GP25+GT25+GR25 -> 0 | GW25: =GO25+GQ25+GU25+GS25 -> 0 | GY25: 7 | GZ25: 1 | HA25: =ROUND(GZ25*GY25/25*12*2*1.302,1) -> 8.7 | HC25: =ROUND(HB25*HA25/25*12*2*1.302,1) -> 0 | HE25: =ROUND(HD25*GY25/20*12*2*1.302,1) -> 0 | HG25: =ROUND(HF25*GY25/12*12*2*1.302,1) -> 0 | HH25: =GZ25+HB25+HF25+HD25 -> 1 | HI25: =HA25+HC25+HG25+HE25 -> 8.7 | HK25: 7 | HL25: 0 | HM25: =ROUND(HL25*HK25/25*12*2*1.302,1) -> 0 | HO25: =ROUND(HN25*HM25/25*12*2*1.302,1) -> 0 | HQ25: =ROUND(HP25*HK25/20*12*2*1.302,1) -> 0 | HR25: 0 | HS25: =ROUND(HR25*HK25/12*12*2*1.302,1) -> 0 | HT25: =HL25+HN25+HR25+HP25 -> 0 | HU25: =HM25+HO25+HS25+HQ25 -> 0
A26: 6 | B26: =P26+AB26+AN26+AZ26+BL26+BX26+CJ26+CV26+DH26+DT26+EF26+ER26+FD26+FP26+GB26+GN26+GZ26+HL26 -> 2 | C26: =Q26+AC26+AO26+BA26+BM26+BY26+CK26+CW26+DI26+DU26+EG26+ES26+FE26+FQ26+GC26+GO26+HA26+HM26 -> 15 | D26: =R26+AD26+AP26+BB26+BN26+BZ26+CL26+CX26+DJ26+DV26+EH26+ET26+FF26+FR26+GD26+GP26+HB26+HN26 -> 0 | E26: =S26+AE26+AQ26+BC26+BO26+CA26+CM26+CY26+DK26+DW26+EI26+EU26+FG26+FS26+GE26+GQ26+HC26+HO26 -> 0 | F26: =T26+AF26+AR26+BD26+BP26+CB26+CN26+CZ26+DL26+DX26+EJ26+EV26+FH26+FT26+GF26+GR26+HD26+HP26 -> 0 | G26: =U26+AG26+AS26+BE26+BQ26+CC26+CO26+DA26+DM26+DY26+EK26+EW26+FI26+FU26+GG26+GS26+HE26+HQ26 -> 0 | H26: =V26+AH26+AT26+BF26+BR26+CD26+CP26+DB26+DN26+DZ26+EL26+EX26+FJ26+FV26+GH26+GT26+HF26+HR26 -> 0 | I26: =W26+AI26+AU26+BG26+BS26+CE26+CQ26+DC26+DO26+EA26+EM26+EY26+FK26+FW26+GI26+GU26+HG26+HS26 -> 0 | ... K26: =Y26+AK26+AW26+BI26+BU26+CG26+CS26+DE26+DQ26+EC26+EO26+FA26+FM26+FY26+GK26+GW26+HI26+HU26 -> 15 | O26: 6 | P26: 0 | Q26: =ROUND(P26*O26/25*12*2*1.302,1) -> 0 | S26: =ROUND(R26*Q26/25*12*2*1.302,1) -> 0 | U26: =ROUND(T26*O26/20*12*2*1.302,1) -> 0 | W26: =ROUND(V26*O26/12*12*2*1.302,1) -> 0 | X26: =P26+R26+V26+T26 -> 0 | Y26: =Q26+S26+W26+U26 -> 0 | AA26: 6 | AC26: =ROUND(AB26*AA26/25*12*2*1.302,1) -> 0 | AE26: =ROUND(AD26*AC26/25*12*2*1.302,1) -> 0 | AG26: =ROUND(AF26*AA26/20*12*2*1.302,1) -> 0 | AI26: =ROUND(AH26*AA26/12*12*2*1.302,1) -> 0 | AJ26: =AB26+AD26+AH26+AF26 -> 0 | AK26: =AC26+AE26+AI26+AG26 -> 0 | AM26: 6 | AO26: =ROUND(AN26*AM26/25*12*2*1.302,1) -> 0 | AQ26: =ROUND(AP26*AM26/25*12*2*1.302,1) -> 0 | AS26: =ROUND(AR26*AM26/20*12*2*1.302,1) -> 0 | AU26: =ROUND(AT26*AM26/12*12*2*1.302,1) -> 0 | AV26: =AN26+AP26+AT26+AR26 -> 0 | AW26: =AO26+AQ26+AU26+AS26 -> 0 | AY26: 6 | BA26: =ROUND(AZ26*AY26/25*12*2*1.302,1) -> 0 | BC26: =ROUND(BB26*AY26/25*12*2*1.302,1) -> 0 | BE26: =ROUND(BD26*AY26/20*12*2*1.302,1) -> 0 | BG26: =ROUND(BF26*AY26/12*12*2*1.302,1) -> 0 | BH26: =AZ26+BB26+BF26+BD26 -> 0 | BI26: =BA26+BC26+BG26+BE26 -> 0 | BK26: 6 | BM26: =ROUND(BL26*BK26/25*12*2*1.302,1) -> 0 | BO26: =ROUND(BN26*BM26/25*12*2*1.302,1) -> 0 | BQ26: =ROUND(BP26*BK26/20*12*2*1.302,1) -> 0 | BS26: =ROUND(BR26*BK26/12*12*2*1.302,1) -> 0 | BT26: =BL26+BN26+BR26+BP26 -> 0 | BU26: =BM26+BO26+BS26+BQ26 -> 0 | BW26: 6 | BY26: =ROUND(BX26*BW26/25*12*2*1.302,1) -> 0 | CA26: =ROUND(BZ26*BY26/25*12*2*1.302,1) -> 0 | CC26: =ROUND(CB26*BW26/20*12*2*1.302,1) -> 0 | CE26: =ROUND(CD26*BW26/12*12*2*1.302,1) -> 0 | CF26: =BX26+BZ26+CD26+CB26 -> 0 | CG26: =BY26+CA26+CE26+CC26 -> 0 | CI26: 6 | CK26: =ROUND(CJ26*CI26/25*12*2*1.302,1) -> 0 | CM26: =ROUND(CL26*CK26/25*12*2*1.302,1) -> 0 | CO26: =ROUND(CN26*CI26/20*12*2*1.302,1) -> 0 | CQ26: =ROUND(CP26*CI26/12*12*2*1.302,1) -> 0 | CR26: =CJ26+CL26+CP26+CN26 -> 0 | CS26: =CK26+CM26+CQ26+CO26 -> 0 | CU26: 6 | CW26: =ROUND(CV26*CU26/25*12*2*1.302,1) -> 0 | CY26: =ROUND(CX26*CU26/25*12*2*1.302,1) -> 0 | DA26: =ROUND(CZ26*CU26/20*12*2*1.302,1) -> 0 | DC26: =ROUND(DB26*CU26/12*12*2*1.302,1) -> 0 | DD26: =CV26+CX26+DB26+CZ26 -> 0 | DE26: =CW26+CY26+DC26+DA26 -> 0 | DG26: 6 | DH26: 0 | DI26: =ROUND(DH26*DG26/25*12*2*1.302,1) -> 0 | DK26: =ROUND(DJ26*DG26/25*12*2*1.302,1) -> 0 | DM26: =ROUND(DL26*DG26/20*12*2*1.302,1) -> 0 | DO26: =ROUND(DN26*DG26/12*12*2*1.302,1) -> 0 | DP26: =DH26+DJ26+DL26+DN26 -> 0 | DQ26: =DI26+DK26+DM26+DO26 -> 0 | DS26: 6 | DU26: =ROUND(DT26*DS26/25*12*2*1.302,1) -> 0 | DW26: =ROUND(DV26*DS26/25*12*2*1.302,1) -> 0 | DY26: =ROUND(DX26*DS26/20*12*1.302,1) -> 0 | EA26: =ROUND(DZ26*DS26/12*12*1.302,1) -> 0 | EB26: =DT26+DV26+DX26+DZ26 -> 0 | EC26: =DU26+DW26+DY26+EA26 -> 0 | EE26: 6 | EG26: =ROUND(EF26*EE26/25*12*2*1.302,1) -> 0 | EI26: =ROUND(EH26*EG26/25*12*2*1.302,1) -> 0 | EK26: =ROUND(EJ26*EE26/20*12*2*1.302,1) -> 0 | EM26: =ROUND(EL26*EE26/12*12*2*1.302,1) -> 0 | EN26: =EF26+EH26+EL26+EJ26 -> 0 | EO26: =EG26+EI26+EM26+EK26 -> 0 | EQ26: 6 | ER26: 1 | ES26: =ROUND(ER26*EQ26/25*12*2*1.302,1) -> 7.5 | EU26: =ROUND(ET26*EQ26/25*12*2*1.302,1) -> 0 | EW26: =ROUND(EV26*EQ26/20*12*2*1.302,1) -> 0 | EY26: =ROUND(EX26*EQ26/12*12*2*1.302,1) -> 0 | EZ26: =ER26+ET26+EX26+EV26 -> 1 | FA26: =ES26+EU26+EY26+EW26 -> 7.5 | FC26: 6 | FE26: =ROUND(FD26*FC26/25*12*2*1.302,1) -> 0 | FG26: =ROUND(FF26*FE26/25*12*2*1.302,1) -> 0 | FI26: =ROUND(FH26*FC26/20*12*2*1.302,1) -> 0 | FK26: =ROUND(FJ26*FC26/12*12*2*1.302,1) -> 0 | FL26: =FD26+FF26+FJ26+FH26 -> 0 | FM26: =FE26+FG26+FK26+FI26 -> 0 | FO26: 6 | FQ26: =ROUND(FP26*FO26/25*12*2*1.302,1) -> 0 | FS26: =ROUND(FR26*FQ26/25*12*2*1.302,1) -> 0 | FU26: =ROUND(FT26*FO26/20*12*2*1.302,1) -> 0 | FW26: =ROUND(FV26*FO26/12*12*2*1.302,1) -> 0 | FX26: =FP26+FR26+FV26+FT26 -> 0 | FY26: =FQ26+FS26+FW26+FU26 -> 0 | GA26: 6 | GB26: 0 | GC26: =ROUND(GB26*GA26/25*12*2*1.302,1) -> 0 | GD26: 0 | GE26: =ROUND(GD26*GC26/25*12*2*1.302,1) -> 0 | GF26: 0 | GG26: 0 | GH26: 0 | GI26: =ROUND(GH26*GA26/12*12*2*1.302,1) -> 0 | GJ26: =GB26+GD26+GH26+GF26 -> 0 | GK26: =GC26+GE26+GI26+GG26 -> 0 | GM26: 6 | GO26: =ROUND(GN26*GM26/25*12*2*1.302,1) -> 0 | GQ26: =ROUND(GP26*GO26/25*12*2*1.302,1) -> 0 | GS26: =ROUND(GR26*GM26/20*12*2*1.302,1) -> 0 | GU26: =ROUND(GT26*GM26/12*12*2*1.302,1) -> 0 | GV26: =GN26+GP26+GT26+GR26 -> 0 | GW26: =GO26+GQ26+GU26+GS26 -> 0 | GY26: 6 | GZ26: 1 | HA26: =ROUND(GZ26*GY26/25*12*2*1.302,1) -> 7.5 | HC26: =ROUND(HB26*HA26/25*12*2*1.302,1) -> 0 | HE26: =ROUND(HD26*GY26/20*12*2*1.302,1) -> 0 | HG26: =ROUND(HF26*GY26/12*12*2*1.302,1) -> 0 | HH26: =GZ26+HB26+HF26+HD26 -> 1 | HI26: =HA26+HC26+HG26+HE26 -> 7.5 | HK26: 6 | HL26: 0 | HM26: =ROUND(HL26*HK26/25*12*2*1.302,1) -> 0 | HO26: =ROUND(HN26*HM26/25*12*2*1.302,1) -> 0 | HQ26: =ROUND(HP26*HK26/20*12*2*1.302,1) -> 0 | HR26: 0 | HS26: =ROUND(HR26*HK26/12*12*2*1.302,1) -> 0 | HT26: =HL26+HN26+HR26+HP26 -> 0 | HU26: =HM26+HO26+HS26+HQ26 -> 0
A27: 5 | B27: =P27+AB27+AN27+AZ27+BL27+BX27+CJ27+CV27+DH27+DT27+EF27+ER27+FD27+FP27+GB27+GN27+GZ27+HL27 -> 0 | C27: =Q27+AC27+AO27+BA27+BM27+BY27+CK27+CW27+DI27+DU27+EG27+ES27+FE27+FQ27+GC27+GO27+HA27+HM27 -> 0 | D27: =R27+AD27+AP27+BB27+BN27+BZ27+CL27+CX27+DJ27+DV27+EH27+ET27+FF27+FR27+GD27+GP27+HB27+HN27 -> 1 | E27: =S27+AE27+AQ27+BC27+BO27+CA27+CM27+CY27+DK27+DW27+EI27+EU27+FG27+FS27+GE27+GQ27+HC27+HO27 -> 6.2 | F27: =T27+AF27+AR27+BD27+BP27+CB27+CN27+CZ27+DL27+DX27+EJ27+EV27+FH27+FT27+GF27+GR27+HD27+HP27 -> 0 | G27: =U27+AG27+AS27+BE27+BQ27+CC27+CO27+DA27+DM27+DY27+EK27+EW27+FI27+FU27+GG27+GS27+HE27+HQ27 -> 0 | H27: =V27+AH27+AT27+BF27+BR27+CD27+CP27+DB27+DN27+DZ27+EL27+EX27+FJ27+FV27+GH27+GT27+HF27+HR27 -> 1 | I27: =W27+AI27+AU27+BG27+BS27+CE27+CQ27+DC27+DO27+EA27+EM27+EY27+FK27+FW27+GI27+GU27+HG27+HS27 -> 13 | ... K27: =Y27+AK27+AW27+BI27+BU27+CG27+CS27+DE27+DQ27+EC27+EO27+FA27+FM27+FY27+GK27+GW27+HI27+HU27 -> 19.2 | O27: 5 | P27: 0 | Q27: =ROUND(P27*O27/25*12*2*1.302,1) -> 0 | S27: =ROUND(R27*Q27/25*12*2*1.302,1) -> 0 | U27: =ROUND(T27*O27/20*12*2*1.302,1) -> 0 | W27: =ROUND(V27*O27/12*12*2*1.302,1) -> 0 | X27: =P27+R27+V27+T27 -> 0 | Y27: =Q27+S27+W27+U27 -> 0 | AA27: 5 | AC27: =ROUND(AB27*AA27/25*12*2*1.302,1) -> 0 | AE27: =ROUND(AD27*AC27/25*12*2*1.302,1) -> 0 | AG27: =ROUND(AF27*AA27/20*12*2*1.302,1) -> 0 | AI27: =ROUND(AH27*AA27/12*12*2*1.302,1) -> 0 | AJ27: =AB27+AD27+AH27+AF27 -> 0 | AK27: =AC27+AE27+AI27+AG27 -> 0 | AM27: 5 | AO27: =ROUND(AN27*AM27/25*12*2*1.302,1) -> 0 | AP27: 1 | AQ27: =ROUND(AP27*AM27/25*12*2*1.302,1) -> 6.2 | AS27: =ROUND(AR27*AM27/20*12*2*1.302,1) -> 0 | AU27: =ROUND(AT27*AM27/12*12*2*1.302,1) -> 0 | AV27: =AN27+AP27+AT27+AR27 -> 1 | AW27: =AO27+AQ27+AU27+AS27 -> 6.2 | AY27: 5 | BA27: =ROUND(AZ27*AY27/25*12*2*1.302,1) -> 0 | BC27: =ROUND(BB27*AY27/25*12*2*1.302,1) -> 0 | BE27: =ROUND(BD27*AY27/20*12*2*1.302,1) -> 0 | BG27: =ROUND(BF27*AY27/12*12*2*1.302,1) -> 0 | BH27: =AZ27+BB27+BF27+BD27 -> 0 | BI27: =BA27+BC27+BG27+BE27 -> 0 | BK27: 5 | BM27: =ROUND(BL27*BK27/25*12*2*1.302,1) -> 0 | BO27: =ROUND(BN27*BM27/25*12*2*1.302,1) -> 0 | BQ27: =ROUND(BP27*BK27/20*12*2*1.302,1) -> 0 | BR27: 1 | BS27: =ROUND(BR27*BK27/12*12*2*1.302,1) -> 13 | BT27: =BL27+BN27+BR27+BP27 -> 1 | BU27: =BM27+BO27+BS27+BQ27 -> 13 | BW27: 5 | BY27: =ROUND(BX27*BW27/25*12*2*1.302,1) -> 0 | CA27: =ROUND(BZ27*BY27/25*12*2*1.302,1) -> 0 | CC27: =ROUND(CB27*BW27/20*12*2*1.302,1) -> 0 | CE27: =ROUND(CD27*BW27/12*12*2*1.302,1) -> 0 | CF27: =BX27+BZ27+CD27+CB27 -> 0 | CG27: =BY27+CA27+CE27+CC27 -> 0 | CI27: 5 | CK27: =ROUND(CJ27*CI27/25*12*2*1.302,1) -> 0 | CM27: =ROUND(CL27*CK27/25*12*2*1.302,1) -> 0 | CO27: =ROUND(CN27*CI27/20*12*2*1.302,1) -> 0 | CQ27: =ROUND(CP27*CI27/12*12*2*1.302,1) -> 0 | CR27: =CJ27+CL27+CP27+CN27 -> 0 | CS27: =CK27+CM27+CQ27+CO27 -> 0 | CU27: 5 | CW27: =ROUND(CV27*CU27/25*12*2*1.302,1) -> 0 | CY27: =ROUND(CX27*CU27/25*12*2*1.302,1) -> 0 | DA27: =ROUND(CZ27*CU27/20*12*2*1.302,1) -> 0 | DC27: =ROUND(DB27*CU27/12*12*2*1.302,1) -> 0 | DD27: =CV27+CX27+DB27+CZ27 -> 0 | DE27: =CW27+CY27+DC27+DA27 -> 0 | DG27: 5 | DH27: 0 | DI27: =ROUND(DH27*DG27/25*12*2*1.302,1) -> 0 | DK27: =ROUND(DJ27*DG27/25*12*2*1.302,1) -> 0 | DM27: =ROUND(DL27*DG27/20*12*2*1.302,1) -> 0 | DO27: =ROUND(DN27*DG27/12*12*2*1.302,1) -> 0 | DP27: =DH27+DJ27+DL27+DN27 -> 0 | DQ27: =DI27+DK27+DM27+DO27 -> 0 | DS27: 5 | DU27: =ROUND(DT27*DS27/25*12*2*1.302,1) -> 0 | DW27: =ROUND(DV27*DS27/25*12*2*1.302,1) -> 0 | DY27: =ROUND(DX27*DS27/20*12*1.302,1) -> 0 | EA27: =ROUND(DZ27*DS27/12*12*1.302,1) -> 0 | EB27: =DT27+DV27+DX27+DZ27 -> 0 | EC27: =DU27+DW27+DY27+EA27 -> 0 | EE27: 5 | EG27: =ROUND(EF27*EE27/25*12*2*1.302,1) -> 0 | EI27: =ROUND(EH27*EG27/25*12*2*1.302,1) -> 0 | EK27: =ROUND(EJ27*EE27/20*12*2*1.302,1) -> 0 | EM27: =ROUND(EL27*EE27/12*12*2*1.302,1) -> 0 | EN27: =EF27+EH27+EL27+EJ27 -> 0 | EO27: =EG27+EI27+EM27+EK27 -> 0 | EQ27: 5 | ES27: =ROUND(ER27*EQ27/25*12*2*1.302,1) -> 0 | EU27: =ROUND(ET27*EQ27/25*12*2*1.302,1) -> 0 | EW27: =ROUND(EV27*EQ27/20*12*2*1.302,1) -> 0 | EY27: =ROUND(EX27*EQ27/12*12*2*1.302,1) -> 0 | EZ27: =ER27+ET27+EX27+EV27 -> 0 | FA27: =ES27+EU27+EY27+EW27 -> 0 | FC27: 5 | FE27: =ROUND(FD27*FC27/25*12*2*1.302,1) -> 0 | FG27: =ROUND(FF27*FE27/25*12*2*1.302,1) -> 0 | FI27: =ROUND(FH27*FC27/20*12*2*1.302,1) -> 0 | FK27: =ROUND(FJ27*FC27/12*12*2*1.302,1) -> 0 | FL27: =FD27+FF27+FJ27+FH27 -> 0 | FM27: =FE27+FG27+FK27+FI27 -> 0 | FO27: 5 | FQ27: =ROUND(FP27*FO27/25*12*2*1.302,1) -> 0 | FS27: =ROUND(FR27*FQ27/25*12*2*1.302,1) -> 0 | FU27: =ROUND(FT27*FO27/20*12*2*1.302,1) -> 0 | FW27: =ROUND(FV27*FO27/12*12*2*1.302,1) -> 0 | FX27: =FP27+FR27+FV27+FT27 -> 0 | FY27: =FQ27+FS27+FW27+FU27 -> 0 | GA27: 5 | GB27: 0 | GC27: =ROUND(GB27*GA27/25*12*2*1.302,1) -> 0 | GD27: 0 | GE27: =ROUND(GD27*GC27/25*12*2*1.302,1) -> 0 | GF27: 0 | GG27: 0 | GH27: 0 | GI27: =ROUND(GH27*GA27/12*12*2*1.302,1) -> 0 | GJ27: =GB27+GD27+GH27+GF27 -> 0 | GK27: =GC27+GE27+GI27+GG27 -> 0 | GM27: 5 | GO27: =ROUND(GN27*GM27/25*12*2*1.302,1) -> 0 | GQ27: =ROUND(GP27*GO27/25*12*2*1.302,1) -> 0 | GS27: =ROUND(GR27*GM27/20*12*2*1.302,1) -> 0 | GU27: =ROUND(GT27*GM27/12*12*2*1.302,1) -> 0 | GV27: =GN27+GP27+GT27+GR27 -> 0 | GW27: =GO27+GQ27+GU27+GS27 -> 0 | GY27: 5 | GZ27: 0 | HA27: =ROUND(GZ27*GY27/25*12*2*1.302,1) -> 0 | HC27: =ROUND(HB27*HA27/25*12*2*1.302,1) -> 0 | HE27: =ROUND(HD27*GY27/20*12*2*1.302,1) -> 0 | HG27: =ROUND(HF27*GY27/12*12*2*1.302,1) -> 0 | HH27: =GZ27+HB27+HF27+HD27 -> 0 | HI27: =HA27+HC27+HG27+HE27 -> 0 | HK27: 5 | HL27: 0 | HM27: =ROUND(HL27*HK27/25*12*2*1.302,1) -> 0 | HO27: =ROUND(HN27*HM27/25*12*2*1.302,1) -> 0 | HQ27: =ROUND(HP27*HK27/20*12*2*1.302,1) -> 0 | HR27: 0 | HS27: =ROUND(HR27*HK27/12*12*2*1.302,1) -> 0 | HT27: =HL27+HN27+HR27+HP27 -> 0 | HU27: =HM27+HO27+HS27+HQ27 -> 0
A28: 4 | B28: =P28+AB28+AN28+AZ28+BL28+BX28+CJ28+CV28+DH28+DT28+EF28+ER28+FD28+FP28+GB28+GN28+GZ28+HL28 -> 0 | C28: =Q28+AC28+AO28+BA28+BM28+BY28+CK28+CW28+DI28+DU28+EG28+ES28+FE28+FQ28+GC28+GO28+HA28+HM28 -> 0 | D28: =R28+AD28+AP28+BB28+BN28+BZ28+CL28+CX28+DJ28+DV28+EH28+ET28+FF28+FR28+GD28+GP28+HB28+HN28 -> 1 | E28: =S28+AE28+AQ28+BC28+BO28+CA28+CM28+CY28+DK28+DW28+EI28+EU28+FG28+FS28+GE28+GQ28+HC28+HO28 -> 5 | F28: =T28+AF28+AR28+BD28+BP28+CB28+CN28+CZ28+DL28+DX28+EJ28+EV28+FH28+FT28+GF28+GR28+HD28+HP28 -> 0 | G28: =U28+AG28+AS28+BE28+BQ28+CC28+CO28+DA28+DM28+DY28+EK28+EW28+FI28+FU28+GG28+GS28+HE28+HQ28 -> 0 | H28: =V28+AH28+AT28+BF28+BR28+CD28+CP28+DB28+DN28+DZ28+EL28+EX28+FJ28+FV28+GH28+GT28+HF28+HR28 -> 0 | I28: =W28+AI28+AU28+BG28+BS28+CE28+CQ28+DC28+DO28+EA28+EM28+EY28+FK28+FW28+GI28+GU28+HG28+HS28 -> 0 | ... K28: =Y28+AK28+AW28+BI28+BU28+CG28+CS28+DE28+DQ28+EC28+EO28+FA28+FM28+FY28+GK28+GW28+HI28+HU28 -> 5 | O28: 4 | P28: 0 | Q28: =ROUND(P28*O28/25*12*2*1.302,1) -> 0 | S28: =ROUND(R28*Q28/25*12*2*1.302,1) -> 0 | U28: =ROUND(T28*O28/20*12*2*1.302,1) -> 0 | W28: =ROUND(V28*O28/12*12*2*1.302,1) -> 0 | X28: =P28+R28+V28+T28 -> 0 | Y28: =Q28+S28+W28+U28 -> 0 | AA28: 4 | AC28: =ROUND(AB28*AA28/25*12*2*1.302,1) -> 0 | AE28: =ROUND(AD28*AC28/25*12*2*1.302,1) -> 0 | AG28: =ROUND(AF28*AA28/20*12*2*1.302,1) -> 0 | AI28: =ROUND(AH28*AA28/12*12*2*1.302,1) -> 0 | AJ28: =AB28+AD28+AH28+AF28 -> 0 | AK28: =AC28+AE28+AI28+AG28 -> 0 | AM28: 4 | AO28: =ROUND(AN28*AM28/25*12*2*1.302,1) -> 0 | AP28: 1 | AQ28: =ROUND(AP28*AM28/25*12*2*1.302,1) -> 5 | AS28: =ROUND(AR28*AM28/20*12*2*1.302,1) -> 0 | AU28: =ROUND(AT28*AM28/12*12*2*1.302,1) -> 0 | AV28: =AN28+AP28+AT28+AR28 -> 1 | AW28: =AO28+AQ28+AU28+AS28 -> 5 | AY28: 4 | BA28: =ROUND(AZ28*AY28/25*12*2*1.302,1) -> 0 | BC28: =ROUND(BB28*AY28/25*12*2*1.302,1) -> 0 | BE28: =ROUND(BD28*AY28/20*12*2*1.302,1) -> 0 | BG28: =ROUND(BF28*AY28/12*12*2*1.302,1) -> 0 | BH28: =AZ28+BB28+BF28+BD28 -> 0 | BI28: =BA28+BC28+BG28+BE28 -> 0 | BK28: 4 | BM28: =ROUND(BL28*BK28/25*12*2*1.302,1) -> 0 | BO28: =ROUND(BN28*BM28/25*12*2*1.302,1) -> 0 | BQ28: =ROUND(BP28*BK28/20*12*2*1.302,1) -> 0 | BS28: =ROUND(BR28*BK28/12*12*2*1.302,1) -> 0 | BT28: =BL28+BN28+BR28+BP28 -> 0 | BU28: =BM28+BO28+BS28+BQ28 -> 0 | BW28: 4 | BY28: =ROUND(BX28*BW28/25*12*2*1.302,1) -> 0 | CA28: =ROUND(BZ28*BY28/25*12*2*1.302,1) -> 0 | CC28: =ROUND(CB28*BW28/20*12*2*1.302,1) -> 0 | CE28: =ROUND(CD28*BW28/12*12*2*1.302,1) -> 0 | CF28: =BX28+BZ28+CD28+CB28 -> 0 | CG28: =BY28+CA28+CE28+CC28 -> 0 | CI28: 4 | CK28: =ROUND(CJ28*CI28/25*12*2*1.302,1) -> 0 | CM28: =ROUND(CL28*CK28/25*12*2*1.302,1) -> 0 | CO28: =ROUND(CN28*CI28/20*12*2*1.302,1) -> 0 | CQ28: =ROUND(CP28*CI28/12*12*2*1.302,1) -> 0 | CR28: =CJ28+CL28+CP28+CN28 -> 0 | CS28: =CK28+CM28+CQ28+CO28 -> 0 | CU28: 4 | CW28: =ROUND(CV28*CU28/25*12*2*1.302,1) -> 0 | CY28: =ROUND(CX28*CU28/25*12*2*1.302,1) -> 0 | DA28: =ROUND(CZ28*CU28/20*12*2*1.302,1) -> 0 | DC28: =ROUND(DB28*CU28/12*12*2*1.302,1) -> 0 | DD28: =CV28+CX28+DB28+CZ28 -> 0 | DE28: =CW28+CY28+DC28+DA28 -> 0 | DG28: 4 | DH28: 0 | DI28: =ROUND(DH28*DG28/25*12*2*1.302,1) -> 0 | DK28: =ROUND(DJ28*DG28/25*12*2*1.302,1) -> 0 | DM28: =ROUND(DL28*DG28/20*12*2*1.302,1) -> 0 | DO28: =ROUND(DN28*DG28/12*12*2*1.302,1) -> 0 | DP28: =DH28+DJ28+DL28+DN28 -> 0 | DQ28: =DI28+DK28+DM28+DO28 -> 0 | DS28: 4 | DU28: =ROUND(DT28*DS28/25*12*2*1.302,1) -> 0 | DW28: =ROUND(DV28*DS28/25*12*2*1.302,1) -> 0 | DY28: =ROUND(DX28*DS28/20*12*1.302,1) -> 0 | EA28: =ROUND(DZ28*DS28/12*12*1.302,1) -> 0 | EB28: =DT28+DV28+DX28+DZ28 -> 0 | EC28: =DU28+DW28+DY28+EA28 -> 0 | EE28: 4 | EG28: =ROUND(EF28*EE28/25*12*2*1.302,1) -> 0 | EI28: =ROUND(EH28*EG28/25*12*2*1.302,1) -> 0 | EK28: =ROUND(EJ28*EE28/20*12*2*1.302,1) -> 0 | EM28: =ROUND(EL28*EE28/12*12*2*1.302,1) -> 0 | EN28: =EF28+EH28+EL28+EJ28 -> 0 | EO28: =EG28+EI28+EM28+EK28 -> 0 | EQ28: 4 | ES28: =ROUND(ER28*EQ28/25*12*2*1.302,1) -> 0 | EU28: =ROUND(ET28*EQ28/25*12*2*1.302,1) -> 0 | EW28: =ROUND(EV28*EQ28/20*12*2*1.302,1) -> 0 | EY28: =ROUND(EX28*EQ28/12*12*2*1.302,1) -> 0 | EZ28: =ER28+ET28+EX28+EV28 -> 0 | FA28: =ES28+EU28+EY28+EW28 -> 0 | FC28: 4 | FE28: =ROUND(FD28*FC28/25*12*2*1.302,1) -> 0 | FG28: =ROUND(FF28*FE28/25*12*2*1.302,1) -> 0 | FI28: =ROUND(FH28*FC28/20*12*2*1.302,1) -> 0 | FK28: =ROUND(FJ28*FC28/12*12*2*1.302,1) -> 0 | FL28: =FD28+FF28+FJ28+FH28 -> 0 | FM28: =FE28+FG28+FK28+FI28 -> 0 | FO28: 4 | FQ28: =ROUND(FP28*FO28/25*12*2*1.302,1) -> 0 | FS28: =ROUND(FR28*FQ28/25*12*2*1.302,1) -> 0 | FU28: =ROUND(FT28*FO28/20*12*2*1.302,1) -> 0 | FW28: =ROUND(FV28*FO28/12*12*2*1.302,1) -> 0 | FX28: =FP28+FR28+FV28+FT28 -> 0 | FY28: =FQ28+FS28+FW28+FU28 -> 0 | GA28: 4 | GB28: 0 | GC28: =ROUND(GB28*GA28/25*12*2*1.302,1) -> 0 | GD28: 0 | GE28: =ROUND(GD28*GC28/25*12*2*1.302,1) -> 0 | GF28: 0 | GG28: 0 | GH28: 0 | GI28: =ROUND(GH28*GA28/12*12*2*1.302,1) -> 0 | GJ28: =GB28+GD28+GH28+GF28 -> 0 | GK28: =GC28+GE28+GI28+GG28 -> 0 | GM28: 4 | GO28: =ROUND(GN28*GM28/25*12*2*1.302,1) -> 0 | GQ28: =ROUND(GP28*GO28/25*12*2*1.302,1) -> 0 | GS28: =ROUND(GR28*GM28/20*12*2*1.302,1) -> 0 | GU28: =ROUND(GT28*GM28/12*12*2*1.302,1) -> 0 | GV28: =GN28+GP28+GT28+GR28 -> 0 | GW28: =GO28+GQ28+GU28+GS28 -> 0 | GY28: 4 | GZ28: 0 | HA28: =ROUND(GZ28*GY28/25*12*2*1.302,1) -> 0 | HC28: =ROUND(HB28*HA28/25*12*2*1.302,1) -> 0 | HE28: =ROUND(HD28*GY28/20*12*2*1.302,1) -> 0 | HG28: =ROUND(HF28*GY28/12*12*2*1.302,1) -> 0 | HH28: =GZ28+HB28+HF28+HD28 -> 0 | HI28: =HA28+HC28+HG28+HE28 -> 0 | HK28: 4 | HL28: 0 | HM28: =ROUND(HL28*HK28/25*12*2*1.302,1) -> 0 | HO28: =ROUND(HN28*HM28/25*12*2*1.302,1) -> 0 | HQ28: =ROUND(HP28*HK28/20*12*2*1.302,1) -> 0 | HR28: 0 | HS28: =ROUND(HR28*HK28/12*12*2*1.302,1) -> 0 | HT28: =HL28+HN28+HR28+HP28 -> 0 | HU28: =HM28+HO28+HS28+HQ28 -> 0
A29: 3 | B29: =P29+AB29+AN29+AZ29+BL29+BX29+CJ29+CV29+DH29+DT29+EF29+ER29+FD29+FP29+GB29+GN29+GZ29+HL29 -> 0 | C29: =Q29+AC29+AO29+BA29+BM29+BY29+CK29+CW29+DI29+DU29+EG29+ES29+FE29+FQ29+GC29+GO29+HA29+HM29 -> 0 | D29: =R29+AD29+AP29+BB29+BN29+BZ29+CL29+CX29+DJ29+DV29+EH29+ET29+FF29+FR29+GD29+GP29+HB29+HN29 -> 0 | E29: =S29+AE29+AQ29+BC29+BO29+CA29+CM29+CY29+DK29+DW29+EI29+EU29+FG29+FS29+GE29+GQ29+HC29+HO29 -> 0 | F29: =T29+AF29+AR29+BD29+BP29+CB29+CN29+CZ29+DL29+DX29+EJ29+EV29+FH29+FT29+GF29+GR29+HD29+HP29 -> 0 | G29: =U29+AG29+AS29+BE29+BQ29+CC29+CO29+DA29+DM29+DY29+EK29+EW29+FI29+FU29+GG29+GS29+HE29+HQ29 -> 0 | H29: =V29+AH29+AT29+BF29+BR29+CD29+CP29+DB29+DN29+DZ29+EL29+EX29+FJ29+FV29+GH29+GT29+HF29+HR29 -> 0 | I29: =W29+AI29+AU29+BG29+BS29+CE29+CQ29+DC29+DO29+EA29+EM29+EY29+FK29+FW29+GI29+GU29+HG29+HS29 -> 0 | ... K29: =Y29+AK29+AW29+BI29+BU29+CG29+CS29+DE29+DQ29+EC29+EO29+FA29+FM29+FY29+GK29+GW29+HI29+HU29 -> 0 | O29: 3 | P29: 0 | Q29: =ROUND(P29*O29/25*12*2*1.302,1) -> 0 | S29: =ROUND(R29*Q29/25*12*2*1.302,1) -> 0 | U29: =ROUND(T29*O29/20*12*2*1.302,1) -> 0 | W29: =ROUND(V29*O29/12*12*2*1.302,1) -> 0 | X29: =P29+R29+V29+T29 -> 0 | Y29: =Q29+S29+W29+U29 -> 0 | AA29: 3 | AC29: =ROUND(AB29*AA29/25*12*2*1.302,1) -> 0 | AE29: =ROUND(AD29*AC29/25*12*2*1.302,1) -> 0 | AG29: =ROUND(AF29*AA29/20*12*2*1.302,1) -> 0 | AI29: =ROUND(AH29*AA29/12*12*2*1.302,1) -> 0 | AJ29: =AB29+AD29+AH29+AF29 -> 0 | AK29: =AC29+AE29+AI29+AG29 -> 0 | AM29: 3 | AO29: =ROUND(AN29*AM29/25*12*2*1.302,1) -> 0 | AQ29: =ROUND(AP29*AM29/25*12*2*1.302,1) -> 0 | AS29: =ROUND(AR29*AM29/20*12*2*1.302,1) -> 0 | AU29: =ROUND(AT29*AM29/12*12*2*1.302,1) -> 0 | AV29: =AN29+AP29+AT29+AR29 -> 0 | AW29: =AO29+AQ29+AU29+AS29 -> 0 | AY29: 3 | BA29: =ROUND(AZ29*AY29/25*12*2*1.302,1) -> 0 | BC29: =ROUND(BB29*AY29/25*12*2*1.302,1) -> 0 | BE29: =ROUND(BD29*AY29/20*12*2*1.302,1) -> 0 | BG29: =ROUND(BF29*AY29/12*12*2*1.302,1) -> 0 | BH29: =AZ29+BB29+BF29+BD29 -> 0 | BI29: =BA29+BC29+BG29+BE29 -> 0 | BK29: 3 | BM29: =ROUND(BL29*BK29/25*12*2*1.302,1) -> 0 | BO29: =ROUND(BN29*BM29/25*12*2*1.302,1) -> 0 | BQ29: =ROUND(BP29*BK29/20*12*2*1.302,1) -> 0 | BS29: =ROUND(BR29*BK29/12*12*2*1.302,1) -> 0 | BT29: =BL29+BN29+BR29+BP29 -> 0 | BU29: =BM29+BO29+BS29+BQ29 -> 0 | BW29: 3 | BY29: =ROUND(BX29*BW29/25*12*2*1.302,1) -> 0 | CA29: =ROUND(BZ29*BY29/25*12*2*1.302,1) -> 0 | CC29: =ROUND(CB29*BW29/20*12*2*1.302,1) -> 0 | CE29: =ROUND(CD29*BW29/12*12*2*1.302,1) -> 0 | CF29: =BX29+BZ29+CD29+CB29 -> 0 | CG29: =BY29+CA29+CE29+CC29 -> 0 | CI29: 3 | CK29: =ROUND(CJ29*CI29/25*12*2*1.302,1) -> 0 | CM29: =ROUND(CL29*CK29/25*12*2*1.302,1) -> 0 | CO29: =ROUND(CN29*CI29/20*12*2*1.302,1) -> 0 | CQ29: =ROUND(CP29*CI29/12*12*2*1.302,1) -> 0 | CR29: =CJ29+CL29+CP29+CN29 -> 0 | CS29: =CK29+CM29+CQ29+CO29 -> 0 | CU29: 3 | CW29: =ROUND(CV29*CU29/25*12*2*1.302,1) -> 0 | CY29: =ROUND(CX29*CU29/25*12*2*1.302,1) -> 0 | DA29: =ROUND(CZ29*CU29/20*12*2*1.302,1) -> 0 | DC29: =ROUND(DB29*CU29/12*12*2*1.302,1) -> 0 | DD29: =CV29+CX29+DB29+CZ29 -> 0 | DE29: =CW29+CY29+DC29+DA29 -> 0 | DG29: 3 | DH29: 0 | DI29: =ROUND(DH29*DG29/25*12*2*1.302,1) -> 0 | DK29: =ROUND(DJ29*DG29/25*12*2*1.302,1) -> 0 | DM29: =ROUND(DL29*DG29/20*12*2*1.302,1) -> 0 | DO29: =ROUND(DN29*DG29/12*12*2*1.302,1) -> 0 | DP29: =DH29+DJ29+DL29+DN29 -> 0 | DQ29: =DI29+DK29+DM29+DO29 -> 0 | DS29: 3 | DU29: =ROUND(DT29*DS29/25*12*2*1.302,1) -> 0 | DW29: =ROUND(DV29*DS29/25*12*2*1.302,1) -> 0 | DY29: =ROUND(DX29*DS29/20*12*1.302,1) -> 0 | EA29: =ROUND(DZ29*DS29/12*12*1.302,1) -> 0 | EB29: =DT29+DV29+DX29+DZ29 -> 0 | EC29: =DU29+DW29+DY29+EA29 -> 0 | EE29: 3 | EG29: =ROUND(EF29*EE29/25*12*2*1.302,1) -> 0 | EI29: =ROUND(EH29*EG29/25*12*2*1.302,1) -> 0 | EK29: =ROUND(EJ29*EE29/20*12*2*1.302,1) -> 0 | EM29: =ROUND(EL29*EE29/12*12*2*1.302,1) -> 0 | EN29: =EF29+EH29+EL29+EJ29 -> 0 | EO29: =EG29+EI29+EM29+EK29 -> 0 | EQ29: 3 | ES29: =ROUND(ER29*EQ29/25*12*2*1.302,1) -> 0 | EU29: =ROUND(ET29*EQ29/25*12*2*1.302,1) -> 0 | EW29: =ROUND(EV29*EQ29/20*12*2*1.302,1) -> 0 | EY29: =ROUND(EX29*EQ29/12*12*2*1.302,1) -> 0 | EZ29: =ER29+ET29+EX29+EV29 -> 0 | FA29: =ES29+EU29+EY29+EW29 -> 0 | FC29: 3 | FE29: =ROUND(FD29*FC29/25*12*2*1.302,1) -> 0 | FG29: =ROUND(FF29*FE29/25*12*2*1.302,1) -> 0 | FI29: =ROUND(FH29*FC29/20*12*2*1.302,1) -> 0 | FK29: =ROUND(FJ29*FC29/12*12*2*1.302,1) -> 0 | FL29: =FD29+FF29+FJ29+FH29 -> 0 | FM29: =FE29+FG29+FK29+FI29 -> 0 | FO29: 3 | FQ29: =ROUND(FP29*FO29/25*12*2*1.302,1) -> 0 | FS29: =ROUND(FR29*FQ29/25*12*2*1.302,1) -> 0 | FU29: =ROUND(FT29*FO29/20*12*2*1.302,1) -> 0 | FW29: =ROUND(FV29*FO29/12*12*2*1.302,1) -> 0 | FX29: =FP29+FR29+FV29+FT29 -> 0 | FY29: =FQ29+FS29+FW29+FU29 -> 0 | GA29: 3 | GB29: 0 | GC29: =ROUND(GB29*GA29/25*12*2*1.302,1) -> 0 | GD29: 0 | GE29: =ROUND(GD29*GC29/25*12*2*1.302,1) -> 0 | GF29: 0 | GG29: 0 | GH29: 0 | GI29: =ROUND(GH29*GA29/12*12*2*1.302,1) -> 0 | GJ29: =GB29+GD29+GH29+GF29 -> 0 | GK29: =GC29+GE29+GI29+GG29 -> 0 | GM29: 3 | GO29: =ROUND(GN29*GM29/25*12*2*1.302,1) -> 0 | GQ29: =ROUND(GP29*GO29/25*12*2*1.302,1) -> 0 | GS29: =ROUND(GR29*GM29/20*12*2*1.302,1) -> 0 | GU29: =ROUND(GT29*GM29/12*12*2*1.302,1) -> 0 | GV29: =GN29+GP29+GT29+GR29 -> 0 | GW29: =GO29+GQ29+GU29+GS29 -> 0 | GY29: 3 | GZ29: 0 | HA29: =ROUND(GZ29*GY29/25*12*2*1.302,1) -> 0 | HC29: =ROUND(HB29*HA29/25*12*2*1.302,1) -> 0 | HE29: =ROUND(HD29*GY29/20*12*2*1.302,1) -> 0 | HG29: =ROUND(HF29*GY29/12*12*2*1.302,1) -> 0 | HH29: =GZ29+HB29+HF29+HD29 -> 0 | HI29: =HA29+HC29+HG29+HE29 -> 0 | HK29: 3 | HL29: 0 | HM29: =ROUND(HL29*HK29/25*12*2*1.302,1) -> 0 | HO29: =ROUND(HN29*HM29/25*12*2*1.302,1) -> 0 | HQ29: =ROUND(HP29*HK29/20*12*2*1.302,1) -> 0 | HR29: 0 | HS29: =ROUND(HR29*HK29/12*12*2*1.302,1) -> 0 | HT29: =HL29+HN29+HR29+HP29 -> 0 | HU29: =HM29+HO29+HS29+HQ29 -> 0
A30: 2 | B30: =P30+AB30+AN30+AZ30+BL30+BX30+CJ30+CV30+DH30+DT30+EF30+ER30+FD30+FP30+GB30+GN30+GZ30+HL30 -> 0 | C30: =Q30+AC30+AO30+BA30+BM30+BY30+CK30+CW30+DI30+DU30+EG30+ES30+FE30+FQ30+GC30+GO30+HA30+HM30 -> 0 | D30: =R30+AD30+AP30+BB30+BN30+BZ30+CL30+CX30+DJ30+DV30+EH30+ET30+FF30+FR30+GD30+GP30+HB30+HN30 -> 1 | E30: =S30+AE30+AQ30+BC30+BO30+CA30+CM30+CY30+DK30+DW30+EI30+EU30+FG30+FS30+GE30+GQ30+HC30+HO30 -> 2.5 | F30: =T30+AF30+AR30+BD30+BP30+CB30+CN30+CZ30+DL30+DX30+EJ30+EV30+FH30+FT30+GF30+GR30+HD30+HP30 -> 0 | G30: =U30+AG30+AS30+BE30+BQ30+CC30+CO30+DA30+DM30+DY30+EK30+EW30+FI30+FU30+GG30+GS30+HE30+HQ30 -> 0 | H30: =V30+AH30+AT30+BF30+BR30+CD30+CP30+DB30+DN30+DZ30+EL30+EX30+FJ30+FV30+GH30+GT30+HF30+HR30 -> 0 | I30: =W30+AI30+AU30+BG30+BS30+CE30+CQ30+DC30+DO30+EA30+EM30+EY30+FK30+FW30+GI30+GU30+HG30+HS30 -> 0 | ... K30: =Y30+AK30+AW30+BI30+BU30+CG30+CS30+DE30+DQ30+EC30+EO30+FA30+FM30+FY30+GK30+GW30+HI30+HU30 -> 2.5 | O30: 2 | P30: 0 | Q30: =ROUND(P30*O30/25*12*2*1.302,1) -> 0 | S30: =ROUND(R30*Q30/25*12*2*1.302,1) -> 0 | U30: =ROUND(T30*O30/20*12*2*1.302,1) -> 0 | W30: =ROUND(V30*O30/12*12*2*1.302,1) -> 0 | X30: =P30+R30+V30+T30 -> 0 | Y30: =Q30+S30+W30+U30 -> 0 | AA30: 2 | AC30: =ROUND(AB30*AA30/25*12*2*1.302,1) -> 0 | AE30: =ROUND(AD30*AC30/25*12*2*1.302,1) -> 0 | AG30: =ROUND(AF30*AA30/20*12*2*1.302,1) -> 0 | AI30: =ROUND(AH30*AA30/12*12*2*1.302,1) -> 0 | AJ30: =AB30+AD30+AH30+AF30 -> 0 | AK30: =AC30+AE30+AI30+AG30 -> 0 | AM30: 2 | AO30: =ROUND(AN30*AM30/25*12*2*1.302,1) -> 0 | AP30: 1 | AQ30: =ROUND(AP30*AM30/25*12*2*1.302,1) -> 2.5 | AS30: =ROUND(AR30*AM30/20*12*2*1.302,1) -> 0 | AU30: =ROUND(AT30*AM30/12*12*2*1.302,1) -> 0 | AV30: =AN30+AP30+AT30+AR30 -> 1 | AW30: =AO30+AQ30+AU30+AS30 -> 2.5 | AY30: 2 | BA30: =ROUND(AZ30*AY30/25*12*2*1.302,1) -> 0 | BC30: =ROUND(BB30*AY30/25*12*2*1.302,1) -> 0 | BE30: =ROUND(BD30*AY30/20*12*2*1.302,1) -> 0 | BG30: =ROUND(BF30*AY30/12*12*2*1.302,1) -> 0 | BH30: =AZ30+BB30+BF30+BD30 -> 0 | BI30: =BA30+BC30+BG30+BE30 -> 0 | BK30: 2 | BL30: 0 | BM30: =ROUND(BL30*BK30/25*12*2*1.302,1) -> 0 | BO30: =ROUND(BN30*BM30/25*12*2*1.302,1) -> 0 | BQ30: =ROUND(BP30*BK30/20*12*2*1.302,1) -> 0 | BS30: =ROUND(BR30*BK30/12*12*2*1.302,1) -> 0 | BT30: =BL30+BN30+BR30+BP30 -> 0 | BU30: =BM30+BO30+BS30+BQ30 -> 0 | BW30: 2 | BY30: =ROUND(BX30*BW30/25*12*2*1.302,1) -> 0 | CA30: =ROUND(BZ30*BY30/25*12*2*1.302,1) -> 0 | CC30: =ROUND(CB30*BW30/20*12*2*1.302,1) -> 0 | CE30: =ROUND(CD30*BW30/12*12*2*1.302,1) -> 0 | CF30: =BX30+BZ30+CD30+CB30 -> 0 | CG30: =BY30+CA30+CE30+CC30 -> 0 | CI30: 2 | CK30: =ROUND(CJ30*CI30/25*12*2*1.302,1) -> 0 | CM30: =ROUND(CL30*CK30/25*12*2*1.302,1) -> 0 | CO30: =ROUND(CN30*CI30/20*12*2*1.302,1) -> 0 | CQ30: =ROUND(CP30*CI30/12*12*2*1.302,1) -> 0 | CR30: =CJ30+CL30+CP30+CN30 -> 0 | CS30: =CK30+CM30+CQ30+CO30 -> 0 | CU30: 2 | CW30: =ROUND(CV30*CU30/25*12*2*1.302,1) -> 0 | CY30: =ROUND(CX30*CU30/25*12*2*1.302,1) -> 0 | DA30: =ROUND(CZ30*CU30/20*12*2*1.302,1) -> 0 | DC30: =ROUND(DB30*CU30/12*12*2*1.302,1) -> 0 | DD30: =CV30+CX30+DB30+CZ30 -> 0 | DE30: =CW30+CY30+DC30+DA30 -> 0 | DG30: 2 | DH30: 0 | DI30: =ROUND(DH30*DG30/25*12*2*1.302,1) -> 0 | DK30: =ROUND(DJ30*DG30/25*12*2*1.302,1) -> 0 | DM30: =ROUND(DL30*DG30/20*12*2*1.302,1) -> 0 | DO30: =ROUND(DN30*DG30/12*12*2*1.302,1) -> 0 | DP30: =DH30+DJ30+DL30+DN30 -> 0 | DQ30: =DI30+DK30+DM30+DO30 -> 0 | DS30: 2 | DT30: 0 | DU30: =ROUND(DT30*DS30/25*12*2*1.302,1) -> 0 | DW30: =ROUND(DV30*DS30/25*12*2*1.302,1) -> 0 | DY30: =ROUND(DX30*DS30/20*12*1.302,1) -> 0 | EA30: =ROUND(DZ30*DS30/12*12*1.302,1) -> 0 | EB30: =DT30+DV30+DX30+DZ30 -> 0 | EC30: =DU30+DW30+DY30+EA30 -> 0 | EE30: 2 | EG30: =ROUND(EF30*EE30/25*12*2*1.302,1) -> 0 | EI30: =ROUND(EH30*EG30/25*12*2*1.302,1) -> 0 | EK30: =ROUND(EJ30*EE30/20*12*2*1.302,1) -> 0 | EM30: =ROUND(EL30*EE30/12*12*2*1.302,1) -> 0 | EN30: =EF30+EH30+EL30+EJ30 -> 0 | EO30: =EG30+EI30+EM30+EK30 -> 0 | EQ30: 2 | ES30: =ROUND(ER30*EQ30/25*12*2*1.302,1) -> 0 | EU30: =ROUND(ET30*EQ30/25*12*2*1.302,1) -> 0 | EW30: =ROUND(EV30*EQ30/20*12*2*1.302,1) -> 0 | EY30: =ROUND(EX30*EQ30/12*12*2*1.302,1) -> 0 | EZ30: =ER30+ET30+EX30+EV30 -> 0 | FA30: =ES30+EU30+EY30+EW30 -> 0 | FC30: 2 | FE30: =ROUND(FD30*FC30/25*12*2*1.302,1) -> 0 | FG30: =ROUND(FF30*FE30/25*12*2*1.302,1) -> 0 | FI30: =ROUND(FH30*FC30/20*12*2*1.302,1) -> 0 | FK30: =ROUND(FJ30*FC30/12*12*2*1.302,1) -> 0 | FL30: =FD30+FF30+FJ30+FH30 -> 0 | FM30: =FE30+FG30+FK30+FI30 -> 0 | FO30: 2 | FQ30: =ROUND(FP30*FO30/25*12*2*1.302,1) -> 0 | FS30: =ROUND(FR30*FQ30/25*12*2*1.302,1) -> 0 | FU30: =ROUND(FT30*FO30/20*12*2*1.302,1) -> 0 | FW30: =ROUND(FV30*FO30/12*12*2*1.302,1) -> 0 | FX30: =FP30+FR30+FV30+FT30 -> 0 | FY30: =FQ30+FS30+FW30+FU30 -> 0 | GA30: 2 | GB30: 0 | GC30: =ROUND(GB30*GA30/25*12*2*1.302,1) -> 0 | GD30: 0 | GE30: =ROUND(GD30*GC30/25*12*2*1.302,1) -> 0 | GF30: 0 | GG30: 0 | GH30: 0 | GI30: =ROUND(GH30*GA30/12*12*2*1.302,1) -> 0 | GJ30: =GB30+GD30+GH30+GF30 -> 0 | GK30: =GC30+GE30+GI30+GG30 -> 0 | GM30: 2 | GO30: =ROUND(GN30*GM30/25*12*2*1.302,1) -> 0 | GQ30: =ROUND(GP30*GO30/25*12*2*1.302,1) -> 0 | GS30: =ROUND(GR30*GM30/20*12*2*1.302,1) -> 0 | GU30: =ROUND(GT30*GM30/12*12*2*1.302,1) -> 0 | GV30: =GN30+GP30+GT30+GR30 -> 0 | GW30: =GO30+GQ30+GU30+GS30 -> 0 | GY30: 2 | GZ30: 0 | HA30: =ROUND(GZ30*GY30/25*12*2*1.302,1) -> 0 | HC30: =ROUND(HB30*HA30/25*12*2*1.302,1) -> 0 | HE30: =ROUND(HD30*GY30/20*12*2*1.302,1) -> 0 | HG30: =ROUND(HF30*GY30/12*12*2*1.302,1) -> 0 | HH30: =GZ30+HB30+HF30+HD30 -> 0 | HI30: =HA30+HC30+HG30+HE30 -> 0 | HK30: 2 | HL30: 0 | HM30: =ROUND(HL30*HK30/25*12*2*1.302,1) -> 0 | HO30: =ROUND(HN30*HM30/25*12*2*1.302,1) -> 0 | HQ30: =ROUND(HP30*HK30/20*12*2*1.302,1) -> 0 | HR30: 0 | HS30: =ROUND(HR30*HK30/12*12*2*1.302,1) -> 0 | HT30: =HL30+HN30+HR30+HP30 -> 0 | HU30: =HM30+HO30+HS30+HQ30 -> 0
A31: ИТОГО | B31: =SUM(B7:B30) -> 4106 | C31: =SUM(C7:D30) -> 123403.7 | D31: =SUM(D7:D30) -> 24 | E31: =SUM(E7:F30) -> 449.7 | F31: =SUM(F7:G30) -> 0 | G31: =SUM(G7:H30) -> 144 | H31: =SUM(H7:I30) -> 4510.3 | I31: =SUM(I7:I30) -> 4366.3 | J31: =SUM(J7:J30) -> 4274 | K31: =SUM(K7:K30) -> 128195.7 | L31: =X31+AJ31+AV31+BH31+BT31+CF31+CR31+DD31+DP31+EB31+EN31+EZ31+FL31+FX31+GJ31+GV31+HH31+HT31 -> 4274 | M31: =Y31+AK31+AW31+BI31+BU31+CG31+CS31+DE31+DQ31+EC31+EO31+FA31+FM31+FY31+GK31+GW31+HI31+HU31 -> 128195.7 | O31: ИТОГО | P31: =SUM(P7:P30) -> 147 | Q31: =SUM(Q7:Q30) -> 4450.9 | R31: =SUM(R7:R30) -> 0 | S31: =SUM(S7:S30) -> 0 | T31: =SUM(T7:T30) -> 0 | U31: =SUM(U7:U30) -> 0 | V31: =SUM(V7:V30) -> 9 | W31: =SUM(W7:W30) -> 270.7 | ... Y31: =SUM(Y7:Y30) -> 4721.6 | AA31: ИТОГО | AB31: =SUM(AB7:AB30) -> 61 | AC31: =SUM(AC7:AD30) -> 1851.1 | AD31: =SUM(AD7:AE30) -> 0 | AE31: =SUM(AE7:AF30) -> 0 | AF31: =SUM(AF7:AG30) -> 0 | AG31: =SUM(AG7:AH30) -> 4 | AH31: =SUM(AH7:AI30) -> 123.7 | AI31: =SUM(AI7:AJ30) -> 184.7 | AJ31: =SUM(AJ7:AJ29) -> 65 | AK31: =SUM(AK7:AL30) -> 1970.8 | AM31: ИТОГО | AN31: =SUM(AN7:AN30) -> 239 | AO31: =SUM(AO7:AO30) -> 7248.3 | AP31: =SUM(AP7:AP30) -> 5 | AQ31: =SUM(AQ7:AQ30) -> 41.1 | AR31: =SUM(AR7:AR30) -> 0 | AS31: =SUM(AS7:AS30) -> 0 | AT31: =SUM(AT7:AT30) -> 0 | AU31: =SUM(AU7:AU30) -> 0 | ... AW31: =SUM(AW7:AW30) -> 7289.4 | AY31: ИТОГО | AZ31: =SUM(AZ7:AZ30) -> 643 | BA31: =SUM(BA7:BA30) -> 19752.5 | BB31: =SUM(BB7:BB30) -> 4 | BC31: =SUM(BC7:BC30) -> 70 | BD31: =SUM(BD7:BE30) -> 0 | BE31: =SUM(BE7:BF30) -> 0 | BF31: =SUM(BF7:BG30) -> 0 | BG31: =SUM(BG7:BG30) -> 0 | BH31: =SUM(BH7:BH30) -> 647 | BI31: =SUM(BI7:BJ30) -> 19822.5 | BK31: ИТОГО | BL31: =SUM(BL7:BL30) -> 463 | BM31: =SUM(BM7:BM30) -> 14044 | BN31: =SUM(BN7:BN30) -> 0 | BO31: =SUM(BO7:BO30) -> 0 | BP31: =SUM(BP7:BP30) -> 0 | BQ31: =SUM(BQ7:BQ30) -> 0 | BR31: =SUM(BR7:BR30) -> 13 | BS31: =SUM(BS7:BS30) -> 361.9 | ... BU31: =SUM(BU7:BU30) -> 14405.9 | BW31: ИТОГО | BX31: =SUM(BX7:BX30) -> 497 | BY31: =SUM(BY7:BY30) -> 14631.5 | BZ31: =SUM(BZ7:BZ30) -> 0 | CA31: =SUM(CA7:CA30) -> 0 | CB31: =SUM(CB7:CB30) -> 0 | CC31: =SUM(CC7:CC30) -> 0 | CD31: =SUM(CD7:CD30) -> 28 | CE31: =SUM(CE7:CE30) -> 838.4 | ... CG31: =SUM(CG7:CG30) -> 15469.9 | CI31: ИТОГО | CJ31: =SUM(CJ7:CJ30) -> 220 | CK31: =SUM(CK7:CK30) -> 6679.5 | CL31: =SUM(CL7:CM30) -> 0 | CM31: =SUM(CM7:CN30) -> 0 | CN31: =SUM(CN7:CO30) -> 0 | CO31: =SUM(CO7:CP30) -> 13 | CP31: =SUM(CP7:CQ30) -> 406.2 | CQ31: =SUM(CQ7:CR30) -> 626.2 | CR31: =SUM(CR7:CR30) -> 233 | CS31: =SUM(CS7:CT30) -> 7072.7 | CU31: ИТОГО | CV31: =SUM(CV7:CV30) -> 233 | CW31: =SUM(CW7:CW30) -> 7091.9 | CX31: =SUM(CX7:CX30) -> 1 | CY31: =SUM(CY7:CZ30) -> 31.2 | CZ31: =SUM(CZ7:DA30) -> 0 | DA31: 0 | DB31: =SUM(DB7:DB30) -> 12 | DC31: =SUM(DC7:DC30) -> 375 | DD31: =SUM(DD7:DD30) -> 246 | DE31: =SUM(DE7:DE30) -> 7498.1 | DG31: ИТОГО | DH31: =SUM(DH7:DH30) -> 295 | DI31: =SUM(DI7:DI30) -> 8743.1 | DJ31: =SUM(DJ7:DJ30) -> 2 | DK31: =SUM(DK7:DK30) -> 46.2 | DL31: =SUM(DL7:DL30) -> 0 | DM31: =SUM(DM7:DM30) -> 0 | DN31: =SUM(DN7:DN30) -> 0 | DO31: =SUM(DO7:DO30) -> 0 | ... DQ31: =SUM(DQ7:DQ30) -> 8789.3 | DS31: ИТОГО | DT31: =SUM(DT7:DT30) -> 82 | DU31: =SUM(DU7:DU30) -> 2412.3 | DV31: =SUM(DV7:DV30) -> 2 | DW31: =SUM(DW7:DW30) -> 42.5 | DX31: =SUM(DX7:DX30) -> 0 | DY31: =SUM(DY7:DY30) -> 0 | DZ31: =SUM(DZ7:DZ30) -> 9 | EA31: =SUM(EA7:EA30) -> 281.2 | ... EC31: =SUM(EC7:EC30) -> 2736 | EE31: ИТОГО | EF31: =SUM(EF7:EF30) -> 25 | EG31: =SUM(EG7:EH30) -> 533.5 | EH31: =SUM(EH7:EI30) -> 0 | EI31: =SUM(EI7:EJ30) -> 0 | EJ31: =SUM(EJ7:EK30) -> 0 | EK31: =SUM(EK7:EL30) -> 2 | EL31: =SUM(EL20:EL30) -> 2 | EM31: =SUM(EM7:EN30) -> 89.5 | EN31: =SUM(EN7:EN30) -> 27 | EO31: =SUM(EO7:EO30) -> 596 | EQ31: ИТОГО | ER31: =SUM(ER7:ER30) -> 159 | ES31: =SUM(ES7:ES30) -> 4656 | ET31: =SUM(ET7:ET30) -> 10 | EU31: =SUM(EU7:EV30) -> 218.7 | EV31: =SUM(EV7:EW30) -> 0 | EW31: =SUM(EW7:EX30) -> 1 | EX31: =SUM(EX7:EX30) -> 1 | EY31: =SUM(EY20:EY30) -> 26 | EZ31: =SUM(EZ7:EZ30) -> 170 | FA31: =SUM(FA7:FA30) -> 4900.7 | FC31: ИТОГО | FD31: =SUM(FD7:FD30) -> 106 | FE31: =SUM(FE7:FE30) -> 3058.4 | FF31: =SUM(FF7:FF30) -> 0 | FG31: =SUM(FG7:FG30) -> 0 | FH31: =SUM(FH7:FH30) -> 0 | FI31: =SUM(FI7:FI30) -> 0 | FJ31: =SUM(FJ7:FJ30) -> 1 | FK31: =SUM(FK7:FK30) -> 31.2 | ... FM31: =SUM(FM7:FM30) -> 3089.6 | FO31: ИТОГО | FP31: =SUM(FP7:FP30) -> 83 | FQ31: =SUM(FQ7:FQ30) -> 2487.2 | FR31: =SUM(FR7:FR30) -> 0 | FS31: =SUM(FS7:FS30) -> 0 | FT31: =SUM(FT7:FT30) -> 0 | FU31: =SUM(FU7:FU30) -> 0 | FV31: =SUM(FV7:FV30) -> 14 | FW31: =SUM(FW7:FW30) -> 432.2 | ... FY31: =SUM(FY7:FY30) -> 2919.4 | GA31: ИТОГО | GB31: =SUM(GB7:GB30) -> 108 | GC31: =SUM(GC7:GC30) -> 3343.5 | GD31: =SUM(GD7:GD30) -> 0 | GE31: =SUM(GE7:GE30) -> 0 | GF31: =SUM(GF7:GF30) -> 0 | GG31: =SUM(GG7:GG30) -> 0 | GH31: =SUM(GH7:GH30) -> 14 | GI31: =SUM(GI7:GI30) -> 434.8 | ... GK31: =SUM(GK7:GK30) -> 3778.3 | GM31: ИТОГО | GN31: =SUM(GN7:GN30) -> 228 | GO31: =SUM(GO7:GP30) -> 6930.8 | GP31: =SUM(GP7:GQ30) -> 0 | GQ31: =SUM(GQ7:GR30) -> 0 | GR31: =SUM(GR7:GS30) -> 0 | GS31: =SUM(GS7:GT30) -> 11 | GT31: =SUM(GT20:GT30) -> 11 | GU31: =SUM(GU7:GV30) -> 582.7 | GV31: =SUM(GV7:GV30) -> 239 | GW31: =SUM(GW7:GX30) -> 7274.5 | GY31: ИТОГО | GZ31: =SUM(GZ7:GZ30) -> 291 | HA31: =SUM(HA7:HB30) -> 8590.7 | HB31: =SUM(HB7:HC30) -> 0 | HC31: =SUM(HC7:HD30) -> 0 | HD31: =SUM(HD7:HE30) -> 0 | HE31: =SUM(HE7:HF30) -> 0 | HF31: =SUM(HF7:HG30) -> 0 | HG31: =SUM(HG7:HG30) -> 0 | HH31: =SUM(HH7:HH30) -> 291 | HI31: =SUM(HI7:HI30) -> 8590.7 | HK31: ИТОГО | HL31: =SUM(HL7:HL30) -> 226 | HM31: =SUM(HM7:HM30) -> 6874.5 | HN31: =SUM(HN7:HO30) -> 0 | HO31: =SUM(HO7:HP30) -> 0 | HP31: =SUM(HP7:HQ30) -> 0 | HQ31: =SUM(HQ7:HR30) -> 13 | HR31: =SUM(HR7:HR30) -> 13 | HS31: =SUM(HS7:HS30) -> 395.8 | HT31: =SUM(HT7:HT30) -> 239 | HU31: =SUM(HU7:HU30) -> 7270.3
A32: СЕЛО | O32: СЕЛО | AA32: СЕЛО | AM32: СЕЛО | AY32: СЕЛО | BK32: СЕЛО | BW32: СЕЛО | CI32: СЕЛО | CU32: СЕЛО | DG32: СЕЛО | DS32: СЕЛО | EE32: СЕЛО | EQ32: СЕЛО | FC32: СЕЛО | FO32: СЕЛО | GA32: СЕЛО | GM32: СЕЛО | GY32: СЕЛО | HK32: СЕЛО
A33: 14 | B33: =P33+AB33+AN33+AZ33+BL33+BX33+CJ33+CV33+DH33+DT33+EF33+ER33+FD33+FP33+GB33+GN33+GZ33+HL33 -> 1712 | C33: =Q33+AC33+AO33+BA33+BM33+BY33+CK33+CW33+DI33+DU33+EG33+ES33+FE33+FQ33+GC33+GO33+HA33+HM33 -> 53496.6 | D33: =R33+AD33+AP33+BB33+BN33+BZ33+CL33+CX33+DJ33+DV33+EH33+ET33+FF33+FR33+GD33+GP33+HB33+HN33 -> 20 | E33: =S33+AE33+AQ33+BC33+BO33+CA33+CM33+CY33+DK33+DW33+EI33+EU33+FG33+FS33+GE33+GQ33+HC33+HO33 -> 624.9 | F33: =T33+AF33+AR33+BD33+BP33+CB33+CN33+CZ33+DL33+DX33+EJ33+EV33+FH33+FT33+GF33+GR33+HD33+HP33 -> 13 | G33: =U33+AG33+AS33+BE33+BQ33+CC33+CO33+DA33+DM33+DY33+EK33+EW33+FI33+FU33+GG33+GS33+HE33+HQ33 -> 406.2 | H33: =V33+AH33+AT33+BF33+BR33+CD33+CP33+DB33+DN33+DZ33+EL33+EX33+FJ33+FV33+GH33+GT33+HF33+HR33 -> 0 | I33: =W33+AI33+AU33+BG33+BS33+CE33+CQ33+DC33+DO33+EA33+EM33+EY33+FK33+FW33+GI33+GU33+HG33+HS33 -> 0 | ... K33: =Y33+AK33+AW33+BI33+BU33+CG33+CS33+DE33+DQ33+EC33+EO33+FA33+FM33+FY33+GK33+GW33+HI33+HU33 -> 54527.7 | O33: 14 | P33: 8 | Q33: =ROUND(P33*O33/14*12*2*1.302,1) -> 250 | S33: =ROUND(R33*Q33/14*12*2*1.302,1) -> 0 | U33: =ROUND(T33*O33/14*12*2*1.302,1) -> 0 | X33: =P33+R33+V33+T33 -> 8 | Y33: =Q33+S33+W33+U33 -> 250 | AA33: 14 | AB33: 105 | AC33: =ROUND(AB33*AA33/14*12*2*1.302,1) -> 3281 | AE33: =ROUND(AD33*AC33/14*12*2*1.302,1) -> 0 | AG33: =ROUND(AF33*AA33/14*12*2*1.302,1) -> 0 | AJ33: =AB33+AD33+AH33+AF33 -> 105 | AK33: =AC33+AE33+AI33+AG33 -> 3281 | AM33: 14 | AN33: 42 | AO33: =ROUND(AN33*AM33/14*12*2*1.302,1) -> 1312.4 | AQ33: =ROUND(AP33*AO33/14*12*2*1.302,1) -> 0 | AS33: =ROUND(AR33*AM33/14*12*2*1.302,1) -> 0 | AV33: =AN33+AP33+AT33+AR33 -> 42 | AW33: =AO33+AQ33+AU33+AS33 -> 1312.4 | AY33: 14 | AZ33: 624 | BA33: =ROUND(AZ33*AY33/14*12*2*1.302,1) -> 19498.8 | BB33: 13 | BC33: =ROUND(BB33*AY33/14*12*2*1.302,1) -> 406.2 | BE33: =ROUND(BD33*AY33/14*12*2*1.302,1) -> 0 | BH33: =AZ33+BB33+BF33+BD33 -> 637 | BI33: =BA33+BC33+BG33+BE33 -> 19905 | BK33: 14 | BL33: 146 | BM33: =ROUND(BL33*BK33/14*12*2*1.302,1) -> 4562.2 | BO33: =ROUND(BN33*BM33/14*12*2*1.302,1) -> 0 | BQ33: =ROUND(BP33*BK33/14*12*2*1.302,1) -> 0 | BT33: =BL33+BN33+BR33+BP33 -> 146 | BU33: =BM33+BO33+BS33+BQ33 -> 4562.2 | BW33: 14 | BX33: 210 | BY33: =ROUND(BX33*BW33/14*12*2*1.302,1) -> 6562.1 | BZ33: 4 | CA33: =ROUND(BZ33*BW33/14*12*2*1.302,1) -> 125 | CC33: =ROUND(CB33*BW33/14*12*2*1.302,1) -> 0 | CF33: =BX33+BZ33+CD33+CB33 -> 214 | CG33: =BY33+CA33+CE33+CC33 -> 6687.1 | CI33: 14 | CJ33: 52 | CK33: =ROUND(CJ33*CI33/14*12*2*1.302,1) -> 1624.9 | CM33: =ROUND(CL33*CK33/14*12*2*1.302,1) -> 0 | CO33: =ROUND(CN33*CI33/14*12*2*1.302,1) -> 0 | CR33: =CJ33+CL33+CP33+CN33 -> 52 | CS33: =CK33+CM33+CQ33+CO33 -> 1624.9 | CU33: 14 | CV33: 12 | CW33: =ROUND(CV33*CU33/14*12*2*1.302,1) -> 375 | CY33: =ROUND(CX33*CW33/14*12*2*1.302,1) -> 0 | DA33: =ROUND(CZ33*CU33/14*12*2*1.302,1) -> 0 | DD33: =CV33+CX33+DB33+CZ33 -> 12 | DE33: =CW33+CY33+DC33+DA33 -> 375 | DG33: 14 | DH33: 17 | DI33: =ROUND(DH33*DG33/14*12*2*1.302,1) -> 531.2 | DK33: =ROUND(DJ33*DG33/14*12*2*1.302,1) -> 0 | DM33: =ROUND(DL33*DG33/14*12*2*1.302,1) -> 0 | DO33: =ROUND(DN33*DG33/12*12*2*1.302,1) -> 0 | DP33: =DH33+DJ33+DL33+DN33 -> 17 | DQ33: =DI33+DK33+DM33+DO33 -> 531.2 | DS33: 14 | DT33: 16 | DU33: =ROUND(DT33*DS33/14*12*2*1.302,1) -> 500 | DW33: =ROUND(DV33*DS33/14*12*2*1.302,1) -> 0 | DY33: =ROUND(DX33*DS33/14*12*1.302,1) -> 0 | EB33: =DT33+DV33+DX33+DZ33 -> 16 | EC33: =DU33+DW33+DY33+EA33 -> 500 | EE33: 14 | EF33: 185 | EG33: =ROUND(EF33*EE33/14*12*2*1.302,1) -> 5780.9 | EI33: =ROUND(EH33*EG33/14*12*2*1.302,1) -> 0 | EK33: =ROUND(EJ33*EE33/14*12*2*1.302,1) -> 0 | EM33: =ROUND(EL33*EE33/12*12*2*1.302,1) -> 0 | EN33: =EF33+EH33+EL33+EJ33 -> 185 | EO33: =EG33+EI33+EM33+EK33 -> 5780.9 | EQ33: 14 | ER33: 63 | ES33: =ROUND(ER33*EQ33/14*12*2*1.302,1) -> 1968.6 | EU33: =ROUND(ET33*EQ33/14*12*2*1.302,1) -> 0 | EW33: =ROUND(EV33*EQ33/14*12*2*1.302,1) -> 0 | EZ33: =ER33+ET33+EX33+EV33 -> 63 | FA33: =ES33+EU33+EY33+EW33 -> 1968.6 | FC33: 14 | FD33: 9 | FE33: =ROUND(FD33*FC33/14*12*2*1.302,1) -> 281.2 | FG33: =ROUND(FF33*FE33/14*12*2*1.302,1) -> 0 | FI33: =ROUND(FH33*FC33/14*12*2*1.302,1) -> 0 | FL33: =FD33+FF33+FJ33+FH33 -> 9 | FM33: =FE33+FG33+FK33+FI33 -> 281.2 | FO33: 14 | FP33: 116 | FQ33: =ROUND(FP33*FO33/14*12*2*1.302,1) -> 3624.8 | FR33: 2 | FS33: =ROUND(FR33*FO33/14*12*2*1.302,1) -> 62.5 | FU33: =ROUND(FT33*FO33/14*12*2*1.302,1) -> 0 | FX33: =FP33+FR33+FV33+FT33 -> 118 | FY33: =FQ33+FS33+FW33+FU33 -> 3687.3 | GA33: 14 | GB33: 6 | GC33: =ROUND(GB33*GA33/14*12*2*1.302,1) -> 187.5 | GD33: 1 | GE33: =ROUND(GD33*GA33/14*12*2*1.302,1) -> 31.2 | GF33: 0 | GG33: 0 | GJ33: =GB33+GD33+GH33+GF33 -> 7 | GK33: =GC33+GE33+GI33+GG33 -> 218.7 | GM33: 14 | GN33: 7 | GO33: =ROUND(GN33*GM33/14*12*2*1.302,1) -> 218.7 | GQ33: =ROUND(GP33*GO33/14*12*2*1.302,1) -> 0 | GS33: =ROUND(GR33*GM33/14*12*2*1.302,1) -> 0 | GV33: =GN33+GP33+GT33+GR33 -> 7 | GW33: =GO33+GQ33+GU33+GS33 -> 218.7 | GY33: 14 | GZ33: 94 | HA33: =ROUND(GZ33*GY33/14*12*2*1.302,1) -> 2937.3 | HC33: =ROUND(HB33*HA33/14*12*2*1.302,1) -> 0 | HD33: 13 | HE33: =ROUND(HD33*GY33/14*12*2*1.302,1) -> 406.2 | HH33: =GZ33+HB33+HF33+HD33 -> 107 | HI33: =HA33+HC33+HG33+HE33 -> 3343.5 | HK33: 14 | HM33: =ROUND(HL33*HK33/14*12*2*1.302,1) -> 0 | HO33: =ROUND(HN33*HM33/14*12*2*1.302,1) -> 0 | HQ33: =ROUND(HP33*HK33/14*12*2*1.302,1) -> 0 | HT33: =HL33+HN33+HR33+HP33 -> 0 | HU33: =HM33+HO33+HS33+HQ33 -> 0
A34: 13 | B34: =P34+AB34+AN34+AZ34+BL34+BX34+CJ34+CV34+DH34+DT34+EF34+ER34+FD34+FP34+GB34+GN34+GZ34+HL34 -> 90 | C34: =Q34+AC34+AO34+BA34+BM34+BY34+CK34+CW34+DI34+DU34+EG34+ES34+FE34+FQ34+GC34+GO34+HA34+HM34 -> 2611.6 | D34: =R34+AD34+AP34+BB34+BN34+BZ34+CL34+CX34+DJ34+DV34+EH34+ET34+FF34+FR34+GD34+GP34+HB34+HN34 -> 1 | E34: =S34+AE34+AQ34+BC34+BO34+CA34+CM34+CY34+DK34+DW34+EI34+EU34+FG34+FS34+GE34+GQ34+HC34+HO34 -> 29 | F34: =T34+AF34+AR34+BD34+BP34+CB34+CN34+CZ34+DL34+DX34+EJ34+EV34+FH34+FT34+GF34+GR34+HD34+HP34 -> 0 | G34: =U34+AG34+AS34+BE34+BQ34+CC34+CO34+DA34+DM34+DY34+EK34+EW34+FI34+FU34+GG34+GS34+HE34+HQ34 -> 0 | H34: =V34+AH34+AT34+BF34+BR34+CD34+CP34+DB34+DN34+DZ34+EL34+EX34+FJ34+FV34+GH34+GT34+HF34+HR34 -> 0 | I34: =W34+AI34+AU34+BG34+BS34+CE34+CQ34+DC34+DO34+EA34+EM34+EY34+FK34+FW34+GI34+GU34+HG34+HS34 -> 0 | ... K34: =Y34+AK34+AW34+BI34+BU34+CG34+CS34+DE34+DQ34+EC34+EO34+FA34+FM34+FY34+GK34+GW34+HI34+HU34 -> 2640.6 | O34: 13 | P34: 2 | Q34: =ROUND(P34*O34/14*12*2*1.302,1) -> 58 | S34: =ROUND(R34*Q34/14*12*2*1.302,1) -> 0 | U34: =ROUND(T34*O34/14*12*2*1.302,1) -> 0 | X34: =P34+R34+V34+T34 -> 2 | Y34: =Q34+S34+W34+U34 -> 58 | AA34: 13 | AB34: 5 | AC34: =ROUND(AB34*AA34/14*12*2*1.302,1) -> 145.1 | AE34: =ROUND(AD34*AC34/14*12*2*1.302,1) -> 0 | AG34: =ROUND(AF34*AA34/14*12*2*1.302,1) -> 0 | AJ34: =AB34+AD34+AH34+AF34 -> 5 | AK34: =AC34+AE34+AI34+AG34 -> 145.1 | AM34: 13 | AN34: 5 | AO34: =ROUND(AN34*AM34/14*12*2*1.302,1) -> 145.1 | AQ34: =ROUND(AP34*AO34/14*12*2*1.302,1) -> 0 | AS34: =ROUND(AR34*AM34/14*12*2*1.302,1) -> 0 | AV34: =AN34+AP34+AT34+AR34 -> 5 | AW34: =AO34+AQ34+AU34+AS34 -> 145.1 | AY34: 13 | BA34: =ROUND(AZ34*AY34/14*12*2*1.302,1) -> 0 | BC34: =ROUND(BB34*AY34/14*12*1.302,1) -> 0 | BE34: =ROUND(BD34*AY34/14*12*2*1.302,1) -> 0 | BH34: =AZ34+BB34+BF34+BD34 -> 0 | BI34: =BA34+BC34+BG34+BE34 -> 0 | BK34: 13 | BL34: 11 | BM34: =ROUND(BL34*BK34/14*12*2*1.302,1) -> 319.2 | BO34: =ROUND(BN34*BM34/14*12*2*1.302,1) -> 0 | BQ34: =ROUND(BP34*BK34/14*12*2*1.302,1) -> 0 | BT34: =BL34+BN34+BR34+BP34 -> 11 | BU34: =BM34+BO34+BS34+BQ34 -> 319.2 | BW34: 13 | BX34: 22 | BY34: =ROUND(BX34*BW34/14*12*2*1.302,1) -> 638.4 | CA34: =ROUND(BZ34*BW34/14*12*2*1.302,1) -> 0 | CC34: =ROUND(CB34*BW34/14*12*2*1.302,1) -> 0 | CF34: =BX34+BZ34+CD34+CB34 -> 22 | CG34: =BY34+CA34+CE34+CC34 -> 638.4 | CI34: 13 | CJ34: 5 | CK34: =ROUND(CJ34*CI34/14*12*2*1.302,1) -> 145.1 | CM34: =ROUND(CL34*CK34/14*12*2*1.302,1) -> 0 | CO34: =ROUND(CN34*CI34/14*12*2*1.302,1) -> 0 | CR34: =CJ34+CL34+CP34+CN34 -> 5 | CS34: =CK34+CM34+CQ34+CO34 -> 145.1 | CU34: 13 | CV34: 3 | CW34: =ROUND(CV34*CU34/14*12*2*1.302,1) -> 87 | CY34: =ROUND(CX34*CW34/14*12*2*1.302,1) -> 0 | DA34: =ROUND(CZ34*CU34/14*12*2*1.302,1) -> 0 | DD34: =CV34+CX34+DB34+CZ34 -> 3 | DE34: =CW34+CY34+DC34+DA34 -> 87 | DG34: 13 | DH34: 1 | DI34: =ROUND(DH34*DG34/14*12*2*1.302,1) -> 29 | DK34: =ROUND(DJ34*DG34/14*12*2*1.302,1) -> 0 | DM34: =ROUND(DL34*DG34/14*12*2*1.302,1) -> 0 | DO34: =ROUND(DN34*DG34/12*12*2*1.302,1) -> 0 | DP34: =DH34+DJ34+DL34+DN34 -> 1 | DQ34: =DI34+DK34+DM34+DO34 -> 29 | DS34: 13 | DT34: 6 | DU34: =ROUND(DT34*DS34/14*12*2*1.302,1) -> 174.1 | DW34: =ROUND(DV34*DS34/14*12*2*1.302,1) -> 0 | DY34: =ROUND(DX34*DS34/14*12*1.302,1) -> 0 | EB34: =DT34+DV34+DX34+DZ34 -> 6 | EC34: =DU34+DW34+DY34+EA34 -> 174.1 | EE34: 13 | EF34: 4 | EG34: =ROUND(EF34*EE34/14*12*2*1.302,1) -> 116.1 | EI34: =ROUND(EH34*EG34/14*12*2*1.302,1) -> 0 | EK34: =ROUND(EJ34*EE34/14*12*2*1.302,1) -> 0 | EL34: 0 | EM34: =ROUND(EL34*EE34/12*12*2*1.302,1) -> 0 | EN34: =EF34+EH34+EL34+EJ34 -> 4 | EO34: =EG34+EI34+EM34+EK34 -> 116.1 | EQ34: 13 | ER34: 6 | ES34: =ROUND(ER34*EQ34/14*12*2*1.302,1) -> 174.1 | EU34: =ROUND(ET34*EQ34/14*12*2*1.302,1) -> 0 | EW34: =ROUND(EV34*EQ34/14*12*2*1.302,1) -> 0 | EZ34: =ER34+ET34+EX34+EV34 -> 6 | FA34: =ES34+EU34+EY34+EW34 -> 174.1 | FC34: 13 | FE34: =ROUND(FD34*FC34/14*12*2*1.302,1) -> 0 | FG34: =ROUND(FF34*FE34/14*12*2*1.302,1) -> 0 | FI34: =ROUND(FH34*FC34/14*12*2*1.302,1) -> 0 | FL34: =FD34+FF34+FJ34+FH34 -> 0 | FM34: =FE34+FG34+FK34+FI34 -> 0 | FO34: 13 | FP34: 10 | FQ34: =ROUND(FP34*FO34/14*12*2*1.302,1) -> 290.2 | FR34: 1 | FS34: =ROUND(FR34*FO34/14*12*2*1.302,1) -> 29 | FU34: =ROUND(FT34*FO34/14*12*2*1.302,1) -> 0 | FX34: =FP34+FR34+FV34+FT34 -> 11 | FY34: =FQ34+FS34+FW34+FU34 -> 319.2 | GA34: 13 | GB34: 0 | GC34: =ROUND(GB34*GA34/14*12*2*1.302,1) -> 0 | GD34: 0 | GE34: =ROUND(GD34*GA34/14*12*2*1.302,1) -> 0 | GF34: 0 | GG34: 0 | GJ34: =GB34+GD34+GH34+GF34 -> 0 | GK34: =GC34+GE34+GI34+GG34 -> 0 | GM34: 13 | GN34: 4 | GO34: =ROUND(GN34*GM34/14*12*2*1.302,1) -> 116.1 | GQ34: =ROUND(GP34*GO34/14*12*2*1.302,1) -> 0 | GS34: =ROUND(GR34*GM34/14*12*2*1.302,1) -> 0 | GV34: =GN34+GP34+GT34+GR34 -> 4 | GW34: =GO34+GQ34+GU34+GS34 -> 116.1 | GY34: 13 | GZ34: 6 | HA34: =ROUND(GZ34*GY34/14*12*2*1.302,1) -> 174.1 | HC34: =ROUND(HB34*HA34/14*12*2*1.302,1) -> 0 | HE34: =ROUND(HD34*GY34/14*12*2*1.302,1) -> 0 | HH34: =GZ34+HB34+HF34+HD34 -> 6 | HI34: =HA34+HC34+HG34+HE34 -> 174.1 | HK34: 13 | HM34: =ROUND(HL34*HK34/14*12*2*1.302,1) -> 0 | HO34: =ROUND(HN34*HM34/14*12*2*1.302,1) -> 0 | HQ34: =ROUND(HP34*HK34/14*12*2*1.302,1) -> 0 | HT34: =HL34+HN34+HR34+HP34 -> 0 | HU34: =HM34+HO34+HS34+HQ34 -> 0
A35: 12 | B35: =P35+AB35+AN35+AZ35+BL35+BX35+CJ35+CV35+DH35+DT35+EF35+ER35+FD35+FP35+GB35+GN35+GZ35+HL35 -> 96 | C35: =Q35+AC35+AO35+BA35+BM35+BY35+CK35+CW35+DI35+DU35+EG35+ES35+FE35+FQ35+GC35+GO35+HA35+HM35 -> 2571.4 | D35: =R35+AD35+AP35+BB35+BN35+BZ35+CL35+CX35+DJ35+DV35+EH35+ET35+FF35+FR35+GD35+GP35+HB35+HN35 -> 1 | E35: =S35+AE35+AQ35+BC35+BO35+CA35+CM35+CY35+DK35+DW35+EI35+EU35+FG35+FS35+GE35+GQ35+HC35+HO35 -> 26.8 | F35: =T35+AF35+AR35+BD35+BP35+CB35+CN35+CZ35+DL35+DX35+EJ35+EV35+FH35+FT35+GF35+GR35+HD35+HP35 -> 0 | G35: =U35+AG35+AS35+BE35+BQ35+CC35+CO35+DA35+DM35+DY35+EK35+EW35+FI35+FU35+GG35+GS35+HE35+HQ35 -> 0 | H35: =V35+AH35+AT35+BF35+BR35+CD35+CP35+DB35+DN35+DZ35+EL35+EX35+FJ35+FV35+GH35+GT35+HF35+HR35 -> 5 | I35: =W35+AI35+AU35+BG35+BS35+CE35+CQ35+DC35+DO35+EA35+EM35+EY35+FK35+FW35+GI35+GU35+HG35+HS35 -> 156.1 | ... K35: =Y35+AK35+AW35+BI35+BU35+CG35+CS35+DE35+DQ35+EC35+EO35+FA35+FM35+FY35+GK35+GW35+HI35+HU35 -> 2754.3 | O35: 12 | P35: 1 | Q35: =ROUND(P35*O35/14*12*2*1.302,1) -> 26.8 | S35: =ROUND(R35*Q35/14*12*2*1.302,1) -> 0 | U35: =ROUND(T35*O35/14*12*2*1.302,1) -> 0 | W35: =ROUND(V35*O35/12*12*2*1.302,1) -> 0 | X35: =P35+R35+V35+T35 -> 1 | Y35: =Q35+S35+W35+U35 -> 26.8 | AA35: 12 | AB35: 9 | AC35: =ROUND(AB35*AA35/14*12*2*1.302,1) -> 241.1 | AE35: =ROUND(AD35*AC35/14*12*2*1.302,1) -> 0 | AG35: =ROUND(AF35*AA35/14*12*2*1.302,1) -> 0 | AI35: =ROUND(AH35*AA35/12*12*2*1.302,1) -> 0 | AJ35: =AB35+AD35+AH35+AF35 -> 9 | AK35: =AC35+AE35+AI35+AG35 -> 241.1 | AM35: 12 | AN35: 15 | AO35: =ROUND(AN35*AM35/14*12*2*1.302,1) -> 401.8 | AQ35: =ROUND(AP35*AO35/14*12*2*1.302,1) -> 0 | AS35: =ROUND(AR35*AM35/14*12*2*1.302,1) -> 0 | AU35: =ROUND(AT35*AM35/12*12*2*1.302,1) -> 0 | AV35: =AN35+AP35+AT35+AR35 -> 15 | AW35: =AO35+AQ35+AU35+AS35 -> 401.8 | AY35: 12 | BA35: =ROUND(AZ35*AY35/14*12*2*1.302,1) -> 0 | BC35: =ROUND(BB35*AY35/14*12*1.302,1) -> 0 | BE35: =ROUND(BD35*AY35/14*12*2*1.302,1) -> 0 | BG35: =ROUND(BF35*AY35/12*12*2*1.302,1) -> 0 | BH35: =AZ35+BB35+BF35+BD35 -> 0 | BI35: =BA35+BC35+BG35+BE35 -> 0 | BK35: 12 | BL35: 13 | BM35: =ROUND(BL35*BK35/14*12*2*1.302,1) -> 348.2 | BO35: =ROUND(BN35*BM35/14*12*2*1.302,1) -> 0 | BQ35: =ROUND(BP35*BK35/14*12*2*1.302,1) -> 0 | BS35: =ROUND(BR35*BK35/12*12*2*1.302,1) -> 0 | BT35: =BL35+BN35+BR35+BP35 -> 13 | BU35: =BM35+BO35+BS35+BQ35 -> 348.2 | BW35: 12 | BX35: 20 | BY35: =ROUND(BX35*BW35/14*12*2*1.302,1) -> 535.7 | CA35: =ROUND(BZ35*BW35/14*12*2*1.302,1) -> 0 | CC35: =ROUND(CB35*BW35/14*12*2*1.302,1) -> 0 | CD35: 1 | CE35: =ROUND(CD35*BW35/12*12*2*1.302,1) -> 31.2 | CF35: =BX35+BZ35+CD35+CB35 -> 21 | CG35: =BY35+CA35+CE35+CC35 -> 566.9 | CI35: 12 | CJ35: 7 | CK35: =ROUND(CJ35*CI35/14*12*2*1.302,1) -> 187.5 | CM35: =ROUND(CL35*CK35/14*12*2*1.302,1) -> 0 | CO35: =ROUND(CN35*CI35/14*12*2*1.302,1) -> 0 | CQ35: =ROUND(CP35*CI35/12*12*2*1.302,1) -> 0 | CR35: =CJ35+CL35+CP35+CN35 -> 7 | CS35: =CK35+CM35+CQ35+CO35 -> 187.5 | CU35: 12 | CW35: =ROUND(CV35*CU35/14*12*2*1.302,1) -> 0 | CY35: =ROUND(CX35*CW35/14*12*2*1.302,1) -> 0 | DA35: =ROUND(CZ35*CU35/14*12*2*1.302,1) -> 0 | DC35: =ROUND(DB35*CU35/12*12*2*1.302,1) -> 0 | DD35: =CV35+CX35+DB35+CZ35 -> 0 | DE35: =CW35+CY35+DC35+DA35 -> 0 | DG35: 12 | DH35: 1 | DI35: =ROUND(DH35*DG35/14*12*2*1.302,1) -> 26.8 | DK35: =ROUND(DJ35*DG35/14*12*2*1.302,1) -> 0 | DM35: =ROUND(DL35*DG35/14*12*2*1.302,1) -> 0 | DO35: =ROUND(DN35*DG35/12*12*2*1.302,1) -> 0 | DP35: =DH35+DJ35+DL35+DN35 -> 1 | DQ35: =DI35+DK35+DM35+DO35 -> 26.8 | DS35: 12 | DT35: 4 | DU35: =ROUND(DT35*DS35/14*12*2*1.302,1) -> 107.1 | DW35: =ROUND(DV35*DS35/14*12*2*1.302,1) -> 0 | DY35: =ROUND(DX35*DS35/14*12*1.302,1) -> 0 | DZ35: 1 | EA35: =ROUND(DZ35*DS35/12*12*2*1.302,1) -> 31.2 | EB35: =DT35+DV35+DX35+DZ35 -> 5 | EC35: =DU35+DW35+DY35+EA35 -> 138.3 | EE35: 12 | EF35: 4 | EG35: =ROUND(EF35*EE35/14*12*2*1.302,1) -> 107.1 | EI35: =ROUND(EH35*EG35/14*12*2*1.302,1) -> 0 | EK35: =ROUND(EJ35*EE35/14*12*2*1.302,1) -> 0 | EM35: =ROUND(EL35*EE35/12*12*2*1.302,1) -> 0 | EN35: =EF35+EH35+EL35+EJ35 -> 4 | EO35: =EG35+EI35+EM35+EK35 -> 107.1 | EQ35: 12 | ER35: 10 | ES35: =ROUND(ER35*EQ35/14*12*2*1.302,1) -> 267.8 | ET35: 1 | EU35: =ROUND(ET35*EQ35/14*12*2*1.302,1) -> 26.8 | EW35: =ROUND(EV35*EQ35/14*12*2*1.302,1) -> 0 | EY35: =ROUND(EX35*EQ35/12*12*2*1.302,1) -> 0 | EZ35: =ER35+ET35+EX35+EV35 -> 11 | FA35: =ES35+EU35+EY35+EW35 -> 294.6 | FC35: 12 | FE35: =ROUND(FD35*FC35/14*12*2*1.302,1) -> 0 | FG35: =ROUND(FF35*FE35/14*12*2*1.302,1) -> 0 | FI35: =ROUND(FH35*FC35/14*12*2*1.302,1) -> 0 | FK35: =ROUND(FJ35*FC35/12*12*2*1.302,1) -> 0 | FL35: =FD35+FF35+FJ35+FH35 -> 0 | FM35: =FE35+FG35+FK35+FI35 -> 0 | FO35: 12 | FP35: 5 | FQ35: =ROUND(FP35*FO35/14*12*2*1.302,1) -> 133.9 | FS35: =ROUND(FR35*FO35/14*12*2*1.302,1) -> 0 | FU35: =ROUND(FT35*FO35/14*12*2*1.302,1) -> 0 | FW35: =ROUND(FV35*FO35/12*12*2*1.302,1) -> 0 | FX35: =FP35+FR35+FV35+FT35 -> 5 | FY35: =FQ35+FS35+FW35+FU35 -> 133.9 | GA35: 12 | GB35: 1 | GC35: =ROUND(GB35*GA35/14*12*2*1.302,1) -> 26.8 | GD35: 0 | GE35: =ROUND(GD35*GA35/14*12*2*1.302,1) -> 0 | GF35: 0 | GG35: 0 | GH35: 0 | GI35: 0 | GJ35: =GB35+GD35+GH35+GF35 -> 1 | GK35: =GC35+GE35+GI35+GG35 -> 26.8 | GM35: 12 | GN35: 3 | GO35: =ROUND(GN35*GM35/14*12*2*1.302,1) -> 80.4 | GQ35: =ROUND(GP35*GO35/14*12*2*1.302,1) -> 0 | GS35: =ROUND(GR35*GM35/14*12*2*1.302,1) -> 0 | GU35: =ROUND(GT35*GM35/12*12*2*1.302,1) -> 0 | GV35: =GN35+GP35+GT35+GR35 -> 3 | GW35: =GO35+GQ35+GU35+GS35 -> 80.4 | GY35: 12 | GZ35: 3 | HA35: =ROUND(GZ35*GY35/14*12*2*1.302,1) -> 80.4 | HC35: =ROUND(HB35*HA35/14*12*2*1.302,1) -> 0 | HE35: =ROUND(HD35*GY35/14*12*2*1.302,1) -> 0 | HF35: 3 | HG35: =ROUND(HF35*GY35/12*12*2*1.302,1) -> 93.7 | HH35: =GZ35+HB35+HF35+HD35 -> 6 | HI35: =HA35+HC35+HG35+HE35 -> 174.1 | HK35: 12 | HM35: =ROUND(HL35*HK35/14*12*2*1.302,1) -> 0 | HO35: =ROUND(HN35*HM35/14*12*2*1.302,1) -> 0 | HQ35: =ROUND(HP35*HK35/14*12*2*1.302,1) -> 0 | HS35: =ROUND(HR35*HK35/12*12*2*1.302,1) -> 0 | HT35: =HL35+HN35+HR35+HP35 -> 0 | HU35: =HM35+HO35+HS35+HQ35 -> 0
A36: 11 | B36: =P36+AB36+AN36+AZ36+BL36+BX36+CJ36+CV36+DH36+DT36+EF36+ER36+FD36+FP36+GB36+GN36+GZ36+HL36 -> 84 | C36: =Q36+AC36+AO36+BA36+BM36+BY36+CK36+CW36+DI36+DU36+EG36+ES36+FE36+FQ36+GC36+GO36+HA36+HM36 -> 2062.5 | D36: =R36+AD36+AP36+BB36+BN36+BZ36+CL36+CX36+DJ36+DV36+EH36+ET36+FF36+FR36+GD36+GP36+HB36+HN36 -> 2 | E36: =S36+AE36+AQ36+BC36+BO36+CA36+CM36+CY36+DK36+DW36+EI36+EU36+FG36+FS36+GE36+GQ36+HC36+HO36 -> 49.2 | F36: =T36+AF36+AR36+BD36+BP36+CB36+CN36+CZ36+DL36+DX36+EJ36+EV36+FH36+FT36+GF36+GR36+HD36+HP36 -> 0 | G36: =U36+AG36+AS36+BE36+BQ36+CC36+CO36+DA36+DM36+DY36+EK36+EW36+FI36+FU36+GG36+GS36+HE36+HQ36 -> 0 | H36: =V36+AH36+AT36+BF36+BR36+CD36+CP36+DB36+DN36+DZ36+EL36+EX36+FJ36+FV36+GH36+GT36+HF36+HR36 -> 1 | I36: =W36+AI36+AU36+BG36+BS36+CE36+CQ36+DC36+DO36+EA36+EM36+EY36+FK36+FW36+GI36+GU36+HG36+HS36 -> 28.6 | ... K36: =Y36+AK36+AW36+BI36+BU36+CG36+CS36+DE36+DQ36+EC36+EO36+FA36+FM36+FY36+GK36+GW36+HI36+HU36 -> 2140.3 | O36: 11 | P36: 2 | Q36: =ROUND(P36*O36/14*12*2*1.302,1) -> 49.1 | S36: =ROUND(R36*Q36/14*12*2*1.302,1) -> 0 | U36: =ROUND(T36*O36/14*12*2*1.302,1) -> 0 | W36: =ROUND(V36*O36/12*12*2*1.302,1) -> 0 | X36: =P36+R36+V36+T36 -> 2 | Y36: =Q36+S36+W36+U36 -> 49.1 | AA36: 11 | AB36: 6 | AC36: =ROUND(AB36*AA36/14*12*2*1.302,1) -> 147.3 | AE36: =ROUND(AD36*AC36/14*12*2*1.302,1) -> 0 | AG36: =ROUND(AF36*AA36/14*12*2*1.302,1) -> 0 | AI36: =ROUND(AH36*AA36/12*12*2*1.302,1) -> 0 | AJ36: =AB36+AD36+AH36+AF36 -> 6 | AK36: =AC36+AE36+AI36+AG36 -> 147.3 | AM36: 11 | AN36: 9 | AO36: =ROUND(AN36*AM36/14*12*2*1.302,1) -> 221 | AQ36: =ROUND(AP36*AO36/14*12*2*1.302,1) -> 0 | AS36: =ROUND(AR36*AM36/14*12*2*1.302,1) -> 0 | AU36: =ROUND(AT36*AM36/12*12*2*1.302,1) -> 0 | AV36: =AN36+AP36+AT36+AR36 -> 9 | AW36: =AO36+AQ36+AU36+AS36 -> 221 | AY36: 11 | BA36: =ROUND(AZ36*AY36/14*12*2*1.302,1) -> 0 | BC36: =ROUND(BB36*AY36/14*12*1.302,1) -> 0 | BE36: =ROUND(BD36*AY36/14*12*2*1.302,1) -> 0 | BG36: =ROUND(BF36*AY36/12*12*2*1.302,1) -> 0 | BH36: =AZ36+BB36+BF36+BD36 -> 0 | BI36: =BA36+BC36+BG36+BE36 -> 0 | BK36: 11 | BL36: 8 | BM36: =ROUND(BL36*BK36/14*12*2*1.302,1) -> 196.4 | BO36: =ROUND(BN36*BM36/14*12*2*1.302,1) -> 0 | BQ36: =ROUND(BP36*BK36/14*12*2*1.302,1) -> 0 | BS36: =ROUND(BR36*BK36/12*12*2*1.302,1) -> 0 | BT36: =BL36+BN36+BR36+BP36 -> 8 | BU36: =BM36+BO36+BS36+BQ36 -> 196.4 | BW36: 11 | BX36: 19 | BY36: =ROUND(BX36*BW36/14*12*2*1.302,1) -> 466.5 | BZ36: 1 | CA36: =ROUND(BZ36*BW36/14*12*2*1.302,1) -> 24.6 | CC36: =ROUND(CB36*BW36/14*12*2*1.302,1) -> 0 | CE36: =ROUND(CD36*BW36/12*12*2*1.302,1) -> 0 | CF36: =BX36+BZ36+CD36+CB36 -> 20 | CG36: =BY36+CA36+CE36+CC36 -> 491.1 | CI36: 11 | CJ36: 5 | CK36: =ROUND(CJ36*CI36/14*12*2*1.302,1) -> 122.8 | CM36: =ROUND(CL36*CK36/14*12*2*1.302,1) -> 0 | CO36: =ROUND(CN36*CI36/14*12*2*1.302,1) -> 0 | CQ36: =ROUND(CP36*CI36/12*12*2*1.302,1) -> 0 | CR36: =CJ36+CL36+CP36+CN36 -> 5 | CS36: =CK36+CM36+CQ36+CO36 -> 122.8 | CU36: 11 | CV36: 1 | CW36: =ROUND(CV36*CU36/14*12*2*1.302,1) -> 24.6 | CY36: =ROUND(CX36*CW36/14*12*2*1.302,1) -> 0 | DA36: =ROUND(CZ36*CU36/14*12*2*1.302,1) -> 0 | DC36: =ROUND(DB36*CU36/12*12*2*1.302,1) -> 0 | DD36: =CV36+CX36+DB36+CZ36 -> 1 | DE36: =CW36+CY36+DC36+DA36 -> 24.6 | DG36: 11 | DH36: 5 | DI36: =ROUND(DH36*DG36/14*12*2*1.302,1) -> 122.8 | DK36: =ROUND(DJ36*DG36/14*12*2*1.302,1) -> 0 | DM36: =ROUND(DL36*DG36/14*12*2*1.302,1) -> 0 | DO36: =ROUND(DN36*DG36/12*12*2*1.302,1) -> 0 | DP36: =DH36+DJ36+DL36+DN36 -> 5 | DQ36: =DI36+DK36+DM36+DO36 -> 122.8 | DS36: 11 | DT36: 2 | DU36: =ROUND(DT36*DS36/14*12*2*1.302,1) -> 49.1 | DW36: =ROUND(DV36*DS36/14*12*2*1.302,1) -> 0 | DY36: =ROUND(DX36*DS36/14*12*1.302,1) -> 0 | EA36: =ROUND(DZ36*DS36/12*12*2*1.302,1) -> 0 | EB36: =DT36+DV36+DX36+DZ36 -> 2 | EC36: =DU36+DW36+DY36+EA36 -> 49.1 | EE36: 11 | EF36: 2 | EG36: =ROUND(EF36*EE36/14*12*2*1.302,1) -> 49.1 | EI36: =ROUND(EH36*EG36/14*12*2*1.302,1) -> 0 | EK36: =ROUND(EJ36*EE36/14*12*2*1.302,1) -> 0 | EL36: 1 | EM36: =ROUND(EL36*EE36/12*12*2*1.302,1) -> 28.6 | EN36: =EF36+EH36+EL36+EJ36 -> 3 | EO36: =EG36+EI36+EM36+EK36 -> 77.7 | EQ36: 11 | ER36: 4 | ES36: =ROUND(ER36*EQ36/14*12*2*1.302,1) -> 98.2 | EU36: =ROUND(ET36*EQ36/14*12*2*1.302,1) -> 0 | EW36: =ROUND(EV36*EQ36/14*12*2*1.302,1) -> 0 | EY36: =ROUND(EX36*EQ36/12*12*2*1.302,1) -> 0 | EZ36: =ER36+ET36+EX36+EV36 -> 4 | FA36: =ES36+EU36+EY36+EW36 -> 98.2 | FC36: 11 | FE36: =ROUND(FD36*FC36/14*12*2*1.302,1) -> 0 | FG36: =ROUND(FF36*FE36/14*12*2*1.302,1) -> 0 | FI36: =ROUND(FH36*FC36/14*12*2*1.302,1) -> 0 | FK36: =ROUND(FJ36*FC36/12*12*2*1.302,1) -> 0 | FL36: =FD36+FF36+FJ36+FH36 -> 0 | FM36: =FE36+FG36+FK36+FI36 -> 0 | FO36: 11 | FP36: 6 | FQ36: =ROUND(FP36*FO36/14*12*2*1.302,1) -> 147.3 | FR36: 1 | FS36: =ROUND(FR36*FO36/14*12*2*1.302,1) -> 24.6 | FU36: =ROUND(FT36*FO36/14*12*2*1.302,1) -> 0 | FW36: =ROUND(FV36*FO36/12*12*2*1.302,1) -> 0 | FX36: =FP36+FR36+FV36+FT36 -> 7 | FY36: =FQ36+FS36+FW36+FU36 -> 171.9 | GA36: 11 | GB36: 3 | GC36: =ROUND(GB36*GA36/14*12*2*1.302,1) -> 73.7 | GD36: 0 | GE36: =ROUND(GD36*GA36/14*12*2*1.302,1) -> 0 | GF36: 0 | GG36: 0 | GH36: 0 | GI36: 0 | GJ36: =GB36+GD36+GH36+GF36 -> 3 | GK36: =GC36+GE36+GI36+GG36 -> 73.7 | GM36: 11 | GN36: 8 | GO36: =ROUND(GN36*GM36/14*12*2*1.302,1) -> 196.4 | GQ36: =ROUND(GP36*GO36/14*12*2*1.302,1) -> 0 | GS36: =ROUND(GR36*GM36/14*12*2*1.302,1) -> 0 | GU36: =ROUND(GT36*GM36/12*12*2*1.302,1) -> 0 | GV36: =GN36+GP36+GT36+GR36 -> 8 | GW36: =GO36+GQ36+GU36+GS36 -> 196.4 | GY36: 11 | GZ36: 4 | HA36: =ROUND(GZ36*GY36/14*12*2*1.302,1) -> 98.2 | HC36: =ROUND(HB36*HA36/14*12*2*1.302,1) -> 0 | HE36: =ROUND(HD36*GY36/14*12*2*1.302,1) -> 0 | HG36: =ROUND(HF36*GY36/12*12*2*1.302,1) -> 0 | HH36: =GZ36+HB36+HF36+HD36 -> 4 | HI36: =HA36+HC36+HG36+HE36 -> 98.2 | HK36: 11 | HM36: =ROUND(HL36*HK36/14*12*2*1.302,1) -> 0 | HO36: =ROUND(HN36*HM36/14*12*2*1.302,1) -> 0 | HQ36: =ROUND(HP36*HK36/14*12*2*1.302,1) -> 0 | HS36: =ROUND(HR36*HK36/12*12*2*1.302,1) -> 0 | HT36: =HL36+HN36+HR36+HP36 -> 0 | HU36: =HM36+HO36+HS36+HQ36 -> 0
