Workbook
Name Excel_BuiltIn__FilterDatabase: 'Классное руководство'!$A$4:$D$26

Sheet Исходные для нормативов
A1: Показатели | C1: Общее образование в общеобразовательных учреждениях
C2: Начальное общее образование | D2: Основное общее образование | E2: Среднее (полное) общее образование
A3: Предельно допустимая учебная нагрузка при 6-дневной учебной неделе | C3: 3345 | D3: 6020 | E3: 2590
A4: количество лет обучения | C4: 4 | D4: 5 | E4: 2
A5: Продолжительность учебного года, в неделях | C5: 34 | D5: 34 | E5: 35
A6: Количество часов по учебному плану в неделю | C6: =C3/C4/C5 -> 24.595588 | D6: =ROUND(D3/D4/D5,0) -> 35 | E6: =E3/E4/E5 -> 37
A7: Количество часов по учебному плану в неделю для учащихся с ОВЗ при комплектовании по первому варианту | C7: =C6 -> 24.595588 | D7: =D6 -> 35 | E7: =E6 -> 37
A8: Количество часов по учебному плану в неделю для учащихся с ОВЗ при комплектовании по второму, третьему и четвертому вариантам | C8: =(21+23*3)/4 -> 22.5 | D8: =(29+30+32+33*2)/5 -> 31.4 | E8: 34
A9: Бsn - количество часов по базисному учебному плану в неделю:
A10: на реализацию общеобразовательных программ в дневных общеобразовательных учреждениях | C10: =ROUND(C6,0) -> 25 | D10: =ROUND(D6,0) -> 35 | E10: =ROUND(E6,0) -> 37
A11: на реализацию общеобразовательных программ при вечерней (заочной формой обучения) | C11: 25 | D11: 26 | E11: 26
A12: для индивидуального обучения длительно болеющих учащихся | C12: 8 | D12: 10 | E12: 11
A13: для семейного обучения | C13: 9 | D13: 17 | E13: 19
A14: Количество часов внеурочной деятельности в рамках реализации ФГОС | C14: 10 | D14: 10 | E14: 10
A15: Мsn – расчетная наполняемость:
A16: общеобразовательных классов общеобразовательных учреждений, расположенных в городской местности | C16: 25 | D16: 25 | E16: 25
A17: общеобразовательных классов общеобразовательных учреждений, расположенных в поселках городского типа с контингентом обучающихся более 300 человек | C17: 25 | D17: 25 | E17: 25
A18: общеобразовательных классов общеобразовательных учреждений, расположенных в поселках городского типа с контингентом обучающихся от 201 до 300 человек | C18: 23 | D18: 23 | E18: 23
A19: общеобразовательных классов общеобразовательных учреждений, расположенных в поселках городского типа с контингентом обучающихся от 101 до 200 человек | C19: 15 | D19: 15 | E19: 15
A20: общеобразовательных классов общеобразовательных учреждений, расположенных в поселках городского типа с контингентом обучающихся менее 100 человек | C20: 10 | D20: 10 | E20: 10
A21: общеобразовательных классов общеобразовательных учреждений с контингентом обучающихся более 250 человек, расположенных в сельской местности | C21: 20 | D21: 20 | E21: 20
A22: общеобразовательных классов общеобразовательных учреждений с контингентом обучающихся от 201 до 250 человек, расположенных в сельской местности | C22: 18 | D22: 18 | E22: 18
A23: общеобразовательных классов общеобразовательных учреждений с контингентом обучающихся от 101 до 200 человек, расположенных в сельской местности | C23: 15 | D23: 15 | E23: 15
A24: общеобразовательных классов общеобразовательных учреждений с контингентом обучающихся от 61 до 100 человек, расположенных в сельской местности; | C24: 11 | D24: 11 | E24: 11
A25: общеобразовательных классов общеобразовательных учреждений с контингентом обучающихся менее 61 человека, расположенных в сельской местности | C25: 7 | D25: 7 | E25: 7
A26: общеобразовательных школ-интернатов, расположенных в городской местности | C26: 20 | D26: 20 | E26: 20
A27: общеобразовательных школ-интернатов, расположенных в сельской местности | C27: 14 | D27: 14 | E27: 14
A28: 1 вариант программы образования учащихся с ОВЗ | B28: глухие обучающиеся | C28: 20 | D28: =C28 -> 20 | E28: =C28 -> 20
B29: слабослышащие и познооглохшие обучающиеся | C29: 25 | D29: =C29 -> 25 | E29: =C29 -> 25
B30: слепые обучающиеся | C30: 20 | D30: =C30 -> 20 | E30: =C30 -> 20
B31: слабовидящие обучающиеся | C31: 25 | D31: =C31 -> 25 | E31: =C31 -> 25
B32: обучающиеся с тяжелыми нарушениями речи (ТНР) | C32: 25 | D32: =C32 -> 25 | E32: =C32 -> 25
B33: обучающиеся с нарушением опорно-двигательного аппарата | C33: 20 | D33: =C33 -> 20 | E33: =C33 -> 20
B34: обучающиеся с задержкой психического развития (ЗПР) | C34: 25 | D34: =C34 -> 25 | E34: =C34 -> 25
B35: обучающиеся с расстройствами аутического спектора (РАС) | C35: 20 | D35: =C35 -> 20 | E35: =C35 -> 20
B36: обучающиеся с умственной отсталостью (интеллектуальными нарушениями) | C36: 0 | D36: =C36 -> 0 | E36: =C36 -> 0
A37: 2 вариант программы образования учащихся с ОВЗ | B37: глухие обучающиеся | C37: 6 | D37: =C37 -> 6 | E37: =C37 -> 6
B38: слабослышащие и познооглохшие обучающиеся | C38: 7 | D38: =C38 -> 7 | E38: =C38 -> 7
B39: слепые обучающиеся | C39: 9 | D39: =C39 -> 9 | E39: =C39 -> 9
B40: слабовидящие обучающиеся | C40: 12 | D40: =C40 -> 12 | E40: =C40 -> 12
...

Sheet Нормативы 
A1: Расчет нормативов финансирования
A2: с 01.01.2020 | D2: Классы | H2: Классы, реализующие ФГОС
A3: 9940 | D3: 1-4 классы | E3: 5-9 классы | F3: 10-11 кл д | G3: 10-11 кл ля реализации профиля | H3: 1-4 классы | I3: 5-9 классы | J3: 10-11 кл | K3: 10-11 кл ля реализации профиля
A4: Ставки педагогического работника с учетом повышения базового оклада с 01.01.2018 до 9940 | D4: =(1.7*0.2+2*0.8)*$A$3 -> 19283.6 | E4: =2*$A$3 -> 19880 | F4: =2*$A$3 -> 19880 | G4: =F4 -> 19880 | H4: =D4 -> 19283.6 | I4: =E4 -> 19880 | J4: =F4 -> 19880 | K4: =J4 -> 19880
A5: количество часов по БУП | B5: общеобразовательные классы | D5: ='Исходные для нормативов'!$C$10 -> 25 | E5: ='Исходные для нормативов'!$D$10 -> 35 | F5: ='Исходные для нормативов'!$E$10 -> 37 | G5: =F5 -> 37 | H5: ='Исходные для нормативов'!$C$10 -> 25 | I5: ='Исходные для нормативов'!$D$10 -> 35 | J5: ='Исходные для нормативов'!$E$10 -> 37 | K5: =J5 -> 37
B6: с углубленным изучением отдельных учебных предметов | D6: ='Исходные для нормативов'!$C$10 -> 25 | E6: ='Исходные для нормативов'!$D$10 -> 35 | F6: ='Исходные для нормативов'!$E$10 -> 37 | G6: =F6 -> 37 | H6: ='Исходные для нормативов'!$C$10 -> 25 | I6: ='Исходные для нормативов'!$D$10 -> 35 | J6: ='Исходные для нормативов'!$E$10 -> 37 | K6: =J6 -> 37
B7: общеобразовательные классы - ПГТ с континг более 300 | D7: ='Исходные для нормативов'!$C$10 -> 25 | E7: ='Исходные для нормативов'!$D$10 -> 35 | F7: ='Исходные для нормативов'!$E$10 -> 37 | G7: =F7 -> 37 | H7: ='Исходные для нормативов'!$C$10 -> 25 | I7: ='Исходные для нормативов'!$D$10 -> 35 | J7: ='Исходные для нормативов'!$E$10 -> 37 | K7: =J7 -> 37
B8: общеобразовательные классы - ПГТ с континг более 201-300 | D8: ='Исходные для нормативов'!$C$10 -> 25 | E8: ='Исходные для нормативов'!$D$10 -> 35 | F8: ='Исходные для нормативов'!$E$10 -> 37 | G8: =F8 -> 37 | H8: ='Исходные для нормативов'!$C$10 -> 25 | I8: ='Исходные для нормативов'!$D$10 -> 35 | J8: ='Исходные для нормативов'!$E$10 -> 37 | K8: =J8 -> 37
B9: общеобразовательные классы - ПГТ с континг более 101-200 | D9: ='Исходные для нормативов'!$C$10 -> 25 | E9: ='Исходные для нормативов'!$D$10 -> 35 | F9: ='Исходные для нормативов'!$E$10 -> 37 | G9: =F9 -> 37 | H9: ='Исходные для нормативов'!$C$10 -> 25 | I9: ='Исходные для нормативов'!$D$10 -> 35 | J9: ='Исходные для нормативов'!$E$10 -> 37 | K9: =J9 -> 37
B10: общеобразовательные классы - ПГТ с континг менее 100 | D10: ='Исходные для нормативов'!$C$10 -> 25 | E10: ='Исходные для нормативов'!$D$10 -> 35 | F10: ='Исходные для нормативов'!$E$10 -> 37 | G10: =F10 -> 37 | H10: ='Исходные для нормативов'!$C$10 -> 25 | I10: ='Исходные для нормативов'!$D$10 -> 35 | J10: ='Исходные для нормативов'!$E$10 -> 37 | K10: =J10 -> 37
B11: общеобразовательные классы - СЕЛО с континг более 250 | D11: ='Исходные для нормативов'!$C$10 -> 25 | E11: ='Исходные для нормативов'!$D$10 -> 35 | F11: ='Исходные для нормативов'!$E$10 -> 37 | G11: =F11 -> 37 | H11: ='Исходные для нормативов'!$C$10 -> 25 | I11: ='Исходные для нормативов'!$D$10 -> 35 | J11: ='Исходные для нормативов'!$E$10 -> 37 | K11: =J11 -> 37
B12: общеобразовательные классы - СЕЛО с континг 201 - 250 | D12: ='Исходные для нормативов'!$C$10 -> 25 | E12: ='Исходные для нормативов'!$D$10 -> 35 | F12: ='Исходные для нормативов'!$E$10 -> 37 | G12: =F12 -> 37 | H12: ='Исходные для нормативов'!$C$10 -> 25 | I12: ='Исходные для нормативов'!$D$10 -> 35 | J12: ='Исходные для нормативов'!$E$10 -> 37 | K12: =J12 -> 37
B13: общеобразовательные классы - СЕЛО с континг 101 - 200 | D13: ='Исходные для нормативов'!$C$10 -> 25 | E13: ='Исходные для нормативов'!$D$10 -> 35 | F13: ='Исходные для нормативов'!$E$10 -> 37 | G13: =F13 -> 37 | H13: ='Исходные для нормативов'!$C$10 -> 25 | I13: ='Исходные для нормативов'!$D$10 -> 35 | J13: ='Исходные для нормативов'!$E$10 -> 37 | K13: =J13 -> 37
B14: общеобразовательные классы - СЕЛО с континг 61 - 100 | D14: ='Исходные для нормативов'!$C$10 -> 25 | E14: ='Исходные для нормативов'!$D$10 -> 35 | F14: ='Исходные для нормативов'!$E$10 -> 37 | G14: =F14 -> 37 | H14: ='Исходные для нормативов'!$C$10 -> 25 | I14: ='Исходные для нормативов'!$D$10 -> 35 | J14: ='Исходные для нормативов'!$E$10 -> 37 | K14: =J14 -> 37
B15: общеобразовательные классы - СЕЛО с континг менее 60 | D15: ='Исходные для нормативов'!$C$10 -> 25 | E15: ='Исходные для нормативов'!$D$10 -> 35 | F15: ='Исходные для нормативов'!$E$10 -> 37 | G15: =F15 -> 37 | H15: ='Исходные для нормативов'!$C$10 -> 25 | I15: ='Исходные для нормативов'!$D$10 -> 35 | J15: ='Исходные для нормативов'!$E$10 -> 37 | K15: =J15 -> 37
B16: вечернее обучение -город | D16: ='Исходные для нормативов'!C11 -> 25 | E16: ='Исходные для нормативов'!D11 -> 26 | F16: ='Исходные для нормативов'!E11 -> 26 | H16: ='Исходные для нормативов'!C11 -> 25 | I16: ='Исходные для нормативов'!D11 -> 26 | J16: ='Исходные для нормативов'!E11 -> 26
B17: вечернее обучение -СЕЛО | D17: ='Исходные для нормативов'!C11 -> 25 | E17: ='Исходные для нормативов'!D11 -> 26 | F17: ='Исходные для нормативов'!E11 -> 26 | H17: ='Исходные для нормативов'!C11 -> 25 | I17: ='Исходные для нормативов'!D11 -> 26 | J17: ='Исходные для нормативов'!E11 -> 26
B18: индивидуальное обучение для длительно болеющих детей | D18: ='Исходные для нормативов'!C12 -> 8 | E18: ='Исходные для нормативов'!D12 -> 10 | F18: ='Исходные для нормативов'!E12 -> 11 | H18: ='Исходные для нормативов'!C12 -> 8 | I18: ='Исходные для нормативов'!D12 -> 10 | J18: ='Исходные для нормативов'!E12 -> 11
B19: семейное обучение | D19: ='Исходные для нормативов'!C13 -> 9 | E19: ='Исходные для нормативов'!D13 -> 17 | F19: ='Исходные для нормативов'!E13 -> 19 | H19: ='Исходные для нормативов'!C13 -> 9 | I19: ='Исходные для нормативов'!D13 -> 17 | J19: ='Исходные для нормативов'!E13 -> 19
B20: 1 вариант | C20: глухие | D20: ='Исходные для нормативов'!C7 -> 24.595588 | E20: ='Исходные для нормативов'!D7 -> 35 | F20: ='Исходные для нормативов'!E7 -> 37 | H20: ='Исходные для нормативов'!C7 -> 24.595588 | I20: ='Исходные для нормативов'!D7 -> 35 | J20: ='Исходные для нормативов'!E7 -> 37
C21: слабослышащие и познооглохшие | D21: =D20 -> 24.595588 | E21: =E20 -> 35 | F21: =F20 -> 37 | H21: =H20 -> 24.595588 | I21: =I20 -> 35 | J21: =J20 -> 37
C22: слепые | D22: =D21 -> 24.595588 | E22: =E21 -> 35 | F22: =F21 -> 37 | H22: =H21 -> 24.595588 | I22: =I21 -> 35 | J22: =J21 -> 37
C23: слабовидящие | D23: =D22 -> 24.595588 | E23: =E22 -> 35 | F23: =F22 -> 37 | H23: =H22 -> 24.595588 | I23: =I22 -> 35 | J23: =J22 -> 37
C24: С тяжелыми нарушениями речи (ТНР) | D24: =D23 -> 24.595588 | E24: =E23 -> 35 | F24: =F23 -> 37 | H24: =H23 -> 24.595588 | I24: =I23 -> 35 | J24: =J23 -> 37
C25: С нарушением опорно-двигательного аппарата | D25: =D24 -> 24.595588 | E25: =E24 -> 35 | F25: =F24 -> 37 | H25: =H24 -> 24.595588 | I25: =I24 -> 35 | J25: =J24 -> 37
C26: С задержкой психического развития (ЗПР) | D26: =D25 -> 24.595588 | E26: =E25 -> 35 | F26: =F25 -> 37 | H26: =H25 -> 24.595588 | I26: =I25 -> 35 | J26: =J25 -> 37
C27: С расстройствами аутического спектора (РАС) | D27: =D26 -> 24.595588 | E27: =E26 -> 35 | F27: =F26 -> 37 | H27: =H26 -> 24.595588 | I27: =I26 -> 35 | J27: =J26 -> 37
C28: С умственной отсталостью (интеллектуальными нарушениями) | D28: =D27 -> 24.595588 | E28: =E27 -> 35 | F28: =F27 -> 37 | H28: =H27 -> 24.595588 | I28: =I27 -> 35 | J28: =J27 -> 37
B29: 2 вариант | C29: глухие | D29: ='Исходные для нормативов'!C8 -> 22.5 | E29: ='Исходные для нормативов'!D8 -> 31.4 | F29: ='Исходные для нормативов'!E8 -> 34 | H29: ='Исходные для нормативов'!C8 -> 22.5 | I29: ='Исходные для нормативов'!D8 -> 31.4 | J29: ='Исходные для нормативов'!E8 -> 34
C30: слабослышащие и познооглохшие | D30: =D29 -> 22.5 | E30: =E29 -> 31.4 | F30: =F29 -> 34 | H30: =H29 -> 22.5 | I30: =I29 -> 31.4 | J30: =J29 -> 34
C31: слепые | D31: =D30 -> 22.5 | E31: =E30 -> 31.4 | F31: =F30 -> 34 | H31: =H30 -> 22.5 | I31: =I30 -> 31.4 | J31: =J30 -> 34
C32: слабовидящие | D32: =D31 -> 22.5 | E32: =E31 -> 31.4 | F32: =F31 -> 34 | H32: =H31 -> 22.5 | I32: =I31 -> 31.4 | J32: =J31 -> 34
C33: С тяжелыми нарушениями речи (ТНР) | D33: =D32 -> 22.5 | E33: =E32 -> 31.4 | F33: =F32 -> 34 | H33: =H32 -> 22.5 | I33: =I32 -> 31.4 | J33: =J32 -> 34
C34: С нарушением опорно-двигательного аппарата | D34: =D33 -> 22.5 | E34: =E33 -> 31.4 | F34: =F33 -> 34 | H34: =H33 -> 22.5 | I34: =I33 -> 31.4 | J34: =J33 -> 34
C35: С задержкой психического развития (ЗПР) | D35: =D34 -> 22.5 | E35: =E34 -> 31.4 | F35: =F34 -> 34 | H35: =H34 -> 22.5 | I35: =I34 -> 31.4 | J35: =J34 -> 34
C36: С расстройствами аутического спектора (РАС) | D36: =D35 -> 22.5 | E36: =E35 -> 31.4 | F36: =F35 -> 34 | H36: =H35 -> 22.5 | I36: =I35 -> 31.4 | J36: =J35 -> 34
C37: С умственной отсталостью (интеллектуальными нарушениями) | D37: =D36 -> 22.5 | E37: =E36 -> 31.4 | F37: =F36 -> 34 | H37: =H36 -> 22.5 | I37: =I36 -> 31.4 | J37: =J36 -> 34
B38: 3 вариант | C38: глухие | D38: =D37 -> 22.5 | E38: =E37 -> 31.4 | F38: =F37 -> 34 | H38: =H37 -> 22.5 | I38: =I37 -> 31.4 | J38: =J37 -> 34
C39: слабослышащие и познооглохшие | D39: =D38 -> 22.5 | E39: =E38 -> 31.4 | F39: =F38 -> 34 | H39: =H38 -> 22.5 | I39: =I38 -> 31.4 | J39: =J38 -> 34
C40: слепые | D40: =D39 -> 22.5 | E40: =E39 -> 31.4 | F40: =F39 -> 34 | H40: =H39 -> 22.5 | I40: =I39 -> 31.4 | J40: =J39 -> 34
...

Sheet Классное свод
A1: Муниципальное образование | F1: ВСЕГО | O1: Муниципальное образование | T1: Бокситогорский | AA1: Муниципальное образование | AF1: Волосовский | AM1: Муниципальное образование | AR1: Волховский | AY1: Муниципальное образование | BD1: Всеволожский | BK1: Муниципальное образование | BP1: Выборгский | BW1: Муниципальное образование | CB1: Гатчинский | CI1: Муниципальное образование | CN1: Кингисеппский | CU1: Муниципальное образование | CZ1: Киришский | DG1: Муниципальное образование | DL1: Кировский | DS1: Муниципальное образование | DX1: Лодейнопольский | EE1: Муниципальное образование | EJ1: Ломоносовский | EQ1: Муниципальное образование | EV1: Лужский | EW1: Лужский | FC1: Муниципальное образование | FH1: Подпорожский | FO1: Муниципальное образование | FT1: Приозерский | GA1: Муниципальное образование | GF1: Сланцевский | GM1: Муниципальное образование | GR1: Тихвинский | GY1: Муниципальное образование | HD1: Тосненский | HK1: Муниципальное образование | HP1: Сосновоборский городской округ
B2: Общеобразоват школы | D2: Школа-сад, вечерн школа, базов школа | F2: Общеобраз интернат | H2: ОВЗ в школах | J2: ВСЕГО | P2: Общеобразоват школы | R2: Школа-сад, вечерн школа, базов школа | T2: Общеобраз интернат | V2: ОВЗ в школах | X2: ВСЕГО | AB2: Общеобразоват школы | AD2: Школа-сад, вечерн школа, базов школа | AF2: Общеобраз интернат | AH2: ОВЗ в школах | AJ2: ВСЕГО | AN2: Общеобразоват школы | AP2: Школа-сад, вечерн школа, базов школа | AR2: Общеобраз интернат | AT2: ОВЗ в школах | AV2: ВСЕГО | AZ2: Общеобразоват школы | BB2: Школа-сад, вечерн школа, базов школа | BD2: Общеобраз интернат | BF2: ОВЗ в школах | BH2: ВСЕГО | BL2: Общеобразоват школы | BN2: Школа-сад, вечерн школа, базов школа | BP2: Общеобраз интернат | BR2: ОВЗ в школах | BT2: ВСЕГО | BX2: Общеобразоват школы | BZ2: Школа-сад, вечерн школа, базов школа | CB2: Общеобраз интернат | CD2: ОВЗ в школах | CF2: ВСЕГО | CJ2: Общеобразоват школы | CL2: Школа-сад, вечерн школа, базов школа | CN2: Общеобраз интернат | CP2: ОВЗ в школах | CR2: ВСЕГО | CV2: Общеобразоват школы | CX2: Школа-сад, вечерн школа, базов школа | CZ2: Общеобраз интернат | DB2: ОВЗ в школах | DD2: ВСЕГО | DG2: Наполняемость классов | DH2: Общеобразоват школы | DJ2: Школа-сад, вечерн школа, базов школа | DL2: Общеобраз интернат | DN2: Спец школа-интер, ОВЗ в школах | DP2: ВСЕГО | DT2: Общеобразоват школы | DV2: Школа-сад, вечерн школа, базов школа | DX2: Общеобраз интернат | DZ2: ОВЗ в школах | EB2: ВСЕГО | EF2: Общеобразоват школы | EH2: Школа-сад, вечерн школа, базов школа | EJ2: Общеобраз интернат | EL2: ОВЗ в школах | EN2: ВСЕГО | ER2: Общеобразоват школы | ET2: Школа-сад, вечерн школа, базов школа | EV2: Общеобраз интернат | EX2: ОВЗ в школах | EZ2: ВСЕГО | FD2: Общеобразоват школы | FF2: Школа-сад, вечерн школа, базов школа | FH2: Общеобраз интернат | FJ2: ОВЗ в школах | FL2: ВСЕГО | FP2: Общеобразоват школы | FR2: Школа-сад, вечерн школа, базов школа | FT2: Общеобраз интернат | FV2: ОВЗ в школах | FX2: ВСЕГО | GB2: Общеобразоват школы | GD2: Школа-сад, вечерн школа, базов школа | GF2: Общеобраз интернат | GH2: ОВЗ в школах | GJ2: ВСЕГО | GN2: Общеобразоват школы | GP2: Школа-сад, вечерн школа, базов школа | GR2: Общеобраз интернат | GT2: ОВЗ в школах | GV2: ВСЕГО | GZ2: Общеобразоват школы | HB2: Школа-сад, вечерн школа, базов школа | HD2: Общеобраз интернат | HF2: ОВЗ в школах | HH2: ВСЕГО | HL2: Общеобразоват школы | HN2: Школа-сад, вечерн школа, базов школа | HP2: Общеобраз интернат | HR2: ОВЗ в школах | HT2: ВСЕГО
B3: 25 | D3: 25 | F3: 20 | H3: 12 | P3: 25 | R3: 25 | T3: 20 | V3: 12 | AB3: 25 | AD3: 25 | AF3: 20 | AH3: 12 | AN3: 25 | AP3: 25 | AR3: 20 | AT3: 12 | AZ3: 25 | BB3: 25 | BD3: 20 | BF3: 12 | BL3: 25 | BN3: 25 | BP3: 20 | BR3: 12 | BX3: 25 | BZ3: 25 | CB3: 20 | CD3: 12 | CJ3: 25 | CL3: 25 | CN3: 20 | CP3: 12 | CV3: 25 | CX3: 25 | CZ3: 20 | DB3: 12 | DH3: 25 | DJ3: 25 | DL3: 20 | DN3: 12 | DT3: 25 | DV3: 25 | DX3: 20 | DZ3: 12 | EF3: 25 | EH3: 25 | EJ3: 20 | EL3: 12 | ER3: 25 | ET3: 25 | EV3: 20 | EX3: 12 | FD3: 25 | FF3: 25 | FH3: 20 | FJ3: 12 | FP3: 25 | FR3: 25 | FT3: 20 | FV3: 12 | GB3: 25 | GD3: 25 | GF3: 20 | GH3: 12 | GN3: 25 | GP3: 25 | GR3: 20 | GT3: 12 | GZ3: 25 | HB3: 25 | HD3: 20 | HF3: 12 | HL3: 25 | HN3: 25 | HP3: 20 | HR3: 12
B4: колич классов | C4: Потребность на 2018 г | D4: колич классов | E4: Потребность на 2018 г | F4: колич классов | G4: Потребность на 2018 г | H4: колич классов | I4: Потребность на 2018 г | J4: колич классов | K4: Потребность на 2018 г | P4: колич классов | Q4: Потребность на 2019 г | R4: колич классов | S4: Потребность на 2019 г | T4: колич классов | U4: Потребность на 2019 г | V4: колич классов | W4: Потребность на 2019 г | X4: колич классов | Y4: Потребность на 2019 г | AB4: колич классов | AC4: Потребность на 2018 г | AD4: колич классов | AE4: Потребность на 2018 г | AF4: колич классов | AG4: Потребность на 2018 г | AH4: колич классов | AI4: Потребность на 2018 г | AJ4: колич классов | AK4: Потребность на 2018 г | AN4: колич классов | AO4: Потребность на 2018 г | AP4: колич классов | AQ4: Потребность на 2018 г | AR4: колич классов | AS4: Потребность на 2018 г | AT4: колич классов | AU4: Потребность на 2018 г | AV4: колич классов | AW4: Потребность на 2018 г | AZ4: колич классов | BA4: Потребность на 2018 г | BB4: колич классов | BC4: Потребность на 2018 г | BD4: колич классов | BE4: Потребность на 2018 г | BF4: колич классов | BG4: Потребность на 2018 г | BH4: колич классов | BI4: Потребность на 2018 г | BL4: колич классов | BM4: Потребность на 2018 г | BN4: колич классов | BO4: Потребность на 2018 г | BP4: колич классов | BQ4: Потребность на 2018 г | BR4: колич классов | BS4: Потребность на 2018 г | BT4: колич классов | BU4: Потребность на 2018 г | BX4: колич классов | BY4: Потребность на 2018 г | BZ4: колич классов | CA4: Потребность на 2018 г | CB4: колич классов | CC4: Потребность на 2018 г | CD4: колич классов | CE4: Потребность на 2018 г | CF4: колич классов | CG4: Потребность на 2018 г | CJ4: колич классов | CK4: Потребность на 2018 г | CL4: колич классов | CM4: Потребность на 2018 г | CN4: колич классов | CO4: Потребность на 2018 г | CP4: колич классов | CQ4: Потребность на 2018 г | CR4: колич классов | CS4: Потребность на 2018 г | CV4: колич классов | CW4: Потребность на 2018 г | CX4: колич классов | CY4: Потребность на 2018 г | CZ4: колич классов | DA4: Потребность на 2018 г | DB4: колич классов | DC4: Потребность на 2018 г | DD4: колич классов | DE4: Потребность на 2018 г | DH4: колич классов | DI4: Потребность на 2019 г | DJ4: колич классов | DK4: Потребность на 2019 г | DL4: колич классов | DM4: Потребность на 2019 г | DN4: колич классов | DO4: Потребность на 2019 г | DP4: колич классов | DQ4: Потребность на 2019 г | DT4: колич классов | DU4: Потребность на 2018 г | DV4: колич классов | DW4: Потребность на 2018 г | DX4: колич классов | DY4: Потребность на 2018 г | DZ4: колич классов | EA4: Потребность на 2018 г | EB4: колич классов | EC4: Потребность на 2018 г | EF4: колич классов | EG4: Потребность на 2018 г | EH4: колич классов | EI4: Потребность на 2018 г | EJ4: колич классов | EK4: Потребность на 2018 г | EL4: колич классов | EM4: Потребность на 2018 г | EN4: колич классов | EO4: Потребность на 2018 г | ER4: колич классов | ES4: Потребность на 2018 г | ET4: колич классов | EU4: Потребность на 2018 г | EV4: колич классов | EW4: Потребность на 2018 г | EX4: колич классов | EY4: Потребность на 2018 г | EZ4: колич классов | FA4: Потребность на 2018 г | FD4: колич классов | FE4: Потребность на 2018 г | FF4: колич классов | FG4: Потребность на 2018 г | FH4: колич классов | FI4: Потребность на 2018 г | FJ4: колич классов | FK4: Потребность на 2018 г | FL4: колич классов | FM4: Потребность на 2018 г | FP4: колич классов | FQ4: Потребность на 2018 г | FR4: колич классов | FS4: Потребность на 2018 г | FT4: колич классов | FU4: Потребность на 2018 г | FV4: колич классов | FW4: Потребность на 2018 г | FX4: колич классов | FY4: Потребность на 2018 г | GB4: колич классов | GC4: Потребность на 2018 г | GD4: колич классов | GE4: Потребность на 2018 г | GF4: колич классов | GG4: Потребность на 2018 г | GH4: колич классов | GI4: Потребность на 2018 г | GJ4: колич классов | GK4: Потребность на 2018 г | GN4: колич классов | GO4: Потребность на 2018 г | GP4: колич классов | GQ4: Потребность на 2018 г | GR4: колич классов | GS4: Потребность на 2018 г | GT4: колич классов | GU4: Потребность на 2018 г | GV4: колич классов | GW4: Потребность на 2018 г | GZ4: колич классов | HA4: Потребность на 2018 г | HB4: колич классов | HC4: Потребность на 2018 г | HD4: колич классов | HE4: Потребность на 2018 г | HF4: колич классов | HG4: Потребность на 2018 г | HH4: колич классов | HI4: Потребность на 2018 г | HL4: колич классов | HM4: Потребность на 2018 г | HN4: колич классов | HO4: Потребность на 2018 г | HP4: колич классов | HQ4: Потребность на 2018 г | HR4: колич классов | HS4: Потребность на 2018 г | HT4: колич классов | HU4: Потребность на 2018 г
B6: ГОРОД | H6: город и село | P6: ГОРОД | V6: город и село | AB6: ГОРОД | AH6: город и село | AN6: ГОРОД | AT6: город и село | AZ6: ГОРОД | BF6: город и село | BL6: ГОРОД | BR6: город и село | BX6: ГОРОД | CD6: город и село | CJ6: ГОРОД | CP6: город и село | CV6: ГОРОД | DB6: город и село | DH6: ГОРОД | DN6: город и село | DT6: ГОРОД | DZ6: город и село | EF6: ГОРОД | EL6: город и село | ER6: ГОРОД | EX6: город и село | FD6: ГОРОД | FJ6: город и село | FP6: ГОРОД | FV6: город и село | GB6: ГОРОД | GH6: город и село | GN6: ГОРОД | GT6: город и село | GZ6: ГОРОД | HF6: город и село | HL6: ГОРОД | HR6: город и село
A7: 25 | B7: =P7+AB7+AN7+AZ7+BL7+BX7+CJ7+CV7+DH7+DT7+EF7+ER7+FD7+FP7+GB7+GN7+GZ7+HL7 -> 3239 | C7: =Q7+AC7+AO7+BA7+BM7+BY7+CK7+CW7+DI7+DU7+EG7+ES7+FE7+FQ7+GC7+GO7+HA7+HM7 -> 101212.1 | D7: =R7+AD7+AP7+BB7+BN7+BZ7+CL7+CX7+DJ7+DV7+EH7+ET7+FF7+FR7+GD7+GP7+HB7+HN7 -> 1 | E7: =S7+AE7+AQ7+BC7+BO7+CA7+CM7+CY7+DK7+DW7+EI7+EU7+FG7+FS7+GE7+GQ7+HC7+HO7 -> 31.2 | F7: =T7+AF7+AR7+BD7+BP7+CB7+CN7+CZ7+DL7+DX7+EJ7+EV7+FH7+FT7+GF7+GR7+HD7+HP7 -> 0 | G7: =U7+AG7+AS7+BE7+BQ7+CC7+CO7+DA7+DM7+DY7+EK7+EW7+FI7+FU7+GG7+GS7+HE7+HQ7 -> 0 | H7: =V7+AH7+AT7+BF7+BR7+CD7+CP7+DB7+DN7+DZ7+EL7+EX7+FJ7+FV7+GH7+GT7+HF7+HR7 -> 0 | I7: =W7+AI7+AU7+BG7+BS7+CE7+CQ7+DC7+DO7+EA7+EM7+EY7+FK7+FW7+GI7+GU7+HG7+HS7 -> 0 | ... K7: =Y7+AK7+AW7+BI7+BU7+CG7+CS7+DE7+DQ7+EC7+EO7+FA7+FM7+FY7+GK7+GW7+HI7+HU7 -> 101243.3 | O7: 25 | P7: 126 | Q7: =ROUND(P7*O7/25*12*2*1.302,1) -> 3937.2 | S7: =ROUND(R7*Q7/25*12*2*1.302,1) -> 0 | X7: =P7+R7+V7+T7 -> 126 | Y7: =Q7+S7+W7+U7 -> 3937.2 | AA7: 25 | AB7: 39 | AC7: =ROUND(AB7*AA7/25*12*2*1.302,1) -> 1218.7 | AE7: =ROUND(AD7*AC7/25*12*2*1.302,1) -> 0 | AJ7: =AB7+AD7+AH7+AF7 -> 39 | AK7: =AC7+AE7+AI7+AG7 -> 1218.7 | AM7: 25 | AN7: 193 | AO7: =ROUND(AN7*AM7/25*12*2*1.302,1) -> 6030.9 | AQ7: =ROUND(AP7*AM7/25*12*2*1.302,1) -> 0 | AV7: =AN7+AP7+AT7+AR7 -> 193 | AW7: =AO7+AQ7+AU7+AS7 -> 6030.9 | AY7: 25 | AZ7: 563 | BA7: =ROUND(AZ7*AY7/25*12*2*1.302,1) -> 17592.6 | BC7: =ROUND(BB7*AY7/25*12*2*1.302,1) -> 0 | BH7: =AZ7+BB7+BF7+BD7 -> 563 | BI7: =BA7+BC7+BG7+BE7 -> 17592.6 | BK7: 25 | BL7: 382 | BM7: =ROUND(BL7*BK7/25*12*2*1.302,1) -> 11936.7 | BO7: =ROUND(BN7*BM7/25*12*2*1.302,1) -> 0 | BT7: =BL7+BN7+BR7+BP7 -> 382 | BU7: =BM7+BO7+BS7+BQ7 -> 11936.7 | BW7: 25 | BX7: 364 | BY7: =ROUND(BX7*BW7/25*12*2*1.302,1) -> 11374.3 | CA7: =ROUND(BZ7*BY7/25*12*2*1.302,1) -> 0 | CF7: =BX7+BZ7+CD7+CB7 -> 364 | CG7: =BY7+CA7+CE7+CC7 -> 11374.3 | CI7: 25 | CJ7: 176 | CK7: =ROUND(CJ7*CI7/25*12*2*1.302,1) -> 5499.6 | CM7: =ROUND(CL7*CK7/25*12*2*1.302,1) -> 0 | CR7: =CJ7+CL7+CP7+CN7 -> 176 | CS7: =CK7+CM7+CQ7+CO7 -> 5499.6 | CU7: 25 | CV7: 207 | CW7: =ROUND(CV7*CU7/25*12*2*1.302,1) -> 6468.3 | CX7: 1 | CY7: =ROUND(CX7*CU7/25*12*2*1.302,1) -> 31.2 | DC7: =ROUND(DB7*CU7/12*12*2*1.302,1) -> 0 | DD7: =CV7+CX7+DB7+CZ7 -> 208 | DE7: =CW7+CY7+DC7+DA7 -> 6499.5 | DG7: 25 | DH7: 211 | DI7: =ROUND(DH7*DG7/25*12*2*1.302,1) -> 6593.3 | DK7: =ROUND(DJ7*DG7/25*12*2*1.302,1) -> 0 | DM7: =ROUND(DL7*DG7/20*12*2*1.302,1) -> 0 | DO7: =ROUND(DN7*DG7/12*12*2*1.302,1) -> 0 | DP7: =DH7+DJ7+DL7+DN7 -> 211 | DQ7: =DI7+DK7+DM7+DO7 -> 6593.3 | DS7: 25 | DT7: 61 | DU7: =ROUND(DT7*DS7/25*12*2*1.302,1) -> 1906.1 | DW7: =ROUND(DV7*DS7/25*12*2*1.302,1) -> 0 | EB7: =DT7+DV7+DX7+DZ7 -> 61 | EC7: =DU7+DW7+DY7+EA7 -> 1906.1 | EE7: 25 | EF7: 3 | EG7: =ROUND(EF7*EE7/25*12*2*1.302,1) -> 93.7 | EI7: =ROUND(EH7*EG7/25*12*2*1.302,1) -> 0 | EK7: =ROUND(EJ7*EE7/20*12*2*1.302,1) -> 0 | EM7: =ROUND(EL7*EE7/12*12*2*1.302,1) -> 0 | EN7: =EF7+EH7+EL7+EJ7 -> 3 | EO7: =EG7+EI7+EM7+EK7 -> 93.7 | EQ7: 25 | ER7: 89 | ES7: =ROUND(ER7*EQ7/25*12*2*1.302,1) -> 2781.1 | EU7: =ROUND(ET7*EQ7/25*12*2*1.302,1) -> 0 | EZ7: =ER7+ET7+EX7+EV7 -> 89 | FA7: =ES7+EU7+EY7+EW7 -> 2781.1 | FC7: 25 | FD7: 65 | FE7: =ROUND(FD7*FC7/25*12*2*1.302,1) -> 2031.1 | FG7: =ROUND(FF7*FE7/25*12*2*1.302,1) -> 0 | FL7: =FD7+FF7+FJ7+FH7 -> 65 | FM7: =FE7+FG7+FK7+FI7 -> 2031.1 | FO7: 25 | FP7: 71 | FQ7: =ROUND(FP7*FO7/25*12*2*1.302,1) -> 2218.6 | FS7: =ROUND(FR7*FQ7/25*12*2*1.302,1) -> 0 | FX7: =FP7+FR7+FV7+FT7 -> 71 | FY7: =FQ7+FS7+FW7+FU7 -> 2218.6 | GA7: 25 | GB7: 97 | GC7: =ROUND(GB7*GA7/25*12*2*1.302,1) -> 3031.1 | GD7: 0 | GE7: =ROUND(GD7*GC7/25*12*2*1.302,1) -> 0 | GI7: =ROUND(GH7*GA7/12*12*2*1.302,1) -> 0 | GJ7: =GB7+GD7+GH7+GF7 -> 97 | GK7: =GC7+GE7+GI7+GG7 -> 3031.1 | GM7: 25 | GN7: 193 | GO7: =ROUND(GN7*GM7/25*12*2*1.302,1) -> 6030.9 | GQ7: =ROUND(GP7*GO7/25*12*2*1.302,1) -> 0 | GV7: =GN7+GP7+GT7+GR7 -> 193 | GW7: =GO7+GQ7+GU7+GS7 -> 6030.9 | GY7: 25 | GZ7: 215 | HA7: =ROUND(GZ7*GY7/25*12*2*1.302,1) -> 6718.3 | HC7: =ROUND(HB7*HA7/25*12*2*1.302,1) -> 0 | HH7: =GZ7+HB7+HF7+HD7 -> 215 | HI7: =HA7+HC7+HG7+HE7 -> 6718.3 | HK7: 25 | HL7: 184 | HM7: =ROUND(HL7*HK7/25*12*2*1.302,1) -> 5749.6 | HO7: =ROUND(HN7*HM7/25*12*2*1.302,1) -> 0 | HT7: =HL7+HN7+HR7+HP7 -> 184 | HU7: =HM7+HO7+HS7+HQ7 -> 5749.6
A8: 24 | B8: =P8+AB8+AN8+AZ8+BL8+BX8+CJ8+CV8+DH8+DT8+EF8+ER8+FD8+FP8+GB8+GN8+GZ8+HL8 -> 187 | C8: =Q8+AC8+AO8+BA8+BM8+BY8+CK8+CW8+DI8+DU8+EG8+ES8+FE8+FQ8+GC8+GO8+HA8+HM8 -> 5609.9 | D8: =R8+AD8+AP8+BB8+BN8+BZ8+CL8+CX8+DJ8+DV8+EH8+ET8+FF8+FR8+GD8+GP8+HB8+HN8 -> 0 | E8: =S8+AE8+AQ8+BC8+BO8+CA8+CM8+CY8+DK8+DW8+EI8+EU8+FG8+FS8+GE8+GQ8+HC8+HO8 -> 0 | F8: =T8+AF8+AR8+BD8+BP8+CB8+CN8+CZ8+DL8+DX8+EJ8+EV8+FH8+FT8+GF8+GR8+HD8+HP8 -> 0 | G8: =U8+AG8+AS8+BE8+BQ8+CC8+CO8+DA8+DM8+DY8+EK8+EW8+FI8+FU8+GG8+GS8+HE8+HQ8 -> 0 | H8: =V8+AH8+AT8+BF8+BR8+CD8+CP8+DB8+DN8+DZ8+EL8+EX8+FJ8+FV8+GH8+GT8+HF8+HR8 -> 0 | I8: =W8+AI8+AU8+BG8+BS8+CE8+CQ8+DC8+DO8+EA8+EM8+EY8+FK8+FW8+GI8+GU8+HG8+HS8 -> 0 | ... K8: =Y8+AK8+AW8+BI8+BU8+CG8+CS8+DE8+DQ8+EC8+EO8+FA8+FM8+FY8+GK8+GW8+HI8+HU8 -> 5609.9 | O8: 24 | P8: 5 | Q8: =ROUND(P8*O8/25*12*2*1.302,1) -> 150 | S8: =ROUND(R8*Q8/25*12*2*1.302,1) -> 0 | X8: =P8+R8+V8+T8 -> 5 | Y8: =Q8+S8+W8+U8 -> 150 | AA8: 24 | AB8: 6 | AC8: =ROUND(AB8*AA8/25*12*2*1.302,1) -> 180 | AE8: =ROUND(AD8*AC8/25*12*2*1.302,1) -> 0 | AJ8: =AB8+AD8+AH8+AF8 -> 6 | AK8: =AC8+AE8+AI8+AG8 -> 180 | AM8: 24 | AN8: 8 | AO8: =ROUND(AN8*AM8/25*12*2*1.302,1) -> 240 | AQ8: =ROUND(AP8*AM8/25*12*2*1.302,1) -> 0 | AV8: =AN8+AP8+AT8+AR8 -> 8 | AW8: =AO8+AQ8+AU8+AS8 -> 240 | AY8: 24 | AZ8: 28 | BA8: =ROUND(AZ8*AY8/25*12*2*1.302,1) -> 839.9 | BC8: =ROUND(BB8*AY8/25*12*2*1.302,1) -> 0 | BH8: =AZ8+BB8+BF8+BD8 -> 28 | BI8: =BA8+BC8+BG8+BE8 -> 839.9 | BK8: 24 | BL8: 16 | BM8: =ROUND(BL8*BK8/25*12*2*1.302,1) -> 480 | BO8: =ROUND(BN8*BM8/25*12*2*1.302,1) -> 0 | BT8: =BL8+BN8+BR8+BP8 -> 16 | BU8: =BM8+BO8+BS8+BQ8 -> 480 | BW8: 24 | BX8: 22 | BY8: =ROUND(BX8*BW8/25*12*2*1.302,1) -> 660 | CA8: =ROUND(BZ8*BY8/25*12*2*1.302,1) -> 0 | CF8: =BX8+BZ8+CD8+CB8 -> 22 | CG8: =BY8+CA8+CE8+CC8 -> 660 | CI8: 24 | CJ8: 15 | CK8: =ROUND(CJ8*CI8/25*12*2*1.302,1) -> 450 | CM8: =ROUND(CL8*CK8/25*12*2*1.302,1) -> 0 | CR8: =CJ8+CL8+CP8+CN8 -> 15 | CS8: =CK8+CM8+CQ8+CO8 -> 450 | CU8: 24 | CV8: 2 | CW8: =ROUND(CV8*CU8/25*12*2*1.302,1) -> 60 | CY8: =ROUND(CX8*CU8/25*12*2*1.302,1) -> 0 | DC8: =ROUND(DB8*CU8/12*12*2*1.302,1) -> 0 | DD8: =CV8+CX8+DB8+CZ8 -> 2 | DE8: =CW8+CY8+DC8+DA8 -> 60 | DG8: 24 | DH8: 15 | DI8: =ROUND(DH8*DG8/25*12*2*1.302,1) -> 450 | DK8: =ROUND(DJ8*DG8/25*12*2*1.302,1) -> 0 | DM8: =ROUND(DL8*DG8/20*12*2*1.302,1) -> 0 | DO8: =ROUND(DN8*DG8/12*12*2*1.302,1) -> 0 | DP8: =DH8+DJ8+DL8+DN8 -> 15 | DQ8: =DI8+DK8+DM8+DO8 -> 450 | DS8: 24 | DT8: 2 | DU8: =ROUND(DT8*DS8/25*12*2*1.302,1) -> 60 | DW8: =ROUND(DV8*DS8/25*12*2*1.302,1) -> 0 | EB8: =DT8+DV8+DX8+DZ8 -> 2 | EC8: =DU8+DW8+DY8+EA8 -> 60 | EE8: 24 | EG8: =ROUND(EF8*EE8/25*12*2*1.302,1) -> 0 | EI8: =ROUND(EH8*EG8/25*12*2*1.302,1) -> 0 | EK8: =ROUND(EJ8*EE8/20*12*2*1.302,1) -> 0 | EM8: =ROUND(EL8*EE8/12*12*2*1.302,1) -> 0 | EN8: =EF8+EH8+EL8+EJ8 -> 0 | EO8: =EG8+EI8+EM8+EK8 -> 0 | EQ8: 24 | ER8: 14 | ES8: =ROUND(ER8*EQ8/25*12*2*1.302,1) -> 420 | EU8: =ROUND(ET8*EQ8/25*12*2*1.302,1) -> 0 | EZ8: =ER8+ET8+EX8+EV8 -> 14 | FA8: =ES8+EU8+EY8+EW8 -> 420 | FC8: 24 | FD8: 7 | FE8: =ROUND(FD8*FC8/25*12*2*1.302,1) -> 210 | FG8: =ROUND(FF8*FE8/25*12*2*1.302,1) -> 0 | FL8: =FD8+FF8+FJ8+FH8 -> 7 | FM8: =FE8+FG8+FK8+FI8 -> 210 | FO8: 24 | FP8: 1 | FQ8: =ROUND(FP8*FO8/25*12*2*1.302,1) -> 30 | FS8: =ROUND(FR8*FQ8/25*12*2*1.302,1) -> 0 | FX8: =FP8+FR8+FV8+FT8 -> 1 | FY8: =FQ8+FS8+FW8+FU8 -> 30 | GA8: 24 | GB8: 6 | GC8: =ROUND(GB8*GA8/25*12*2*1.302,1) -> 180 | GD8: 0 | GE8: =ROUND(GD8*GC8/25*12*2*1.302,1) -> 0 | GI8: =ROUND(GH8*GA8/12*12*2*1.302,1) -> 0 | GJ8: =GB8+GD8+GH8+GF8 -> 6 | GK8: =GC8+GE8+GI8+GG8 -> 180 | GM8: 24 | GN8: 6 | GO8: =ROUND(GN8*GM8/25*12*2*1.302,1) -> 180 | GQ8: =ROUND(GP8*GO8/25*12*2*1.302,1) -> 0 | GV8: =GN8+GP8+GT8+GR8 -> 6 | GW8: =GO8+GQ8+GU8+GS8 -> 180 | GY8: 24 | GZ8: 24 | HA8: =ROUND(GZ8*GY8/25*12*2*1.302,1) -> 720 | HC8: =ROUND(HB8*HA8/25*12*2*1.302,1) -> 0 | HH8: =GZ8+HB8+HF8+HD8 -> 24 | HI8: =HA8+HC8+HG8+HE8 -> 720 | HK8: 24 | HL8: 10 | HM8: =ROUND(HL8*HK8/25*12*2*1.302,1) -> 300 | HO8: =ROUND(HN8*HM8/25*12*2*1.302,1) -> 0 | HT8: =HL8+HN8+HR8+HP8 -> 10 | HU8: =HM8+HO8+HS8+HQ8 -> 300
A9: 23 | B9: =P9+AB9+AN9+AZ9+BL9+BX9+CJ9+CV9+DH9+DT9+EF9+ER9+FD9+FP9+GB9+GN9+GZ9+HL9 -> 155 | C9: =Q9+AC9+AO9+BA9+BM9+BY9+CK9+CW9+DI9+DU9+EG9+ES9+FE9+FQ9+GC9+GO9+HA9+HM9 -> 4455.7 | D9: =R9+AD9+AP9+BB9+BN9+BZ9+CL9+CX9+DJ9+DV9+EH9+ET9+FF9+FR9+GD9+GP9+HB9+HN9 -> 0 | E9: =S9+AE9+AQ9+BC9+BO9+CA9+CM9+CY9+DK9+DW9+EI9+EU9+FG9+FS9+GE9+GQ9+HC9+HO9 -> 0 | F9: =T9+AF9+AR9+BD9+BP9+CB9+CN9+CZ9+DL9+DX9+EJ9+EV9+FH9+FT9+GF9+GR9+HD9+HP9 -> 0 | G9: =U9+AG9+AS9+BE9+BQ9+CC9+CO9+DA9+DM9+DY9+EK9+EW9+FI9+FU9+GG9+GS9+HE9+HQ9 -> 0 | H9: =V9+AH9+AT9+BF9+BR9+CD9+CP9+DB9+DN9+DZ9+EL9+EX9+FJ9+FV9+GH9+GT9+HF9+HR9 -> 0 | I9: =W9+AI9+AU9+BG9+BS9+CE9+CQ9+DC9+DO9+EA9+EM9+EY9+FK9+FW9+GI9+GU9+HG9+HS9 -> 0 | ... K9: =Y9+AK9+AW9+BI9+BU9+CG9+CS9+DE9+DQ9+EC9+EO9+FA9+FM9+FY9+GK9+GW9+HI9+HU9 -> 4455.7 | O9: 23 | P9: 2 | Q9: =ROUND(P9*O9/25*12*2*1.302,1) -> 57.5 | S9: =ROUND(R9*Q9/25*12*2*1.302,1) -> 0 | X9: =P9+R9+V9+T9 -> 2 | Y9: =Q9+S9+W9+U9 -> 57.5 | AA9: 23 | AB9: 13 | AC9: =ROUND(AB9*AA9/25*12*2*1.302,1) -> 373.7 | AE9: =ROUND(AD9*AC9/25*12*2*1.302,1) -> 0 | AJ9: =AB9+AD9+AH9+AF9 -> 13 | AK9: =AC9+AE9+AI9+AG9 -> 373.7 | AM9: 23 | AN9: 12 | AO9: =ROUND(AN9*AM9/25*12*2*1.302,1) -> 345 | AQ9: =ROUND(AP9*AM9/25*12*2*1.302,1) -> 0 | AV9: =AN9+AP9+AT9+AR9 -> 12 | AW9: =AO9+AQ9+AU9+AS9 -> 345 | AY9: 23 | AZ9: 24 | BA9: =ROUND(AZ9*AY9/25*12*2*1.302,1) -> 690 | BC9: =ROUND(BB9*AY9/25*12*2*1.302,1) -> 0 | BH9: =AZ9+BB9+BF9+BD9 -> 24 | BI9: =BA9+BC9+BG9+BE9 -> 690 | BK9: 23 | BL9: 13 | BM9: =ROUND(BL9*BK9/25*12*2*1.302,1) -> 373.7 | BO9: =ROUND(BN9*BM9/25*12*2*1.302,1) -> 0 | BT9: =BL9+BN9+BR9+BP9 -> 13 | BU9: =BM9+BO9+BS9+BQ9 -> 373.7 | BW9: 23 | BX9: 13 | BY9: =ROUND(BX9*BW9/25*12*2*1.302,1) -> 373.7 | CA9: =ROUND(BZ9*BY9/25*12*2*1.302,1) -> 0 | CF9: =BX9+BZ9+CD9+CB9 -> 13 | CG9: =BY9+CA9+CE9+CC9 -> 373.7 | CI9: 23 | CJ9: 5 | CK9: =ROUND(CJ9*CI9/25*12*2*1.302,1) -> 143.7 | CM9: =ROUND(CL9*CK9/25*12*2*1.302,1) -> 0 | CR9: =CJ9+CL9+CP9+CN9 -> 5 | CS9: =CK9+CM9+CQ9+CO9 -> 143.7 | CU9: 23 | CV9: 4 | CW9: =ROUND(CV9*CU9/25*12*2*1.302,1) -> 115 | CY9: =ROUND(CX9*CU9/25*12*2*1.302,1) -> 0 | DC9: =ROUND(DB9*CU9/12*12*2*1.302,1) -> 0 | DD9: =CV9+CX9+DB9+CZ9 -> 4 | DE9: =CW9+CY9+DC9+DA9 -> 115 | DG9: 23 | DH9: 15 | DI9: =ROUND(DH9*DG9/25*12*2*1.302,1) -> 431.2 | DK9: =ROUND(DJ9*DG9/25*12*2*1.302,1) -> 0 | DM9: =ROUND(DL9*DG9/20*12*2*1.302,1) -> 0 | DO9: =ROUND(DN9*DG9/12*12*2*1.302,1) -> 0 | DP9: =DH9+DJ9+DL9+DN9 -> 15 | DQ9: =DI9+DK9+DM9+DO9 -> 431.2 | DS9: 23 | DT9: 3 | DU9: =ROUND(DT9*DS9/25*12*2*1.302,1) -> 86.2 | DW9: =ROUND(DV9*DS9/25*12*2*1.302,1) -> 0 | EB9: =DT9+DV9+DX9+DZ9 -> 3 | EC9: =DU9+DW9+DY9+EA9 -> 86.2 | EE9: 23 | EG9: =ROUND(EF9*EE9/25*12*2*1.302,1) -> 0 | EI9: =ROUND(EH9*EG9/25*12*2*1.302,1) -> 0 | EK9: =ROUND(EJ9*EE9/20*12*2*1.302,1) -> 0 | EM9: =ROUND(EL9*EE9/12*12*2*1.302,1) -> 0 | EN9: =EF9+EH9+EL9+EJ9 -> 0 | EO9: =EG9+EI9+EM9+EK9 -> 0 | EQ9: 23 | ER9: 20 | ES9: =ROUND(ER9*EQ9/25*12*2*1.302,1) -> 575 | EU9: =ROUND(ET9*EQ9/25*12*2*1.302,1) -> 0 | EZ9: =ER9+ET9+EX9+EV9 -> 20 | FA9: =ES9+EU9+EY9+EW9 -> 575 | FC9: 23 | FD9: 5 | FE9: =ROUND(FD9*FC9/25*12*2*1.302,1) -> 143.7 | FG9: =ROUND(FF9*FE9/25*12*2*1.302,1) -> 0 | FL9: =FD9+FF9+FJ9+FH9 -> 5 | FM9: =FE9+FG9+FK9+FI9 -> 143.7 | FO9: 23 | FP9: 5 | FQ9: =ROUND(FP9*FO9/25*12*2*1.302,1) -> 143.7 | FS9: =ROUND(FR9*FQ9/25*12*2*1.302,1) -> 0 | FX9: =FP9+FR9+FV9+FT9 -> 5 | FY9: =FQ9+FS9+FW9+FU9 -> 143.7 | GA9: 23 | GB9: 1 | GC9: =ROUND(GB9*GA9/25*12*2*1.302,1) -> 28.7 | GD9: 0 | GE9: =ROUND(GD9*GC9/25*12*2*1.302,1) -> 0 | GI9: =ROUND(GH9*GA9/12*12*2*1.302,1) -> 0 | GJ9: =GB9+GD9+GH9+GF9 -> 1 | GK9: =GC9+GE9+GI9+GG9 -> 28.7 | GM9: 23 | GN9: 7 | GO9: =ROUND(GN9*GM9/25*12*2*1.302,1) -> 201.2 | GQ9: =ROUND(GP9*GO9/25*12*2*1.302,1) -> 0 | GV9: =GN9+GP9+GT9+GR9 -> 7 | GW9: =GO9+GQ9+GU9+GS9 -> 201.2 | GY9: 23 | GZ9: 8 | HA9: =ROUND(GZ9*GY9/25*12*2*1.302,1) -> 230 | HC9: =ROUND(HB9*HA9/25*12*2*1.302,1) -> 0 | HH9: =GZ9+HB9+HF9+HD9 -> 8 | HI9: =HA9+HC9+HG9+HE9 -> 230 | HK9: 23 | HL9: 5 | HM9: =ROUND(HL9*HK9/25*12*2*1.302,1) -> 143.7 | HO9: =ROUND(HN9*HM9/25*12*2*1.302,1) -> 0 | HT9: =HL9+HN9+HR9+HP9 -> 5 | HU9: =HM9+HO9+HS9+HQ9 -> 143.7
A10: 22 | B10: =P10+AB10+AN10+AZ10+BL10+BX10+CJ10+CV10+DH10+DT10+EF10+ER10+FD10+FP10+GB10+GN10+GZ10+HL10 -> 95 | C10: =Q10+AC10+AO10+BA10+BM10+BY10+CK10+CW10+DI10+DU10+EG10+ES10+FE10+FQ10+GC10+GO10+HA10+HM10 -> 2612.5 | D10: =R10+AD10+AP10+BB10+BN10+BZ10+CL10+CX10+DJ10+DV10+EH10+ET10+FF10+FR10+GD10+GP10+HB10+HN10 -> 1 | E10: =S10+AE10+AQ10+BC10+BO10+CA10+CM10+CY10+DK10+DW10+EI10+EU10+FG10+FS10+GE10+GQ10+HC10+HO10 -> 27.5 | F10: =T10+AF10+AR10+BD10+BP10+CB10+CN10+CZ10+DL10+DX10+EJ10+EV10+FH10+FT10+GF10+GR10+HD10+HP10 -> 0 | G10: =U10+AG10+AS10+BE10+BQ10+CC10+CO10+DA10+DM10+DY10+EK10+EW10+FI10+FU10+GG10+GS10+HE10+HQ10 -> 0 | H10: =V10+AH10+AT10+BF10+BR10+CD10+CP10+DB10+DN10+DZ10+EL10+EX10+FJ10+FV10+GH10+GT10+HF10+HR10 -> 0 | I10: =W10+AI10+AU10+BG10+BS10+CE10+CQ10+DC10+DO10+EA10+EM10+EY10+FK10+FW10+GI10+GU10+HG10+HS10 -> 0 | ... K10: =Y10+AK10+AW10+BI10+BU10+CG10+CS10+DE10+DQ10+EC10+EO10+FA10+FM10+FY10+GK10+GW10+HI10+HU10 -> 2640 | O10: 22 | P10: 3 | Q10: =ROUND(P10*O10/25*12*2*1.302,1) -> 82.5 | S10: =ROUND(R10*Q10/25*12*2*1.302,1) -> 0 | X10: =P10+R10+V10+T10 -> 3 | Y10: =Q10+S10+W10+U10 -> 82.5 | AA10: 22 | AB10: 1 | AC10: =ROUND(AB10*AA10/25*12*2*1.302,1) -> 27.5 | AE10: =ROUND(AD10*AC10/25*12*2*1.302,1) -> 0 | AJ10: =AB10+AD10+AH10+AF10 -> 1 | AK10: =AC10+AE10+AI10+AG10 -> 27.5 | AM10: 22 | AN10: 5 | AO10: =ROUND(AN10*AM10/25*12*2*1.302,1) -> 137.5 | AQ10: =ROUND(AP10*AM10/25*12*2*1.302,1) -> 0 | AV10: =AN10+AP10+AT10+AR10 -> 5 | AW10: =AO10+AQ10+AU10+AS10 -> 137.5 | AY10: 22 | BA10: =ROUND(AZ10*AY10/25*12*2*1.302,1) -> 0 | BC10: =ROUND(BB10*AY10/25*12*2*1.302,1) -> 0 | BH10: =AZ10+BB10+BF10+BD10 -> 0 | BI10: =BA10+BC10+BG10+BE10 -> 0 | BK10: 22 | BL10: 8 | BM10: =ROUND(BL10*BK10/25*12*2*1.302,1) -> 220 | BO10: =ROUND(BN10*BM10/25*12*2*1.302,1) -> 0 | BT10: =BL10+BN10+BR10+BP10 -> 8 | BU10: =BM10+BO10+BS10+BQ10 -> 220 | BW10: 22 | BX10: 10 | BY10: =ROUND(BX10*BW10/25*12*2*1.302,1) -> 275 | CA10: =ROUND(BZ10*BY10/25*12*2*1.302,1) -> 0 | CF10: =BX10+BZ10+CD10+CB10 -> 10 | CG10: =BY10+CA10+CE10+CC10 -> 275 | CI10: 22 | CJ10: 6 | CK10: =ROUND(CJ10*CI10/25*12*2*1.302,1) -> 165 | CM10: =ROUND(CL10*CK10/25*12*2*1.302,1) -> 0 | CR10: =CJ10+CL10+CP10+CN10 -> 6 | CS10: =CK10+CM10+CQ10+CO10 -> 165 | CU10: 22 | CV10: 8 | CW10: =ROUND(CV10*CU10/25*12*2*1.302,1) -> 220 | CY10: =ROUND(CX10*CU10/25*12*2*1.302,1) -> 0 | DC10: =ROUND(DB10*CU10/12*12*2*1.302,1) -> 0 | DD10: =CV10+CX10+DB10+CZ10 -> 8 | DE10: =CW10+CY10+DC10+DA10 -> 220 | DG10: 22 | DH10: 13 | DI10: =ROUND(DH10*DG10/25*12*2*1.302,1) -> 357.5 | DJ10: 1 | DK10: =ROUND(DJ10*DG10/25*12*2*1.302,1) -> 27.5 | DM10: =ROUND(DL10*DG10/20*12*2*1.302,1) -> 0 | DO10: =ROUND(DN10*DG10/12*12*2*1.302,1) -> 0 | DP10: =DH10+DJ10+DL10+DN10 -> 14 | DQ10: =DI10+DK10+DM10+DO10 -> 385 | DS10: 22 | DT10: 1 | DU10: =ROUND(DT10*DS10/25*12*2*1.302,1) -> 27.5 | DW10: =ROUND(DV10*DS10/25*12*2*1.302,1) -> 0 | EB10: =DT10+DV10+DX10+DZ10 -> 1 | EC10: =DU10+DW10+DY10+EA10 -> 27.5 | EE10: 22 | EF10: 1 | EG10: =ROUND(EF10*EE10/25*12*2*1.302,1) -> 27.5 | EI10: =ROUND(EH10*EG10/25*12*2*1.302,1) -> 0 | EK10: =ROUND(EJ10*EE10/20*12*2*1.302,1) -> 0 | EM10: =ROUND(EL10*EE10/12*12*2*1.302,1) -> 0 | EN10: =EF10+EH10+EL10+EJ10 -> 1 | EO10: =EG10+EI10+EM10+EK10 -> 27.5 | EQ10: 22 | ER10: 13 | ES10: =ROUND(ER10*EQ10/25*12*2*1.302,1) -> 357.5 | EU10: =ROUND(ET10*EQ10/25*12*2*1.302,1) -> 0 | EZ10: =ER10+ET10+EX10+EV10 -> 13 | FA10: =ES10+EU10+EY10+EW10 -> 357.5 | FC10: 22 | FD10: 5 | FE10: =ROUND(FD10*FC10/25*12*2*1.302,1) -> 137.5 | FG10: =ROUND(FF10*FE10/25*12*2*1.302,1) -> 0 | FL10: =FD10+FF10+FJ10+FH10 -> 5 | FM10: =FE10+FG10+FK10+FI10 -> 137.5 | FO10: 22 | FP10: 1 | FQ10: =ROUND(FP10*FO10/25*12*2*1.302,1) -> 27.5 | FS10: =ROUND(FR10*FQ10/25*12*2*1.302,1) -> 0 | FX10: =FP10+FR10+FV10+FT10 -> 1 | FY10: =FQ10+FS10+FW10+FU10 -> 27.5 | GA10: 22 | GB10: 2 | GC10: =ROUND(GB10*GA10/25*12*2*1.302,1) -> 55 | GD10: 0 | GE10: =ROUND(GD10*GC10/25*12*2*1.302,1) -> 0 | GI10: =ROUND(GH10*GA10/12*12*2*1.302,1) -> 0 | GJ10: =GB10+GD10+GH10+GF10 -> 2 | GK10: =GC10+GE10+GI10+GG10 -> 55 | GM10: 22 | GN10: 5 | GO10: =ROUND(GN10*GM10/25*12*2*1.302,1) -> 137.5 | GQ10: =ROUND(GP10*GO10/25*12*2*1.302,1) -> 0 | GV10: =GN10+GP10+GT10+GR10 -> 5 | GW10: =GO10+GQ10+GU10+GS10 -> 137.5 | GY10: 22 | GZ10: 4 | HA10: =ROUND(GZ10*GY10/25*12*2*1.302,1) -> 110 | HC10: =ROUND(HB10*HA10/25*12*2*1.302,1) -> 0 | HH10: =GZ10+HB10+HF10+HD10 -> 4 | HI10: =HA10+HC10+HG10+HE10 -> 110 | HK10: 22 | HL10: 9 | HM10: =ROUND(HL10*HK10/25*12*2*1.302,1) -> 247.5 | HO10: =ROUND(HN10*HM10/25*12*2*1.302,1) -> 0 | HT10: =HL10+HN10+HR10+HP10 -> 9 | HU10: =HM10+HO10+HS10+HQ10 -> 247.5
A11: 21 | B11: =P11+AB11+AN11+AZ11+BL11+BX11+CJ11+CV11+DH11+DT11+EF11+ER11+FD11+FP11+GB11+GN11+GZ11+HL11 -> 96 | C11: =Q11+AC11+AO11+BA11+BM11+BY11+CK11+CW11+DI11+DU11+EG11+ES11+FE11+FQ11+GC11+GO11+HA11+HM11 -> 2519.6 | D11: =R11+AD11+AP11+BB11+BN11+BZ11+CL11+CX11+DJ11+DV11+EH11+ET11+FF11+FR11+GD11+GP11+HB11+HN11 -> 0 | E11: =S11+AE11+AQ11+BC11+BO11+CA11+CM11+CY11+DK11+DW11+EI11+EU11+FG11+FS11+GE11+GQ11+HC11+HO11 -> 0 | F11: =T11+AF11+AR11+BD11+BP11+CB11+CN11+CZ11+DL11+DX11+EJ11+EV11+FH11+FT11+GF11+GR11+HD11+HP11 -> 0 | G11: =U11+AG11+AS11+BE11+BQ11+CC11+CO11+DA11+DM11+DY11+EK11+EW11+FI11+FU11+GG11+GS11+HE11+HQ11 -> 0 | H11: =V11+AH11+AT11+BF11+BR11+CD11+CP11+DB11+DN11+DZ11+EL11+EX11+FJ11+FV11+GH11+GT11+HF11+HR11 -> 0 | I11: =W11+AI11+AU11+BG11+BS11+CE11+CQ11+DC11+DO11+EA11+EM11+EY11+FK11+FW11+GI11+GU11+HG11+HS11 -> 0 | ... K11: =Y11+AK11+AW11+BI11+BU11+CG11+CS11+DE11+DQ11+EC11+EO11+FA11+FM11+FY11+GK11+GW11+HI11+HU11 -> 2519.6 | O11: 21 | P11: 3 | Q11: =ROUND(P11*O11/25*12*2*1.302,1) -> 78.7 | S11: =ROUND(R11*Q11/25*12*2*1.302,1) -> 0 | X11: =P11+R11+V11+T11 -> 3 | Y11: =Q11+S11+W11+U11 -> 78.7 | AA11: 21 | AB11: 1 | AC11: =ROUND(AB11*AA11/25*12*2*1.302,1) -> 26.2 | AE11: =ROUND(AD11*AC11/25*12*2*1.302,1) -> 0 | AJ11: =AB11+AD11+AH11+AF11 -> 1 | AK11: =AC11+AE11+AI11+AG11 -> 26.2 | AM11: 21 | AN11: 6 | AO11: =ROUND(AN11*AM11/25*12*2*1.302,1) -> 157.5 | AQ11: =ROUND(AP11*AM11/25*12*2*1.302,1) -> 0 | AV11: =AN11+AP11+AT11+AR11 -> 6 | AW11: =AO11+AQ11+AU11+AS11 -> 157.5 | AY11: 21 | BA11: =ROUND(AZ11*AY11/25*12*2*1.302,1) -> 0 | BC11: =ROUND(BB11*AY11/25*12*2*1.302,1) -> 0 | BH11: =AZ11+BB11+BF11+BD11 -> 0 | BI11: =BA11+BC11+BG11+BE11 -> 0 | BK11: 21 | BL11: 14 | BM11: =ROUND(BL11*BK11/25*12*2*1.302,1) -> 367.5 | BO11: =ROUND(BN11*BM11/25*12*2*1.302,1) -> 0 | BT11: =BL11+BN11+BR11+BP11 -> 14 | BU11: =BM11+BO11+BS11+BQ11 -> 367.5 | BW11: 21 | BX11: 21 | BY11: =ROUND(BX11*BW11/25*12*2*1.302,1) -> 551.2 | CA11: =ROUND(BZ11*BY11/25*12*2*1.302,1) -> 0 | CF11: =BX11+BZ11+CD11+CB11 -> 21 | CG11: =BY11+CA11+CE11+CC11 -> 551.2 | CI11: 21 | CJ11: 4 | CK11: =ROUND(CJ11*CI11/25*12*2*1.302,1) -> 105 | CM11: =ROUND(CL11*CK11/25*12*2*1.302,1) -> 0 | CR11: =CJ11+CL11+CP11+CN11 -> 4 | CS11: =CK11+CM11+CQ11+CO11 -> 105 | CU11: 21 | CV11: 1 | CW11: =ROUND(CV11*CU11/25*12*2*1.302,1) -> 26.2 | CY11: =ROUND(CX11*CU11/25*12*2*1.302,1) -> 0 | DC11: =ROUND(DB11*CU11/12*12*2*1.302,1) -> 0 | DD11: =CV11+CX11+DB11+CZ11 -> 1 | DE11: =CW11+CY11+DC11+DA11 -> 26.2 | DG11: 21 | DH11: 7 | DI11: =ROUND(DH11*DG11/25*12*2*1.302,1) -> 183.7 | DK11: =ROUND(DJ11*DG11/25*12*2*1.302,1) -> 0 | DM11: =ROUND(DL11*DG11/20*12*2*1.302,1) -> 0 | DO11: =ROUND(DN11*DG11/12*12*2*1.302,1) -> 0 | DP11: =DH11+DJ11+DL11+DN11 -> 7 | DQ11: =DI11+DK11+DM11+DO11 -> 183.7 | DS11: 21 | DT11: 4 | DU11: =ROUND(DT11*DS11/25*12*2*1.302,1) -> 105 | DW11: =ROUND(DV11*DS11/25*12*2*1.302,1) -> 0 | EB11: =DT11+DV11+DX11+DZ11 -> 4 | EC11: =DU11+DW11+DY11+EA11 -> 105 | EE11: 21 | EF11: 3 | EG11: =ROUND(EF11*EE11/25*12*2*1.302,1) -> 78.7 | EI11: =ROUND(EH11*EG11/25*12*2*1.302,1) -> 0 | EK11: =ROUND(EJ11*EE11/20*12*2*1.302,1) -> 0 | EM11: =ROUND(EL11*EE11/12*12*2*1.302,1) -> 0 | EN11: =EF11+EH11+EL11+EJ11 -> 3 | EO11: =EG11+EI11+EM11+EK11 -> 78.7 | EQ11: 21 | ER11: 6 | ES11: =ROUND(ER11*EQ11/25*12*2*1.302,1) -> 157.5 | EU11: =ROUND(ET11*EQ11/25*12*2*1.302,1) -> 0 | EZ11: =ER11+ET11+EX11+EV11 -> 6 | FA11: =ES11+EU11+EY11+EW11 -> 157.5 | FC11: 21 | FD11: 4 | FE11: =ROUND(FD11*FC11/25*12*2*1.302,1) -> 105 | FG11: =ROUND(FF11*FE11/25*12*2*1.302,1) -> 0 | FL11: =FD11+FF11+FJ11+FH11 -> 4 | FM11: =FE11+FG11+FK11+FI11 -> 105 | FO11: 21 | FQ11: =ROUND(FP11*FO11/25*12*2*1.302,1) -> 0 | FS11: =ROUND(FR11*FQ11/25*12*2*1.302,1) -> 0 | FX11: =FP11+FR11+FV11+FT11 -> 0 | FY11: =FQ11+FS11+FW11+FU11 -> 0 | GA11: 21 | GB11: 1 | GC11: =ROUND(GB11*GA11/25*12*2*1.302,1) -> 26.2 | GD11: 0 | GE11: =ROUND(GD11*GC11/25*12*2*1.302,1) -> 0 | GI11: =ROUND(GH11*GA11/12*12*2*1.302,1) -> 0 | GJ11: =GB11+GD11+GH11+GF11 -> 1 | GK11: =GC11+GE11+GI11+GG11 -> 26.2 | GM11: 21 | GN11: 3 | GO11: =ROUND(GN11*GM11/25*12*2*1.302,1) -> 78.7 | GQ11: =ROUND(GP11*GO11/25*12*2*1.302,1) -> 0 | GV11: =GN11+GP11+GT11+GR11 -> 3 | GW11: =GO11+GQ11+GU11+GS11 -> 78.7 | GY11: 21 | GZ11: 10 | HA11: =ROUND(GZ11*GY11/25*12*2*1.302,1) -> 262.5 | HC11: =ROUND(HB11*HA11/25*12*2*1.302,1) -> 0 | HH11: =GZ11+HB11+HF11+HD11 -> 10 | HI11: =HA11+HC11+HG11+HE11 -> 262.5 | HK11: 21 | HL11: 8 | HM11: =ROUND(HL11*HK11/25*12*2*1.302,1) -> 210 | HO11: =ROUND(HN11*HM11/25*12*2*1.302,1) -> 0 | HT11: =HL11+HN11+HR11+HP11 -> 8 | HU11: =HM11+HO11+HS11+HQ11 -> 210
A12: 20 | B12: =P12+AB12+AN12+AZ12+BL12+BX12+CJ12+CV12+DH12+DT12+EF12+ER12+FD12+FP12+GB12+GN12+GZ12+HL12 -> 84 | C12: =Q12+AC12+AO12+BA12+BM12+BY12+CK12+CW12+DI12+DU12+EG12+ES12+FE12+FQ12+GC12+GO12+HA12+HM12 -> 2100 | D12: =R12+AD12+AP12+BB12+BN12+BZ12+CL12+CX12+DJ12+DV12+EH12+ET12+FF12+FR12+GD12+GP12+HB12+HN12 -> 0 | E12: =S12+AE12+AQ12+BC12+BO12+CA12+CM12+CY12+DK12+DW12+EI12+EU12+FG12+FS12+GE12+GQ12+HC12+HO12 -> 0 | F12: =T12+AF12+AR12+BD12+BP12+CB12+CN12+CZ12+DL12+DX12+EJ12+EV12+FH12+FT12+GF12+GR12+HD12+HP12 -> 0 | G12: =U12+AG12+AS12+BE12+BQ12+CC12+CO12+DA12+DM12+DY12+EK12+EW12+FI12+FU12+GG12+GS12+HE12+HQ12 -> 0 | H12: =V12+AH12+AT12+BF12+BR12+CD12+CP12+DB12+DN12+DZ12+EL12+EX12+FJ12+FV12+GH12+GT12+HF12+HR12 -> 0 | I12: =W12+AI12+AU12+BG12+BS12+CE12+CQ12+DC12+DO12+EA12+EM12+EY12+FK12+FW12+GI12+GU12+HG12+HS12 -> 0 | ... K12: =Y12+AK12+AW12+BI12+BU12+CG12+CS12+DE12+DQ12+EC12+EO12+FA12+FM12+FY12+GK12+GW12+HI12+HU12 -> 2100 | O12: 20 | P12: 1 | Q12: =ROUND(P12*O12/25*12*2*1.302,1) -> 25 | S12: =ROUND(R12*Q12/25*12*2*1.302,1) -> 0 | U12: =ROUND(T12*O12/20*12*2*1.302,1) -> 0 | X12: =P12+R12+V12+T12 -> 1 | Y12: =Q12+S12+W12+U12 -> 25 | AA12: 20 | AB12: 1 | AC12: =ROUND(AB12*AA12/25*12*2*1.302,1) -> 25 | AE12: =ROUND(AD12*AC12/25*12*2*1.302,1) -> 0 | AG12: =ROUND(AF12*AA12/20*12*2*1.302,1) -> 0 | AJ12: =AB12+AD12+AH12+AF12 -> 1 | AK12: =AC12+AE12+AI12+AG12 -> 25 | AM12: 20 | AN12: 6 | AO12: =ROUND(AN12*AM12/25*12*2*1.302,1) -> 150 | AQ12: =ROUND(AP12*AM12/25*12*2*1.302,1) -> 0 | AS12: =ROUND(AR12*AM12/20*12*2*1.302,1) -> 0 | AV12: =AN12+AP12+AT12+AR12 -> 6 | AW12: =AO12+AQ12+AU12+AS12 -> 150 | AY12: 20 | BA12: =ROUND(AZ12*AY12/25*12*2*1.302,1) -> 0 | BC12: =ROUND(BB12*AY12/25*12*2*1.302,1) -> 0 | BE12: =ROUND(BD12*AY12/20*12*2*1.302,1) -> 0 | BH12: =AZ12+BB12+BF12+BD12 -> 0 | BI12: =BA12+BC12+BG12+BE12 -> 0 | BK12: 20 | BL12: 12 | BM12: =ROUND(BL12*BK12/25*12*2*1.302,1) -> 300 | BO12: =ROUND(BN12*BM12/25*12*2*1.302,1) -> 0 | BQ12: =ROUND(BP12*BK12/20*12*2*1.302,1) -> 0 | BT12: =BL12+BN12+BR12+BP12 -> 12 | BU12: =BM12+BO12+BS12+BQ12 -> 300 | BW12: 20 | BX12: 16 | BY12: =ROUND(BX12*BW12/25*12*2*1.302,1) -> 400 | CA12: =ROUND(BZ12*BY12/25*12*2*1.302,1) -> 0 | CC12: =ROUND(CB12*BW12/20*12*2*1.302,1) -> 0 | CF12: =BX12+BZ12+CD12+CB12 -> 16 | CG12: =BY12+CA12+CE12+CC12 -> 400 | CI12: 20 | CJ12: 7 | CK12: =ROUND(CJ12*CI12/25*12*2*1.302,1) -> 175 | CM12: =ROUND(CL12*CK12/25*12*2*1.302,1) -> 0 | CO12: =ROUND(CN12*CI12/20*12*2*1.302,1) -> 0 | CR12: =CJ12+CL12+CP12+CN12 -> 7 | CS12: =CK12+CM12+CQ12+CO12 -> 175 | CU12: 20 | CV12: 1 | CW12: =ROUND(CV12*CU12/25*12*2*1.302,1) -> 25 | CY12: =ROUND(CX12*CU12/25*12*2*1.302,1) -> 0 | DA12: =ROUND(CZ12*CU12/20*12*2*1.302,1) -> 0 | DC12: =ROUND(DB12*CU12/12*12*2*1.302,1) -> 0 | DD12: =CV12+CX12+DB12+CZ12 -> 1 | DE12: =CW12+CY12+DC12+DA12 -> 25 | DG12: 20 | DH12: 8 | DI12: =ROUND(DH12*DG12/25*12*2*1.302,1) -> 200 | DK12: =ROUND(DJ12*DG12/25*12*2*1.302,1) -> 0 | DM12: =ROUND(DL12*DG12/20*12*2*1.302,1) -> 0 | DO12: =ROUND(DN12*DG12/12*12*2*1.302,1) -> 0 | DP12: =DH12+DJ12+DL12+DN12 -> 8 | DQ12: =DI12+DK12+DM12+DO12 -> 200 | DS12: 20 | DT12: 2 | DU12: =ROUND(DT12*DS12/25*12*2*1.302,1) -> 50 | DW12: =ROUND(DV12*DS12/25*12*2*1.302,1) -> 0 | DY12: =ROUND(DX12*DS12/20*12*2*1.302,1) -> 0 | EB12: =DT12+DV12+DX12+DZ12 -> 2 | EC12: =DU12+DW12+DY12+EA12 -> 50 | EE12: 20 | EF12: 3 | EG12: =ROUND(EF12*EE12/25*12*2*1.302,1) -> 75 | EI12: =ROUND(EH12*EG12/25*12*2*1.302,1) -> 0 | EK12: =ROUND(EJ12*EE12/20*12*2*1.302,1) -> 0 | EM12: =ROUND(EL12*EE12/12*12*2*1.302,1) -> 0 | EN12: =EF12+EH12+EL12+EJ12 -> 3 | EO12: =EG12+EI12+EM12+EK12 -> 75 | EQ12: 20 | ER12: 5 | ES12: =ROUND(ER12*EQ12/25*12*2*1.302,1) -> 125 | EU12: =ROUND(ET12*EQ12/25*12*2*1.302,1) -> 0 | EW12: =ROUND(EV12*EQ12/20*12*2*1.302,1) -> 0 | EZ12: =ER12+ET12+EX12+EV12 -> 5 | FA12: =ES12+EU12+EY12+EW12 -> 125 | FC12: 20 | FD12: 8 | FE12: =ROUND(FD12*FC12/25*12*2*1.302,1) -> 200 | FG12: =ROUND(FF12*FE12/25*12*2*1.302,1) -> 0 | FI12: =ROUND(FH12*FC12/20*12*2*1.302,1) -> 0 | FL12: =FD12+FF12+FJ12+FH12 -> 8 | FM12: =FE12+FG12+FK12+FI12 -> 200 | FO12: 20 | FQ12: =ROUND(FP12*FO12/25*12*2*1.302,1) -> 0 | FS12: =ROUND(FR12*FQ12/25*12*2*1.302,1) -> 0 | FU12: =ROUND(FT12*FO12/20*12*2*1.302,1) -> 0 | FX12: =FP12+FR12+FV12+FT12 -> 0 | FY12: =FQ12+FS12+FW12+FU12 -> 0 | GA12: 20 | GB12: 0 | GC12: =ROUND(GB12*GA12/25*12*2*1.302,1) -> 0 | GD12: 0 | GE12: =ROUND(GD12*GC12/25*12*2*1.302,1) -> 0 | GF12: 0 | GG12: 0 | GI12: =ROUND(GH12*GA12/12*12*2*1.302,1) -> 0 | GJ12: =GB12+GD12+GH12+GF12 -> 0 | GK12: =GC12+GE12+GI12+GG12 -> 0 | GM12: 20 | GN12: 2 | GO12: =ROUND(GN12*GM12/25*12*2*1.302,1) -> 50 | GQ12: =ROUND(GP12*GO12/25*12*2*1.302,1) -> 0 | GS12: =ROUND(GR12*GM12/20*12*2*1.302,1) -> 0 | GV12: =GN12+GP12+GT12+GR12 -> 2 | GW12: =GO12+GQ12+GU12+GS12 -> 50 | GY12: 20 | GZ12: 6 | HA12: =ROUND(GZ12*GY12/25*12*2*1.302,1) -> 150 | HC12: =ROUND(HB12*HA12/25*12*2*1.302,1) -> 0 | HE12: =ROUND(HD12*GY12/20*12*2*1.302,1) -> 0 | HH12: =GZ12+HB12+HF12+HD12 -> 6 | HI12: =HA12+HC12+HG12+HE12 -> 150 | HK12: 20 | HL12: 6 | HM12: =ROUND(HL12*HK12/25*12*2*1.302,1) -> 150 | HO12: =ROUND(HN12*HM12/25*12*2*1.302,1) -> 0 | HQ12: =ROUND(HP12*HK12/20*12*2*1.302,1) -> 0 | HT12: =HL12+HN12+HR12+HP12 -> 6 | HU12: =HM12+HO12+HS12+HQ12 -> 150
A13: 19 | B13: =P13+AB13+AN13+AZ13+BL13+BX13+CJ13+CV13+DH13+DT13+EF13+ER13+FD13+FP13+GB13+GN13+GZ13+HL13 -> 39 | C13: =Q13+AC13+AO13+BA13+BM13+BY13+CK13+CW13+DI13+DU13+EG13+ES13+FE13+FQ13+GC13+GO13+HA13+HM13 -> 926 | D13: =R13+AD13+AP13+BB13+BN13+BZ13+CL13+CX13+DJ13+DV13+EH13+ET13+FF13+FR13+GD13+GP13+HB13+HN13 -> 0 | E13: =S13+AE13+AQ13+BC13+BO13+CA13+CM13+CY13+DK13+DW13+EI13+EU13+FG13+FS13+GE13+GQ13+HC13+HO13 -> 0 | F13: =T13+AF13+AR13+BD13+BP13+CB13+CN13+CZ13+DL13+DX13+EJ13+EV13+FH13+FT13+GF13+GR13+HD13+HP13 -> 0 | G13: =U13+AG13+AS13+BE13+BQ13+CC13+CO13+DA13+DM13+DY13+EK13+EW13+FI13+FU13+GG13+GS13+HE13+HQ13 -> 0 | H13: =V13+AH13+AT13+BF13+BR13+CD13+CP13+DB13+DN13+DZ13+EL13+EX13+FJ13+FV13+GH13+GT13+HF13+HR13 -> 0 | I13: =W13+AI13+AU13+BG13+BS13+CE13+CQ13+DC13+DO13+EA13+EM13+EY13+FK13+FW13+GI13+GU13+HG13+HS13 -> 0 | ... K13: =Y13+AK13+AW13+BI13+BU13+CG13+CS13+DE13+DQ13+EC13+EO13+FA13+FM13+FY13+GK13+GW13+HI13+HU13 -> 926 | O13: 19 | P13: 2 | Q13: =ROUND(P13*O13/25*12*2*1.302,1) -> 47.5 | S13: =ROUND(R13*Q13/25*12*2*1.302,1) -> 0 | U13: =ROUND(T13*O13/20*12*2*1.302,1) -> 0 | X13: =P13+R13+V13+T13 -> 2 | Y13: =Q13+S13+W13+U13 -> 47.5 | AA13: 19 | AC13: =ROUND(AB13*AA13/25*12*2*1.302,1) -> 0 | AE13: =ROUND(AD13*AC13/25*12*2*1.302,1) -> 0 | AG13: =ROUND(AF13*AA13/20*12*2*1.302,1) -> 0 | AJ13: =AB13+AD13+AH13+AF13 -> 0 | AK13: =AC13+AE13+AI13+AG13 -> 0 | AM13: 19 | AN13: 1 | AO13: =ROUND(AN13*AM13/25*12*2*1.302,1) -> 23.7 | AQ13: =ROUND(AP13*AM13/25*12*2*1.302,1) -> 0 | AS13: =ROUND(AR13*AM13/20*12*2*1.302,1) -> 0 | AV13: =AN13+AP13+AT13+AR13 -> 1 | AW13: =AO13+AQ13+AU13+AS13 -> 23.7 | AY13: 19 | BA13: =ROUND(AZ13*AY13/25*12*2*1.302,1) -> 0 | BC13: =ROUND(BB13*AY13/25*12*2*1.302,1) -> 0 | BE13: =ROUND(BD13*AY13/20*12*2*1.302,1) -> 0 | BH13: =AZ13+BB13+BF13+BD13 -> 0 | BI13: =BA13+BC13+BG13+BE13 -> 0 | BK13: 19 | BL13: 3 | BM13: =ROUND(BL13*BK13/25*12*2*1.302,1) -> 71.2 | BO13: =ROUND(BN13*BM13/25*12*2*1.302,1) -> 0 | BQ13: =ROUND(BP13*BK13/20*12*2*1.302,1) -> 0 | BT13: =BL13+BN13+BR13+BP13 -> 3 | BU13: =BM13+BO13+BS13+BQ13 -> 71.2 | BW13: 19 | BX13: 13 | BY13: =ROUND(BX13*BW13/25*12*2*1.302,1) -> 308.7 | CA13: =ROUND(BZ13*BY13/25*12*2*1.302,1) -> 0 | CC13: =ROUND(CB13*BW13/20*12*2*1.302,1) -> 0 | CF13: =BX13+BZ13+CD13+CB13 -> 13 | CG13: =BY13+CA13+CE13+CC13 -> 308.7 | CI13: 19 | CK13: =ROUND(CJ13*CI13/25*12*2*1.302,1) -> 0 | CM13: =ROUND(CL13*CK13/25*12*2*1.302,1) -> 0 | CO13: =ROUND(CN13*CI13/20*12*2*1.302,1) -> 0 | CR13: =CJ13+CL13+CP13+CN13 -> 0 | CS13: =CK13+CM13+CQ13+CO13 -> 0 | CU13: 19 | CW13: =ROUND(CV13*CU13/25*12*2*1.302,1) -> 0 | CY13: =ROUND(CX13*CU13/25*12*2*1.302,1) -> 0 | DA13: =ROUND(CZ13*CU13/20*12*2*1.302,1) -> 0 | DC13: =ROUND(DB13*CU13/12*12*2*1.302,1) -> 0 | DD13: =CV13+CX13+DB13+CZ13 -> 0 | DE13: =CW13+CY13+DC13+DA13 -> 0 | DG13: 19 | DH13: 5 | DI13: =ROUND(DH13*DG13/25*12*2*1.302,1) -> 118.7 | DK13: =ROUND(DJ13*DG13/25*12*2*1.302,1) -> 0 | DM13: =ROUND(DL13*DG13/20*12*2*1.302,1) -> 0 | DO13: =ROUND(DN13*DG13/12*12*2*1.302,1) -> 0 | DP13: =DH13+DJ13+DL13+DN13 -> 5 | DQ13: =DI13+DK13+DM13+DO13 -> 118.7 | DS13: 19 | DT13: 2 | DU13: =ROUND(DT13*DS13/25*12*2*1.302,1) -> 47.5 | DW13: =ROUND(DV13*DS13/25*12*2*1.302,1) -> 0 | DY13: =ROUND(DX13*DS13/20*12*1.302,1) -> 0 | EB13: =DT13+DV13+DX13+DZ13 -> 2 | EC13: =DU13+DW13+DY13+EA13 -> 47.5 | EE13: 19 | EG13: =ROUND(EF13*EE13/25*12*2*1.302,1) -> 0 | EI13: =ROUND(EH13*EG13/25*12*2*1.302,1) -> 0 | EK13: =ROUND(EJ13*EE13/20*12*2*1.302,1) -> 0 | EM13: =ROUND(EL13*EE13/12*12*2*1.302,1) -> 0 | EN13: =EF13+EH13+EL13+EJ13 -> 0 | EO13: =EG13+EI13+EM13+EK13 -> 0 | EQ13: 19 | ER13: 4 | ES13: =ROUND(ER13*EQ13/25*12*2*1.302,1) -> 95 | EU13: =ROUND(ET13*EQ13/25*12*2*1.302,1) -> 0 | EW13: =ROUND(EV13*EQ13/20*12*2*1.302,1) -> 0 | EZ13: =ER13+ET13+EX13+EV13 -> 4 | FA13: =ES13+EU13+EY13+EW13 -> 95 | FC13: 19 | FD13: 1 | FE13: =ROUND(FD13*FC13/25*12*2*1.302,1) -> 23.7 | FG13: =ROUND(FF13*FE13/25*12*2*1.302,1) -> 0 | FI13: =ROUND(FH13*FC13/20*12*2*1.302,1) -> 0 | FL13: =FD13+FF13+FJ13+FH13 -> 1 | FM13: =FE13+FG13+FK13+FI13 -> 23.7 | FO13: 19 | FQ13: =ROUND(FP13*FO13/25*12*2*1.302,1) -> 0 | FS13: =ROUND(FR13*FQ13/25*12*2*1.302,1) -> 0 | FU13: =ROUND(FT13*FO13/20*12*2*1.302,1) -> 0 | FX13: =FP13+FR13+FV13+FT13 -> 0 | FY13: =FQ13+FS13+FW13+FU13 -> 0 | GA13: 19 | GB13: 0 | GC13: =ROUND(GB13*GA13/25*12*2*1.302,1) -> 0 | GD13: 0 | GE13: =ROUND(GD13*GC13/25*12*2*1.302,1) -> 0 | GF13: 0 | GG13: 0 | GI13: =ROUND(GH13*GA13/12*12*2*1.302,1) -> 0 | GJ13: =GB13+GD13+GH13+GF13 -> 0 | GK13: =GC13+GE13+GI13+GG13 -> 0 | GM13: 19 | GN13: 4 | GO13: =ROUND(GN13*GM13/25*12*2*1.302,1) -> 95 | GQ13: =ROUND(GP13*GO13/25*12*2*1.302,1) -> 0 | GS13: =ROUND(GR13*GM13/20*12*2*1.302,1) -> 0 | GV13: =GN13+GP13+GT13+GR13 -> 4 | GW13: =GO13+GQ13+GU13+GS13 -> 95 | GY13: 19 | GZ13: 4 | HA13: =ROUND(GZ13*GY13/25*12*2*1.302,1) -> 95 | HC13: =ROUND(HB13*HA13/25*12*2*1.302,1) -> 0 | HE13: =ROUND(HD13*GY13/20*12*2*1.302,1) -> 0 | HH13: =GZ13+HB13+HF13+HD13 -> 4 | HI13: =HA13+HC13+HG13+HE13 -> 95 | HK13: 19 | HL13: 0 | HM13: =ROUND(HL13*HK13/25*12*2*1.302,1) -> 0 | HO13: =ROUND(HN13*HM13/25*12*2*1.302,1) -> 0 | HQ13: =ROUND(HP13*HK13/20*12*2*1.302,1) -> 0 | HT13: =HL13+HN13+HR13+HP13 -> 0 | HU13: =HM13+HO13+HS13+HQ13 -> 0
