Workbook
Name Excel_BuiltIn_Print_Titles: гр.комбинир.напрв.!$B:$B,гр.комбинир.напрв.!$1:$1
Name Excel_BuiltIn_Print_Titles: гр.компен.направ.!$B:$B,гр.компен.направ.!$1:$1
Name Excel_BuiltIn_Print_Titles: Норматив!$1:$5
Name Excel_BuiltIn_Print_Titles: 'свод групп'!$B:$B,'свод групп'!$1:$1

Sheet Норматив
A1: нормативы с 01.01.2020 | D1: наполняемость | E1: режим функционирования
E2: пятидневная рабочая неделя | J2: шестидневная рабочая неделя
E3: 5 | F3: 5 | G3: 5 | H3: 5 | I3: 5 | J3: 6 | K3: 6 | L3: 6 | M3: 6 | N3: 6
E4: кратковременного пребывания | F4: сокращенного дня | G4: полного дня | H4: продленного дня | I4: круглосуточным пребыванием | J4: кратковременного пребывания | K4: сокращенного дня | L4: полного дня | M4: продленного дня | N4: круглосуточным пребыванием
E5: 5 часов | F5: 8-10 часов | G5: 10,5 - 12 часов | H5: 14 часов | I5: 24 часа | J5: 5 часов | K5: 10 часов | L5: 12 часов | M5: 14 часов | N5: 24 часа
E6: 5 | F6: 10 | G6: 12 | H6: 14 | I6: 14 | J6: 5 | K6: 10 | L6: 12 | M6: 14 | N6: 14
A7: количество часов рабочего времени воспитателя в неделю | E7: =E3*E6 -> 25 | F7: =F3*F6 -> 50 | G7: =G3*G6 -> 60 | H7: =H3*H6 -> 70 | I7: =I3*I6 -> 70 | J7: =J3*J6 -> 30 | K7: =K3*K6 -> 60 | L7: =L3*L6 -> 72 | ... N7: =N3*N6 -> 84
A8: норма часов педагогической работы на ставку воспитателя в неделю
A9: группы общеразвивающие направленности | B9: группы общеразвивающей направленности | C9: до 3 лет | D9: 19 | E9: 36 | F9: 36 | G9: 36 | H9: 36 | I9: 36 | J9: 36 | K9: 36 | L9: 36 | M9: 36 | N9: 36
C10: старше 3х лет | D10: 23 | E10: 36 | F10: 36 | G10: 36 | H10: 36 | I10: 36 | J10: 36 | K10: 36 | L10: 36 | M10: 36 | N10: 36
B11: группы общеразвивающей направленности, расположенные в ПГТ с численностью воспитанников от 100 до 51 человека | C11: до 3 лет | D11: 15 | E11: 36 | F11: 36 | G11: 36 | H11: 36 | I11: 36
C12: старше 3х лет | D12: 20 | E12: 36 | F12: 36 | G12: 36 | H12: 36 | I12: 36
B13: группы общеразвивающей направленности, расположенные в ПГТ с численностью воспитанников менее 51 человека | C13: до 3 лет | D13: 10 | E13: 36 | F13: 36 | G13: 36 | H13: 36 | I13: 36
C14: старше 3х лет | D14: 15 | E14: 36 | F14: 36 | G14: 36 | H14: 36 | I14: 36
B15: группы общеразвивающей направленности, расположенные в сельской местности с численностью воспитанников от 100 до 51 человека | C15: до 3 лет | D15: 15 | E15: 36 | F15: 36 | G15: 36 | H15: 36 | I15: 36
C16: старше 3х лет | D16: 20 | E16: 36 | F16: 36 | G16: 36 | H16: 36 | I16: 36
B17: группы общеразвивающей направленности, расположенные в сельской местности с численностью воспитанников от 50 до 26 человек | C17: до 3 лет | D17: 10 | E17: 36 | F17: 36 | G17: 36 | H17: 36 | I17: 36
C18: старше 3х лет | D18: 15 | E18: 36 | F18: 36 | G18: 36 | H18: 36 | I18: 36
B19: группы общеразвивающей направленности, расположенные в сельской местности с численностью воспитанников от 25 до 11 человек | C19: до 3 лет | D19: 10 | E19: 36 | F19: 36 | G19: 36 | H19: 36 | I19: 36
C20: старше 3х лет | D20: 10 | E20: 36 | F20: 36 | G20: 36 | H20: 36 | I20: 36
B21: группы общеразвивающей направленности, расположенные в сельской местности с численностью воспитанников менее 11 человек | C21: до 3 лет | D21: 5 | E21: 36 | F21: 36 | G21: 36 | H21: 36 | I21: 36
C22: старше 3х лет | D22: 5 | E22: 36 | F22: 36 | G22: 36 | H22: 36 | I22: 36
A23: группы компенсирующей наравленности | B23: для детей с тяжелыми нарушениями речи | C23: до 3 лет | D23: 6 | E23: 25 | F23: 25 | G23: 25 | H23: 25 | I23: 25 | J23: 25 | K23: 25 | L23: 25 | M23: 25 | N23: 25
C24: старше 3х лет | D24: 10 | E24: 25 | F24: 25 | G24: 25 | H24: 25 | I24: 25 | J24: 25 | K24: 25 | L24: 25 | M24: 25 | N24: 25
B25: для детей с фонетико-фонематическими нарушениями речи | C25: до 3 лет | D25: 0 | E25: 0 | F25: 0 | G25: 0 | H25: 0 | I25: 0 | J25: 0 | K25: 0 | L25: 0 | M25: 0 | N25: 0
C26: старше 3х лет | D26: 12 | E26: 25 | F26: 25 | G26: 25 | H26: 25 | I26: 25 | J26: 25 | K26: 25 | L26: 25 | M26: 25 | N26: 25
B27: для глухих детей | C27: до 3 лет | D27: 6 | E27: 25 | F27: 25 | G27: 25 | H27: 25 | I27: 25 | J27: 25 | K27: 25 | L27: 25 | M27: 25 | N27: 25
C28: старше 3х лет | D28: 6 | E28: 25 | F28: 25 | G28: 25 | H28: 25 | I28: 25 | J28: 25 | K28: 25 | L28: 25 | M28: 25 | N28: 25
B29: для слабослышащих | C29: до 3 лет | D29: 6 | E29: 25 | F29: 25 | G29: 25 | H29: 25 | I29: 25 | J29: 25 | K29: 25 | L29: 25 | M29: 25 | N29: 25
C30: старше 3х лет | D30: 8 | E30: 25 | F30: 25 | G30: 25 | H30: 25 | I30: 25 | J30: 25 | K30: 25 | L30: 25 | M30: 25 | N30: 25
B31: для слепых детей | C31: до 3 лет | D31: 6 | E31: 25 | F31: 25 | G31: 25 | H31: 25 | I31: 25 | J31: 25 | K31: 25 | L31: 25 | M31: 25 | N31: 25
C32: старше 3х лет | D32: 6 | E32: 25 | F32: 25 | G32: 25 | H32: 25 | I32: 25 | J32: 25 | K32: 25 | L32: 25 | M32: 25 | N32: 25
B33: слабовидящих детей, для детей с амблиопией, косоглазием | C33: до 3 лет | D33: 6 | E33: 25 | F33: 25 | G33: 25 | H33: 25 | I33: 25 | J33: 25 | K33: 25 | L33: 25 | M33: 25 | N33: 25
C34: старше 3х лет | D34: 10 | E34: 25 | F34: 25 | G34: 25 | H34: 25 | I34: 25 | J34: 25 | K34: 25 | L34: 25 | M34: 25 | N34: 25
B35: для детей с нарушениями опорно-двигательного аппарата | C35: до 3 лет | D35: 6 | E35: 25 | F35: 25 | G35: 25 | H35: 25 | I35: 25 | J35: 25 | K35: 25 | L35: 25 | M35: 25 | N35: 25
C36: старше 3х лет | D36: 8 | E36: 25 | F36: 25 | G36: 25 | H36: 25 | I36: 25 | J36: 25 | K36: 25 | L36: 25 | M36: 25 | N36: 25
B37: для детей с задержкой психического развития | C37: до 3 лет | D37: 6 | E37: 25 | F37: 25 | G37: 25 | H37: 25 | I37: 25 | J37: 25 | K37: 25 | L37: 25 | M37: 25 | N37: 25
C38: старше 3х лет | D38: 10 | E38: 25 | F38: 25 | G38: 25 | H38: 25 | I38: 25 | J38: 25 | K38: 25 | L38: 25 | M38: 25 | N38: 25
B39: для детей с умственной отсталостью легкой степени | C39: до 3 лет | D39: 6 | E39: 25 | F39: 25 | G39: 25 | H39: 25 | I39: 25 | J39: 25 | K39: 25 | L39: 25 | M39: 25 | N39: 25
C40: старше 3х лет | D40: 10 | E40: 25 | F40: 25 | G40: 25 | H40: 25 | I40: 25 | J40: 25 | K40: 25 | L40: 25 | M40: 25 | N40: 25
B41: для детей с умственной отсталостью умеренной, тяжелой | C41: до 3 лет | D41: 0 | E41: 0 | F41: 0 | G41: 0 | H41: 0 | I41: 0 | J41: 0 | K41: 0 | L41: 0 | M41: 0 | N41: 0
C42: старше 3х лет | D42: 8 | E42: 25 | F42: 25 | G42: 25 | H42: 25 | I42: 25 | J42: 25 | K42: 25 | L42: 25 | M42: 25 | N42: 25
B43: для детей с аутизмом | C43: до 3 лет | D43: 0 | E43: 0 | F43: 0 | G43: 0 | H43: 0 | I43: 0 | J43: 0 | K43: 0 | L43: 0 | M43: 0 | N43: 0
C44: старше 3х лет | D44: 5 | E44: 25 | F44: 25 | G44: 25 | H44: 25 | I44: 25 | J44: 25 | K44: 25 | L44: 25 | M44: 25 | N44: 25
B45: для детей со сложным дефектом (имеющих сочетание 2 или более недостатков в физическом и (или) психическом развитии) | C45: до 3 лет | D45: 5 | E45: 25 | F45: 25 | G45: 25 | H45: 25 | I45: 25 | J45: 25 | K45: 25 | L45: 25 | M45: 25 | N45: 25
C46: старше 3х лет | D46: 5 | E46: 25 | F46: 25 | G46: 25 | H46: 25 | I46: 25 | J46: 25 | K46: 25 | L46: 25 | M46: 25 | N46: 25
B47: для детей с иными ограниченными возможностями здоровья | C47: до 3 лет | D47: 10 | E47: 25 | F47: 25 | G47: 25 | H47: 25 | I47: 25 | J47: 25 | K47: 25 | L47: 25 | M47: 25 | N47: 25
C48: старше 3х лет | D48: 15 | E48: 25 | F48: 25 | G48: 25 | H48: 25 | I48: 25 | J48: 25 | K48: 25 | L48: 25 | M48: 25 | N48: 25
A49: группы комбинированной направленности | B49: для детей с тяжелыми нарушениями речи | C49: до 3 лет | D49: 10 | E49: 36 | F49: 36 | G49: 36 | H49: 36 | I49: 36
C50: старше 3х лет | D50: 15 | E50: 36 | F50: 36 | G50: 36 | H50: 36 | I50: 36
B51: для глухих детей | C51: до 3 лет | D51: 10 | E51: 36 | F51: 36 | G51: 36 | H51: 36 | I51: 36
C52: старше 3х лет | D52: 10 | E52: 36 | F52: 36 | G52: 36 | H52: 36 | I52: 36
B53: для слабослышащих | C53: до 3 лет | D53: 10 | E53: 36 | F53: 36 | G53: 36 | H53: 36 | I53: 36
C54: старше 3х лет | D54: 15 | E54: 36 | F54: 36 | G54: 36 | H54: 36 | I54: 36
B55: для слепых детей | C55: до 3 лет | D55: 10 | E55: 36 | F55: 36 | G55: 36 | H55: 36 | I55: 36
C56: старше 3х лет | D56: 10 | E56: 36 | F56: 36 | G56: 36 | H56: 36 | I56: 36
B57: слабовидящих детей, для детей с амблиопией, косоглазием | C57: до 3 лет | D57: 10 | E57: 36 | F57: 36 | G57: 36 | H57: 36 | I57: 36
C58: старше 3х лет | D58: 15 | E58: 36 | F58: 36 | G58: 36 | H58: 36 | I58: 36
B59: для детей с нарушениями опорно-двигательного аппарата | C59: до 3 лет | D59: 10 | E59: 36 | F59: 36 | G59: 36 | H59: 36 | I59: 36
C60: старше 3х лет | D60: 10 | E60: 36 | F60: 36 | G60: 36 | H60: 36 | I60: 36
B61: для детей с задержкой психического развития | C61: до 3 лет | D61: 10 | E61: 36 | F61: 36 | G61: 36 | H61: 36 | I61: 36
C62: старше 3х лет | D62: 17 | E62: 36 | F62: 36 | G62: 36 | H62: 36 | I62: 36
B63: для детей с умственной отсталостью легкой степени | C63: до 3 лет | D63: 10 | E63: 36 | F63: 36 | G63: 36 | H63: 36 | I63: 36
C64: старше 3х лет | D64: 15 | E64: 36 | F64: 36 | G64: 36 | H64: 36 | I64: 36
B65: для детей с умственной отсталостью умеренной, тяжелой | C65: до 3 лет | D65: 0 | E65: 0 | F65: 0 | G65: 0 | H65: 0 | I65: 0
C66: старше 3х лет | D66: 10 | E66: 36 | F66: 36 | G66: 36 | H66: 36 | I66: 36
B67: для детей со сложным дефектом (имеющих сочетание 2 или более недостатков в физическом и (или) психическом развитии) | C67: до 3 лет | D67: 10 | E67: 36 | F67: 36 | G67: 36 | H67: 36 | I67: 36
C68: старше 3х лет | D68: 10 | E68: 36 | F68: 36 | G68: 36 | H68: 36 | I68: 36
B69: для детей с иными ограниченными возможностями здоровья | C69: до 3 лет | D69: 10 | E69: 36 | F69: 36 | G69: 36 | H69: 36 | I69: 36
C70: старше 3х лет | D70: 0 | E70: 0 | F70: 0 | G70: 0 | H70: 0 | I70: 0
A71: количество ставок воспитателей на 1 человека
A72: группы общеразвивающие направленности | B72: обычные группы | C72: до 3 лет | D72: 19 | E72: =$E$7/E9/D9 -> 0.036549708 | F72: =$F$7/F9/D9 -> 0.073099415 | G72: =$G$7/G9/D9 -> 0.087719298 | H72: =$H$7/H9/D9 -> 0.10233918 | I72: =$I$7/I9/D9 -> 0.10233918 | J72: =$J$7/J9/D9 -> 0.043859649 | K72: =$K$7/K9/D9 -> 0.087719298 | L72: =$L$7/L9/D9 -> 0.10526316 | M72: =$M$7/M9/D9 -> 0.12280702 | N72: =$N$7/N9/D9 -> 0.12280702
C73: старше 3х лет | D73: 23 | E73: =$E$7/E10/D10 -> 0.030193237 | F73: =$F$7/F10/D10 -> 0.060386473 | G73: =$G$7/G10/D10 -> 0.072463768 | H73: =$H$7/H10/D10 -> 0.084541063 | I73: =$I$7/I10/D10 -> 0.084541063 | J73: =$J$7/J10/D10 -> 0.036231884 | K73: =$K$7/K10/D10 -> 0.072463768 | L73: =$L$7/L10/D10 -> 0.086956522 | M73: =$M$7/M10/D10 -> 0.10144928 | N73: =$N$7/N10/D10 -> 0.10144928
B74: группы общеразвивающей направленности, расположенные в ПГТ с численностью воспитанников от 100 до 51 человека | C74: до 3 лет | D74: 15 | E74: =$E$7/E11/D11 -> 0.046296296 | F74: =$F$7/F11/D11 -> 0.092592593 | G74: =$G$7/G11/D11 -> 0.11111111 | H74: =$H$7/H11/D11 -> 0.12962963 | I74: =$I$7/I11/D11 -> 0.12962963
C75: старше 3х лет | D75: 20 | E75: =$E$7/E12/D12 -> 0.034722222 | F75: =$F$7/F12/D12 -> 0.069444444 | G75: =$G$7/G12/D12 -> 0.083333333 | H75: =$H$7/H12/D12 -> 0.097222222 | I75: =$I$7/I12/D12 -> 0.097222222
B76: группы общеразвивающей направленности, расположенные в ПГТ с численностью воспитанников менее 51 человека | C76: до 3 лет | D76: 10 | E76: =$E$7/E13/D13 -> 0.069444444 | F76: =$F$7/F13/D13 -> 0.13888889 | G76: =$G$7/G13/D13 -> 0.16666667 | H76: =$H$7/H13/D13 -> 0.19444444 | I76: =$I$7/I13/D13 -> 0.19444444
C77: старше 3х лет | D77: 15 | E77: =$E$7/E14/D14 -> 0.046296296 | F77: =$F$7/F14/D14 -> 0.092592593 | G77: =$G$7/G14/D14 -> 0.11111111 | H77: =$H$7/H14/D14 -> 0.12962963 | I77: =$I$7/I14/D14 -> 0.12962963
B78: группы общеразвивающей направленности, расположенные в сельской местности с численностью воспитанников от 100 до 51 человека | C78: до 3 лет | D78: 15 | E78: =$E$7/E15/D15 -> 0.046296296 | F78: =$F$7/F15/D15 -> 0.092592593 | G78: =$G$7/G15/D15 -> 0.11111111 | H78: =$H$7/H15/D15 -> 0.12962963 | I78: =$I$7/I15/D15 -> 0.12962963
C79: старше 3х лет | D79: 20 | E79: =$E$7/E16/D16 -> 0.034722222 | F79: =$F$7/F16/D16 -> 0.069444444 | G79: =$G$7/G16/D16 -> 0.083333333 | H79: =$H$7/H16/D16 -> 0.097222222 | I79: =$I$7/I16/D16 -> 0.097222222
B80: группы общеразвивающей направленности, расположенные в сельской местности с численностью воспитанников от 50 до 26 человек | C80: до 3 лет | D80: 10 | E80: =$E$7/E17/D17 -> 0.069444444 | F80: =$F$7/F17/D17 -> 0.13888889 | G80: =$G$7/G17/D17 -> 0.16666667 | H80: =$H$7/H17/D17 -> 0.19444444 | I80: =$I$7/I17/D17 -> 0.19444444
C81: старше 3х лет | D81: 15 | E81: =$E$7/E18/D18 -> 0.046296296 | F81: =$F$7/F18/D18 -> 0.092592593 | G81: =$G$7/G18/D18 -> 0.11111111 | H81: =$H$7/H18/D18 -> 0.12962963 | I81: =$I$7/I18/D18 -> 0.12962963
B82: группы общеразвивающей направленности, расположенные в сельской местности с численностью воспитанников от 25 до 11 человек | C82: до 3 лет | D82: 10 | E82: =$E$7/E19/D19 -> 0.069444444 | F82: =$F$7/F19/D19 -> 0.13888889 | G82: =$G$7/G19/D19 -> 0.16666667 | H82: =$H$7/H19/D19 -> 0.19444444 | I82: =$I$7/I19/D19 -> 0.19444444
C83: старше 3х лет | D83: 10 | E83: =$E$7/E20/D20 -> 0.069444444 | F83: =$F$7/F20/D20 -> 0.13888889 | G83: =$G$7/G20/D20 -> 0.16666667 | H83: =$H$7/H20/D20 -> 0.19444444 | I83: =$I$7/I20/D20 -> 0.19444444
B84: группы общеразвивающей направленности, расположенные в сельской местности с численностью воспитанников менее 11 человек | C84: до 3 лет | D84: 5 | E84: =$E$7/E21/D21 -> 0.13888889 | F84: =$F$7/F21/D21 -> 0.27777778 | G84: =$G$7/G21/D21 -> 0.33333333 | H84: =$H$7/H21/D21 -> 0.38888889 | I84: =$I$7/I21/D21 -> 0.38888889
C85: старше 3х лет | D85: 5 | E85: =$E$7/E22/D22 -> 0.13888889 | F85: =$F$7/F22/D22 -> 0.27777778 | G85: =$G$7/G22/D22 -> 0.33333333 | H85: =$H$7/H22/D22 -> 0.38888889 | I85: =$I$7/I22/D22 -> 0.38888889
A86: группы компенсирующей наравленности | B86: для детей с тяжелыми нарушениями речи | C86: до 3 лет | D86: 6 | E86: =$E$7/E23/D23 -> 0.16666667 | F86: =$F$7/F23/D23 -> 0.33333333 | G86: =$G$7/G23/D23 -> 0.4 | H86: =$H$7/H23/D23 -> 0.46666667 | I86: =$I$7/I23/D23 -> 0.46666667 | J86: =$J$7/J23/D23 -> 0.2 | K86: =$K$7/K23/D23 -> 0.4 | L86: =$L$7/L23/D23 -> 0.48 | M86: =$M$7/M23/D23 -> 0.56 | N86: =$N$7/N23/D23 -> 0.56
C87: старше 3х лет | D87: 10 | E87: =$E$7/E24/D24 -> 0.1 | F87: =$F$7/F24/D24 -> 0.2 | G87: =$G$7/G24/D24 -> 0.24 | H87: =$H$7/H24/D24 -> 0.28 | I87: =$I$7/I24/D24 -> 0.28 | J87: =$J$7/J24/D24 -> 0.12 | K87: =$K$7/K24/D24 -> 0.24 | L87: =$L$7/L24/D24 -> 0.288 | M87: =$M$7/M24/D24 -> 0.336 | N87: =$N$7/N24/D24 -> 0.336
B88: для детей с фонетико-фонематическими нарушениями речи | C88: до 3 лет | D88: 0
C89: старше 3х лет | D89: 12 | E89: =$E$7/E26/D26 -> 0.083333333 | F89: =$F$7/F26/D26 -> 0.16666667 | G89: =$G$7/G26/D26 -> 0.2 | H89: =$H$7/H26/D26 -> 0.23333333 | I89: =$I$7/I26/D26 -> 0.23333333 | J89: =$J$7/J26/D26 -> 0.1 | K89: =$K$7/K26/D26 -> 0.2 | L89: =$L$7/L26/D26 -> 0.24 | M89: =$M$7/M26/D26 -> 0.28 | N89: =$N$7/N26/D26 -> 0.28
B90: для глухих детей | C90: до 3 лет | D90: 6 | E90: =$E$7/E27/D27 -> 0.16666667 | F90: =$F$7/F27/D27 -> 0.33333333 | G90: =$G$7/G27/D27 -> 0.4 | H90: =$H$7/H27/D27 -> 0.46666667 | I90: =$I$7/I27/D27 -> 0.46666667 | J90: =$J$7/J27/D27 -> 0.2 | K90: =$K$7/K27/D27 -> 0.4 | L90: =$L$7/L27/D27 -> 0.48 | M90: =$M$7/M27/D27 -> 0.56 | N90: =$N$7/N27/D27 -> 0.56
C91: старше 3х лет | D91: 6 | E91: =$E$7/E28/D28 -> 0.16666667 | F91: =$F$7/F28/D28 -> 0.33333333 | G91: =$G$7/G28/D28 -> 0.4 | H91: =$H$7/H28/D28 -> 0.46666667 | I91: =$I$7/I28/D28 -> 0.46666667 | J91: =$J$7/J28/D28 -> 0.2 | K91: =$K$7/K28/D28 -> 0.4 | L91: =$L$7/L28/D28 -> 0.48 | M91: =$M$7/M28/D28 -> 0.56 | N91: =$N$7/N28/D28 -> 0.56
B92: для слабослышащих | C92: до 3 лет | D92: 6 | E92: =$E$7/E29/D29 -> 0.16666667 | F92: =$F$7/F29/D29 -> 0.33333333 | G92: =$G$7/G29/D29 -> 0.4 | H92: =$H$7/H29/D29 -> 0.46666667 | I92: =$I$7/I29/D29 -> 0.46666667 | J92: =$J$7/J29/D29 -> 0.2 | K92: =$K$7/K29/D29 -> 0.4 | L92: =$L$7/L29/D29 -> 0.48 | M92: =$M$7/M29/D29 -> 0.56 | N92: =$N$7/N29/D29 -> 0.56
C93: старше 3х лет | D93: 8 | E93: =$E$7/E30/D30 -> 0.125 | F93: =$F$7/F30/D30 -> 0.25 | G93: =$G$7/G30/D30 -> 0.3 | H93: =$H$7/H30/D30 -> 0.35 | I93: =$I$7/I30/D30 -> 0.35 | J93: =$J$7/J30/D30 -> 0.15 | K93: =$K$7/K30/D30 -> 0.3 | L93: =$L$7/L30/D30 -> 0.36 | M93: =$M$7/M30/D30 -> 0.42 | N93: =$N$7/N30/D30 -> 0.42
B94: для слепых детей | C94: до 3 лет | D94: 6 | E94: =$E$7/E31/D31 -> 0.16666667 | F94: =$F$7/F31/D31 -> 0.33333333 | G94: =$G$7/G31/D31 -> 0.4 | H94: =$H$7/H31/D31 -> 0.46666667 | I94: =$I$7/I31/D31 -> 0.46666667 | J94: =$J$7/J31/D31 -> 0.2 | K94: =$K$7/K31/D31 -> 0.4 | L94: =$L$7/L31/D31 -> 0.48 | M94: =$M$7/M31/D31 -> 0.56 | N94: =$N$7/N31/D31 -> 0.56
C95: старше 3х лет | D95: 6 | E95: =$E$7/E32/D32 -> 0.16666667 | F95: =$F$7/F32/D32 -> 0.33333333 | G95: =$G$7/G32/D32 -> 0.4 | H95: =$H$7/H32/D32 -> 0.46666667 | I95: =$I$7/I32/D32 -> 0.46666667 | J95: =$J$7/J32/D32 -> 0.2 | K95: =$K$7/K32/D32 -> 0.4 | L95: =$L$7/L32/D32 -> 0.48 | M95: =$M$7/M32/D32 -> 0.56 | N95: =$N$7/N32/D32 -> 0.56
B96: слабовидящих детей, для детей с амблиопией, косоглазием | C96: до 3 лет | D96: 6 | E96: =$E$7/E33/D33 -> 0.16666667 | F96: =$F$7/F33/D33 -> 0.33333333 | G96: =$G$7/G33/D33 -> 0.4 | H96: =$H$7/H33/D33 -> 0.46666667 | I96: =$I$7/I33/D33 -> 0.46666667 | J96: =$J$7/J33/D33 -> 0.2 | K96: =$K$7/K33/D33 -> 0.4 | L96: =$L$7/L33/D33 -> 0.48 | M96: =$M$7/M33/D33 -> 0.56 | N96: =$N$7/N33/D33 -> 0.56
C97: старше 3х лет | D97: 10 | E97: =$E$7/E34/D34 -> 0.1 | F97: =$F$7/F34/D34 -> 0.2 | G97: =$G$7/G34/D34 -> 0.24 | H97: =$H$7/H34/D34 -> 0.28 | I97: =$I$7/I34/D34 -> 0.28 | J97: =$J$7/J34/D34 -> 0.12 | K97: =$K$7/K34/D34 -> 0.24 | L97: =$L$7/L34/D34 -> 0.288 | M97: =$M$7/M34/D34 -> 0.336 | N97: =$N$7/N34/D34 -> 0.336
B98: для детей с нарушениями опорно-двигательного аппарата | C98: до 3 лет | D98: 6 | E98: =$E$7/E35/D35 -> 0.16666667 | F98: =$F$7/F35/D35 -> 0.33333333 | G98: =$G$7/G35/D35 -> 0.4 | H98: =$H$7/H35/D35 -> 0.46666667 | I98: =$I$7/I35/D35 -> 0.46666667 | J98: =$J$7/J35/D35 -> 0.2 | K98: =$K$7/K35/D35 -> 0.4 | L98: =$L$7/L35/D35 -> 0.48 | M98: =$M$7/M35/D35 -> 0.56 | N98: =$N$7/N35/D35 -> 0.56
C99: старше 3х лет | D99: 8 | E99: =$E$7/E36/D36 -> 0.125 | F99: =$F$7/F36/D36 -> 0.25 | G99: =$G$7/G36/D36 -> 0.3 | H99: =$H$7/H36/D36 -> 0.35 | I99: =$I$7/I36/D36 -> 0.35 | J99: =$J$7/J36/D36 -> 0.15 | K99: =$K$7/K36/D36 -> 0.3 | L99: =$L$7/L36/D36 -> 0.36 | M99: =$M$7/M36/D36 -> 0.42 | N99: =$N$7/N36/D36 -> 0.42
B100: для детей с задержкой психического развития | C100: до 3 лет | D100: 6 | E100: =$E$7/E37/D37 -> 0.16666667 | F100: =$F$7/F37/D37 -> 0.33333333 | G100: =$G$7/G37/D37 -> 0.4 | H100: =$H$7/H37/D37 -> 0.46666667 | I100: =$I$7/I37/D37 -> 0.46666667 | J100: =$J$7/J37/D37 -> 0.2 | K100: =$K$7/K37/D37 -> 0.4 | L100: =$L$7/L37/D37 -> 0.48 | M100: =$M$7/M37/D37 -> 0.56 | N100: =$N$7/N37/D37 -> 0.56
...

Sheet гр.общеразв.напрв.
B1: Наименвание образовательного учреждения | C1: Тип месторасположения (город, село, ПГТ) | E1: Всего детей/ групп | F1: в том числе | H1: группы общеразвивающей направленности, обычные группы | R1: группы общеразвивающей направленности, расположенные в ПГТ с численностью воспитанников от 100 до 51 человека | AB1: группы общеразвивающей направленности, расположенные в ПГТ с численностью воспитанников менее 51 человека | AL1: группы общеразвивающей направленности, расположенные в сельской местности с численностью воспитанников от 100 до 51 человека | AV1: группы общеразвивающей направленности, расположенные в сельской местности с численностью воспитанников от 50 до 26 человек | BF1: группы общеразвивающей направленности, расположенные в сельской местности с численностью воспитанников от 25 до 11 человек | BP1: группы общеразвивающей направленности, расположенные в сельской местности с численностью воспитанников менее 11 человек | BZ1: ВСЕГО
H2: кратковременного пребывания | J2: сокращенного дня | L2: полного дня | N2: продленного дня | P2: круглосуточным пребыванием | R2: кратковременного пребывания | T2: сокращенного дня | V2: полного дня | X2: продленного дня | Z2: круглосуточным пребыванием | AB2: кратковременного пребывания | AD2: сокращенного дня | AF2: полного дня | AH2: продленного дня | AJ2: круглосуточным пребыванием | AL2: кратковременного пребывания | AN2: сокращенного дня | AP2: полного дня | AR2: продленного дня | AT2: круглосуточным пребыванием | AV2: кратковременного пребывания | AX2: сокращенного дня | AZ2: полного дня | BB2: продленного дня | BD2: круглосуточным пребыванием | BF2: кратковременного пребывания | BH2: сокращенного дня | BJ2: полного дня | BL2: продленного дня | BN2: круглосуточным пребыванием | BP2: кратковременного пребывания | BR2: сокращенного дня | BT2: полного дня | BV2: продленного дня | BX2: круглосуточным пребыванием | BZ2: кратковременного пребывания | CB2: сокращенного дня | CD2: полного дня | CF2: продленного дня | CH2: круглосуточным пребыванием
H3: до 5 часов | J3: 8 - 10,5 часов | L3: 12 часов | N3: 13 - 14 часов | P3: 24 часа | R3: до 5 часов | T3: 8 - 10,5 часов | V3: 12 часов | X3: 13 - 14 часов | Z3: 24 часа | AB3: до 5 часов | AD3: 8 - 10,5 часов | AF3: 12 часов | AH3: 13 - 14 часов | AJ3: 24 часа | AL3: до 5 часов | AN3: 8 - 10,5 часов | AP3: 12 часов | AR3: 13 - 14 часов | AT3: 24 часа | AV3: до 5 часов | AX3: 8 - 10,5 часов | AZ3: 12 часов | BB3: 13 - 14 часов | BD3: 24 часа | BF3: до 5 часов | BH3: 8 - 10,5 часов | BJ3: 12 часов | BL3: 13 - 14 часов | BN3: 24 часа | BP3: до 5 часов | BR3: 8 - 10,5 часов | BT3: 12 часов | BV3: 13 - 14 часов | BX3: 24 часа | BZ3: до 5 часов | CB3: 8 - 10,5 часов | CD3: 12 часов | CF3: 13 - 14 часов | CH3: 24 часа
B5: Нормативная наполняемость в группах | H5: 19 | I5: 23 | J5: 19 | K5: 23 | L5: 19 | M5: 23 | N5: 19 | O5: 23 | P5: 19 | Q5: 23 | R5: 15 | S5: 20 | T5: 15 | U5: 20 | V5: 15 | W5: 20 | X5: 15 | Y5: 20 | Z5: 15 | AA5: 20 | AB5: 10 | AC5: 15 | AD5: 10 | AE5: 15 | AF5: 10 | AG5: 15 | AH5: 10 | AI5: 15 | AJ5: 10 | AK5: 15 | AL5: 15 | AM5: 20 | AN5: 15 | AO5: 20 | AP5: 15 | AQ5: 20 | AR5: 15 | AS5: 20 | AT5: 15 | AU5: 20 | AV5: 10 | AW5: 15 | AX5: 10 | AY5: 15 | AZ5: 10 | BA5: 15 | BB5: 10 | BC5: 15 | BD5: 10 | BE5: 15 | BF5: 10 | BG5: 10 | BH5: 10 | BI5: 10 | BJ5: 10 | BK5: 10 | BL5: 10 | BM5: 10 | BN5: 10 | BO5: 10 | BP5: 5 | BQ5: 5 | BR5: 5 | BS5: 5 | BT5: 5 | BU5: 5 | BV5: 5 | BW5: 5 | BX5: 5 | BY5: 5
A6: МР | B6: Наименование ОУ | C6: Тип | D6: ед. | E6: Всего | F6: до 3 лет | G6: старше 3 лет | H6: до 3 лет | I6: старше 3 лет | J6: до 3 лет | K6: старше 3 лет | L6: до 3 лет | M6: старше 3 лет | N6: до 3 лет | O6: старше 3 лет | P6: до 3 лет | Q6: старше 3 лет | R6: до 3 лет | S6: старше 3 лет | T6: до 3 лет | U6: старше 3 лет | V6: до 3 лет | W6: старше 3 лет | X6: до 3 лет | Y6: старше 3 лет | Z6: до 3 лет | AA6: старше 3 лет | AB6: до 3 лет | AC6: старше 3 лет | AD6: до 3 лет | AE6: старше 3 лет | AF6: до 3 лет | AG6: старше 3 лет | AH6: до 3 лет | AI6: старше 3 лет | AJ6: до 3 лет | AK6: старше 3 лет | AL6: до 3 лет | AM6: старше 3 лет | AN6: до 3 лет | AO6: старше 3 лет | AP6: до 3 лет | AQ6: старше 3 лет | AR6: до 3 лет | AS6: старше 3 лет | AT6: до 3 лет | AU6: старше 3 лет | AV6: до 3 лет | AW6: старше 3 лет | AX6: до 3 лет | AY6: старше 3 лет | AZ6: до 3 лет | BA6: старше 3 лет | BB6: до 3 лет | BC6: старше 3 лет | BD6: до 3 лет | BE6: старше 3 лет | BF6: до 3 лет | BG6: старше 3 лет | BH6: до 3 лет | BI6: старше 3 лет | BJ6: до 3 лет | BK6: старше 3 лет | BL6: до 3 лет | BM6: старше 3 лет | BN6: до 3 лет | BO6: старше 3 лет | BP6: до 3 лет | BQ6: старше 3 лет | BR6: до 3 лет | BS6: старше 3 лет | BT6: до 3 лет | BU6: старше 3 лет | BV6: до 3 лет | BW6: старше 3 лет | BX6: до 3 лет | BY6: старше 3 лет | BZ6: до 3 лет | CA6: старше 3 лет | CB6: до 3 лет | CC6: старше 3 лет | CD6: до 3 лет | CE6: старше 3 лет | CF6: до 3 лет | CG6: старше 3 лет | CH6: до 3 лет | CI6: старше 3 лет
A7: Бокситогорский | B7: МБДОУ Бокситогорский детский сад № 1 | C7: город | D7: детей | E7: =F7+G7 -> 208 | F7: =BZ7+CB7+CD7+CF7+CH7 -> 56 | G7: =CA7+CC7+CE7+CG7+CI7 -> 152 | J7: 56 | K7: 111 | M7: 41 | BZ7: =H7+R7+AB7+AL7+AV7+BF7+BP7 -> 0 | CA7: =I7+S7+AC7+AM7+AW7+BG7+BQ7 -> 0 | CB7: =J7+T7+AD7+AN7+AX7+BH7+BR7 -> 56 | CC7: =K7+U7+AE7+AO7+AY7+BI7+BS7 -> 111 | CD7: =L7+V7+AF7+AP7+AZ7+BJ7+BT7 -> 0 | CE7: =M7+W7+AG7+AQ7+BA7+BK7+BU7 -> 41 | CF7: =N7+X7+AH7+AR7+BB7+BL7+BV7 -> 0 | CG7: =O7+Y7+AI7+AS7+BC7+BM7+BW7 -> 0 | ... CI7: =Q7+AA7+AK7+AU7+BE7+BO7+BY7 -> 0
A8: Бокситогорский | B8: МБДОУ Бокситогорский детский сад № 4 | C8: город | D8: детей | E8: =F8+G8 -> 169 | F8: =BZ8+CB8+CD8+CF8+CH8 -> 51 | G8: =CA8+CC8+CE8+CG8+CI8 -> 118 | J8: 51 | K8: 71 | M8: 47 | BZ8: =H8+R8+AB8+AL8+AV8+BF8+BP8 -> 0 | CA8: =I8+S8+AC8+AM8+AW8+BG8+BQ8 -> 0 | CB8: =J8+T8+AD8+AN8+AX8+BH8+BR8 -> 51 | CC8: =K8+U8+AE8+AO8+AY8+BI8+BS8 -> 71 | CD8: =L8+V8+AF8+AP8+AZ8+BJ8+BT8 -> 0 | CE8: =M8+W8+AG8+AQ8+BA8+BK8+BU8 -> 47 | CF8: =N8+X8+AH8+AR8+BB8+BL8+BV8 -> 0 | CG8: =O8+Y8+AI8+AS8+BC8+BM8+BW8 -> 0 | ... CI8: =Q8+AA8+AK8+AU8+BE8+BO8+BY8 -> 0
A9: Бокситогорский | B9: МБДОУ Бокситогорский детский сад № 5 | C9: город | D9: детей | E9: =F9+G9 -> 203 | F9: =BZ9+CB9+CD9+CF9+CH9 -> 61 | G9: =CA9+CC9+CE9+CG9+CI9 -> 142 | J9: 41 | K9: 123 | L9: 20 | M9: 19 | BZ9: =H9+R9+AB9+AL9+AV9+BF9+BP9 -> 0 | CA9: =I9+S9+AC9+AM9+AW9+BG9+BQ9 -> 0 | CB9: =J9+T9+AD9+AN9+AX9+BH9+BR9 -> 41 | CC9: =K9+U9+AE9+AO9+AY9+BI9+BS9 -> 123 | CD9: =L9+V9+AF9+AP9+AZ9+BJ9+BT9 -> 20 | CE9: =M9+W9+AG9+AQ9+BA9+BK9+BU9 -> 19 | CF9: =N9+X9+AH9+AR9+BB9+BL9+BV9 -> 0 | CG9: =O9+Y9+AI9+AS9+BC9+BM9+BW9 -> 0 | ... CI9: =Q9+AA9+AK9+AU9+BE9+BO9+BY9 -> 0
A10: Бокситогорский | B10: МБДОУ Бокситогорский детский сад № 8 | C10: город | D10: детей | E10: =F10+G10 -> 145 | F10: =BZ10+CB10+CD10+CF10+CH10 -> 40 | G10: =CA10+CC10+CE10+CG10+CI10 -> 105 | J10: 20 | K10: 81 | L10: 20 | M10: 24 | BZ10: =H10+R10+AB10+AL10+AV10+BF10+BP10 -> 0 | CA10: =I10+S10+AC10+AM10+AW10+BG10+BQ10 -> 0 | CB10: =J10+T10+AD10+AN10+AX10+BH10+BR10 -> 20 | CC10: =K10+U10+AE10+AO10+AY10+BI10+BS10 -> 81 | CD10: =L10+V10+AF10+AP10+AZ10+BJ10+BT10 -> 20 | CE10: =M10+W10+AG10+AQ10+BA10+BK10+BU10 -> 24 | CF10: =N10+X10+AH10+AR10+BB10+BL10+BV10 -> 0 | CG10: =O10+Y10+AI10+AS10+BC10+BM10+BW10 -> 0 | ... CI10: =Q10+AA10+AK10+AU10+BE10+BO10+BY10 -> 0
A11: Бокситогорский | B11: МБДОУ Детский сад № 2 города Пикалёво | C11: город | D11: детей | E11: =F11+G11 -> 117 | F11: =BZ11+CB11+CD11+CF11+CH11 -> 0 | G11: =CA11+CC11+CE11+CG11+CI11 -> 117 | K11: 67 | M11: 50 | BZ11: =H11+R11+AB11+AL11+AV11+BF11+BP11 -> 0 | CA11: =I11+S11+AC11+AM11+AW11+BG11+BQ11 -> 0 | CB11: =J11+T11+AD11+AN11+AX11+BH11+BR11 -> 0 | CC11: =K11+U11+AE11+AO11+AY11+BI11+BS11 -> 67 | CD11: =L11+V11+AF11+AP11+AZ11+BJ11+BT11 -> 0 | CE11: =M11+W11+AG11+AQ11+BA11+BK11+BU11 -> 50 | CF11: =N11+X11+AH11+AR11+BB11+BL11+BV11 -> 0 | CG11: =O11+Y11+AI11+AS11+BC11+BM11+BW11 -> 0 | ... CI11: =Q11+AA11+AK11+AU11+BE11+BO11+BY11 -> 0
A12: Бокситогорский | B12: МБДОУ Детский сад № 3 города Пикалёво | C12: город | D12: детей | E12: =F12+G12 -> 94 | F12: =BZ12+CB12+CD12+CF12+CH12 -> 94 | G12: =CA12+CC12+CE12+CG12+CI12 -> 0 | J12: 48 | L12: 46 | BZ12: =H12+R12+AB12+AL12+AV12+BF12+BP12 -> 0 | CA12: =I12+S12+AC12+AM12+AW12+BG12+BQ12 -> 0 | CB12: =J12+T12+AD12+AN12+AX12+BH12+BR12 -> 48 | CC12: =K12+U12+AE12+AO12+AY12+BI12+BS12 -> 0 | CD12: =L12+V12+AF12+AP12+AZ12+BJ12+BT12 -> 46 | CE12: =M12+W12+AG12+AQ12+BA12+BK12+BU12 -> 0 | CF12: =N12+X12+AH12+AR12+BB12+BL12+BV12 -> 0 | CG12: =O12+Y12+AI12+AS12+BC12+BM12+BW12 -> 0 | ... CI12: =Q12+AA12+AK12+AU12+BE12+BO12+BY12 -> 0
A13: Бокситогорский | B13: МБДОУ Детский сад № 5 города Пикалёво | C13: город | D13: детей | E13: =F13+G13 -> 0 | F13: =BZ13+CB13+CD13+CF13+CH13 -> 0 | G13: =CA13+CC13+CE13+CG13+CI13 -> 0 | BZ13: =H13+R13+AB13+AL13+AV13+BF13+BP13 -> 0 | CA13: =I13+S13+AC13+AM13+AW13+BG13+BQ13 -> 0 | CB13: =J13+T13+AD13+AN13+AX13+BH13+BR13 -> 0 | CC13: =K13+U13+AE13+AO13+AY13+BI13+BS13 -> 0 | CD13: =L13+V13+AF13+AP13+AZ13+BJ13+BT13 -> 0 | CE13: =M13+W13+AG13+AQ13+BA13+BK13+BU13 -> 0 | CF13: =N13+X13+AH13+AR13+BB13+BL13+BV13 -> 0 | CG13: =O13+Y13+AI13+AS13+BC13+BM13+BW13 -> 0 | ... CI13: =Q13+AA13+AK13+AU13+BE13+BO13+BY13 -> 0
A14: Бокситогорский | B14: МБДОУ Детский сад № 6 города Пикалёво | C14: город | D14: детей | E14: =F14+G14 -> 227 | F14: =BZ14+CB14+CD14+CF14+CH14 -> 63 | G14: =CA14+CC14+CE14+CG14+CI14 -> 164 | J14: 44 | K14: 140 | L14: 19 | M14: 24 | BZ14: =H14+R14+AB14+AL14+AV14+BF14+BP14 -> 0 | CA14: =I14+S14+AC14+AM14+AW14+BG14+BQ14 -> 0 | CB14: =J14+T14+AD14+AN14+AX14+BH14+BR14 -> 44 | CC14: =K14+U14+AE14+AO14+AY14+BI14+BS14 -> 140 | CD14: =L14+V14+AF14+AP14+AZ14+BJ14+BT14 -> 19 | CE14: =M14+W14+AG14+AQ14+BA14+BK14+BU14 -> 24 | CF14: =N14+X14+AH14+AR14+BB14+BL14+BV14 -> 0 | CG14: =O14+Y14+AI14+AS14+BC14+BM14+BW14 -> 0 | ... CI14: =Q14+AA14+AK14+AU14+BE14+BO14+BY14 -> 0
A15: Бокситогорский | B15: МБДОУ Детский сад № 7 города Пикалёво | C15: город | D15: детей | E15: =F15+G15 -> 224 | F15: =BZ15+CB15+CD15+CF15+CH15 -> 41 | G15: =CA15+CC15+CE15+CG15+CI15 -> 183 | J15: 41 | K15: 140 | M15: 43 | BZ15: =H15+R15+AB15+AL15+AV15+BF15+BP15 -> 0 | CA15: =I15+S15+AC15+AM15+AW15+BG15+BQ15 -> 0 | CB15: =J15+T15+AD15+AN15+AX15+BH15+BR15 -> 41 | CC15: =K15+U15+AE15+AO15+AY15+BI15+BS15 -> 140 | CD15: =L15+V15+AF15+AP15+AZ15+BJ15+BT15 -> 0 | CE15: =M15+W15+AG15+AQ15+BA15+BK15+BU15 -> 43 | CF15: =N15+X15+AH15+AR15+BB15+BL15+BV15 -> 0 | CG15: =O15+Y15+AI15+AS15+BC15+BM15+BW15 -> 0 | ... CI15: =Q15+AA15+AK15+AU15+BE15+BO15+BY15 -> 0
A16: Бокситогорский | B16: МБДОУ Детский сад № 8 города Пикалёво | C16: город | D16: детей | E16: =F16+G16 -> 233 | F16: =BZ16+CB16+CD16+CF16+CH16 -> 63 | G16: =CA16+CC16+CE16+CG16+CI16 -> 170 | J16: 63 | K16: 120 | M16: 50 | BZ16: =H16+R16+AB16+AL16+AV16+BF16+BP16 -> 0 | CA16: =I16+S16+AC16+AM16+AW16+BG16+BQ16 -> 0 | CB16: =J16+T16+AD16+AN16+AX16+BH16+BR16 -> 63 | CC16: =K16+U16+AE16+AO16+AY16+BI16+BS16 -> 120 | CD16: =L16+V16+AF16+AP16+AZ16+BJ16+BT16 -> 0 | CE16: =M16+W16+AG16+AQ16+BA16+BK16+BU16 -> 50 | CF16: =N16+X16+AH16+AR16+BB16+BL16+BV16 -> 0 | CG16: =O16+Y16+AI16+AS16+BC16+BM16+BW16 -> 0 | ... CI16: =Q16+AA16+AK16+AU16+BE16+BO16+BY16 -> 0
A17: Бокситогорский | B17: МБДОУ Детский сад № 9 города Пикалёво | C17: город | D17: детей | E17: =F17+G17 -> 150 | F17: =BZ17+CB17+CD17+CF17+CH17 -> 46 | G17: =CA17+CC17+CE17+CG17+CI17 -> 104 | J17: 21 | K17: 76 | L17: 25 | M17: 28 | BZ17: =H17+R17+AB17+AL17+AV17+BF17+BP17 -> 0 | CA17: =I17+S17+AC17+AM17+AW17+BG17+BQ17 -> 0 | CB17: =J17+T17+AD17+AN17+AX17+BH17+BR17 -> 21 | CC17: =K17+U17+AE17+AO17+AY17+BI17+BS17 -> 76 | CD17: =L17+V17+AF17+AP17+AZ17+BJ17+BT17 -> 25 | CE17: =M17+W17+AG17+AQ17+BA17+BK17+BU17 -> 28 | CF17: =N17+X17+AH17+AR17+BB17+BL17+BV17 -> 0 | CG17: =O17+Y17+AI17+AS17+BC17+BM17+BW17 -> 0 | ... CI17: =Q17+AA17+AK17+AU17+BE17+BO17+BY17 -> 0
A18: Бокситогорский | B18: МБДОУ Ефимовский детский сад | C18: ПГТ | D18: детей | E18: =F18+G18 -> 111 | F18: =BZ18+CB18+CD18+CF18+CH18 -> 24 | G18: =CA18+CC18+CE18+CG18+CI18 -> 87 | J18: 24 | K18: 87 | BZ18: =H18+R18+AB18+AL18+AV18+BF18+BP18 -> 0 | CA18: =I18+S18+AC18+AM18+AW18+BG18+BQ18 -> 0 | CB18: =J18+T18+AD18+AN18+AX18+BH18+BR18 -> 24 | CC18: =K18+U18+AE18+AO18+AY18+BI18+BS18 -> 87 | CD18: =L18+V18+AF18+AP18+AZ18+BJ18+BT18 -> 0 | CE18: =M18+W18+AG18+AQ18+BA18+BK18+BU18 -> 0 | CF18: =N18+X18+AH18+AR18+BB18+BL18+BV18 -> 0 | CG18: =O18+Y18+AI18+AS18+BC18+BM18+BW18 -> 0 | ... CI18: =Q18+AA18+AK18+AU18+BE18+BO18+BY18 -> 0
A19: Бокситогорский | B19: МКДОУ Борский детский сад | C19: село | D19: детей | E19: =F19+G19 -> 82 | F19: =BZ19+CB19+CD19+CF19+CH19 -> 19 | G19: =CA19+CC19+CE19+CG19+CI19 -> 63 | AN19: 19 | AO19: 48 | AQ19: 15 | BZ19: =H19+R19+AB19+AL19+AV19+BF19+BP19 -> 0 | CA19: =I19+S19+AC19+AM19+AW19+BG19+BQ19 -> 0 | CB19: =J19+T19+AD19+AN19+AX19+BH19+BR19 -> 19 | CC19: =K19+U19+AE19+AO19+AY19+BI19+BS19 -> 48 | CD19: =L19+V19+AF19+AP19+AZ19+BJ19+BT19 -> 0 | CE19: =M19+W19+AG19+AQ19+BA19+BK19+BU19 -> 15 | CF19: =N19+X19+AH19+AR19+BB19+BL19+BV19 -> 0 | CG19: =O19+Y19+AI19+AS19+BC19+BM19+BW19 -> 0 | ... CI19: =Q19+AA19+AK19+AU19+BE19+BO19+BY19 -> 0
A20: Бокситогорский | B20: МКДОУ Большедворский детский сад | C20: село | D20: детей | E20: =F20+G20 -> 27 | F20: =BZ20+CB20+CD20+CF20+CH20 -> 14 | G20: =CA20+CC20+CE20+CG20+CI20 -> 13 | AX20: 14 | AY20: 13 | BZ20: =H20+R20+AB20+AL20+AV20+BF20+BP20 -> 0 | CA20: =I20+S20+AC20+AM20+AW20+BG20+BQ20 -> 0 | CB20: =J20+T20+AD20+AN20+AX20+BH20+BR20 -> 14 | CC20: =K20+U20+AE20+AO20+AY20+BI20+BS20 -> 13 | CD20: =L20+V20+AF20+AP20+AZ20+BJ20+BT20 -> 0 | CE20: =M20+W20+AG20+AQ20+BA20+BK20+BU20 -> 0 | CF20: =N20+X20+AH20+AR20+BB20+BL20+BV20 -> 0 | CG20: =O20+Y20+AI20+AS20+BC20+BM20+BW20 -> 0 | ... CI20: =Q20+AA20+AK20+AU20+BE20+BO20+BY20 -> 0
A21: Бокситогорский | B21: МКДОУ Заборьевский детский сад | C21: село | D21: детей | E21: =F21+G21 -> 15 | F21: =BZ21+CB21+CD21+CF21+CH21 -> 3 | G21: =CA21+CC21+CE21+CG21+CI21 -> 12 | BH21: 3 | BI21: 12 | BZ21: =H21+R21+AB21+AL21+AV21+BF21+BP21 -> 0 | CA21: =I21+S21+AC21+AM21+AW21+BG21+BQ21 -> 0 | CB21: =J21+T21+AD21+AN21+AX21+BH21+BR21 -> 3 | CC21: =K21+U21+AE21+AO21+AY21+BI21+BS21 -> 12 | CD21: =L21+V21+AF21+AP21+AZ21+BJ21+BT21 -> 0 | CE21: =M21+W21+AG21+AQ21+BA21+BK21+BU21 -> 0 | CF21: =N21+X21+AH21+AR21+BB21+BL21+BV21 -> 0 | CG21: =O21+Y21+AI21+AS21+BC21+BM21+BW21 -> 0 | ... CI21: =Q21+AA21+AK21+AU21+BE21+BO21+BY21 -> 0
A22: Бокситогорский | B22: МБОУ Борская средняя общеобразовтельная школа | C22: село | D22: детей | E22: =F22+G22 -> 6 | F22: =BZ22+CB22+CD22+CF22+CH22 -> 0 | G22: =CA22+CC22+CE22+CG22+CI22 -> 6 | BS22: 6 | BZ22: =H22+R22+AB22+AL22+AV22+BF22+BP22 -> 0 | CA22: =I22+S22+AC22+AM22+AW22+BG22+BQ22 -> 0 | CB22: =J22+T22+AD22+AN22+AX22+BH22+BR22 -> 0 | CC22: =K22+U22+AE22+AO22+AY22+BI22+BS22 -> 6 | CD22: =L22+V22+AF22+AP22+AZ22+BJ22+BT22 -> 0 | CE22: =M22+W22+AG22+AQ22+BA22+BK22+BU22 -> 0 | CF22: =N22+X22+AH22+AR22+BB22+BL22+BV22 -> 0 | CG22: =O22+Y22+AI22+AS22+BC22+BM22+BW22 -> 0 | ... CI22: =Q22+AA22+AK22+AU22+BE22+BO22+BY22 -> 0
A23: Бокситогорский | B23: МКОУ Подборовская основная общеобразовательная школа | C23: село | D23: детей | E23: =F23+G23 -> 22 | F23: =BZ23+CB23+CD23+CF23+CH23 -> 6 | G23: =CA23+CC23+CE23+CG23+CI23 -> 16 | BH23: 6 | BI23: 16 | BZ23: =H23+R23+AB23+AL23+AV23+BF23+BP23 -> 0 | CA23: =I23+S23+AC23+AM23+AW23+BG23+BQ23 -> 0 | CB23: =J23+T23+AD23+AN23+AX23+BH23+BR23 -> 6 | CC23: =K23+U23+AE23+AO23+AY23+BI23+BS23 -> 16 | CD23: =L23+V23+AF23+AP23+AZ23+BJ23+BT23 -> 0 | CE23: =M23+W23+AG23+AQ23+BA23+BK23+BU23 -> 0 | CF23: =N23+X23+AH23+AR23+BB23+BL23+BV23 -> 0 | CG23: =O23+Y23+AI23+AS23+BC23+BM23+BW23 -> 0 | ... CI23: =Q23+AA23+AK23+AU23+BE23+BO23+BY23 -> 0
A24: Бокситогорский | B24: МКОУ Самойловская начальная общеобразовательная школа | C24: село | D24: детей | E24: =F24+G24 -> 32 | F24: =BZ24+CB24+CD24+CF24+CH24 -> 13 | G24: =CA24+CC24+CE24+CG24+CI24 -> 19 | AX24: 13 | AY24: 19 | BZ24: =H24+R24+AB24+AL24+AV24+BF24+BP24 -> 0 | CA24: =I24+S24+AC24+AM24+AW24+BG24+BQ24 -> 0 | CB24: =J24+T24+AD24+AN24+AX24+BH24+BR24 -> 13 | CC24: =K24+U24+AE24+AO24+AY24+BI24+BS24 -> 19 | CD24: =L24+V24+AF24+AP24+AZ24+BJ24+BT24 -> 0 | CE24: =M24+W24+AG24+AQ24+BA24+BK24+BU24 -> 0 | CF24: =N24+X24+AH24+AR24+BB24+BL24+BV24 -> 0 | CG24: =O24+Y24+AI24+AS24+BC24+BM24+BW24 -> 0 | ... CI24: =Q24+AA24+AK24+AU24+BE24+BO24+BY24 -> 0
A25: 1. Бокситогорский | B25: ИТОГО | E25: =SUBTOTAL(9,E7:E24) -> 2065 | F25: =SUBTOTAL(9,F7:F24) -> 594 | G25: =SUBTOTAL(9,G7:G24) -> 1471 | H25: =SUBTOTAL(9,H7:H24) -> 0 | I25: =SUBTOTAL(9,I7:I24) -> 0 | J25: =SUBTOTAL(9,J7:J24) -> 409 | K25: =SUBTOTAL(9,K7:K24) -> 1016 | L25: =SUBTOTAL(9,L7:L24) -> 130 | ... BY25: =SUBTOTAL(9,BY7:BY24) -> 0 | BZ25: =H25+R25+AB25+AL25+AV25+BF25+BP25 -> 0 | CA25: =I25+S25+AC25+AM25+AW25+BG25+BQ25 -> 0 | CB25: =J25+T25+AD25+AN25+AX25+BH25+BR25 -> 464 | CC25: =K25+U25+AE25+AO25+AY25+BI25+BS25 -> 1130 | CD25: =L25+V25+AF25+AP25+AZ25+BJ25+BT25 -> 130 | CE25: =M25+W25+AG25+AQ25+BA25+BK25+BU25 -> 341 | CF25: =N25+X25+AH25+AR25+BB25+BL25+BV25 -> 0 | CG25: =O25+Y25+AI25+AS25+BC25+BM25+BW25 -> 0 | ... CI25: =Q25+AA25+AK25+AU25+BE25+BO25+BY25 -> 0
A26: Волосовский | B26: МДОУ "Детский сад № 4" | C26: село | D26: детей | E26: =F26+G26 -> 127 | F26: =BZ26+CB26+CD26+CF26+CH26 -> 38 | G26: =CA26+CC26+CE26+CG26+CI26 -> 89 | H26: 0 | J26: 38 | K26: 89 | BZ26: =H26+R26+AB26+AL26+AV26+BF26+BP26 -> 0 | CA26: =I26+S26+AC26+AM26+AW26+BG26+BQ26 -> 0 | CB26: =J26+T26+AD26+AN26+AX26+BH26+BR26 -> 38 | CC26: =K26+U26+AE26+AO26+AY26+BI26+BS26 -> 89 | CD26: =L26+V26+AF26+AP26+AZ26+BJ26+BT26 -> 0 | CE26: =M26+W26+AG26+AQ26+BA26+BK26+BU26 -> 0 | CF26: =N26+X26+AH26+AR26+BB26+BL26+BV26 -> 0 | CG26: =O26+Y26+AI26+AS26+BC26+BM26+BW26 -> 0 | ... CI26: =Q26+AA26+AK26+AU26+BE26+BO26+BY26 -> 0
A27: Волосовский | B27: МДОУ "Детский сад № 5" | C27: село | D27: детей | E27: =F27+G27 -> 75 | F27: =BZ27+CB27+CD27+CF27+CH27 -> 29 | G27: =CA27+CC27+CE27+CG27+CI27 -> 46 | AN27: 29 | AO27: 46 | BZ27: =H27+R27+AB27+AL27+AV27+BF27+BP27 -> 0 | CA27: =I27+S27+AC27+AM27+AW27+BG27+BQ27 -> 0 | CB27: =J27+T27+AD27+AN27+AX27+BH27+BR27 -> 29 | CC27: =K27+U27+AE27+AO27+AY27+BI27+BS27 -> 46 | CD27: =L27+V27+AF27+AP27+AZ27+BJ27+BT27 -> 0 | CE27: =M27+W27+AG27+AQ27+BA27+BK27+BU27 -> 0 | CF27: =N27+X27+AH27+AR27+BB27+BL27+BV27 -> 0 | CG27: =O27+Y27+AI27+AS27+BC27+BM27+BW27 -> 0 | ... CI27: =Q27+AA27+AK27+AU27+BE27+BO27+BY27 -> 0
A28: Волосовский | B28: МДОУ "Детский сад № 6" | C28: город | D28: детей | E28: =F28+G28 -> 259 | F28: =BZ28+CB28+CD28+CF28+CH28 -> 57 | G28: =CA28+CC28+CE28+CG28+CI28 -> 202 | L28: 57 | M28: 202 | BZ28: =H28+R28+AB28+AL28+AV28+BF28+BP28 -> 0 | CA28: =I28+S28+AC28+AM28+AW28+BG28+BQ28 -> 0 | CB28: =J28+T28+AD28+AN28+AX28+BH28+BR28 -> 0 | CC28: =K28+U28+AE28+AO28+AY28+BI28+BS28 -> 0 | CD28: =L28+V28+AF28+AP28+AZ28+BJ28+BT28 -> 57 | CE28: =M28+W28+AG28+AQ28+BA28+BK28+BU28 -> 202 | CF28: =N28+X28+AH28+AR28+BB28+BL28+BV28 -> 0 | CG28: =O28+Y28+AI28+AS28+BC28+BM28+BW28 -> 0 | ... CI28: =Q28+AA28+AK28+AU28+BE28+BO28+BY28 -> 0
A29: Волосовский | B29: МДОУ "Детский сад № 9" | C29: село | D29: детей | E29: =F29+G29 -> 74 | F29: =BZ29+CB29+CD29+CF29+CH29 -> 15 | G29: =CA29+CC29+CE29+CG29+CI29 -> 59 | AN29: 15 | AO29: 59 | BZ29: =H29+R29+AB29+AL29+AV29+BF29+BP29 -> 0 | CA29: =I29+S29+AC29+AM29+AW29+BG29+BQ29 -> 0 | CB29: =J29+T29+AD29+AN29+AX29+BH29+BR29 -> 15 | CC29: =K29+U29+AE29+AO29+AY29+BI29+BS29 -> 59 | CD29: =L29+V29+AF29+AP29+AZ29+BJ29+BT29 -> 0 | CE29: =M29+W29+AG29+AQ29+BA29+BK29+BU29 -> 0 | CF29: =N29+X29+AH29+AR29+BB29+BL29+BV29 -> 0 | CG29: =O29+Y29+AI29+AS29+BC29+BM29+BW29 -> 0 | ... CI29: =Q29+AA29+AK29+AU29+BE29+BO29+BY29 -> 0
A30: Волосовский | B30: МДОУ "Детский сад № 10" | C30: село | D30: детей | E30: =F30+G30 -> 83 | F30: =BZ30+CB30+CD30+CF30+CH30 -> 21 | G30: =CA30+CC30+CE30+CG30+CI30 -> 62 | AN30: 21 | AO30: 62 | BZ30: =H30+R30+AB30+AL30+AV30+BF30+BP30 -> 0 | CA30: =I30+S30+AC30+AM30+AW30+BG30+BQ30 -> 0 | CB30: =J30+T30+AD30+AN30+AX30+BH30+BR30 -> 21 | CC30: =K30+U30+AE30+AO30+AY30+BI30+BS30 -> 62 | CD30: =L30+V30+AF30+AP30+AZ30+BJ30+BT30 -> 0 | CE30: =M30+W30+AG30+AQ30+BA30+BK30+BU30 -> 0 | CF30: =N30+X30+AH30+AR30+BB30+BL30+BV30 -> 0 | CG30: =O30+Y30+AI30+AS30+BC30+BM30+BW30 -> 0 | ... CI30: =Q30+AA30+AK30+AU30+BE30+BO30+BY30 -> 0
A31: Волосовский | B31: МДОУ "Детский сад № 11" | C31: село | D31: детей | E31: =F31+G31 -> 57 | F31: =BZ31+CB31+CD31+CF31+CH31 -> 15 | G31: =CA31+CC31+CE31+CG31+CI31 -> 42 | AN31: 15 | AO31: 42 | BZ31: =H31+R31+AB31+AL31+AV31+BF31+BP31 -> 0 | CA31: =I31+S31+AC31+AM31+AW31+BG31+BQ31 -> 0 | CB31: =J31+T31+AD31+AN31+AX31+BH31+BR31 -> 15 | CC31: =K31+U31+AE31+AO31+AY31+BI31+BS31 -> 42 | CD31: =L31+V31+AF31+AP31+AZ31+BJ31+BT31 -> 0 | CE31: =M31+W31+AG31+AQ31+BA31+BK31+BU31 -> 0 | CF31: =N31+X31+AH31+AR31+BB31+BL31+BV31 -> 0 | CG31: =O31+Y31+AI31+AS31+BC31+BM31+BW31 -> 0 | ... CI31: =Q31+AA31+AK31+AU31+BE31+BO31+BY31 -> 0
A32: Волосовский | B32: МДОУ "Детский сад № 12" | C32: село | D32: детей | E32: =F32+G32 -> 222 | F32: =BZ32+CB32+CD32+CF32+CH32 -> 76 | G32: =CA32+CC32+CE32+CG32+CI32 -> 146 | L32: 76 | M32: 146 | BZ32: =H32+R32+AB32+AL32+AV32+BF32+BP32 -> 0 | CA32: =I32+S32+AC32+AM32+AW32+BG32+BQ32 -> 0 | CB32: =J32+T32+AD32+AN32+AX32+BH32+BR32 -> 0 | CC32: =K32+U32+AE32+AO32+AY32+BI32+BS32 -> 0 | CD32: =L32+V32+AF32+AP32+AZ32+BJ32+BT32 -> 76 | CE32: =M32+W32+AG32+AQ32+BA32+BK32+BU32 -> 146 | CF32: =N32+X32+AH32+AR32+BB32+BL32+BV32 -> 0 | CG32: =O32+Y32+AI32+AS32+BC32+BM32+BW32 -> 0 | ... CI32: =Q32+AA32+AK32+AU32+BE32+BO32+BY32 -> 0
A33: Волосовский | B33: МДОУ "Детский сад № 13" | C33: село | D33: детей | E33: =F33+G33 -> 69 | F33: =BZ33+CB33+CD33+CF33+CH33 -> 21 | G33: =CA33+CC33+CE33+CG33+CI33 -> 48 | AN33: 21 | AO33: 48 | BZ33: =H33+R33+AB33+AL33+AV33+BF33+BP33 -> 0 | CA33: =I33+S33+AC33+AM33+AW33+BG33+BQ33 -> 0 | CB33: =J33+T33+AD33+AN33+AX33+BH33+BR33 -> 21 | CC33: =K33+U33+AE33+AO33+AY33+BI33+BS33 -> 48 | CD33: =L33+V33+AF33+AP33+AZ33+BJ33+BT33 -> 0 | CE33: =M33+W33+AG33+AQ33+BA33+BK33+BU33 -> 0 | CF33: =N33+X33+AH33+AR33+BB33+BL33+BV33 -> 0 | CG33: =O33+Y33+AI33+AS33+BC33+BM33+BW33 -> 0 | ... CI33: =Q33+AA33+AK33+AU33+BE33+BO33+BY33 -> 0
A34: Волосовский | B34: МДОУ "Детский сад № 14" | C34: село | D34: детей | E34: =F34+G34 -> 69 | F34: =BZ34+CB34+CD34+CF34+CH34 -> 18 | G34: =CA34+CC34+CE34+CG34+CI34 -> 51 | AN34: 18 | AO34: 51 | BZ34: =H34+R34+AB34+AL34+AV34+BF34+BP34 -> 0 | CA34: =I34+S34+AC34+AM34+AW34+BG34+BQ34 -> 0 | CB34: =J34+T34+AD34+AN34+AX34+BH34+BR34 -> 18 | CC34: =K34+U34+AE34+AO34+AY34+BI34+BS34 -> 51 | CD34: =L34+V34+AF34+AP34+AZ34+BJ34+BT34 -> 0 | CE34: =M34+W34+AG34+AQ34+BA34+BK34+BU34 -> 0 | CF34: =N34+X34+AH34+AR34+BB34+BL34+BV34 -> 0 | CG34: =O34+Y34+AI34+AS34+BC34+BM34+BW34 -> 0 | ... CI34: =Q34+AA34+AK34+AU34+BE34+BO34+BY34 -> 0
A35: Волосовский | B35: МДОУ "Детский сад № 18" | C35: село | D35: детей | E35: =F35+G35 -> 44 | F35: =BZ35+CB35+CD35+CF35+CH35 -> 19 | G35: =CA35+CC35+CE35+CG35+CI35 -> 25 | AX35: 19 | AY35: 25 | BZ35: =H35+R35+AB35+AL35+AV35+BF35+BP35 -> 0 | CA35: =I35+S35+AC35+AM35+AW35+BG35+BQ35 -> 0 | CB35: =J35+T35+AD35+AN35+AX35+BH35+BR35 -> 19 | CC35: =K35+U35+AE35+AO35+AY35+BI35+BS35 -> 25 | CD35: =L35+V35+AF35+AP35+AZ35+BJ35+BT35 -> 0 | CE35: =M35+W35+AG35+AQ35+BA35+BK35+BU35 -> 0 | CF35: =N35+X35+AH35+AR35+BB35+BL35+BV35 -> 0 | CG35: =O35+Y35+AI35+AS35+BC35+BM35+BW35 -> 0 | ... CI35: =Q35+AA35+AK35+AU35+BE35+BO35+BY35 -> 0
A36: Волосовский | B36: МДОУ "Детский сад № 19" | C36: село | D36: детей | E36: =F36+G36 -> 40 | F36: =BZ36+CB36+CD36+CF36+CH36 -> 17 | G36: =CA36+CC36+CE36+CG36+CI36 -> 23 | AX36: 17 | AY36: 23 | BZ36: =H36+R36+AB36+AL36+AV36+BF36+BP36 -> 0 | CA36: =I36+S36+AC36+AM36+AW36+BG36+BQ36 -> 0 | CB36: =J36+T36+AD36+AN36+AX36+BH36+BR36 -> 17 | CC36: =K36+U36+AE36+AO36+AY36+BI36+BS36 -> 23 | CD36: =L36+V36+AF36+AP36+AZ36+BJ36+BT36 -> 0 | CE36: =M36+W36+AG36+AQ36+BA36+BK36+BU36 -> 0 | CF36: =N36+X36+AH36+AR36+BB36+BL36+BV36 -> 0 | CG36: =O36+Y36+AI36+AS36+BC36+BM36+BW36 -> 0 | ... CI36: =Q36+AA36+AK36+AU36+BE36+BO36+BY36 -> 0
A37: Волосовский | B37: МДОУ "Детский сад №20" | C37: село | D37: детей | E37: =F37+G37 -> 71 | F37: =BZ37+CB37+CD37+CF37+CH37 -> 17 | G37: =CA37+CC37+CE37+CG37+CI37 -> 54 | AN37: 17 | AO37: 54 | BZ37: =H37+R37+AB37+AL37+AV37+BF37+BP37 -> 0 | CA37: =I37+S37+AC37+AM37+AW37+BG37+BQ37 -> 0 | CB37: =J37+T37+AD37+AN37+AX37+BH37+BR37 -> 17 | CC37: =K37+U37+AE37+AO37+AY37+BI37+BS37 -> 54 | CD37: =L37+V37+AF37+AP37+AZ37+BJ37+BT37 -> 0 | CE37: =M37+W37+AG37+AQ37+BA37+BK37+BU37 -> 0 | CF37: =N37+X37+AH37+AR37+BB37+BL37+BV37 -> 0 | CG37: =O37+Y37+AI37+AS37+BC37+BM37+BW37 -> 0 | ... CI37: =Q37+AA37+AK37+AU37+BE37+BO37+BY37 -> 0
A38: Волосовский | B38: МДОУ "Детский сад № 22" | C38: село | D38: детей | E38: =F38+G38 -> 101 | F38: =BZ38+CB38+CD38+CF38+CH38 -> 34 | G38: =CA38+CC38+CE38+CG38+CI38 -> 67 | J38: 34 | K38: 67 | BZ38: =H38+R38+AB38+AL38+AV38+BF38+BP38 -> 0 | CA38: =I38+S38+AC38+AM38+AW38+BG38+BQ38 -> 0 | CB38: =J38+T38+AD38+AN38+AX38+BH38+BR38 -> 34 | CC38: =K38+U38+AE38+AO38+AY38+BI38+BS38 -> 67 | CD38: =L38+V38+AF38+AP38+AZ38+BJ38+BT38 -> 0 | CE38: =M38+W38+AG38+AQ38+BA38+BK38+BU38 -> 0 | CF38: =N38+X38+AH38+AR38+BB38+BL38+BV38 -> 0 | CG38: =O38+Y38+AI38+AS38+BC38+BM38+BW38 -> 0 | ... CI38: =Q38+AA38+AK38+AU38+BE38+BO38+BY38 -> 0
A39: Волосовский | B39: МДОУ "Детский сад № 24" | C39: село | D39: детей | E39: =F39+G39 -> 81 | F39: =BZ39+CB39+CD39+CF39+CH39 -> 18 | G39: =CA39+CC39+CE39+CG39+CI39 -> 63 | AN39: 18 | AO39: 63 | BZ39: =H39+R39+AB39+AL39+AV39+BF39+BP39 -> 0 | CA39: =I39+S39+AC39+AM39+AW39+BG39+BQ39 -> 0 | CB39: =J39+T39+AD39+AN39+AX39+BH39+BR39 -> 18 | CC39: =K39+U39+AE39+AO39+AY39+BI39+BS39 -> 63 | CD39: =L39+V39+AF39+AP39+AZ39+BJ39+BT39 -> 0 | CE39: =M39+W39+AG39+AQ39+BA39+BK39+BU39 -> 0 | CF39: =N39+X39+AH39+AR39+BB39+BL39+BV39 -> 0 | CG39: =O39+Y39+AI39+AS39+BC39+BM39+BW39 -> 0 | ... CI39: =Q39+AA39+AK39+AU39+BE39+BO39+BY39 -> 0
A40: Волосовский | B40: МДОУ "Детский сад № 26" | C40: село | D40: детей | E40: =F40+G40 -> 87 | F40: =BZ40+CB40+CD40+CF40+CH40 -> 29 | G40: =CA40+CC40+CE40+CG40+CI40 -> 58 | AN40: 29 | AO40: 58 | BZ40: =H40+R40+AB40+AL40+AV40+BF40+BP40 -> 0 | CA40: =I40+S40+AC40+AM40+AW40+BG40+BQ40 -> 0 | CB40: =J40+T40+AD40+AN40+AX40+BH40+BR40 -> 29 | CC40: =K40+U40+AE40+AO40+AY40+BI40+BS40 -> 58 | CD40: =L40+V40+AF40+AP40+AZ40+BJ40+BT40 -> 0 | CE40: =M40+W40+AG40+AQ40+BA40+BK40+BU40 -> 0 | CF40: =N40+X40+AH40+AR40+BB40+BL40+BV40 -> 0 | CG40: =O40+Y40+AI40+AS40+BC40+BM40+BW40 -> 0 | ... CI40: =Q40+AA40+AK40+AU40+BE40+BO40+BY40 -> 0
A41: Волосовский | B41: МДОУ "Детский сад № 27" | C41: село | D41: детей | E41: =F41+G41 -> 112 | F41: =BZ41+CB41+CD41+CF41+CH41 -> 27 | G41: =CA41+CC41+CE41+CG41+CI41 -> 85 | J41: 27 | K41: 85 | BZ41: =H41+R41+AB41+AL41+AV41+BF41+BP41 -> 0 | CA41: =I41+S41+AC41+AM41+AW41+BG41+BQ41 -> 0 | CB41: =J41+T41+AD41+AN41+AX41+BH41+BR41 -> 27 | CC41: =K41+U41+AE41+AO41+AY41+BI41+BS41 -> 85 | CD41: =L41+V41+AF41+AP41+AZ41+BJ41+BT41 -> 0 | CE41: =M41+W41+AG41+AQ41+BA41+BK41+BU41 -> 0 | CF41: =N41+X41+AH41+AR41+BB41+BL41+BV41 -> 0 | CG41: =O41+Y41+AI41+AS41+BC41+BM41+BW41 -> 0 | ... CI41: =Q41+AA41+AK41+AU41+BE41+BO41+BY41 -> 0
A42: Волосовский | B42: МДОУ "Детский сад № 28" | C42: село | D42: детей | E42: =F42+G42 -> 162 | F42: =BZ42+CB42+CD42+CF42+CH42 -> 47 | G42: =CA42+CC42+CE42+CG42+CI42 -> 115 | L42: 47 | M42: 115 | BZ42: =H42+R42+AB42+AL42+AV42+BF42+BP42 -> 0 | CA42: =I42+S42+AC42+AM42+AW42+BG42+BQ42 -> 0 | CB42: =J42+T42+AD42+AN42+AX42+BH42+BR42 -> 0 | CC42: =K42+U42+AE42+AO42+AY42+BI42+BS42 -> 0 | CD42: =L42+V42+AF42+AP42+AZ42+BJ42+BT42 -> 47 | CE42: =M42+W42+AG42+AQ42+BA42+BK42+BU42 -> 115 | CF42: =N42+X42+AH42+AR42+BB42+BL42+BV42 -> 0 | CG42: =O42+Y42+AI42+AS42+BC42+BM42+BW42 -> 0 | ... CI42: =Q42+AA42+AK42+AU42+BE42+BO42+BY42 -> 0
A43: Волосовский | B43: МДОУ "Детский сад № 29" | C43: город | D43: детей | E43: =F43+G43 -> 209 | F43: =BZ43+CB43+CD43+CF43+CH43 -> 55 | G43: =CA43+CC43+CE43+CG43+CI43 -> 154 | H43: 0 | L43: 55 | M43: 154 | BZ43: =H43+R43+AB43+AL43+AV43+BF43+BP43 -> 0 | CA43: =I43+S43+AC43+AM43+AW43+BG43+BQ43 -> 0 | CB43: =J43+T43+AD43+AN43+AX43+BH43+BR43 -> 0 | CC43: =K43+U43+AE43+AO43+AY43+BI43+BS43 -> 0 | CD43: =L43+V43+AF43+AP43+AZ43+BJ43+BT43 -> 55 | CE43: =M43+W43+AG43+AQ43+BA43+BK43+BU43 -> 154 | CF43: =N43+X43+AH43+AR43+BB43+BL43+BV43 -> 0 | CG43: =O43+Y43+AI43+AS43+BC43+BM43+BW43 -> 0 | ... CI43: =Q43+AA43+AK43+AU43+BE43+BO43+BY43 -> 0
A44: Волосовский | B44: МОУ "Рабитицкая НОШ" | C44: село | D44: детей | E44: =F44+G44 -> 100 | F44: =BZ44+CB44+CD44+CF44+CH44 -> 25 | G44: =CA44+CC44+CE44+CG44+CI44 -> 75 | AN44: 25 | AO44: 75 | BZ44: =H44+R44+AB44+AL44+AV44+BF44+BP44 -> 0 | CA44: =I44+S44+AC44+AM44+AW44+BG44+BQ44 -> 0 | CB44: =J44+T44+AD44+AN44+AX44+BH44+BR44 -> 25 | CC44: =K44+U44+AE44+AO44+AY44+BI44+BS44 -> 75 | CD44: =L44+V44+AF44+AP44+AZ44+BJ44+BT44 -> 0 | CE44: =M44+W44+AG44+AQ44+BA44+BK44+BU44 -> 0 | CF44: =N44+X44+AH44+AR44+BB44+BL44+BV44 -> 0 | CG44: =O44+Y44+AI44+AS44+BC44+BM44+BW44 -> 0 | ... CI44: =Q44+AA44+AK44+AU44+BE44+BO44+BY44 -> 0
A45: Волосовский | B45: МОУ "Ущевицкая НОШ" | C45: село | D45: детей | E45: =F45+G45 -> 41 | F45: =BZ45+CB45+CD45+CF45+CH45 -> 0 | G45: =CA45+CC45+CE45+CG45+CI45 -> 41 | H45: 0 | AN45: 0 | AO45: 0 | AY45: 41 | BZ45: =H45+R45+AB45+AL45+AV45+BF45+BP45 -> 0 | CA45: =I45+S45+AC45+AM45+AW45+BG45+BQ45 -> 0 | CB45: =J45+T45+AD45+AN45+AX45+BH45+BR45 -> 0 | CC45: =K45+U45+AE45+AO45+AY45+BI45+BS45 -> 41 | CD45: =L45+V45+AF45+AP45+AZ45+BJ45+BT45 -> 0 | CE45: =M45+W45+AG45+AQ45+BA45+BK45+BU45 -> 0 | CF45: =N45+X45+AH45+AR45+BB45+BL45+BV45 -> 0 | CG45: =O45+Y45+AI45+AS45+BC45+BM45+BW45 -> 0 | ... CI45: =Q45+AA45+AK45+AU45+BE45+BO45+BY45 -> 0
A46: 2. Волосовский | B46: ИТОГО | E46: =SUBTOTAL(9,E26:E45) -> 2083 | F46: =SUBTOTAL(9,F26:F45) -> 578 | G46: =SUBTOTAL(9,G26:G45) -> 1505 | H46: =SUBTOTAL(9,H26:H45) -> 0 | I46: =SUBTOTAL(9,I26:I45) -> 0 | J46: =SUBTOTAL(9,J26:J45) -> 99 | K46: =SUBTOTAL(9,K26:K45) -> 241 | L46: =SUBTOTAL(9,L26:L45) -> 235 | ... CI46: =SUBTOTAL(9,CI26:CI45) -> 0
A47: Волховский | B47: МДОБУ «Детский сад № 1 «Дюймовочка» комбинированного вида» | C47: город | D47: детей | E47: =F47+G47 -> 182 | F47: =BZ47+CB47+CD47+CF47+CH47 -> 60 | G47: =CA47+CC47+CE47+CG47+CI47 -> 122 | L47: 60 | M47: 122 | BZ47: =H47+R47+AB47+AL47+AV47+BF47+BP47 -> 0 | CA47: =I47+S47+AC47+AM47+AW47+BG47+BQ47 -> 0 | CB47: =J47+T47+AD47+AN47+AX47+BH47+BR47 -> 0 | CC47: =K47+U47+AE47+AO47+AY47+BI47+BS47 -> 0 | CD47: =L47+V47+AF47+AP47+AZ47+BJ47+BT47 -> 60 | CE47: =M47+W47+AG47+AQ47+BA47+BK47+BU47 -> 122 | CF47: =N47+X47+AH47+AR47+BB47+BL47+BV47 -> 0 | CG47: =O47+Y47+AI47+AS47+BC47+BM47+BW47 -> 0 | ... CI47: =Q47+AA47+AK47+AU47+BE47+BO47+BY47 -> 0
A48: Волховский | B48: МДОБУ «Детский сад № 2 «Рябинка» комбинированного вида» | C48: город | D48: детей | E48: =F48+G48 -> 205 | F48: =BZ48+CB48+CD48+CF48+CH48 -> 40 | G48: =CA48+CC48+CE48+CG48+CI48 -> 165 | L48: 40 | M48: 165 | BZ48: =H48+R48+AB48+AL48+AV48+BF48+BP48 -> 0 | CA48: =I48+S48+AC48+AM48+AW48+BG48+BQ48 -> 0 | CB48: =J48+T48+AD48+AN48+AX48+BH48+BR48 -> 0 | CC48: =K48+U48+AE48+AO48+AY48+BI48+BS48 -> 0 | CD48: =L48+V48+AF48+AP48+AZ48+BJ48+BT48 -> 40 | CE48: =M48+W48+AG48+AQ48+BA48+BK48+BU48 -> 165 | CF48: =N48+X48+AH48+AR48+BB48+BL48+BV48 -> 0 | CG48: =O48+Y48+AI48+AS48+BC48+BM48+BW48 -> 0 | ... CI48: =Q48+AA48+AK48+AU48+BE48+BO48+BY48 -> 0
A49: Волховский | B49: МДОБУ «Детский сад № 3 комбинированного вида» | C49: город | D49: детей | E49: =F49+G49 -> 42 | F49: =BZ49+CB49+CD49+CF49+CH49 -> 12 | G49: =CA49+CC49+CE49+CG49+CI49 -> 30 | L49: 12 | M49: 30 | BZ49: =H49+R49+AB49+AL49+AV49+BF49+BP49 -> 0 | CA49: =I49+S49+AC49+AM49+AW49+BG49+BQ49 -> 0 | CB49: =J49+T49+AD49+AN49+AX49+BH49+BR49 -> 0 | CC49: =K49+U49+AE49+AO49+AY49+BI49+BS49 -> 0 | CD49: =L49+V49+AF49+AP49+AZ49+BJ49+BT49 -> 12 | CE49: =M49+W49+AG49+AQ49+BA49+BK49+BU49 -> 30 | CF49: =N49+X49+AH49+AR49+BB49+BL49+BV49 -> 0 | CG49: =O49+Y49+AI49+AS49+BC49+BM49+BW49 -> 0 | ... CI49: =Q49+AA49+AK49+AU49+BE49+BO49+BY49 -> 0
A50: Волховский | B50: МДОБУ «Детский сад № 4» комбинированного вида" | C50: город | D50: детей | E50: =F50+G50 -> 145 | F50: =BZ50+CB50+CD50+CF50+CH50 -> 38 | G50: =CA50+CC50+CE50+CG50+CI50 -> 107 | L50: 38 | M50: 107 | BZ50: =H50+R50+AB50+AL50+AV50+BF50+BP50 -> 0 | CA50: =I50+S50+AC50+AM50+AW50+BG50+BQ50 -> 0 | CB50: =J50+T50+AD50+AN50+AX50+BH50+BR50 -> 0 | CC50: =K50+U50+AE50+AO50+AY50+BI50+BS50 -> 0 | CD50: =L50+V50+AF50+AP50+AZ50+BJ50+BT50 -> 38 | CE50: =M50+W50+AG50+AQ50+BA50+BK50+BU50 -> 107 | CF50: =N50+X50+AH50+AR50+BB50+BL50+BV50 -> 0 | CG50: =O50+Y50+AI50+AS50+BC50+BM50+BW50 -> 0 | ... CI50: =Q50+AA50+AK50+AU50+BE50+BO50+BY50 -> 0
A51: Волховский | B51: МДОБУ «Детский сад № 5 «Аистенок» комбинированного вида» | C51: город | D51: детей | E51: =F51+G51 -> 205 | F51: =BZ51+CB51+CD51+CF51+CH51 -> 85 | G51: =CA51+CC51+CE51+CG51+CI51 -> 120 | L51: 85 | M51: 120 | BZ51: =H51+R51+AB51+AL51+AV51+BF51+BP51 -> 0 | CA51: =I51+S51+AC51+AM51+AW51+BG51+BQ51 -> 0 | CB51: =J51+T51+AD51+AN51+AX51+BH51+BR51 -> 0 | CC51: =K51+U51+AE51+AO51+AY51+BI51+BS51 -> 0 | CD51: =L51+V51+AF51+AP51+AZ51+BJ51+BT51 -> 85 | CE51: =M51+W51+AG51+AQ51+BA51+BK51+BU51 -> 120 | CF51: =N51+X51+AH51+AR51+BB51+BL51+BV51 -> 0 | CG51: =O51+Y51+AI51+AS51+BC51+BM51+BW51 -> 0 | ... CI51: =Q51+AA51+AK51+AU51+BE51+BO51+BY51 -> 0
A52: Волховский | B52: МДОБУ «Детский сад № 6 «Солнышко» комбинированного вида» | C52: город | D52: детей | E52: =F52+G52 -> 131 | F52: =BZ52+CB52+CD52+CF52+CH52 -> 48 | G52: =CA52+CC52+CE52+CG52+CI52 -> 83 | L52: 48 | M52: 83 | BZ52: =H52+R52+AB52+AL52+AV52+BF52+BP52 -> 0 | CA52: =I52+S52+AC52+AM52+AW52+BG52+BQ52 -> 0 | CB52: =J52+T52+AD52+AN52+AX52+BH52+BR52 -> 0 | CC52: =K52+U52+AE52+AO52+AY52+BI52+BS52 -> 0 | CD52: =L52+V52+AF52+AP52+AZ52+BJ52+BT52 -> 48 | CE52: =M52+W52+AG52+AQ52+BA52+BK52+BU52 -> 83 | CF52: =N52+X52+AH52+AR52+BB52+BL52+BV52 -> 0 | CG52: =O52+Y52+AI52+AS52+BC52+BM52+BW52 -> 0 | ... CI52: =Q52+AA52+AK52+AU52+BE52+BO52+BY52 -> 0
A53: Волховский | B53: МДОБУ «Детский сад № 7 «Искорка» комбинированного вида» | C53: город | D53: детей | E53: =F53+G53 -> 200 | F53: =BZ53+CB53+CD53+CF53+CH53 -> 64 | G53: =CA53+CC53+CE53+CG53+CI53 -> 136 | L53: 64 | M53: 136 | BZ53: =H53+R53+AB53+AL53+AV53+BF53+BP53 -> 0 | CA53: =I53+S53+AC53+AM53+AW53+BG53+BQ53 -> 0 | CB53: =J53+T53+AD53+AN53+AX53+BH53+BR53 -> 0 | CC53: =K53+U53+AE53+AO53+AY53+BI53+BS53 -> 0 | CD53: =L53+V53+AF53+AP53+AZ53+BJ53+BT53 -> 64 | CE53: =M53+W53+AG53+AQ53+BA53+BK53+BU53 -> 136 | CF53: =N53+X53+AH53+AR53+BB53+BL53+BV53 -> 0 | CG53: =O53+Y53+AI53+AS53+BC53+BM53+BW53 -> 0 | ... CI53: =Q53+AA53+AK53+AU53+BE53+BO53+BY53 -> 0
A54: Волховский | B54: МДОБУ «Детский сад № 8 «Сказка» комбинированного вида» | C54: город | D54: детей | E54: =F54+G54 -> 180 | F54: =BZ54+CB54+CD54+CF54+CH54 -> 60 | G54: =CA54+CC54+CE54+CG54+CI54 -> 120 | L54: 60 | M54: 110 | Q54: 10 | BZ54: =H54+R54+AB54+AL54+AV54+BF54+BP54 -> 0 | CA54: =I54+S54+AC54+AM54+AW54+BG54+BQ54 -> 0 | CB54: =J54+T54+AD54+AN54+AX54+BH54+BR54 -> 0 | CC54: =K54+U54+AE54+AO54+AY54+BI54+BS54 -> 0 | CD54: =L54+V54+AF54+AP54+AZ54+BJ54+BT54 -> 60 | CE54: =M54+W54+AG54+AQ54+BA54+BK54+BU54 -> 110 | CF54: =N54+X54+AH54+AR54+BB54+BL54+BV54 -> 0 | CG54: =O54+Y54+AI54+AS54+BC54+BM54+BW54 -> 0 | ... CI54: =Q54+AA54+AK54+AU54+BE54+BO54+BY54 -> 10
A55: Волховский | B55: МДОБУ «Детский сад № 9 «Радужка» комбинированного вида» | C55: город | D55: детей | E55: =F55+G55 -> 228 | F55: =BZ55+CB55+CD55+CF55+CH55 -> 80 | G55: =CA55+CC55+CE55+CG55+CI55 -> 148 | L55: 70 | M55: 148 | N55: 10 | BZ55: =H55+R55+AB55+AL55+AV55+BF55+BP55 -> 0 | CA55: =I55+S55+AC55+AM55+AW55+BG55+BQ55 -> 0 | CB55: =J55+T55+AD55+AN55+AX55+BH55+BR55 -> 0 | CC55: =K55+U55+AE55+AO55+AY55+BI55+BS55 -> 0 | CD55: =L55+V55+AF55+AP55+AZ55+BJ55+BT55 -> 70 | CE55: =M55+W55+AG55+AQ55+BA55+BK55+BU55 -> 148 | CF55: =N55+X55+AH55+AR55+BB55+BL55+BV55 -> 10 | CG55: =O55+Y55+AI55+AS55+BC55+BM55+BW55 -> 0 | ... CI55: =Q55+AA55+AK55+AU55+BE55+BO55+BY55 -> 0
A56: Волховский | B56: МДОБУ «Детский сад № 10 «Светлячок» комбинированного вида" | C56: город | D56: детей | E56: =F56+G56 -> 230 | F56: =BZ56+CB56+CD56+CF56+CH56 -> 40 | G56: =CA56+CC56+CE56+CG56+CI56 -> 190 | L56: 40 | M56: 175 | Q56: 15 | BZ56: =H56+R56+AB56+AL56+AV56+BF56+BP56 -> 0 | CA56: =I56+S56+AC56+AM56+AW56+BG56+BQ56 -> 0 | CB56: =J56+T56+AD56+AN56+AX56+BH56+BR56 -> 0 | CC56: =K56+U56+AE56+AO56+AY56+BI56+BS56 -> 0 | CD56: =L56+V56+AF56+AP56+AZ56+BJ56+BT56 -> 40 | CE56: =M56+W56+AG56+AQ56+BA56+BK56+BU56 -> 175 | CF56: =N56+X56+AH56+AR56+BB56+BL56+BV56 -> 0 | CG56: =O56+Y56+AI56+AS56+BC56+BM56+BW56 -> 0 | ... CI56: =Q56+AA56+AK56+AU56+BE56+BO56+BY56 -> 15
A57: Волховский | B57: МДОБУ «Детский сад № 12 » | C57: город | D57: детей | E57: =F57+G57 -> 80 | F57: =BZ57+CB57+CD57+CF57+CH57 -> 20 | G57: =CA57+CC57+CE57+CG57+CI57 -> 60 | L57: 20 | M57: 60 | BZ57: =H57+R57+AB57+AL57+AV57+BF57+BP57 -> 0 | CA57: =I57+S57+AC57+AM57+AW57+BG57+BQ57 -> 0 | CB57: =J57+T57+AD57+AN57+AX57+BH57+BR57 -> 0 | CC57: =K57+U57+AE57+AO57+AY57+BI57+BS57 -> 0 | CD57: =L57+V57+AF57+AP57+AZ57+BJ57+BT57 -> 20 | CE57: =M57+W57+AG57+AQ57+BA57+BK57+BU57 -> 60 | CF57: =N57+X57+AH57+AR57+BB57+BL57+BV57 -> 0 | CG57: =O57+Y57+AI57+AS57+BC57+BM57+BW57 -> 0 | ... CI57: =Q57+AA57+AK57+AU57+BE57+BO57+BY57 -> 0
A58: Волховский | B58: МДОБУ «Детский сад № 13 «Березка» | C58: город | D58: детей | E58: =F58+G58 -> 106 | F58: =BZ58+CB58+CD58+CF58+CH58 -> 38 | G58: =CA58+CC58+CE58+CG58+CI58 -> 68 | L58: 38 | M58: 68 | BZ58: =H58+R58+AB58+AL58+AV58+BF58+BP58 -> 0 | CA58: =I58+S58+AC58+AM58+AW58+BG58+BQ58 -> 0 | CB58: =J58+T58+AD58+AN58+AX58+BH58+BR58 -> 0 | CC58: =K58+U58+AE58+AO58+AY58+BI58+BS58 -> 0 | CD58: =L58+V58+AF58+AP58+AZ58+BJ58+BT58 -> 38 | CE58: =M58+W58+AG58+AQ58+BA58+BK58+BU58 -> 68 | CF58: =N58+X58+AH58+AR58+BB58+BL58+BV58 -> 0 | CG58: =O58+Y58+AI58+AS58+BC58+BM58+BW58 -> 0 | ... CI58: =Q58+AA58+AK58+AU58+BE58+BO58+BY58 -> 0
A59: Волховский | B59: МДОБУ «Детский сад № 14 «Ёлочка» комбинированного вида» | C59: город | D59: детей | E59: =F59+G59 -> 134 | F59: =BZ59+CB59+CD59+CF59+CH59 -> 40 | G59: =CA59+CC59+CE59+CG59+CI59 -> 94 | L59: 40 | M59: 94 | BZ59: =H59+R59+AB59+AL59+AV59+BF59+BP59 -> 0 | CA59: =I59+S59+AC59+AM59+AW59+BG59+BQ59 -> 0 | CB59: =J59+T59+AD59+AN59+AX59+BH59+BR59 -> 0 | CC59: =K59+U59+AE59+AO59+AY59+BI59+BS59 -> 0 | CD59: =L59+V59+AF59+AP59+AZ59+BJ59+BT59 -> 40 | CE59: =M59+W59+AG59+AQ59+BA59+BK59+BU59 -> 94 | CF59: =N59+X59+AH59+AR59+BB59+BL59+BV59 -> 0 | CG59: =O59+Y59+AI59+AS59+BC59+BM59+BW59 -> 0 | ... CI59: =Q59+AA59+AK59+AU59+BE59+BO59+BY59 -> 0
A60: Волховский | B60: МДОБУ «Детский сад № 15 «Вишенка» | C60: город | D60: детей | E60: =F60+G60 -> 216 | F60: =BZ60+CB60+CD60+CF60+CH60 -> 60 | G60: =CA60+CC60+CE60+CG60+CI60 -> 156 | L60: 60 | M60: 156 | BZ60: =H60+R60+AB60+AL60+AV60+BF60+BP60 -> 0 | CA60: =I60+S60+AC60+AM60+AW60+BG60+BQ60 -> 0 | CB60: =J60+T60+AD60+AN60+AX60+BH60+BR60 -> 0 | CC60: =K60+U60+AE60+AO60+AY60+BI60+BS60 -> 0 | CD60: =L60+V60+AF60+AP60+AZ60+BJ60+BT60 -> 60 | CE60: =M60+W60+AG60+AQ60+BA60+BK60+BU60 -> 156 | CF60: =N60+X60+AH60+AR60+BB60+BL60+BV60 -> 0 | CG60: =O60+Y60+AI60+AS60+BC60+BM60+BW60 -> 0 | ... CI60: =Q60+AA60+AK60+AU60+BE60+BO60+BY60 -> 0
A61: Волховский | B61: МДОБУ «Детский сад № 16 «Ромашка» комбинированного вида» | C61: город | D61: детей | E61: =F61+G61 -> 153 | F61: =BZ61+CB61+CD61+CF61+CH61 -> 44 | G61: =CA61+CC61+CE61+CG61+CI61 -> 109 | L61: 44 | M61: 109 | BZ61: =H61+R61+AB61+AL61+AV61+BF61+BP61 -> 0 | CA61: =I61+S61+AC61+AM61+AW61+BG61+BQ61 -> 0 | CB61: =J61+T61+AD61+AN61+AX61+BH61+BR61 -> 0 | CC61: =K61+U61+AE61+AO61+AY61+BI61+BS61 -> 0 | CD61: =L61+V61+AF61+AP61+AZ61+BJ61+BT61 -> 44 | CE61: =M61+W61+AG61+AQ61+BA61+BK61+BU61 -> 109 | CF61: =N61+X61+AH61+AR61+BB61+BL61+BV61 -> 0 | CG61: =O61+Y61+AI61+AS61+BC61+BM61+BW61 -> 0 | ... CI61: =Q61+AA61+AK61+AU61+BE61+BO61+BY61 -> 0
A62: Волховский | B62: МДОБУ «Детский сад № 17 «Сказка» комбинированного вида» | C62: город | D62: детей | E62: =F62+G62 -> 179 | F62: =BZ62+CB62+CD62+CF62+CH62 -> 56 | G62: =CA62+CC62+CE62+CG62+CI62 -> 123 | L62: 56 | M62: 123 | BZ62: =H62+R62+AB62+AL62+AV62+BF62+BP62 -> 0 | CA62: =I62+S62+AC62+AM62+AW62+BG62+BQ62 -> 0 | CB62: =J62+T62+AD62+AN62+AX62+BH62+BR62 -> 0 | CC62: =K62+U62+AE62+AO62+AY62+BI62+BS62 -> 0 | CD62: =L62+V62+AF62+AP62+AZ62+BJ62+BT62 -> 56 | CE62: =M62+W62+AG62+AQ62+BA62+BK62+BU62 -> 123 | CF62: =N62+X62+AH62+AR62+BB62+BL62+BV62 -> 0 | CG62: =O62+Y62+AI62+AS62+BC62+BM62+BW62 -> 0 | ... CI62: =Q62+AA62+AK62+AU62+BE62+BO62+BY62 -> 0
A63: Волховский | B63: МДОБУ «Детский сад № 18 «Теремок» комбинированного вида» | C63: город | D63: детей | E63: =F63+G63 -> 146 | F63: =BZ63+CB63+CD63+CF63+CH63 -> 45 | G63: =CA63+CC63+CE63+CG63+CI63 -> 101 | L63: 45 | M63: 101 | BZ63: =H63+R63+AB63+AL63+AV63+BF63+BP63 -> 0 | CA63: =I63+S63+AC63+AM63+AW63+BG63+BQ63 -> 0 | CB63: =J63+T63+AD63+AN63+AX63+BH63+BR63 -> 0 | CC63: =K63+U63+AE63+AO63+AY63+BI63+BS63 -> 0 | CD63: =L63+V63+AF63+AP63+AZ63+BJ63+BT63 -> 45 | CE63: =M63+W63+AG63+AQ63+BA63+BK63+BU63 -> 101 | CF63: =N63+X63+AH63+AR63+BB63+BL63+BV63 -> 0 | CG63: =O63+Y63+AI63+AS63+BC63+BM63+BW63 -> 0 | ... CI63: =Q63+AA63+AK63+AU63+BE63+BO63+BY63 -> 0
A64: Волховский | B64: МДОБУ «Детский сад № 20 комбинированного вида» | C64: село | D64: детей | E64: =F64+G64 -> 99 | F64: =BZ64+CB64+CD64+CF64+CH64 -> 33 | G64: =CA64+CC64+CE64+CG64+CI64 -> 66 | J64: 28 | K64: 30 | L64: 5 | M64: 36 | BZ64: =H64+R64+AB64+AL64+AV64+BF64+BP64 -> 0 | CA64: =I64+S64+AC64+AM64+AW64+BG64+BQ64 -> 0 | CB64: =J64+T64+AD64+AN64+AX64+BH64+BR64 -> 28 | CC64: =K64+U64+AE64+AO64+AY64+BI64+BS64 -> 30 | CD64: =L64+V64+AF64+AP64+AZ64+BJ64+BT64 -> 5 | CE64: =M64+W64+AG64+AQ64+BA64+BK64+BU64 -> 36 | CF64: =N64+X64+AH64+AR64+BB64+BL64+BV64 -> 0 | CG64: =O64+Y64+AI64+AS64+BC64+BM64+BW64 -> 0 | ... CI64: =Q64+AA64+AK64+AU64+BE64+BO64+BY64 -> 0
A65: Волховский | B65: МДОБУ «Детский сад № 21 «Белочка» | C65: село | D65: детей | E65: =F65+G65 -> 134 | F65: =BZ65+CB65+CD65+CF65+CH65 -> 26 | G65: =CA65+CC65+CE65+CG65+CI65 -> 108 | J65: 26 | K65: 78 | M65: 30 | BZ65: =H65+R65+AB65+AL65+AV65+BF65+BP65 -> 0 | CA65: =I65+S65+AC65+AM65+AW65+BG65+BQ65 -> 0 | CB65: =J65+T65+AD65+AN65+AX65+BH65+BR65 -> 26 | CC65: =K65+U65+AE65+AO65+AY65+BI65+BS65 -> 78 | CD65: =L65+V65+AF65+AP65+AZ65+BJ65+BT65 -> 0 | CE65: =M65+W65+AG65+AQ65+BA65+BK65+BU65 -> 30 | CF65: =N65+X65+AH65+AR65+BB65+BL65+BV65 -> 0 | CG65: =O65+Y65+AI65+AS65+BC65+BM65+BW65 -> 0 | ... CI65: =Q65+AA65+AK65+AU65+BE65+BO65+BY65 -> 0
A66: Волховский | B66: МДОБУ "Детский сад № 22 комбинированного вида" | C66: город | D66: детей | E66: =F66+G66 -> 125 | F66: =BZ66+CB66+CD66+CF66+CH66 -> 36 | G66: =CA66+CC66+CE66+CG66+CI66 -> 89 | L66: 36 | M66: 77 | Q66: 12 | BZ66: =H66+R66+AB66+AL66+AV66+BF66+BP66 -> 0 | CA66: =I66+S66+AC66+AM66+AW66+BG66+BQ66 -> 0 | CB66: =J66+T66+AD66+AN66+AX66+BH66+BR66 -> 0 | CC66: =K66+U66+AE66+AO66+AY66+BI66+BS66 -> 0 | CD66: =L66+V66+AF66+AP66+AZ66+BJ66+BT66 -> 36 | CE66: =M66+W66+AG66+AQ66+BA66+BK66+BU66 -> 77 | CF66: =N66+X66+AH66+AR66+BB66+BL66+BV66 -> 0 | CG66: =O66+Y66+AI66+AS66+BC66+BM66+BW66 -> 0 | ... CI66: =Q66+AA66+AK66+AU66+BE66+BO66+BY66 -> 12
A67: Волховский | B67: МОБУ «Алексинская средняя общеобразовательная школа» | C67: село | D67: детей | E67: =F67+G67 -> 79 | F67: =BZ67+CB67+CD67+CF67+CH67 -> 16 | G67: =CA67+CC67+CE67+CG67+CI67 -> 63 | AN67: 16 | AO67: 25 | AQ67: 38 | BZ67: =H67+R67+AB67+AL67+AV67+BF67+BP67 -> 0 | CA67: =I67+S67+AC67+AM67+AW67+BG67+BQ67 -> 0 | CB67: =J67+T67+AD67+AN67+AX67+BH67+BR67 -> 16 | CC67: =K67+U67+AE67+AO67+AY67+BI67+BS67 -> 25 | CD67: =L67+V67+AF67+AP67+AZ67+BJ67+BT67 -> 0 | CE67: =M67+W67+AG67+AQ67+BA67+BK67+BU67 -> 38 | CF67: =N67+X67+AH67+AR67+BB67+BL67+BV67 -> 0 | CG67: =O67+Y67+AI67+AS67+BC67+BM67+BW67 -> 0 | ... CI67: =Q67+AA67+AK67+AU67+BE67+BO67+BY67 -> 0
A68: Волховский | B68: МОБУ «Бережковская основная общеобразовательная школа» | C68: село | D68: детей | E68: =F68+G68 -> 55 | F68: =BZ68+CB68+CD68+CF68+CH68 -> 15 | G68: =CA68+CC68+CE68+CG68+CI68 -> 40 | AN68: 15 | AO68: 40 | BZ68: =H68+R68+AB68+AL68+AV68+BF68+BP68 -> 0 | CA68: =I68+S68+AC68+AM68+AW68+BG68+BQ68 -> 0 | CB68: =J68+T68+AD68+AN68+AX68+BH68+BR68 -> 15 | CC68: =K68+U68+AE68+AO68+AY68+BI68+BS68 -> 40 | CD68: =L68+V68+AF68+AP68+AZ68+BJ68+BT68 -> 0 | CE68: =M68+W68+AG68+AQ68+BA68+BK68+BU68 -> 0 | CF68: =N68+X68+AH68+AR68+BB68+BL68+BV68 -> 0 | CG68: =O68+Y68+AI68+AS68+BC68+BM68+BW68 -> 0 | ... CI68: =Q68+AA68+AK68+AU68+BE68+BO68+BY68 -> 0
A69: Волховский | B69: МОБУ «Гостинопольская основная общеобразовательная школа» | C69: село | D69: детей | E69: =F69+G69 -> 45 | F69: =BZ69+CB69+CD69+CF69+CH69 -> 20 | G69: =CA69+CC69+CE69+CG69+CI69 -> 25 | AX69: 20 | AY69: 25 | BZ69: =H69+R69+AB69+AL69+AV69+BF69+BP69 -> 0 | CA69: =I69+S69+AC69+AM69+AW69+BG69+BQ69 -> 0 | CB69: =J69+T69+AD69+AN69+AX69+BH69+BR69 -> 20 | CC69: =K69+U69+AE69+AO69+AY69+BI69+BS69 -> 25 | CD69: =L69+V69+AF69+AP69+AZ69+BJ69+BT69 -> 0 | CE69: =M69+W69+AG69+AQ69+BA69+BK69+BU69 -> 0 | CF69: =N69+X69+AH69+AR69+BB69+BL69+BV69 -> 0 | CG69: =O69+Y69+AI69+AS69+BC69+BM69+BW69 -> 0 | ... CI69: =Q69+AA69+AK69+AU69+BE69+BO69+BY69 -> 0
A70: Волховский | B70: МОБУ «Иссадская основная общеобразовательная школа» | C70: село | D70: детей | E70: =F70+G70 -> 37 | F70: =BZ70+CB70+CD70+CF70+CH70 -> 15 | G70: =CA70+CC70+CE70+CG70+CI70 -> 22 | AX70: 15 | AY70: 22 | BZ70: =H70+R70+AB70+AL70+AV70+BF70+BP70 -> 0 | CA70: =I70+S70+AC70+AM70+AW70+BG70+BQ70 -> 0 | CB70: =J70+T70+AD70+AN70+AX70+BH70+BR70 -> 15 | CC70: =K70+U70+AE70+AO70+AY70+BI70+BS70 -> 22 | CD70: =L70+V70+AF70+AP70+AZ70+BJ70+BT70 -> 0 | CE70: =M70+W70+AG70+AQ70+BA70+BK70+BU70 -> 0 | CF70: =N70+X70+AH70+AR70+BB70+BL70+BV70 -> 0 | CG70: =O70+Y70+AI70+AS70+BC70+BM70+BW70 -> 0 | ... CI70: =Q70+AA70+AK70+AU70+BE70+BO70+BY70 -> 0
A71: Волховский | B71: МОБУ «Кисельнинская средняя общеобразовательная школа» | C71: село | D71: детей | E71: =F71+G71 -> 60 | F71: =BZ71+CB71+CD71+CF71+CH71 -> 15 | G71: =CA71+CC71+CE71+CG71+CI71 -> 45 | AN71: 15 | AO71: 45 | BZ71: =H71+R71+AB71+AL71+AV71+BF71+BP71 -> 0 | CA71: =I71+S71+AC71+AM71+AW71+BG71+BQ71 -> 0 | CB71: =J71+T71+AD71+AN71+AX71+BH71+BR71 -> 15 | CC71: =K71+U71+AE71+AO71+AY71+BI71+BS71 -> 45 | CD71: =L71+V71+AF71+AP71+AZ71+BJ71+BT71 -> 0 | CE71: =M71+W71+AG71+AQ71+BA71+BK71+BU71 -> 0 | CF71: =N71+X71+AH71+AR71+BB71+BL71+BV71 -> 0 | CG71: =O71+Y71+AI71+AS71+BC71+BM71+BW71 -> 0 | ... CI71: =Q71+AA71+AK71+AU71+BE71+BO71+BY71 -> 0
A72: Волховский | B72: МОБУ «Потанинская основная общеобразовательная школа» | C72: село | D72: детей | E72: =F72+G72 -> 34 | F72: =BZ72+CB72+CD72+CF72+CH72 -> 8 | G72: =CA72+CC72+CE72+CG72+CI72 -> 26 | AX72: 8 | AY72: 7 | BA72: 19 | BZ72: =H72+R72+AB72+AL72+AV72+BF72+BP72 -> 0 | CA72: =I72+S72+AC72+AM72+AW72+BG72+BQ72 -> 0 | CB72: =J72+T72+AD72+AN72+AX72+BH72+BR72 -> 8 | CC72: =K72+U72+AE72+AO72+AY72+BI72+BS72 -> 7 | CD72: =L72+V72+AF72+AP72+AZ72+BJ72+BT72 -> 0 | CE72: =M72+W72+AG72+AQ72+BA72+BK72+BU72 -> 19 | CF72: =N72+X72+AH72+AR72+BB72+BL72+BV72 -> 0 | CG72: =O72+Y72+AI72+AS72+BC72+BM72+BW72 -> 0 | ... CI72: =Q72+AA72+AK72+AU72+BE72+BO72+BY72 -> 0
A73: Волховский | B73: МОБУ «Свирицкая средняя общеобразовательная школа» | C73: село | D73: детей | E73: =F73+G73 -> 10 | F73: =BZ73+CB73+CD73+CF73+CH73 -> 3 | G73: =CA73+CC73+CE73+CG73+CI73 -> 7 | BR73: 3 | BS73: 7 | BZ73: =H73+R73+AB73+AL73+AV73+BF73+BP73 -> 0 | CA73: =I73+S73+AC73+AM73+AW73+BG73+BQ73 -> 0 | CB73: =J73+T73+AD73+AN73+AX73+BH73+BR73 -> 3 | CC73: =K73+U73+AE73+AO73+AY73+BI73+BS73 -> 7 | CD73: =L73+V73+AF73+AP73+AZ73+BJ73+BT73 -> 0 | CE73: =M73+W73+AG73+AQ73+BA73+BK73+BU73 -> 0 | CF73: =N73+X73+AH73+AR73+BB73+BL73+BV73 -> 0 | CG73: =O73+Y73+AI73+AS73+BC73+BM73+BW73 -> 0 | ... CI73: =Q73+AA73+AK73+AU73+BE73+BO73+BY73 -> 0
A74: Волховский | B74: МОБУ «Селивановская основная общеобразовательная школа» | C74: село | D74: детей | E74: =F74+G74 -> 17 | F74: =BZ74+CB74+CD74+CF74+CH74 -> 6 | G74: =CA74+CC74+CE74+CG74+CI74 -> 11 | BH74: 6 | BI74: 11 | BZ74: =H74+R74+AB74+AL74+AV74+BF74+BP74 -> 0 | CA74: =I74+S74+AC74+AM74+AW74+BG74+BQ74 -> 0 | CB74: =J74+T74+AD74+AN74+AX74+BH74+BR74 -> 6 | CC74: =K74+U74+AE74+AO74+AY74+BI74+BS74 -> 11 | CD74: =L74+V74+AF74+AP74+AZ74+BJ74+BT74 -> 0 | CE74: =M74+W74+AG74+AQ74+BA74+BK74+BU74 -> 0 | CF74: =N74+X74+AH74+AR74+BB74+BL74+BV74 -> 0 | CG74: =O74+Y74+AI74+AS74+BC74+BM74+BW74 -> 0 | ... CI74: =Q74+AA74+AK74+AU74+BE74+BO74+BY74 -> 0
A75: Волховский | B75: МОУ "Усадищенская средняя общеобразовательная школа" | C75: село | D75: детей | E75: =F75+G75 -> 55 | F75: =BZ75+CB75+CD75+CF75+CH75 -> 16 | G75: =CA75+CC75+CE75+CG75+CI75 -> 39 | AN75: 16 | AO75: 39 | BZ75: =H75+R75+AB75+AL75+AV75+BF75+BP75 -> 0 | CA75: =I75+S75+AC75+AM75+AW75+BG75+BQ75 -> 0 | CB75: =J75+T75+AD75+AN75+AX75+BH75+BR75 -> 16 | CC75: =K75+U75+AE75+AO75+AY75+BI75+BS75 -> 39 | CD75: =L75+V75+AF75+AP75+AZ75+BJ75+BT75 -> 0 | CE75: =M75+W75+AG75+AQ75+BA75+BK75+BU75 -> 0 | CF75: =N75+X75+AH75+AR75+BB75+BL75+BV75 -> 0 | CG75: =O75+Y75+AI75+AS75+BC75+BM75+BW75 -> 0 | ... CI75: =Q75+AA75+AK75+AU75+BE75+BO75+BY75 -> 0
A76: Волховский | B76: МОБУ «Хваловская средняя общеобразовательная школа» | C76: село | D76: детей | E76: =F76+G76 -> 15 | F76: =BZ76+CB76+CD76+CF76+CH76 -> 3 | G76: =CA76+CC76+CE76+CG76+CI76 -> 12 | BH76: 3 | BI76: 12 | BZ76: =H76+R76+AB76+AL76+AV76+BF76+BP76 -> 0 | CA76: =I76+S76+AC76+AM76+AW76+BG76+BQ76 -> 0 | CB76: =J76+T76+AD76+AN76+AX76+BH76+BR76 -> 3 | CC76: =K76+U76+AE76+AO76+AY76+BI76+BS76 -> 12 | CD76: =L76+V76+AF76+AP76+AZ76+BJ76+BT76 -> 0 | CE76: =M76+W76+AG76+AQ76+BA76+BK76+BU76 -> 0 | CF76: =N76+X76+AH76+AR76+BB76+BL76+BV76 -> 0 | CG76: =O76+Y76+AI76+AS76+BC76+BM76+BW76 -> 0 | ... CI76: =Q76+AA76+AK76+AU76+BE76+BO76+BY76 -> 0
A77: 3. Волховский | B77: ИТОГО | E77: =SUBTOTAL(9,E47:E76) -> 3527 | F77: =SUBTOTAL(9,F47:F76) -> 1042 | G77: =SUBTOTAL(9,G47:G76) -> 2485 | H77: =SUBTOTAL(9,H47:H76) -> 0 | I77: =SUBTOTAL(9,I47:I76) -> 0 | J77: =SUBTOTAL(9,J47:J76) -> 54 | K77: =SUBTOTAL(9,K47:K76) -> 108 | L77: =SUBTOTAL(9,L47:L76) -> 861 | ... CI77: =SUBTOTAL(9,CI47:CI76) -> 37
A78: Всеволожский | B78: МДОБУ "ДСКВ "Южный" г.Всеволожска | C78: город | D78: детей | E78: =F78+G78 -> 210 | F78: =BZ78+CB78+CD78+CF78+CH78 -> 0 | G78: =CA78+CC78+CE78+CG78+CI78 -> 210 | M78: 210 | BZ78: =H78+R78+AB78+AL78+AV78+BF78+BP78 -> 0 | CA78: =I78+S78+AC78+AM78+AW78+BG78+BQ78 -> 0 | CB78: =J78+T78+AD78+AN78+AX78+BH78+BR78 -> 0 | CC78: =K78+U78+AE78+AO78+AY78+BI78+BS78 -> 0 | CD78: =L78+V78+AF78+AP78+AZ78+BJ78+BT78 -> 0 | CE78: =M78+W78+AG78+AQ78+BA78+BK78+BU78 -> 210 | CF78: =N78+X78+AH78+AR78+BB78+BL78+BV78 -> 0 | CG78: =O78+Y78+AI78+AS78+BC78+BM78+BW78 -> 0 | ... CI78: =Q78+AA78+AK78+AU78+BE78+BO78+BY78 -> 0
A79: Всеволожский | B79: МДОУ "ЦРР - д./с № 4" г.Всеволожска | C79: город | D79: детей | E79: =F79+G79 -> 334 | F79: =BZ79+CB79+CD79+CF79+CH79 -> 0 | G79: =CA79+CC79+CE79+CG79+CI79 -> 334 | M79: 334 | BZ79: =H79+R79+AB79+AL79+AV79+BF79+BP79 -> 0 | CA79: =I79+S79+AC79+AM79+AW79+BG79+BQ79 -> 0 | CB79: =J79+T79+AD79+AN79+AX79+BH79+BR79 -> 0 | CC79: =K79+U79+AE79+AO79+AY79+BI79+BS79 -> 0 | CD79: =L79+V79+AF79+AP79+AZ79+BJ79+BT79 -> 0 | CE79: =M79+W79+AG79+AQ79+BA79+BK79+BU79 -> 334 | CF79: =N79+X79+AH79+AR79+BB79+BL79+BV79 -> 0 | CG79: =O79+Y79+AI79+AS79+BC79+BM79+BW79 -> 0 | ... CI79: =Q79+AA79+AK79+AU79+BE79+BO79+BY79 -> 0
A80: Всеволожский | B80: МДОБУ "ДСКВ № 6" г.Всеволожска | C80: город | D80: детей | E80: =F80+G80 -> 336 | F80: =BZ80+CB80+CD80+CF80+CH80 -> 0 | G80: =CA80+CC80+CE80+CG80+CI80 -> 336 | M80: 336 | BZ80: =H80+R80+AB80+AL80+AV80+BF80+BP80 -> 0 | CA80: =I80+S80+AC80+AM80+AW80+BG80+BQ80 -> 0 | CB80: =J80+T80+AD80+AN80+AX80+BH80+BR80 -> 0 | CC80: =K80+U80+AE80+AO80+AY80+BI80+BS80 -> 0 | CD80: =L80+V80+AF80+AP80+AZ80+BJ80+BT80 -> 0 | CE80: =M80+W80+AG80+AQ80+BA80+BK80+BU80 -> 336 | CF80: =N80+X80+AH80+AR80+BB80+BL80+BV80 -> 0 | CG80: =O80+Y80+AI80+AS80+BC80+BM80+BW80 -> 0 | ... CI80: =Q80+AA80+AK80+AU80+BE80+BO80+BY80 -> 0
A81: Всеволожский | B81: МДОБУ "ДСКВ № 10" г.Всеволожска | C81: город | D81: детей | E81: =F81+G81 -> 162 | F81: =BZ81+CB81+CD81+CF81+CH81 -> 0 | G81: =CA81+CC81+CE81+CG81+CI81 -> 162 | M81: 162 | BZ81: =H81+R81+AB81+AL81+AV81+BF81+BP81 -> 0 | CA81: =I81+S81+AC81+AM81+AW81+BG81+BQ81 -> 0 | CB81: =J81+T81+AD81+AN81+AX81+BH81+BR81 -> 0 | CC81: =K81+U81+AE81+AO81+AY81+BI81+BS81 -> 0 | CD81: =L81+V81+AF81+AP81+AZ81+BJ81+BT81 -> 0 | CE81: =M81+W81+AG81+AQ81+BA81+BK81+BU81 -> 162 | CF81: =N81+X81+AH81+AR81+BB81+BL81+BV81 -> 0 | CG81: =O81+Y81+AI81+AS81+BC81+BM81+BW81 -> 0 | ... CI81: =Q81+AA81+AK81+AU81+BE81+BO81+BY81 -> 0
A82: Всеволожский | B82: МДОБУ "Морозовский ДСКВ" | C82: пгт | D82: детей | E82: =F82+G82 -> 434 | F82: =BZ82+CB82+CD82+CF82+CH82 -> 84 | G82: =CA82+CC82+CE82+CG82+CI82 -> 350 | L82: 84 | M82: 350 | BZ82: =H82+R82+AB82+AL82+AV82+BF82+BP82 -> 0 | CA82: =I82+S82+AC82+AM82+AW82+BG82+BQ82 -> 0 | CB82: =J82+T82+AD82+AN82+AX82+BH82+BR82 -> 0 | CC82: =K82+U82+AE82+AO82+AY82+BI82+BS82 -> 0 | CD82: =L82+V82+AF82+AP82+AZ82+BJ82+BT82 -> 84 | CE82: =M82+W82+AG82+AQ82+BA82+BK82+BU82 -> 350 | CF82: =N82+X82+AH82+AR82+BB82+BL82+BV82 -> 0 | CG82: =O82+Y82+AI82+AS82+BC82+BM82+BW82 -> 0 | ... CI82: =Q82+AA82+AK82+AU82+BE82+BO82+BY82 -> 0
A83: Всеволожский | B83: МДОБУ "Кузьмоловский ДСКВ" | C83: пгт | D83: детей | E83: =F83+G83 -> 342 | F83: =BZ83+CB83+CD83+CF83+CH83 -> 19 | G83: =CA83+CC83+CE83+CG83+CI83 -> 323 | L83: 19 | M83: 323 | BZ83: =H83+R83+AB83+AL83+AV83+BF83+BP83 -> 0 | CA83: =I83+S83+AC83+AM83+AW83+BG83+BQ83 -> 0 | CB83: =J83+T83+AD83+AN83+AX83+BH83+BR83 -> 0 | CC83: =K83+U83+AE83+AO83+AY83+BI83+BS83 -> 0 | CD83: =L83+V83+AF83+AP83+AZ83+BJ83+BT83 -> 19 | CE83: =M83+W83+AG83+AQ83+BA83+BK83+BU83 -> 323 | CF83: =N83+X83+AH83+AR83+BB83+BL83+BV83 -> 0 | CG83: =O83+Y83+AI83+AS83+BC83+BM83+BW83 -> 0 | ... CI83: =Q83+AA83+AK83+AU83+BE83+BO83+BY83 -> 0
A84: Всеволожский | B84: МДОУ "ДСКВ № 12" п. Романовка | C84: село | D84: детей | E84: =F84+G84 -> 304 | F84: =BZ84+CB84+CD84+CF84+CH84 -> 0 | G84: =CA84+CC84+CE84+CG84+CI84 -> 304 | M84: 304 | BZ84: =H84+R84+AB84+AL84+AV84+BF84+BP84 -> 0 | CA84: =I84+S84+AC84+AM84+AW84+BG84+BQ84 -> 0 | CB84: =J84+T84+AD84+AN84+AX84+BH84+BR84 -> 0 | CC84: =K84+U84+AE84+AO84+AY84+BI84+BS84 -> 0 | CD84: =L84+V84+AF84+AP84+AZ84+BJ84+BT84 -> 0 | CE84: =M84+W84+AG84+AQ84+BA84+BK84+BU84 -> 304 | CF84: =N84+X84+AH84+AR84+BB84+BL84+BV84 -> 0 | CG84: =O84+Y84+AI84+AS84+BC84+BM84+BW84 -> 0 | ... CI84: =Q84+AA84+AK84+AU84+BE84+BO84+BY84 -> 0
A85: Всеволожский | B85: МДОУ "ДСКВ № 13" п.Щеглово | C85: село | D85: детей | E85: =F85+G85 -> 243 | F85: =BZ85+CB85+CD85+CF85+CH85 -> 26 | G85: =CA85+CC85+CE85+CG85+CI85 -> 217 | L85: 26 | M85: 217 | BZ85: =H85+R85+AB85+AL85+AV85+BF85+BP85 -> 0 | CA85: =I85+S85+AC85+AM85+AW85+BG85+BQ85 -> 0 | CB85: =J85+T85+AD85+AN85+AX85+BH85+BR85 -> 0 | CC85: =K85+U85+AE85+AO85+AY85+BI85+BS85 -> 0 | CD85: =L85+V85+AF85+AP85+AZ85+BJ85+BT85 -> 26 | CE85: =M85+W85+AG85+AQ85+BA85+BK85+BU85 -> 217 | CF85: =N85+X85+AH85+AR85+BB85+BL85+BV85 -> 0 | CG85: =O85+Y85+AI85+AS85+BC85+BM85+BW85 -> 0 | ... CI85: =Q85+AA85+AK85+AU85+BE85+BO85+BY85 -> 0
A86: Всеволожский | B86: МАДОУ "ДСКВ № 35" п.Бугры | C86: село | D86: детей | E86: =F86+G86 -> 167 | F86: =BZ86+CB86+CD86+CF86+CH86 -> 27 | G86: =CA86+CC86+CE86+CG86+CI86 -> 140 | L86: 27 | M86: 140 | BZ86: =H86+R86+AB86+AL86+AV86+BF86+BP86 -> 0 | CA86: =I86+S86+AC86+AM86+AW86+BG86+BQ86 -> 0 | CB86: =J86+T86+AD86+AN86+AX86+BH86+BR86 -> 0 | CC86: =K86+U86+AE86+AO86+AY86+BI86+BS86 -> 0 | CD86: =L86+V86+AF86+AP86+AZ86+BJ86+BT86 -> 27 | CE86: =M86+W86+AG86+AQ86+BA86+BK86+BU86 -> 140 | CF86: =N86+X86+AH86+AR86+BB86+BL86+BV86 -> 0 | CG86: =O86+Y86+AI86+AS86+BC86+BM86+BW86 -> 0 | ... CI86: =Q86+AA86+AK86+AU86+BE86+BO86+BY86 -> 0
A87: Всеволожский | B87: МАДОУ "ДСКВ № 28" п.Лупполово | C87: село | D87: детей | E87: =F87+G87 -> 186 | F87: =BZ87+CB87+CD87+CF87+CH87 -> 0 | G87: =CA87+CC87+CE87+CG87+CI87 -> 186 | M87: 186 | BZ87: =H87+R87+AB87+AL87+AV87+BF87+BP87 -> 0 | CA87: =I87+S87+AC87+AM87+AW87+BG87+BQ87 -> 0 | CB87: =J87+T87+AD87+AN87+AX87+BH87+BR87 -> 0 | CC87: =K87+U87+AE87+AO87+AY87+BI87+BS87 -> 0 | CD87: =L87+V87+AF87+AP87+AZ87+BJ87+BT87 -> 0 | CE87: =M87+W87+AG87+AQ87+BA87+BK87+BU87 -> 186 | CF87: =N87+X87+AH87+AR87+BB87+BL87+BV87 -> 0 | CG87: =O87+Y87+AI87+AS87+BC87+BM87+BW87 -> 0 | ... CI87: =Q87+AA87+AK87+AU87+BE87+BO87+BY87 -> 0
A88: Всеволожский | B88: МДОУ "ДСКВ № 59" д.Новое Девяткино | C88: село | D88: детей | E88: =F88+G88 -> 271 | F88: =BZ88+CB88+CD88+CF88+CH88 -> 22 | G88: =CA88+CC88+CE88+CG88+CI88 -> 249 | L88: 22 | M88: 249 | BZ88: =H88+R88+AB88+AL88+AV88+BF88+BP88 -> 0 | CA88: =I88+S88+AC88+AM88+AW88+BG88+BQ88 -> 0 | CB88: =J88+T88+AD88+AN88+AX88+BH88+BR88 -> 0 | CC88: =K88+U88+AE88+AO88+AY88+BI88+BS88 -> 0 | CD88: =L88+V88+AF88+AP88+AZ88+BJ88+BT88 -> 22 | CE88: =M88+W88+AG88+AQ88+BA88+BK88+BU88 -> 249 | CF88: =N88+X88+AH88+AR88+BB88+BL88+BV88 -> 0 | CG88: =O88+Y88+AI88+AS88+BC88+BM88+BW88 -> 0 | ... CI88: =Q88+AA88+AK88+AU88+BE88+BO88+BY88 -> 0
A89: Всеволожский | B89: МДОБУ "ДСКВ № 61" Медвежий Стан | C89: село | D89: детей | E89: =F89+G89 -> 834 | F89: =BZ89+CB89+CD89+CF89+CH89 -> 82 | G89: =CA89+CC89+CE89+CG89+CI89 -> 752 | H89: 62 | L89: 20 | M89: 752 | BZ89: =H89+R89+AB89+AL89+AV89+BF89+BP89 -> 62 | CA89: =I89+S89+AC89+AM89+AW89+BG89+BQ89 -> 0 | CB89: =J89+T89+AD89+AN89+AX89+BH89+BR89 -> 0 | CC89: =K89+U89+AE89+AO89+AY89+BI89+BS89 -> 0 | CD89: =L89+V89+AF89+AP89+AZ89+BJ89+BT89 -> 20 | CE89: =M89+W89+AG89+AQ89+BA89+BK89+BU89 -> 752 | CF89: =N89+X89+AH89+AR89+BB89+BL89+BV89 -> 0 | CG89: =O89+Y89+AI89+AS89+BC89+BM89+BW89 -> 0 | ... CI89: =Q89+AA89+AK89+AU89+BE89+BO89+BY89 -> 0
A90: Всеволожский | B90: МДОУ "ДСКВ № 62" д.Старая | C90: село | D90: детей | E90: =F90+G90 -> 304 | F90: =BZ90+CB90+CD90+CF90+CH90 -> 0 | G90: =CA90+CC90+CE90+CG90+CI90 -> 304 | M90: 304 | BZ90: =H90+R90+AB90+AL90+AV90+BF90+BP90 -> 0 | CA90: =I90+S90+AC90+AM90+AW90+BG90+BQ90 -> 0 | CB90: =J90+T90+AD90+AN90+AX90+BH90+BR90 -> 0 | CC90: =K90+U90+AE90+AO90+AY90+BI90+BS90 -> 0 | CD90: =L90+V90+AF90+AP90+AZ90+BJ90+BT90 -> 0 | CE90: =M90+W90+AG90+AQ90+BA90+BK90+BU90 -> 304 | CF90: =N90+X90+AH90+AR90+BB90+BL90+BV90 -> 0 | CG90: =O90+Y90+AI90+AS90+BC90+BM90+BW90 -> 0 | ... CI90: =Q90+AA90+AK90+AU90+BE90+BO90+BY90 -> 0
A91: Всеволожский | B91: МДОБУ "Васкеловский ДСКВ" | C91: село | D91: детей | E91: =F91+G91 -> 90 | F91: =BZ91+CB91+CD91+CF91+CH91 -> 25 | G91: =CA91+CC91+CE91+CG91+CI91 -> 65 | L91: 25 | M91: 65 | BZ91: =H91+R91+AB91+AL91+AV91+BF91+BP91 -> 0 | CA91: =I91+S91+AC91+AM91+AW91+BG91+BQ91 -> 0 | CB91: =J91+T91+AD91+AN91+AX91+BH91+BR91 -> 0 | CC91: =K91+U91+AE91+AO91+AY91+BI91+BS91 -> 0 | CD91: =L91+V91+AF91+AP91+AZ91+BJ91+BT91 -> 25 | CE91: =M91+W91+AG91+AQ91+BA91+BK91+BU91 -> 65 | CF91: =N91+X91+AH91+AR91+BB91+BL91+BV91 -> 0 | CG91: =O91+Y91+AI91+AS91+BC91+BM91+BW91 -> 0 | ... CI91: =Q91+AA91+AK91+AU91+BE91+BO91+BY91 -> 0
A92: Всеволожский | B92: МДОБУ "Агалатовский ДСКВ №1" | C92: село | D92: детей | E92: =F92+G92 -> 287 | F92: =BZ92+CB92+CD92+CF92+CH92 -> 0 | G92: =CA92+CC92+CE92+CG92+CI92 -> 287 | M92: 287 | BZ92: =H92+R92+AB92+AL92+AV92+BF92+BP92 -> 0 | CA92: =I92+S92+AC92+AM92+AW92+BG92+BQ92 -> 0 | CB92: =J92+T92+AD92+AN92+AX92+BH92+BR92 -> 0 | CC92: =K92+U92+AE92+AO92+AY92+BI92+BS92 -> 0 | CD92: =L92+V92+AF92+AP92+AZ92+BJ92+BT92 -> 0 | CE92: =M92+W92+AG92+AQ92+BA92+BK92+BU92 -> 287 | CF92: =N92+X92+AH92+AR92+BB92+BL92+BV92 -> 0 | CG92: =O92+Y92+AI92+AS92+BC92+BM92+BW92 -> 0 | ... CI92: =Q92+AA92+AK92+AU92+BE92+BO92+BY92 -> 0
A93: Всеволожский | B93: МДОБУ "Сертоловский ДСКВ № 1" | C93: город | D93: детей | E93: =F93+G93 -> 200 | F93: =BZ93+CB93+CD93+CF93+CH93 -> 0 | G93: =CA93+CC93+CE93+CG93+CI93 -> 200 | M93: 200 | BZ93: =H93+R93+AB93+AL93+AV93+BF93+BP93 -> 0 | CA93: =I93+S93+AC93+AM93+AW93+BG93+BQ93 -> 0 | CB93: =J93+T93+AD93+AN93+AX93+BH93+BR93 -> 0 | CC93: =K93+U93+AE93+AO93+AY93+BI93+BS93 -> 0 | CD93: =L93+V93+AF93+AP93+AZ93+BJ93+BT93 -> 0 | CE93: =M93+W93+AG93+AQ93+BA93+BK93+BU93 -> 200 | CF93: =N93+X93+AH93+AR93+BB93+BL93+BV93 -> 0 | CG93: =O93+Y93+AI93+AS93+BC93+BM93+BW93 -> 0 | ... CI93: =Q93+AA93+AK93+AU93+BE93+BO93+BY93 -> 0
A94: Всеволожский | B94: МДОБУ "Сертоловский ДСКВ № 2" | C94: город | D94: детей | E94: =F94+G94 -> 440 | F94: =BZ94+CB94+CD94+CF94+CH94 -> 40 | G94: =CA94+CC94+CE94+CG94+CI94 -> 400 | L94: 40 | M94: 400 | BZ94: =H94+R94+AB94+AL94+AV94+BF94+BP94 -> 0 | CA94: =I94+S94+AC94+AM94+AW94+BG94+BQ94 -> 0 | CB94: =J94+T94+AD94+AN94+AX94+BH94+BR94 -> 0 | CC94: =K94+U94+AE94+AO94+AY94+BI94+BS94 -> 0 | CD94: =L94+V94+AF94+AP94+AZ94+BJ94+BT94 -> 40 | CE94: =M94+W94+AG94+AQ94+BA94+BK94+BU94 -> 400 | CF94: =N94+X94+AH94+AR94+BB94+BL94+BV94 -> 0 | CG94: =O94+Y94+AI94+AS94+BC94+BM94+BW94 -> 0 | ... CI94: =Q94+AA94+AK94+AU94+BE94+BO94+BY94 -> 0
A95: Всеволожский | B95: МДОБУ "Сертоловский ДСКВ № 3" | C95: город | D95: детей | E95: =F95+G95 -> 223 | F95: =BZ95+CB95+CD95+CF95+CH95 -> 23 | G95: =CA95+CC95+CE95+CG95+CI95 -> 200 | L95: 23 | M95: 200 | BZ95: =H95+R95+AB95+AL95+AV95+BF95+BP95 -> 0 | CA95: =I95+S95+AC95+AM95+AW95+BG95+BQ95 -> 0 | CB95: =J95+T95+AD95+AN95+AX95+BH95+BR95 -> 0 | CC95: =K95+U95+AE95+AO95+AY95+BI95+BS95 -> 0 | CD95: =L95+V95+AF95+AP95+AZ95+BJ95+BT95 -> 23 | CE95: =M95+W95+AG95+AQ95+BA95+BK95+BU95 -> 200 | CF95: =N95+X95+AH95+AR95+BB95+BL95+BV95 -> 0 | CG95: =O95+Y95+AI95+AS95+BC95+BM95+BW95 -> 0 | ... CI95: =Q95+AA95+AK95+AU95+BE95+BO95+BY95 -> 0
A96: Всеволожский | B96: МДОБУ "Чернореченский ДСКВ" | C96: город | D96: детей | E96: =F96+G96 -> 158 | F96: =BZ96+CB96+CD96+CF96+CH96 -> 0 | G96: =CA96+CC96+CE96+CG96+CI96 -> 158 | M96: 158 | BZ96: =H96+R96+AB96+AL96+AV96+BF96+BP96 -> 0 | CA96: =I96+S96+AC96+AM96+AW96+BG96+BQ96 -> 0 | CB96: =J96+T96+AD96+AN96+AX96+BH96+BR96 -> 0 | CC96: =K96+U96+AE96+AO96+AY96+BI96+BS96 -> 0 | CD96: =L96+V96+AF96+AP96+AZ96+BJ96+BT96 -> 0 | CE96: =M96+W96+AG96+AQ96+BA96+BK96+BU96 -> 158 | CF96: =N96+X96+AH96+AR96+BB96+BL96+BV96 -> 0 | CG96: =O96+Y96+AI96+AS96+BC96+BM96+BW96 -> 0 | ... CI96: =Q96+AA96+AK96+AU96+BE96+BO96+BY96 -> 0
A97: Всеволожский | B97: МДОБУ "Ново-Девяткинский ДСКВ №1" | C97: село | D97: детей | E97: =F97+G97 -> 251 | F97: =BZ97+CB97+CD97+CF97+CH97 -> 22 | G97: =CA97+CC97+CE97+CG97+CI97 -> 229 | L97: 22 | M97: 229 | BZ97: =H97+R97+AB97+AL97+AV97+BF97+BP97 -> 0 | CA97: =I97+S97+AC97+AM97+AW97+BG97+BQ97 -> 0 | CB97: =J97+T97+AD97+AN97+AX97+BH97+BR97 -> 0 | CC97: =K97+U97+AE97+AO97+AY97+BI97+BS97 -> 0 | CD97: =L97+V97+AF97+AP97+AZ97+BJ97+BT97 -> 22 | CE97: =M97+W97+AG97+AQ97+BA97+BK97+BU97 -> 229 | CF97: =N97+X97+AH97+AR97+BB97+BL97+BV97 -> 0 | CG97: =O97+Y97+AI97+AS97+BC97+BM97+BW97 -> 0 | ... CI97: =Q97+AA97+AK97+AU97+BE97+BO97+BY97 -> 0
A98: Всеволожский | B98: МДОБУ "Муринский ДСКВ № 1" | C98: город | D98: детей | E98: =F98+G98 -> 208 | F98: =BZ98+CB98+CD98+CF98+CH98 -> 26 | G98: =CA98+CC98+CE98+CG98+CI98 -> 182 | L98: 26 | M98: 182 | BZ98: =H98+R98+AB98+AL98+AV98+BF98+BP98 -> 0 | CA98: =I98+S98+AC98+AM98+AW98+BG98+BQ98 -> 0 | CB98: =J98+T98+AD98+AN98+AX98+BH98+BR98 -> 0 | CC98: =K98+U98+AE98+AO98+AY98+BI98+BS98 -> 0 | CD98: =L98+V98+AF98+AP98+AZ98+BJ98+BT98 -> 26 | CE98: =M98+W98+AG98+AQ98+BA98+BK98+BU98 -> 182 | CF98: =N98+X98+AH98+AR98+BB98+BL98+BV98 -> 0 | CG98: =O98+Y98+AI98+AS98+BC98+BM98+BW98 -> 0 | ... CI98: =Q98+AA98+AK98+AU98+BE98+BO98+BY98 -> 0
A99: Всеволожский | B99: МОБУ "СОШ "Муринский ЦО № 1" | C99: город | D99: детей | E99: =F99+G99 -> 603 | F99: =BZ99+CB99+CD99+CF99+CH99 -> 0 | G99: =CA99+CC99+CE99+CG99+CI99 -> 603 | M99: 603 | BZ99: =H99+R99+AB99+AL99+AV99+BF99+BP99 -> 0 | CA99: =I99+S99+AC99+AM99+AW99+BG99+BQ99 -> 0 | CB99: =J99+T99+AD99+AN99+AX99+BH99+BR99 -> 0 | CC99: =K99+U99+AE99+AO99+AY99+BI99+BS99 -> 0 | CD99: =L99+V99+AF99+AP99+AZ99+BJ99+BT99 -> 0 | CE99: =M99+W99+AG99+AQ99+BA99+BK99+BU99 -> 603 | CF99: =N99+X99+AH99+AR99+BB99+BL99+BV99 -> 0 | CG99: =O99+Y99+AI99+AS99+BC99+BM99+BW99 -> 0 | ... CI99: =Q99+AA99+AK99+AU99+BE99+BO99+BY99 -> 0
A100: Всеволожский | B100: МДОБУ "ДСКВ № 1" г. Всеволожска | C100: город | D100: детей | E100: =F100+G100 -> 120 | F100: =BZ100+CB100+CD100+CF100+CH100 -> 0 | G100: =CA100+CC100+CE100+CG100+CI100 -> 120 | M100: 120 | BZ100: =H100+R100+AB100+AL100+AV100+BF100+BP100 -> 0 | CA100: =I100+S100+AC100+AM100+AW100+BG100+BQ100 -> 0 | CB100: =J100+T100+AD100+AN100+AX100+BH100+BR100 -> 0 | CC100: =K100+U100+AE100+AO100+AY100+BI100+BS100 -> 0 | CD100: =L100+V100+AF100+AP100+AZ100+BJ100+BT100 -> 0 | CE100: =M100+W100+AG100+AQ100+BA100+BK100+BU100 -> 120 | CF100: =N100+X100+AH100+AR100+BB100+BL100+BV100 -> 0 | CG100: =O100+Y100+AI100+AS100+BC100+BM100+BW100 -> 0 | ... CI100: =Q100+AA100+AK100+AU100+BE100+BO100+BY100 -> 0
A101: Всеволожский | B101: МДОБУ "ДСКВ № 2" г. Всеволожска | C101: город | D101: детей | E101: =F101+G101 -> 258 | F101: =BZ101+CB101+CD101+CF101+CH101 -> 40 | G101: =CA101+CC101+CE101+CG101+CI101 -> 218 | H101: 20 | L101: 20 | M101: 218 | BZ101: =H101+R101+AB101+AL101+AV101+BF101+BP101 -> 20 | CA101: =I101+S101+AC101+AM101+AW101+BG101+BQ101 -> 0 | CB101: =J101+T101+AD101+AN101+AX101+BH101+BR101 -> 0 | CC101: =K101+U101+AE101+AO101+AY101+BI101+BS101 -> 0 | CD101: =L101+V101+AF101+AP101+AZ101+BJ101+BT101 -> 20 | CE101: =M101+W101+AG101+AQ101+BA101+BK101+BU101 -> 218 | CF101: =N101+X101+AH101+AR101+BB101+BL101+BV101 -> 0 | CG101: =O101+Y101+AI101+AS101+BC101+BM101+BW101 -> 0 | ... CI101: =Q101+AA101+AK101+AU101+BE101+BO101+BY101 -> 0
...

Sheet гр.компен.направ.
B1: Наименвание образовательного учреждения | C1: Тип месторасположения (город, село, ПГТ) | E1: Всего детей/ групп | F1: в том числе | H1: группы компенсирующей направленности для детей с тяжелыми нарушениями речи | R1: группы компенсирующей направленности для детей с фонетико-фонематическими нарушениями речи | AB1: группы компенсирующей направленности для глухих детей | AL1: группы компенсирующей направленности для слабослышащих | AV1: группы компенсирующей направленности для слепых детей | BF1: группы компенсирующей направленности для слабовидящих детей, детей с амблиопией, косоглазием | BP1: группы компенсирующей направленности для детей с нарушениями опорно-двигательного аппарата | BZ1: группы компенсирующей направленности для детей с задержкой психического развития | CJ1: группы компенсирующей направленности для детей с умственной отсталостью легкой степени | CT1: группы компенсирующей направленности для детей с умственной отсталостью умеренной, тяжелой | DD1: группы компенсирующей направленности для детей с аутизмом | DN1: группы компенсирующей направленности для детей со сложным дефектом (имеющих сочетание 2 или более недостатков в физическом и (или) психическом развитии) | DX1: группы компенсирующей направленности для детей с иными ограниченными возможностями здоровья | EH1: ВСЕГО
H2: кратковременного пребывания | J2: сокращенного дня | L2: полного дня | N2: продленного дня | P2: круглосуточным пребыванием | R2: кратковременного пребывания | T2: сокращенного дня | V2: полного дня | X2: продленного дня | Z2: круглосуточным пребыванием | AB2: кратковременного пребывания | AD2: сокращенного дня | AF2: полного дня | AH2: продленного дня | AJ2: круглосуточным пребыванием | AL2: кратковременного пребывания | AN2: сокращенного дня | AP2: полного дня | AR2: продленного дня | AT2: круглосуточным пребыванием | AV2: кратковременного пребывания | AX2: сокращенного дня | AZ2: полного дня | BB2: продленного дня | BD2: круглосуточным пребыванием | BF2: кратковременного пребывания | BH2: сокращенного дня | BJ2: полного дня | BL2: продленного дня | BN2: круглосуточным пребыванием | BP2: кратковременного пребывания | BR2: сокращенного дня | BT2: полного дня | BV2: продленного дня | BX2: круглосуточным пребыванием | BZ2: кратковременного пребывания | CB2: сокращенного дня | CD2: полного дня | CF2: продленного дня | CH2: круглосуточным пребыванием | CJ2: кратковременного пребывания | CL2: сокращенного дня | CN2: полного дня | CP2: продленного дня | CR2: круглосуточным пребыванием | CT2: кратковременного пребывания | CV2: сокращенного дня | CX2: полного дня | CZ2: продленного дня | DB2: круглосуточным пребыванием | DD2: кратковременного пребывания | DF2: сокращенного дня | DH2: полного дня | DJ2: продленного дня | DL2: круглосуточным пребыванием | DN2: кратковременного пребывания | DP2: сокращенного дня | DR2: полного дня | DT2: продленного дня | DV2: круглосуточным пребыванием | DX2: кратковременного пребывания | DZ2: сокращенного дня | EB2: полного дня | ED2: продленного дня | EF2: круглосуточным пребыванием | EH2: кратковременного пребывания | EJ2: сокращенного дня | EL2: полного дня | EN2: продленного дня | EP2: круглосуточным пребыванием
H3: до 5 часов | J3: 8 - 10,5 часов | L3: 12 часов | N3: 13 - 14 часов | P3: 24 часа | R3: до 5 часов | T3: 8 - 10,5 часов | V3: 12 часов | X3: 13 - 14 часов | Z3: 24 часа | AB3: до 5 часов | AD3: 8 - 10 часов | AF3: 10,5 - 12 часов | AH3: 13 - 14 часов | AJ3: 24 часа | AL3: до 5 часов | AN3: 8 - 10 часов | AP3: 10,5 - 12 часов | AR3: 13 - 14 часов | AT3: 24 часа | AV3: до 5 часов | AX3: 8 - 10 часов | AZ3: 10,5 - 12 часов | BB3: 13 - 14 часов | BD3: 24 часа | BF3: до 5 часов | BH3: 8 - 10,5 часов | BJ3: 12 часов | BL3: 13 - 14 часов | BN3: 24 часа | BP3: до 5 часов | BR3: 8 - 10,5 часов | BT3: 12 часов | BV3: 13 - 14 часов | BX3: 24 часа | BZ3: до 5 часов | CB3: 8 - 10,5 часов | CD3: 12 часов | CF3: 13 - 14 часов | CH3: 24 часа | CJ3: до 5 часов | CL3: 8 - 10,5 часов | CN3: 10,5 - 12 часов | CP3: 13 - 14 часов | CR3: 24 часа | CT3: до 5 часов | CV3: 8 - 10 часов | CX3: 10,5 - 12 часов | CZ3: 13 - 14 часов | DB3: 24 часа | DD3: до 5 часов | DF3: 8 - 10 часов | DH3: 10,5 - 12 часов | DJ3: 13 - 14 часов | DL3: 24 часа | DN3: до 5 часов | DP3: 8 - 10,5 часов | DR3: 12 часов | DT3: 13 - 14 часов | DV3: 24 часа | DX3: до 5 часов | DZ3: 8 - 10,5 часов | EB3: 12 часов | ED3: 13 - 14 часов | EF3: 24 часа | EH3: до 5 часов | EJ3: 8 - 10,5 часов | EL3: 12 часов | EN3: 13 - 14 часов | EP3: 24 часа
B5: Нормативная наполняемость в группах | H5: 6 | I5: 10 | J5: 6 | K5: 10 | L5: 6 | M5: 10 | N5: 6 | O5: 10 | P5: 6 | Q5: 10 | R5: х | S5: 12 | T5: х | U5: 12 | V5: х | W5: 12 | X5: х | Y5: 12 | Z5: х | AA5: 12 | AB5: 6 | AC5: 6 | AD5: 6 | AE5: 6 | AF5: 6 | AG5: 6 | AH5: 6 | AI5: 6 | AJ5: 6 | AK5: 6 | AL5: 6 | AM5: 8 | AN5: 6 | AO5: 8 | AP5: 6 | AQ5: 8 | AR5: 6 | AS5: 8 | AT5: 6 | AU5: 8 | AV5: 6 | AW5: 6 | AX5: 6 | AY5: 6 | AZ5: 6 | BA5: 6 | BB5: 6 | BC5: 6 | BD5: 6 | BE5: 6 | BF5: 6 | BG5: 10 | BH5: 6 | BI5: 10 | BJ5: 6 | BK5: 10 | BL5: 6 | BM5: 10 | BN5: 6 | BO5: 10 | BP5: 6 | BQ5: 8 | BR5: 6 | BS5: 8 | BT5: 6 | BU5: 8 | BV5: 6 | BW5: 8 | BX5: 6 | BY5: 8 | BZ5: 6 | CA5: 10 | CB5: 6 | CC5: 10 | CD5: 6 | CE5: 10 | CF5: 6 | CG5: 10 | CH5: 6 | CI5: 10 | CJ5: 6 | CK5: 10 | CL5: 6 | CM5: 10 | CN5: 6 | CO5: 10 | CP5: 6 | CQ5: 10 | CR5: 6 | CS5: 10 | CT5: Х | CU5: 8 | CV5: Х | CW5: 8 | CX5: Х | CY5: 8 | CZ5: Х | DA5: 8 | DB5: Х | DC5: 8 | DD5: Х | DE5: 5 | DF5: Х | DG5: 5 | DH5: Х | DI5: 5 | DJ5: Х | DK5: 5 | DL5: Х | DM5: 5 | DN5: 5 | DO5: 5 | DP5: 5 | DQ5: 5 | DR5: 5 | DS5: 5 | DT5: 5 | DU5: 5 | DV5: 5 | DW5: 5 | DX5: 10 | DY5: 15 | DZ5: 10 | EA5: 15 | EB5: 10 | EC5: 15 | ED5: 10 | EE5: 15 | EF5: 10 | EG5: 15
A6: МР | B6: Наименование ОУ | C6: Тип | D6: ед. | E6: Всего | F6: до 3 лет | G6: старше 3 лет | H6: до 3 лет | I6: старше 3 лет | J6: до 3 лет | K6: старше 3 лет | L6: до 3 лет | M6: старше 3 лет | N6: до 3 лет | O6: старше 3 лет | P6: до 3 лет | Q6: старше 3 лет | R6: до 3 лет | S6: старше 3 лет | T6: до 3 лет | U6: старше 3 лет | V6: до 3 лет | W6: старше 3 лет | X6: до 3 лет | Y6: старше 3 лет | Z6: до 3 лет | AA6: старше 3 лет | AB6: до 3 лет | AC6: старше 3 лет | AD6: до 3 лет | AE6: старше 3 лет | AF6: до 3 лет | AG6: старше 3 лет | AH6: до 3 лет | AI6: старше 3 лет | AJ6: до 3 лет | AK6: старше 3 лет | AL6: до 3 лет | AM6: старше 3 лет | AN6: до 3 лет | AO6: старше 3 лет | AP6: до 3 лет | AQ6: старше 3 лет | AR6: до 3 лет | AS6: старше 3 лет | AT6: до 3 лет | AU6: старше 3 лет | AV6: до 3 лет | AW6: старше 3 лет | AX6: до 3 лет | AY6: старше 3 лет | AZ6: до 3 лет | BA6: старше 3 лет | BB6: до 3 лет | BC6: старше 3 лет | BD6: до 3 лет | BE6: старше 3 лет | BF6: до 3 лет | BG6: старше 3 лет | BH6: до 3 лет | BI6: старше 3 лет | BJ6: до 3 лет | BK6: старше 3 лет | BL6: до 3 лет | BM6: старше 3 лет | BN6: до 3 лет | BO6: старше 3 лет | BP6: до 3 лет | BQ6: старше 3 лет | BR6: до 3 лет | BS6: старше 3 лет | BT6: до 3 лет | BU6: старше 3 лет | BV6: до 3 лет | BW6: старше 3 лет | BX6: до 3 лет | BY6: старше 3 лет | BZ6: до 3 лет | CA6: старше 3 лет | CB6: до 3 лет | CC6: старше 3 лет | CD6: до 3 лет | CE6: старше 3 лет | CF6: до 3 лет | CG6: старше 3 лет | CH6: до 3 лет | CI6: старше 3 лет | CJ6: до 3 лет | CK6: старше 3 лет | CL6: до 3 лет | CM6: старше 3 лет | CN6: до 3 лет | CO6: старше 3 лет | CP6: до 3 лет | CQ6: старше 3 лет | CR6: до 3 лет | CS6: старше 3 лет | CT6: до 3 лет | CU6: старше 3 лет | CV6: до 3 лет | CW6: старше 3 лет | CX6: до 3 лет | CY6: старше 3 лет | CZ6: до 3 лет | DA6: старше 3 лет | DB6: до 3 лет | DC6: старше 3 лет | DD6: до 3 лет | DE6: старше 3 лет | DF6: до 3 лет | DG6: старше 3 лет | DH6: до 3 лет | DI6: старше 3 лет | DJ6: до 3 лет | DK6: старше 3 лет | DL6: до 3 лет | DM6: старше 3 лет | DN6: до 3 лет | DO6: старше 3 лет | DP6: до 3 лет | DQ6: старше 3 лет | DR6: до 3 лет | DS6: старше 3 лет | DT6: до 3 лет | DU6: старше 3 лет | DV6: до 3 лет | DW6: старше 3 лет | DX6: до 3 лет | DY6: старше 3 лет | DZ6: до 3 лет | EA6: старше 3 лет | EB6: до 3 лет | EC6: старше 3 лет | ED6: до 3 лет | EE6: старше 3 лет | EF6: до 3 лет | EG6: старше 3 лет | EH6: до 3 лет | EI6: старше 3 лет | EJ6: до 3 лет | EK6: старше 3 лет | EL6: до 3 лет | EM6: старше 3 лет | EN6: до 3 лет | EO6: старше 3 лет | EP6: до 3 лет | EQ6: старше 3 лет
A7: Бокситогорский | B7: МБДОУ Бокситогорский детский сад № 1 | C7: город | D7: детей | E7: =F7+G7 -> 0 | F7: =EH7+EJ7+EL7+EN7+EP7 -> 0 | G7: =EI7+EK7+EM7+EO7+EQ7 -> 0 | EH7: =H7+R7+AB7+AL7+AV7+BF7+BP7+BZ7+CJ7+CT7+DD7+DN7+DX7 -> 0 | EI7: =I7+S7+AC7+AM7+AW7+BG7+BQ7+CA7+CK7+CU7+DE7+DO7+DY7 -> 0 | EJ7: =J7+T7+AD7+AN7+AX7+BH7+BR7+CB7+CL7+CV7+DF7+DP7+DZ7 -> 0 | EK7: =K7+U7+AE7+AO7+AY7+BI7+BS7+CC7+CM7+CW7+DG7+DQ7+EA7 -> 0 | EL7: =L7+V7+AF7+AP7+AZ7+BJ7+BT7+CD7+CN7+CX7+DH7+DR7+EB7 -> 0 | EM7: =M7+W7+AG7+AQ7+BA7+BK7+BU7+CE7+CO7+CY7+DI7+DS7+EC7 -> 0 | EN7: =N7+X7+AH7+AR7+BB7+BL7+BV7+CF7+CP7+CZ7+DJ7+DT7+ED7 -> 0 | EO7: =O7+Y7+AI7+AS7+BC7+BM7+BW7+CG7+CQ7+DA7+DK7+DU7+EE7 -> 0 | ... EQ7: =Q7+AA7+AK7+AU7+BE7+BO7+BY7+CI7+CS7+DC7+DM7+DW7+EG7 -> 0
A8: Бокситогорский | B8: МБДОУ Бокситогорский детский сад № 4 | C8: город | D8: детей | E8: =F8+G8 -> 63 | F8: =EH8+EJ8+EL8+EN8+EP8 -> 0 | G8: =EI8+EK8+EM8+EO8+EQ8 -> 63 | K8: 63 | EH8: =H8+R8+AB8+AL8+AV8+BF8+BP8+BZ8+CJ8+CT8+DD8+DN8+DX8 -> 0 | EI8: =I8+S8+AC8+AM8+AW8+BG8+BQ8+CA8+CK8+CU8+DE8+DO8+DY8 -> 0 | EJ8: =J8+T8+AD8+AN8+AX8+BH8+BR8+CB8+CL8+CV8+DF8+DP8+DZ8 -> 0 | EK8: =K8+U8+AE8+AO8+AY8+BI8+BS8+CC8+CM8+CW8+DG8+DQ8+EA8 -> 63 | EL8: =L8+V8+AF8+AP8+AZ8+BJ8+BT8+CD8+CN8+CX8+DH8+DR8+EB8 -> 0 | EM8: =M8+W8+AG8+AQ8+BA8+BK8+BU8+CE8+CO8+CY8+DI8+DS8+EC8 -> 0 | EN8: =N8+X8+AH8+AR8+BB8+BL8+BV8+CF8+CP8+CZ8+DJ8+DT8+ED8 -> 0 | EO8: =O8+Y8+AI8+AS8+BC8+BM8+BW8+CG8+CQ8+DA8+DK8+DU8+EE8 -> 0 | ... EQ8: =Q8+AA8+AK8+AU8+BE8+BO8+BY8+CI8+CS8+DC8+DM8+DW8+EG8 -> 0
A9: Бокситогорский | B9: МБДОУ Бокситогорский детский сад № 5 | C9: город | D9: детей | E9: =F9+G9 -> 33 | F9: =EH9+EJ9+EL9+EN9+EP9 -> 0 | G9: =EI9+EK9+EM9+EO9+EQ9 -> 33 | K9: 14 | BI9: 19 | EH9: =H9+R9+AB9+AL9+AV9+BF9+BP9+BZ9+CJ9+CT9+DD9+DN9+DX9 -> 0 | EI9: =I9+S9+AC9+AM9+AW9+BG9+BQ9+CA9+CK9+CU9+DE9+DO9+DY9 -> 0 | EJ9: =J9+T9+AD9+AN9+AX9+BH9+BR9+CB9+CL9+CV9+DF9+DP9+DZ9 -> 0 | EK9: =K9+U9+AE9+AO9+AY9+BI9+BS9+CC9+CM9+CW9+DG9+DQ9+EA9 -> 33 | EL9: =L9+V9+AF9+AP9+AZ9+BJ9+BT9+CD9+CN9+CX9+DH9+DR9+EB9 -> 0 | EM9: =M9+W9+AG9+AQ9+BA9+BK9+BU9+CE9+CO9+CY9+DI9+DS9+EC9 -> 0 | EN9: =N9+X9+AH9+AR9+BB9+BL9+BV9+CF9+CP9+CZ9+DJ9+DT9+ED9 -> 0 | EO9: =O9+Y9+AI9+AS9+BC9+BM9+BW9+CG9+CQ9+DA9+DK9+DU9+EE9 -> 0 | ... EQ9: =Q9+AA9+AK9+AU9+BE9+BO9+BY9+CI9+CS9+DC9+DM9+DW9+EG9 -> 0
A10: Бокситогорский | B10: МБДОУ Бокситогорский детский сад № 8 | C10: город | D10: детей | E10: =F10+G10 -> 0 | F10: =EH10+EJ10+EL10+EN10+EP10 -> 0 | G10: =EI10+EK10+EM10+EO10+EQ10 -> 0 | EH10: =H10+R10+AB10+AL10+AV10+BF10+BP10+BZ10+CJ10+CT10+DD10+DN10+DX10 -> 0 | EI10: =I10+S10+AC10+AM10+AW10+BG10+BQ10+CA10+CK10+CU10+DE10+DO10+DY10 -> 0 | EJ10: =J10+T10+AD10+AN10+AX10+BH10+BR10+CB10+CL10+CV10+DF10+DP10+DZ10 -> 0 | EK10: =K10+U10+AE10+AO10+AY10+BI10+BS10+CC10+CM10+CW10+DG10+DQ10+EA10 -> 0 | EL10: =L10+V10+AF10+AP10+AZ10+BJ10+BT10+CD10+CN10+CX10+DH10+DR10+EB10 -> 0 | EM10: =M10+W10+AG10+AQ10+BA10+BK10+BU10+CE10+CO10+CY10+DI10+DS10+EC10 -> 0 | EN10: =N10+X10+AH10+AR10+BB10+BL10+BV10+CF10+CP10+CZ10+DJ10+DT10+ED10 -> 0 | EO10: =O10+Y10+AI10+AS10+BC10+BM10+BW10+CG10+CQ10+DA10+DK10+DU10+EE10 -> 0 | ... EQ10: =Q10+AA10+AK10+AU10+BE10+BO10+BY10+CI10+CS10+DC10+DM10+DW10+EG10 -> 0
A11: Бокситогорский | B11: МБДОУ Детский сад № 2 города Пикалёво | C11: город | D11: детей | E11: =F11+G11 -> 12 | F11: =EH11+EJ11+EL11+EN11+EP11 -> 0 | G11: =EI11+EK11+EM11+EO11+EQ11 -> 12 | K11: 12 | EH11: =H11+R11+AB11+AL11+AV11+BF11+BP11+BZ11+CJ11+CT11+DD11+DN11+DX11 -> 0 | EI11: =I11+S11+AC11+AM11+AW11+BG11+BQ11+CA11+CK11+CU11+DE11+DO11+DY11 -> 0 | EJ11: =J11+T11+AD11+AN11+AX11+BH11+BR11+CB11+CL11+CV11+DF11+DP11+DZ11 -> 0 | EK11: =K11+U11+AE11+AO11+AY11+BI11+BS11+CC11+CM11+CW11+DG11+DQ11+EA11 -> 12 | EL11: =L11+V11+AF11+AP11+AZ11+BJ11+BT11+CD11+CN11+CX11+DH11+DR11+EB11 -> 0 | EM11: =M11+W11+AG11+AQ11+BA11+BK11+BU11+CE11+CO11+CY11+DI11+DS11+EC11 -> 0 | EN11: =N11+X11+AH11+AR11+BB11+BL11+BV11+CF11+CP11+CZ11+DJ11+DT11+ED11 -> 0 | EO11: =O11+Y11+AI11+AS11+BC11+BM11+BW11+CG11+CQ11+DA11+DK11+DU11+EE11 -> 0 | ... EQ11: =Q11+AA11+AK11+AU11+BE11+BO11+BY11+CI11+CS11+DC11+DM11+DW11+EG11 -> 0
A12: Бокситогорский | B12: МБДОУ Детский сад № 3 города Пикалёво | C12: город | D12: детей | E12: =F12+G12 -> 0 | F12: =EH12+EJ12+EL12+EN12+EP12 -> 0 | G12: =EI12+EK12+EM12+EO12+EQ12 -> 0 | EH12: =H12+R12+AB12+AL12+AV12+BF12+BP12+BZ12+CJ12+CT12+DD12+DN12+DX12 -> 0 | EI12: =I12+S12+AC12+AM12+AW12+BG12+BQ12+CA12+CK12+CU12+DE12+DO12+DY12 -> 0 | EJ12: =J12+T12+AD12+AN12+AX12+BH12+BR12+CB12+CL12+CV12+DF12+DP12+DZ12 -> 0 | EK12: =K12+U12+AE12+AO12+AY12+BI12+BS12+CC12+CM12+CW12+DG12+DQ12+EA12 -> 0 | EL12: =L12+V12+AF12+AP12+AZ12+BJ12+BT12+CD12+CN12+CX12+DH12+DR12+EB12 -> 0 | EM12: =M12+W12+AG12+AQ12+BA12+BK12+BU12+CE12+CO12+CY12+DI12+DS12+EC12 -> 0 | EN12: =N12+X12+AH12+AR12+BB12+BL12+BV12+CF12+CP12+CZ12+DJ12+DT12+ED12 -> 0 | EO12: =O12+Y12+AI12+AS12+BC12+BM12+BW12+CG12+CQ12+DA12+DK12+DU12+EE12 -> 0 | ... EQ12: =Q12+AA12+AK12+AU12+BE12+BO12+BY12+CI12+CS12+DC12+DM12+DW12+EG12 -> 0
A13: Бокситогорский | B13: МБДОУ Детский сад № 5 города Пикалёво | C13: город | D13: детей | E13: =F13+G13 -> 30 | F13: =EH13+EJ13+EL13+EN13+EP13 -> 0 | G13: =EI13+EK13+EM13+EO13+EQ13 -> 30 | K13: 30 | EH13: =H13+R13+AB13+AL13+AV13+BF13+BP13+BZ13+CJ13+CT13+DD13+DN13+DX13 -> 0 | EI13: =I13+S13+AC13+AM13+AW13+BG13+BQ13+CA13+CK13+CU13+DE13+DO13+DY13 -> 0 | EJ13: =J13+T13+AD13+AN13+AX13+BH13+BR13+CB13+CL13+CV13+DF13+DP13+DZ13 -> 0 | EK13: =K13+U13+AE13+AO13+AY13+BI13+BS13+CC13+CM13+CW13+DG13+DQ13+EA13 -> 30 | EL13: =L13+V13+AF13+AP13+AZ13+BJ13+BT13+CD13+CN13+CX13+DH13+DR13+EB13 -> 0 | EM13: =M13+W13+AG13+AQ13+BA13+BK13+BU13+CE13+CO13+CY13+DI13+DS13+EC13 -> 0 | EN13: =N13+X13+AH13+AR13+BB13+BL13+BV13+CF13+CP13+CZ13+DJ13+DT13+ED13 -> 0 | EO13: =O13+Y13+AI13+AS13+BC13+BM13+BW13+CG13+CQ13+DA13+DK13+DU13+EE13 -> 0 | ... EQ13: =Q13+AA13+AK13+AU13+BE13+BO13+BY13+CI13+CS13+DC13+DM13+DW13+EG13 -> 0
A14: Бокситогорский | B14: МБДОУ Детский сад № 6 города Пикалёво | C14: город | D14: детей | E14: =F14+G14 -> 15 | F14: =EH14+EJ14+EL14+EN14+EP14 -> 0 | G14: =EI14+EK14+EM14+EO14+EQ14 -> 15 | K14: 15 | EH14: =H14+R14+AB14+AL14+AV14+BF14+BP14+BZ14+CJ14+CT14+DD14+DN14+DX14 -> 0 | EI14: =I14+S14+AC14+AM14+AW14+BG14+BQ14+CA14+CK14+CU14+DE14+DO14+DY14 -> 0 | EJ14: =J14+T14+AD14+AN14+AX14+BH14+BR14+CB14+CL14+CV14+DF14+DP14+DZ14 -> 0 | EK14: =K14+U14+AE14+AO14+AY14+BI14+BS14+CC14+CM14+CW14+DG14+DQ14+EA14 -> 15 | EL14: =L14+V14+AF14+AP14+AZ14+BJ14+BT14+CD14+CN14+CX14+DH14+DR14+EB14 -> 0 | EM14: =M14+W14+AG14+AQ14+BA14+BK14+BU14+CE14+CO14+CY14+DI14+DS14+EC14 -> 0 | EN14: =N14+X14+AH14+AR14+BB14+BL14+BV14+CF14+CP14+CZ14+DJ14+DT14+ED14 -> 0 | EO14: =O14+Y14+AI14+AS14+BC14+BM14+BW14+CG14+CQ14+DA14+DK14+DU14+EE14 -> 0 | ... EQ14: =Q14+AA14+AK14+AU14+BE14+BO14+BY14+CI14+CS14+DC14+DM14+DW14+EG14 -> 0
A15: Бокситогорский | B15: МБДОУ Детский сад № 7 города Пикалёво | C15: город | D15: детей | E15: =F15+G15 -> 15 | F15: =EH15+EJ15+EL15+EN15+EP15 -> 0 | G15: =EI15+EK15+EM15+EO15+EQ15 -> 15 | K15: 15 | EH15: =H15+R15+AB15+AL15+AV15+BF15+BP15+BZ15+CJ15+CT15+DD15+DN15+DX15 -> 0 | EI15: =I15+S15+AC15+AM15+AW15+BG15+BQ15+CA15+CK15+CU15+DE15+DO15+DY15 -> 0 | EJ15: =J15+T15+AD15+AN15+AX15+BH15+BR15+CB15+CL15+CV15+DF15+DP15+DZ15 -> 0 | EK15: =K15+U15+AE15+AO15+AY15+BI15+BS15+CC15+CM15+CW15+DG15+DQ15+EA15 -> 15 | EL15: =L15+V15+AF15+AP15+AZ15+BJ15+BT15+CD15+CN15+CX15+DH15+DR15+EB15 -> 0 | EM15: =M15+W15+AG15+AQ15+BA15+BK15+BU15+CE15+CO15+CY15+DI15+DS15+EC15 -> 0 | EN15: =N15+X15+AH15+AR15+BB15+BL15+BV15+CF15+CP15+CZ15+DJ15+DT15+ED15 -> 0 | EO15: =O15+Y15+AI15+AS15+BC15+BM15+BW15+CG15+CQ15+DA15+DK15+DU15+EE15 -> 0 | ... EQ15: =Q15+AA15+AK15+AU15+BE15+BO15+BY15+CI15+CS15+DC15+DM15+DW15+EG15 -> 0
A16: Бокситогорский | B16: МБДОУ Детский сад № 8 города Пикалёво | C16: город | D16: детей | E16: =F16+G16 -> 15 | F16: =EH16+EJ16+EL16+EN16+EP16 -> 0 | G16: =EI16+EK16+EM16+EO16+EQ16 -> 15 | K16: 15 | EH16: =H16+R16+AB16+AL16+AV16+BF16+BP16+BZ16+CJ16+CT16+DD16+DN16+DX16 -> 0 | EI16: =I16+S16+AC16+AM16+AW16+BG16+BQ16+CA16+CK16+CU16+DE16+DO16+DY16 -> 0 | EJ16: =J16+T16+AD16+AN16+AX16+BH16+BR16+CB16+CL16+CV16+DF16+DP16+DZ16 -> 0 | EK16: =K16+U16+AE16+AO16+AY16+BI16+BS16+CC16+CM16+CW16+DG16+DQ16+EA16 -> 15 | EL16: =L16+V16+AF16+AP16+AZ16+BJ16+BT16+CD16+CN16+CX16+DH16+DR16+EB16 -> 0 | EM16: =M16+W16+AG16+AQ16+BA16+BK16+BU16+CE16+CO16+CY16+DI16+DS16+EC16 -> 0 | EN16: =N16+X16+AH16+AR16+BB16+BL16+BV16+CF16+CP16+CZ16+DJ16+DT16+ED16 -> 0 | EO16: =O16+Y16+AI16+AS16+BC16+BM16+BW16+CG16+CQ16+DA16+DK16+DU16+EE16 -> 0 | ... EQ16: =Q16+AA16+AK16+AU16+BE16+BO16+BY16+CI16+CS16+DC16+DM16+DW16+EG16 -> 0
A17: Бокситогорский | B17: МБДОУ Детский сад № 9 города Пикалёво | C17: город | D17: детей | E17: =F17+G17 -> 17 | F17: =EH17+EJ17+EL17+EN17+EP17 -> 0 | G17: =EI17+EK17+EM17+EO17+EQ17 -> 17 | K17: 17 | EH17: =H17+R17+AB17+AL17+AV17+BF17+BP17+BZ17+CJ17+CT17+DD17+DN17+DX17 -> 0 | EI17: =I17+S17+AC17+AM17+AW17+BG17+BQ17+CA17+CK17+CU17+DE17+DO17+DY17 -> 0 | EJ17: =J17+T17+AD17+AN17+AX17+BH17+BR17+CB17+CL17+CV17+DF17+DP17+DZ17 -> 0 | EK17: =K17+U17+AE17+AO17+AY17+BI17+BS17+CC17+CM17+CW17+DG17+DQ17+EA17 -> 17 | EL17: =L17+V17+AF17+AP17+AZ17+BJ17+BT17+CD17+CN17+CX17+DH17+DR17+EB17 -> 0 | EM17: =M17+W17+AG17+AQ17+BA17+BK17+BU17+CE17+CO17+CY17+DI17+DS17+EC17 -> 0 | EN17: =N17+X17+AH17+AR17+BB17+BL17+BV17+CF17+CP17+CZ17+DJ17+DT17+ED17 -> 0 | EO17: =O17+Y17+AI17+AS17+BC17+BM17+BW17+CG17+CQ17+DA17+DK17+DU17+EE17 -> 0 | ... EQ17: =Q17+AA17+AK17+AU17+BE17+BO17+BY17+CI17+CS17+DC17+DM17+DW17+EG17 -> 0
A18: Бокситогорский | B18: МБДОУ Ефимовский детский сад | C18: ПГТ | D18: детей | E18: =F18+G18 -> 12 | F18: =EH18+EJ18+EL18+EN18+EP18 -> 0 | G18: =EI18+EK18+EM18+EO18+EQ18 -> 12 | K18: 12 | EH18: =H18+R18+AB18+AL18+AV18+BF18+BP18+BZ18+CJ18+CT18+DD18+DN18+DX18 -> 0 | EI18: =I18+S18+AC18+AM18+AW18+BG18+BQ18+CA18+CK18+CU18+DE18+DO18+DY18 -> 0 | EJ18: =J18+T18+AD18+AN18+AX18+BH18+BR18+CB18+CL18+CV18+DF18+DP18+DZ18 -> 0 | EK18: =K18+U18+AE18+AO18+AY18+BI18+BS18+CC18+CM18+CW18+DG18+DQ18+EA18 -> 12 | EL18: =L18+V18+AF18+AP18+AZ18+BJ18+BT18+CD18+CN18+CX18+DH18+DR18+EB18 -> 0 | EM18: =M18+W18+AG18+AQ18+BA18+BK18+BU18+CE18+CO18+CY18+DI18+DS18+EC18 -> 0 | EN18: =N18+X18+AH18+AR18+BB18+BL18+BV18+CF18+CP18+CZ18+DJ18+DT18+ED18 -> 0 | EO18: =O18+Y18+AI18+AS18+BC18+BM18+BW18+CG18+CQ18+DA18+DK18+DU18+EE18 -> 0 | ... EQ18: =Q18+AA18+AK18+AU18+BE18+BO18+BY18+CI18+CS18+DC18+DM18+DW18+EG18 -> 0
A19: Бокситогорский | B19: МКДОУ Борский детский сад | C19: село | D19: детей | E19: =F19+G19 -> 0 | F19: =EH19+EJ19+EL19+EN19+EP19 -> 0 | G19: =EI19+EK19+EM19+EO19+EQ19 -> 0 | EH19: =H19+R19+AB19+AL19+AV19+BF19+BP19+BZ19+CJ19+CT19+DD19+DN19+DX19 -> 0 | EI19: =I19+S19+AC19+AM19+AW19+BG19+BQ19+CA19+CK19+CU19+DE19+DO19+DY19 -> 0 | EJ19: =J19+T19+AD19+AN19+AX19+BH19+BR19+CB19+CL19+CV19+DF19+DP19+DZ19 -> 0 | EK19: =K19+U19+AE19+AO19+AY19+BI19+BS19+CC19+CM19+CW19+DG19+DQ19+EA19 -> 0 | EL19: =L19+V19+AF19+AP19+AZ19+BJ19+BT19+CD19+CN19+CX19+DH19+DR19+EB19 -> 0 | EM19: =M19+W19+AG19+AQ19+BA19+BK19+BU19+CE19+CO19+CY19+DI19+DS19+EC19 -> 0 | EN19: =N19+X19+AH19+AR19+BB19+BL19+BV19+CF19+CP19+CZ19+DJ19+DT19+ED19 -> 0 | EO19: =O19+Y19+AI19+AS19+BC19+BM19+BW19+CG19+CQ19+DA19+DK19+DU19+EE19 -> 0 | ... EQ19: =Q19+AA19+AK19+AU19+BE19+BO19+BY19+CI19+CS19+DC19+DM19+DW19+EG19 -> 0
A20: Бокситогорский | B20: МКДОУ Большедворский детский сад | C20: село | D20: детей | E20: =F20+G20 -> 0 | F20: =EH20+EJ20+EL20+EN20+EP20 -> 0 | G20: =EI20+EK20+EM20+EO20+EQ20 -> 0 | EH20: =H20+R20+AB20+AL20+AV20+BF20+BP20+BZ20+CJ20+CT20+DD20+DN20+DX20 -> 0 | EI20: =I20+S20+AC20+AM20+AW20+BG20+BQ20+CA20+CK20+CU20+DE20+DO20+DY20 -> 0 | EJ20: =J20+T20+AD20+AN20+AX20+BH20+BR20+CB20+CL20+CV20+DF20+DP20+DZ20 -> 0 | EK20: =K20+U20+AE20+AO20+AY20+BI20+BS20+CC20+CM20+CW20+DG20+DQ20+EA20 -> 0 | EL20: =L20+V20+AF20+AP20+AZ20+BJ20+BT20+CD20+CN20+CX20+DH20+DR20+EB20 -> 0 | EM20: =M20+W20+AG20+AQ20+BA20+BK20+BU20+CE20+CO20+CY20+DI20+DS20+EC20 -> 0 | EN20: =N20+X20+AH20+AR20+BB20+BL20+BV20+CF20+CP20+CZ20+DJ20+DT20+ED20 -> 0 | EO20: =O20+Y20+AI20+AS20+BC20+BM20+BW20+CG20+CQ20+DA20+DK20+DU20+EE20 -> 0 | ... EQ20: =Q20+AA20+AK20+AU20+BE20+BO20+BY20+CI20+CS20+DC20+DM20+DW20+EG20 -> 0
A21: Бокситогорский | B21: МКДОУ Заборьевский детский сад | C21: село | D21: детей | E21: =F21+G21 -> 0 | F21: =EH21+EJ21+EL21+EN21+EP21 -> 0 | G21: =EI21+EK21+EM21+EO21+EQ21 -> 0 | EH21: =H21+R21+AB21+AL21+AV21+BF21+BP21+BZ21+CJ21+CT21+DD21+DN21+DX21 -> 0 | EI21: =I21+S21+AC21+AM21+AW21+BG21+BQ21+CA21+CK21+CU21+DE21+DO21+DY21 -> 0 | EJ21: =J21+T21+AD21+AN21+AX21+BH21+BR21+CB21+CL21+CV21+DF21+DP21+DZ21 -> 0 | EK21: =K21+U21+AE21+AO21+AY21+BI21+BS21+CC21+CM21+CW21+DG21+DQ21+EA21 -> 0 | EL21: =L21+V21+AF21+AP21+AZ21+BJ21+BT21+CD21+CN21+CX21+DH21+DR21+EB21 -> 0 | EM21: =M21+W21+AG21+AQ21+BA21+BK21+BU21+CE21+CO21+CY21+DI21+DS21+EC21 -> 0 | EN21: =N21+X21+AH21+AR21+BB21+BL21+BV21+CF21+CP21+CZ21+DJ21+DT21+ED21 -> 0 | EO21: =O21+Y21+AI21+AS21+BC21+BM21+BW21+CG21+CQ21+DA21+DK21+DU21+EE21 -> 0 | ... EQ21: =Q21+AA21+AK21+AU21+BE21+BO21+BY21+CI21+CS21+DC21+DM21+DW21+EG21 -> 0
A22: Бокситогорский | B22: МБОУ Борская средняя общеобразовтельная школа | C22: село | D22: детей | E22: =F22+G22 -> 0 | F22: =EH22+EJ22+EL22+EN22+EP22 -> 0 | G22: =EI22+EK22+EM22+EO22+EQ22 -> 0 | EH22: =H22+R22+AB22+AL22+AV22+BF22+BP22+BZ22+CJ22+CT22+DD22+DN22+DX22 -> 0 | EI22: =I22+S22+AC22+AM22+AW22+BG22+BQ22+CA22+CK22+CU22+DE22+DO22+DY22 -> 0 | EJ22: =J22+T22+AD22+AN22+AX22+BH22+BR22+CB22+CL22+CV22+DF22+DP22+DZ22 -> 0 | EK22: =K22+U22+AE22+AO22+AY22+BI22+BS22+CC22+CM22+CW22+DG22+DQ22+EA22 -> 0 | EL22: =L22+V22+AF22+AP22+AZ22+BJ22+BT22+CD22+CN22+CX22+DH22+DR22+EB22 -> 0 | EM22: =M22+W22+AG22+AQ22+BA22+BK22+BU22+CE22+CO22+CY22+DI22+DS22+EC22 -> 0 | EN22: =N22+X22+AH22+AR22+BB22+BL22+BV22+CF22+CP22+CZ22+DJ22+DT22+ED22 -> 0 | EO22: =O22+Y22+AI22+AS22+BC22+BM22+BW22+CG22+CQ22+DA22+DK22+DU22+EE22 -> 0 | ... EQ22: =Q22+AA22+AK22+AU22+BE22+BO22+BY22+CI22+CS22+DC22+DM22+DW22+EG22 -> 0
A23: Бокситогорский | B23: МКОУ Подборовская основная общеобразовательная школа | C23: село | D23: детей | E23: =F23+G23 -> 0 | F23: =EH23+EJ23+EL23+EN23+EP23 -> 0 | G23: =EI23+EK23+EM23+EO23+EQ23 -> 0 | EH23: =H23+R23+AB23+AL23+AV23+BF23+BP23+BZ23+CJ23+CT23+DD23+DN23+DX23 -> 0 | EI23: =I23+S23+AC23+AM23+AW23+BG23+BQ23+CA23+CK23+CU23+DE23+DO23+DY23 -> 0 | EJ23: =J23+T23+AD23+AN23+AX23+BH23+BR23+CB23+CL23+CV23+DF23+DP23+DZ23 -> 0 | EK23: =K23+U23+AE23+AO23+AY23+BI23+BS23+CC23+CM23+CW23+DG23+DQ23+EA23 -> 0 | EL23: =L23+V23+AF23+AP23+AZ23+BJ23+BT23+CD23+CN23+CX23+DH23+DR23+EB23 -> 0 | EM23: =M23+W23+AG23+AQ23+BA23+BK23+BU23+CE23+CO23+CY23+DI23+DS23+EC23 -> 0 | EN23: =N23+X23+AH23+AR23+BB23+BL23+BV23+CF23+CP23+CZ23+DJ23+DT23+ED23 -> 0 | EO23: =O23+Y23+AI23+AS23+BC23+BM23+BW23+CG23+CQ23+DA23+DK23+DU23+EE23 -> 0 | ... EQ23: =Q23+AA23+AK23+AU23+BE23+BO23+BY23+CI23+CS23+DC23+DM23+DW23+EG23 -> 0
A24: Бокситогорский | B24: МКОУ Самойловская начальная общеобразовательная школа | C24: село | D24: детей | E24: =F24+G24 -> 0 | F24: =EH24+EJ24+EL24+EN24+EP24 -> 0 | G24: =EI24+EK24+EM24+EO24+EQ24 -> 0 | EH24: =H24+R24+AB24+AL24+AV24+BF24+BP24+BZ24+CJ24+CT24+DD24+DN24+DX24 -> 0 | EI24: =I24+S24+AC24+AM24+AW24+BG24+BQ24+CA24+CK24+CU24+DE24+DO24+DY24 -> 0 | EJ24: =J24+T24+AD24+AN24+AX24+BH24+BR24+CB24+CL24+CV24+DF24+DP24+DZ24 -> 0 | EK24: =K24+U24+AE24+AO24+AY24+BI24+BS24+CC24+CM24+CW24+DG24+DQ24+EA24 -> 0 | EL24: =L24+V24+AF24+AP24+AZ24+BJ24+BT24+CD24+CN24+CX24+DH24+DR24+EB24 -> 0 | EM24: =M24+W24+AG24+AQ24+BA24+BK24+BU24+CE24+CO24+CY24+DI24+DS24+EC24 -> 0 | EN24: =N24+X24+AH24+AR24+BB24+BL24+BV24+CF24+CP24+CZ24+DJ24+DT24+ED24 -> 0 | EO24: =O24+Y24+AI24+AS24+BC24+BM24+BW24+CG24+CQ24+DA24+DK24+DU24+EE24 -> 0 | ... EQ24: =Q24+AA24+AK24+AU24+BE24+BO24+BY24+CI24+CS24+DC24+DM24+DW24+EG24 -> 0
A25: 1. Бокситогорский | B25: ИТОГО | E25: =SUBTOTAL(9,E7:E24) -> 212 | F25: =SUBTOTAL(9,F7:F24) -> 0 | G25: =SUBTOTAL(9,G7:G24) -> 212 | H25: =SUBTOTAL(9,H7:H24) -> 0 | I25: =SUBTOTAL(9,I7:I24) -> 0 | J25: =SUBTOTAL(9,J7:J24) -> 0 | K25: =SUBTOTAL(9,K7:K24) -> 193 | L25: =SUBTOTAL(9,L7:L24) -> 0 | ... EQ25: =SUBTOTAL(9,EQ7:EQ24) -> 0
A26: Волосовский | B26: МДОУ "Детский сад № 4" | C26: село | D26: детей
A27: Волосовский | B27: МДОУ "Детский сад № 5" | C27: село | D27: детей
A28: Волосовский | B28: МДОУ "Детский сад № 6" | C28: город | D28: детей
A29: Волосовский | B29: МДОУ "Детский сад № 9" | C29: село | D29: детей
A30: Волосовский | B30: МДОУ "Детский сад № 10" | C30: село | D30: детей
A31: Волосовский | B31: МДОУ "Детский сад № 11" | C31: село | D31: детей
A32: Волосовский | B32: МОУ "Детский сад № 12 комбинированного вида" | C32: село | D32: детей | E32: =F32+G32 -> 43 | F32: =EH32+EJ32+EL32+EN32+EP32 -> 0 | G32: =EI32+EK32+EM32+EO32+EQ32 -> 43 | W32: 31 | CE32: 12 | EH32: =H32+R32+AB32+AL32+AV32+BF32+BP32+BZ32+CJ32+CT32+DD32+DN32+DX32 -> 0 | EI32: =I32+S32+AC32+AM32+AW32+BG32+BQ32+CA32+CK32+CU32+DE32+DO32+DY32 -> 0 | EJ32: =J32+T32+AD32+AN32+AX32+BH32+BR32+CB32+CL32+CV32+DF32+DP32+DZ32 -> 0 | EK32: =K32+U32+AE32+AO32+AY32+BI32+BS32+CC32+CM32+CW32+DG32+DQ32+EA32 -> 0 | EL32: =L32+V32+AF32+AP32+AZ32+BJ32+BT32+CD32+CN32+CX32+DH32+DR32+EB32 -> 0 | EM32: =M32+W32+AG32+AQ32+BA32+BK32+BU32+CE32+CO32+CY32+DI32+DS32+EC32 -> 43 | EN32: =N32+X32+AH32+AR32+BB32+BL32+BV32+CF32+CP32+CZ32+DJ32+DT32+ED32 -> 0 | EO32: =O32+Y32+AI32+AS32+BC32+BM32+BW32+CG32+CQ32+DA32+DK32+DU32+EE32 -> 0 | ... EQ32: =Q32+AA32+AK32+AU32+BE32+BO32+BY32+CI32+CS32+DC32+DM32+DW32+EG32 -> 0
A33: Волосовский | B33: МДОУ "Детский сад № 13" | C33: село | D33: детей
A34: Волосовский | B34: МДОУ "Детский сад № 14" | C34: село | D34: детей
A35: Волосовский | B35: МДОУ "Детский сад № 18" | C35: село | D35: детей
A36: Волосовский | B36: МДОУ "Детский сад № 19" | C36: село | D36: детей
A37: Волосовский | B37: МДОУ "Детский сад №20" | C37: село | D37: детей
A38: Волосовский | B38: МДОУ "Детский сад № 22" | C38: село | D38: детей
A39: Волосовский | B39: МДОУ "Детский сад № 24" | C39: село | D39: детей
A40: Волосовский | B40: МДОУ "Детский сад № 26" | C40: село | D40: детей
A41: Волосовский | B41: МДОУ "Детский сад № 27" | C41: село | D41: детей
A42: Волосовский | B42: МОУ "Детский сад № 28 комбинированного вида" | C42: город | D42: детей | E42: =F42+G42 -> 84 | F42: =EH42+EJ42+EL42+EN42+EP42 -> 0 | G42: =EI42+EK42+EM42+EO42+EQ42 -> 84 | W42: 60 | CE42: 24 | EH42: =H42+R42+AB42+AL42+AV42+BF42+BP42+BZ42+CJ42+CT42+DD42+DN42+DX42 -> 0 | EI42: =I42+S42+AC42+AM42+AW42+BG42+BQ42+CA42+CK42+CU42+DE42+DO42+DY42 -> 0 | EJ42: =J42+T42+AD42+AN42+AX42+BH42+BR42+CB42+CL42+CV42+DF42+DP42+DZ42 -> 0 | EK42: =K42+U42+AE42+AO42+AY42+BI42+BS42+CC42+CM42+CW42+DG42+DQ42+EA42 -> 0 | EL42: =L42+V42+AF42+AP42+AZ42+BJ42+BT42+CD42+CN42+CX42+DH42+DR42+EB42 -> 0 | EM42: =M42+W42+AG42+AQ42+BA42+BK42+BU42+CE42+CO42+CY42+DI42+DS42+EC42 -> 84 | EN42: =N42+X42+AH42+AR42+BB42+BL42+BV42+CF42+CP42+CZ42+DJ42+DT42+ED42 -> 0 | EO42: =O42+Y42+AI42+AS42+BC42+BM42+BW42+CG42+CQ42+DA42+DK42+DU42+EE42 -> 0 | ... EQ42: =Q42+AA42+AK42+AU42+BE42+BO42+BY42+CI42+CS42+DC42+DM42+DW42+EG42 -> 0
A43: Волосовский | B43: МДОУ "Детский сад № 29" | C43: город | D43: детей
A44: Волосовский | B44: МОУ "Рабитицкая НОШ" | C44: село | D44: детей
A45: Волосовский | B45: МОУ "Ущевицкая НОШ" | C45: село | D45: детей
A46: 2. Волосовский | B46: ИТОГО | E46: =SUBTOTAL(9,E32:E45) -> 127 | F46: =SUBTOTAL(9,F32:F45) -> 0 | G46: =SUBTOTAL(9,G32:G45) -> 127 | H46: =SUBTOTAL(9,H32:H45) -> 0 | I46: =SUBTOTAL(9,I32:I45) -> 0 | J46: =SUBTOTAL(9,J32:J45) -> 0 | K46: =SUBTOTAL(9,K32:K45) -> 0 | L46: =SUBTOTAL(9,L32:L45) -> 0 | ... EQ46: =SUBTOTAL(9,EQ32:EQ45) -> 0
A47: Волховский | B47: МДОБУ «Детский сад № 1 «Дюймовочка» комбинированного вида» | C47: город | D47: детей | E47: =F47+G47 -> 43 | F47: =EH47+EJ47+EL47+EN47+EP47 -> 0 | G47: =EI47+EK47+EM47+EO47+EQ47 -> 43 | M47: 30 | CE47: 13 | EH47: =H47+R47+AB47+AL47+AV47+BF47+BP47+BZ47+CJ47+CT47+DD47+DN47+DX47 -> 0 | EI47: =I47+S47+AC47+AM47+AW47+BG47+BQ47+CA47+CK47+CU47+DE47+DO47+DY47 -> 0 | EJ47: =J47+T47+AD47+AN47+AX47+BH47+BR47+CB47+CL47+CV47+DF47+DP47+DZ47 -> 0 | EK47: =K47+U47+AE47+AO47+AY47+BI47+BS47+CC47+CM47+CW47+DG47+DQ47+EA47 -> 0 | EL47: =L47+V47+AF47+AP47+AZ47+BJ47+BT47+CD47+CN47+CX47+DH47+DR47+EB47 -> 0 | EM47: =M47+W47+AG47+AQ47+BA47+BK47+BU47+CE47+CO47+CY47+DI47+DS47+EC47 -> 43 | EN47: =N47+X47+AH47+AR47+BB47+BL47+BV47+CF47+CP47+CZ47+DJ47+DT47+ED47 -> 0 | EO47: =O47+Y47+AI47+AS47+BC47+BM47+BW47+CG47+CQ47+DA47+DK47+DU47+EE47 -> 0 | ... EQ47: =Q47+AA47+AK47+AU47+BE47+BO47+BY47+CI47+CS47+DC47+DM47+DW47+EG47 -> 0
A48: Волховский | B48: МДОБУ «Детский сад № 2 «Рябинка» комбинированного вида» | C48: город | D48: детей | E48: =F48+G48 -> 30 | F48: =EH48+EJ48+EL48+EN48+EP48 -> 0 | G48: =EI48+EK48+EM48+EO48+EQ48 -> 30 | M48: 30 | EH48: =H48+R48+AB48+AL48+AV48+BF48+BP48+BZ48+CJ48+CT48+DD48+DN48+DX48 -> 0 | EI48: =I48+S48+AC48+AM48+AW48+BG48+BQ48+CA48+CK48+CU48+DE48+DO48+DY48 -> 0 | EJ48: =J48+T48+AD48+AN48+AX48+BH48+BR48+CB48+CL48+CV48+DF48+DP48+DZ48 -> 0 | EK48: =K48+U48+AE48+AO48+AY48+BI48+BS48+CC48+CM48+CW48+DG48+DQ48+EA48 -> 0 | EL48: =L48+V48+AF48+AP48+AZ48+BJ48+BT48+CD48+CN48+CX48+DH48+DR48+EB48 -> 0 | EM48: =M48+W48+AG48+AQ48+BA48+BK48+BU48+CE48+CO48+CY48+DI48+DS48+EC48 -> 30 | EN48: =N48+X48+AH48+AR48+BB48+BL48+BV48+CF48+CP48+CZ48+DJ48+DT48+ED48 -> 0 | EO48: =O48+Y48+AI48+AS48+BC48+BM48+BW48+CG48+CQ48+DA48+DK48+DU48+EE48 -> 0 | ... EQ48: =Q48+AA48+AK48+AU48+BE48+BO48+BY48+CI48+CS48+DC48+DM48+DW48+EG48 -> 0
A49: Волховский | B49: МДОБУ «Детский сад № 3 комбинированного вида» | C49: город | D49: детей | E49: =F49+G49 -> 20 | F49: =EH49+EJ49+EL49+EN49+EP49 -> 0 | G49: =EI49+EK49+EM49+EO49+EQ49 -> 20 | CE49: 20 | EH49: =H49+R49+AB49+AL49+AV49+BF49+BP49+BZ49+CJ49+CT49+DD49+DN49+DX49 -> 0 | EI49: =I49+S49+AC49+AM49+AW49+BG49+BQ49+CA49+CK49+CU49+DE49+DO49+DY49 -> 0 | EJ49: =J49+T49+AD49+AN49+AX49+BH49+BR49+CB49+CL49+CV49+DF49+DP49+DZ49 -> 0 | EK49: =K49+U49+AE49+AO49+AY49+BI49+BS49+CC49+CM49+CW49+DG49+DQ49+EA49 -> 0 | EL49: =L49+V49+AF49+AP49+AZ49+BJ49+BT49+CD49+CN49+CX49+DH49+DR49+EB49 -> 0 | EM49: =M49+W49+AG49+AQ49+BA49+BK49+BU49+CE49+CO49+CY49+DI49+DS49+EC49 -> 20 | EN49: =N49+X49+AH49+AR49+BB49+BL49+BV49+CF49+CP49+CZ49+DJ49+DT49+ED49 -> 0 | EO49: =O49+Y49+AI49+AS49+BC49+BM49+BW49+CG49+CQ49+DA49+DK49+DU49+EE49 -> 0 | ... EQ49: =Q49+AA49+AK49+AU49+BE49+BO49+BY49+CI49+CS49+DC49+DM49+DW49+EG49 -> 0
A50: Волховский | B50: МДОБУ «Детский сад № 4» комбинированного вида" | C50: город | D50: детей | E50: =F50+G50 -> 15 | F50: =EH50+EJ50+EL50+EN50+EP50 -> 0 | G50: =EI50+EK50+EM50+EO50+EQ50 -> 15 | M50: 15 | EH50: =H50+R50+AB50+AL50+AV50+BF50+BP50+BZ50+CJ50+CT50+DD50+DN50+DX50 -> 0 | EI50: =I50+S50+AC50+AM50+AW50+BG50+BQ50+CA50+CK50+CU50+DE50+DO50+DY50 -> 0 | EJ50: =J50+T50+AD50+AN50+AX50+BH50+BR50+CB50+CL50+CV50+DF50+DP50+DZ50 -> 0 | EK50: =K50+U50+AE50+AO50+AY50+BI50+BS50+CC50+CM50+CW50+DG50+DQ50+EA50 -> 0 | EL50: =L50+V50+AF50+AP50+AZ50+BJ50+BT50+CD50+CN50+CX50+DH50+DR50+EB50 -> 0 | EM50: =M50+W50+AG50+AQ50+BA50+BK50+BU50+CE50+CO50+CY50+DI50+DS50+EC50 -> 15 | EN50: =N50+X50+AH50+AR50+BB50+BL50+BV50+CF50+CP50+CZ50+DJ50+DT50+ED50 -> 0 | EO50: =O50+Y50+AI50+AS50+BC50+BM50+BW50+CG50+CQ50+DA50+DK50+DU50+EE50 -> 0 | ... EQ50: =Q50+AA50+AK50+AU50+BE50+BO50+BY50+CI50+CS50+DC50+DM50+DW50+EG50 -> 0
A51: Волховский | B51: МДОБУ «Детский сад № 5 «Аистенок» комбинированного вида» | C51: город | D51: детей | E51: =F51+G51 -> 30 | F51: =EH51+EJ51+EL51+EN51+EP51 -> 0 | G51: =EI51+EK51+EM51+EO51+EQ51 -> 30 | M51: 30 | EH51: =H51+R51+AB51+AL51+AV51+BF51+BP51+BZ51+CJ51+CT51+DD51+DN51+DX51 -> 0 | EI51: =I51+S51+AC51+AM51+AW51+BG51+BQ51+CA51+CK51+CU51+DE51+DO51+DY51 -> 0 | EJ51: =J51+T51+AD51+AN51+AX51+BH51+BR51+CB51+CL51+CV51+DF51+DP51+DZ51 -> 0 | EK51: =K51+U51+AE51+AO51+AY51+BI51+BS51+CC51+CM51+CW51+DG51+DQ51+EA51 -> 0 | EL51: =L51+V51+AF51+AP51+AZ51+BJ51+BT51+CD51+CN51+CX51+DH51+DR51+EB51 -> 0 | EM51: =M51+W51+AG51+AQ51+BA51+BK51+BU51+CE51+CO51+CY51+DI51+DS51+EC51 -> 30 | EN51: =N51+X51+AH51+AR51+BB51+BL51+BV51+CF51+CP51+CZ51+DJ51+DT51+ED51 -> 0 | EO51: =O51+Y51+AI51+AS51+BC51+BM51+BW51+CG51+CQ51+DA51+DK51+DU51+EE51 -> 0 | ... EQ51: =Q51+AA51+AK51+AU51+BE51+BO51+BY51+CI51+CS51+DC51+DM51+DW51+EG51 -> 0
A52: Волховский | B52: МДОБУ «Детский сад № 6 «Солнышко» комбинированного вида» | C52: город | D52: детей | E52: =F52+G52 -> 49 | F52: =EH52+EJ52+EL52+EN52+EP52 -> 0 | G52: =EI52+EK52+EM52+EO52+EQ52 -> 49 | M52: 49 | EH52: =H52+R52+AB52+AL52+AV52+BF52+BP52+BZ52+CJ52+CT52+DD52+DN52+DX52 -> 0 | EI52: =I52+S52+AC52+AM52+AW52+BG52+BQ52+CA52+CK52+CU52+DE52+DO52+DY52 -> 0 | EJ52: =J52+T52+AD52+AN52+AX52+BH52+BR52+CB52+CL52+CV52+DF52+DP52+DZ52 -> 0 | EK52: =K52+U52+AE52+AO52+AY52+BI52+BS52+CC52+CM52+CW52+DG52+DQ52+EA52 -> 0 | EL52: =L52+V52+AF52+AP52+AZ52+BJ52+BT52+CD52+CN52+CX52+DH52+DR52+EB52 -> 0 | EM52: =M52+W52+AG52+AQ52+BA52+BK52+BU52+CE52+CO52+CY52+DI52+DS52+EC52 -> 49 | EN52: =N52+X52+AH52+AR52+BB52+BL52+BV52+CF52+CP52+CZ52+DJ52+DT52+ED52 -> 0 | EO52: =O52+Y52+AI52+AS52+BC52+BM52+BW52+CG52+CQ52+DA52+DK52+DU52+EE52 -> 0 | ... EQ52: =Q52+AA52+AK52+AU52+BE52+BO52+BY52+CI52+CS52+DC52+DM52+DW52+EG52 -> 0
A53: Волховский | B53: МДОБУ «Детский сад № 7 «Искорка» комбинированного вида» | C53: город | D53: детей | E53: =F53+G53 -> 30 | F53: =EH53+EJ53+EL53+EN53+EP53 -> 0 | G53: =EI53+EK53+EM53+EO53+EQ53 -> 30 | M53: 30 | EH53: =H53+R53+AB53+AL53+AV53+BF53+BP53+BZ53+CJ53+CT53+DD53+DN53+DX53 -> 0 | EI53: =I53+S53+AC53+AM53+AW53+BG53+BQ53+CA53+CK53+CU53+DE53+DO53+DY53 -> 0 | EJ53: =J53+T53+AD53+AN53+AX53+BH53+BR53+CB53+CL53+CV53+DF53+DP53+DZ53 -> 0 | EK53: =K53+U53+AE53+AO53+AY53+BI53+BS53+CC53+CM53+CW53+DG53+DQ53+EA53 -> 0 | EL53: =L53+V53+AF53+AP53+AZ53+BJ53+BT53+CD53+CN53+CX53+DH53+DR53+EB53 -> 0 | EM53: =M53+W53+AG53+AQ53+BA53+BK53+BU53+CE53+CO53+CY53+DI53+DS53+EC53 -> 30 | EN53: =N53+X53+AH53+AR53+BB53+BL53+BV53+CF53+CP53+CZ53+DJ53+DT53+ED53 -> 0 | EO53: =O53+Y53+AI53+AS53+BC53+BM53+BW53+CG53+CQ53+DA53+DK53+DU53+EE53 -> 0 | ... EQ53: =Q53+AA53+AK53+AU53+BE53+BO53+BY53+CI53+CS53+DC53+DM53+DW53+EG53 -> 0
A54: Волховский | B54: МДОБУ «Детский сад № 8 «Сказка» комбинированного вида» | C54: город | D54: детей | E54: =F54+G54 -> 60 | F54: =EH54+EJ54+EL54+EN54+EP54 -> 0 | G54: =EI54+EK54+EM54+EO54+EQ54 -> 60 | M54: 15 | BK54: 35 | CE54: 10 | EH54: =H54+R54+AB54+AL54+AV54+BF54+BP54+BZ54+CJ54+CT54+DD54+DN54+DX54 -> 0 | EI54: =I54+S54+AC54+AM54+AW54+BG54+BQ54+CA54+CK54+CU54+DE54+DO54+DY54 -> 0 | EJ54: =J54+T54+AD54+AN54+AX54+BH54+BR54+CB54+CL54+CV54+DF54+DP54+DZ54 -> 0 | EK54: =K54+U54+AE54+AO54+AY54+BI54+BS54+CC54+CM54+CW54+DG54+DQ54+EA54 -> 0 | EL54: =L54+V54+AF54+AP54+AZ54+BJ54+BT54+CD54+CN54+CX54+DH54+DR54+EB54 -> 0 | EM54: =M54+W54+AG54+AQ54+BA54+BK54+BU54+CE54+CO54+CY54+DI54+DS54+EC54 -> 60 | EN54: =N54+X54+AH54+AR54+BB54+BL54+BV54+CF54+CP54+CZ54+DJ54+DT54+ED54 -> 0 | EO54: =O54+Y54+AI54+AS54+BC54+BM54+BW54+CG54+CQ54+DA54+DK54+DU54+EE54 -> 0 | ... EQ54: =Q54+AA54+AK54+AU54+BE54+BO54+BY54+CI54+CS54+DC54+DM54+DW54+EG54 -> 0
A55: Волховский | B55: МДОБУ «Детский сад № 9 «Радужка» комбинированного вида» | C55: город | D55: детей | E55: =F55+G55 -> 42 | F55: =EH55+EJ55+EL55+EN55+EP55 -> 0 | G55: =EI55+EK55+EM55+EO55+EQ55 -> 42 | M55: 30 | CE55: 12 | EH55: =H55+R55+AB55+AL55+AV55+BF55+BP55+BZ55+CJ55+CT55+DD55+DN55+DX55 -> 0 | EI55: =I55+S55+AC55+AM55+AW55+BG55+BQ55+CA55+CK55+CU55+DE55+DO55+DY55 -> 0 | EJ55: =J55+T55+AD55+AN55+AX55+BH55+BR55+CB55+CL55+CV55+DF55+DP55+DZ55 -> 0 | EK55: =K55+U55+AE55+AO55+AY55+BI55+BS55+CC55+CM55+CW55+DG55+DQ55+EA55 -> 0 | EL55: =L55+V55+AF55+AP55+AZ55+BJ55+BT55+CD55+CN55+CX55+DH55+DR55+EB55 -> 0 | EM55: =M55+W55+AG55+AQ55+BA55+BK55+BU55+CE55+CO55+CY55+DI55+DS55+EC55 -> 42 | EN55: =N55+X55+AH55+AR55+BB55+BL55+BV55+CF55+CP55+CZ55+DJ55+DT55+ED55 -> 0 | EO55: =O55+Y55+AI55+AS55+BC55+BM55+BW55+CG55+CQ55+DA55+DK55+DU55+EE55 -> 0 | ... EQ55: =Q55+AA55+AK55+AU55+BE55+BO55+BY55+CI55+CS55+DC55+DM55+DW55+EG55 -> 0
A56: Волховский | B56: МДОБУ «Детский сад № 10 «Светлячок» комбинированного вида" | C56: город | D56: детей | E56: =F56+G56 -> 15 | F56: =EH56+EJ56+EL56+EN56+EP56 -> 0 | G56: =EI56+EK56+EM56+EO56+EQ56 -> 15 | M56: 15 | EH56: =H56+R56+AB56+AL56+AV56+BF56+BP56+BZ56+CJ56+CT56+DD56+DN56+DX56 -> 0 | EI56: =I56+S56+AC56+AM56+AW56+BG56+BQ56+CA56+CK56+CU56+DE56+DO56+DY56 -> 0 | EJ56: =J56+T56+AD56+AN56+AX56+BH56+BR56+CB56+CL56+CV56+DF56+DP56+DZ56 -> 0 | EK56: =K56+U56+AE56+AO56+AY56+BI56+BS56+CC56+CM56+CW56+DG56+DQ56+EA56 -> 0 | EL56: =L56+V56+AF56+AP56+AZ56+BJ56+BT56+CD56+CN56+CX56+DH56+DR56+EB56 -> 0 | EM56: =M56+W56+AG56+AQ56+BA56+BK56+BU56+CE56+CO56+CY56+DI56+DS56+EC56 -> 15 | EN56: =N56+X56+AH56+AR56+BB56+BL56+BV56+CF56+CP56+CZ56+DJ56+DT56+ED56 -> 0 | EO56: =O56+Y56+AI56+AS56+BC56+BM56+BW56+CG56+CQ56+DA56+DK56+DU56+EE56 -> 0 | ... EQ56: =Q56+AA56+AK56+AU56+BE56+BO56+BY56+CI56+CS56+DC56+DM56+DW56+EG56 -> 0
A57: Волховский | B57: МДОБУ «Детский сад № 12 » | C57: город | D57: детей | E57: =F57+G57 -> 0 | F57: =EH57+EJ57+EL57+EN57+EP57 -> 0 | G57: =EI57+EK57+EM57+EO57+EQ57 -> 0 | EH57: =H57+R57+AB57+AL57+AV57+BF57+BP57+BZ57+CJ57+CT57+DD57+DN57+DX57 -> 0 | EI57: =I57+S57+AC57+AM57+AW57+BG57+BQ57+CA57+CK57+CU57+DE57+DO57+DY57 -> 0 | EJ57: =J57+T57+AD57+AN57+AX57+BH57+BR57+CB57+CL57+CV57+DF57+DP57+DZ57 -> 0 | EK57: =K57+U57+AE57+AO57+AY57+BI57+BS57+CC57+CM57+CW57+DG57+DQ57+EA57 -> 0 | EL57: =L57+V57+AF57+AP57+AZ57+BJ57+BT57+CD57+CN57+CX57+DH57+DR57+EB57 -> 0 | EM57: =M57+W57+AG57+AQ57+BA57+BK57+BU57+CE57+CO57+CY57+DI57+DS57+EC57 -> 0 | EN57: =N57+X57+AH57+AR57+BB57+BL57+BV57+CF57+CP57+CZ57+DJ57+DT57+ED57 -> 0 | EO57: =O57+Y57+AI57+AS57+BC57+BM57+BW57+CG57+CQ57+DA57+DK57+DU57+EE57 -> 0 | ... EQ57: =Q57+AA57+AK57+AU57+BE57+BO57+BY57+CI57+CS57+DC57+DM57+DW57+EG57 -> 0
A58: Волховский | B58: МДОБУ «Детский сад № 13 «Березка» | C58: город | D58: детей | E58: =F58+G58 -> 0 | F58: =EH58+EJ58+EL58+EN58+EP58 -> 0 | G58: =EI58+EK58+EM58+EO58+EQ58 -> 0 | EH58: =H58+R58+AB58+AL58+AV58+BF58+BP58+BZ58+CJ58+CT58+DD58+DN58+DX58 -> 0 | EI58: =I58+S58+AC58+AM58+AW58+BG58+BQ58+CA58+CK58+CU58+DE58+DO58+DY58 -> 0 | EJ58: =J58+T58+AD58+AN58+AX58+BH58+BR58+CB58+CL58+CV58+DF58+DP58+DZ58 -> 0 | EK58: =K58+U58+AE58+AO58+AY58+BI58+BS58+CC58+CM58+CW58+DG58+DQ58+EA58 -> 0 | EL58: =L58+V58+AF58+AP58+AZ58+BJ58+BT58+CD58+CN58+CX58+DH58+DR58+EB58 -> 0 | EM58: =M58+W58+AG58+AQ58+BA58+BK58+BU58+CE58+CO58+CY58+DI58+DS58+EC58 -> 0 | EN58: =N58+X58+AH58+AR58+BB58+BL58+BV58+CF58+CP58+CZ58+DJ58+DT58+ED58 -> 0 | EO58: =O58+Y58+AI58+AS58+BC58+BM58+BW58+CG58+CQ58+DA58+DK58+DU58+EE58 -> 0 | ... EQ58: =Q58+AA58+AK58+AU58+BE58+BO58+BY58+CI58+CS58+DC58+DM58+DW58+EG58 -> 0
A59: Волховский | B59: МДОБУ «Детский сад № 14 «Ёлочка» комбинированного вида» | C59: город | D59: детей | E59: =F59+G59 -> 54 | F59: =EH59+EJ59+EL59+EN59+EP59 -> 0 | G59: =EI59+EK59+EM59+EO59+EQ59 -> 54 | M59: 30 | CE59: 24 | EH59: =H59+R59+AB59+AL59+AV59+BF59+BP59+BZ59+CJ59+CT59+DD59+DN59+DX59 -> 0 | EI59: =I59+S59+AC59+AM59+AW59+BG59+BQ59+CA59+CK59+CU59+DE59+DO59+DY59 -> 0 | EJ59: =J59+T59+AD59+AN59+AX59+BH59+BR59+CB59+CL59+CV59+DF59+DP59+DZ59 -> 0 | EK59: =K59+U59+AE59+AO59+AY59+BI59+BS59+CC59+CM59+CW59+DG59+DQ59+EA59 -> 0 | EL59: =L59+V59+AF59+AP59+AZ59+BJ59+BT59+CD59+CN59+CX59+DH59+DR59+EB59 -> 0 | EM59: =M59+W59+AG59+AQ59+BA59+BK59+BU59+CE59+CO59+CY59+DI59+DS59+EC59 -> 54 | EN59: =N59+X59+AH59+AR59+BB59+BL59+BV59+CF59+CP59+CZ59+DJ59+DT59+ED59 -> 0 | EO59: =O59+Y59+AI59+AS59+BC59+BM59+BW59+CG59+CQ59+DA59+DK59+DU59+EE59 -> 0 | ... EQ59: =Q59+AA59+AK59+AU59+BE59+BO59+BY59+CI59+CS59+DC59+DM59+DW59+EG59 -> 0
A60: Волховский | B60: МДОБУ «Детский сад № 15 «Вишенка» | C60: город | D60: детей | E60: =F60+G60 -> 0 | F60: =EH60+EJ60+EL60+EN60+EP60 -> 0 | G60: =EI60+EK60+EM60+EO60+EQ60 -> 0 | EH60: =H60+R60+AB60+AL60+AV60+BF60+BP60+BZ60+CJ60+CT60+DD60+DN60+DX60 -> 0 | EI60: =I60+S60+AC60+AM60+AW60+BG60+BQ60+CA60+CK60+CU60+DE60+DO60+DY60 -> 0 | EJ60: =J60+T60+AD60+AN60+AX60+BH60+BR60+CB60+CL60+CV60+DF60+DP60+DZ60 -> 0 | EK60: =K60+U60+AE60+AO60+AY60+BI60+BS60+CC60+CM60+CW60+DG60+DQ60+EA60 -> 0 | EL60: =L60+V60+AF60+AP60+AZ60+BJ60+BT60+CD60+CN60+CX60+DH60+DR60+EB60 -> 0 | EM60: =M60+W60+AG60+AQ60+BA60+BK60+BU60+CE60+CO60+CY60+DI60+DS60+EC60 -> 0 | EN60: =N60+X60+AH60+AR60+BB60+BL60+BV60+CF60+CP60+CZ60+DJ60+DT60+ED60 -> 0 | EO60: =O60+Y60+AI60+AS60+BC60+BM60+BW60+CG60+CQ60+DA60+DK60+DU60+EE60 -> 0 | ... EQ60: =Q60+AA60+AK60+AU60+BE60+BO60+BY60+CI60+CS60+DC60+DM60+DW60+EG60 -> 0
A61: Волховский | B61: МДОБУ «Детский сад № 16 «Ромашка» комбинированного вида» | C61: город | D61: детей | E61: =F61+G61 -> 32 | F61: =EH61+EJ61+EL61+EN61+EP61 -> 0 | G61: =EI61+EK61+EM61+EO61+EQ61 -> 32 | M61: 32 | EH61: =H61+R61+AB61+AL61+AV61+BF61+BP61+BZ61+CJ61+CT61+DD61+DN61+DX61 -> 0 | EI61: =I61+S61+AC61+AM61+AW61+BG61+BQ61+CA61+CK61+CU61+DE61+DO61+DY61 -> 0 | EJ61: =J61+T61+AD61+AN61+AX61+BH61+BR61+CB61+CL61+CV61+DF61+DP61+DZ61 -> 0 | EK61: =K61+U61+AE61+AO61+AY61+BI61+BS61+CC61+CM61+CW61+DG61+DQ61+EA61 -> 0 | EL61: =L61+V61+AF61+AP61+AZ61+BJ61+BT61+CD61+CN61+CX61+DH61+DR61+EB61 -> 0 | EM61: =M61+W61+AG61+AQ61+BA61+BK61+BU61+CE61+CO61+CY61+DI61+DS61+EC61 -> 32 | EN61: =N61+X61+AH61+AR61+BB61+BL61+BV61+CF61+CP61+CZ61+DJ61+DT61+ED61 -> 0 | EO61: =O61+Y61+AI61+AS61+BC61+BM61+BW61+CG61+CQ61+DA61+DK61+DU61+EE61 -> 0 | ... EQ61: =Q61+AA61+AK61+AU61+BE61+BO61+BY61+CI61+CS61+DC61+DM61+DW61+EG61 -> 0
A62: Волховский | B62: МДОБУ «Детский сад № 17 «Сказка» комбинированного вида» | C62: город | D62: детей | E62: =F62+G62 -> 62 | F62: =EH62+EJ62+EL62+EN62+EP62 -> 0 | G62: =EI62+EK62+EM62+EO62+EQ62 -> 62 | M62: 32 | CE62: 30 | EH62: =H62+R62+AB62+AL62+AV62+BF62+BP62+BZ62+CJ62+CT62+DD62+DN62+DX62 -> 0 | EI62: =I62+S62+AC62+AM62+AW62+BG62+BQ62+CA62+CK62+CU62+DE62+DO62+DY62 -> 0 | EJ62: =J62+T62+AD62+AN62+AX62+BH62+BR62+CB62+CL62+CV62+DF62+DP62+DZ62 -> 0 | EK62: =K62+U62+AE62+AO62+AY62+BI62+BS62+CC62+CM62+CW62+DG62+DQ62+EA62 -> 0 | EL62: =L62+V62+AF62+AP62+AZ62+BJ62+BT62+CD62+CN62+CX62+DH62+DR62+EB62 -> 0 | EM62: =M62+W62+AG62+AQ62+BA62+BK62+BU62+CE62+CO62+CY62+DI62+DS62+EC62 -> 62 | EN62: =N62+X62+AH62+AR62+BB62+BL62+BV62+CF62+CP62+CZ62+DJ62+DT62+ED62 -> 0 | EO62: =O62+Y62+AI62+AS62+BC62+BM62+BW62+CG62+CQ62+DA62+DK62+DU62+EE62 -> 0 | ... EQ62: =Q62+AA62+AK62+AU62+BE62+BO62+BY62+CI62+CS62+DC62+DM62+DW62+EG62 -> 0
A63: Волховский | B63: МДОБУ «Детский сад № 18 «Теремок» комбинированного вида» | C63: город | D63: детей | E63: =F63+G63 -> 54 | F63: =EH63+EJ63+EL63+EN63+EP63 -> 0 | G63: =EI63+EK63+EM63+EO63+EQ63 -> 54 | M63: 30 | CE63: 24 | EH63: =H63+R63+AB63+AL63+AV63+BF63+BP63+BZ63+CJ63+CT63+DD63+DN63+DX63 -> 0 | EI63: =I63+S63+AC63+AM63+AW63+BG63+BQ63+CA63+CK63+CU63+DE63+DO63+DY63 -> 0 | EJ63: =J63+T63+AD63+AN63+AX63+BH63+BR63+CB63+CL63+CV63+DF63+DP63+DZ63 -> 0 | EK63: =K63+U63+AE63+AO63+AY63+BI63+BS63+CC63+CM63+CW63+DG63+DQ63+EA63 -> 0 | EL63: =L63+V63+AF63+AP63+AZ63+BJ63+BT63+CD63+CN63+CX63+DH63+DR63+EB63 -> 0 | EM63: =M63+W63+AG63+AQ63+BA63+BK63+BU63+CE63+CO63+CY63+DI63+DS63+EC63 -> 54 | EN63: =N63+X63+AH63+AR63+BB63+BL63+BV63+CF63+CP63+CZ63+DJ63+DT63+ED63 -> 0 | EO63: =O63+Y63+AI63+AS63+BC63+BM63+BW63+CG63+CQ63+DA63+DK63+DU63+EE63 -> 0 | ... EQ63: =Q63+AA63+AK63+AU63+BE63+BO63+BY63+CI63+CS63+DC63+DM63+DW63+EG63 -> 0
A64: Волховский | B64: МДОБУ «Детский сад № 20 комбинированного вида» | C64: село | D64: детей | E64: =F64+G64 -> 15 | F64: =EH64+EJ64+EL64+EN64+EP64 -> 0 | G64: =EI64+EK64+EM64+EO64+EQ64 -> 15 | K64: 15 | EH64: =H64+R64+AB64+AL64+AV64+BF64+BP64+BZ64+CJ64+CT64+DD64+DN64+DX64 -> 0 | EI64: =I64+S64+AC64+AM64+AW64+BG64+BQ64+CA64+CK64+CU64+DE64+DO64+DY64 -> 0 | EJ64: =J64+T64+AD64+AN64+AX64+BH64+BR64+CB64+CL64+CV64+DF64+DP64+DZ64 -> 0 | EK64: =K64+U64+AE64+AO64+AY64+BI64+BS64+CC64+CM64+CW64+DG64+DQ64+EA64 -> 15 | EL64: =L64+V64+AF64+AP64+AZ64+BJ64+BT64+CD64+CN64+CX64+DH64+DR64+EB64 -> 0 | EM64: =M64+W64+AG64+AQ64+BA64+BK64+BU64+CE64+CO64+CY64+DI64+DS64+EC64 -> 0 | EN64: =N64+X64+AH64+AR64+BB64+BL64+BV64+CF64+CP64+CZ64+DJ64+DT64+ED64 -> 0 | EO64: =O64+Y64+AI64+AS64+BC64+BM64+BW64+CG64+CQ64+DA64+DK64+DU64+EE64 -> 0 | ... EQ64: =Q64+AA64+AK64+AU64+BE64+BO64+BY64+CI64+CS64+DC64+DM64+DW64+EG64 -> 0
A65: Волховский | B65: МДОБУ «Детский сад № 21 «Белочка» | C65: село | D65: детей | E65: =F65+G65 -> 16 | F65: =EH65+EJ65+EL65+EN65+EP65 -> 0 | G65: =EI65+EK65+EM65+EO65+EQ65 -> 16 | K65: 16 | EH65: =H65+R65+AB65+AL65+AV65+BF65+BP65+BZ65+CJ65+CT65+DD65+DN65+DX65 -> 0 | EI65: =I65+S65+AC65+AM65+AW65+BG65+BQ65+CA65+CK65+CU65+DE65+DO65+DY65 -> 0 | EJ65: =J65+T65+AD65+AN65+AX65+BH65+BR65+CB65+CL65+CV65+DF65+DP65+DZ65 -> 0 | EK65: =K65+U65+AE65+AO65+AY65+BI65+BS65+CC65+CM65+CW65+DG65+DQ65+EA65 -> 16 | EL65: =L65+V65+AF65+AP65+AZ65+BJ65+BT65+CD65+CN65+CX65+DH65+DR65+EB65 -> 0 | EM65: =M65+W65+AG65+AQ65+BA65+BK65+BU65+CE65+CO65+CY65+DI65+DS65+EC65 -> 0 | EN65: =N65+X65+AH65+AR65+BB65+BL65+BV65+CF65+CP65+CZ65+DJ65+DT65+ED65 -> 0 | EO65: =O65+Y65+AI65+AS65+BC65+BM65+BW65+CG65+CQ65+DA65+DK65+DU65+EE65 -> 0 | ... EQ65: =Q65+AA65+AK65+AU65+BE65+BO65+BY65+CI65+CS65+DC65+DM65+DW65+EG65 -> 0
A66: Волховский | B66: МДОБУ "Детский сад № 22 комбинированного вида" | C66: город | D66: детей | E66: =F66+G66 -> 15 | F66: =EH66+EJ66+EL66+EN66+EP66 -> 0 | G66: =EI66+EK66+EM66+EO66+EQ66 -> 15 | K66: 15 | EH66: =H66+R66+AB66+AL66+AV66+BF66+BP66+BZ66+CJ66+CT66+DD66+DN66+DX66 -> 0 | EI66: =I66+S66+AC66+AM66+AW66+BG66+BQ66+CA66+CK66+CU66+DE66+DO66+DY66 -> 0 | EJ66: =J66+T66+AD66+AN66+AX66+BH66+BR66+CB66+CL66+CV66+DF66+DP66+DZ66 -> 0 | EK66: =K66+U66+AE66+AO66+AY66+BI66+BS66+CC66+CM66+CW66+DG66+DQ66+EA66 -> 15 | EL66: =L66+V66+AF66+AP66+AZ66+BJ66+BT66+CD66+CN66+CX66+DH66+DR66+EB66 -> 0 | EM66: =M66+W66+AG66+AQ66+BA66+BK66+BU66+CE66+CO66+CY66+DI66+DS66+EC66 -> 0 | EN66: =N66+X66+AH66+AR66+BB66+BL66+BV66+CF66+CP66+CZ66+DJ66+DT66+ED66 -> 0 | EO66: =O66+Y66+AI66+AS66+BC66+BM66+BW66+CG66+CQ66+DA66+DK66+DU66+EE66 -> 0 | ... EQ66: =Q66+AA66+AK66+AU66+BE66+BO66+BY66+CI66+CS66+DC66+DM66+DW66+EG66 -> 0
A67: Волховский | B67: МОБУ «Алексинская средняя общеобразовательная школа» | C67: село | D67: детей | E67: =F67+G67 -> 12 | F67: =EH67+EJ67+EL67+EN67+EP67 -> 0 | G67: =EI67+EK67+EM67+EO67+EQ67 -> 12 | K67: 12 | EH67: =H67+R67+AB67+AL67+AV67+BF67+BP67+BZ67+CJ67+CT67+DD67+DN67+DX67 -> 0 | EI67: =I67+S67+AC67+AM67+AW67+BG67+BQ67+CA67+CK67+CU67+DE67+DO67+DY67 -> 0 | EJ67: =J67+T67+AD67+AN67+AX67+BH67+BR67+CB67+CL67+CV67+DF67+DP67+DZ67 -> 0 | EK67: =K67+U67+AE67+AO67+AY67+BI67+BS67+CC67+CM67+CW67+DG67+DQ67+EA67 -> 12 | EL67: =L67+V67+AF67+AP67+AZ67+BJ67+BT67+CD67+CN67+CX67+DH67+DR67+EB67 -> 0 | EM67: =M67+W67+AG67+AQ67+BA67+BK67+BU67+CE67+CO67+CY67+DI67+DS67+EC67 -> 0 | EN67: =N67+X67+AH67+AR67+BB67+BL67+BV67+CF67+CP67+CZ67+DJ67+DT67+ED67 -> 0 | EO67: =O67+Y67+AI67+AS67+BC67+BM67+BW67+CG67+CQ67+DA67+DK67+DU67+EE67 -> 0 | ... EQ67: =Q67+AA67+AK67+AU67+BE67+BO67+BY67+CI67+CS67+DC67+DM67+DW67+EG67 -> 0
A68: Волховский | B68: МОБУ «Бережковская основная общеобразовательная школа» | C68: село | D68: детей | E68: =F68+G68 -> 0 | F68: =EH68+EJ68+EL68+EN68+EP68 -> 0 | G68: =EI68+EK68+EM68+EO68+EQ68 -> 0 | EH68: =H68+R68+AB68+AL68+AV68+BF68+BP68+BZ68+CJ68+CT68+DD68+DN68+DX68 -> 0 | EI68: =I68+S68+AC68+AM68+AW68+BG68+BQ68+CA68+CK68+CU68+DE68+DO68+DY68 -> 0 | EJ68: =J68+T68+AD68+AN68+AX68+BH68+BR68+CB68+CL68+CV68+DF68+DP68+DZ68 -> 0 | EK68: =K68+U68+AE68+AO68+AY68+BI68+BS68+CC68+CM68+CW68+DG68+DQ68+EA68 -> 0 | EL68: =L68+V68+AF68+AP68+AZ68+BJ68+BT68+CD68+CN68+CX68+DH68+DR68+EB68 -> 0 | EM68: =M68+W68+AG68+AQ68+BA68+BK68+BU68+CE68+CO68+CY68+DI68+DS68+EC68 -> 0 | EN68: =N68+X68+AH68+AR68+BB68+BL68+BV68+CF68+CP68+CZ68+DJ68+DT68+ED68 -> 0 | EO68: =O68+Y68+AI68+AS68+BC68+BM68+BW68+CG68+CQ68+DA68+DK68+DU68+EE68 -> 0 | ... EQ68: =Q68+AA68+AK68+AU68+BE68+BO68+BY68+CI68+CS68+DC68+DM68+DW68+EG68 -> 0
A69: Волховский | B69: МОБУ «Гостинопольская основная общеобразовательная школа» | C69: село | D69: детей | E69: =F69+G69 -> 0 | F69: =EH69+EJ69+EL69+EN69+EP69 -> 0 | G69: =EI69+EK69+EM69+EO69+EQ69 -> 0 | EH69: =H69+R69+AB69+AL69+AV69+BF69+BP69+BZ69+CJ69+CT69+DD69+DN69+DX69 -> 0 | EI69: =I69+S69+AC69+AM69+AW69+BG69+BQ69+CA69+CK69+CU69+DE69+DO69+DY69 -> 0 | EJ69: =J69+T69+AD69+AN69+AX69+BH69+BR69+CB69+CL69+CV69+DF69+DP69+DZ69 -> 0 | EK69: =K69+U69+AE69+AO69+AY69+BI69+BS69+CC69+CM69+CW69+DG69+DQ69+EA69 -> 0 | EL69: =L69+V69+AF69+AP69+AZ69+BJ69+BT69+CD69+CN69+CX69+DH69+DR69+EB69 -> 0 | EM69: =M69+W69+AG69+AQ69+BA69+BK69+BU69+CE69+CO69+CY69+DI69+DS69+EC69 -> 0 | EN69: =N69+X69+AH69+AR69+BB69+BL69+BV69+CF69+CP69+CZ69+DJ69+DT69+ED69 -> 0 | EO69: =O69+Y69+AI69+AS69+BC69+BM69+BW69+CG69+CQ69+DA69+DK69+DU69+EE69 -> 0 | ... EQ69: =Q69+AA69+AK69+AU69+BE69+BO69+BY69+CI69+CS69+DC69+DM69+DW69+EG69 -> 0
A70: Волховский | B70: МОБУ «Иссадская основная общеобразовательная школа» | C70: село | D70: детей | E70: =F70+G70 -> 0 | F70: =EH70+EJ70+EL70+EN70+EP70 -> 0 | G70: =EI70+EK70+EM70+EO70+EQ70 -> 0 | EH70: =H70+R70+AB70+AL70+AV70+BF70+BP70+BZ70+CJ70+CT70+DD70+DN70+DX70 -> 0 | EI70: =I70+S70+AC70+AM70+AW70+BG70+BQ70+CA70+CK70+CU70+DE70+DO70+DY70 -> 0 | EJ70: =J70+T70+AD70+AN70+AX70+BH70+BR70+CB70+CL70+CV70+DF70+DP70+DZ70 -> 0 | EK70: =K70+U70+AE70+AO70+AY70+BI70+BS70+CC70+CM70+CW70+DG70+DQ70+EA70 -> 0 | EL70: =L70+V70+AF70+AP70+AZ70+BJ70+BT70+CD70+CN70+CX70+DH70+DR70+EB70 -> 0 | EM70: =M70+W70+AG70+AQ70+BA70+BK70+BU70+CE70+CO70+CY70+DI70+DS70+EC70 -> 0 | EN70: =N70+X70+AH70+AR70+BB70+BL70+BV70+CF70+CP70+CZ70+DJ70+DT70+ED70 -> 0 | EO70: =O70+Y70+AI70+AS70+BC70+BM70+BW70+CG70+CQ70+DA70+DK70+DU70+EE70 -> 0 | ... EQ70: =Q70+AA70+AK70+AU70+BE70+BO70+BY70+CI70+CS70+DC70+DM70+DW70+EG70 -> 0
A71: Волховский | B71: МОБУ «Кисельнинская средняя общеобразовательная школа» | C71: село | D71: детей | E71: =F71+G71 -> 0 | F71: =EH71+EJ71+EL71+EN71+EP71 -> 0 | G71: =EI71+EK71+EM71+EO71+EQ71 -> 0 | EH71: =H71+R71+AB71+AL71+AV71+BF71+BP71+BZ71+CJ71+CT71+DD71+DN71+DX71 -> 0 | EI71: =I71+S71+AC71+AM71+AW71+BG71+BQ71+CA71+CK71+CU71+DE71+DO71+DY71 -> 0 | EJ71: =J71+T71+AD71+AN71+AX71+BH71+BR71+CB71+CL71+CV71+DF71+DP71+DZ71 -> 0 | EK71: =K71+U71+AE71+AO71+AY71+BI71+BS71+CC71+CM71+CW71+DG71+DQ71+EA71 -> 0 | EL71: =L71+V71+AF71+AP71+AZ71+BJ71+BT71+CD71+CN71+CX71+DH71+DR71+EB71 -> 0 | EM71: =M71+W71+AG71+AQ71+BA71+BK71+BU71+CE71+CO71+CY71+DI71+DS71+EC71 -> 0 | EN71: =N71+X71+AH71+AR71+BB71+BL71+BV71+CF71+CP71+CZ71+DJ71+DT71+ED71 -> 0 | EO71: =O71+Y71+AI71+AS71+BC71+BM71+BW71+CG71+CQ71+DA71+DK71+DU71+EE71 -> 0 | ... EQ71: =Q71+AA71+AK71+AU71+BE71+BO71+BY71+CI71+CS71+DC71+DM71+DW71+EG71 -> 0
A72: Волховский | B72: МОБУ «Потанинская основная общеобразовательная школа» | C72: село | D72: детей | E72: =F72+G72 -> 0 | F72: =EH72+EJ72+EL72+EN72+EP72 -> 0 | G72: =EI72+EK72+EM72+EO72+EQ72 -> 0 | EH72: =H72+R72+AB72+AL72+AV72+BF72+BP72+BZ72+CJ72+CT72+DD72+DN72+DX72 -> 0 | EI72: =I72+S72+AC72+AM72+AW72+BG72+BQ72+CA72+CK72+CU72+DE72+DO72+DY72 -> 0 | EJ72: =J72+T72+AD72+AN72+AX72+BH72+BR72+CB72+CL72+CV72+DF72+DP72+DZ72 -> 0 | EK72: =K72+U72+AE72+AO72+AY72+BI72+BS72+CC72+CM72+CW72+DG72+DQ72+EA72 -> 0 | EL72: =L72+V72+AF72+AP72+AZ72+BJ72+BT72+CD72+CN72+CX72+DH72+DR72+EB72 -> 0 | EM72: =M72+W72+AG72+AQ72+BA72+BK72+BU72+CE72+CO72+CY72+DI72+DS72+EC72 -> 0 | EN72: =N72+X72+AH72+AR72+BB72+BL72+BV72+CF72+CP72+CZ72+DJ72+DT72+ED72 -> 0 | EO72: =O72+Y72+AI72+AS72+BC72+BM72+BW72+CG72+CQ72+DA72+DK72+DU72+EE72 -> 0 | ... EQ72: =Q72+AA72+AK72+AU72+BE72+BO72+BY72+CI72+CS72+DC72+DM72+DW72+EG72 -> 0
A73: Волховский | B73: МОБУ «Свирицкая средняя общеобразовательная школа» | C73: село | D73: детей | E73: =F73+G73 -> 0 | F73: =EH73+EJ73+EL73+EN73+EP73 -> 0 | G73: =EI73+EK73+EM73+EO73+EQ73 -> 0 | EH73: =H73+R73+AB73+AL73+AV73+BF73+BP73+BZ73+CJ73+CT73+DD73+DN73+DX73 -> 0 | EI73: =I73+S73+AC73+AM73+AW73+BG73+BQ73+CA73+CK73+CU73+DE73+DO73+DY73 -> 0 | EJ73: =J73+T73+AD73+AN73+AX73+BH73+BR73+CB73+CL73+CV73+DF73+DP73+DZ73 -> 0 | EK73: =K73+U73+AE73+AO73+AY73+BI73+BS73+CC73+CM73+CW73+DG73+DQ73+EA73 -> 0 | EL73: =L73+V73+AF73+AP73+AZ73+BJ73+BT73+CD73+CN73+CX73+DH73+DR73+EB73 -> 0 | EM73: =M73+W73+AG73+AQ73+BA73+BK73+BU73+CE73+CO73+CY73+DI73+DS73+EC73 -> 0 | EN73: =N73+X73+AH73+AR73+BB73+BL73+BV73+CF73+CP73+CZ73+DJ73+DT73+ED73 -> 0 | EO73: =O73+Y73+AI73+AS73+BC73+BM73+BW73+CG73+CQ73+DA73+DK73+DU73+EE73 -> 0 | ... EQ73: =Q73+AA73+AK73+AU73+BE73+BO73+BY73+CI73+CS73+DC73+DM73+DW73+EG73 -> 0
A74: Волховский | B74: МОБУ «Селивановская основная общеобразовательная школа» | C74: село | D74: детей | E74: =F74+G74 -> 0 | F74: =EH74+EJ74+EL74+EN74+EP74 -> 0 | G74: =EI74+EK74+EM74+EO74+EQ74 -> 0 | EH74: =H74+R74+AB74+AL74+AV74+BF74+BP74+BZ74+CJ74+CT74+DD74+DN74+DX74 -> 0 | EI74: =I74+S74+AC74+AM74+AW74+BG74+BQ74+CA74+CK74+CU74+DE74+DO74+DY74 -> 0 | EJ74: =J74+T74+AD74+AN74+AX74+BH74+BR74+CB74+CL74+CV74+DF74+DP74+DZ74 -> 0 | EK74: =K74+U74+AE74+AO74+AY74+BI74+BS74+CC74+CM74+CW74+DG74+DQ74+EA74 -> 0 | EL74: =L74+V74+AF74+AP74+AZ74+BJ74+BT74+CD74+CN74+CX74+DH74+DR74+EB74 -> 0 | EM74: =M74+W74+AG74+AQ74+BA74+BK74+BU74+CE74+CO74+CY74+DI74+DS74+EC74 -> 0 | EN74: =N74+X74+AH74+AR74+BB74+BL74+BV74+CF74+CP74+CZ74+DJ74+DT74+ED74 -> 0 | EO74: =O74+Y74+AI74+AS74+BC74+BM74+BW74+CG74+CQ74+DA74+DK74+DU74+EE74 -> 0 | ... EQ74: =Q74+AA74+AK74+AU74+BE74+BO74+BY74+CI74+CS74+DC74+DM74+DW74+EG74 -> 0
A75: Волховский | B75: МОУ "Усадищенская средняя общеобразовательная школа" | C75: село | D75: детей | E75: =F75+G75 -> 0 | F75: =EH75+EJ75+EL75+EN75+EP75 -> 0 | G75: =EI75+EK75+EM75+EO75+EQ75 -> 0 | EH75: =H75+R75+AB75+AL75+AV75+BF75+BP75+BZ75+CJ75+CT75+DD75+DN75+DX75 -> 0 | EI75: =I75+S75+AC75+AM75+AW75+BG75+BQ75+CA75+CK75+CU75+DE75+DO75+DY75 -> 0 | EJ75: =J75+T75+AD75+AN75+AX75+BH75+BR75+CB75+CL75+CV75+DF75+DP75+DZ75 -> 0 | EK75: =K75+U75+AE75+AO75+AY75+BI75+BS75+CC75+CM75+CW75+DG75+DQ75+EA75 -> 0 | EL75: =L75+V75+AF75+AP75+AZ75+BJ75+BT75+CD75+CN75+CX75+DH75+DR75+EB75 -> 0 | EM75: =M75+W75+AG75+AQ75+BA75+BK75+BU75+CE75+CO75+CY75+DI75+DS75+EC75 -> 0 | EN75: =N75+X75+AH75+AR75+BB75+BL75+BV75+CF75+CP75+CZ75+DJ75+DT75+ED75 -> 0 | EO75: =O75+Y75+AI75+AS75+BC75+BM75+BW75+CG75+CQ75+DA75+DK75+DU75+EE75 -> 0 | ... EQ75: =Q75+AA75+AK75+AU75+BE75+BO75+BY75+CI75+CS75+DC75+DM75+DW75+EG75 -> 0
A76: Волховский | B76: МОБУ «Хваловская средняя общеобразовательная школа» | C76: село | D76: детей | E76: =F76+G76 -> 0 | F76: =EH76+EJ76+EL76+EN76+EP76 -> 0 | G76: =EI76+EK76+EM76+EO76+EQ76 -> 0 | EH76: =H76+R76+AB76+AL76+AV76+BF76+BP76+BZ76+CJ76+CT76+DD76+DN76+DX76 -> 0 | EI76: =I76+S76+AC76+AM76+AW76+BG76+BQ76+CA76+CK76+CU76+DE76+DO76+DY76 -> 0 | EJ76: =J76+T76+AD76+AN76+AX76+BH76+BR76+CB76+CL76+CV76+DF76+DP76+DZ76 -> 0 | EK76: =K76+U76+AE76+AO76+AY76+BI76+BS76+CC76+CM76+CW76+DG76+DQ76+EA76 -> 0 | EL76: =L76+V76+AF76+AP76+AZ76+BJ76+BT76+CD76+CN76+CX76+DH76+DR76+EB76 -> 0 | EM76: =M76+W76+AG76+AQ76+BA76+BK76+BU76+CE76+CO76+CY76+DI76+DS76+EC76 -> 0 | EN76: =N76+X76+AH76+AR76+BB76+BL76+BV76+CF76+CP76+CZ76+DJ76+DT76+ED76 -> 0 | EO76: =O76+Y76+AI76+AS76+BC76+BM76+BW76+CG76+CQ76+DA76+DK76+DU76+EE76 -> 0 | ... EQ76: =Q76+AA76+AK76+AU76+BE76+BO76+BY76+CI76+CS76+DC76+DM76+DW76+EG76 -> 0
A77: 3. Волховский | B77: ИТОГО | E77: =SUBTOTAL(9,E47:E76) -> 594 | F77: =SUBTOTAL(9,F47:F76) -> 0 | G77: =SUBTOTAL(9,G47:G76) -> 594 | H77: =SUBTOTAL(9,H47:H76) -> 0 | I77: =SUBTOTAL(9,I47:I76) -> 0 | J77: =SUBTOTAL(9,J47:J76) -> 0 | K77: =SUBTOTAL(9,K47:K76) -> 58 | L77: =SUBTOTAL(9,L47:L76) -> 0 | ... EQ77: =SUBTOTAL(9,EQ47:EQ76) -> 0
A78: Всеволожский | B78: =гр.общеразв.напрв.!B78 -> МДОБУ "ДСКВ "Южный" г.Всеволожска | C78: =гр.общеразв.напрв.!C78 -> город | D78: =гр.общеразв.напрв.!D78 -> детей | E78: =F78+G78 -> 174 | F78: =EH78+EJ78+EL78+EN78+EP78 -> 0 | G78: =EI78+EK78+EM78+EO78+EQ78 -> 174 | M78: 146 | CE78: 28 | EH78: =H78+R78+AB78+AL78+AV78+BF78+BP78+BZ78+CJ78+CT78+DD78+DN78+DX78 -> 0 | EI78: =I78+S78+AC78+AM78+AW78+BG78+BQ78+CA78+CK78+CU78+DE78+DO78+DY78 -> 0 | EJ78: =J78+T78+AD78+AN78+AX78+BH78+BR78+CB78+CL78+CV78+DF78+DP78+DZ78 -> 0 | EK78: =K78+U78+AE78+AO78+AY78+BI78+BS78+CC78+CM78+CW78+DG78+DQ78+EA78 -> 0 | EL78: =L78+V78+AF78+AP78+AZ78+BJ78+BT78+CD78+CN78+CX78+DH78+DR78+EB78 -> 0 | EM78: =M78+W78+AG78+AQ78+BA78+BK78+BU78+CE78+CO78+CY78+DI78+DS78+EC78 -> 174 | EN78: =N78+X78+AH78+AR78+BB78+BL78+BV78+CF78+CP78+CZ78+DJ78+DT78+ED78 -> 0 | EO78: =O78+Y78+AI78+AS78+BC78+BM78+BW78+CG78+CQ78+DA78+DK78+DU78+EE78 -> 0 | ... EQ78: =Q78+AA78+AK78+AU78+BE78+BO78+BY78+CI78+CS78+DC78+DM78+DW78+EG78 -> 0
A79: Всеволожский | B79: =гр.общеразв.напрв.!B79 -> МДОУ "ЦРР - д./с № 4" г.Всеволожска | C79: =гр.общеразв.напрв.!C79 -> город | D79: =гр.общеразв.напрв.!D79 -> детей | E79: =F79+G79 -> 117 | F79: =EH79+EJ79+EL79+EN79+EP79 -> 0 | G79: =EI79+EK79+EM79+EO79+EQ79 -> 117 | M79: 87 | CE79: 30 | EH79: =H79+R79+AB79+AL79+AV79+BF79+BP79+BZ79+CJ79+CT79+DD79+DN79+DX79 -> 0 | EI79: =I79+S79+AC79+AM79+AW79+BG79+BQ79+CA79+CK79+CU79+DE79+DO79+DY79 -> 0 | EJ79: =J79+T79+AD79+AN79+AX79+BH79+BR79+CB79+CL79+CV79+DF79+DP79+DZ79 -> 0 | EK79: =K79+U79+AE79+AO79+AY79+BI79+BS79+CC79+CM79+CW79+DG79+DQ79+EA79 -> 0 | EL79: =L79+V79+AF79+AP79+AZ79+BJ79+BT79+CD79+CN79+CX79+DH79+DR79+EB79 -> 0 | EM79: =M79+W79+AG79+AQ79+BA79+BK79+BU79+CE79+CO79+CY79+DI79+DS79+EC79 -> 117 | EN79: =N79+X79+AH79+AR79+BB79+BL79+BV79+CF79+CP79+CZ79+DJ79+DT79+ED79 -> 0 | EO79: =O79+Y79+AI79+AS79+BC79+BM79+BW79+CG79+CQ79+DA79+DK79+DU79+EE79 -> 0 | ... EQ79: =Q79+AA79+AK79+AU79+BE79+BO79+BY79+CI79+CS79+DC79+DM79+DW79+EG79 -> 0
A80: Всеволожский | B80: =гр.общеразв.напрв.!B80 -> МДОБУ "ДСКВ № 6" г.Всеволожска | C80: =гр.общеразв.напрв.!C80 -> город | D80: =гр.общеразв.напрв.!D80 -> детей | E80: =F80+G80 -> 211 | F80: =EH80+EJ80+EL80+EN80+EP80 -> 0 | G80: =EI80+EK80+EM80+EO80+EQ80 -> 211 | M80: 151 | CE80: 49 | DS80: 11 | EH80: =H80+R80+AB80+AL80+AV80+BF80+BP80+BZ80+CJ80+CT80+DD80+DN80+DX80 -> 0 | EI80: =I80+S80+AC80+AM80+AW80+BG80+BQ80+CA80+CK80+CU80+DE80+DO80+DY80 -> 0 | EJ80: =J80+T80+AD80+AN80+AX80+BH80+BR80+CB80+CL80+CV80+DF80+DP80+DZ80 -> 0 | EK80: =K80+U80+AE80+AO80+AY80+BI80+BS80+CC80+CM80+CW80+DG80+DQ80+EA80 -> 0 | EL80: =L80+V80+AF80+AP80+AZ80+BJ80+BT80+CD80+CN80+CX80+DH80+DR80+EB80 -> 0 | EM80: =M80+W80+AG80+AQ80+BA80+BK80+BU80+CE80+CO80+CY80+DI80+DS80+EC80 -> 211 | EN80: =N80+X80+AH80+AR80+BB80+BL80+BV80+CF80+CP80+CZ80+DJ80+DT80+ED80 -> 0 | EO80: =O80+Y80+AI80+AS80+BC80+BM80+BW80+CG80+CQ80+DA80+DK80+DU80+EE80 -> 0 | ... EQ80: =Q80+AA80+AK80+AU80+BE80+BO80+BY80+CI80+CS80+DC80+DM80+DW80+EG80 -> 0
A81: Всеволожский | B81: =гр.общеразв.напрв.!B81 -> МДОБУ "ДСКВ № 10" г.Всеволожска | C81: =гр.общеразв.напрв.!C81 -> город | D81: =гр.общеразв.напрв.!D81 -> детей | E81: =F81+G81 -> 86 | F81: =EH81+EJ81+EL81+EN81+EP81 -> 0 | G81: =EI81+EK81+EM81+EO81+EQ81 -> 86 | M81: 68 | CE81: 18 | EH81: =H81+R81+AB81+AL81+AV81+BF81+BP81+BZ81+CJ81+CT81+DD81+DN81+DX81 -> 0 | EI81: =I81+S81+AC81+AM81+AW81+BG81+BQ81+CA81+CK81+CU81+DE81+DO81+DY81 -> 0 | EJ81: =J81+T81+AD81+AN81+AX81+BH81+BR81+CB81+CL81+CV81+DF81+DP81+DZ81 -> 0 | EK81: =K81+U81+AE81+AO81+AY81+BI81+BS81+CC81+CM81+CW81+DG81+DQ81+EA81 -> 0 | EL81: =L81+V81+AF81+AP81+AZ81+BJ81+BT81+CD81+CN81+CX81+DH81+DR81+EB81 -> 0 | EM81: =M81+W81+AG81+AQ81+BA81+BK81+BU81+CE81+CO81+CY81+DI81+DS81+EC81 -> 86 | EN81: =N81+X81+AH81+AR81+BB81+BL81+BV81+CF81+CP81+CZ81+DJ81+DT81+ED81 -> 0 | EO81: =O81+Y81+AI81+AS81+BC81+BM81+BW81+CG81+CQ81+DA81+DK81+DU81+EE81 -> 0 | ... EQ81: =Q81+AA81+AK81+AU81+BE81+BO81+BY81+CI81+CS81+DC81+DM81+DW81+EG81 -> 0
A82: Всеволожский | B82: =гр.общеразв.напрв.!B82 -> МДОБУ "Морозовский ДСКВ" | C82: =гр.общеразв.напрв.!C82 -> пгт | D82: =гр.общеразв.напрв.!D82 -> детей | E82: =F82+G82 -> 116 | F82: =EH82+EJ82+EL82+EN82+EP82 -> 0 | G82: =EI82+EK82+EM82+EO82+EQ82 -> 116 | M82: 96 | CE82: 20 | EH82: =H82+R82+AB82+AL82+AV82+BF82+BP82+BZ82+CJ82+CT82+DD82+DN82+DX82 -> 0 | EI82: =I82+S82+AC82+AM82+AW82+BG82+BQ82+CA82+CK82+CU82+DE82+DO82+DY82 -> 0 | EJ82: =J82+T82+AD82+AN82+AX82+BH82+BR82+CB82+CL82+CV82+DF82+DP82+DZ82 -> 0 | EK82: =K82+U82+AE82+AO82+AY82+BI82+BS82+CC82+CM82+CW82+DG82+DQ82+EA82 -> 0 | EL82: =L82+V82+AF82+AP82+AZ82+BJ82+BT82+CD82+CN82+CX82+DH82+DR82+EB82 -> 0 | EM82: =M82+W82+AG82+AQ82+BA82+BK82+BU82+CE82+CO82+CY82+DI82+DS82+EC82 -> 116 | EN82: =N82+X82+AH82+AR82+BB82+BL82+BV82+CF82+CP82+CZ82+DJ82+DT82+ED82 -> 0 | EO82: =O82+Y82+AI82+AS82+BC82+BM82+BW82+CG82+CQ82+DA82+DK82+DU82+EE82 -> 0 | ... EQ82: =Q82+AA82+AK82+AU82+BE82+BO82+BY82+CI82+CS82+DC82+DM82+DW82+EG82 -> 0
A83: Всеволожский | B83: =гр.общеразв.напрв.!B83 -> МДОБУ "Кузьмоловский ДСКВ" | C83: =гр.общеразв.напрв.!C83 -> пгт | D83: =гр.общеразв.напрв.!D83 -> детей | E83: =F83+G83 -> 53 | F83: =EH83+EJ83+EL83+EN83+EP83 -> 0 | G83: =EI83+EK83+EM83+EO83+EQ83 -> 53 | M83: 38 | CE83: 15 | EH83: =H83+R83+AB83+AL83+AV83+BF83+BP83+BZ83+CJ83+CT83+DD83+DN83+DX83 -> 0 | EI83: =I83+S83+AC83+AM83+AW83+BG83+BQ83+CA83+CK83+CU83+DE83+DO83+DY83 -> 0 | EJ83: =J83+T83+AD83+AN83+AX83+BH83+BR83+CB83+CL83+CV83+DF83+DP83+DZ83 -> 0 | EK83: =K83+U83+AE83+AO83+AY83+BI83+BS83+CC83+CM83+CW83+DG83+DQ83+EA83 -> 0 | EL83: =L83+V83+AF83+AP83+AZ83+BJ83+BT83+CD83+CN83+CX83+DH83+DR83+EB83 -> 0 | EM83: =M83+W83+AG83+AQ83+BA83+BK83+BU83+CE83+CO83+CY83+DI83+DS83+EC83 -> 53 | EN83: =N83+X83+AH83+AR83+BB83+BL83+BV83+CF83+CP83+CZ83+DJ83+DT83+ED83 -> 0 | EO83: =O83+Y83+AI83+AS83+BC83+BM83+BW83+CG83+CQ83+DA83+DK83+DU83+EE83 -> 0 | ... EQ83: =Q83+AA83+AK83+AU83+BE83+BO83+BY83+CI83+CS83+DC83+DM83+DW83+EG83 -> 0
A84: Всеволожский | B84: =гр.общеразв.напрв.!B84 -> МДОУ "ДСКВ № 12" п. Романовка | C84: =гр.общеразв.напрв.!C84 -> село | D84: =гр.общеразв.напрв.!D84 -> детей | E84: =F84+G84 -> 79 | F84: =EH84+EJ84+EL84+EN84+EP84 -> 0 | G84: =EI84+EK84+EM84+EO84+EQ84 -> 79 | M84: 40 | CE84: 39 | EH84: =H84+R84+AB84+AL84+AV84+BF84+BP84+BZ84+CJ84+CT84+DD84+DN84+DX84 -> 0 | EI84: =I84+S84+AC84+AM84+AW84+BG84+BQ84+CA84+CK84+CU84+DE84+DO84+DY84 -> 0 | EJ84: =J84+T84+AD84+AN84+AX84+BH84+BR84+CB84+CL84+CV84+DF84+DP84+DZ84 -> 0 | EK84: =K84+U84+AE84+AO84+AY84+BI84+BS84+CC84+CM84+CW84+DG84+DQ84+EA84 -> 0 | EL84: =L84+V84+AF84+AP84+AZ84+BJ84+BT84+CD84+CN84+CX84+DH84+DR84+EB84 -> 0 | EM84: =M84+W84+AG84+AQ84+BA84+BK84+BU84+CE84+CO84+CY84+DI84+DS84+EC84 -> 79 | EN84: =N84+X84+AH84+AR84+BB84+BL84+BV84+CF84+CP84+CZ84+DJ84+DT84+ED84 -> 0 | EO84: =O84+Y84+AI84+AS84+BC84+BM84+BW84+CG84+CQ84+DA84+DK84+DU84+EE84 -> 0 | ... EQ84: =Q84+AA84+AK84+AU84+BE84+BO84+BY84+CI84+CS84+DC84+DM84+DW84+EG84 -> 0
A85: Всеволожский | B85: =гр.общеразв.напрв.!B85 -> МДОУ "ДСКВ № 13" п.Щеглово | C85: =гр.общеразв.напрв.!C85 -> село | D85: =гр.общеразв.напрв.!D85 -> детей | E85: =F85+G85 -> 86 | F85: =EH85+EJ85+EL85+EN85+EP85 -> 0 | G85: =EI85+EK85+EM85+EO85+EQ85 -> 86 | M85: 73 | CE85: 13 | EH85: =H85+R85+AB85+AL85+AV85+BF85+BP85+BZ85+CJ85+CT85+DD85+DN85+DX85 -> 0 | EI85: =I85+S85+AC85+AM85+AW85+BG85+BQ85+CA85+CK85+CU85+DE85+DO85+DY85 -> 0 | EJ85: =J85+T85+AD85+AN85+AX85+BH85+BR85+CB85+CL85+CV85+DF85+DP85+DZ85 -> 0 | EK85: =K85+U85+AE85+AO85+AY85+BI85+BS85+CC85+CM85+CW85+DG85+DQ85+EA85 -> 0 | EL85: =L85+V85+AF85+AP85+AZ85+BJ85+BT85+CD85+CN85+CX85+DH85+DR85+EB85 -> 0 | EM85: =M85+W85+AG85+AQ85+BA85+BK85+BU85+CE85+CO85+CY85+DI85+DS85+EC85 -> 86 | EN85: =N85+X85+AH85+AR85+BB85+BL85+BV85+CF85+CP85+CZ85+DJ85+DT85+ED85 -> 0 | EO85: =O85+Y85+AI85+AS85+BC85+BM85+BW85+CG85+CQ85+DA85+DK85+DU85+EE85 -> 0 | ... EQ85: =Q85+AA85+AK85+AU85+BE85+BO85+BY85+CI85+CS85+DC85+DM85+DW85+EG85 -> 0
A86: Всеволожский | B86: =гр.общеразв.напрв.!B86 -> МАДОУ "ДСКВ № 35" п.Бугры | C86: =гр.общеразв.напрв.!C86 -> село | D86: =гр.общеразв.напрв.!D86 -> детей | E86: =F86+G86 -> 62 | F86: =EH86+EJ86+EL86+EN86+EP86 -> 0 | G86: =EI86+EK86+EM86+EO86+EQ86 -> 62 | M86: 44 | CE86: 18 | EH86: =H86+R86+AB86+AL86+AV86+BF86+BP86+BZ86+CJ86+CT86+DD86+DN86+DX86 -> 0 | EI86: =I86+S86+AC86+AM86+AW86+BG86+BQ86+CA86+CK86+CU86+DE86+DO86+DY86 -> 0 | EJ86: =J86+T86+AD86+AN86+AX86+BH86+BR86+CB86+CL86+CV86+DF86+DP86+DZ86 -> 0 | EK86: =K86+U86+AE86+AO86+AY86+BI86+BS86+CC86+CM86+CW86+DG86+DQ86+EA86 -> 0 | EL86: =L86+V86+AF86+AP86+AZ86+BJ86+BT86+CD86+CN86+CX86+DH86+DR86+EB86 -> 0 | EM86: =M86+W86+AG86+AQ86+BA86+BK86+BU86+CE86+CO86+CY86+DI86+DS86+EC86 -> 62 | EN86: =N86+X86+AH86+AR86+BB86+BL86+BV86+CF86+CP86+CZ86+DJ86+DT86+ED86 -> 0 | EO86: =O86+Y86+AI86+AS86+BC86+BM86+BW86+CG86+CQ86+DA86+DK86+DU86+EE86 -> 0 | ... EQ86: =Q86+AA86+AK86+AU86+BE86+BO86+BY86+CI86+CS86+DC86+DM86+DW86+EG86 -> 0
A87: Всеволожский | B87: =гр.общеразв.напрв.!B87 -> МАДОУ "ДСКВ № 28" п.Лупполово | C87: =гр.общеразв.напрв.!C87 -> село | D87: =гр.общеразв.напрв.!D87 -> детей | E87: =F87+G87 -> 52 | F87: =EH87+EJ87+EL87+EN87+EP87 -> 0 | G87: =EI87+EK87+EM87+EO87+EQ87 -> 52 | M87: 52 | EH87: =H87+R87+AB87+AL87+AV87+BF87+BP87+BZ87+CJ87+CT87+DD87+DN87+DX87 -> 0 | EI87: =I87+S87+AC87+AM87+AW87+BG87+BQ87+CA87+CK87+CU87+DE87+DO87+DY87 -> 0 | EJ87: =J87+T87+AD87+AN87+AX87+BH87+BR87+CB87+CL87+CV87+DF87+DP87+DZ87 -> 0 | EK87: =K87+U87+AE87+AO87+AY87+BI87+BS87+CC87+CM87+CW87+DG87+DQ87+EA87 -> 0 | EL87: =L87+V87+AF87+AP87+AZ87+BJ87+BT87+CD87+CN87+CX87+DH87+DR87+EB87 -> 0 | EM87: =M87+W87+AG87+AQ87+BA87+BK87+BU87+CE87+CO87+CY87+DI87+DS87+EC87 -> 52 | EN87: =N87+X87+AH87+AR87+BB87+BL87+BV87+CF87+CP87+CZ87+DJ87+DT87+ED87 -> 0 | EO87: =O87+Y87+AI87+AS87+BC87+BM87+BW87+CG87+CQ87+DA87+DK87+DU87+EE87 -> 0 | ... EQ87: =Q87+AA87+AK87+AU87+BE87+BO87+BY87+CI87+CS87+DC87+DM87+DW87+EG87 -> 0
A88: Всеволожский | B88: =гр.общеразв.напрв.!B88 -> МДОУ "ДСКВ № 59" д.Новое Девяткино | C88: =гр.общеразв.напрв.!C88 -> село | D88: =гр.общеразв.напрв.!D88 -> детей | E88: =F88+G88 -> 45 | F88: =EH88+EJ88+EL88+EN88+EP88 -> 0 | G88: =EI88+EK88+EM88+EO88+EQ88 -> 45 | M88: 45 | EH88: =H88+R88+AB88+AL88+AV88+BF88+BP88+BZ88+CJ88+CT88+DD88+DN88+DX88 -> 0 | EI88: =I88+S88+AC88+AM88+AW88+BG88+BQ88+CA88+CK88+CU88+DE88+DO88+DY88 -> 0 | EJ88: =J88+T88+AD88+AN88+AX88+BH88+BR88+CB88+CL88+CV88+DF88+DP88+DZ88 -> 0 | EK88: =K88+U88+AE88+AO88+AY88+BI88+BS88+CC88+CM88+CW88+DG88+DQ88+EA88 -> 0 | EL88: =L88+V88+AF88+AP88+AZ88+BJ88+BT88+CD88+CN88+CX88+DH88+DR88+EB88 -> 0 | EM88: =M88+W88+AG88+AQ88+BA88+BK88+BU88+CE88+CO88+CY88+DI88+DS88+EC88 -> 45 | EN88: =N88+X88+AH88+AR88+BB88+BL88+BV88+CF88+CP88+CZ88+DJ88+DT88+ED88 -> 0 | EO88: =O88+Y88+AI88+AS88+BC88+BM88+BW88+CG88+CQ88+DA88+DK88+DU88+EE88 -> 0 | ... EQ88: =Q88+AA88+AK88+AU88+BE88+BO88+BY88+CI88+CS88+DC88+DM88+DW88+EG88 -> 0
A89: Всеволожский | B89: =гр.общеразв.напрв.!B89 -> МДОБУ "ДСКВ № 61" Медвежий Стан | C89: =гр.общеразв.напрв.!C89 -> село | D89: =гр.общеразв.напрв.!D89 -> детей | E89: =F89+G89 -> 210 | F89: =EH89+EJ89+EL89+EN89+EP89 -> 0 | G89: =EI89+EK89+EM89+EO89+EQ89 -> 210 | M89: 165 | CE89: 45 | EH89: =H89+R89+AB89+AL89+AV89+BF89+BP89+BZ89+CJ89+CT89+DD89+DN89+DX89 -> 0 | EI89: =I89+S89+AC89+AM89+AW89+BG89+BQ89+CA89+CK89+CU89+DE89+DO89+DY89 -> 0 | EJ89: =J89+T89+AD89+AN89+AX89+BH89+BR89+CB89+CL89+CV89+DF89+DP89+DZ89 -> 0 | EK89: =K89+U89+AE89+AO89+AY89+BI89+BS89+CC89+CM89+CW89+DG89+DQ89+EA89 -> 0 | EL89: =L89+V89+AF89+AP89+AZ89+BJ89+BT89+CD89+CN89+CX89+DH89+DR89+EB89 -> 0 | EM89: =M89+W89+AG89+AQ89+BA89+BK89+BU89+CE89+CO89+CY89+DI89+DS89+EC89 -> 210 | EN89: =N89+X89+AH89+AR89+BB89+BL89+BV89+CF89+CP89+CZ89+DJ89+DT89+ED89 -> 0 | EO89: =O89+Y89+AI89+AS89+BC89+BM89+BW89+CG89+CQ89+DA89+DK89+DU89+EE89 -> 0 | ... EQ89: =Q89+AA89+AK89+AU89+BE89+BO89+BY89+CI89+CS89+DC89+DM89+DW89+EG89 -> 0
A90: Всеволожский | B90: =гр.общеразв.напрв.!B90 -> МДОУ "ДСКВ № 62" д.Старая | C90: =гр.общеразв.напрв.!C90 -> село | D90: =гр.общеразв.напрв.!D90 -> детей | E90: =F90+G90 -> 65 | F90: =EH90+EJ90+EL90+EN90+EP90 -> 0 | G90: =EI90+EK90+EM90+EO90+EQ90 -> 65 | M90: 32 | CE90: 33 | EH90: =H90+R90+AB90+AL90+AV90+BF90+BP90+BZ90+CJ90+CT90+DD90+DN90+DX90 -> 0 | EI90: =I90+S90+AC90+AM90+AW90+BG90+BQ90+CA90+CK90+CU90+DE90+DO90+DY90 -> 0 | EJ90: =J90+T90+AD90+AN90+AX90+BH90+BR90+CB90+CL90+CV90+DF90+DP90+DZ90 -> 0 | EK90: =K90+U90+AE90+AO90+AY90+BI90+BS90+CC90+CM90+CW90+DG90+DQ90+EA90 -> 0 | EL90: =L90+V90+AF90+AP90+AZ90+BJ90+BT90+CD90+CN90+CX90+DH90+DR90+EB90 -> 0 | EM90: =M90+W90+AG90+AQ90+BA90+BK90+BU90+CE90+CO90+CY90+DI90+DS90+EC90 -> 65 | EN90: =N90+X90+AH90+AR90+BB90+BL90+BV90+CF90+CP90+CZ90+DJ90+DT90+ED90 -> 0 | EO90: =O90+Y90+AI90+AS90+BC90+BM90+BW90+CG90+CQ90+DA90+DK90+DU90+EE90 -> 0 | ... EQ90: =Q90+AA90+AK90+AU90+BE90+BO90+BY90+CI90+CS90+DC90+DM90+DW90+EG90 -> 0
A91: Всеволожский | B91: =гр.общеразв.напрв.!B91 -> МДОБУ "Васкеловский ДСКВ" | C91: =гр.общеразв.напрв.!C91 -> село | D91: =гр.общеразв.напрв.!D91 -> детей | E91: =F91+G91 -> 35 | F91: =EH91+EJ91+EL91+EN91+EP91 -> 0 | G91: =EI91+EK91+EM91+EO91+EQ91 -> 35 | M91: 29 | CE91: 6 | EH91: =H91+R91+AB91+AL91+AV91+BF91+BP91+BZ91+CJ91+CT91+DD91+DN91+DX91 -> 0 | EI91: =I91+S91+AC91+AM91+AW91+BG91+BQ91+CA91+CK91+CU91+DE91+DO91+DY91 -> 0 | EJ91: =J91+T91+AD91+AN91+AX91+BH91+BR91+CB91+CL91+CV91+DF91+DP91+DZ91 -> 0 | EK91: =K91+U91+AE91+AO91+AY91+BI91+BS91+CC91+CM91+CW91+DG91+DQ91+EA91 -> 0 | EL91: =L91+V91+AF91+AP91+AZ91+BJ91+BT91+CD91+CN91+CX91+DH91+DR91+EB91 -> 0 | EM91: =M91+W91+AG91+AQ91+BA91+BK91+BU91+CE91+CO91+CY91+DI91+DS91+EC91 -> 35 | EN91: =N91+X91+AH91+AR91+BB91+BL91+BV91+CF91+CP91+CZ91+DJ91+DT91+ED91 -> 0 | EO91: =O91+Y91+AI91+AS91+BC91+BM91+BW91+CG91+CQ91+DA91+DK91+DU91+EE91 -> 0 | ... EQ91: =Q91+AA91+AK91+AU91+BE91+BO91+BY91+CI91+CS91+DC91+DM91+DW91+EG91 -> 0
A92: Всеволожский | B92: =гр.общеразв.напрв.!B92 -> МДОБУ "Агалатовский ДСКВ №1" | C92: =гр.общеразв.напрв.!C92 -> село | D92: =гр.общеразв.напрв.!D92 -> детей | E92: =F92+G92 -> 140 | F92: =EH92+EJ92+EL92+EN92+EP92 -> 0 | G92: =EI92+EK92+EM92+EO92+EQ92 -> 140 | M92: 108 | CE92: 32 | EH92: =H92+R92+AB92+AL92+AV92+BF92+BP92+BZ92+CJ92+CT92+DD92+DN92+DX92 -> 0 | EI92: =I92+S92+AC92+AM92+AW92+BG92+BQ92+CA92+CK92+CU92+DE92+DO92+DY92 -> 0 | EJ92: =J92+T92+AD92+AN92+AX92+BH92+BR92+CB92+CL92+CV92+DF92+DP92+DZ92 -> 0 | EK92: =K92+U92+AE92+AO92+AY92+BI92+BS92+CC92+CM92+CW92+DG92+DQ92+EA92 -> 0 | EL92: =L92+V92+AF92+AP92+AZ92+BJ92+BT92+CD92+CN92+CX92+DH92+DR92+EB92 -> 0 | EM92: =M92+W92+AG92+AQ92+BA92+BK92+BU92+CE92+CO92+CY92+DI92+DS92+EC92 -> 140 | EN92: =N92+X92+AH92+AR92+BB92+BL92+BV92+CF92+CP92+CZ92+DJ92+DT92+ED92 -> 0 | EO92: =O92+Y92+AI92+AS92+BC92+BM92+BW92+CG92+CQ92+DA92+DK92+DU92+EE92 -> 0 | ... EQ92: =Q92+AA92+AK92+AU92+BE92+BO92+BY92+CI92+CS92+DC92+DM92+DW92+EG92 -> 0
A93: Всеволожский | B93: =гр.общеразв.напрв.!B93 -> МДОБУ "Сертоловский ДСКВ № 1" | C93: =гр.общеразв.напрв.!C93 -> город | D93: =гр.общеразв.напрв.!D93 -> детей | E93: =F93+G93 -> 94 | F93: =EH93+EJ93+EL93+EN93+EP93 -> 0 | G93: =EI93+EK93+EM93+EO93+EQ93 -> 94 | M93: 79 | CE93: 15 | EH93: =H93+R93+AB93+AL93+AV93+BF93+BP93+BZ93+CJ93+CT93+DD93+DN93+DX93 -> 0 | EI93: =I93+S93+AC93+AM93+AW93+BG93+BQ93+CA93+CK93+CU93+DE93+DO93+DY93 -> 0 | EJ93: =J93+T93+AD93+AN93+AX93+BH93+BR93+CB93+CL93+CV93+DF93+DP93+DZ93 -> 0 | EK93: =K93+U93+AE93+AO93+AY93+BI93+BS93+CC93+CM93+CW93+DG93+DQ93+EA93 -> 0 | EL93: =L93+V93+AF93+AP93+AZ93+BJ93+BT93+CD93+CN93+CX93+DH93+DR93+EB93 -> 0 | EM93: =M93+W93+AG93+AQ93+BA93+BK93+BU93+CE93+CO93+CY93+DI93+DS93+EC93 -> 94 | EN93: =N93+X93+AH93+AR93+BB93+BL93+BV93+CF93+CP93+CZ93+DJ93+DT93+ED93 -> 0 | EO93: =O93+Y93+AI93+AS93+BC93+BM93+BW93+CG93+CQ93+DA93+DK93+DU93+EE93 -> 0 | ... EQ93: =Q93+AA93+AK93+AU93+BE93+BO93+BY93+CI93+CS93+DC93+DM93+DW93+EG93 -> 0
A94: Всеволожский | B94: =гр.общеразв.напрв.!B94 -> МДОБУ "Сертоловский ДСКВ № 2" | C94: =гр.общеразв.напрв.!C94 -> город | D94: =гр.общеразв.напрв.!D94 -> детей | E94: =F94+G94 -> 75 | F94: =EH94+EJ94+EL94+EN94+EP94 -> 0 | G94: =EI94+EK94+EM94+EO94+EQ94 -> 75 | M94: 60 | CE94: 15 | EH94: =H94+R94+AB94+AL94+AV94+BF94+BP94+BZ94+CJ94+CT94+DD94+DN94+DX94 -> 0 | EI94: =I94+S94+AC94+AM94+AW94+BG94+BQ94+CA94+CK94+CU94+DE94+DO94+DY94 -> 0 | EJ94: =J94+T94+AD94+AN94+AX94+BH94+BR94+CB94+CL94+CV94+DF94+DP94+DZ94 -> 0 | EK94: =K94+U94+AE94+AO94+AY94+BI94+BS94+CC94+CM94+CW94+DG94+DQ94+EA94 -> 0 | EL94: =L94+V94+AF94+AP94+AZ94+BJ94+BT94+CD94+CN94+CX94+DH94+DR94+EB94 -> 0 | EM94: =M94+W94+AG94+AQ94+BA94+BK94+BU94+CE94+CO94+CY94+DI94+DS94+EC94 -> 75 | EN94: =N94+X94+AH94+AR94+BB94+BL94+BV94+CF94+CP94+CZ94+DJ94+DT94+ED94 -> 0 | EO94: =O94+Y94+AI94+AS94+BC94+BM94+BW94+CG94+CQ94+DA94+DK94+DU94+EE94 -> 0 | ... EQ94: =Q94+AA94+AK94+AU94+BE94+BO94+BY94+CI94+CS94+DC94+DM94+DW94+EG94 -> 0
A95: Всеволожский | B95: =гр.общеразв.напрв.!B95 -> МДОБУ "Сертоловский ДСКВ № 3" | C95: =гр.общеразв.напрв.!C95 -> город | D95: =гр.общеразв.напрв.!D95 -> детей | E95: =F95+G95 -> 90 | F95: =EH95+EJ95+EL95+EN95+EP95 -> 0 | G95: =EI95+EK95+EM95+EO95+EQ95 -> 90 | M95: 67 | CE95: 23 | EH95: =H95+R95+AB95+AL95+AV95+BF95+BP95+BZ95+CJ95+CT95+DD95+DN95+DX95 -> 0 | EI95: =I95+S95+AC95+AM95+AW95+BG95+BQ95+CA95+CK95+CU95+DE95+DO95+DY95 -> 0 | EJ95: =J95+T95+AD95+AN95+AX95+BH95+BR95+CB95+CL95+CV95+DF95+DP95+DZ95 -> 0 | EK95: =K95+U95+AE95+AO95+AY95+BI95+BS95+CC95+CM95+CW95+DG95+DQ95+EA95 -> 0 | EL95: =L95+V95+AF95+AP95+AZ95+BJ95+BT95+CD95+CN95+CX95+DH95+DR95+EB95 -> 0 | EM95: =M95+W95+AG95+AQ95+BA95+BK95+BU95+CE95+CO95+CY95+DI95+DS95+EC95 -> 90 | EN95: =N95+X95+AH95+AR95+BB95+BL95+BV95+CF95+CP95+CZ95+DJ95+DT95+ED95 -> 0 | EO95: =O95+Y95+AI95+AS95+BC95+BM95+BW95+CG95+CQ95+DA95+DK95+DU95+EE95 -> 0 | ... EQ95: =Q95+AA95+AK95+AU95+BE95+BO95+BY95+CI95+CS95+DC95+DM95+DW95+EG95 -> 0
A96: Всеволожский | B96: =гр.общеразв.напрв.!B96 -> МДОБУ "Чернореченский ДСКВ" | C96: =гр.общеразв.напрв.!C96 -> город | D96: =гр.общеразв.напрв.!D96 -> детей | E96: =F96+G96 -> 56 | F96: =EH96+EJ96+EL96+EN96+EP96 -> 0 | G96: =EI96+EK96+EM96+EO96+EQ96 -> 56 | M96: 44 | CE96: 12 | EH96: =H96+R96+AB96+AL96+AV96+BF96+BP96+BZ96+CJ96+CT96+DD96+DN96+DX96 -> 0 | EI96: =I96+S96+AC96+AM96+AW96+BG96+BQ96+CA96+CK96+CU96+DE96+DO96+DY96 -> 0 | EJ96: =J96+T96+AD96+AN96+AX96+BH96+BR96+CB96+CL96+CV96+DF96+DP96+DZ96 -> 0 | EK96: =K96+U96+AE96+AO96+AY96+BI96+BS96+CC96+CM96+CW96+DG96+DQ96+EA96 -> 0 | EL96: =L96+V96+AF96+AP96+AZ96+BJ96+BT96+CD96+CN96+CX96+DH96+DR96+EB96 -> 0 | EM96: =M96+W96+AG96+AQ96+BA96+BK96+BU96+CE96+CO96+CY96+DI96+DS96+EC96 -> 56 | EN96: =N96+X96+AH96+AR96+BB96+BL96+BV96+CF96+CP96+CZ96+DJ96+DT96+ED96 -> 0 | EO96: =O96+Y96+AI96+AS96+BC96+BM96+BW96+CG96+CQ96+DA96+DK96+DU96+EE96 -> 0 | ... EQ96: =Q96+AA96+AK96+AU96+BE96+BO96+BY96+CI96+CS96+DC96+DM96+DW96+EG96 -> 0
A97: Всеволожский | B97: =гр.общеразв.напрв.!B97 -> МДОБУ "Ново-Девяткинский ДСКВ №1" | C97: =гр.общеразв.напрв.!C97 -> село | D97: =гр.общеразв.напрв.!D97 -> детей | E97: =F97+G97 -> 57 | F97: =EH97+EJ97+EL97+EN97+EP97 -> 0 | G97: =EI97+EK97+EM97+EO97+EQ97 -> 57 | M97: 40 | CE97: 17 | EH97: =H97+R97+AB97+AL97+AV97+BF97+BP97+BZ97+CJ97+CT97+DD97+DN97+DX97 -> 0 | EI97: =I97+S97+AC97+AM97+AW97+BG97+BQ97+CA97+CK97+CU97+DE97+DO97+DY97 -> 0 | EJ97: =J97+T97+AD97+AN97+AX97+BH97+BR97+CB97+CL97+CV97+DF97+DP97+DZ97 -> 0 | EK97: =K97+U97+AE97+AO97+AY97+BI97+BS97+CC97+CM97+CW97+DG97+DQ97+EA97 -> 0 | EL97: =L97+V97+AF97+AP97+AZ97+BJ97+BT97+CD97+CN97+CX97+DH97+DR97+EB97 -> 0 | EM97: =M97+W97+AG97+AQ97+BA97+BK97+BU97+CE97+CO97+CY97+DI97+DS97+EC97 -> 57 | EN97: =N97+X97+AH97+AR97+BB97+BL97+BV97+CF97+CP97+CZ97+DJ97+DT97+ED97 -> 0 | EO97: =O97+Y97+AI97+AS97+BC97+BM97+BW97+CG97+CQ97+DA97+DK97+DU97+EE97 -> 0 | ... EQ97: =Q97+AA97+AK97+AU97+BE97+BO97+BY97+CI97+CS97+DC97+DM97+DW97+EG97 -> 0
A98: Всеволожский | B98: =гр.общеразв.напрв.!B98 -> МДОБУ "Муринский ДСКВ № 1" | C98: =гр.общеразв.напрв.!C98 -> город | D98: =гр.общеразв.напрв.!D98 -> детей | E98: =F98+G98 -> 93 | F98: =EH98+EJ98+EL98+EN98+EP98 -> 0 | G98: =EI98+EK98+EM98+EO98+EQ98 -> 93 | M98: 61 | CE98: 32 | EH98: =H98+R98+AB98+AL98+AV98+BF98+BP98+BZ98+CJ98+CT98+DD98+DN98+DX98 -> 0 | EI98: =I98+S98+AC98+AM98+AW98+BG98+BQ98+CA98+CK98+CU98+DE98+DO98+DY98 -> 0 | EJ98: =J98+T98+AD98+AN98+AX98+BH98+BR98+CB98+CL98+CV98+DF98+DP98+DZ98 -> 0 | EK98: =K98+U98+AE98+AO98+AY98+BI98+BS98+CC98+CM98+CW98+DG98+DQ98+EA98 -> 0 | EL98: =L98+V98+AF98+AP98+AZ98+BJ98+BT98+CD98+CN98+CX98+DH98+DR98+EB98 -> 0 | EM98: =M98+W98+AG98+AQ98+BA98+BK98+BU98+CE98+CO98+CY98+DI98+DS98+EC98 -> 93 | EN98: =N98+X98+AH98+AR98+BB98+BL98+BV98+CF98+CP98+CZ98+DJ98+DT98+ED98 -> 0 | EO98: =O98+Y98+AI98+AS98+BC98+BM98+BW98+CG98+CQ98+DA98+DK98+DU98+EE98 -> 0 | ... EQ98: =Q98+AA98+AK98+AU98+BE98+BO98+BY98+CI98+CS98+DC98+DM98+DW98+EG98 -> 0
A99: Всеволожский | B99: =гр.общеразв.напрв.!B99 -> МОБУ "СОШ "Муринский ЦО № 1" | C99: =гр.общеразв.напрв.!C99 -> город | D99: =гр.общеразв.напрв.!D99 -> детей | E99: =F99+G99 -> 47 | F99: =EH99+EJ99+EL99+EN99+EP99 -> 0 | G99: =EI99+EK99+EM99+EO99+EQ99 -> 47 | M99: 47 | EH99: =H99+R99+AB99+AL99+AV99+BF99+BP99+BZ99+CJ99+CT99+DD99+DN99+DX99 -> 0 | EI99: =I99+S99+AC99+AM99+AW99+BG99+BQ99+CA99+CK99+CU99+DE99+DO99+DY99 -> 0 | EJ99: =J99+T99+AD99+AN99+AX99+BH99+BR99+CB99+CL99+CV99+DF99+DP99+DZ99 -> 0 | EK99: =K99+U99+AE99+AO99+AY99+BI99+BS99+CC99+CM99+CW99+DG99+DQ99+EA99 -> 0 | EL99: =L99+V99+AF99+AP99+AZ99+BJ99+BT99+CD99+CN99+CX99+DH99+DR99+EB99 -> 0 | EM99: =M99+W99+AG99+AQ99+BA99+BK99+BU99+CE99+CO99+CY99+DI99+DS99+EC99 -> 47 | EN99: =N99+X99+AH99+AR99+BB99+BL99+BV99+CF99+CP99+CZ99+DJ99+DT99+ED99 -> 0 | EO99: =O99+Y99+AI99+AS99+BC99+BM99+BW99+CG99+CQ99+DA99+DK99+DU99+EE99 -> 0 | ... EQ99: =Q99+AA99+AK99+AU99+BE99+BO99+BY99+CI99+CS99+DC99+DM99+DW99+EG99 -> 0
A100: Всеволожский | B100: =гр.общеразв.напрв.!B100 -> МДОБУ "ДСКВ № 1" г. Всеволожска | C100: =гр.общеразв.напрв.!C100 -> город | D100: =гр.общеразв.напрв.!D100 -> детей | E100: =F100+G100 -> 103 | F100: =EH100+EJ100+EL100+EN100+EP100 -> 0 | G100: =EI100+EK100+EM100+EO100+EQ100 -> 103 | M100: 81 | CE100: 22 | EH100: =H100+R100+AB100+AL100+AV100+BF100+BP100+BZ100+CJ100+CT100+DD100+DN100+DX100 -> 0 | EI100: =I100+S100+AC100+AM100+AW100+BG100+BQ100+CA100+CK100+CU100+DE100+DO100+DY100 -> 0 | EJ100: =J100+T100+AD100+AN100+AX100+BH100+BR100+CB100+CL100+CV100+DF100+DP100+DZ100 -> 0 | EK100: =K100+U100+AE100+AO100+AY100+BI100+BS100+CC100+CM100+CW100+DG100+DQ100+EA100 -> 0 | EL100: =L100+V100+AF100+AP100+AZ100+BJ100+BT100+CD100+CN100+CX100+DH100+DR100+EB100 -> 0 | EM100: =M100+W100+AG100+AQ100+BA100+BK100+BU100+CE100+CO100+CY100+DI100+DS100+EC100 -> 103 | EN100: =N100+X100+AH100+AR100+BB100+BL100+BV100+CF100+CP100+CZ100+DJ100+DT100+ED100 -> 0 | EO100: =O100+Y100+AI100+AS100+BC100+BM100+BW100+CG100+CQ100+DA100+DK100+DU100+EE100 -> 0 | ... EQ100: =Q100+AA100+AK100+AU100+BE100+BO100+BY100+CI100+CS100+DC100+DM100+DW100+EG100 -> 0
A101: Всеволожский | B101: =гр.общеразв.напрв.!B101 -> МДОБУ "ДСКВ № 2" г. Всеволожска | C101: =гр.общеразв.напрв.!C101 -> город | D101: =гр.общеразв.напрв.!D101 -> детей | E101: =F101+G101 -> 119 | F101: =EH101+EJ101+EL101+EN101+EP101 -> 0 | G101: =EI101+EK101+EM101+EO101+EQ101 -> 119 | M101: 102 | CE101: 17 | EH101: =H101+R101+AB101+AL101+AV101+BF101+BP101+BZ101+CJ101+CT101+DD101+DN101+DX101 -> 0 | EI101: =I101+S101+AC101+AM101+AW101+BG101+BQ101+CA101+CK101+CU101+DE101+DO101+DY101 -> 0 | EJ101: =J101+T101+AD101+AN101+AX101+BH101+BR101+CB101+CL101+CV101+DF101+DP101+DZ101 -> 0 | EK101: =K101+U101+AE101+AO101+AY101+BI101+BS101+CC101+CM101+CW101+DG101+DQ101+EA101 -> 0 | EL101: =L101+V101+AF101+AP101+AZ101+BJ101+BT101+CD101+CN101+CX101+DH101+DR101+EB101 -> 0 | EM101: =M101+W101+AG101+AQ101+BA101+BK101+BU101+CE101+CO101+CY101+DI101+DS101+EC101 -> 119 | EN101: =N101+X101+AH101+AR101+BB101+BL101+BV101+CF101+CP101+CZ101+DJ101+DT101+ED101 -> 0 | EO101: =O101+Y101+AI101+AS101+BC101+BM101+BW101+CG101+CQ101+DA101+DK101+DU101+EE101 -> 0 | ... EQ101: =Q101+AA101+AK101+AU101+BE101+BO101+BY101+CI101+CS101+DC101+DM101+DW101+EG101 -> 0
...

Sheet гр.комбинир.напрв.
B1: Наименвание образовательного учреждения | C1: Тип месторасположения (город, село, ПГТ) | E1: Всего детей/ групп | F1: в том числе | H1: группы комбинированной направленности для детей с тяжелыми нарушениями речи | R1: группы комбинированной направленности для глухих детей | AB1: группы комбинированной направленности для слабослышащих | AL1: группы комбинированной направленности для слепых детей | AV1: группы комбинированной направленности для слабовидящих детей, детей с амблиопией, косоглазием | BF1: группы комбинированной направленности для детей с нарушениями опорно-двигательного аппарата | BP1: группы комбинированной направленности для детей с задержкой психического развития | BZ1: группы комбинированной направленности для детей с умственной отсталостью легкой степени | CJ1: группы комбинированной направленности для детей с умственной отсталостью умеренной, тяжелой | CT1: группы комбинированной направленности для детей со сложным дефектом (имеющих сочетание 2 или более недостатков в физическом и (или) психическом развитии) | DD1: группы комбинированной направленности для детей с иными ограниченными возможностями здоровья | DN1: ВСЕГО
H2: кратковременного пребывания | J2: сокращенного дня | L2: полного дня | N2: продленного дня | P2: круглосуточным пребыванием | R2: кратковременного пребывания | T2: сокращенного дня | V2: полного дня | X2: продленного дня | Z2: круглосуточным пребыванием | AB2: кратковременного пребывания | AD2: сокращенного дня | AF2: полного дня | AH2: продленного дня | AJ2: круглосуточным пребыванием | AL2: кратковременного пребывания | AN2: сокращенного дня | AP2: полного дня | AR2: продленного дня | AT2: круглосуточным пребыванием | AV2: кратковременного пребывания | AX2: сокращенного дня | AZ2: полного дня | BB2: продленного дня | BD2: круглосуточным пребыванием | BF2: кратковременного пребывания | BH2: сокращенного дня | BJ2: полного дня | BL2: продленного дня | BN2: круглосуточным пребыванием | BP2: кратковременного пребывания | BR2: сокращенного дня | BT2: полного дня | BV2: продленного дня | BX2: круглосуточным пребыванием | BZ2: кратковременного пребывания | CB2: сокращенного дня | CD2: полного дня | CF2: продленного дня | CH2: круглосуточным пребыванием | CJ2: кратковременного пребывания | CL2: сокращенного дня | CN2: полного дня | CP2: продленного дня | CR2: круглосуточным пребыванием | CT2: кратковременного пребывания | CV2: сокращенного дня | CX2: полного дня | CZ2: продленного дня | DB2: круглосуточным пребыванием | DD2: кратковременного пребывания | DF2: сокращенного дня | DH2: полного дня | DJ2: продленного дня | DL2: круглосуточным пребыванием | DN2: кратковременного пребывания | DP2: сокращенного дня | DR2: полного дня | DT2: продленного дня | DV2: круглосуточным пребыванием
H3: до 5 часов | J3: 8 - 10,5 часов | L3: 12 часов | N3: 13 - 14 часов | P3: 24 часа | R3: до 5 часов | T3: 8 - 10,5 часов | V3: 12 часов | X3: 13 - 14 часов | Z3: 24 часа | AB3: до 5 часов | AD3: 8 - 10,5 часов | AF3: 12 часов | AH3: 13 - 14 часов | AJ3: 24 часа | AL3: до 5 часов | AN3: 8 - 10,5 часов | AP3: 12 часов | AR3: 13 - 14 часов | AT3: 24 часа | AV3: до 5 часов | AX3: 8 - 10,5 часов | AZ3: 12 часов | BB3: 13 - 14 часов | BD3: 24 часа | BF3: до 5 часов | BH3: 8 - 10,5 часов | BJ3: 12 часов | BL3: 13 - 14 часов | BN3: 24 часа | BP3: до 5 часов | BR3: 8 - 10,5 часов | BT3: 12 часов | BV3: 13 - 14 часов | BX3: 24 часа | BZ3: до 5 часов | CB3: 8 - 10,5 часов | CD3: 12 часов | CF3: 13 - 14 часов | CH3: 24 часа | CJ3: до 5 часов | CL3: 8 - 10,5 часов | CN3: 12 часов | CP3: 13 - 14 часов | CR3: 24 часа | CT3: до 5 часов | CV3: 8 - 10,5 часов | CX3: 12 часов | CZ3: 13 - 14 часов | DB3: 24 часа | DD3: до 5 часов | DF3: 8 - 10,5 часов | DH3: 12 часов | DJ3: 13 - 14 часов | DL3: 24 часа | DN3: до 5 часов | DP3: 8 - 10,5 часов
B5: Нормативная наполняемость в группах | H5: 10 | I5: 15 | J5: 10 | K5: 15 | L5: 10 | M5: 15 | N5: 10 | O5: 15 | P5: 10 | Q5: 15 | R5: 10 | S5: 10 | T5: 10 | U5: 10 | V5: 10 | W5: 10 | X5: 10 | Y5: 10 | Z5: 10 | AA5: 10 | AB5: 10 | AC5: 15 | AD5: 10 | AE5: 15 | AF5: 10 | AG5: 15 | AH5: 10 | AI5: 15 | AJ5: 10 | AK5: 15 | AL5: 10 | AM5: 10 | AN5: 10 | AO5: 10 | AP5: 10 | AQ5: 10 | AR5: 10 | AS5: 10 | AT5: 10 | AU5: 10 | AV5: 10 | AW5: 15 | AX5: 10 | AY5: 15 | AZ5: 10 | BA5: 15 | BB5: 10 | BC5: 15 | BD5: 10 | BE5: 15 | BF5: 10 | BG5: 10 | BH5: 10 | BI5: 10 | BJ5: 10 | BK5: 10 | BL5: 10 | BM5: 10 | BN5: 10 | BO5: 10 | BP5: 10 | BQ5: 17 | BR5: 10 | BS5: 17 | BT5: 10 | BU5: 17 | BV5: 10 | BW5: 17 | BX5: 10 | BY5: 17 | BZ5: 10 | CA5: 15 | CB5: 10 | CC5: 15 | CD5: 10 | CE5: 15 | CF5: 10 | CG5: 15 | CH5: 10 | CI5: 15 | CJ5: Х | CK5: 10 | CL5: Х | CM5: 10 | CN5: Х | CO5: 10 | CP5: Х | CQ5: 10 | CR5: Х | CS5: 10 | CT5: 10 | CU5: 10 | CV5: 10 | CW5: 10 | CX5: 10 | CY5: 10 | CZ5: 10 | DA5: 10 | DB5: 10 | DC5: 10 | DD5: 10 | DE5: Х | DF5: 10 | DG5: Х | DH5: 10 | DI5: Х | DJ5: 10 | DK5: Х | DL5: 10 | DM5: Х
A6: МР | B6: Наименование ОУ | C6: Тип | D6: ед. | E6: Всего | F6: до 3 лет | G6: старше 3 лет | H6: до 3 лет | I6: старше 3 лет | J6: до 3 лет | K6: старше 3 лет | L6: до 3 лет | M6: старше 3 лет | N6: до 3 лет | O6: старше 3 лет | P6: до 3 лет | Q6: старше 3 лет | R6: до 3 лет | S6: старше 3 лет | T6: до 3 лет | U6: старше 3 лет | V6: до 3 лет | W6: старше 3 лет | X6: до 3 лет | Y6: старше 3 лет | Z6: до 3 лет | AA6: старше 3 лет | AB6: до 3 лет | AC6: старше 3 лет | AD6: до 3 лет | AE6: старше 3 лет | AF6: до 3 лет | AG6: старше 3 лет | AH6: до 3 лет | AI6: старше 3 лет | AJ6: до 3 лет | AK6: старше 3 лет | AL6: до 3 лет | AM6: старше 3 лет | AN6: до 3 лет | AO6: старше 3 лет | AP6: до 3 лет | AQ6: старше 3 лет | AR6: до 3 лет | AS6: старше 3 лет | AT6: до 3 лет | AU6: старше 3 лет | AV6: до 3 лет | AW6: старше 3 лет | AX6: до 3 лет | AY6: старше 3 лет | AZ6: до 3 лет | BA6: старше 3 лет | BB6: до 3 лет | BC6: старше 3 лет | BD6: до 3 лет | BE6: старше 3 лет | BF6: до 3 лет | BG6: старше 3 лет | BH6: до 3 лет | BI6: старше 3 лет | BJ6: до 3 лет | BK6: старше 3 лет | BL6: до 3 лет | BM6: старше 3 лет | BN6: до 3 лет | BO6: старше 3 лет | BP6: до 3 лет | BQ6: старше 3 лет | BR6: до 3 лет | BS6: старше 3 лет | BT6: до 3 лет | BU6: старше 3 лет | BV6: до 3 лет | BW6: старше 3 лет | BX6: до 3 лет | BY6: старше 3 лет | BZ6: до 3 лет | CA6: старше 3 лет | CB6: до 3 лет | CC6: старше 3 лет | CD6: до 3 лет | CE6: старше 3 лет | CF6: до 3 лет | CG6: старше 3 лет | CH6: до 3 лет | CI6: старше 3 лет | CJ6: до 3 лет | CK6: старше 3 лет | CL6: до 3 лет | CM6: старше 3 лет | CN6: до 3 лет | CO6: старше 3 лет | CP6: до 3 лет | CQ6: старше 3 лет | CR6: до 3 лет | CS6: старше 3 лет | CT6: до 3 лет | CU6: старше 3 лет | CV6: до 3 лет | CW6: старше 3 лет | CX6: до 3 лет | CY6: старше 3 лет | CZ6: до 3 лет | DA6: старше 3 лет | DB6: до 3 лет | DC6: старше 3 лет | DD6: до 3 лет | DE6: старше 3 лет | DF6: до 3 лет | DG6: старше 3 лет | DH6: до 3 лет | DI6: старше 3 лет | DJ6: до 3 лет | DK6: старше 3 лет | DL6: до 3 лет | DM6: старше 3 лет | DN6: до 3 лет | DO6: старше 3 лет | DP6: до 3 лет | DQ6: старше 3 лет | DR6: до 3 лет | DS6: старше 3 лет | DT6: до 3 лет | DU6: старше 3 лет | DV6: до 3 лет | DW6: старше 3 лет
A7: Бокситогорский | B7: МБДОУ Бокситогорский детский сад № 1 | C7: город | D7: детей | E7: =F7+G7 -> 0 | F7: =DN7+DP7+DR7+DT7+DV7 -> 0 | G7: =DO7+DQ7+DS7+DU7+DW7 -> 0 | DN7: =H7+R7+AB7+AL7+AV7+BF7+BP7+BZ7+CJ7+CT7+DD7 -> 0 | DO7: =I7+S7+AC7+AM7+AW7+BG7+BQ7+CA7+CK7+CU7+DE7 -> 0 | DP7: =J7+T7+AD7+AN7+AX7+BH7+BR7+CB7+CL7+CV7+DF7 -> 0 | DQ7: =K7+U7+AE7+AO7+AY7+BI7+BS7+CC7+CM7+CW7+DG7 -> 0 | DR7: =L7+V7+AF7+AP7+AZ7+BJ7+BT7+CD7+CN7+CX7+DH7 -> 0 | DS7: =M7+W7+AG7+AQ7+BA7+BK7+BU7+CE7+CO7+CY7+DI7 -> 0 | DT7: =N7+X7+AH7+AR7+BB7+BL7+BV7+CF7+CP7+CZ7+DJ7 -> 0 | DU7: =O7+Y7+AI7+AS7+BC7+BM7+BW7+CG7+CQ7+DA7+DK7 -> 0 | ... DW7: =Q7+AA7+AK7+AU7+BE7+BO7+BY7+CI7+CS7+DC7+DM7 -> 0
A8: Бокситогорский | B8: МБДОУ Бокситогорский детский сад № 4 | C8: город | D8: детей | E8: =F8+G8 -> 0 | F8: =DN8+DP8+DR8+DT8+DV8 -> 0 | G8: =DO8+DQ8+DS8+DU8+DW8 -> 0 | DN8: =H8+R8+AB8+AL8+AV8+BF8+BP8+BZ8+CJ8+CT8+DD8 -> 0 | DO8: =I8+S8+AC8+AM8+AW8+BG8+BQ8+CA8+CK8+CU8+DE8 -> 0 | DP8: =J8+T8+AD8+AN8+AX8+BH8+BR8+CB8+CL8+CV8+DF8 -> 0 | DQ8: =K8+U8+AE8+AO8+AY8+BI8+BS8+CC8+CM8+CW8+DG8 -> 0 | DR8: =L8+V8+AF8+AP8+AZ8+BJ8+BT8+CD8+CN8+CX8+DH8 -> 0 | DS8: =M8+W8+AG8+AQ8+BA8+BK8+BU8+CE8+CO8+CY8+DI8 -> 0 | DT8: =N8+X8+AH8+AR8+BB8+BL8+BV8+CF8+CP8+CZ8+DJ8 -> 0 | DU8: =O8+Y8+AI8+AS8+BC8+BM8+BW8+CG8+CQ8+DA8+DK8 -> 0 | ... DW8: =Q8+AA8+AK8+AU8+BE8+BO8+BY8+CI8+CS8+DC8+DM8 -> 0
A9: Бокситогорский | B9: МБДОУ Бокситогорский детский сад № 5 | C9: город | D9: детей | E9: =F9+G9 -> 0 | F9: =DN9+DP9+DR9+DT9+DV9 -> 0 | G9: =DO9+DQ9+DS9+DU9+DW9 -> 0 | DN9: =H9+R9+AB9+AL9+AV9+BF9+BP9+BZ9+CJ9+CT9+DD9 -> 0 | DO9: =I9+S9+AC9+AM9+AW9+BG9+BQ9+CA9+CK9+CU9+DE9 -> 0 | DP9: =J9+T9+AD9+AN9+AX9+BH9+BR9+CB9+CL9+CV9+DF9 -> 0 | DQ9: =K9+U9+AE9+AO9+AY9+BI9+BS9+CC9+CM9+CW9+DG9 -> 0 | DR9: =L9+V9+AF9+AP9+AZ9+BJ9+BT9+CD9+CN9+CX9+DH9 -> 0 | DS9: =M9+W9+AG9+AQ9+BA9+BK9+BU9+CE9+CO9+CY9+DI9 -> 0 | DT9: =N9+X9+AH9+AR9+BB9+BL9+BV9+CF9+CP9+CZ9+DJ9 -> 0 | DU9: =O9+Y9+AI9+AS9+BC9+BM9+BW9+CG9+CQ9+DA9+DK9 -> 0 | ... DW9: =Q9+AA9+AK9+AU9+BE9+BO9+BY9+CI9+CS9+DC9+DM9 -> 0
A10: Бокситогорский | B10: МБДОУ Бокситогорский детский сад № 8 | C10: город | D10: детей | E10: =F10+G10 -> 0 | F10: =DN10+DP10+DR10+DT10+DV10 -> 0 | G10: =DO10+DQ10+DS10+DU10+DW10 -> 0 | DN10: =H10+R10+AB10+AL10+AV10+BF10+BP10+BZ10+CJ10+CT10+DD10 -> 0 | DO10: =I10+S10+AC10+AM10+AW10+BG10+BQ10+CA10+CK10+CU10+DE10 -> 0 | DP10: =J10+T10+AD10+AN10+AX10+BH10+BR10+CB10+CL10+CV10+DF10 -> 0 | DQ10: =K10+U10+AE10+AO10+AY10+BI10+BS10+CC10+CM10+CW10+DG10 -> 0 | DR10: =L10+V10+AF10+AP10+AZ10+BJ10+BT10+CD10+CN10+CX10+DH10 -> 0 | DS10: =M10+W10+AG10+AQ10+BA10+BK10+BU10+CE10+CO10+CY10+DI10 -> 0 | DT10: =N10+X10+AH10+AR10+BB10+BL10+BV10+CF10+CP10+CZ10+DJ10 -> 0 | DU10: =O10+Y10+AI10+AS10+BC10+BM10+BW10+CG10+CQ10+DA10+DK10 -> 0 | ... DW10: =Q10+AA10+AK10+AU10+BE10+BO10+BY10+CI10+CS10+DC10+DM10 -> 0
A11: Бокситогорский | B11: МБДОУ Детский сад № 2 города Пикалёво | C11: город | D11: детей | E11: =F11+G11 -> 0 | F11: =DN11+DP11+DR11+DT11+DV11 -> 0 | G11: =DO11+DQ11+DS11+DU11+DW11 -> 0 | DN11: =H11+R11+AB11+AL11+AV11+BF11+BP11+BZ11+CJ11+CT11+DD11 -> 0 | DO11: =I11+S11+AC11+AM11+AW11+BG11+BQ11+CA11+CK11+CU11+DE11 -> 0 | DP11: =J11+T11+AD11+AN11+AX11+BH11+BR11+CB11+CL11+CV11+DF11 -> 0 | DQ11: =K11+U11+AE11+AO11+AY11+BI11+BS11+CC11+CM11+CW11+DG11 -> 0 | DR11: =L11+V11+AF11+AP11+AZ11+BJ11+BT11+CD11+CN11+CX11+DH11 -> 0 | DS11: =M11+W11+AG11+AQ11+BA11+BK11+BU11+CE11+CO11+CY11+DI11 -> 0 | DT11: =N11+X11+AH11+AR11+BB11+BL11+BV11+CF11+CP11+CZ11+DJ11 -> 0 | DU11: =O11+Y11+AI11+AS11+BC11+BM11+BW11+CG11+CQ11+DA11+DK11 -> 0 | ... DW11: =Q11+AA11+AK11+AU11+BE11+BO11+BY11+CI11+CS11+DC11+DM11 -> 0
A12: Бокситогорский | B12: МБДОУ Детский сад № 3 города Пикалёво | C12: город | D12: детей | E12: =F12+G12 -> 0 | F12: =DN12+DP12+DR12+DT12+DV12 -> 0 | G12: =DO12+DQ12+DS12+DU12+DW12 -> 0 | DN12: =H12+R12+AB12+AL12+AV12+BF12+BP12+BZ12+CJ12+CT12+DD12 -> 0 | DO12: =I12+S12+AC12+AM12+AW12+BG12+BQ12+CA12+CK12+CU12+DE12 -> 0 | DP12: =J12+T12+AD12+AN12+AX12+BH12+BR12+CB12+CL12+CV12+DF12 -> 0 | DQ12: =K12+U12+AE12+AO12+AY12+BI12+BS12+CC12+CM12+CW12+DG12 -> 0 | DR12: =L12+V12+AF12+AP12+AZ12+BJ12+BT12+CD12+CN12+CX12+DH12 -> 0 | DS12: =M12+W12+AG12+AQ12+BA12+BK12+BU12+CE12+CO12+CY12+DI12 -> 0 | DT12: =N12+X12+AH12+AR12+BB12+BL12+BV12+CF12+CP12+CZ12+DJ12 -> 0 | DU12: =O12+Y12+AI12+AS12+BC12+BM12+BW12+CG12+CQ12+DA12+DK12 -> 0 | ... DW12: =Q12+AA12+AK12+AU12+BE12+BO12+BY12+CI12+CS12+DC12+DM12 -> 0
A13: Бокситогорский | B13: МБДОУ Детский сад № 5 города Пикалёво | C13: город | D13: детей | E13: =F13+G13 -> 42 | F13: =DN13+DP13+DR13+DT13+DV13 -> 0 | G13: =DO13+DQ13+DS13+DU13+DW13 -> 42 | K13: 42 | DN13: =H13+R13+AB13+AL13+AV13+BF13+BP13+BZ13+CJ13+CT13+DD13 -> 0 | DO13: =I13+S13+AC13+AM13+AW13+BG13+BQ13+CA13+CK13+CU13+DE13 -> 0 | DP13: =J13+T13+AD13+AN13+AX13+BH13+BR13+CB13+CL13+CV13+DF13 -> 0 | DQ13: =K13+U13+AE13+AO13+AY13+BI13+BS13+CC13+CM13+CW13+DG13 -> 42 | DR13: =L13+V13+AF13+AP13+AZ13+BJ13+BT13+CD13+CN13+CX13+DH13 -> 0 | DS13: =M13+W13+AG13+AQ13+BA13+BK13+BU13+CE13+CO13+CY13+DI13 -> 0 | DT13: =N13+X13+AH13+AR13+BB13+BL13+BV13+CF13+CP13+CZ13+DJ13 -> 0 | DU13: =O13+Y13+AI13+AS13+BC13+BM13+BW13+CG13+CQ13+DA13+DK13 -> 0 | ... DW13: =Q13+AA13+AK13+AU13+BE13+BO13+BY13+CI13+CS13+DC13+DM13 -> 0
A14: Бокситогорский | B14: МБДОУ Детский сад № 6 города Пикалёво | C14: город | D14: детей | E14: =F14+G14 -> 0 | F14: =DN14+DP14+DR14+DT14+DV14 -> 0 | G14: =DO14+DQ14+DS14+DU14+DW14 -> 0 | DN14: =H14+R14+AB14+AL14+AV14+BF14+BP14+BZ14+CJ14+CT14+DD14 -> 0 | DO14: =I14+S14+AC14+AM14+AW14+BG14+BQ14+CA14+CK14+CU14+DE14 -> 0 | DP14: =J14+T14+AD14+AN14+AX14+BH14+BR14+CB14+CL14+CV14+DF14 -> 0 | DQ14: =K14+U14+AE14+AO14+AY14+BI14+BS14+CC14+CM14+CW14+DG14 -> 0 | DR14: =L14+V14+AF14+AP14+AZ14+BJ14+BT14+CD14+CN14+CX14+DH14 -> 0 | DS14: =M14+W14+AG14+AQ14+BA14+BK14+BU14+CE14+CO14+CY14+DI14 -> 0 | DT14: =N14+X14+AH14+AR14+BB14+BL14+BV14+CF14+CP14+CZ14+DJ14 -> 0 | DU14: =O14+Y14+AI14+AS14+BC14+BM14+BW14+CG14+CQ14+DA14+DK14 -> 0 | ... DW14: =Q14+AA14+AK14+AU14+BE14+BO14+BY14+CI14+CS14+DC14+DM14 -> 0
A15: Бокситогорский | B15: МБДОУ Детский сад № 7 города Пикалёво | C15: город | D15: детей | E15: =F15+G15 -> 0 | F15: =DN15+DP15+DR15+DT15+DV15 -> 0 | G15: =DO15+DQ15+DS15+DU15+DW15 -> 0 | DN15: =H15+R15+AB15+AL15+AV15+BF15+BP15+BZ15+CJ15+CT15+DD15 -> 0 | DO15: =I15+S15+AC15+AM15+AW15+BG15+BQ15+CA15+CK15+CU15+DE15 -> 0 | DP15: =J15+T15+AD15+AN15+AX15+BH15+BR15+CB15+CL15+CV15+DF15 -> 0 | DQ15: =K15+U15+AE15+AO15+AY15+BI15+BS15+CC15+CM15+CW15+DG15 -> 0 | DR15: =L15+V15+AF15+AP15+AZ15+BJ15+BT15+CD15+CN15+CX15+DH15 -> 0 | DS15: =M15+W15+AG15+AQ15+BA15+BK15+BU15+CE15+CO15+CY15+DI15 -> 0 | DT15: =N15+X15+AH15+AR15+BB15+BL15+BV15+CF15+CP15+CZ15+DJ15 -> 0 | DU15: =O15+Y15+AI15+AS15+BC15+BM15+BW15+CG15+CQ15+DA15+DK15 -> 0 | ... DW15: =Q15+AA15+AK15+AU15+BE15+BO15+BY15+CI15+CS15+DC15+DM15 -> 0
A16: Бокситогорский | B16: МБДОУ Детский сад № 8 города Пикалёво | C16: город | D16: детей | E16: =F16+G16 -> 0 | F16: =DN16+DP16+DR16+DT16+DV16 -> 0 | G16: =DO16+DQ16+DS16+DU16+DW16 -> 0 | DN16: =H16+R16+AB16+AL16+AV16+BF16+BP16+BZ16+CJ16+CT16+DD16 -> 0 | DO16: =I16+S16+AC16+AM16+AW16+BG16+BQ16+CA16+CK16+CU16+DE16 -> 0 | DP16: =J16+T16+AD16+AN16+AX16+BH16+BR16+CB16+CL16+CV16+DF16 -> 0 | DQ16: =K16+U16+AE16+AO16+AY16+BI16+BS16+CC16+CM16+CW16+DG16 -> 0 | DR16: =L16+V16+AF16+AP16+AZ16+BJ16+BT16+CD16+CN16+CX16+DH16 -> 0 | DS16: =M16+W16+AG16+AQ16+BA16+BK16+BU16+CE16+CO16+CY16+DI16 -> 0 | DT16: =N16+X16+AH16+AR16+BB16+BL16+BV16+CF16+CP16+CZ16+DJ16 -> 0 | DU16: =O16+Y16+AI16+AS16+BC16+BM16+BW16+CG16+CQ16+DA16+DK16 -> 0 | ... DW16: =Q16+AA16+AK16+AU16+BE16+BO16+BY16+CI16+CS16+DC16+DM16 -> 0
A17: Бокситогорский | B17: МБДОУ Детский сад № 9 города Пикалёво | C17: город | D17: детей | E17: =F17+G17 -> 0 | F17: =DN17+DP17+DR17+DT17+DV17 -> 0 | G17: =DO17+DQ17+DS17+DU17+DW17 -> 0 | DN17: =H17+R17+AB17+AL17+AV17+BF17+BP17+BZ17+CJ17+CT17+DD17 -> 0 | DO17: =I17+S17+AC17+AM17+AW17+BG17+BQ17+CA17+CK17+CU17+DE17 -> 0 | DP17: =J17+T17+AD17+AN17+AX17+BH17+BR17+CB17+CL17+CV17+DF17 -> 0 | DQ17: =K17+U17+AE17+AO17+AY17+BI17+BS17+CC17+CM17+CW17+DG17 -> 0 | DR17: =L17+V17+AF17+AP17+AZ17+BJ17+BT17+CD17+CN17+CX17+DH17 -> 0 | DS17: =M17+W17+AG17+AQ17+BA17+BK17+BU17+CE17+CO17+CY17+DI17 -> 0 | DT17: =N17+X17+AH17+AR17+BB17+BL17+BV17+CF17+CP17+CZ17+DJ17 -> 0 | DU17: =O17+Y17+AI17+AS17+BC17+BM17+BW17+CG17+CQ17+DA17+DK17 -> 0 | ... DW17: =Q17+AA17+AK17+AU17+BE17+BO17+BY17+CI17+CS17+DC17+DM17 -> 0
A18: Бокситогорский | B18: МБДОУ Ефимовский детский сад | C18: ПГТ | D18: детей | E18: =F18+G18 -> 0 | F18: =DN18+DP18+DR18+DT18+DV18 -> 0 | G18: =DO18+DQ18+DS18+DU18+DW18 -> 0 | DN18: =H18+R18+AB18+AL18+AV18+BF18+BP18+BZ18+CJ18+CT18+DD18 -> 0 | DO18: =I18+S18+AC18+AM18+AW18+BG18+BQ18+CA18+CK18+CU18+DE18 -> 0 | DP18: =J18+T18+AD18+AN18+AX18+BH18+BR18+CB18+CL18+CV18+DF18 -> 0 | DQ18: =K18+U18+AE18+AO18+AY18+BI18+BS18+CC18+CM18+CW18+DG18 -> 0 | DR18: =L18+V18+AF18+AP18+AZ18+BJ18+BT18+CD18+CN18+CX18+DH18 -> 0 | DS18: =M18+W18+AG18+AQ18+BA18+BK18+BU18+CE18+CO18+CY18+DI18 -> 0 | DT18: =N18+X18+AH18+AR18+BB18+BL18+BV18+CF18+CP18+CZ18+DJ18 -> 0 | DU18: =O18+Y18+AI18+AS18+BC18+BM18+BW18+CG18+CQ18+DA18+DK18 -> 0 | ... DW18: =Q18+AA18+AK18+AU18+BE18+BO18+BY18+CI18+CS18+DC18+DM18 -> 0
A19: Бокситогорский | B19: МКДОУ Борский детский сад | C19: село | D19: детей | E19: =F19+G19 -> 0 | F19: =DN19+DP19+DR19+DT19+DV19 -> 0 | G19: =DO19+DQ19+DS19+DU19+DW19 -> 0 | DN19: =H19+R19+AB19+AL19+AV19+BF19+BP19+BZ19+CJ19+CT19+DD19 -> 0 | DO19: =I19+S19+AC19+AM19+AW19+BG19+BQ19+CA19+CK19+CU19+DE19 -> 0 | DP19: =J19+T19+AD19+AN19+AX19+BH19+BR19+CB19+CL19+CV19+DF19 -> 0 | DQ19: =K19+U19+AE19+AO19+AY19+BI19+BS19+CC19+CM19+CW19+DG19 -> 0 | DR19: =L19+V19+AF19+AP19+AZ19+BJ19+BT19+CD19+CN19+CX19+DH19 -> 0 | DS19: =M19+W19+AG19+AQ19+BA19+BK19+BU19+CE19+CO19+CY19+DI19 -> 0 | DT19: =N19+X19+AH19+AR19+BB19+BL19+BV19+CF19+CP19+CZ19+DJ19 -> 0 | DU19: =O19+Y19+AI19+AS19+BC19+BM19+BW19+CG19+CQ19+DA19+DK19 -> 0 | ... DW19: =Q19+AA19+AK19+AU19+BE19+BO19+BY19+CI19+CS19+DC19+DM19 -> 0
A20: Бокситогорский | B20: МКДОУ Большедворский детский сад | C20: село | D20: детей | E20: =F20+G20 -> 0 | F20: =DN20+DP20+DR20+DT20+DV20 -> 0 | G20: =DO20+DQ20+DS20+DU20+DW20 -> 0 | DN20: =H20+R20+AB20+AL20+AV20+BF20+BP20+BZ20+CJ20+CT20+DD20 -> 0 | DO20: =I20+S20+AC20+AM20+AW20+BG20+BQ20+CA20+CK20+CU20+DE20 -> 0 | DP20: =J20+T20+AD20+AN20+AX20+BH20+BR20+CB20+CL20+CV20+DF20 -> 0 | DQ20: =K20+U20+AE20+AO20+AY20+BI20+BS20+CC20+CM20+CW20+DG20 -> 0 | DR20: =L20+V20+AF20+AP20+AZ20+BJ20+BT20+CD20+CN20+CX20+DH20 -> 0 | DS20: =M20+W20+AG20+AQ20+BA20+BK20+BU20+CE20+CO20+CY20+DI20 -> 0 | DT20: =N20+X20+AH20+AR20+BB20+BL20+BV20+CF20+CP20+CZ20+DJ20 -> 0 | DU20: =O20+Y20+AI20+AS20+BC20+BM20+BW20+CG20+CQ20+DA20+DK20 -> 0 | ... DW20: =Q20+AA20+AK20+AU20+BE20+BO20+BY20+CI20+CS20+DC20+DM20 -> 0
A21: Бокситогорский | B21: МКДОУ Заборьевский детский сад | C21: село | D21: детей | E21: =F21+G21 -> 0 | F21: =DN21+DP21+DR21+DT21+DV21 -> 0 | G21: =DO21+DQ21+DS21+DU21+DW21 -> 0 | DN21: =H21+R21+AB21+AL21+AV21+BF21+BP21+BZ21+CJ21+CT21+DD21 -> 0 | DO21: =I21+S21+AC21+AM21+AW21+BG21+BQ21+CA21+CK21+CU21+DE21 -> 0 | DP21: =J21+T21+AD21+AN21+AX21+BH21+BR21+CB21+CL21+CV21+DF21 -> 0 | DQ21: =K21+U21+AE21+AO21+AY21+BI21+BS21+CC21+CM21+CW21+DG21 -> 0 | DR21: =L21+V21+AF21+AP21+AZ21+BJ21+BT21+CD21+CN21+CX21+DH21 -> 0 | DS21: =M21+W21+AG21+AQ21+BA21+BK21+BU21+CE21+CO21+CY21+DI21 -> 0 | DT21: =N21+X21+AH21+AR21+BB21+BL21+BV21+CF21+CP21+CZ21+DJ21 -> 0 | DU21: =O21+Y21+AI21+AS21+BC21+BM21+BW21+CG21+CQ21+DA21+DK21 -> 0 | ... DW21: =Q21+AA21+AK21+AU21+BE21+BO21+BY21+CI21+CS21+DC21+DM21 -> 0
A22: Бокситогорский | B22: МБОУ Борская средняя общеобразовтельная школа | C22: село | D22: детей | E22: =F22+G22 -> 0 | F22: =DN22+DP22+DR22+DT22+DV22 -> 0 | G22: =DO22+DQ22+DS22+DU22+DW22 -> 0 | DN22: =H22+R22+AB22+AL22+AV22+BF22+BP22+BZ22+CJ22+CT22+DD22 -> 0 | DO22: =I22+S22+AC22+AM22+AW22+BG22+BQ22+CA22+CK22+CU22+DE22 -> 0 | DP22: =J22+T22+AD22+AN22+AX22+BH22+BR22+CB22+CL22+CV22+DF22 -> 0 | DQ22: =K22+U22+AE22+AO22+AY22+BI22+BS22+CC22+CM22+CW22+DG22 -> 0 | DR22: =L22+V22+AF22+AP22+AZ22+BJ22+BT22+CD22+CN22+CX22+DH22 -> 0 | DS22: =M22+W22+AG22+AQ22+BA22+BK22+BU22+CE22+CO22+CY22+DI22 -> 0 | DT22: =N22+X22+AH22+AR22+BB22+BL22+BV22+CF22+CP22+CZ22+DJ22 -> 0 | DU22: =O22+Y22+AI22+AS22+BC22+BM22+BW22+CG22+CQ22+DA22+DK22 -> 0 | ... DW22: =Q22+AA22+AK22+AU22+BE22+BO22+BY22+CI22+CS22+DC22+DM22 -> 0
A23: Бокситогорский | B23: МКОУ Подборовская основная общеобразовательная школа | C23: село | D23: детей | E23: =F23+G23 -> 0 | F23: =DN23+DP23+DR23+DT23+DV23 -> 0 | G23: =DO23+DQ23+DS23+DU23+DW23 -> 0 | DN23: =H23+R23+AB23+AL23+AV23+BF23+BP23+BZ23+CJ23+CT23+DD23 -> 0 | DO23: =I23+S23+AC23+AM23+AW23+BG23+BQ23+CA23+CK23+CU23+DE23 -> 0 | DP23: =J23+T23+AD23+AN23+AX23+BH23+BR23+CB23+CL23+CV23+DF23 -> 0 | DQ23: =K23+U23+AE23+AO23+AY23+BI23+BS23+CC23+CM23+CW23+DG23 -> 0 | DR23: =L23+V23+AF23+AP23+AZ23+BJ23+BT23+CD23+CN23+CX23+DH23 -> 0 | DS23: =M23+W23+AG23+AQ23+BA23+BK23+BU23+CE23+CO23+CY23+DI23 -> 0 | DT23: =N23+X23+AH23+AR23+BB23+BL23+BV23+CF23+CP23+CZ23+DJ23 -> 0 | DU23: =O23+Y23+AI23+AS23+BC23+BM23+BW23+CG23+CQ23+DA23+DK23 -> 0 | ... DW23: =Q23+AA23+AK23+AU23+BE23+BO23+BY23+CI23+CS23+DC23+DM23 -> 0
A24: Бокситогорский | B24: МКОУ Самойловская начальная общеобразовательная школа | C24: село | D24: детей | E24: =F24+G24 -> 0 | F24: =DN24+DP24+DR24+DT24+DV24 -> 0 | G24: =DO24+DQ24+DS24+DU24+DW24 -> 0 | DN24: =H24+R24+AB24+AL24+AV24+BF24+BP24+BZ24+CJ24+CT24+DD24 -> 0 | DO24: =I24+S24+AC24+AM24+AW24+BG24+BQ24+CA24+CK24+CU24+DE24 -> 0 | DP24: =J24+T24+AD24+AN24+AX24+BH24+BR24+CB24+CL24+CV24+DF24 -> 0 | DQ24: =K24+U24+AE24+AO24+AY24+BI24+BS24+CC24+CM24+CW24+DG24 -> 0 | DR24: =L24+V24+AF24+AP24+AZ24+BJ24+BT24+CD24+CN24+CX24+DH24 -> 0 | DS24: =M24+W24+AG24+AQ24+BA24+BK24+BU24+CE24+CO24+CY24+DI24 -> 0 | DT24: =N24+X24+AH24+AR24+BB24+BL24+BV24+CF24+CP24+CZ24+DJ24 -> 0 | DU24: =O24+Y24+AI24+AS24+BC24+BM24+BW24+CG24+CQ24+DA24+DK24 -> 0 | ... DW24: =Q24+AA24+AK24+AU24+BE24+BO24+BY24+CI24+CS24+DC24+DM24 -> 0
A25: Бокситогорский | B25: ИТОГО | E25: =SUBTOTAL(9,E7:E24) -> 42 | F25: =SUBTOTAL(9,F7:F24) -> 0 | G25: =SUBTOTAL(9,G7:G24) -> 42 | H25: =SUBTOTAL(9,H7:H24) -> 0 | I25: =SUBTOTAL(9,I7:I24) -> 0 | J25: =SUBTOTAL(9,J7:J24) -> 0 | K25: =SUBTOTAL(9,K7:K24) -> 42 | L25: =SUBTOTAL(9,L7:L24) -> 0 | ... DW25: =SUBTOTAL(9,DW7:DW24) -> 0
A26: Волосовский | B26: МДОУ "Детский сад № 4" | C26: село | D26: детей | E26: =F26+G26 -> 0 | F26: =DN26+DP26+DR26+DT26+DV26 -> 0 | G26: =DO26+DQ26+DS26+DU26+DW26 -> 0 | DN26: =H26+R26+AB26+AL26+AV26+BF26+BP26+BZ26+CJ26+CT26+DD26 -> 0 | DO26: =I26+S26+AC26+AM26+AW26+BG26+BQ26+CA26+CK26+CU26+DE26 -> 0 | DP26: =J26+T26+AD26+AN26+AX26+BH26+BR26+CB26+CL26+CV26+DF26 -> 0 | DQ26: =K26+U26+AE26+AO26+AY26+BI26+BS26+CC26+CM26+CW26+DG26 -> 0 | DR26: =L26+V26+AF26+AP26+AZ26+BJ26+BT26+CD26+CN26+CX26+DH26 -> 0 | DS26: =M26+W26+AG26+AQ26+BA26+BK26+BU26+CE26+CO26+CY26+DI26 -> 0 | DT26: =N26+X26+AH26+AR26+BB26+BL26+BV26+CF26+CP26+CZ26+DJ26 -> 0 | DU26: =O26+Y26+AI26+AS26+BC26+BM26+BW26+CG26+CQ26+DA26+DK26 -> 0 | ... DW26: =Q26+AA26+AK26+AU26+BE26+BO26+BY26+CI26+CS26+DC26+DM26 -> 0
A27: Волосовский | B27: МДОУ "Детский сад № 5" | C27: село | D27: детей | E27: =F27+G27 -> 0 | F27: =DN27+DP27+DR27+DT27+DV27 -> 0 | G27: =DO27+DQ27+DS27+DU27+DW27 -> 0 | DN27: =H27+R27+AB27+AL27+AV27+BF27+BP27+BZ27+CJ27+CT27+DD27 -> 0 | DO27: =I27+S27+AC27+AM27+AW27+BG27+BQ27+CA27+CK27+CU27+DE27 -> 0 | DP27: =J27+T27+AD27+AN27+AX27+BH27+BR27+CB27+CL27+CV27+DF27 -> 0 | DQ27: =K27+U27+AE27+AO27+AY27+BI27+BS27+CC27+CM27+CW27+DG27 -> 0 | DR27: =L27+V27+AF27+AP27+AZ27+BJ27+BT27+CD27+CN27+CX27+DH27 -> 0 | DS27: =M27+W27+AG27+AQ27+BA27+BK27+BU27+CE27+CO27+CY27+DI27 -> 0 | DT27: =N27+X27+AH27+AR27+BB27+BL27+BV27+CF27+CP27+CZ27+DJ27 -> 0 | DU27: =O27+Y27+AI27+AS27+BC27+BM27+BW27+CG27+CQ27+DA27+DK27 -> 0 | ... DW27: =Q27+AA27+AK27+AU27+BE27+BO27+BY27+CI27+CS27+DC27+DM27 -> 0
A28: Волосовский | B28: МДОУ "Детский сад № 6" | C28: город | D28: детей | E28: =F28+G28 -> 0 | F28: =DN28+DP28+DR28+DT28+DV28 -> 0 | G28: =DO28+DQ28+DS28+DU28+DW28 -> 0 | DN28: =H28+R28+AB28+AL28+AV28+BF28+BP28+BZ28+CJ28+CT28+DD28 -> 0 | DO28: =I28+S28+AC28+AM28+AW28+BG28+BQ28+CA28+CK28+CU28+DE28 -> 0 | DP28: =J28+T28+AD28+AN28+AX28+BH28+BR28+CB28+CL28+CV28+DF28 -> 0 | DQ28: =K28+U28+AE28+AO28+AY28+BI28+BS28+CC28+CM28+CW28+DG28 -> 0 | DR28: =L28+V28+AF28+AP28+AZ28+BJ28+BT28+CD28+CN28+CX28+DH28 -> 0 | DS28: =M28+W28+AG28+AQ28+BA28+BK28+BU28+CE28+CO28+CY28+DI28 -> 0 | DT28: =N28+X28+AH28+AR28+BB28+BL28+BV28+CF28+CP28+CZ28+DJ28 -> 0 | DU28: =O28+Y28+AI28+AS28+BC28+BM28+BW28+CG28+CQ28+DA28+DK28 -> 0 | ... DW28: =Q28+AA28+AK28+AU28+BE28+BO28+BY28+CI28+CS28+DC28+DM28 -> 0
A29: Волосовский | B29: МДОУ "Детский сад № 9" | C29: село | D29: детей | E29: =F29+G29 -> 0 | F29: =DN29+DP29+DR29+DT29+DV29 -> 0 | G29: =DO29+DQ29+DS29+DU29+DW29 -> 0 | DN29: =H29+R29+AB29+AL29+AV29+BF29+BP29+BZ29+CJ29+CT29+DD29 -> 0 | DO29: =I29+S29+AC29+AM29+AW29+BG29+BQ29+CA29+CK29+CU29+DE29 -> 0 | DP29: =J29+T29+AD29+AN29+AX29+BH29+BR29+CB29+CL29+CV29+DF29 -> 0 | DQ29: =K29+U29+AE29+AO29+AY29+BI29+BS29+CC29+CM29+CW29+DG29 -> 0 | DR29: =L29+V29+AF29+AP29+AZ29+BJ29+BT29+CD29+CN29+CX29+DH29 -> 0 | DS29: =M29+W29+AG29+AQ29+BA29+BK29+BU29+CE29+CO29+CY29+DI29 -> 0 | DT29: =N29+X29+AH29+AR29+BB29+BL29+BV29+CF29+CP29+CZ29+DJ29 -> 0 | DU29: =O29+Y29+AI29+AS29+BC29+BM29+BW29+CG29+CQ29+DA29+DK29 -> 0 | ... DW29: =Q29+AA29+AK29+AU29+BE29+BO29+BY29+CI29+CS29+DC29+DM29 -> 0
A30: Волосовский | B30: МДОУ "Детский сад № 10" | C30: село | D30: детей | E30: =F30+G30 -> 0 | F30: =DN30+DP30+DR30+DT30+DV30 -> 0 | G30: =DO30+DQ30+DS30+DU30+DW30 -> 0 | DN30: =H30+R30+AB30+AL30+AV30+BF30+BP30+BZ30+CJ30+CT30+DD30 -> 0 | DO30: =I30+S30+AC30+AM30+AW30+BG30+BQ30+CA30+CK30+CU30+DE30 -> 0 | DP30: =J30+T30+AD30+AN30+AX30+BH30+BR30+CB30+CL30+CV30+DF30 -> 0 | DQ30: =K30+U30+AE30+AO30+AY30+BI30+BS30+CC30+CM30+CW30+DG30 -> 0 | DR30: =L30+V30+AF30+AP30+AZ30+BJ30+BT30+CD30+CN30+CX30+DH30 -> 0 | DS30: =M30+W30+AG30+AQ30+BA30+BK30+BU30+CE30+CO30+CY30+DI30 -> 0 | DT30: =N30+X30+AH30+AR30+BB30+BL30+BV30+CF30+CP30+CZ30+DJ30 -> 0 | DU30: =O30+Y30+AI30+AS30+BC30+BM30+BW30+CG30+CQ30+DA30+DK30 -> 0 | ... DW30: =Q30+AA30+AK30+AU30+BE30+BO30+BY30+CI30+CS30+DC30+DM30 -> 0
A31: Волосовский | B31: МДОУ "Детский сад № 11" | C31: село | D31: детей | E31: =F31+G31 -> 0 | F31: =DN31+DP31+DR31+DT31+DV31 -> 0 | G31: =DO31+DQ31+DS31+DU31+DW31 -> 0 | DN31: =H31+R31+AB31+AL31+AV31+BF31+BP31+BZ31+CJ31+CT31+DD31 -> 0 | DO31: =I31+S31+AC31+AM31+AW31+BG31+BQ31+CA31+CK31+CU31+DE31 -> 0 | DP31: =J31+T31+AD31+AN31+AX31+BH31+BR31+CB31+CL31+CV31+DF31 -> 0 | DQ31: =K31+U31+AE31+AO31+AY31+BI31+BS31+CC31+CM31+CW31+DG31 -> 0 | DR31: =L31+V31+AF31+AP31+AZ31+BJ31+BT31+CD31+CN31+CX31+DH31 -> 0 | DS31: =M31+W31+AG31+AQ31+BA31+BK31+BU31+CE31+CO31+CY31+DI31 -> 0 | DT31: =N31+X31+AH31+AR31+BB31+BL31+BV31+CF31+CP31+CZ31+DJ31 -> 0 | DU31: =O31+Y31+AI31+AS31+BC31+BM31+BW31+CG31+CQ31+DA31+DK31 -> 0 | ... DW31: =Q31+AA31+AK31+AU31+BE31+BO31+BY31+CI31+CS31+DC31+DM31 -> 0
A32: Волосовский | B32: МДОУ "Детский сад № 12" | C32: село | D32: детей | E32: =F32+G32 -> 0 | F32: =DN32+DP32+DR32+DT32+DV32 -> 0 | G32: =DO32+DQ32+DS32+DU32+DW32 -> 0 | DN32: =H32+R32+AB32+AL32+AV32+BF32+BP32+BZ32+CJ32+CT32+DD32 -> 0 | DO32: =I32+S32+AC32+AM32+AW32+BG32+BQ32+CA32+CK32+CU32+DE32 -> 0 | DP32: =J32+T32+AD32+AN32+AX32+BH32+BR32+CB32+CL32+CV32+DF32 -> 0 | DQ32: =K32+U32+AE32+AO32+AY32+BI32+BS32+CC32+CM32+CW32+DG32 -> 0 | DR32: =L32+V32+AF32+AP32+AZ32+BJ32+BT32+CD32+CN32+CX32+DH32 -> 0 | DS32: =M32+W32+AG32+AQ32+BA32+BK32+BU32+CE32+CO32+CY32+DI32 -> 0 | DT32: =N32+X32+AH32+AR32+BB32+BL32+BV32+CF32+CP32+CZ32+DJ32 -> 0 | DU32: =O32+Y32+AI32+AS32+BC32+BM32+BW32+CG32+CQ32+DA32+DK32 -> 0 | ... DW32: =Q32+AA32+AK32+AU32+BE32+BO32+BY32+CI32+CS32+DC32+DM32 -> 0
A33: Волосовский | B33: МДОУ "Детский сад № 13" | C33: село | D33: детей | E33: =F33+G33 -> 0 | F33: =DN33+DP33+DR33+DT33+DV33 -> 0 | G33: =DO33+DQ33+DS33+DU33+DW33 -> 0 | DN33: =H33+R33+AB33+AL33+AV33+BF33+BP33+BZ33+CJ33+CT33+DD33 -> 0 | DO33: =I33+S33+AC33+AM33+AW33+BG33+BQ33+CA33+CK33+CU33+DE33 -> 0 | DP33: =J33+T33+AD33+AN33+AX33+BH33+BR33+CB33+CL33+CV33+DF33 -> 0 | DQ33: =K33+U33+AE33+AO33+AY33+BI33+BS33+CC33+CM33+CW33+DG33 -> 0 | DR33: =L33+V33+AF33+AP33+AZ33+BJ33+BT33+CD33+CN33+CX33+DH33 -> 0 | DS33: =M33+W33+AG33+AQ33+BA33+BK33+BU33+CE33+CO33+CY33+DI33 -> 0 | DT33: =N33+X33+AH33+AR33+BB33+BL33+BV33+CF33+CP33+CZ33+DJ33 -> 0 | DU33: =O33+Y33+AI33+AS33+BC33+BM33+BW33+CG33+CQ33+DA33+DK33 -> 0 | ... DW33: =Q33+AA33+AK33+AU33+BE33+BO33+BY33+CI33+CS33+DC33+DM33 -> 0
A34: Волосовский | B34: МДОУ "Детский сад № 14" | C34: село | D34: детей | E34: =F34+G34 -> 0 | F34: =DN34+DP34+DR34+DT34+DV34 -> 0 | G34: =DO34+DQ34+DS34+DU34+DW34 -> 0 | DN34: =H34+R34+AB34+AL34+AV34+BF34+BP34+BZ34+CJ34+CT34+DD34 -> 0 | DO34: =I34+S34+AC34+AM34+AW34+BG34+BQ34+CA34+CK34+CU34+DE34 -> 0 | DP34: =J34+T34+AD34+AN34+AX34+BH34+BR34+CB34+CL34+CV34+DF34 -> 0 | DQ34: =K34+U34+AE34+AO34+AY34+BI34+BS34+CC34+CM34+CW34+DG34 -> 0 | DR34: =L34+V34+AF34+AP34+AZ34+BJ34+BT34+CD34+CN34+CX34+DH34 -> 0 | DS34: =M34+W34+AG34+AQ34+BA34+BK34+BU34+CE34+CO34+CY34+DI34 -> 0 | DT34: =N34+X34+AH34+AR34+BB34+BL34+BV34+CF34+CP34+CZ34+DJ34 -> 0 | DU34: =O34+Y34+AI34+AS34+BC34+BM34+BW34+CG34+CQ34+DA34+DK34 -> 0 | ... DW34: =Q34+AA34+AK34+AU34+BE34+BO34+BY34+CI34+CS34+DC34+DM34 -> 0
A35: Волосовский | B35: МДОУ "Детский сад № 18" | C35: село | D35: детей | E35: =F35+G35 -> 0 | F35: =DN35+DP35+DR35+DT35+DV35 -> 0 | G35: =DO35+DQ35+DS35+DU35+DW35 -> 0 | DN35: =H35+R35+AB35+AL35+AV35+BF35+BP35+BZ35+CJ35+CT35+DD35 -> 0 | DO35: =I35+S35+AC35+AM35+AW35+BG35+BQ35+CA35+CK35+CU35+DE35 -> 0 | DP35: =J35+T35+AD35+AN35+AX35+BH35+BR35+CB35+CL35+CV35+DF35 -> 0 | DQ35: =K35+U35+AE35+AO35+AY35+BI35+BS35+CC35+CM35+CW35+DG35 -> 0 | DR35: =L35+V35+AF35+AP35+AZ35+BJ35+BT35+CD35+CN35+CX35+DH35 -> 0 | DS35: =M35+W35+AG35+AQ35+BA35+BK35+BU35+CE35+CO35+CY35+DI35 -> 0 | DT35: =N35+X35+AH35+AR35+BB35+BL35+BV35+CF35+CP35+CZ35+DJ35 -> 0 | DU35: =O35+Y35+AI35+AS35+BC35+BM35+BW35+CG35+CQ35+DA35+DK35 -> 0 | ... DW35: =Q35+AA35+AK35+AU35+BE35+BO35+BY35+CI35+CS35+DC35+DM35 -> 0
A36: Волосовский | B36: МДОУ "Детский сад № 19" | C36: село | D36: детей | E36: =F36+G36 -> 0 | F36: =DN36+DP36+DR36+DT36+DV36 -> 0 | G36: =DO36+DQ36+DS36+DU36+DW36 -> 0 | DN36: =H36+R36+AB36+AL36+AV36+BF36+BP36+BZ36+CJ36+CT36+DD36 -> 0 | DO36: =I36+S36+AC36+AM36+AW36+BG36+BQ36+CA36+CK36+CU36+DE36 -> 0 | DP36: =J36+T36+AD36+AN36+AX36+BH36+BR36+CB36+CL36+CV36+DF36 -> 0 | DQ36: =K36+U36+AE36+AO36+AY36+BI36+BS36+CC36+CM36+CW36+DG36 -> 0 | DR36: =L36+V36+AF36+AP36+AZ36+BJ36+BT36+CD36+CN36+CX36+DH36 -> 0 | DS36: =M36+W36+AG36+AQ36+BA36+BK36+BU36+CE36+CO36+CY36+DI36 -> 0 | DT36: =N36+X36+AH36+AR36+BB36+BL36+BV36+CF36+CP36+CZ36+DJ36 -> 0 | DU36: =O36+Y36+AI36+AS36+BC36+BM36+BW36+CG36+CQ36+DA36+DK36 -> 0 | ... DW36: =Q36+AA36+AK36+AU36+BE36+BO36+BY36+CI36+CS36+DC36+DM36 -> 0
A37: Волосовский | B37: МДОУ "Детский сад №20" | C37: село | D37: детей | E37: =F37+G37 -> 0 | F37: =DN37+DP37+DR37+DT37+DV37 -> 0 | G37: =DO37+DQ37+DS37+DU37+DW37 -> 0 | DN37: =H37+R37+AB37+AL37+AV37+BF37+BP37+BZ37+CJ37+CT37+DD37 -> 0 | DO37: =I37+S37+AC37+AM37+AW37+BG37+BQ37+CA37+CK37+CU37+DE37 -> 0 | DP37: =J37+T37+AD37+AN37+AX37+BH37+BR37+CB37+CL37+CV37+DF37 -> 0 | DQ37: =K37+U37+AE37+AO37+AY37+BI37+BS37+CC37+CM37+CW37+DG37 -> 0 | DR37: =L37+V37+AF37+AP37+AZ37+BJ37+BT37+CD37+CN37+CX37+DH37 -> 0 | DS37: =M37+W37+AG37+AQ37+BA37+BK37+BU37+CE37+CO37+CY37+DI37 -> 0 | DT37: =N37+X37+AH37+AR37+BB37+BL37+BV37+CF37+CP37+CZ37+DJ37 -> 0 | DU37: =O37+Y37+AI37+AS37+BC37+BM37+BW37+CG37+CQ37+DA37+DK37 -> 0 | ... DW37: =Q37+AA37+AK37+AU37+BE37+BO37+BY37+CI37+CS37+DC37+DM37 -> 0
... A45: Волосовский | B45: МОУ "Ущевицкая НОШ" | C45: село | D45: детей | E45: =F45+G45 -> 0 | F45: =DN45+DP45+DR45+DT45+DV45 -> 0 | G45: =DO45+DQ45+DS45+DU45+DW45 -> 0 | DN45: =H45+R45+AB45+AL45+AV45+BF45+BP45+BZ45+CJ45+CT45+DD45 -> 0 | DO45: =I45+S45+AC45+AM45+AW45+BG45+BQ45+CA45+CK45+CU45+DE45 -> 0 | DP45: =J45+T45+AD45+AN45+AX45+BH45+BR45+CB45+CL45+CV45+DF45 -> 0 | DQ45: =K45+U45+AE45+AO45+AY45+BI45+BS45+CC45+CM45+CW45+DG45 -> 0 | DR45: =L45+V45+AF45+AP45+AZ45+BJ45+BT45+CD45+CN45+CX45+DH45 -> 0 | DS45: =M45+W45+AG45+AQ45+BA45+BK45+BU45+CE45+CO45+CY45+DI45 -> 0 | DT45: =N45+X45+AH45+AR45+BB45+BL45+BV45+CF45+CP45+CZ45+DJ45 -> 0 | DU45: =O45+Y45+AI45+AS45+BC45+BM45+BW45+CG45+CQ45+DA45+DK45 -> 0 | ... DW45: =Q45+AA45+AK45+AU45+BE45+BO45+BY45+CI45+CS45+DC45+DM45 -> 0
A46: Волосовский | B46: ИТОГО | E46: =SUBTOTAL(9,E26:E45) -> 0 | F46: =SUBTOTAL(9,F26:F45) -> 0 | G46: =SUBTOTAL(9,G26:G45) -> 0 | H46: =SUBTOTAL(9,H26:H45) -> 0 | I46: =SUBTOTAL(9,I26:I45) -> 0 | J46: =SUBTOTAL(9,J26:J45) -> 0 | K46: =SUBTOTAL(9,K26:K45) -> 0 | L46: =SUBTOTAL(9,L26:L45) -> 0 | ... DW46: =SUBTOTAL(9,DW26:DW45) -> 0
A47: Волховский | B47: МДОБУ «Детский сад № 1 «Дюймовочка» комбинированного вида» | C47: город | D47: детей | E47: =F47+G47 -> 0 | F47: =DN47+DP47+DR47+DT47+DV47 -> 0 | G47: =DO47+DQ47+DS47+DU47+DW47 -> 0 | DN47: =H47+R47+AB47+AL47+AV47+BF47+BP47+BZ47+CJ47+CT47+DD47 -> 0 | DO47: =I47+S47+AC47+AM47+AW47+BG47+BQ47+CA47+CK47+CU47+DE47 -> 0 | DP47: =J47+T47+AD47+AN47+AX47+BH47+BR47+CB47+CL47+CV47+DF47 -> 0 | DQ47: =K47+U47+AE47+AO47+AY47+BI47+BS47+CC47+CM47+CW47+DG47 -> 0 | DR47: =L47+V47+AF47+AP47+AZ47+BJ47+BT47+CD47+CN47+CX47+DH47 -> 0 | DS47: =M47+W47+AG47+AQ47+BA47+BK47+BU47+CE47+CO47+CY47+DI47 -> 0 | DT47: =N47+X47+AH47+AR47+BB47+BL47+BV47+CF47+CP47+CZ47+DJ47 -> 0 | DU47: =O47+Y47+AI47+AS47+BC47+BM47+BW47+CG47+CQ47+DA47+DK47 -> 0 | ... DW47: =Q47+AA47+AK47+AU47+BE47+BO47+BY47+CI47+CS47+DC47+DM47 -> 0
A48: Волховский | B48: МДОБУ «Детский сад № 2 «Рябинка» комбинированного вида» | C48: город | D48: детей | E48: =F48+G48 -> 0 | F48: =DN48+DP48+DR48+DT48+DV48 -> 0 | G48: =DO48+DQ48+DS48+DU48+DW48 -> 0 | DN48: =H48+R48+AB48+AL48+AV48+BF48+BP48+BZ48+CJ48+CT48+DD48 -> 0 | DO48: =I48+S48+AC48+AM48+AW48+BG48+BQ48+CA48+CK48+CU48+DE48 -> 0 | DP48: =J48+T48+AD48+AN48+AX48+BH48+BR48+CB48+CL48+CV48+DF48 -> 0 | DQ48: =K48+U48+AE48+AO48+AY48+BI48+BS48+CC48+CM48+CW48+DG48 -> 0 | DR48: =L48+V48+AF48+AP48+AZ48+BJ48+BT48+CD48+CN48+CX48+DH48 -> 0 | DS48: =M48+W48+AG48+AQ48+BA48+BK48+BU48+CE48+CO48+CY48+DI48 -> 0 | DT48: =N48+X48+AH48+AR48+BB48+BL48+BV48+CF48+CP48+CZ48+DJ48 -> 0 | DU48: =O48+Y48+AI48+AS48+BC48+BM48+BW48+CG48+CQ48+DA48+DK48 -> 0 | ... DW48: =Q48+AA48+AK48+AU48+BE48+BO48+BY48+CI48+CS48+DC48+DM48 -> 0
A49: Волховский | B49: МДОБУ «Детский сад № 3 комбинированного вида» | C49: город | D49: детей | E49: =F49+G49 -> 0 | F49: =DN49+DP49+DR49+DT49+DV49 -> 0 | G49: =DO49+DQ49+DS49+DU49+DW49 -> 0 | DN49: =H49+R49+AB49+AL49+AV49+BF49+BP49+BZ49+CJ49+CT49+DD49 -> 0 | DO49: =I49+S49+AC49+AM49+AW49+BG49+BQ49+CA49+CK49+CU49+DE49 -> 0 | DP49: =J49+T49+AD49+AN49+AX49+BH49+BR49+CB49+CL49+CV49+DF49 -> 0 | DQ49: =K49+U49+AE49+AO49+AY49+BI49+BS49+CC49+CM49+CW49+DG49 -> 0 | DR49: =L49+V49+AF49+AP49+AZ49+BJ49+BT49+CD49+CN49+CX49+DH49 -> 0 | DS49: =M49+W49+AG49+AQ49+BA49+BK49+BU49+CE49+CO49+CY49+DI49 -> 0 | DT49: =N49+X49+AH49+AR49+BB49+BL49+BV49+CF49+CP49+CZ49+DJ49 -> 0 | DU49: =O49+Y49+AI49+AS49+BC49+BM49+BW49+CG49+CQ49+DA49+DK49 -> 0 | ... DW49: =Q49+AA49+AK49+AU49+BE49+BO49+BY49+CI49+CS49+DC49+DM49 -> 0
A50: Волховский | B50: МДОБУ «Детский сад № 4» комбинированного вида" | C50: город | D50: детей | E50: =F50+G50 -> 0 | F50: =DN50+DP50+DR50+DT50+DV50 -> 0 | G50: =DO50+DQ50+DS50+DU50+DW50 -> 0 | DN50: =H50+R50+AB50+AL50+AV50+BF50+BP50+BZ50+CJ50+CT50+DD50 -> 0 | DO50: =I50+S50+AC50+AM50+AW50+BG50+BQ50+CA50+CK50+CU50+DE50 -> 0 | DP50: =J50+T50+AD50+AN50+AX50+BH50+BR50+CB50+CL50+CV50+DF50 -> 0 | DQ50: =K50+U50+AE50+AO50+AY50+BI50+BS50+CC50+CM50+CW50+DG50 -> 0 | DR50: =L50+V50+AF50+AP50+AZ50+BJ50+BT50+CD50+CN50+CX50+DH50 -> 0 | DS50: =M50+W50+AG50+AQ50+BA50+BK50+BU50+CE50+CO50+CY50+DI50 -> 0 | DT50: =N50+X50+AH50+AR50+BB50+BL50+BV50+CF50+CP50+CZ50+DJ50 -> 0 | DU50: =O50+Y50+AI50+AS50+BC50+BM50+BW50+CG50+CQ50+DA50+DK50 -> 0 | ... DW50: =Q50+AA50+AK50+AU50+BE50+BO50+BY50+CI50+CS50+DC50+DM50 -> 0
A51: Волховский | B51: МДОБУ «Детский сад № 5 «Аистенок» комбинированного вида» | C51: город | D51: детей | E51: =F51+G51 -> 0 | F51: =DN51+DP51+DR51+DT51+DV51 -> 0 | G51: =DO51+DQ51+DS51+DU51+DW51 -> 0 | DN51: =H51+R51+AB51+AL51+AV51+BF51+BP51+BZ51+CJ51+CT51+DD51 -> 0 | DO51: =I51+S51+AC51+AM51+AW51+BG51+BQ51+CA51+CK51+CU51+DE51 -> 0 | DP51: =J51+T51+AD51+AN51+AX51+BH51+BR51+CB51+CL51+CV51+DF51 -> 0 | DQ51: =K51+U51+AE51+AO51+AY51+BI51+BS51+CC51+CM51+CW51+DG51 -> 0 | DR51: =L51+V51+AF51+AP51+AZ51+BJ51+BT51+CD51+CN51+CX51+DH51 -> 0 | DS51: =M51+W51+AG51+AQ51+BA51+BK51+BU51+CE51+CO51+CY51+DI51 -> 0 | DT51: =N51+X51+AH51+AR51+BB51+BL51+BV51+CF51+CP51+CZ51+DJ51 -> 0 | DU51: =O51+Y51+AI51+AS51+BC51+BM51+BW51+CG51+CQ51+DA51+DK51 -> 0 | ... DW51: =Q51+AA51+AK51+AU51+BE51+BO51+BY51+CI51+CS51+DC51+DM51 -> 0
A52: Волховский | B52: МДОБУ «Детский сад № 6 «Солнышко» комбинированного вида» | C52: город | D52: детей | E52: =F52+G52 -> 0 | F52: =DN52+DP52+DR52+DT52+DV52 -> 0 | G52: =DO52+DQ52+DS52+DU52+DW52 -> 0 | DN52: =H52+R52+AB52+AL52+AV52+BF52+BP52+BZ52+CJ52+CT52+DD52 -> 0 | DO52: =I52+S52+AC52+AM52+AW52+BG52+BQ52+CA52+CK52+CU52+DE52 -> 0 | DP52: =J52+T52+AD52+AN52+AX52+BH52+BR52+CB52+CL52+CV52+DF52 -> 0 | DQ52: =K52+U52+AE52+AO52+AY52+BI52+BS52+CC52+CM52+CW52+DG52 -> 0 | DR52: =L52+V52+AF52+AP52+AZ52+BJ52+BT52+CD52+CN52+CX52+DH52 -> 0 | DS52: =M52+W52+AG52+AQ52+BA52+BK52+BU52+CE52+CO52+CY52+DI52 -> 0 | DT52: =N52+X52+AH52+AR52+BB52+BL52+BV52+CF52+CP52+CZ52+DJ52 -> 0 | DU52: =O52+Y52+AI52+AS52+BC52+BM52+BW52+CG52+CQ52+DA52+DK52 -> 0 | ... DW52: =Q52+AA52+AK52+AU52+BE52+BO52+BY52+CI52+CS52+DC52+DM52 -> 0
