Workbook
Name Excel_BuiltIn_Print_Titles: гр.комбинир.напрв.!$B:$B,гр.комбинир.напрв.!$1:$1
Name Excel_BuiltIn_Print_Titles: гр.компен.направ.!$B:$B,гр.компен.направ.!$1:$1
Name Excel_BuiltIn_Print_Titles: Норматив!$1:$5
Name Excel_BuiltIn_Print_Titles: 'свод групп'!$B:$B,'свод групп'!$1:$1

Sheet Норматив
A1: нормативы с 01.01.2020 | D1: наполняемость | E1: режим функционирования
E2: пятидневная рабочая неделя | J2: шестидневная рабочая неделя
E3: 5 | F3: 5 | G3: 5 | H3: 5 | I3: 5 | J3: 6 | K3: 6 | L3: 6 | M3: 6 | N3: 6
E4: кратковременного пребывания | F4: сокращенного дня | G4: полного дня | H4: продленного дня | I4: круглосуточным пребыванием | J4: кратковременного пребывания | K4: сокращенного дня | L4: полного дня | M4: продленного дня | N4: круглосуточным пребыванием
E5: 5 часов | F5: 8-10 часов | G5: 10,5 - 12 часов | H5: 14 часов | I5: 24 часа | J5: 5 часов | K5: 10 часов | L5: 12 часов | M5: 14 часов | N5: 24 часа
E6: 5 | F6: 10 | G6: 12 | H6: 14 | I6: 14 | J6: 5 | K6: 10 | L6: 12 | M6: 14 | N6: 14
A7: количество часов рабочего времени воспитателя в неделю | E7: =E3*E6 -> 25 | F7: =F3*F6 -> 50 | G7: =G3*G6 -> 60 | H7: =H3*H6 -> 70 | I7: =I3*I6 -> 70 | J7: =J3*J6 -> 30 | K7: =K3*K6 -> 60 | L7: =L3*L6 -> 72 | ... N7: =N3*N6 -> 84
A8: норма часов педагогической работы на ставку воспитателя в неделю
A9: группы общеразвивающие направленности | B9: группы общеразвивающей направленности | C9: до 3 лет | D9: 19 | E9: 36 | F9: 36 | G9: 36 | H9: 36 | I9: 36 | J9: 36 | K9: 36 | L9: 36 | M9: 36 | N9: 36
C10: старше 3х лет | D10: 23 | E10: 36 | F10: 36 | G10: 36 | H10: 36 | I10: 36 | J10: 36 | K10: 36 | L10: 36 | M10: 36 | N10: 36
B11: группы общеразвивающей направленности, расположенные в ПГТ с численностью воспитанников от 100 до 51 человека | C11: до 3 лет | D11: 15 | E11: 36 | F11: 36 | G11: 36 | H11: 36 | I11: 36
C12: старше 3х лет | D12: 20 | E12: 36 | F12: 36 | G12: 36 | H12: 36 | I12: 36
B13: группы общеразвивающей направленности, расположенные в ПГТ с численностью воспитанников менее 51 человека | C13: до 3 лет | D13: 10 | E13: 36 | F13: 36 | G13: 36 | H13: 36 | I13: 36
C14: старше 3х лет | D14: 15 | E14: 36 | F14: 36 | G14: 36 | H14: 36 | I14: 36
B15: группы общеразвивающей направленности, расположенные в сельской местности с численностью воспитанников от 100 до 51 человека | C15: до 3 лет | D15: 15 | E15: 36 | F15: 36 | G15: 36 | H15: 36 | I15: 36
C16: старше 3х лет | D16: 20 | E16: 36 | F16: 36 | G16: 36 | H16: 36 | I16: 36
B17: группы общеразвивающей направленности, расположенные в сельской местности с численностью воспитанников от 50 до 26 человек | C17: до 3 лет | D17: 10 | E17: 36 | F17: 36 | G17: 36 | H17: 36 | I17: 36
C18: старше 3х лет | D18: 15 | E18: 36 | F18: 36 | G18: 36 | H18: 36 | I18: 36
B19: группы общеразвивающей направленности, расположенные в сельской местности с численностью воспитанников от 25 до 11 человек | C19: до 3 лет | D19: 10 | E19: 36 | F19: 36 | G19: 36 | H19: 36 | I19: 36
C20: старше 3х лет | D20: 10 | E20: 36 | F20: 36 | G20: 36 | H20: 36 | I20: 36
B21: группы общеразвивающей направленности, расположенные в сельской местности с численностью воспитанников менее 11 человек | C21: до 3 лет | D21: 5 | E21: 36 | F21: 36 | G21: 36 | H21: 36 | I21: 36
C22: старше 3х лет | D22: 5 | E22: 36 | F22: 36 | G22: 36 | H22: 36 | I22: 36
A23: группы компенсирующей наравленности | B23: для детей с тяжелыми нарушениями речи | C23: до 3 лет | D23: 6 | E23: 25 | F23: 25 | G23: 25 | H23: 25 | I23: 25 | J23: 25 | K23: 25 | L23: 25 | M23: 25 | N23: 25
C24: старше 3х лет | D24: 10 | E24: 25 | F24: 25 | G24: 25 | H24: 25 | I24: 25 | J24: 25 | K24: 25 | L24: 25 | M24: 25 | N24: 25
B25: для детей с фонетико-фонематическими нарушениями речи | C25: до 3 лет | D25: 0 | E25: 0 | F25: 0 | G25: 0 | H25: 0 | I25: 0 | J25: 0 | K25: 0 | L25: 0 | M25: 0 | N25: 0
C26: старше 3х лет | D26: 12 | E26: 25 | F26: 25 | G26: 25 | H26: 25 | I26: 25 | J26: 25 | K26: 25 | L26: 25 | M26: 25 | N26: 25
B27: для глухих детей | C27: до 3 лет | D27: 6 | E27: 25 | F27: 25 | G27: 25 | H27: 25 | I27: 25 | J27: 25 | K27: 25 | L27: 25 | M27: 25 | N27: 25
C28: старше 3х лет | D28: 6 | E28: 25 | F28: 25 | G28: 25 | H28: 25 | I28: 25 | J28: 25 | K28: 25 | L28: 25 | M28: 25 | N28: 25
B29: для слабослышащих | C29: до 3 лет | D29: 6 | E29: 25 | F29: 25 | G29: 25 | H29: 25 | I29: 25 | J29: 25 | K29: 25 | L29: 25 | M29: 25 | N29: 25
C30: старше 3х лет | D30: 8 | E30: 25 | F30: 25 | G30: 25 | H30: 25 | I30: 25 | J30: 25 | K30: 25 | L30: 25 | M30: 25 | N30: 25
B31: для слепых детей | C31: до 3 лет | D31: 6 | E31: 25 | F31: 25 | G31: 25 | H31: 25 | I31: 25 | J31: 25 | K31: 25 | L31: 25 | M31: 25 | N31: 25
C32: старше 3х лет | D32: 6 | E32: 25 | F32: 25 | G32: 25 | H32: 25 | I32: 25 | J32: 25 | K32: 25 | L32: 25 | M32: 25 | N32: 25
B33: слабовидящих детей, для детей с амблиопией, косоглазием | C33: до 3 лет | D33: 6 | E33: 25 | F33: 25 | G33: 25 | H33: 25 | I33: 25 | J33: 25 | K33: 25 | L33: 25 | M33: 25 | N33: 25
C34: старше 3х лет | D34: 10 | E34: 25 | F34: 25 | G34: 25 | H34: 25 | I34: 25 | J34: 25 | K34: 25 | L34: 25 | M34: 25 | N34: 25
B35: для детей с нарушениями опорно-двигательного аппарата | C35: до 3 лет | D35: 6 | E35: 25 | F35: 25 | G35: 25 | H35: 25 | I35: 25 | J35: 25 | K35: 25 | L35: 25 | M35: 25 | N35: 25
C36: старше 3х лет | D36: 8 | E36: 25 | F36: 25 | G36: 25 | H36: 25 | I36: 25 | J36: 25 | K36: 25 | L36: 25 | M36: 25 | N36: 25
B37: для детей с задержкой психического развития | C37: до 3 лет | D37: 6 | E37: 25 | F37: 25 | G37: 25 | H37: 25 | I37: 25 | J37: 25 | K37: 25 | L37: 25 | M37: 25 | N37: 25
C38: старше 3х лет | D38: 10 | E38: 25 | F38: 25 | G38: 25 | H38: 25 | I38: 25 | J38: 25 | K38: 25 | L38: 25 | M38: 25 | N38: 25
B39: для детей с умственной отсталостью легкой степени | C39: до 3 лет | D39: 6 | E39: 25 | F39: 25 | G39: 25 | H39: 25 | I39: 25 | J39: 25 | K39: 25 | L39: 25 | M39: 25 | N39: 25
C40: старше 3х лет | D40: 10 | E40: 25 | F40: 25 | G40: 25 | H40: 25 | I40: 25 | J40: 25 | K40: 25 | L40: 25 | M40: 25 | N40: 25
...

Sheet гр.общеразв.напрв.
B1: Наименвание образовательного учреждения | C1: Тип месторасположения (город, село, ПГТ) | E1: Всего детей/ групп | F1: в том числе | H1: группы общеразвивающей направленности, обычные группы | R1: группы общеразвивающей направленности, расположенные в ПГТ с численностью воспитанников от 100 до 51 человека | AB1: группы общеразвивающей направленности, расположенные в ПГТ с численностью воспитанников менее 51 человека | AL1: группы общеразвивающей направленности, расположенные в сельской местности с численностью воспитанников от 100 до 51 человека | AV1: группы общеразвивающей направленности, расположенные в сельской местности с численностью воспитанников от 50 до 26 человек | BF1: группы общеразвивающей направленности, расположенные в сельской местности с численностью воспитанников от 25 до 11 человек | BP1: группы общеразвивающей направленности, расположенные в сельской местности с численностью воспитанников менее 11 человек | BZ1: ВСЕГО
H2: кратковременного пребывания | J2: сокращенного дня | L2: полного дня | N2: продленного дня | P2: круглосуточным пребыванием | R2: кратковременного пребывания | T2: сокращенного дня | V2: полного дня | X2: продленного дня | Z2: круглосуточным пребыванием | AB2: кратковременного пребывания | AD2: сокращенного дня | AF2: полного дня | AH2: продленного дня | AJ2: круглосуточным пребыванием | AL2: кратковременного пребывания | AN2: сокращенного дня | AP2: полного дня | AR2: продленного дня | AT2: круглосуточным пребыванием | AV2: кратковременного пребывания | AX2: сокращенного дня | AZ2: полного дня | BB2: продленного дня | BD2: круглосуточным пребыванием | BF2: кратковременного пребывания | BH2: сокращенного дня | BJ2: полного дня | BL2: продленного дня | BN2: круглосуточным пребыванием | BP2: кратковременного пребывания | BR2: сокращенного дня | BT2: полного дня | BV2: продленного дня | BX2: круглосуточным пребыванием | BZ2: кратковременного пребывания | CB2: сокращенного дня | CD2: полного дня | CF2: продленного дня | CH2: круглосуточным пребыванием
H3: до 5 часов | J3: 8 - 10,5 часов | L3: 12 часов | N3: 13 - 14 часов | P3: 24 часа | R3: до 5 часов | T3: 8 - 10,5 часов | V3: 12 часов | X3: 13 - 14 часов | Z3: 24 часа | AB3: до 5 часов | AD3: 8 - 10,5 часов | AF3: 12 часов | AH3: 13 - 14 часов | AJ3: 24 часа | AL3: до 5 часов | AN3: 8 - 10,5 часов | AP3: 12 часов | AR3: 13 - 14 часов | AT3: 24 часа | AV3: до 5 часов | AX3: 8 - 10,5 часов | AZ3: 12 часов | BB3: 13 - 14 часов | BD3: 24 часа | BF3: до 5 часов | BH3: 8 - 10,5 часов | BJ3: 12 часов | BL3: 13 - 14 часов | BN3: 24 часа | BP3: до 5 часов | BR3: 8 - 10,5 часов | BT3: 12 часов | BV3: 13 - 14 часов | BX3: 24 часа | BZ3: до 5 часов | CB3: 8 - 10,5 часов | CD3: 12 часов | CF3: 13 - 14 часов | CH3: 24 часа
B5: Нормативная наполняемость в группах | H5: 19 | I5: 23 | J5: 19 | K5: 23 | L5: 19 | M5: 23 | N5: 19 | O5: 23 | P5: 19 | Q5: 23 | R5: 15 | S5: 20 | T5: 15 | U5: 20 | V5: 15 | W5: 20 | X5: 15 | Y5: 20 | Z5: 15 | AA5: 20 | AB5: 10 | AC5: 15 | AD5: 10 | AE5: 15 | AF5: 10 | AG5: 15 | AH5: 10 | AI5: 15 | AJ5: 10 | AK5: 15 | AL5: 15 | AM5: 20 | AN5: 15 | AO5: 20 | AP5: 15 | AQ5: 20 | AR5: 15 | AS5: 20 | AT5: 15 | AU5: 20 | AV5: 10 | AW5: 15 | AX5: 10 | AY5: 15 | AZ5: 10 | BA5: 15 | BB5: 10 | BC5: 15 | BD5: 10 | BE5: 15 | BF5: 10 | BG5: 10 | BH5: 10 | BI5: 10 | BJ5: 10 | BK5: 10 | BL5: 10 | BM5: 10 | BN5: 10 | BO5: 10 | BP5: 5 | BQ5: 5 | BR5: 5 | BS5: 5 | BT5: 5 | BU5: 5 | BV5: 5 | BW5: 5 | BX5: 5 | BY5: 5
A6: МР | B6: Наименование ОУ | C6: Тип | D6: ед. | E6: Всего | F6: до 3 лет | G6: старше 3 лет | H6: до 3 лет | I6: старше 3 лет | J6: до 3 лет | K6: старше 3 лет | L6: до 3 лет | M6: старше 3 лет | N6: до 3 лет | O6: старше 3 лет | P6: до 3 лет | Q6: старше 3 лет | R6: до 3 лет | S6: старше 3 лет | T6: до 3 лет | U6: старше 3 лет | V6: до 3 лет | W6: старше 3 лет | X6: до 3 лет | Y6: старше 3 лет | Z6: до 3 лет | AA6: старше 3 лет | AB6: до 3 лет | AC6: старше 3 лет | AD6: до 3 лет | AE6: старше 3 лет | AF6: до 3 лет | AG6: старше 3 лет | AH6: до 3 лет | AI6: старше 3 лет | AJ6: до 3 лет | AK6: старше 3 лет | AL6: до 3 лет | AM6: старше 3 лет | AN6: до 3 лет | AO6: старше 3 лет | AP6: до 3 лет | AQ6: старше 3 лет | AR6: до 3 лет | AS6: старше 3 лет | AT6: до 3 лет | AU6: старше 3 лет | AV6: до 3 лет | AW6: старше 3 лет | AX6: до 3 лет | AY6: старше 3 лет | AZ6: до 3 лет | BA6: старше 3 лет | BB6: до 3 лет | BC6: старше 3 лет | BD6: до 3 лет | BE6: старше 3 лет | BF6: до 3 лет | BG6: старше 3 лет | BH6: до 3 лет | BI6: старше 3 лет | BJ6: до 3 лет | BK6: старше 3 лет | BL6: до 3 лет | BM6: старше 3 лет | BN6: до 3 лет | BO6: старше 3 лет | BP6: до 3 лет | BQ6: старше 3 лет | BR6: до 3 лет | BS6: старше 3 лет | BT6: до 3 лет | BU6: старше 3 лет | BV6: до 3 лет | BW6: старше 3 лет | BX6: до 3 лет | BY6: старше 3 лет | BZ6: до 3 лет | CA6: старше 3 лет | CB6: до 3 лет | CC6: старше 3 лет | CD6: до 3 лет | CE6: старше 3 лет | CF6: до 3 лет | CG6: старше 3 лет | CH6: до 3 лет | CI6: старше 3 лет
A7: Бокситогорский | B7: МБДОУ Бокситогорский детский сад № 1 | C7: город | D7: детей | E7: =F7+G7 -> 208 | F7: =BZ7+CB7+CD7+CF7+CH7 -> 56 | G7: =CA7+CC7+CE7+CG7+CI7 -> 152 | J7: 56 | K7: 111 | M7: 41 | BZ7: =H7+R7+AB7+AL7+AV7+BF7+BP7 -> 0 | CA7: =I7+S7+AC7+AM7+AW7+BG7+BQ7 -> 0 | CB7: =J7+T7+AD7+AN7+AX7+BH7+BR7 -> 56 | CC7: =K7+U7+AE7+AO7+AY7+BI7+BS7 -> 111 | CD7: =L7+V7+AF7+AP7+AZ7+BJ7+BT7 -> 0 | CE7: =M7+W7+AG7+AQ7+BA7+BK7+BU7 -> 41 | CF7: =N7+X7+AH7+AR7+BB7+BL7+BV7 -> 0 | CG7: =O7+Y7+AI7+AS7+BC7+BM7+BW7 -> 0 | ... CI7: =Q7+AA7+AK7+AU7+BE7+BO7+BY7 -> 0
A8: Бокситогорский | B8: МБДОУ Бокситогорский детский сад № 4 | C8: город | D8: детей | E8: =F8+G8 -> 169 | F8: =BZ8+CB8+CD8+CF8+CH8 -> 51 | G8: =CA8+CC8+CE8+CG8+CI8 -> 118 | J8: 51 | K8: 71 | M8: 47 | BZ8: =H8+R8+AB8+AL8+AV8+BF8+BP8 -> 0 | CA8: =I8+S8+AC8+AM8+AW8+BG8+BQ8 -> 0 | CB8: =J8+T8+AD8+AN8+AX8+BH8+BR8 -> 51 | CC8: =K8+U8+AE8+AO8+AY8+BI8+BS8 -> 71 | CD8: =L8+V8+AF8+AP8+AZ8+BJ8+BT8 -> 0 | CE8: =M8+W8+AG8+AQ8+BA8+BK8+BU8 -> 47 | CF8: =N8+X8+AH8+AR8+BB8+BL8+BV8 -> 0 | CG8: =O8+Y8+AI8+AS8+BC8+BM8+BW8 -> 0 | ... CI8: =Q8+AA8+AK8+AU8+BE8+BO8+BY8 -> 0
A9: Бокситогорский | B9: МБДОУ Бокситогорский детский сад № 5 | C9: город | D9: детей | E9: =F9+G9 -> 203 | F9: =BZ9+CB9+CD9+CF9+CH9 -> 61 | G9: =CA9+CC9+CE9+CG9+CI9 -> 142 | J9: 41 | K9: 123 | L9: 20 | M9: 19 | BZ9: =H9+R9+AB9+AL9+AV9+BF9+BP9 -> 0 | CA9: =I9+S9+AC9+AM9+AW9+BG9+BQ9 -> 0 | CB9: =J9+T9+AD9+AN9+AX9+BH9+BR9 -> 41 | CC9: =K9+U9+AE9+AO9+AY9+BI9+BS9 -> 123 | CD9: =L9+V9+AF9+AP9+AZ9+BJ9+BT9 -> 20 | CE9: =M9+W9+AG9+AQ9+BA9+BK9+BU9 -> 19 | CF9: =N9+X9+AH9+AR9+BB9+BL9+BV9 -> 0 | CG9: =O9+Y9+AI9+AS9+BC9+BM9+BW9 -> 0 | ... CI9: =Q9+AA9+AK9+AU9+BE9+BO9+BY9 -> 0
A10: Бокситогорский | B10: МБДОУ Бокситогорский детский сад № 8 | C10: город | D10: детей | E10: =F10+G10 -> 145 | F10: =BZ10+CB10+CD10+CF10+CH10 -> 40 | G10: =CA10+CC10+CE10+CG10+CI10 -> 105 | J10: 20 | K10: 81 | L10: 20 | M10: 24 | BZ10: =H10+R10+AB10+AL10+AV10+BF10+BP10 -> 0 | CA10: =I10+S10+AC10+AM10+AW10+BG10+BQ10 -> 0 | CB10: =J10+T10+AD10+AN10+AX10+BH10+BR10 -> 20 | CC10: =K10+U10+AE10+AO10+AY10+BI10+BS10 -> 81 | CD10: =L10+V10+AF10+AP10+AZ10+BJ10+BT10 -> 20 | CE10: =M10+W10+AG10+AQ10+BA10+BK10+BU10 -> 24 | CF10: =N10+X10+AH10+AR10+BB10+BL10+BV10 -> 0 | CG10: =O10+Y10+AI10+AS10+BC10+BM10+BW10 -> 0 | ... CI10: =Q10+AA10+AK10+AU10+BE10+BO10+BY10 -> 0
A11: Бокситогорский | B11: МБДОУ Детский сад № 2 города Пикалёво | C11: город | D11: детей | E11: =F11+G11 -> 117 | F11: =BZ11+CB11+CD11+CF11+CH11 -> 0 | G11: =CA11+CC11+CE11+CG11+CI11 -> 117 | K11: 67 | M11: 50 | BZ11: =H11+R11+AB11+AL11+AV11+BF11+BP11 -> 0 | CA11: =I11+S11+AC11+AM11+AW11+BG11+BQ11 -> 0 | CB11: =J11+T11+AD11+AN11+AX11+BH11+BR11 -> 0 | CC11: =K11+U11+AE11+AO11+AY11+BI11+BS11 -> 67 | CD11: =L11+V11+AF11+AP11+AZ11+BJ11+BT11 -> 0 | CE11: =M11+W11+AG11+AQ11+BA11+BK11+BU11 -> 50 | CF11: =N11+X11+AH11+AR11+BB11+BL11+BV11 -> 0 | CG11: =O11+Y11+AI11+AS11+BC11+BM11+BW11 -> 0 | ... CI11: =Q11+AA11+AK11+AU11+BE11+BO11+BY11 -> 0
A12: Бокситогорский | B12: МБДОУ Детский сад № 3 города Пикалёво | C12: город | D12: детей | E12: =F12+G12 -> 94 | F12: =BZ12+CB12+CD12+CF12+CH12 -> 94 | G12: =CA12+CC12+CE12+CG12+CI12 -> 0 | J12: 48 | L12: 46 | BZ12: =H12+R12+AB12+AL12+AV12+BF12+BP12 -> 0 | CA12: =I12+S12+AC12+AM12+AW12+BG12+BQ12 -> 0 | CB12: =J12+T12+AD12+AN12+AX12+BH12+BR12 -> 48 | CC12: =K12+U12+AE12+AO12+AY12+BI12+BS12 -> 0 | CD12: =L12+V12+AF12+AP12+AZ12+BJ12+BT12 -> 46 | CE12: =M12+W12+AG12+AQ12+BA12+BK12+BU12 -> 0 | CF12: =N12+X12+AH12+AR12+BB12+BL12+BV12 -> 0 | CG12: =O12+Y12+AI12+AS12+BC12+BM12+BW12 -> 0 | ... CI12: =Q12+AA12+AK12+AU12+BE12+BO12+BY12 -> 0
A13: Бокситогорский | B13: МБДОУ Детский сад № 5 города Пикалёво | C13: город | D13: детей | E13: =F13+G13 -> 0 | F13: =BZ13+CB13+CD13+CF13+CH13 -> 0 | G13: =CA13+CC13+CE13+CG13+CI13 -> 0 | BZ13: =H13+R13+AB13+AL13+AV13+BF13+BP13 -> 0 | CA13: =I13+S13+AC13+AM13+AW13+BG13+BQ13 -> 0 | CB13: =J13+T13+AD13+AN13+AX13+BH13+BR13 -> 0 | CC13: =K13+U13+AE13+AO13+AY13+BI13+BS13 -> 0 | CD13: =L13+V13+AF13+AP13+AZ13+BJ13+BT13 -> 0 | CE13: =M13+W13+AG13+AQ13+BA13+BK13+BU13 -> 0 | CF13: =N13+X13+AH13+AR13+BB13+BL13+BV13 -> 0 | CG13: =O13+Y13+AI13+AS13+BC13+BM13+BW13 -> 0 | ... CI13: =Q13+AA13+AK13+AU13+BE13+BO13+BY13 -> 0
A14: Бокситогорский | B14: МБДОУ Детский сад № 6 города Пикалёво | C14: город | D14: детей | E14: =F14+G14 -> 227 | F14: =BZ14+CB14+CD14+CF14+CH14 -> 63 | G14: =CA14+CC14+CE14+CG14+CI14 -> 164 | J14: 44 | K14: 140 | L14: 19 | M14: 24 | BZ14: =H14+R14+AB14+AL14+AV14+BF14+BP14 -> 0 | CA14: =I14+S14+AC14+AM14+AW14+BG14+BQ14 -> 0 | CB14: =J14+T14+AD14+AN14+AX14+BH14+BR14 -> 44 | CC14: =K14+U14+AE14+AO14+AY14+BI14+BS14 -> 140 | CD14: =L14+V14+AF14+AP14+AZ14+BJ14+BT14 -> 19 | CE14: =M14+W14+AG14+AQ14+BA14+BK14+BU14 -> 24 | CF14: =N14+X14+AH14+AR14+BB14+BL14+BV14 -> 0 | CG14: =O14+Y14+AI14+AS14+BC14+BM14+BW14 -> 0 | ... CI14: =Q14+AA14+AK14+AU14+BE14+BO14+BY14 -> 0
A15: Бокситогорский | B15: МБДОУ Детский сад № 7 города Пикалёво | C15: город | D15: детей | E15: =F15+G15 -> 224 | F15: =BZ15+CB15+CD15+CF15+CH15 -> 41 | G15: =CA15+CC15+CE15+CG15+CI15 -> 183 | J15: 41 | K15: 140 | M15: 43 | BZ15: =H15+R15+AB15+AL15+AV15+BF15+BP15 -> 0 | CA15: =I15+S15+AC15+AM15+AW15+BG15+BQ15 -> 0 | CB15: =J15+T15+AD15+AN15+AX15+BH15+BR15 -> 41 | CC15: =K15+U15+AE15+AO15+AY15+BI15+BS15 -> 140 | CD15: =L15+V15+AF15+AP15+AZ15+BJ15+BT15 -> 0 | CE15: =M15+W15+AG15+AQ15+BA15+BK15+BU15 -> 43 | CF15: =N15+X15+AH15+AR15+BB15+BL15+BV15 -> 0 | CG15: =O15+Y15+AI15+AS15+BC15+BM15+BW15 -> 0 | ... CI15: =Q15+AA15+AK15+AU15+BE15+BO15+BY15 -> 0
A16: Бокситогорский | B16: МБДОУ Детский сад № 8 города Пикалёво | C16: город | D16: детей | E16: =F16+G16 -> 233 | F16: =BZ16+CB16+CD16+CF16+CH16 -> 63 | G16: =CA16+CC16+CE16+CG16+CI16 -> 170 | J16: 63 | K16: 120 | M16: 50 | BZ16: =H16+R16+AB16+AL16+AV16+BF16+BP16 -> 0 | CA16: =I16+S16+AC16+AM16+AW16+BG16+BQ16 -> 0 | CB16: =J16+T16+AD16+AN16+AX16+BH16+BR16 -> 63 | CC16: =K16+U16+AE16+AO16+AY16+BI16+BS16 -> 120 | CD16: =L16+V16+AF16+AP16+AZ16+BJ16+BT16 -> 0 | CE16: =M16+W16+AG16+AQ16+BA16+BK16+BU16 -> 50 | CF16: =N16+X16+AH16+AR16+BB16+BL16+BV16 -> 0 | CG16: =O16+Y16+AI16+AS16+BC16+BM16+BW16 -> 0 | ... CI16: =Q16+AA16+AK16+AU16+BE16+BO16+BY16 -> 0
A17: Бокситогорский | B17: МБДОУ Детский сад № 9 города Пикалёво | C17: город | D17: детей | E17: =F17+G17 -> 150 | F17: =BZ17+CB17+CD17+CF17+CH17 -> 46 | G17: =CA17+CC17+CE17+CG17+CI17 -> 104 | J17: 21 | K17: 76 | L17: 25 | M17: 28 | BZ17: =H17+R17+AB17+AL17+AV17+BF17+BP17 -> 0 | CA17: =I17+S17+AC17+AM17+AW17+BG17+BQ17 -> 0 | CB17: =J17+T17+AD17+AN17+AX17+BH17+BR17 -> 21 | CC17: =K17+U17+AE17+AO17+AY17+BI17+BS17 -> 76 | CD17: =L17+V17+AF17+AP17+AZ17+BJ17+BT17 -> 25 | CE17: =M17+W17+AG17+AQ17+BA17+BK17+BU17 -> 28 | CF17: =N17+X17+AH17+AR17+BB17+BL17+BV17 -> 0 | CG17: =O17+Y17+AI17+AS17+BC17+BM17+BW17 -> 0 | ... CI17: =Q17+AA17+AK17+AU17+BE17+BO17+BY17 -> 0
A18: Бокситогорский | B18: МБДОУ Ефимовский детский сад | C18: ПГТ | D18: детей | E18: =F18+G18 -> 111 | F18: =BZ18+CB18+CD18+CF18+CH18 -> 24 | G18: =CA18+CC18+CE18+CG18+CI18 -> 87 | J18: 24 | K18: 87 | BZ18: =H18+R18+AB18+AL18+AV18+BF18+BP18 -> 0 | CA18: =I18+S18+AC18+AM18+AW18+BG18+BQ18 -> 0 | CB18: =J18+T18+AD18+AN18+AX18+BH18+BR18 -> 24 | CC18: =K18+U18+AE18+AO18+AY18+BI18+BS18 -> 87 | CD18: =L18+V18+AF18+AP18+AZ18+BJ18+BT18 -> 0 | CE18: =M18+W18+AG18+AQ18+BA18+BK18+BU18 -> 0 | CF18: =N18+X18+AH18+AR18+BB18+BL18+BV18 -> 0 | CG18: =O18+Y18+AI18+AS18+BC18+BM18+BW18 -> 0 | ... CI18: =Q18+AA18+AK18+AU18+BE18+BO18+BY18 -> 0
A19: Бокситогорский | B19: МКДОУ Борский детский сад | C19: село | D19: детей | E19: =F19+G19 -> 82 | F19: =BZ19+CB19+CD19+CF19+CH19 -> 19 | G19: =CA19+CC19+CE19+CG19+CI19 -> 63 | AN19: 19 | AO19: 48 | AQ19: 15 | BZ19: =H19+R19+AB19+AL19+AV19+BF19+BP19 -> 0 | CA19: =I19+S19+AC19+AM19+AW19+BG19+BQ19 -> 0 | CB19: =J19+T19+AD19+AN19+AX19+BH19+BR19 -> 19 | CC19: =K19+U19+AE19+AO19+AY19+BI19+BS19 -> 48 | CD19: =L19+V19+AF19+AP19+AZ19+BJ19+BT19 -> 0 | CE19: =M19+W19+AG19+AQ19+BA19+BK19+BU19 -> 15 | CF19: =N19+X19+AH19+AR19+BB19+BL19+BV19 -> 0 | CG19: =O19+Y19+AI19+AS19+BC19+BM19+BW19 -> 0 | ... CI19: =Q19+AA19+AK19+AU19+BE19+BO19+BY19 -> 0
A20: Бокситогорский | B20: МКДОУ Большедворский детский сад | C20: село | D20: детей | E20: =F20+G20 -> 27 | F20: =BZ20+CB20+CD20+CF20+CH20 -> 14 | G20: =CA20+CC20+CE20+CG20+CI20 -> 13 | AX20: 14 | AY20: 13 | BZ20: =H20+R20+AB20+AL20+AV20+BF20+BP20 -> 0 | CA20: =I20+S20+AC20+AM20+AW20+BG20+BQ20 -> 0 | CB20: =J20+T20+AD20+AN20+AX20+BH20+BR20 -> 14 | CC20: =K20+U20+AE20+AO20+AY20+BI20+BS20 -> 13 | CD20: =L20+V20+AF20+AP20+AZ20+BJ20+BT20 -> 0 | CE20: =M20+W20+AG20+AQ20+BA20+BK20+BU20 -> 0 | CF20: =N20+X20+AH20+AR20+BB20+BL20+BV20 -> 0 | CG20: =O20+Y20+AI20+AS20+BC20+BM20+BW20 -> 0 | ... CI20: =Q20+AA20+AK20+AU20+BE20+BO20+BY20 -> 0
A21: Бокситогорский | B21: МКДОУ Заборьевский детский сад | C21: село | D21: детей | E21: =F21+G21 -> 15 | F21: =BZ21+CB21+CD21+CF21+CH21 -> 3 | G21: =CA21+CC21+CE21+CG21+CI21 -> 12 | BH21: 3 | BI21: 12 | BZ21: =H21+R21+AB21+AL21+AV21+BF21+BP21 -> 0 | CA21: =I21+S21+AC21+AM21+AW21+BG21+BQ21 -> 0 | CB21: =J21+T21+AD21+AN21+AX21+BH21+BR21 -> 3 | CC21: =K21+U21+AE21+AO21+AY21+BI21+BS21 -> 12 | CD21: =L21+V21+AF21+AP21+AZ21+BJ21+BT21 -> 0 | CE21: =M21+W21+AG21+AQ21+BA21+BK21+BU21 -> 0 | CF21: =N21+X21+AH21+AR21+BB21+BL21+BV21 -> 0 | CG21: =O21+Y21+AI21+AS21+BC21+BM21+BW21 -> 0 | ... CI21: =Q21+AA21+AK21+AU21+BE21+BO21+BY21 -> 0
A22: Бокситогорский | B22: МБОУ Борская средняя общеобразовтельная школа | C22: село | D22: детей | E22: =F22+G22 -> 6 | F22: =BZ22+CB22+CD22+CF22+CH22 -> 0 | G22: =CA22+CC22+CE22+CG22+CI22 -> 6 | BS22: 6 | BZ22: =H22+R22+AB22+AL22+AV22+BF22+BP22 -> 0 | CA22: =I22+S22+AC22+AM22+AW22+BG22+BQ22 -> 0 | CB22: =J22+T22+AD22+AN22+AX22+BH22+BR22 -> 0 | CC22: =K22+U22+AE22+AO22+AY22+BI22+BS22 -> 6 | CD22: =L22+V22+AF22+AP22+AZ22+BJ22+BT22 -> 0 | CE22: =M22+W22+AG22+AQ22+BA22+BK22+BU22 -> 0 | CF22: =N22+X22+AH22+AR22+BB22+BL22+BV22 -> 0 | CG22: =O22+Y22+AI22+AS22+BC22+BM22+BW22 -> 0 | ... CI22: =Q22+AA22+AK22+AU22+BE22+BO22+BY22 -> 0
A23: Бокситогорский | B23: МКОУ Подборовская основная общеобразовательная школа | C23: село | D23: детей | E23: =F23+G23 -> 22 | F23: =BZ23+CB23+CD23+CF23+CH23 -> 6 | G23: =CA23+CC23+CE23+CG23+CI23 -> 16 | BH23: 6 | BI23: 16 | BZ23: =H23+R23+AB23+AL23+AV23+BF23+BP23 -> 0 | CA23: =I23+S23+AC23+AM23+AW23+BG23+BQ23 -> 0 | CB23: =J23+T23+AD23+AN23+AX23+BH23+BR23 -> 6 | CC23: =K23+U23+AE23+AO23+AY23+BI23+BS23 -> 16 | CD23: =L23+V23+AF23+AP23+AZ23+BJ23+BT23 -> 0 | CE23: =M23+W23+AG23+AQ23+BA23+BK23+BU23 -> 0 | CF23: =N23+X23+AH23+AR23+BB23+BL23+BV23 -> 0 | CG23: =O23+Y23+AI23+AS23+BC23+BM23+BW23 -> 0 | ... CI23: =Q23+AA23+AK23+AU23+BE23+BO23+BY23 -> 0
A24: Бокситогорский | B24: МКОУ Самойловская начальная общеобразовательная школа | C24: село | D24: детей | E24: =F24+G24 -> 32 | F24: =BZ24+CB24+CD24+CF24+CH24 -> 13 | G24: =CA24+CC24+CE24+CG24+CI24 -> 19 | AX24: 13 | AY24: 19 | BZ24: =H24+R24+AB24+AL24+AV24+BF24+BP24 -> 0 | CA24: =I24+S24+AC24+AM24+AW24+BG24+BQ24 -> 0 | CB24: =J24+T24+AD24+AN24+AX24+BH24+BR24 -> 13 | CC24: =K24+U24+AE24+AO24+AY24+BI24+BS24 -> 19 | CD24: =L24+V24+AF24+AP24+AZ24+BJ24+BT24 -> 0 | CE24: =M24+W24+AG24+AQ24+BA24+BK24+BU24 -> 0 | CF24: =N24+X24+AH24+AR24+BB24+BL24+BV24 -> 0 | CG24: =O24+Y24+AI24+AS24+BC24+BM24+BW24 -> 0 | ... CI24: =Q24+AA24+AK24+AU24+BE24+BO24+BY24 -> 0
A25: 1. Бокситогорский | B25: ИТОГО | E25: =SUBTOTAL(9,E7:E24) -> 2065 | F25: =SUBTOTAL(9,F7:F24) -> 594 | G25: =SUBTOTAL(9,G7:G24) -> 1471 | H25: =SUBTOTAL(9,H7:H24) -> 0 | I25: =SUBTOTAL(9,I7:I24) -> 0 | J25: =SUBTOTAL(9,J7:J24) -> 409 | K25: =SUBTOTAL(9,K7:K24) -> 1016 | L25: =SUBTOTAL(9,L7:L24) -> 130 | ... BY25: =SUBTOTAL(9,BY7:BY24) -> 0 | BZ25: =H25+R25+AB25+AL25+AV25+BF25+BP25 -> 0 | CA25: =I25+S25+AC25+AM25+AW25+BG25+BQ25 -> 0 | CB25: =J25+T25+AD25+AN25+AX25+BH25+BR25 -> 464 | CC25: =K25+U25+AE25+AO25+AY25+BI25+BS25 -> 1130 | CD25: =L25+V25+AF25+AP25+AZ25+BJ25+BT25 -> 130 | CE25: =M25+W25+AG25+AQ25+BA25+BK25+BU25 -> 341 | CF25: =N25+X25+AH25+AR25+BB25+BL25+BV25 -> 0 | CG25: =O25+Y25+AI25+AS25+BC25+BM25+BW25 -> 0 | ... CI25: =Q25+AA25+AK25+AU25+BE25+BO25+BY25 -> 0
A26: Волосовский | B26: МДОУ "Детский сад № 4" | C26: село | D26: детей | E26: =F26+G26 -> 127 | F26: =BZ26+CB26+CD26+CF26+CH26 -> 38 | G26: =CA26+CC26+CE26+CG26+CI26 -> 89 | H26: 0 | J26: 38 | K26: 89 | BZ26: =H26+R26+AB26+AL26+AV26+BF26+BP26 -> 0 | CA26: =I26+S26+AC26+AM26+AW26+BG26+BQ26 -> 0 | CB26: =J26+T26+AD26+AN26+AX26+BH26+BR26 -> 38 | CC26: =K26+U26+AE26+AO26+AY26+BI26+BS26 -> 89 | CD26: =L26+V26+AF26+AP26+AZ26+BJ26+BT26 -> 0 | CE26: =M26+W26+AG26+AQ26+BA26+BK26+BU26 -> 0 | CF26: =N26+X26+AH26+AR26+BB26+BL26+BV26 -> 0 | CG26: =O26+Y26+AI26+AS26+BC26+BM26+BW26 -> 0 | ... CI26: =Q26+AA26+AK26+AU26+BE26+BO26+BY26 -> 0
A27: Волосовский | B27: МДОУ "Детский сад № 5" | C27: село | D27: детей | E27: =F27+G27 -> 75 | F27: =BZ27+CB27+CD27+CF27+CH27 -> 29 | G27: =CA27+CC27+CE27+CG27+CI27 -> 46 | AN27: 29 | AO27: 46 | BZ27: =H27+R27+AB27+AL27+AV27+BF27+BP27 -> 0 | CA27: =I27+S27+AC27+AM27+AW27+BG27+BQ27 -> 0 | CB27: =J27+T27+AD27+AN27+AX27+BH27+BR27 -> 29 | CC27: =K27+U27+AE27+AO27+AY27+BI27+BS27 -> 46 | CD27: =L27+V27+AF27+AP27+AZ27+BJ27+BT27 -> 0 | CE27: =M27+W27+AG27+AQ27+BA27+BK27+BU27 -> 0 | CF27: =N27+X27+AH27+AR27+BB27+BL27+BV27 -> 0 | CG27: =O27+Y27+AI27+AS27+BC27+BM27+BW27 -> 0 | ... CI27: =Q27+AA27+AK27+AU27+BE27+BO27+BY27 -> 0
A28: Волосовский | B28: МДОУ "Детский сад № 6" | C28: город | D28: детей | E28: =F28+G28 -> 259 | F28: =BZ28+CB28+CD28+CF28+CH28 -> 57 | G28: =CA28+CC28+CE28+CG28+CI28 -> 202 | L28: 57 | M28: 202 | BZ28: =H28+R28+AB28+AL28+AV28+BF28+BP28 -> 0 | CA28: =I28+S28+AC28+AM28+AW28+BG28+BQ28 -> 0 | CB28: =J28+T28+AD28+AN28+AX28+BH28+BR28 -> 0 | CC28: =K28+U28+AE28+AO28+AY28+BI28+BS28 -> 0 | CD28: =L28+V28+AF28+AP28+AZ28+BJ28+BT28 -> 57 | CE28: =M28+W28+AG28+AQ28+BA28+BK28+BU28 -> 202 | CF28: =N28+X28+AH28+AR28+BB28+BL28+BV28 -> 0 | CG28: =O28+Y28+AI28+AS28+BC28+BM28+BW28 -> 0 | ... CI28: =Q28+AA28+AK28+AU28+BE28+BO28+BY28 -> 0
A29: Волосовский | B29: МДОУ "Детский сад № 9" | C29: село | D29: детей | E29: =F29+G29 -> 74 | F29: =BZ29+CB29+CD29+CF29+CH29 -> 15 | G29: =CA29+CC29+CE29+CG29+CI29 -> 59 | AN29: 15 | AO29: 59 | BZ29: =H29+R29+AB29+AL29+AV29+BF29+BP29 -> 0 | CA29: =I29+S29+AC29+AM29+AW29+BG29+BQ29 -> 0 | CB29: =J29+T29+AD29+AN29+AX29+BH29+BR29 -> 15 | CC29: =K29+U29+AE29+AO29+AY29+BI29+BS29 -> 59 | CD29: =L29+V29+AF29+AP29+AZ29+BJ29+BT29 -> 0 | CE29: =M29+W29+AG29+AQ29+BA29+BK29+BU29 -> 0 | CF29: =N29+X29+AH29+AR29+BB29+BL29+BV29 -> 0 | CG29: =O29+Y29+AI29+AS29+BC29+BM29+BW29 -> 0 | ... CI29: =Q29+AA29+AK29+AU29+BE29+BO29+BY29 -> 0
A30: Волосовский | B30: МДОУ "Детский сад № 10" | C30: село | D30: детей | E30: =F30+G30 -> 83 | F30: =BZ30+CB30+CD30+CF30+CH30 -> 21 | G30: =CA30+CC30+CE30+CG30+CI30 -> 62 | AN30: 21 | AO30: 62 | BZ30: =H30+R30+AB30+AL30+AV30+BF30+BP30 -> 0 | CA30: =I30+S30+AC30+AM30+AW30+BG30+BQ30 -> 0 | CB30: =J30+T30+AD30+AN30+AX30+BH30+BR30 -> 21 | CC30: =K30+U30+AE30+AO30+AY30+BI30+BS30 -> 62 | CD30: =L30+V30+AF30+AP30+AZ30+BJ30+BT30 -> 0 | CE30: =M30+W30+AG30+AQ30+BA30+BK30+BU30 -> 0 | CF30: =N30+X30+AH30+AR30+BB30+BL30+BV30 -> 0 | CG30: =O30+Y30+AI30+AS30+BC30+BM30+BW30 -> 0 | ... CI30: =Q30+AA30+AK30+AU30+BE30+BO30+BY30 -> 0
A31: Волосовский | B31: МДОУ "Детский сад № 11" | C31: село | D31: детей | E31: =F31+G31 -> 57 | F31: =BZ31+CB31+CD31+CF31+CH31 -> 15 | G31: =CA31+CC31+CE31+CG31+CI31 -> 42 | AN31: 15 | AO31: 42 | BZ31: =H31+R31+AB31+AL31+AV31+BF31+BP31 -> 0 | CA31: =I31+S31+AC31+AM31+AW31+BG31+BQ31 -> 0 | CB31: =J31+T31+AD31+AN31+AX31+BH31+BR31 -> 15 | CC31: =K31+U31+AE31+AO31+AY31+BI31+BS31 -> 42 | CD31: =L31+V31+AF31+AP31+AZ31+BJ31+BT31 -> 0 | CE31: =M31+W31+AG31+AQ31+BA31+BK31+BU31 -> 0 | CF31: =N31+X31+AH31+AR31+BB31+BL31+BV31 -> 0 | CG31: =O31+Y31+AI31+AS31+BC31+BM31+BW31 -> 0 | ... CI31: =Q31+AA31+AK31+AU31+BE31+BO31+BY31 -> 0
A32: Волосовский | B32: МДОУ "Детский сад № 12" | C32: село | D32: детей | E32: =F32+G32 -> 222 | F32: =BZ32+CB32+CD32+CF32+CH32 -> 76 | G32: =CA32+CC32+CE32+CG32+CI32 -> 146 | L32: 76 | M32: 146 | BZ32: =H32+R32+AB32+AL32+AV32+BF32+BP32 -> 0 | CA32: =I32+S32+AC32+AM32+AW32+BG32+BQ32 -> 0 | CB32: =J32+T32+AD32+AN32+AX32+BH32+BR32 -> 0 | CC32: =K32+U32+AE32+AO32+AY32+BI32+BS32 -> 0 | CD32: =L32+V32+AF32+AP32+AZ32+BJ32+BT32 -> 76 | CE32: =M32+W32+AG32+AQ32+BA32+BK32+BU32 -> 146 | CF32: =N32+X32+AH32+AR32+BB32+BL32+BV32 -> 0 | CG32: =O32+Y32+AI32+AS32+BC32+BM32+BW32 -> 0 | ... CI32: =Q32+AA32+AK32+AU32+BE32+BO32+BY32 -> 0
A33: Волосовский | B33: МДОУ "Детский сад № 13" | C33: село | D33: детей | E33: =F33+G33 -> 69 | F33: =BZ33+CB33+CD33+CF33+CH33 -> 21 | G33: =CA33+CC33+CE33+CG33+CI33 -> 48 | AN33: 21 | AO33: 48 | BZ33: =H33+R33+AB33+AL33+AV33+BF33+BP33 -> 0 | CA33: =I33+S33+AC33+AM33+AW33+BG33+BQ33 -> 0 | CB33: =J33+T33+AD33+AN33+AX33+BH33+BR33 -> 21 | CC33: =K33+U33+AE33+AO33+AY33+BI33+BS33 -> 48 | CD33: =L33+V33+AF33+AP33+AZ33+BJ33+BT33 -> 0 | CE33: =M33+W33+AG33+AQ33+BA33+BK33+BU33 -> 0 | CF33: =N33+X33+AH33+AR33+BB33+BL33+BV33 -> 0 | CG33: =O33+Y33+AI33+AS33+BC33+BM33+BW33 -> 0 | ... CI33: =Q33+AA33+AK33+AU33+BE33+BO33+BY33 -> 0
A34: Волосовский | B34: МДОУ "Детский сад № 14" | C34: село | D34: детей | E34: =F34+G34 -> 69 | F34: =BZ34+CB34+CD34+CF34+CH34 -> 18 | G34: =CA34+CC34+CE34+CG34+CI34 -> 51 | AN34: 18 | AO34: 51 | BZ34: =H34+R34+AB34+AL34+AV34+BF34+BP34 -> 0 | CA34: =I34+S34+AC34+AM34+AW34+BG34+BQ34 -> 0 | CB34: =J34+T34+AD34+AN34+AX34+BH34+BR34 -> 18 | CC34: =K34+U34+AE34+AO34+AY34+BI34+BS34 -> 51 | CD34: =L34+V34+AF34+AP34+AZ34+BJ34+BT34 -> 0 | CE34: =M34+W34+AG34+AQ34+BA34+BK34+BU34 -> 0 | CF34: =N34+X34+AH34+AR34+BB34+BL34+BV34 -> 0 | CG34: =O34+Y34+AI34+AS34+BC34+BM34+BW34 -> 0 | ... CI34: =Q34+AA34+AK34+AU34+BE34+BO34+BY34 -> 0
A35: Волосовский | B35: МДОУ "Детский сад № 18" | C35: село | D35: детей | E35: =F35+G35 -> 44 | F35: =BZ35+CB35+CD35+CF35+CH35 -> 19 | G35: =CA35+CC35+CE35+CG35+CI35 -> 25 | AX35: 19 | AY35: 25 | BZ35: =H35+R35+AB35+AL35+AV35+BF35+BP35 -> 0 | CA35: =I35+S35+AC35+AM35+AW35+BG35+BQ35 -> 0 | CB35: =J35+T35+AD35+AN35+AX35+BH35+BR35 -> 19 | CC35: =K35+U35+AE35+AO35+AY35+BI35+BS35 -> 25 | CD35: =L35+V35+AF35+AP35+AZ35+BJ35+BT35 -> 0 | CE35: =M35+W35+AG35+AQ35+BA35+BK35+BU35 -> 0 | CF35: =N35+X35+AH35+AR35+BB35+BL35+BV35 -> 0 | CG35: =O35+Y35+AI35+AS35+BC35+BM35+BW35 -> 0 | ... CI35: =Q35+AA35+AK35+AU35+BE35+BO35+BY35 -> 0
A36: Волосовский | B36: МДОУ "Детский сад № 19" | C36: село | D36: детей | E36: =F36+G36 -> 40 | F36: =BZ36+CB36+CD36+CF36+CH36 -> 17 | G36: =CA36+CC36+CE36+CG36+CI36 -> 23 | AX36: 17 | AY36: 23 | BZ36: =H36+R36+AB36+AL36+AV36+BF36+BP36 -> 0 | CA36: =I36+S36+AC36+AM36+AW36+BG36+BQ36 -> 0 | CB36: =J36+T36+AD36+AN36+AX36+BH36+BR36 -> 17 | CC36: =K36+U36+AE36+AO36+AY36+BI36+BS36 -> 23 | CD36: =L36+V36+AF36+AP36+AZ36+BJ36+BT36 -> 0 | CE36: =M36+W36+AG36+AQ36+BA36+BK36+BU36 -> 0 | CF36: =N36+X36+AH36+AR36+BB36+BL36+BV36 -> 0 | CG36: =O36+Y36+AI36+AS36+BC36+BM36+BW36 -> 0 | ... CI36: =Q36+AA36+AK36+AU36+BE36+BO36+BY36 -> 0
A37: Волосовский | B37: МДОУ "Детский сад №20" | C37: село | D37: детей | E37: =F37+G37 -> 71 | F37: =BZ37+CB37+CD37+CF37+CH37 -> 17 | G37: =CA37+CC37+CE37+CG37+CI37 -> 54 | AN37: 17 | AO37: 54 | BZ37: =H37+R37+AB37+AL37+AV37+BF37+BP37 -> 0 | CA37: =I37+S37+AC37+AM37+AW37+BG37+BQ37 -> 0 | CB37: =J37+T37+AD37+AN37+AX37+BH37+BR37 -> 17 | CC37: =K37+U37+AE37+AO37+AY37+BI37+BS37 -> 54 | CD37: =L37+V37+AF37+AP37+AZ37+BJ37+BT37 -> 0 | CE37: =M37+W37+AG37+AQ37+BA37+BK37+BU37 -> 0 | CF37: =N37+X37+AH37+AR37+BB37+BL37+BV37 -> 0 | CG37: =O37+Y37+AI37+AS37+BC37+BM37+BW37 -> 0 | ... CI37: =Q37+AA37+AK37+AU37+BE37+BO37+BY37 -> 0
A38: Волосовский | B38: МДОУ "Детский сад № 22" | C38: село | D38: детей | E38: =F38+G38 -> 101 | F38: =BZ38+CB38+CD38+CF38+CH38 -> 34 | G38: =CA38+CC38+CE38+CG38+CI38 -> 67 | J38: 34 | K38: 67 | BZ38: =H38+R38+AB38+AL38+AV38+BF38+BP38 -> 0 | CA38: =I38+S38+AC38+AM38+AW38+BG38+BQ38 -> 0 | CB38: =J38+T38+AD38+AN38+AX38+BH38+BR38 -> 34 | CC38: =K38+U38+AE38+AO38+AY38+BI38+BS38 -> 67 | CD38: =L38+V38+AF38+AP38+AZ38+BJ38+BT38 -> 0 | CE38: =M38+W38+AG38+AQ38+BA38+BK38+BU38 -> 0 | CF38: =N38+X38+AH38+AR38+BB38+BL38+BV38 -> 0 | CG38: =O38+Y38+AI38+AS38+BC38+BM38+BW38 -> 0 | ... CI38: =Q38+AA38+AK38+AU38+BE38+BO38+BY38 -> 0
A39: Волосовский | B39: МДОУ "Детский сад № 24" | C39: село | D39: детей | E39: =F39+G39 -> 81 | F39: =BZ39+CB39+CD39+CF39+CH39 -> 18 | G39: =CA39+CC39+CE39+CG39+CI39 -> 63 | AN39: 18 | AO39: 63 | BZ39: =H39+R39+AB39+AL39+AV39+BF39+BP39 -> 0 | CA39: =I39+S39+AC39+AM39+AW39+BG39+BQ39 -> 0 | CB39: =J39+T39+AD39+AN39+AX39+BH39+BR39 -> 18 | CC39: =K39+U39+AE39+AO39+AY39+BI39+BS39 -> 63 | CD39: =L39+V39+AF39+AP39+AZ39+BJ39+BT39 -> 0 | CE39: =M39+W39+AG39+AQ39+BA39+BK39+BU39 -> 0 | CF39: =N39+X39+AH39+AR39+BB39+BL39+BV39 -> 0 | CG39: =O39+Y39+AI39+AS39+BC39+BM39+BW39 -> 0 | ... CI39: =Q39+AA39+AK39+AU39+BE39+BO39+BY39 -> 0
A40: Волосовский | B40: МДОУ "Детский сад № 26" | C40: село | D40: детей | E40: =F40+G40 -> 87 | F40: =BZ40+CB40+CD40+CF40+CH40 -> 29 | G40: =CA40+CC40+CE40+CG40+CI40 -> 58 | AN40: 29 | AO40: 58 | BZ40: =H40+R40+AB40+AL40+AV40+BF40+BP40 -> 0 | CA40: =I40+S40+AC40+AM40+AW40+BG40+BQ40 -> 0 | CB40: =J40+T40+AD40+AN40+AX40+BH40+BR40 -> 29 | CC40: =K40+U40+AE40+AO40+AY40+BI40+BS40 -> 58 | CD40: =L40+V40+AF40+AP40+AZ40+BJ40+BT40 -> 0 | CE40: =M40+W40+AG40+AQ40+BA40+BK40+BU40 -> 0 | CF40: =N40+X40+AH40+AR40+BB40+BL40+BV40 -> 0 | CG40: =O40+Y40+AI40+AS40+BC40+BM40+BW40 -> 0 | ... CI40: =Q40+AA40+AK40+AU40+BE40+BO40+BY40 -> 0
A41: Волосовский | B41: МДОУ "Детский сад № 27" | C41: село | D41: детей | E41: =F41+G41 -> 112 | F41: =BZ41+CB41+CD41+CF41+CH41 -> 27 | G41: =CA41+CC41+CE41+CG41+CI41 -> 85 | J41: 27 | K41: 85 | BZ41: =H41+R41+AB41+AL41+AV41+BF41+BP41 -> 0 | CA41: =I41+S41+AC41+AM41+AW41+BG41+BQ41 -> 0 | CB41: =J41+T41+AD41+AN41+AX41+BH41+BR41 -> 27 | CC41: =K41+U41+AE41+AO41+AY41+BI41+BS41 -> 85 | CD41: =L41+V41+AF41+AP41+AZ41+BJ41+BT41 -> 0 | CE41: =M41+W41+AG41+AQ41+BA41+BK41+BU41 -> 0 | CF41: =N41+X41+AH41+AR41+BB41+BL41+BV41 -> 0 | CG41: =O41+Y41+AI41+AS41+BC41+BM41+BW41 -> 0 | ... CI41: =Q41+AA41+AK41+AU41+BE41+BO41+BY41 -> 0
...

Sheet гр.компен.направ.
B1: Наименвание образовательного учреждения | C1: Тип месторасположения (город, село, ПГТ) | E1: Всего детей/ групп | F1: в том числе | H1: группы компенсирующей направленности для детей с тяжелыми нарушениями речи | R1: группы компенсирующей направленности для детей с фонетико-фонематическими нарушениями речи | AB1: группы компенсирующей направленности для глухих детей | AL1: группы компенсирующей направленности для слабослышащих | AV1: группы компенсирующей направленности для слепых детей | BF1: группы компенсирующей направленности для слабовидящих детей, детей с амблиопией, косоглазием | BP1: группы компенсирующей направленности для детей с нарушениями опорно-двигательного аппарата | BZ1: группы компенсирующей направленности для детей с задержкой психического развития | CJ1: группы компенсирующей направленности для детей с умственной отсталостью легкой степени | CT1: группы компенсирующей направленности для детей с умственной отсталостью умеренной, тяжелой | DD1: группы компенсирующей направленности для детей с аутизмом | DN1: группы компенсирующей направленности для детей со сложным дефектом (имеющих сочетание 2 или более недостатков в физическом и (или) психическом развитии) | DX1: группы компенсирующей направленности для детей с иными ограниченными возможностями здоровья | EH1: ВСЕГО
H2: кратковременного пребывания | J2: сокращенного дня | L2: полного дня | N2: продленного дня | P2: круглосуточным пребыванием | R2: кратковременного пребывания | T2: сокращенного дня | V2: полного дня | X2: продленного дня | Z2: круглосуточным пребыванием | AB2: кратковременного пребывания | AD2: сокращенного дня | AF2: полного дня | AH2: продленного дня | AJ2: круглосуточным пребыванием | AL2: кратковременного пребывания | AN2: сокращенного дня | AP2: полного дня | AR2: продленного дня | AT2: круглосуточным пребыванием | AV2: кратковременного пребывания | AX2: сокращенного дня | AZ2: полного дня | BB2: продленного дня | BD2: круглосуточным пребыванием | BF2: кратковременного пребывания | BH2: сокращенного дня | BJ2: полного дня | BL2: продленного дня | BN2: круглосуточным пребыванием | BP2: кратковременного пребывания | BR2: сокращенного дня | BT2: полного дня | BV2: продленного дня | BX2: круглосуточным пребыванием | BZ2: кратковременного пребывания | CB2: сокращенного дня | CD2: полного дня | CF2: продленного дня | CH2: круглосуточным пребыванием | CJ2: кратковременного пребывания | CL2: сокращенного дня | CN2: полного дня | CP2: продленного дня | CR2: круглосуточным пребыванием | CT2: кратковременного пребывания | CV2: сокращенного дня | CX2: полного дня | CZ2: продленного дня | DB2: круглосуточным пребыванием | DD2: кратковременного пребывания | DF2: сокращенного дня | DH2: полного дня | DJ2: продленного дня | DL2: круглосуточным пребыванием | DN2: кратковременного пребывания | DP2: сокращенного дня | DR2: полного дня | DT2: продленного дня | DV2: круглосуточным пребыванием | DX2: кратковременного пребывания | DZ2: сокращенного дня | EB2: полного дня | ED2: продленного дня | EF2: круглосуточным пребыванием | EH2: кратковременного пребывания | EJ2: сокращенного дня | EL2: полного дня | EN2: продленного дня | EP2: круглосуточным пребыванием
H3: до 5 часов | J3: 8 - 10,5 часов | L3: 12 часов | N3: 13 - 14 часов | P3: 24 часа | R3: до 5 часов | T3: 8 - 10,5 часов | V3: 12 часов | X3: 13 - 14 часов | Z3: 24 часа | AB3: до 5 часов | AD3: 8 - 10 часов | AF3: 10,5 - 12 часов | AH3: 13 - 14 часов | AJ3: 24 часа | AL3: до 5 часов | AN3: 8 - 10 часов | AP3: 10,5 - 12 часов | AR3: 13 - 14 часов | AT3: 24 часа | AV3: до 5 часов | AX3: 8 - 10 часов | AZ3: 10,5 - 12 часов | BB3: 13 - 14 часов | BD3: 24 часа | BF3: до 5 часов | BH3: 8 - 10,5 часов | BJ3: 12 часов | BL3: 13 - 14 часов | BN3: 24 часа | BP3: до 5 часов | BR3: 8 - 10,5 часов | BT3: 12 часов | BV3: 13 - 14 часов | BX3: 24 часа | BZ3: до 5 часов | CB3: 8 - 10,5 часов | CD3: 12 часов | CF3: 13 - 14 часов | CH3: 24 часа | CJ3: до 5 часов | CL3: 8 - 10,5 часов | CN3: 10,5 - 12 часов | CP3: 13 - 14 часов | CR3: 24 часа | CT3: до 5 часов | CV3: 8 - 10 часов | CX3: 10,5 - 12 часов | CZ3: 13 - 14 часов | DB3: 24 часа | DD3: до 5 часов | DF3: 8 - 10 часов | DH3: 10,5 - 12 часов | DJ3: 13 - 14 часов | DL3: 24 часа | DN3: до 5 часов | DP3: 8 - 10,5 часов | DR3: 12 часов | DT3: 13 - 14 часов | DV3: 24 часа | DX3: до 5 часов | DZ3: 8 - 10,5 часов | EB3: 12 часов | ED3: 13 - 14 часов | EF3: 24 часа | EH3: до 5 часов | EJ3: 8 - 10,5 часов | EL3: 12 часов | EN3: 13 - 14 часов | EP3: 24 часа
B5: Нормативная наполняемость в группах | H5: 6 | I5: 10 | J5: 6 | K5: 10 | L5: 6 | M5: 10 | N5: 6 | O5: 10 | P5: 6 | Q5: 10 | R5: х | S5: 12 | T5: х | U5: 12 | V5: х | W5: 12 | X5: х | Y5: 12 | Z5: х | AA5: 12 | AB5: 6 | AC5: 6 | AD5: 6 | AE5: 6 | AF5: 6 | AG5: 6 | AH5: 6 | AI5: 6 | AJ5: 6 | AK5: 6 | AL5: 6 | AM5: 8 | AN5: 6 | AO5: 8 | AP5: 6 | AQ5: 8 | AR5: 6 | AS5: 8 | AT5: 6 | AU5: 8 | AV5: 6 | AW5: 6 | AX5: 6 | AY5: 6 | AZ5: 6 | BA5: 6 | BB5: 6 | BC5: 6 | BD5: 6 | BE5: 6 | BF5: 6 | BG5: 10 | BH5: 6 | BI5: 10 | BJ5: 6 | BK5: 10 | BL5: 6 | BM5: 10 | BN5: 6 | BO5: 10 | BP5: 6 | BQ5: 8 | BR5: 6 | BS5: 8 | BT5: 6 | BU5: 8 | BV5: 6 | BW5: 8 | BX5: 6 | BY5: 8 | BZ5: 6 | CA5: 10 | CB5: 6 | CC5: 10 | CD5: 6 | CE5: 10 | CF5: 6 | CG5: 10 | CH5: 6 | CI5: 10 | CJ5: 6 | CK5: 10 | CL5: 6 | CM5: 10 | CN5: 6 | CO5: 10 | CP5: 6 | CQ5: 10 | CR5: 6 | CS5: 10 | CT5: Х | CU5: 8 | CV5: Х | CW5: 8 | CX5: Х | CY5: 8 | CZ5: Х | DA5: 8 | DB5: Х | DC5: 8 | DD5: Х | DE5: 5 | DF5: Х | DG5: 5 | DH5: Х | DI5: 5 | DJ5: Х | DK5: 5 | DL5: Х | DM5: 5 | DN5: 5 | DO5: 5 | DP5: 5 | DQ5: 5 | DR5: 5 | DS5: 5 | DT5: 5 | DU5: 5 | DV5: 5 | DW5: 5 | DX5: 10 | DY5: 15 | DZ5: 10 | EA5: 15 | EB5: 10 | EC5: 15 | ED5: 10 | EE5: 15 | EF5: 10 | EG5: 15
A6: МР | B6: Наименование ОУ | C6: Тип | D6: ед. | E6: Всего | F6: до 3 лет | G6: старше 3 лет | H6: до 3 лет | I6: старше 3 лет | J6: до 3 лет | K6: старше 3 лет | L6: до 3 лет | M6: старше 3 лет | N6: до 3 лет | O6: старше 3 лет | P6: до 3 лет | Q6: старше 3 лет | R6: до 3 лет | S6: старше 3 лет | T6: до 3 лет | U6: старше 3 лет | V6: до 3 лет | W6: старше 3 лет | X6: до 3 лет | Y6: старше 3 лет | Z6: до 3 лет | AA6: старше 3 лет | AB6: до 3 лет | AC6: старше 3 лет | AD6: до 3 лет | AE6: старше 3 лет | AF6: до 3 лет | AG6: старше 3 лет | AH6: до 3 лет | AI6: старше 3 лет | AJ6: до 3 лет | AK6: старше 3 лет | AL6: до 3 лет | AM6: старше 3 лет | AN6: до 3 лет | AO6: старше 3 лет | AP6: до 3 лет | AQ6: старше 3 лет | AR6: до 3 лет | AS6: старше 3 лет | AT6: до 3 лет | AU6: старше 3 лет | AV6: до 3 лет | AW6: старше 3 лет | AX6: до 3 лет | AY6: старше 3 лет | AZ6: до 3 лет | BA6: старше 3 лет | BB6: до 3 лет | BC6: старше 3 лет | BD6: до 3 лет | BE6: старше 3 лет | BF6: до 3 лет | BG6: старше 3 лет | BH6: до 3 лет | BI6: старше 3 лет | BJ6: до 3 лет | BK6: старше 3 лет | BL6: до 3 лет | BM6: старше 3 лет | BN6: до 3 лет | BO6: старше 3 лет | BP6: до 3 лет | BQ6: старше 3 лет | BR6: до 3 лет | BS6: старше 3 лет | BT6: до 3 лет | BU6: старше 3 лет | BV6: до 3 лет | BW6: старше 3 лет | BX6: до 3 лет | BY6: старше 3 лет | BZ6: до 3 лет | CA6: старше 3 лет | CB6: до 3 лет | CC6: старше 3 лет | CD6: до 3 лет | CE6: старше 3 лет | CF6: до 3 лет | CG6: старше 3 лет | CH6: до 3 лет | CI6: старше 3 лет | CJ6: до 3 лет | CK6: старше 3 лет | CL6: до 3 лет | CM6: старше 3 лет | CN6: до 3 лет | CO6: старше 3 лет | CP6: до 3 лет | CQ6: старше 3 лет | CR6: до 3 лет | CS6: старше 3 лет | CT6: до 3 лет | CU6: старше 3 лет | CV6: до 3 лет | CW6: старше 3 лет | CX6: до 3 лет | CY6: старше 3 лет | CZ6: до 3 лет | DA6: старше 3 лет | DB6: до 3 лет | DC6: старше 3 лет | DD6: до 3 лет | DE6: старше 3 лет | DF6: до 3 лет | DG6: старше 3 лет | DH6: до 3 лет | DI6: старше 3 лет | DJ6: до 3 лет | DK6: старше 3 лет | DL6: до 3 лет | DM6: старше 3 лет | DN6: до 3 лет | DO6: старше 3 лет | DP6: до 3 лет | DQ6: старше 3 лет | DR6: до 3 лет | DS6: старше 3 лет | DT6: до 3 лет | DU6: старше 3 лет | DV6: до 3 лет | DW6: старше 3 лет | DX6: до 3 лет | DY6: старше 3 лет | DZ6: до 3 лет | EA6: старше 3 лет | EB6: до 3 лет | EC6: старше 3 лет | ED6: до 3 лет | EE6: старше 3 лет | EF6: до 3 лет | EG6: старше 3 лет | EH6: до 3 лет | EI6: старше 3 лет | EJ6: до 3 лет | EK6: старше 3 лет | EL6: до 3 лет | EM6: старше 3 лет | EN6: до 3 лет | EO6: старше 3 лет | EP6: до 3 лет | EQ6: старше 3 лет
A7: Бокситогорский | B7: МБДОУ Бокситогорский детский сад № 1 | C7: город | D7: детей | E7: =F7+G7 -> 0 | F7: =EH7+EJ7+EL7+EN7+EP7 -> 0 | G7: =EI7+EK7+EM7+EO7+EQ7 -> 0 | EH7: =H7+R7+AB7+AL7+AV7+BF7+BP7+BZ7+CJ7+CT7+DD7+DN7+DX7 -> 0 | EI7: =I7+S7+AC7+AM7+AW7+BG7+BQ7+CA7+CK7+CU7+DE7+DO7+DY7 -> 0 | EJ7: =J7+T7+AD7+AN7+AX7+BH7+BR7+CB7+CL7+CV7+DF7+DP7+DZ7 -> 0 | EK7: =K7+U7+AE7+AO7+AY7+BI7+BS7+CC7+CM7+CW7+DG7+DQ7+EA7 -> 0 | EL7: =L7+V7+AF7+AP7+AZ7+BJ7+BT7+CD7+CN7+CX7+DH7+DR7+EB7 -> 0 | EM7: =M7+W7+AG7+AQ7+BA7+BK7+BU7+CE7+CO7+CY7+DI7+DS7+EC7 -> 0 | EN7: =N7+X7+AH7+AR7+BB7+BL7+BV7+CF7+CP7+CZ7+DJ7+DT7+ED7 -> 0 | EO7: =O7+Y7+AI7+AS7+BC7+BM7+BW7+CG7+CQ7+DA7+DK7+DU7+EE7 -> 0 | ... EQ7: =Q7+AA7+AK7+AU7+BE7+BO7+BY7+CI7+CS7+DC7+DM7+DW7+EG7 -> 0
A8: Бокситогорский | B8: МБДОУ Бокситогорский детский сад № 4 | C8: город | D8: детей | E8: =F8+G8 -> 63 | F8: =EH8+EJ8+EL8+EN8+EP8 -> 0 | G8: =EI8+EK8+EM8+EO8+EQ8 -> 63 | K8: 63 | EH8: =H8+R8+AB8+AL8+AV8+BF8+BP8+BZ8+CJ8+CT8+DD8+DN8+DX8 -> 0 | EI8: =I8+S8+AC8+AM8+AW8+BG8+BQ8+CA8+CK8+CU8+DE8+DO8+DY8 -> 0 | EJ8: =J8+T8+AD8+AN8+AX8+BH8+BR8+CB8+CL8+CV8+DF8+DP8+DZ8 -> 0 | EK8: =K8+U8+AE8+AO8+AY8+BI8+BS8+CC8+CM8+CW8+DG8+DQ8+EA8 -> 63 | EL8: =L8+V8+AF8+AP8+AZ8+BJ8+BT8+CD8+CN8+CX8+DH8+DR8+EB8 -> 0 | EM8: =M8+W8+AG8+AQ8+BA8+BK8+BU8+CE8+CO8+CY8+DI8+DS8+EC8 -> 0 | EN8: =N8+X8+AH8+AR8+BB8+BL8+BV8+CF8+CP8+CZ8+DJ8+DT8+ED8 -> 0 | EO8: =O8+Y8+AI8+AS8+BC8+BM8+BW8+CG8+CQ8+DA8+DK8+DU8+EE8 -> 0 | ... EQ8: =Q8+AA8+AK8+AU8+BE8+BO8+BY8+CI8+CS8+DC8+DM8+DW8+EG8 -> 0
A9: Бокситогорский | B9: МБДОУ Бокситогорский детский сад № 5 | C9: город | D9: детей | E9: =F9+G9 -> 33 | F9: =EH9+EJ9+EL9+EN9+EP9 -> 0 | G9: =EI9+EK9+EM9+EO9+EQ9 -> 33 | K9: 14 | BI9: 19 | EH9: =H9+R9+AB9+AL9+AV9+BF9+BP9+BZ9+CJ9+CT9+DD9+DN9+DX9 -> 0 | EI9: =I9+S9+AC9+AM9+AW9+BG9+BQ9+CA9+CK9+CU9+DE9+DO9+DY9 -> 0 | EJ9: =J9+T9+AD9+AN9+AX9+BH9+BR9+CB9+CL9+CV9+DF9+DP9+DZ9 -> 0 | EK9: =K9+U9+AE9+AO9+AY9+BI9+BS9+CC9+CM9+CW9+DG9+DQ9+EA9 -> 33 | EL9: =L9+V9+AF9+AP9+AZ9+BJ9+BT9+CD9+CN9+CX9+DH9+DR9+EB9 -> 0 | EM9: =M9+W9+AG9+AQ9+BA9+BK9+BU9+CE9+CO9+CY9+DI9+DS9+EC9 -> 0 | EN9: =N9+X9+AH9+AR9+BB9+BL9+BV9+CF9+CP9+CZ9+DJ9+DT9+ED9 -> 0 | EO9: =O9+Y9+AI9+AS9+BC9+BM9+BW9+CG9+CQ9+DA9+DK9+DU9+EE9 -> 0 | ... EQ9: =Q9+AA9+AK9+AU9+BE9+BO9+BY9+CI9+CS9+DC9+DM9+DW9+EG9 -> 0
A10: Бокситогорский | B10: МБДОУ Бокситогорский детский сад № 8 | C10: город | D10: детей | E10: =F10+G10 -> 0 | F10: =EH10+EJ10+EL10+EN10+EP10 -> 0 | G10: =EI10+EK10+EM10+EO10+EQ10 -> 0 | EH10: =H10+R10+AB10+AL10+AV10+BF10+BP10+BZ10+CJ10+CT10+DD10+DN10+DX10 -> 0 | EI10: =I10+S10+AC10+AM10+AW10+BG10+BQ10+CA10+CK10+CU10+DE10+DO10+DY10 -> 0 | EJ10: =J10+T10+AD10+AN10+AX10+BH10+BR10+CB10+CL10+CV10+DF10+DP10+DZ10 -> 0 | EK10: =K10+U10+AE10+AO10+AY10+BI10+BS10+CC10+CM10+CW10+DG10+DQ10+EA10 -> 0 | EL10: =L10+V10+AF10+AP10+AZ10+BJ10+BT10+CD10+CN10+CX10+DH10+DR10+EB10 -> 0 | EM10: =M10+W10+AG10+AQ10+BA10+BK10+BU10+CE10+CO10+CY10+DI10+DS10+EC10 -> 0 | EN10: =N10+X10+AH10+AR10+BB10+BL10+BV10+CF10+CP10+CZ10+DJ10+DT10+ED10 -> 0 | EO10: =O10+Y10+AI10+AS10+BC10+BM10+BW10+CG10+CQ10+DA10+DK10+DU10+EE10 -> 0 | ... EQ10: =Q10+AA10+AK10+AU10+BE10+BO10+BY10+CI10+CS10+DC10+DM10+DW10+EG10 -> 0
A11: Бокситогорский | B11: МБДОУ Детский сад № 2 города Пикалёво | C11: город | D11: детей | E11: =F11+G11 -> 12 | F11: =EH11+EJ11+EL11+EN11+EP11 -> 0 | G11: =EI11+EK11+EM11+EO11+EQ11 -> 12 | K11: 12 | EH11: =H11+R11+AB11+AL11+AV11+BF11+BP11+BZ11+CJ11+CT11+DD11+DN11+DX11 -> 0 | EI11: =I11+S11+AC11+AM11+AW11+BG11+BQ11+CA11+CK11+CU11+DE11+DO11+DY11 -> 0 | EJ11: =J11+T11+AD11+AN11+AX11+BH11+BR11+CB11+CL11+CV11+DF11+DP11+DZ11 -> 0 | EK11: =K11+U11+AE11+AO11+AY11+BI11+BS11+CC11+CM11+CW11+DG11+DQ11+EA11 -> 12 | EL11: =L11+V11+AF11+AP11+AZ11+BJ11+BT11+CD11+CN11+CX11+DH11+DR11+EB11 -> 0 | EM11: =M11+W11+AG11+AQ11+BA11+BK11+BU11+CE11+CO11+CY11+DI11+DS11+EC11 -> 0 | EN11: =N11+X11+AH11+AR11+BB11+BL11+BV11+CF11+CP11+CZ11+DJ11+DT11+ED11 -> 0 | EO11: =O11+Y11+AI11+AS11+BC11+BM11+BW11+CG11+CQ11+DA11+DK11+DU11+EE11 -> 0 | ... EQ11: =Q11+AA11+AK11+AU11+BE11+BO11+BY11+CI11+CS11+DC11+DM11+DW11+EG11 -> 0
A12: Бокситогорский | B12: МБДОУ Детский сад № 3 города Пикалёво | C12: город | D12: детей | E12: =F12+G12 -> 0 | F12: =EH12+EJ12+EL12+EN12+EP12 -> 0 | G12: =EI12+EK12+EM12+EO12+EQ12 -> 0 | EH12: =H12+R12+AB12+AL12+AV12+BF12+BP12+BZ12+CJ12+CT12+DD12+DN12+DX12 -> 0 | EI12: =I12+S12+AC12+AM12+AW12+BG12+BQ12+CA12+CK12+CU12+DE12+DO12+DY12 -> 0 | EJ12: =J12+T12+AD12+AN12+AX12+BH12+BR12+CB12+CL12+CV12+DF12+DP12+DZ12 -> 0 | EK12: =K12+U12+AE12+AO12+AY12+BI12+BS12+CC12+CM12+CW12+DG12+DQ12+EA12 -> 0 | EL12: =L12+V12+AF12+AP12+AZ12+BJ12+BT12+CD12+CN12+CX12+DH12+DR12+EB12 -> 0 | EM12: =M12+W12+AG12+AQ12+BA12+BK12+BU12+CE12+CO12+CY12+DI12+DS12+EC12 -> 0 | EN12: =N12+X12+AH12+AR12+BB12+BL12+BV12+CF12+CP12+CZ12+DJ12+DT12+ED12 -> 0 | EO12: =O12+Y12+AI12+AS12+BC12+BM12+BW12+CG12+CQ12+DA12+DK12+DU12+EE12 -> 0 | ... EQ12: =Q12+AA12+AK12+AU12+BE12+BO12+BY12+CI12+CS12+DC12+DM12+DW12+EG12 -> 0
A13: Бокситогорский | B13: МБДОУ Детский сад № 5 города Пикалёво | C13: город | D13: детей | E13: =F13+G13 -> 30 | F13: =EH13+EJ13+EL13+EN13+EP13 -> 0 | G13: =EI13+EK13+EM13+EO13+EQ13 -> 30 | K13: 30 | EH13: =H13+R13+AB13+AL13+AV13+BF13+BP13+BZ13+CJ13+CT13+DD13+DN13+DX13 -> 0 | EI13: =I13+S13+AC13+AM13+AW13+BG13+BQ13+CA13+CK13+CU13+DE13+DO13+DY13 -> 0 | EJ13: =J13+T13+AD13+AN13+AX13+BH13+BR13+CB13+CL13+CV13+DF13+DP13+DZ13 -> 0 | EK13: =K13+U13+AE13+AO13+AY13+BI13+BS13+CC13+CM13+CW13+DG13+DQ13+EA13 -> 30 | EL13: =L13+V13+AF13+AP13+AZ13+BJ13+BT13+CD13+CN13+CX13+DH13+DR13+EB13 -> 0 | EM13: =M13+W13+AG13+AQ13+BA13+BK13+BU13+CE13+CO13+CY13+DI13+DS13+EC13 -> 0 | EN13: =N13+X13+AH13+AR13+BB13+BL13+BV13+CF13+CP13+CZ13+DJ13+DT13+ED13 -> 0 | EO13: =O13+Y13+AI13+AS13+BC13+BM13+BW13+CG13+CQ13+DA13+DK13+DU13+EE13 -> 0 | ... EQ13: =Q13+AA13+AK13+AU13+BE13+BO13+BY13+CI13+CS13+DC13+DM13+DW13+EG13 -> 0
A14: Бокситогорский | B14: МБДОУ Детский сад № 6 города Пикалёво | C14: город | D14: детей | E14: =F14+G14 -> 15 | F14: =EH14+EJ14+EL14+EN14+EP14 -> 0 | G14: =EI14+EK14+EM14+EO14+EQ14 -> 15 | K14: 15 | EH14: =H14+R14+AB14+AL14+AV14+BF14+BP14+BZ14+CJ14+CT14+DD14+DN14+DX14 -> 0 | EI14: =I14+S14+AC14+AM14+AW14+BG14+BQ14+CA14+CK14+CU14+DE14+DO14+DY14 -> 0 | EJ14: =J14+T14+AD14+AN14+AX14+BH14+BR14+CB14+CL14+CV14+DF14+DP14+DZ14 -> 0 | EK14: =K14+U14+AE14+AO14+AY14+BI14+BS14+CC14+CM14+CW14+DG14+DQ14+EA14 -> 15 | EL14: =L14+V14+AF14+AP14+AZ14+BJ14+BT14+CD14+CN14+CX14+DH14+DR14+EB14 -> 0 | EM14: =M14+W14+AG14+AQ14+BA14+BK14+BU14+CE14+CO14+CY14+DI14+DS14+EC14 -> 0 | EN14: =N14+X14+AH14+AR14+BB14+BL14+BV14+CF14+CP14+CZ14+DJ14+DT14+ED14 -> 0 | EO14: =O14+Y14+AI14+AS14+BC14+BM14+BW14+CG14+CQ14+DA14+DK14+DU14+EE14 -> 0 | ... EQ14: =Q14+AA14+AK14+AU14+BE14+BO14+BY14+CI14+CS14+DC14+DM14+DW14+EG14 -> 0
A15: Бокситогорский | B15: МБДОУ Детский сад № 7 города Пикалёво | C15: город | D15: детей | E15: =F15+G15 -> 15 | F15: =EH15+EJ15+EL15+EN15+EP15 -> 0 | G15: =EI15+EK15+EM15+EO15+EQ15 -> 15 | K15: 15 | EH15: =H15+R15+AB15+AL15+AV15+BF15+BP15+BZ15+CJ15+CT15+DD15+DN15+DX15 -> 0 | EI15: =I15+S15+AC15+AM15+AW15+BG15+BQ15+CA15+CK15+CU15+DE15+DO15+DY15 -> 0 | EJ15: =J15+T15+AD15+AN15+AX15+BH15+BR15+CB15+CL15+CV15+DF15+DP15+DZ15 -> 0 | EK15: =K15+U15+AE15+AO15+AY15+BI15+BS15+CC15+CM15+CW15+DG15+DQ15+EA15 -> 15 | EL15: =L15+V15+AF15+AP15+AZ15+BJ15+BT15+CD15+CN15+CX15+DH15+DR15+EB15 -> 0 | EM15: =M15+W15+AG15+AQ15+BA15+BK15+BU15+CE15+CO15+CY15+DI15+DS15+EC15 -> 0 | EN15: =N15+X15+AH15+AR15+BB15+BL15+BV15+CF15+CP15+CZ15+DJ15+DT15+ED15 -> 0 | EO15: =O15+Y15+AI15+AS15+BC15+BM15+BW15+CG15+CQ15+DA15+DK15+DU15+EE15 -> 0 | ... EQ15: =Q15+AA15+AK15+AU15+BE15+BO15+BY15+CI15+CS15+DC15+DM15+DW15+EG15 -> 0
A16: Бокситогорский | B16: МБДОУ Детский сад № 8 города Пикалёво | C16: город | D16: детей | E16: =F16+G16 -> 15 | F16: =EH16+EJ16+EL16+EN16+EP16 -> 0 | G16: =EI16+EK16+EM16+EO16+EQ16 -> 15 | K16: 15 | EH16: =H16+R16+AB16+AL16+AV16+BF16+BP16+BZ16+CJ16+CT16+DD16+DN16+DX16 -> 0 | EI16: =I16+S16+AC16+AM16+AW16+BG16+BQ16+CA16+CK16+CU16+DE16+DO16+DY16 -> 0 | EJ16: =J16+T16+AD16+AN16+AX16+BH16+BR16+CB16+CL16+CV16+DF16+DP16+DZ16 -> 0 | EK16: =K16+U16+AE16+AO16+AY16+BI16+BS16+CC16+CM16+CW16+DG16+DQ16+EA16 -> 15 | EL16: =L16+V16+AF16+AP16+AZ16+BJ16+BT16+CD16+CN16+CX16+DH16+DR16+EB16 -> 0 | EM16: =M16+W16+AG16+AQ16+BA16+BK16+BU16+CE16+CO16+CY16+DI16+DS16+EC16 -> 0 | EN16: =N16+X16+AH16+AR16+BB16+BL16+BV16+CF16+CP16+CZ16+DJ16+DT16+ED16 -> 0 | EO16: =O16+Y16+AI16+AS16+BC16+BM16+BW16+CG16+CQ16+DA16+DK16+DU16+EE16 -> 0 | ... EQ16: =Q16+AA16+AK16+AU16+BE16+BO16+BY16+CI16+CS16+DC16+DM16+DW16+EG16 -> 0
A17: Бокситогорский | B17: МБДОУ Детский сад № 9 города Пикалёво | C17: город | D17: детей | E17: =F17+G17 -> 17 | F17: =EH17+EJ17+EL17+EN17+EP17 -> 0 | G17: =EI17+EK17+EM17+EO17+EQ17 -> 17 | K17: 17 | EH17: =H17+R17+AB17+AL17+AV17+BF17+BP17+BZ17+CJ17+CT17+DD17+DN17+DX17 -> 0 | EI17: =I17+S17+AC17+AM17+AW17+BG17+BQ17+CA17+CK17+CU17+DE17+DO17+DY17 -> 0 | EJ17: =J17+T17+AD17+AN17+AX17+BH17+BR17+CB17+CL17+CV17+DF17+DP17+DZ17 -> 0 | EK17: =K17+U17+AE17+AO17+AY17+BI17+BS17+CC17+CM17+CW17+DG17+DQ17+EA17 -> 17 | EL17: =L17+V17+AF17+AP17+AZ17+BJ17+BT17+CD17+CN17+CX17+DH17+DR17+EB17 -> 0 | EM17: =M17+W17+AG17+AQ17+BA17+BK17+BU17+CE17+CO17+CY17+DI17+DS17+EC17 -> 0 | EN17: =N17+X17+AH17+AR17+BB17+BL17+BV17+CF17+CP17+CZ17+DJ17+DT17+ED17 -> 0 | EO17: =O17+Y17+AI17+AS17+BC17+BM17+BW17+CG17+CQ17+DA17+DK17+DU17+EE17 -> 0 | ... EQ17: =Q17+AA17+AK17+AU17+BE17+BO17+BY17+CI17+CS17+DC17+DM17+DW17+EG17 -> 0
A18: Бокситогорский | B18: МБДОУ Ефимовский детский сад | C18: ПГТ | D18: детей | E18: =F18+G18 -> 12 | F18: =EH18+EJ18+EL18+EN18+EP18 -> 0 | G18: =EI18+EK18+EM18+EO18+EQ18 -> 12 | K18: 12 | EH18: =H18+R18+AB18+AL18+AV18+BF18+BP18+BZ18+CJ18+CT18+DD18+DN18+DX18 -> 0 | EI18: =I18+S18+AC18+AM18+AW18+BG18+BQ18+CA18+CK18+CU18+DE18+DO18+DY18 -> 0 | EJ18: =J18+T18+AD18+AN18+AX18+BH18+BR18+CB18+CL18+CV18+DF18+DP18+DZ18 -> 0 | EK18: =K18+U18+AE18+AO18+AY18+BI18+BS18+CC18+CM18+CW18+DG18+DQ18+EA18 -> 12 | EL18: =L18+V18+AF18+AP18+AZ18+BJ18+BT18+CD18+CN18+CX18+DH18+DR18+EB18 -> 0 | EM18: =M18+W18+AG18+AQ18+BA18+BK18+BU18+CE18+CO18+CY18+DI18+DS18+EC18 -> 0 | EN18: =N18+X18+AH18+AR18+BB18+BL18+BV18+CF18+CP18+CZ18+DJ18+DT18+ED18 -> 0 | EO18: =O18+Y18+AI18+AS18+BC18+BM18+BW18+CG18+CQ18+DA18+DK18+DU18+EE18 -> 0 | ... EQ18: =Q18+AA18+AK18+AU18+BE18+BO18+BY18+CI18+CS18+DC18+DM18+DW18+EG18 -> 0
A19: Бокситогорский | B19: МКДОУ Борский детский сад | C19: село | D19: детей | E19: =F19+G19 -> 0 | F19: =EH19+EJ19+EL19+EN19+EP19 -> 0 | G19: =EI19+EK19+EM19+EO19+EQ19 -> 0 | EH19: =H19+R19+AB19+AL19+AV19+BF19+BP19+BZ19+CJ19+CT19+DD19+DN19+DX19 -> 0 | EI19: =I19+S19+AC19+AM19+AW19+BG19+BQ19+CA19+CK19+CU19+DE19+DO19+DY19 -> 0 | EJ19: =J19+T19+AD19+AN19+AX19+BH19+BR19+CB19+CL19+CV19+DF19+DP19+DZ19 -> 0 | EK19: =K19+U19+AE19+AO19+AY19+BI19+BS19+CC19+CM19+CW19+DG19+DQ19+EA19 -> 0 | EL19: =L19+V19+AF19+AP19+AZ19+BJ19+BT19+CD19+CN19+CX19+DH19+DR19+EB19 -> 0 | EM19: =M19+W19+AG19+AQ19+BA19+BK19+BU19+CE19+CO19+CY19+DI19+DS19+EC19 -> 0 | EN19: =N19+X19+AH19+AR19+BB19+BL19+BV19+CF19+CP19+CZ19+DJ19+DT19+ED19 -> 0 | EO19: =O19+Y19+AI19+AS19+BC19+BM19+BW19+CG19+CQ19+DA19+DK19+DU19+EE19 -> 0 | ... EQ19: =Q19+AA19+AK19+AU19+BE19+BO19+BY19+CI19+CS19+DC19+DM19+DW19+EG19 -> 0
A20: Бокситогорский | B20: МКДОУ Большедворский детский сад | C20: село | D20: детей | E20: =F20+G20 -> 0 | F20: =EH20+EJ20+EL20+EN20+EP20 -> 0 | G20: =EI20+EK20+EM20+EO20+EQ20 -> 0 | EH20: =H20+R20+AB20+AL20+AV20+BF20+BP20+BZ20+CJ20+CT20+DD20+DN20+DX20 -> 0 | EI20: =I20+S20+AC20+AM20+AW20+BG20+BQ20+CA20+CK20+CU20+DE20+DO20+DY20 -> 0 | EJ20: =J20+T20+AD20+AN20+AX20+BH20+BR20+CB20+CL20+CV20+DF20+DP20+DZ20 -> 0 | EK20: =K20+U20+AE20+AO20+AY20+BI20+BS20+CC20+CM20+CW20+DG20+DQ20+EA20 -> 0 | EL20: =L20+V20+AF20+AP20+AZ20+BJ20+BT20+CD20+CN20+CX20+DH20+DR20+EB20 -> 0 | EM20: =M20+W20+AG20+AQ20+BA20+BK20+BU20+CE20+CO20+CY20+DI20+DS20+EC20 -> 0 | EN20: =N20+X20+AH20+AR20+BB20+BL20+BV20+CF20+CP20+CZ20+DJ20+DT20+ED20 -> 0 | EO20: =O20+Y20+AI20+AS20+BC20+BM20+BW20+CG20+CQ20+DA20+DK20+DU20+EE20 -> 0 | ... EQ20: =Q20+AA20+AK20+AU20+BE20+BO20+BY20+CI20+CS20+DC20+DM20+DW20+EG20 -> 0
A21: Бокситогорский | B21: МКДОУ Заборьевский детский сад | C21: село | D21: детей | E21: =F21+G21 -> 0 | F21: =EH21+EJ21+EL21+EN21+EP21 -> 0 | G21: =EI21+EK21+EM21+EO21+EQ21 -> 0 | EH21: =H21+R21+AB21+AL21+AV21+BF21+BP21+BZ21+CJ21+CT21+DD21+DN21+DX21 -> 0 | EI21: =I21+S21+AC21+AM21+AW21+BG21+BQ21+CA21+CK21+CU21+DE21+DO21+DY21 -> 0 | EJ21: =J21+T21+AD21+AN21+AX21+BH21+BR21+CB21+CL21+CV21+DF21+DP21+DZ21 -> 0 | EK21: =K21+U21+AE21+AO21+AY21+BI21+BS21+CC21+CM21+CW21+DG21+DQ21+EA21 -> 0 | EL21: =L21+V21+AF21+AP21+AZ21+BJ21+BT21+CD21+CN21+CX21+DH21+DR21+EB21 -> 0 | EM21: =M21+W21+AG21+AQ21+BA21+BK21+BU21+CE21+CO21+CY21+DI21+DS21+EC21 -> 0 | EN21: =N21+X21+AH21+AR21+BB21+BL21+BV21+CF21+CP21+CZ21+DJ21+DT21+ED21 -> 0 | EO21: =O21+Y21+AI21+AS21+BC21+BM21+BW21+CG21+CQ21+DA21+DK21+DU21+EE21 -> 0 | ... EQ21: =Q21+AA21+AK21+AU21+BE21+BO21+BY21+CI21+CS21+DC21+DM21+DW21+EG21 -> 0
A22: Бокситогорский | B22: МБОУ Борская средняя общеобразовтельная школа | C22: село | D22: детей | E22: =F22+G22 -> 0 | F22: =EH22+EJ22+EL22+EN22+EP22 -> 0 | G22: =EI22+EK22+EM22+EO22+EQ22 -> 0 | EH22: =H22+R22+AB22+AL22+AV22+BF22+BP22+BZ22+CJ22+CT22+DD22+DN22+DX22 -> 0 | EI22: =I22+S22+AC22+AM22+AW22+BG22+BQ22+CA22+CK22+CU22+DE22+DO22+DY22 -> 0 | EJ22: =J22+T22+AD22+AN22+AX22+BH22+BR22+CB22+CL22+CV22+DF22+DP22+DZ22 -> 0 | EK22: =K22+U22+AE22+AO22+AY22+BI22+BS22+CC22+CM22+CW22+DG22+DQ22+EA22 -> 0 | EL22: =L22+V22+AF22+AP22+AZ22+BJ22+BT22+CD22+CN22+CX22+DH22+DR22+EB22 -> 0 | EM22: =M22+W22+AG22+AQ22+BA22+BK22+BU22+CE22+CO22+CY22+DI22+DS22+EC22 -> 0 | EN22: =N22+X22+AH22+AR22+BB22+BL22+BV22+CF22+CP22+CZ22+DJ22+DT22+ED22 -> 0 | EO22: =O22+Y22+AI22+AS22+BC22+BM22+BW22+CG22+CQ22+DA22+DK22+DU22+EE22 -> 0 | ... EQ22: =Q22+AA22+AK22+AU22+BE22+BO22+BY22+CI22+CS22+DC22+DM22+DW22+EG22 -> 0
A23: Бокситогорский | B23: МКОУ Подборовская основная общеобразовательная школа | C23: село | D23: детей | E23: =F23+G23 -> 0 | F23: =EH23+EJ23+EL23+EN23+EP23 -> 0 | G23: =EI23+EK23+EM23+EO23+EQ23 -> 0 | EH23: =H23+R23+AB23+AL23+AV23+BF23+BP23+BZ23+CJ23+CT23+DD23+DN23+DX23 -> 0 | EI23: =I23+S23+AC23+AM23+AW23+BG23+BQ23+CA23+CK23+CU23+DE23+DO23+DY23 -> 0 | EJ23: =J23+T23+AD23+AN23+AX23+BH23+BR23+CB23+CL23+CV23+DF23+DP23+DZ23 -> 0 | EK23: =K23+U23+AE23+AO23+AY23+BI23+BS23+CC23+CM23+CW23+DG23+DQ23+EA23 -> 0 | EL23: =L23+V23+AF23+AP23+AZ23+BJ23+BT23+CD23+CN23+CX23+DH23+DR23+EB23 -> 0 | EM23: =M23+W23+AG23+AQ23+BA23+BK23+BU23+CE23+CO23+CY23+DI23+DS23+EC23 -> 0 | EN23: =N23+X23+AH23+AR23+BB23+BL23+BV23+CF23+CP23+CZ23+DJ23+DT23+ED23 -> 0 | EO23: =O23+Y23+AI23+AS23+BC23+BM23+BW23+CG23+CQ23+DA23+DK23+DU23+EE23 -> 0 | ... EQ23: =Q23+AA23+AK23+AU23+BE23+BO23+BY23+CI23+CS23+DC23+DM23+DW23+EG23 -> 0
A24: Бокситогорский | B24: МКОУ Самойловская начальная общеобразовательная школа | C24: село | D24: детей | E24: =F24+G24 -> 0 | F24: =EH24+EJ24+EL24+EN24+EP24 -> 0 | G24: =EI24+EK24+EM24+EO24+EQ24 -> 0 | EH24: =H24+R24+AB24+AL24+AV24+BF24+BP24+BZ24+CJ24+CT24+DD24+DN24+DX24 -> 0 | EI24: =I24+S24+AC24+AM24+AW24+BG24+BQ24+CA24+CK24+CU24+DE24+DO24+DY24 -> 0 | EJ24: =J24+T24+AD24+AN24+AX24+BH24+BR24+CB24+CL24+CV24+DF24+DP24+DZ24 -> 0 | EK24: =K24+U24+AE24+AO24+AY24+BI24+BS24+CC24+CM24+CW24+DG24+DQ24+EA24 -> 0 | EL24: =L24+V24+AF24+AP24+AZ24+BJ24+BT24+CD24+CN24+CX24+DH24+DR24+EB24 -> 0 | EM24: =M24+W24+AG24+AQ24+BA24+BK24+BU24+CE24+CO24+CY24+DI24+DS24+EC24 -> 0 | EN24: =N24+X24+AH24+AR24+BB24+BL24+BV24+CF24+CP24+CZ24+DJ24+DT24+ED24 -> 0 | EO24: =O24+Y24+AI24+AS24+BC24+BM24+BW24+CG24+CQ24+DA24+DK24+DU24+EE24 -> 0 | ... EQ24: =Q24+AA24+AK24+AU24+BE24+BO24+BY24+CI24+CS24+DC24+DM24+DW24+EG24 -> 0
A25: 1. Бокситогорский | B25: ИТОГО | E25: =SUBTOTAL(9,E7:E24) -> 212 | F25: =SUBTOTAL(9,F7:F24) -> 0 | G25: =SUBTOTAL(9,G7:G24) -> 212 | H25: =SUBTOTAL(9,H7:H24) -> 0 | I25: =SUBTOTAL(9,I7:I24) -> 0 | J25: =SUBTOTAL(9,J7:J24) -> 0 | K25: =SUBTOTAL(9,K7:K24) -> 193 | L25: =SUBTOTAL(9,L7:L24) -> 0 | ... EQ25: =SUBTOTAL(9,EQ7:EQ24) -> 0
A26: Волосовский | B26: МДОУ "Детский сад № 4" | C26: село | D26: детей
A27: Волосовский | B27: МДОУ "Детский сад № 5" | C27: село | D27: детей
A28: Волосовский | B28: МДОУ "Детский сад № 6" | C28: город | D28: детей
A29: Волосовский | B29: МДОУ "Детский сад № 9" | C29: село | D29: детей
A30: Волосовский | B30: МДОУ "Детский сад № 10" | C30: село | D30: детей
A31: Волосовский | B31: МДОУ "Детский сад № 11" | C31: село | D31: детей
A32: Волосовский | B32: МОУ "Детский сад № 12 комбинированного вида" | C32: село | D32: детей | E32: =F32+G32 -> 43 | F32: =EH32+EJ32+EL32+EN32+EP32 -> 0 | G32: =EI32+EK32+EM32+EO32+EQ32 -> 43 | W32: 31 | CE32: 12 | EH32: =H32+R32+AB32+AL32+AV32+BF32+BP32+BZ32+CJ32+CT32+DD32+DN32+DX32 -> 0 | EI32: =I32+S32+AC32+AM32+AW32+BG32+BQ32+CA32+CK32+CU32+DE32+DO32+DY32 -> 0 | EJ32: =J32+T32+AD32+AN32+AX32+BH32+BR32+CB32+CL32+CV32+DF32+DP32+DZ32 -> 0 | EK32: =K32+U32+AE32+AO32+AY32+BI32+BS32+CC32+CM32+CW32+DG32+DQ32+EA32 -> 0 | EL32: =L32+V32+AF32+AP32+AZ32+BJ32+BT32+CD32+CN32+CX32+DH32+DR32+EB32 -> 0 | EM32: =M32+W32+AG32+AQ32+BA32+BK32+BU32+CE32+CO32+CY32+DI32+DS32+EC32 -> 43 | EN32: =N32+X32+AH32+AR32+BB32+BL32+BV32+CF32+CP32+CZ32+DJ32+DT32+ED32 -> 0 | EO32: =O32+Y32+AI32+AS32+BC32+BM32+BW32+CG32+CQ32+DA32+DK32+DU32+EE32 -> 0 | ... EQ32: =Q32+AA32+AK32+AU32+BE32+BO32+BY32+CI32+CS32+DC32+DM32+DW32+EG32 -> 0
A33: Волосовский | B33: МДОУ "Детский сад № 13" | C33: село | D33: детей
A34: Волосовский | B34: МДОУ "Детский сад № 14" | C34: село | D34: детей
A35: Волосовский | B35: МДОУ "Детский сад № 18" | C35: село | D35: детей
A36: Волосовский | B36: МДОУ "Детский сад № 19" | C36: село | D36: детей
A37: Волосовский | B37: МДОУ "Детский сад №20" | C37: село | D37: детей
A38: Волосовский | B38: МДОУ "Детский сад № 22" | C38: село | D38: детей
A39: Волосовский | B39: МДОУ "Детский сад № 24" | C39: село | D39: детей
A40: Волосовский | B40: МДОУ "Детский сад № 26" | C40: село | D40: детей
A41: Волосовский | B41: МДОУ "Детский сад № 27" | C41: село | D41: детей
...

Sheet гр.комбинир.напрв.
