Workbook
Name Excel_BuiltIn_Print_Titles: 'Норматив '!$1:$5

Sheet Норматив 
A1: нормативы с 01.01.2019 | D1: наполняемость | E1: режим функционирования
E2: пятидневная рабочая неделя | J2: шестидневная рабочая неделя
E3: 5 | F3: 5 | G3: 5 | H3: 5 | I3: 5 | J3: 6 | K3: 6 | L3: 6 | M3: 6 | N3: 6
E4: кратковременного пребывания | F4: сокращенного дня | G4: полного дня | H4: продленного дня | I4: круглосуточным пребыванием | J4: кратковременного пребывания | K4: сокращенного дня | L4: полного дня | M4: продленного дня | N4: круглосуточным пребыванием
E5: 5 часов | F5: 8-10,5часов | G5: 12 часов | H5: 14 часов | I5: 24 часа | J5: 5 часов | K5: 10 часов | L5: 12 часов | M5: 14 часов | N5: 24 часа
E6: 5 | F6: 10.5 | G6: 12 | H6: 14 | I6: 14 | J6: 5 | K6: 10 | L6: 12 | M6: 14 | N6: 14
A7: количество часов рабочего времени воспитателя в неделю | E7: =E3*E6 -> 25 | F7: =F3*F6 -> 52.5 | G7: =G3*G6 -> 60 | H7: =H3*H6 -> 70 | I7: =I3*I6 -> 70 | J7: =J3*J6 -> 30 | K7: =K3*K6 -> 60 | L7: =L3*L6 -> 72 | ... N7: =N3*N6 -> 84
A8: норма часов педагогической работы на ставку воспитателя в неделю
A9: группы общеразвивающие направленности | B9: группы общеразвивающей направленности | C9: до 3 лет | D9: 19 | E9: 36 | F9: 36 | G9: 36 | H9: 36 | I9: 36 | J9: 36 | K9: 36 | L9: 36 | M9: 36 | N9: 36
C10: старше 3х лет | D10: 23 | E10: 36 | F10: 36 | G10: 36 | H10: 36 | I10: 36 | J10: 36 | K10: 36 | L10: 36 | M10: 36 | N10: 36
B11: группы общеразвивающей направленности, расположенные в ПГТ с численностью воспитанников от 100 до 51 человека | C11: до 3 лет | D11: 15 | E11: 36 | F11: 36 | G11: 36 | H11: 36 | I11: 36
C12: старше 3х лет | D12: 20 | E12: 36 | F12: 36 | G12: 36 | H12: 36 | I12: 36
B13: группы общеразвивающей направленности, расположенные в ПГТ с численностью воспитанников менее 51 человека | C13: до 3 лет | D13: 10 | E13: 36 | F13: 36 | G13: 36 | H13: 36 | I13: 36
C14: старше 3х лет | D14: 15 | E14: 36 | F14: 36 | G14: 36 | H14: 36 | I14: 36
B15: группы общеразвивающей направленности, расположенные в сельской местности с численностью воспитанников от 100 до 51 человека | C15: до 3 лет | D15: 15 | E15: 36 | F15: 36 | G15: 36 | H15: 36 | I15: 36
C16: старше 3х лет | D16: 20 | E16: 36 | F16: 36 | G16: 36 | H16: 36 | I16: 36
B17: группы общеразвивающей направленности, расположенные в сельской местности с численностью воспитанников от 50 до 26 человек | C17: до 3 лет | D17: 10 | E17: 36 | F17: 36 | G17: 36 | H17: 36 | I17: 36
C18: старше 3х лет | D18: 15 | E18: 36 | F18: 36 | G18: 36 | H18: 36 | I18: 36
B19: группы общеразвивающей направленности, расположенные в сельской местности с численностью воспитанников от 25 до 11 человек | C19: до 3 лет | D19: 10 | E19: 36 | F19: 36 | G19: 36 | H19: 36 | I19: 36
C20: старше 3х лет | D20: 10 | E20: 36 | F20: 36 | G20: 36 | H20: 36 | I20: 36
B21: группы общеразвивающей направленности, расположенные в сельской местности с численностью воспитанников менее 11 человек | C21: до 3 лет | D21: 5 | E21: 36 | F21: 36 | G21: 36 | H21: 36 | I21: 36
C22: старше 3х лет | D22: 5 | E22: 36 | F22: 36 | G22: 36 | H22: 36 | I22: 36
A23: группы компенсирующей наравленности | B23: для детей с тяжелыми нарушениями речи | C23: до 3 лет | D23: 6 | E23: 25 | F23: 25 | G23: 25 | H23: 25 | I23: 25 | J23: 25 | K23: 25 | L23: 25 | M23: 25 | N23: 25
C24: старше 3х лет | D24: 10 | E24: 25 | F24: 25 | G24: 25 | H24: 25 | I24: 25 | J24: 25 | K24: 25 | L24: 25 | M24: 25 | N24: 25
B25: для детей с фонетико-фонематическими нарушениями речи | C25: до 3 лет | D25: 0 | E25: 0 | F25: 0 | G25: 0 | H25: 0 | I25: 0 | J25: 0 | K25: 0 | L25: 0 | M25: 0 | N25: 0
C26: старше 3х лет | D26: 12 | E26: 25 | F26: 25 | G26: 25 | H26: 25 | I26: 25 | J26: 25 | K26: 25 | L26: 25 | M26: 25 | N26: 25
B27: для глухих детей | C27: до 3 лет | D27: 6 | E27: 25 | F27: 25 | G27: 25 | H27: 25 | I27: 25 | J27: 25 | K27: 25 | L27: 25 | M27: 25 | N27: 25
C28: старше 3х лет | D28: 6 | E28: 25 | F28: 25 | G28: 25 | H28: 25 | I28: 25 | J28: 25 | K28: 25 | L28: 25 | M28: 25 | N28: 25
B29: для слабослышащих | C29: до 3 лет | D29: 6 | E29: 25 | F29: 25 | G29: 25 | H29: 25 | I29: 25 | J29: 25 | K29: 25 | L29: 25 | M29: 25 | N29: 25
C30: старше 3х лет | D30: 8 | E30: 25 | F30: 25 | G30: 25 | H30: 25 | I30: 25 | J30: 25 | K30: 25 | L30: 25 | M30: 25 | N30: 25
B31: для слепых детей | C31: до 3 лет | D31: 6 | E31: 25 | F31: 25 | G31: 25 | H31: 25 | I31: 25 | J31: 25 | K31: 25 | L31: 25 | M31: 25 | N31: 25
C32: старше 3х лет | D32: 6 | E32: 25 | F32: 25 | G32: 25 | H32: 25 | I32: 25 | J32: 25 | K32: 25 | L32: 25 | M32: 25 | N32: 25
B33: слабовидящих детей, для детей с амблиопией, косоглазием | C33: до 3 лет | D33: 6 | E33: 25 | F33: 25 | G33: 25 | H33: 25 | I33: 25 | J33: 25 | K33: 25 | L33: 25 | M33: 25 | N33: 25
C34: старше 3х лет | D34: 10 | E34: 25 | F34: 25 | G34: 25 | H34: 25 | I34: 25 | J34: 25 | K34: 25 | L34: 25 | M34: 25 | N34: 25
B35: для детей с нарушениями опорно-двигательного аппарата | C35: до 3 лет | D35: 6 | E35: 25 | F35: 25 | G35: 25 | H35: 25 | I35: 25 | J35: 25 | K35: 25 | L35: 25 | M35: 25 | N35: 25
C36: старше 3х лет | D36: 8 | E36: 25 | F36: 25 | G36: 25 | H36: 25 | I36: 25 | J36: 25 | K36: 25 | L36: 25 | M36: 25 | N36: 25
B37: для детей с задержкой психического развития | C37: до 3 лет | D37: 6 | E37: 25 | F37: 25 | G37: 25 | H37: 25 | I37: 25 | J37: 25 | K37: 25 | L37: 25 | M37: 25 | N37: 25
C38: старше 3х лет | D38: 10 | E38: 25 | F38: 25 | G38: 25 | H38: 25 | I38: 25 | J38: 25 | K38: 25 | L38: 25 | M38: 25 | N38: 25
B39: для детей с умственной отсталостью легкой степени | C39: до 3 лет | D39: 6 | E39: 25 | F39: 25 | G39: 25 | H39: 25 | I39: 25 | J39: 25 | K39: 25 | L39: 25 | M39: 25 | N39: 25
C40: старше 3х лет | D40: 10 | E40: 25 | F40: 25 | G40: 25 | H40: 25 | I40: 25 | J40: 25 | K40: 25 | L40: 25 | M40: 25 | N40: 25
...

Sheet Расчет_гр.общеразв.напрв.
C1: Расчет объема субвенции на финансовое обеспечение реализации дошкольных программ на 2019 год (группы общеразвивающей направленности)
A3: №№ | B3: Реализуемая программа | C3: группы общеразвивающей направленности, обычные группы | W3: группы общеразвивающей направленности, расположенные в ПГТ с численностью воспитанников от 100 до 51 человека | AQ3: группы общеразвивающей направленности, расположенные в ПГТ с численностью воспитанников менее 51 человека | BK3: группы общеразвивающей направленности, расположенные в сельской местности с численностью воспитанников от 100 до 51 человека | CE3: группы общеразвивающей направленности, расположенные в сельской местности с численностью воспитанников от 50 до 26 человек | CY3: группы общеразвивающей направленности, расположенные в сельской местности с численностью воспитанников от 25 до 11 человек | DS3: группы общеразвивающей направленности, расположенные в сельской местности с численностью воспитанников менее 11 человек | EM3: ВСЕГО | FG3: ВСЕГО планируемый среднегодовой контингент на 2019 год
C4: кратковременного пребывания | G4: сокращенного дня | K4: полного дня | O4: продленного дня | S4: круглосуточным пребыванием | W4: кратковременного пребывания | AA4: сокращенного дня | AE4: полного дня | AI4: продленного дня | AM4: круглосуточным пребыванием | AQ4: кратковременного пребывания | AU4: сокращенного дня | AY4: полного дня | BC4: продленного дня | BG4: круглосуточным пребыванием | BK4: кратковременного пребывания | BO4: сокращенного дня | BS4: полного дня | BW4: продленного дня | CA4: круглосуточным пребыванием | CE4: кратковременного пребывания | CI4: сокращенного дня | CM4: полного дня | CQ4: продленного дня | CU4: круглосуточным пребыванием | CY4: кратковременного пребывания | DC4: сокращенного дня | DG4: полного дня | DK4: продленного дня | DO4: круглосуточным пребыванием | DS4: кратковременного пребывания | DW4: сокращенного дня | EA4: полного дня | EE4: продленного дня | EI4: круглосуточным пребыванием | EM4: кратковременного пребывания | EQ4: сокращенного дня | EU4: полного дня | EY4: продленного дня | FC4: круглосуточным пребыванием
C5: до 5 часов | G5: 8 - 10,5 часов | K5: 12 часов | O5: 13 - 14 часов | S5: 24 часа | W5: до 5 часов | AA5: 8 - 10,5 часов | AE5: 12 часов | AI5: 13 - 14 часов | AM5: 24 часа | AQ5: до 5 часов | AU5: 8 - 10,5 часов | AY5: 12 часов | BC5: 13 - 14 часов | BG5: 24 часа | BK5: до 5 часов | BO5: 8 - 10,5 часов | BS5: 12 часов | BW5: 13 - 14 часов | CA5: 24 часа | CE5: до 5 часов | CI5: 8 - 10,5 часов | CM5: 12 часов | CQ5: 13 - 14 часов | CU5: 24 часа | CY5: до 5 часов | DC5: 8 - 10,5 часов | DG5: 12 часов | DK5: 13 - 14 часов | DO5: 24 часа | DS5: до 5 часов | DW5: 8 - 10,5 часов | EA5: 12 часов | EE5: 13 - 14 часов | EI5: 24 часа | EM5: до 5 часов | EQ5: 8 - 10,5 часов | EU5: 12 часов | EY5: 13 - 14 часов | FC5: 24 часа
C6: до 3 лет | E6: старше 3 лет | G6: до 3 лет | I6: старше 3 лет | K6: до 3 лет | M6: старше 3 лет | O6: до 3 лет | Q6: старше 3 лет | S6: до 3 лет | U6: старше 3 лет | W6: до 3 лет | Y6: старше 3 лет | AA6: до 3 лет | AC6: старше 3 лет | AE6: до 3 лет | AG6: старше 3 лет | AI6: до 3 лет | AK6: старше 3 лет | AM6: до 3 лет | AO6: старше 3 лет | AQ6: до 3 лет | AS6: старше 3 лет | AU6: до 3 лет | AW6: старше 3 лет | AY6: до 3 лет | BA6: старше 3 лет | BC6: до 3 лет | BE6: старше 3 лет | BG6: до 3 лет | BI6: старше 3 лет | BK6: до 3 лет | BM6: старше 3 лет | BO6: до 3 лет | BQ6: старше 3 лет | BS6: до 3 лет | BU6: старше 3 лет | BW6: до 3 лет | BY6: старше 3 лет | CA6: до 3 лет | CC6: старше 3 лет | CE6: до 3 лет | CG6: старше 3 лет | CI6: до 3 лет | CK6: старше 3 лет | CM6: до 3 лет | CO6: старше 3 лет | CQ6: до 3 лет | CS6: старше 3 лет | CU6: до 3 лет | CW6: старше 3 лет | CY6: до 3 лет | DA6: старше 3 лет | DC6: до 3 лет | DE6: старше 3 лет | DG6: до 3 лет | DI6: старше 3 лет | DK6: до 3 лет | DM6: старше 3 лет | DO6: до 3 лет | DQ6: старше 3 лет | DS6: до 3 лет | DU6: старше 3 лет | DW6: до 3 лет | DY6: старше 3 лет | EA6: до 3 лет | EC6: старше 3 лет | EE6: до 3 лет | EG6: старше 3 лет | EI6: до 3 лет | EK6: старше 3 лет | EM6: до 3 лет | EO6: старше 3 лет | EQ6: до 3 лет | ES6: старше 3 лет | EU6: до 3 лет | EW6: старше 3 лет | EY6: до 3 лет | FA6: старше 3 лет | FC6: до 3 лет | FE6: старше 3 лет | FG6: до 3 лет | FI6: старше 3 лет | FK6: Всего
C7: 19 | D7: 23 | E7: 19 | F7: 23 | G7: 19 | H7: 23 | I7: 19 | J7: 23 | K7: 19 | L7: 23 | M7: 15 | N7: 20 | O7: 15 | P7: 20 | Q7: 15 | R7: 20 | S7: 15 | T7: 20 | U7: 15 | V7: 20 | W7: 10 | X7: 15 | Y7: 10 | Z7: 15 | AA7: 10 | AB7: 15 | AC7: 10 | AD7: 15 | AE7: 10 | AF7: 15 | AG7: 15 | AH7: 20 | AI7: 15 | AJ7: 20 | AK7: 15 | AL7: 20 | AM7: 15 | AN7: 20 | AO7: 15 | AP7: 20 | AQ7: 10 | AR7: 15 | AS7: 10 | AT7: 15 | AU7: 10 | AV7: 15 | AW7: 10 | AX7: 15 | AY7: 10 | AZ7: 15 | BA7: 10 | BB7: 10 | BC7: 10 | BD7: 10 | BE7: 10 | BF7: 10 | BG7: 10 | BH7: 10 | BI7: 10 | BJ7: 10 | BK7: 5 | BL7: 5 | BM7: 5 | BN7: 5 | BO7: 5 | BP7: 5 | BQ7: 5 | BR7: 5 | BS7: 5 | BT7: 5 | BU7: ='Норматив '!BM585 -> 0 | BV7: 23 | BW7: 19 | BX7: 23 | BY7: 19 | BZ7: 23 | CA7: 19 | CB7: 23 | CC7: 19 | CD7: 23 | CE7: 15 | CF7: 20 | CG7: 15 | CH7: 20 | CI7: 15 | CJ7: 20 | CK7: 15 | CL7: 20 | CM7: 15 | CN7: 20 | CO7: 10 | CP7: 15 | CQ7: 10 | CR7: 15 | CS7: 10 | CT7: 15 | CU7: 10 | CV7: 15 | CW7: 10 | CX7: 15 | CY7: 15 | CZ7: 20 | DA7: 15 | DB7: 20 | DC7: 15 | DD7: 20 | DE7: 15 | DF7: 20 | DG7: 15 | DH7: 20 | DI7: 10 | DJ7: 15 | DK7: 10 | DL7: 15 | DM7: 10 | DN7: 15 | DO7: 10 | DP7: 15 | DQ7: 10 | DR7: 15 | DS7: 10 | DT7: 10 | DU7: 10 | DV7: 10 | DW7: 10 | DX7: 10 | DY7: 10 | DZ7: 10 | EA7: 10 | EB7: 10 | EC7: 5 | ED7: 5 | EE7: 5 | EF7: 5 | EG7: 5 | EH7: 5 | EI7: 5 | EJ7: 5 | EK7: 5 | EL7: 5 | EM7: 19 | EO7: 23 | EY7: 19 | FA7: 23
C8: кон-т | D8: сумма | E8: кон-т | F8: сумма | G8: кон-т | H8: сумма | I8: кон-т | J8: сумма | K8: кон-т | L8: сумма | M8: кон-т | N8: сумма | O8: кон-т | P8: сумма | Q8: кон-т | R8: сумма | S8: кон-т | T8: сумма | U8: кон-т | V8: сумма | W8: кон-т | X8: сумма | Y8: кон-т | Z8: сумма | AA8: кон-т | AB8: сумма | AC8: кон-т | AD8: сумма | AE8: кон-т | AF8: сумма | AG8: кон-т | AH8: сумма | AI8: кон-т | AJ8: сумма | AK8: кон-т | AL8: сумма | AM8: кон-т | AN8: сумма | AO8: кон-т | AP8: сумма | AQ8: кон-т | AR8: сумма | AS8: кон-т | AT8: сумма | AU8: кон-т | AV8: сумма | AW8: кон-т | AX8: сумма | AY8: кон-т | AZ8: сумма | BA8: кон-т | BB8: сумма | BC8: кон-т | BD8: сумма | BE8: кон-т | BF8: сумма | BG8: кон-т | BH8: сумма | BI8: кон-т | BJ8: сумма | BK8: кон-т | BL8: сумма | BM8: кон-т | BN8: сумма | BO8: кон-т | BP8: сумма | BQ8: кон-т | BR8: сумма | BS8: кон-т | BT8: сумма | BU8: кон-т | BV8: сумма | BW8: кон-т | BX8: сумма | BY8: кон-т | BZ8: сумма | CA8: кон-т | CB8: сумма | CC8: кон-т | CD8: сумма | CE8: кон-т | CF8: сумма | CG8: кон-т | CH8: сумма | CI8: кон-т | CJ8: сумма | CK8: кон-т | CL8: сумма | CM8: кон-т | CN8: сумма | CO8: кон-т | CP8: сумма | CQ8: кон-т | CR8: сумма | CS8: кон-т | CT8: сумма | CU8: кон-т | CV8: сумма | CW8: кон-т | CX8: сумма | CY8: кон-т | CZ8: сумма | DA8: кон-т | DB8: сумма | DC8: кон-т | DD8: сумма | DE8: кон-т | DF8: сумма | DG8: кон-т | DH8: сумма | DI8: кон-т | DJ8: сумма | DK8: кон-т | DL8: сумма | DM8: кон-т | DN8: сумма | DO8: кон-т | DP8: сумма | DQ8: кон-т | DR8: сумма | DS8: кон-т | DT8: сумма | DU8: кон-т | DV8: сумма | DW8: кон-т | DX8: сумма | DY8: кон-т | DZ8: сумма | EA8: кон-т | EB8: сумма | EC8: кон-т | ED8: сумма | EE8: кон-т | EF8: сумма | EG8: кон-т | EH8: сумма | EI8: кон-т | EJ8: сумма | EK8: кон-т | EL8: сумма | EM8: кон-т | EN8: сумма | EO8: кон-т | EP8: сумма | EQ8: кон-т | ER8: сумма | ES8: кон-т | ET8: сумма | EU8: кон-т | EV8: сумма | EW8: кон-т | EX8: сумма | EY8: кон-т | EZ8: сумма | FA8: кон-т | FB8: сумма | FC8: кон-т | FD8: сумма | FE8: кон-т | FF8: сумма | FG8: кон-т | FH8: сумма | FI8: кон-т | FJ8: сумма | FK8: кон-т | FL8: сумма
A9: 3 | B9: с 01.01.2019 | D9: ='Норматив '!$E$583 -> 3453 | F9: ='Норматив '!$E$584 -> 2804 | H9: ='Норматив '!$F$583 -> 7251 | J9: ='Норматив '!$F$584 -> 5888 | L9: ='Норматив '!$G$583 -> 8286 | N9: ='Норматив '!$G$584 -> 6729 | P9: ='Норматив '!$H$583 -> 9668 | R9: ='Норматив '!$I$584 -> 7850 | T9: ='Норматив '!$H$583 -> 9668 | V9: ='Норматив '!$I$584 -> 7850 | X9: ='Норматив '!$E$585 -> 4373 | Z9: ='Норматив '!$E$586 -> 3224 | AB9: ='Норматив '!$F$585 -> 9184 | AD9: ='Норматив '!$F$586 -> 6771 | AF9: ='Норматив '!$G$585 -> 10496 | AH9: ='Норматив '!$G$586 -> 7738 | AJ9: ='Норматив '!$H$585 -> 12246 | AL9: ='Норматив '!$H$586 -> 9028 | AN9: ='Норматив '!$I$585 -> 12246 | AP9: ='Норматив '!$I$586 -> 9028 | AR9: ='Норматив '!$E$587 -> 6672 | AT9: ='Норматив '!$E$588 -> 4373 | AV9: ='Норматив '!$F$587 -> 14011 | AX9: ='Норматив '!$F$588 -> 9184 | AZ9: ='Норматив '!$G$587 -> 16013 | BB9: ='Норматив '!$G$588 -> 10496 | BD9: ='Норматив '!$H$587 -> 18681 | BF9: ='Норматив '!$H$588 -> 12246 | BH9: ='Норматив '!$I$587 -> 18681 | BJ9: ='Норматив '!$I$588 -> 12246 | BL9: ='Норматив '!$E$589 -> 4373 | BN9: ='Норматив '!$E$590 -> 3224 | BP9: ='Норматив '!$F$589 -> 9184 | BR9: ='Норматив '!$F$590 -> 6771 | BT9: ='Норматив '!$G$589 -> 10496 | BV9: ='Норматив '!$G$590 -> 7738 | BX9: ='Норматив '!$H$589 -> 12246 | BZ9: ='Норматив '!$H$590 -> 9028 | CB9: ='Норматив '!$I$589 -> 12246 | CD9: ='Норматив '!$I$590 -> 9028 | CF9: ='Норматив '!$E$591 -> 6672 | CH9: ='Норматив '!$E$592 -> 4373 | CJ9: ='Норматив '!$F$591 -> 14011 | CL9: ='Норматив '!$F$592 -> 9184 | CN9: ='Норматив '!$G$591 -> 16013 | CP9: ='Норматив '!$G$592 -> 10496 | CR9: ='Норматив '!$H$591 -> 18681 | CT9: ='Норматив '!$H$592 -> 12246 | CV9: ='Норматив '!$I$591 -> 18681 | CX9: ='Норматив '!$I$592 -> 12246 | CZ9: ='Норматив '!$E$593 -> 6784 | DB9: ='Норматив '!$E$594 -> 6672 | DD9: ='Норматив '!$F$593 -> 14246 | DF9: ='Норматив '!$F$594 -> 14011 | DH9: ='Норматив '!$G$593 -> 16281 | DJ9: ='Норматив '!$G$594 -> 16013 | DL9: ='Норматив '!$H$593 -> 18995 | DN9: ='Норматив '!$H$594 -> 18681 | DP9: ='Норматив '!$I$593 -> 18995 | DR9: ='Норматив '!$I$594 -> 18681 | DT9: ='Норматив '!$E$595 -> 15804 | DV9: ='Норматив '!$E$596 -> 15581 | DX9: ='Норматив '!$F$595 -> 33189 | DZ9: ='Норматив '!$F$596 -> 32719 | EB9: ='Норматив '!$G$595 -> 37930 | ED9: ='Норматив '!$G$596 -> 37393 | EF9: ='Норматив '!$H$595 -> 44252 | EH9: ='Норматив '!$H$596 -> 43626 | EJ9: ='Норматив '!$I$595 -> 44252 | EL9: ='Норматив '!$I$596 -> 43626
A10: 5 | B10: с 01.04.2018 | D10: ='Норматив '!$E$583 -> 3453 | F10: ='Норматив '!$E$584 -> 2804 | H10: ='Норматив '!$F$583 -> 7251 | J10: ='Норматив '!$F$584 -> 5888 | L10: ='Норматив '!$G$583 -> 8286 | N10: ='Норматив '!$G$584 -> 6729 | P10: ='Норматив '!$H$583 -> 9668 | R10: ='Норматив '!$I$584 -> 7850 | T10: ='Норматив '!$H$583 -> 9668 | V10: ='Норматив '!$I$584 -> 7850 | X10: ='Норматив '!$E$585 -> 4373 | Z10: ='Норматив '!$E$586 -> 3224 | AB10: ='Норматив '!$F$585 -> 9184 | AD10: ='Норматив '!$F$586 -> 6771 | AF10: ='Норматив '!$G$585 -> 10496 | AH10: ='Норматив '!$G$586 -> 7738 | AJ10: ='Норматив '!$H$585 -> 12246 | AL10: ='Норматив '!$H$586 -> 9028 | AN10: ='Норматив '!$I$585 -> 12246 | AP10: ='Норматив '!$I$586 -> 9028 | AR10: ='Норматив '!$E$587 -> 6672 | AT10: ='Норматив '!$E$588 -> 4373 | AV10: ='Норматив '!$F$587 -> 14011 | AX10: ='Норматив '!$F$588 -> 9184 | AZ10: ='Норматив '!$G$587 -> 16013 | BB10: ='Норматив '!$G$588 -> 10496 | BD10: ='Норматив '!$H$587 -> 18681 | BF10: ='Норматив '!$H$588 -> 12246 | BH10: ='Норматив '!$I$587 -> 18681 | BJ10: ='Норматив '!$I$588 -> 12246 | BL10: ='Норматив '!$E$589 -> 4373 | BN10: ='Норматив '!$E$590 -> 3224 | BP10: ='Норматив '!$F$589 -> 9184 | BR10: ='Норматив '!$F$590 -> 6771 | BT10: ='Норматив '!$G$589 -> 10496 | BV10: ='Норматив '!$G$590 -> 7738 | BX10: ='Норматив '!$H$589 -> 12246 | BZ10: ='Норматив '!$H$590 -> 9028 | CB10: ='Норматив '!$I$589 -> 12246 | CD10: ='Норматив '!$I$590 -> 9028 | CF10: ='Норматив '!$E$591 -> 6672 | CH10: ='Норматив '!$E$592 -> 4373 | CJ10: ='Норматив '!$F$591 -> 14011 | CL10: ='Норматив '!$F$592 -> 9184 | CN10: ='Норматив '!$G$591 -> 16013 | CP10: ='Норматив '!$G$592 -> 10496 | CR10: ='Норматив '!$H$591 -> 18681 | CT10: ='Норматив '!$H$592 -> 12246 | CV10: ='Норматив '!$I$591 -> 18681 | CX10: ='Норматив '!$I$592 -> 12246 | CZ10: ='Норматив '!$E$593 -> 6784 | DB10: ='Норматив '!$E$594 -> 6672 | DD10: ='Норматив '!$F$593 -> 14246 | DF10: ='Норматив '!$F$594 -> 14011 | DH10: ='Норматив '!$G$593 -> 16281 | DJ10: ='Норматив '!$G$594 -> 16013 | DL10: ='Норматив '!$H$593 -> 18995 | DN10: ='Норматив '!$H$594 -> 18681 | DP10: ='Норматив '!$I$593 -> 18995 | DR10: ='Норматив '!$I$594 -> 18681 | DT10: ='Норматив '!$E$595 -> 15804 | DV10: ='Норматив '!$E$596 -> 15581 | DX10: ='Норматив '!$F$595 -> 33189 | DZ10: ='Норматив '!$F$596 -> 32719 | EB10: ='Норматив '!$G$595 -> 37930 | ED10: ='Норматив '!$G$596 -> 37393 | EF10: ='Норматив '!$H$595 -> 44252 | EH10: ='Норматив '!$H$596 -> 43626 | EJ10: ='Норматив '!$I$595 -> 44252 | EL10: ='Норматив '!$I$596 -> 43626
A11: 4 | B11: с 01.09.2018 | D11: ='Норматив '!$E$583 -> 3453 | F11: ='Норматив '!$E$584 -> 2804 | H11: ='Норматив '!$F$583 -> 7251 | J11: ='Норматив '!$F$584 -> 5888 | L11: ='Норматив '!$G$583 -> 8286 | N11: ='Норматив '!$G$584 -> 6729 | P11: ='Норматив '!$H$583 -> 9668 | R11: ='Норматив '!$I$584 -> 7850 | T11: ='Норматив '!$H$583 -> 9668 | V11: ='Норматив '!$I$584 -> 7850 | X11: ='Норматив '!$E$585 -> 4373 | Z11: ='Норматив '!$E$586 -> 3224 | AB11: ='Норматив '!$F$585 -> 9184 | AD11: ='Норматив '!$F$586 -> 6771 | AF11: ='Норматив '!$G$585 -> 10496 | AH11: ='Норматив '!$G$586 -> 7738 | AJ11: ='Норматив '!$H$585 -> 12246 | AL11: ='Норматив '!$H$586 -> 9028 | AN11: ='Норматив '!$I$585 -> 12246 | AP11: ='Норматив '!$I$586 -> 9028 | AR11: ='Норматив '!$E$587 -> 6672 | AT11: ='Норматив '!$E$588 -> 4373 | AV11: ='Норматив '!$F$587 -> 14011 | AX11: ='Норматив '!$F$588 -> 9184 | AZ11: ='Норматив '!$G$587 -> 16013 | BB11: ='Норматив '!$G$588 -> 10496 | BD11: ='Норматив '!$H$587 -> 18681 | BF11: ='Норматив '!$H$588 -> 12246 | BH11: ='Норматив '!$I$587 -> 18681 | BJ11: ='Норматив '!$I$588 -> 12246 | BL11: ='Норматив '!$E$589 -> 4373 | BN11: ='Норматив '!$E$590 -> 3224 | BP11: ='Норматив '!$F$589 -> 9184 | BR11: ='Норматив '!$F$590 -> 6771 | BT11: ='Норматив '!$G$589 -> 10496 | BV11: ='Норматив '!$G$590 -> 7738 | BX11: ='Норматив '!$H$589 -> 12246 | BZ11: ='Норматив '!$H$590 -> 9028 | CB11: ='Норматив '!$I$589 -> 12246 | CD11: ='Норматив '!$I$590 -> 9028 | CF11: ='Норматив '!$E$591 -> 6672 | CH11: ='Норматив '!$E$592 -> 4373 | CJ11: ='Норматив '!$F$591 -> 14011 | CL11: ='Норматив '!$F$592 -> 9184 | CN11: ='Норматив '!$G$591 -> 16013 | CP11: ='Норматив '!$G$592 -> 10496 | CR11: ='Норматив '!$H$591 -> 18681 | CT11: ='Норматив '!$H$592 -> 12246 | CV11: ='Норматив '!$I$591 -> 18681 | CX11: ='Норматив '!$I$592 -> 12246 | CZ11: ='Норматив '!$E$593 -> 6784 | DB11: ='Норматив '!$E$594 -> 6672 | DD11: ='Норматив '!$F$593 -> 14246 | DF11: ='Норматив '!$F$594 -> 14011 | DH11: ='Норматив '!$G$593 -> 16281 | DJ11: ='Норматив '!$G$594 -> 16013 | DL11: ='Норматив '!$H$593 -> 18995 | DN11: ='Норматив '!$H$594 -> 18681 | DP11: ='Норматив '!$I$593 -> 18995 | DR11: ='Норматив '!$I$594 -> 18681 | DT11: ='Норматив '!$E$595 -> 15804 | DV11: ='Норматив '!$E$596 -> 15581 | DX11: ='Норматив '!$F$595 -> 33189 | DZ11: ='Норматив '!$F$596 -> 32719 | EB11: ='Норматив '!$G$595 -> 37930 | ED11: ='Норматив '!$G$596 -> 37393 | EF11: ='Норматив '!$H$595 -> 44252 | EH11: ='Норматив '!$H$596 -> 43626 | EJ11: ='Норматив '!$I$595 -> 44252 | EL11: ='Норматив '!$I$596 -> 43626
A12: 1 | B12: Бокситогорский | C12: 0 | D12: =C12*D$9*3+C12*D$10*5+C12*D$11*4 -> 0 | E12: 0 | F12: =E12*F$9*3+E12*F$10*5+E12*F$11*4 -> 0 | G12: 409 | H12: =G12*H$9*3+G12*H$10*5+G12*H$11*4 -> 35587908 | I12: 1016 | J12: =I12*J$9*3+I12*J$10*5+I12*J$11*4 -> 71786496 | K12: 130 | L12: =K12*L$9*3+K12*L$10*5+K12*L$11*4 -> 12926160 | M12: 326 | N12: =M12*N$9*3+M12*N$10*5+M12*N$11*4 -> 26323848 | O12: 0 | P12: =O12*P$9*3+O12*P$10*5+O12*P$11*4 -> 0 | Q12: 0 | R12: =Q12*R$9*3+Q12*R$10*5+Q12*R$11*4 -> 0 | S12: 0 | T12: =S12*T$9*3+S12*T$10*5+S12*T$11*4 -> 0 | U12: 0 | V12: =U12*V$9*3+U12*V$10*5+U12*V$11*4 -> 0 | W12: 0 | X12: =W12*X$9*3+W12*X$10*5+W12*X$11*4 -> 0 | Y12: 0 | Z12: =Y12*Z$9*3+Y12*Z$10*5+Y12*Z$11*4 -> 0 | AA12: 0 | AB12: =AA12*AB$9*3+AA12*AB$10*5+AA12*AB$11*4 -> 0 | AC12: 0 | AD12: =AC12*AD$9*3+AC12*AD$10*5+AC12*AD$11*4 -> 0 | AE12: 0 | AF12: =AE12*AF$9*3+AE12*AF$10*5+AE12*AF$11*4 -> 0 | AG12: 0 | AH12: =AG12*AH$9*3+AG12*AH$10*5+AG12*AH$11*4 -> 0 | AI12: 0 | AJ12: =AI12*AJ$9*3+AI12*AJ$10*5+AI12*AJ$11*4 -> 0 | AK12: 0 | AL12: =AK12*AL$9*3+AK12*AL$10*5+AK12*AL$11*4 -> 0 | AM12: 0 | AN12: =AM12*AN$9*3+AM12*AN$10*5+AM12*AN$11*4 -> 0 | AO12: 0 | AP12: =AO12*AP$9*3+AO12*AP$10*5+AO12*AP$11*4 -> 0 | AQ12: 0 | AR12: =AQ12*AR$9*3+AQ12*AR$10*5+AQ12*AR$11*4 -> 0 | AS12: 0 | AT12: =AS12*AT$9*3+AS12*AT$10*5+AS12*AT$11*4 -> 0 | AU12: 0 | AV12: =AU12*AV$9*3+AU12*AV$10*5+AU12*AV$11*4 -> 0 | AW12: 0 | AX12: =AW12*AX$9*3+AW12*AX$10*5+AW12*AX$11*4 -> 0 | AY12: 0 | AZ12: =AY12*AZ$9*3+AY12*AZ$10*5+AY12*AZ$11*4 -> 0 | BA12: 0 | BB12: =BA12*BB$9*3+BA12*BB$10*5+BA12*BB$11*4 -> 0 | BC12: 0 | BD12: =BC12*BD$9*3+BC12*BD$10*5+BC12*BD$11*4 -> 0 | BE12: 0 | BF12: =BE12*BF$9*3+BE12*BF$10*5+BE12*BF$11*4 -> 0 | BG12: 0 | BH12: =BG12*BH$9*3+BG12*BH$10*5+BG12*BH$11*4 -> 0 | BI12: 0 | BJ12: =BI12*BJ$9*3+BI12*BJ$10*5+BI12*BJ$11*4 -> 0 | BK12: 0 | BL12: =BK12*BL$9*3+BK12*BL$10*5+BK12*BL$11*4 -> 0 | BM12: 0 | BN12: =BM12*BN$9*3+BM12*BN$10*5+BM12*BN$11*4 -> 0 | BO12: 19 | BP12: =BO12*BP$9*3+BO12*BP$10*5+BO12*BP$11*4 -> 2093952 | BQ12: 48 | BR12: =BQ12*BR$9*3+BQ12*BR$10*5+BQ12*BR$11*4 -> 3900096 | BS12: 0 | BT12: =BS12*BT$9*3+BS12*BT$10*5+BS12*BT$11*4 -> 0 | BU12: 15 | BV12: =BU12*BV$9*3+BU12*BV$10*5+BU12*BV$11*4 -> 1392840 | BW12: 0 | BX12: =BW12*BX$9*3+BW12*BX$10*5+BW12*BX$11*4 -> 0 | BY12: 0 | BZ12: =BY12*BZ$9*3+BY12*BZ$10*5+BY12*BZ$11*4 -> 0 | CA12: 0 | CB12: =CA12*CB$9*3+CA12*CB$10*5+CA12*CB$11*4 -> 0 | CC12: 0 | CD12: =CC12*CD$9*3+CC12*CD$10*5+CC12*CD$11*4 -> 0 | CE12: 0 | CF12: =CE12*CF$9*3+CE12*CF$10*5+CE12*CF$11*4 -> 0 | CG12: 0 | CH12: =CG12*CH$9*3+CG12*CH$10*5+CG12*CH$11*4 -> 0 | CI12: 27 | CJ12: =CI12*CJ$9*3+CI12*CJ$10*5+CI12*CJ$11*4 -> 4539564 | CK12: 32 | CL12: =CK12*CL$9*3+CK12*CL$10*5+CK12*CL$11*4 -> 3526656 | CM12: 0 | CN12: =CM12*CN$9*3+CM12*CN$10*5+CM12*CN$11*4 -> 0 | CO12: 0 | CP12: =CO12*CP$9*3+CO12*CP$10*5+CO12*CP$11*4 -> 0 | CQ12: 0 | CR12: =CQ12*CR$9*3+CQ12*CR$10*5+CQ12*CR$11*4 -> 0 | CS12: 0 | CT12: =CS12*CT$9*3+CS12*CT$10*5+CS12*CT$11*4 -> 0 | CU12: 0 | CV12: =CU12*CV$9*3+CU12*CV$10*5+CU12*CV$11*4 -> 0 | CW12: 0 | CX12: =CW12*CX$9*3+CW12*CX$10*5+CW12*CX$11*4 -> 0 | CY12: 0 | CZ12: =CY12*CZ$9*3+CY12*CZ$10*5+CY12*CZ$11*4 -> 0 | DA12: 0 | DB12: =DA12*DB$9*3+DA12*DB$10*5+DA12*DB$11*4 -> 0 | DC12: 9 | DD12: =DC12*DD$9*3+DC12*DD$10*5+DC12*DD$11*4 -> 1538568 | DE12: 28 | DF12: =DE12*DF$9*3+DE12*DF$10*5+DE12*DF$11*4 -> 4707696 | DG12: 0 | DH12: =DG12*DH$9*3+DG12*DH$10*5+DG12*DH$11*4 -> 0 | DI12: 0 | DJ12: =DI12*DJ$9*3+DI12*DJ$10*5+DI12*DJ$11*4 -> 0 | DK12: 0 | DL12: =DK12*DL$9*3+DK12*DL$10*5+DK12*DL$11*4 -> 0 | DM12: 0 | DN12: =DM12*DN$9*3+DM12*DN$10*5+DM12*DN$11*4 -> 0 | DO12: 0 | DP12: =DO12*DP$9*3+DO12*DP$10*5+DO12*DP$11*4 -> 0 | DQ12: 0 | DR12: =DQ12*DR$9*3+DQ12*DR$10*5+DQ12*DR$11*4 -> 0 | DS12: 0 | DT12: =DS12*DT$9*3+DS12*DT$10*5+DS12*DT$11*4 -> 0 | DU12: 0 | DV12: =DU12*DV$9*3+DU12*DV$10*5+DU12*DV$11*4 -> 0 | DW12: 0 | DX12: =DW12*DX$9*3+DW12*DX$10*5+DW12*DX$11*4 -> 0 | DY12: 6 | DZ12: =DY12*DZ$9*3+DY12*DZ$10*5+DY12*DZ$11*4 -> 2355768 | EA12: 0 | EB12: =EA12*EB$9*3+EA12*EB$10*5+EA12*EB$11*4 -> 0 | EC12: 0 | ED12: =EC12*ED$9*3+EC12*ED$10*5+EC12*ED$11*4 -> 0 | EE12: 0 | EF12: =EE12*EF$9*3+EE12*EF$10*5+EE12*EF$11*4 -> 0 | EG12: 0 | EH12: =EG12*EH$9*3+EG12*EH$10*5+EG12*EH$11*4 -> 0 | EI12: 0 | EJ12: =EI12*EJ$9*3+EI12*EJ$10*5+EI12*EJ$11*4 -> 0 | EK12: 0 | EL12: =EK12*EL$9*3+EK12*EL$10*5+EK12*EL$11*4 -> 0 | EM12: =C12+W12+AQ12+BK12+CE12+CY12+DS12 -> 0 | EN12: =D12+X12+AR12+BL12+CF12+CZ12+DT12 -> 0 | EO12: =E12+Y12+AS12+BM12+CG12+DA12+DU12 -> 0 | EP12: =F12+Z12+AT12+BN12+CH12+DB12+DV12 -> 0 | EQ12: =G12+AA12+AU12+BO12+CI12+DC12+DW12 -> 464 | ER12: =H12+AB12+AV12+BP12+CJ12+DD12+DX12 -> 43759992 | ES12: =I12+AC12+AW12+BQ12+CK12+DE12+DY12 -> 1130 | ET12: =J12+AD12+AX12+BR12+CL12+DF12+DZ12 -> 86276712 | ... FF12: =V12+AP12+BJ12+CD12+CX12+DR12+EL12 -> 0 | FG12: =EM12+EQ12+EU12+EY12+FC12 -> 594 | FH12: =EN12+ER12+EV12+EZ12+FD12 -> 56686152 | FI12: =EO12+ES12+EW12+FA12+FE12 -> 1471 | FJ12: =EP12+ET12+EX12+FB12+FF12 -> 113993400 | FK12: =FG12+FI12 -> 2065 | FL12: =FH12+FJ12 -> 170679552
A13: 2 | B13: Волосовский | C13: 0 | D13: =C13*D$9*3+C13*D$10*5+C13*D$11*4 -> 0 | E13: 0 | F13: =E13*F$9*3+E13*F$10*5+E13*F$11*4 -> 0 | G13: 99 | H13: =G13*H$9*3+G13*H$10*5+G13*H$11*4 -> 8614188 | I13: 241 | J13: =I13*J$9*3+I13*J$10*5+I13*J$11*4 -> 17028096 | K13: 235 | L13: =K13*L$9*3+K13*L$10*5+K13*L$11*4 -> 23366520 | M13: 617 | N13: =M13*N$9*3+M13*N$10*5+M13*N$11*4 -> 49821516 | O13: 0 | P13: =O13*P$9*3+O13*P$10*5+O13*P$11*4 -> 0 | Q13: 0 | R13: =Q13*R$9*3+Q13*R$10*5+Q13*R$11*4 -> 0 | S13: 0 | T13: =S13*T$9*3+S13*T$10*5+S13*T$11*4 -> 0 | U13: 0 | V13: =U13*V$9*3+U13*V$10*5+U13*V$11*4 -> 0 | W13: 0 | X13: =W13*X$9*3+W13*X$10*5+W13*X$11*4 -> 0 | Y13: 0 | Z13: =Y13*Z$9*3+Y13*Z$10*5+Y13*Z$11*4 -> 0 | AA13: 0 | AB13: =AA13*AB$9*3+AA13*AB$10*5+AA13*AB$11*4 -> 0 | AC13: 0 | AD13: =AC13*AD$9*3+AC13*AD$10*5+AC13*AD$11*4 -> 0 | AE13: 0 | AF13: =AE13*AF$9*3+AE13*AF$10*5+AE13*AF$11*4 -> 0 | AG13: 0 | AH13: =AG13*AH$9*3+AG13*AH$10*5+AG13*AH$11*4 -> 0 | AI13: 0 | AJ13: =AI13*AJ$9*3+AI13*AJ$10*5+AI13*AJ$11*4 -> 0 | AK13: 0 | AL13: =AK13*AL$9*3+AK13*AL$10*5+AK13*AL$11*4 -> 0 | AM13: 0 | AN13: =AM13*AN$9*3+AM13*AN$10*5+AM13*AN$11*4 -> 0 | AO13: 0 | AP13: =AO13*AP$9*3+AO13*AP$10*5+AO13*AP$11*4 -> 0 | AQ13: 0 | AR13: =AQ13*AR$9*3+AQ13*AR$10*5+AQ13*AR$11*4 -> 0 | AS13: 0 | AT13: =AS13*AT$9*3+AS13*AT$10*5+AS13*AT$11*4 -> 0 | AU13: 0 | AV13: =AU13*AV$9*3+AU13*AV$10*5+AU13*AV$11*4 -> 0 | AW13: 0 | AX13: =AW13*AX$9*3+AW13*AX$10*5+AW13*AX$11*4 -> 0 | AY13: 0 | AZ13: =AY13*AZ$9*3+AY13*AZ$10*5+AY13*AZ$11*4 -> 0 | BA13: 0 | BB13: =BA13*BB$9*3+BA13*BB$10*5+BA13*BB$11*4 -> 0 | BC13: 0 | BD13: =BC13*BD$9*3+BC13*BD$10*5+BC13*BD$11*4 -> 0 | BE13: 0 | BF13: =BE13*BF$9*3+BE13*BF$10*5+BE13*BF$11*4 -> 0 | BG13: 0 | BH13: =BG13*BH$9*3+BG13*BH$10*5+BG13*BH$11*4 -> 0 | BI13: 0 | BJ13: =BI13*BJ$9*3+BI13*BJ$10*5+BI13*BJ$11*4 -> 0 | BK13: 0 | BL13: =BK13*BL$9*3+BK13*BL$10*5+BK13*BL$11*4 -> 0 | BM13: 0 | BN13: =BM13*BN$9*3+BM13*BN$10*5+BM13*BN$11*4 -> 0 | BO13: 208 | BP13: =BO13*BP$9*3+BO13*BP$10*5+BO13*BP$11*4 -> 22923264 | BQ13: 558 | BR13: =BQ13*BR$9*3+BQ13*BR$10*5+BQ13*BR$11*4 -> 45338616 | BS13: 0 | BT13: =BS13*BT$9*3+BS13*BT$10*5+BS13*BT$11*4 -> 0 | BU13: 0 | BV13: =BU13*BV$9*3+BU13*BV$10*5+BU13*BV$11*4 -> 0 | BW13: 0 | BX13: =BW13*BX$9*3+BW13*BX$10*5+BW13*BX$11*4 -> 0 | BY13: 0 | BZ13: =BY13*BZ$9*3+BY13*BZ$10*5+BY13*BZ$11*4 -> 0 | CA13: 0 | CB13: =CA13*CB$9*3+CA13*CB$10*5+CA13*CB$11*4 -> 0 | CC13: 0 | CD13: =CC13*CD$9*3+CC13*CD$10*5+CC13*CD$11*4 -> 0 | CE13: 0 | CF13: =CE13*CF$9*3+CE13*CF$10*5+CE13*CF$11*4 -> 0 | CG13: 0 | CH13: =CG13*CH$9*3+CG13*CH$10*5+CG13*CH$11*4 -> 0 | CI13: 36 | CJ13: =CI13*CJ$9*3+CI13*CJ$10*5+CI13*CJ$11*4 -> 6052752 | CK13: 89 | CL13: =CK13*CL$9*3+CK13*CL$10*5+CK13*CL$11*4 -> 9808512 | CM13: 0 | CN13: =CM13*CN$9*3+CM13*CN$10*5+CM13*CN$11*4 -> 0 | CO13: 0 | CP13: =CO13*CP$9*3+CO13*CP$10*5+CO13*CP$11*4 -> 0 | CQ13: 0 | CR13: =CQ13*CR$9*3+CQ13*CR$10*5+CQ13*CR$11*4 -> 0 | CS13: 0 | CT13: =CS13*CT$9*3+CS13*CT$10*5+CS13*CT$11*4 -> 0 | CU13: 0 | CV13: =CU13*CV$9*3+CU13*CV$10*5+CU13*CV$11*4 -> 0 | CW13: 0 | CX13: =CW13*CX$9*3+CW13*CX$10*5+CW13*CX$11*4 -> 0 | CY13: 0 | CZ13: =CY13*CZ$9*3+CY13*CZ$10*5+CY13*CZ$11*4 -> 0 | DA13: 0 | DB13: =DA13*DB$9*3+DA13*DB$10*5+DA13*DB$11*4 -> 0 | DC13: 0 | DD13: =DC13*DD$9*3+DC13*DD$10*5+DC13*DD$11*4 -> 0 | DE13: 0 | DF13: =DE13*DF$9*3+DE13*DF$10*5+DE13*DF$11*4 -> 0 | DG13: 0 | DH13: =DG13*DH$9*3+DG13*DH$10*5+DG13*DH$11*4 -> 0 | DI13: 0 | DJ13: =DI13*DJ$9*3+DI13*DJ$10*5+DI13*DJ$11*4 -> 0 | DK13: 0 | DL13: =DK13*DL$9*3+DK13*DL$10*5+DK13*DL$11*4 -> 0 | DM13: 0 | DN13: =DM13*DN$9*3+DM13*DN$10*5+DM13*DN$11*4 -> 0 | DO13: 0 | DP13: =DO13*DP$9*3+DO13*DP$10*5+DO13*DP$11*4 -> 0 | DQ13: 0 | DR13: =DQ13*DR$9*3+DQ13*DR$10*5+DQ13*DR$11*4 -> 0 | DS13: 0 | DT13: =DS13*DT$9*3+DS13*DT$10*5+DS13*DT$11*4 -> 0 | DU13: 0 | DV13: =DU13*DV$9*3+DU13*DV$10*5+DU13*DV$11*4 -> 0 | DW13: 0 | DX13: =DW13*DX$9*3+DW13*DX$10*5+DW13*DX$11*4 -> 0 | DY13: 0 | DZ13: =DY13*DZ$9*3+DY13*DZ$10*5+DY13*DZ$11*4 -> 0 | EA13: 0 | EB13: =EA13*EB$9*3+EA13*EB$10*5+EA13*EB$11*4 -> 0 | EC13: 0 | ED13: =EC13*ED$9*3+EC13*ED$10*5+EC13*ED$11*4 -> 0 | EE13: 0 | EF13: =EE13*EF$9*3+EE13*EF$10*5+EE13*EF$11*4 -> 0 | EG13: 0 | EH13: =EG13*EH$9*3+EG13*EH$10*5+EG13*EH$11*4 -> 0 | EI13: 0 | EJ13: =EI13*EJ$9*3+EI13*EJ$10*5+EI13*EJ$11*4 -> 0 | EK13: 0 | EL13: =EK13*EL$9*3+EK13*EL$10*5+EK13*EL$11*4 -> 0 | EM13: =C13+W13+AQ13+BK13+CE13+CY13+DS13 -> 0 | EN13: =D13+X13+AR13+BL13+CF13+CZ13+DT13 -> 0 | EO13: =E13+Y13+AS13+BM13+CG13+DA13+DU13 -> 0 | EP13: =F13+Z13+AT13+BN13+CH13+DB13+DV13 -> 0 | EQ13: =G13+AA13+AU13+BO13+CI13+DC13+DW13 -> 343 | ER13: =H13+AB13+AV13+BP13+CJ13+DD13+DX13 -> 37590204 | ES13: =I13+AC13+AW13+BQ13+CK13+DE13+DY13 -> 888 | ET13: =J13+AD13+AX13+BR13+CL13+DF13+DZ13 -> 72175224 | ... FF13: =V13+AP13+BJ13+CD13+CX13+DR13+EL13 -> 0 | FG13: =EM13+EQ13+EU13+EY13+FC13 -> 578 | FH13: =EN13+ER13+EV13+EZ13+FD13 -> 60956724 | FI13: =EO13+ES13+EW13+FA13+FE13 -> 1505 | FJ13: =EP13+ET13+EX13+FB13+FF13 -> 121996740 | FK13: =FG13+FI13 -> 2083 | FL13: =FH13+FJ13 -> 182953464
A14: 3 | B14: Волховский | C14: 0 | D14: =C14*D$9*3+C14*D$10*5+C14*D$11*4 -> 0 | E14: 0 | F14: =E14*F$9*3+E14*F$10*5+E14*F$11*4 -> 0 | G14: 54 | H14: =G14*H$9*3+G14*H$10*5+G14*H$11*4 -> 4698648 | I14: 108 | J14: =I14*J$9*3+I14*J$10*5+I14*J$11*4 -> 7630848 | K14: 861 | L14: =K14*L$9*3+K14*L$10*5+K14*L$11*4 -> 85610952 | M14: 2050 | N14: =M14*N$9*3+M14*N$10*5+M14*N$11*4 -> 165533400 | O14: 10 | P14: =O14*P$9*3+O14*P$10*5+O14*P$11*4 -> 1160160 | Q14: 0 | R14: =Q14*R$9*3+Q14*R$10*5+Q14*R$11*4 -> 0 | S14: 0 | T14: =S14*T$9*3+S14*T$10*5+S14*T$11*4 -> 0 | U14: 37 | V14: =U14*V$9*3+U14*V$10*5+U14*V$11*4 -> 3485400 | W14: 0 | X14: =W14*X$9*3+W14*X$10*5+W14*X$11*4 -> 0 | Y14: 0 | Z14: =Y14*Z$9*3+Y14*Z$10*5+Y14*Z$11*4 -> 0 | AA14: 0 | AB14: =AA14*AB$9*3+AA14*AB$10*5+AA14*AB$11*4 -> 0 | AC14: 0 | AD14: =AC14*AD$9*3+AC14*AD$10*5+AC14*AD$11*4 -> 0 | AE14: 0 | AF14: =AE14*AF$9*3+AE14*AF$10*5+AE14*AF$11*4 -> 0 | AG14: 0 | AH14: =AG14*AH$9*3+AG14*AH$10*5+AG14*AH$11*4 -> 0 | AI14: 0 | AJ14: =AI14*AJ$9*3+AI14*AJ$10*5+AI14*AJ$11*4 -> 0 | AK14: 0 | AL14: =AK14*AL$9*3+AK14*AL$10*5+AK14*AL$11*4 -> 0 | AM14: 0 | AN14: =AM14*AN$9*3+AM14*AN$10*5+AM14*AN$11*4 -> 0 | AO14: 0 | AP14: =AO14*AP$9*3+AO14*AP$10*5+AO14*AP$11*4 -> 0 | AQ14: 0 | AR14: =AQ14*AR$9*3+AQ14*AR$10*5+AQ14*AR$11*4 -> 0 | AS14: 0 | AT14: =AS14*AT$9*3+AS14*AT$10*5+AS14*AT$11*4 -> 0 | AU14: 0 | AV14: =AU14*AV$9*3+AU14*AV$10*5+AU14*AV$11*4 -> 0 | AW14: 0 | AX14: =AW14*AX$9*3+AW14*AX$10*5+AW14*AX$11*4 -> 0 | AY14: 0 | AZ14: =AY14*AZ$9*3+AY14*AZ$10*5+AY14*AZ$11*4 -> 0 | BA14: 0 | BB14: =BA14*BB$9*3+BA14*BB$10*5+BA14*BB$11*4 -> 0 | BC14: 0 | BD14: =BC14*BD$9*3+BC14*BD$10*5+BC14*BD$11*4 -> 0 | BE14: 0 | BF14: =BE14*BF$9*3+BE14*BF$10*5+BE14*BF$11*4 -> 0 | BG14: 0 | BH14: =BG14*BH$9*3+BG14*BH$10*5+BG14*BH$11*4 -> 0 | BI14: 0 | BJ14: =BI14*BJ$9*3+BI14*BJ$10*5+BI14*BJ$11*4 -> 0 | BK14: 0 | BL14: =BK14*BL$9*3+BK14*BL$10*5+BK14*BL$11*4 -> 0 | BM14: 0 | BN14: =BM14*BN$9*3+BM14*BN$10*5+BM14*BN$11*4 -> 0 | BO14: 62 | BP14: =BO14*BP$9*3+BO14*BP$10*5+BO14*BP$11*4 -> 6832896 | BQ14: 149 | BR14: =BQ14*BR$9*3+BQ14*BR$10*5+BQ14*BR$11*4 -> 12106548 | BS14: 0 | BT14: =BS14*BT$9*3+BS14*BT$10*5+BS14*BT$11*4 -> 0 | BU14: 38 | BV14: =BU14*BV$9*3+BU14*BV$10*5+BU14*BV$11*4 -> 3528528 | BW14: 0 | BX14: =BW14*BX$9*3+BW14*BX$10*5+BW14*BX$11*4 -> 0 | BY14: 0 | BZ14: =BY14*BZ$9*3+BY14*BZ$10*5+BY14*BZ$11*4 -> 0 | CA14: 0 | CB14: =CA14*CB$9*3+CA14*CB$10*5+CA14*CB$11*4 -> 0 | CC14: 0 | CD14: =CC14*CD$9*3+CC14*CD$10*5+CC14*CD$11*4 -> 0 | CE14: 0 | CF14: =CE14*CF$9*3+CE14*CF$10*5+CE14*CF$11*4 -> 0 | CG14: 0 | CH14: =CG14*CH$9*3+CG14*CH$10*5+CG14*CH$11*4 -> 0 | CI14: 43 | CJ14: =CI14*CJ$9*3+CI14*CJ$10*5+CI14*CJ$11*4 -> 7229676 | CK14: 54 | CL14: =CK14*CL$9*3+CK14*CL$10*5+CK14*CL$11*4 -> 5951232 | CM14: 0 | CN14: =CM14*CN$9*3+CM14*CN$10*5+CM14*CN$11*4 -> 0 | CO14: 19 | CP14: =CO14*CP$9*3+CO14*CP$10*5+CO14*CP$11*4 -> 2393088 | CQ14: 0 | CR14: =CQ14*CR$9*3+CQ14*CR$10*5+CQ14*CR$11*4 -> 0 | CS14: 0 | CT14: =CS14*CT$9*3+CS14*CT$10*5+CS14*CT$11*4 -> 0 | CU14: 0 | CV14: =CU14*CV$9*3+CU14*CV$10*5+CU14*CV$11*4 -> 0 | CW14: 0 | CX14: =CW14*CX$9*3+CW14*CX$10*5+CW14*CX$11*4 -> 0 | CY14: 0 | CZ14: =CY14*CZ$9*3+CY14*CZ$10*5+CY14*CZ$11*4 -> 0 | DA14: 0 | DB14: =DA14*DB$9*3+DA14*DB$10*5+DA14*DB$11*4 -> 0 | DC14: 9 | DD14: =DC14*DD$9*3+DC14*DD$10*5+DC14*DD$11*4 -> 1538568 | DE14: 23 | DF14: =DE14*DF$9*3+DE14*DF$10*5+DE14*DF$11*4 -> 3867036 | DG14: 0 | DH14: =DG14*DH$9*3+DG14*DH$10*5+DG14*DH$11*4 -> 0 | DI14: 0 | DJ14: =DI14*DJ$9*3+DI14*DJ$10*5+DI14*DJ$11*4 -> 0 | DK14: 0 | DL14: =DK14*DL$9*3+DK14*DL$10*5+DK14*DL$11*4 -> 0 | DM14: 0 | DN14: =DM14*DN$9*3+DM14*DN$10*5+DM14*DN$11*4 -> 0 | DO14: 0 | DP14: =DO14*DP$9*3+DO14*DP$10*5+DO14*DP$11*4 -> 0 | DQ14: 0 | DR14: =DQ14*DR$9*3+DQ14*DR$10*5+DQ14*DR$11*4 -> 0 | DS14: 0 | DT14: =DS14*DT$9*3+DS14*DT$10*5+DS14*DT$11*4 -> 0 | DU14: 0 | DV14: =DU14*DV$9*3+DU14*DV$10*5+DU14*DV$11*4 -> 0 | DW14: 3 | DX14: =DW14*DX$9*3+DW14*DX$10*5+DW14*DX$11*4 -> 1194804 | DY14: 7 | DZ14: =DY14*DZ$9*3+DY14*DZ$10*5+DY14*DZ$11*4 -> 2748396 | EA14: 0 | EB14: =EA14*EB$9*3+EA14*EB$10*5+EA14*EB$11*4 -> 0 | EC14: 0 | ED14: =EC14*ED$9*3+EC14*ED$10*5+EC14*ED$11*4 -> 0 | EE14: 0 | EF14: =EE14*EF$9*3+EE14*EF$10*5+EE14*EF$11*4 -> 0 | EG14: 0 | EH14: =EG14*EH$9*3+EG14*EH$10*5+EG14*EH$11*4 -> 0 | EI14: 0 | EJ14: =EI14*EJ$9*3+EI14*EJ$10*5+EI14*EJ$11*4 -> 0 | EK14: 0 | EL14: =EK14*EL$9*3+EK14*EL$10*5+EK14*EL$11*4 -> 0 | EM14: =C14+W14+AQ14+BK14+CE14+CY14+DS14 -> 0 | EN14: =D14+X14+AR14+BL14+CF14+CZ14+DT14 -> 0 | EO14: =E14+Y14+AS14+BM14+CG14+DA14+DU14 -> 0 | EP14: =F14+Z14+AT14+BN14+CH14+DB14+DV14 -> 0 | EQ14: =G14+AA14+AU14+BO14+CI14+DC14+DW14 -> 171 | ER14: =H14+AB14+AV14+BP14+CJ14+DD14+DX14 -> 21494592 | ES14: =I14+AC14+AW14+BQ14+CK14+DE14+DY14 -> 341 | ET14: =J14+AD14+AX14+BR14+CL14+DF14+DZ14 -> 32304060 | ... FF14: =V14+AP14+BJ14+CD14+CX14+DR14+EL14 -> 3485400 | FG14: =EM14+EQ14+EU14+EY14+FC14 -> 1042 | FH14: =EN14+ER14+EV14+EZ14+FD14 -> 108265704 | FI14: =EO14+ES14+EW14+FA14+FE14 -> 2485 | FJ14: =EP14+ET14+EX14+FB14+FF14 -> 207244476 | FK14: =FG14+FI14 -> 3527 | FL14: =FH14+FJ14 -> 315510180
A15: 4 | B15: Всеволожский | C15: 163 | D15: =C15*D$9*3+C15*D$10*5+C15*D$11*4 -> 6754068 | E15: 0 | F15: =E15*F$9*3+E15*F$10*5+E15*F$11*4 -> 0 | G15: 0 | H15: =G15*H$9*3+G15*H$10*5+G15*H$11*4 -> 0 | I15: 0 | J15: =I15*J$9*3+I15*J$10*5+I15*J$11*4 -> 0 | K15: 680 | L15: =K15*L$9*3+K15*L$10*5+K15*L$11*4 -> 67613760 | M15: 12166 | N15: =M15*N$9*3+M15*N$10*5+M15*N$11*4 -> 982380168 | O15: 0 | P15: =O15*P$9*3+O15*P$10*5+O15*P$11*4 -> 0 | Q15: 0 | R15: =Q15*R$9*3+Q15*R$10*5+Q15*R$11*4 -> 0 | S15: 0 | T15: =S15*T$9*3+S15*T$10*5+S15*T$11*4 -> 0 | U15: 28 | V15: =U15*V$9*3+U15*V$10*5+U15*V$11*4 -> 2637600 | W15: 0 | X15: =W15*X$9*3+W15*X$10*5+W15*X$11*4 -> 0 | Y15: 0 | Z15: =Y15*Z$9*3+Y15*Z$10*5+Y15*Z$11*4 -> 0 | AA15: 0 | AB15: =AA15*AB$9*3+AA15*AB$10*5+AA15*AB$11*4 -> 0 | AC15: 0 | AD15: =AC15*AD$9*3+AC15*AD$10*5+AC15*AD$11*4 -> 0 | AE15: 0 | AF15: =AE15*AF$9*3+AE15*AF$10*5+AE15*AF$11*4 -> 0 | AG15: 0 | AH15: =AG15*AH$9*3+AG15*AH$10*5+AG15*AH$11*4 -> 0 | AI15: 0 | AJ15: =AI15*AJ$9*3+AI15*AJ$10*5+AI15*AJ$11*4 -> 0 | AK15: 0 | AL15: =AK15*AL$9*3+AK15*AL$10*5+AK15*AL$11*4 -> 0 | AM15: 0 | AN15: =AM15*AN$9*3+AM15*AN$10*5+AM15*AN$11*4 -> 0 | AO15: 0 | AP15: =AO15*AP$9*3+AO15*AP$10*5+AO15*AP$11*4 -> 0 | AQ15: 0 | AR15: =AQ15*AR$9*3+AQ15*AR$10*5+AQ15*AR$11*4 -> 0 | AS15: 0 | AT15: =AS15*AT$9*3+AS15*AT$10*5+AS15*AT$11*4 -> 0 | AU15: 0 | AV15: =AU15*AV$9*3+AU15*AV$10*5+AU15*AV$11*4 -> 0 | AW15: 0 | AX15: =AW15*AX$9*3+AW15*AX$10*5+AW15*AX$11*4 -> 0 | AY15: 0 | AZ15: =AY15*AZ$9*3+AY15*AZ$10*5+AY15*AZ$11*4 -> 0 | BA15: 0 | BB15: =BA15*BB$9*3+BA15*BB$10*5+BA15*BB$11*4 -> 0 | BC15: 0 | BD15: =BC15*BD$9*3+BC15*BD$10*5+BC15*BD$11*4 -> 0 | BE15: 0 | BF15: =BE15*BF$9*3+BE15*BF$10*5+BE15*BF$11*4 -> 0 | BG15: 0 | BH15: =BG15*BH$9*3+BG15*BH$10*5+BG15*BH$11*4 -> 0 | BI15: 0 | BJ15: =BI15*BJ$9*3+BI15*BJ$10*5+BI15*BJ$11*4 -> 0 | BK15: 0 | BL15: =BK15*BL$9*3+BK15*BL$10*5+BK15*BL$11*4 -> 0 | BM15: 0 | BN15: =BM15*BN$9*3+BM15*BN$10*5+BM15*BN$11*4 -> 0 | BO15: 0 | BP15: =BO15*BP$9*3+BO15*BP$10*5+BO15*BP$11*4 -> 0 | BQ15: 0 | BR15: =BQ15*BR$9*3+BQ15*BR$10*5+BQ15*BR$11*4 -> 0 | BS15: 0 | BT15: =BS15*BT$9*3+BS15*BT$10*5+BS15*BT$11*4 -> 0 | BU15: 142 | BV15: =BU15*BV$9*3+BU15*BV$10*5+BU15*BV$11*4 -> 13185552 | BW15: 0 | BX15: =BW15*BX$9*3+BW15*BX$10*5+BW15*BX$11*4 -> 0 | BY15: 0 | BZ15: =BY15*BZ$9*3+BY15*BZ$10*5+BY15*BZ$11*4 -> 0 | CA15: 0 | CB15: =CA15*CB$9*3+CA15*CB$10*5+CA15*CB$11*4 -> 0 | CC15: 0 | CD15: =CC15*CD$9*3+CC15*CD$10*5+CC15*CD$11*4 -> 0 | CE15: 0 | CF15: =CE15*CF$9*3+CE15*CF$10*5+CE15*CF$11*4 -> 0 | CG15: 0 | CH15: =CG15*CH$9*3+CG15*CH$10*5+CG15*CH$11*4 -> 0 | CI15: 0 | CJ15: =CI15*CJ$9*3+CI15*CJ$10*5+CI15*CJ$11*4 -> 0 | CK15: 0 | CL15: =CK15*CL$9*3+CK15*CL$10*5+CK15*CL$11*4 -> 0 | CM15: 0 | CN15: =CM15*CN$9*3+CM15*CN$10*5+CM15*CN$11*4 -> 0 | CO15: 0 | CP15: =CO15*CP$9*3+CO15*CP$10*5+CO15*CP$11*4 -> 0 | CQ15: 0 | CR15: =CQ15*CR$9*3+CQ15*CR$10*5+CQ15*CR$11*4 -> 0 | CS15: 0 | CT15: =CS15*CT$9*3+CS15*CT$10*5+CS15*CT$11*4 -> 0 | CU15: 0 | CV15: =CU15*CV$9*3+CU15*CV$10*5+CU15*CV$11*4 -> 0 | CW15: 0 | CX15: =CW15*CX$9*3+CW15*CX$10*5+CW15*CX$11*4 -> 0 | CY15: 0 | CZ15: =CY15*CZ$9*3+CY15*CZ$10*5+CY15*CZ$11*4 -> 0 | DA15: 0 | DB15: =DA15*DB$9*3+DA15*DB$10*5+DA15*DB$11*4 -> 0 | DC15: 0 | DD15: =DC15*DD$9*3+DC15*DD$10*5+DC15*DD$11*4 -> 0 | DE15: 0 | DF15: =DE15*DF$9*3+DE15*DF$10*5+DE15*DF$11*4 -> 0 | DG15: 0 | DH15: =DG15*DH$9*3+DG15*DH$10*5+DG15*DH$11*4 -> 0 | DI15: 0 | DJ15: =DI15*DJ$9*3+DI15*DJ$10*5+DI15*DJ$11*4 -> 0 | DK15: 0 | DL15: =DK15*DL$9*3+DK15*DL$10*5+DK15*DL$11*4 -> 0 | DM15: 0 | DN15: =DM15*DN$9*3+DM15*DN$10*5+DM15*DN$11*4 -> 0 | DO15: 0 | DP15: =DO15*DP$9*3+DO15*DP$10*5+DO15*DP$11*4 -> 0 | DQ15: 0 | DR15: =DQ15*DR$9*3+DQ15*DR$10*5+DQ15*DR$11*4 -> 0 | DS15: 0 | DT15: =DS15*DT$9*3+DS15*DT$10*5+DS15*DT$11*4 -> 0 | DU15: 0 | DV15: =DU15*DV$9*3+DU15*DV$10*5+DU15*DV$11*4 -> 0 | DW15: 0 | DX15: =DW15*DX$9*3+DW15*DX$10*5+DW15*DX$11*4 -> 0 | DY15: 0 | DZ15: =DY15*DZ$9*3+DY15*DZ$10*5+DY15*DZ$11*4 -> 0 | EA15: 0 | EB15: =EA15*EB$9*3+EA15*EB$10*5+EA15*EB$11*4 -> 0 | EC15: 0 | ED15: =EC15*ED$9*3+EC15*ED$10*5+EC15*ED$11*4 -> 0 | EE15: 0 | EF15: =EE15*EF$9*3+EE15*EF$10*5+EE15*EF$11*4 -> 0 | EG15: 0 | EH15: =EG15*EH$9*3+EG15*EH$10*5+EG15*EH$11*4 -> 0 | EI15: 0 | EJ15: =EI15*EJ$9*3+EI15*EJ$10*5+EI15*EJ$11*4 -> 0 | EK15: 0 | EL15: =EK15*EL$9*3+EK15*EL$10*5+EK15*EL$11*4 -> 0 | EM15: =C15+W15+AQ15+BK15+CE15+CY15+DS15 -> 163 | EN15: =D15+X15+AR15+BL15+CF15+CZ15+DT15 -> 6754068 | EO15: =E15+Y15+AS15+BM15+CG15+DA15+DU15 -> 0 | EP15: =F15+Z15+AT15+BN15+CH15+DB15+DV15 -> 0 | EQ15: =G15+AA15+AU15+BO15+CI15+DC15+DW15 -> 0 | ER15: =H15+AB15+AV15+BP15+CJ15+DD15+DX15 -> 0 | ES15: =I15+AC15+AW15+BQ15+CK15+DE15+DY15 -> 0 | ET15: =J15+AD15+AX15+BR15+CL15+DF15+DZ15 -> 0 | ... FF15: =V15+AP15+BJ15+CD15+CX15+DR15+EL15 -> 2637600 | FG15: =EM15+EQ15+EU15+EY15+FC15 -> 843 | FH15: =EN15+ER15+EV15+EZ15+FD15 -> 74367828 | FI15: =EO15+ES15+EW15+FA15+FE15 -> 12336 | FJ15: =EP15+ET15+EX15+FB15+FF15 -> 998203320 | FK15: =FG15+FI15 -> 13179 | FL15: =FH15+FJ15 -> 1072571148
A16: 5 | B16: Выборгский | C16: 0 | D16: =C16*D$9*3+C16*D$10*5+C16*D$11*4 -> 0 | E16: 0 | F16: =E16*F$9*3+E16*F$10*5+E16*F$11*4 -> 0 | G16: 521 | H16: =G16*H$9*3+G16*H$10*5+G16*H$11*4 -> 45333252 | I16: 1482 | J16: =I16*J$9*3+I16*J$10*5+I16*J$11*4 -> 104712192 | K16: 1206 | L16: =K16*L$9*3+K16*L$10*5+K16*L$11*4 -> 119914992 | M16: 3176 | N16: =M16*N$9*3+M16*N$10*5+M16*N$11*4 -> 256455648 | O16: 0 | P16: =O16*P$9*3+O16*P$10*5+O16*P$11*4 -> 0 | Q16: 0 | R16: =Q16*R$9*3+Q16*R$10*5+Q16*R$11*4 -> 0 | S16: 0 | T16: =S16*T$9*3+S16*T$10*5+S16*T$11*4 -> 0 | U16: 23 | V16: =U16*V$9*3+U16*V$10*5+U16*V$11*4 -> 2166600 | W16: 0 | X16: =W16*X$9*3+W16*X$10*5+W16*X$11*4 -> 0 | Y16: 0 | Z16: =Y16*Z$9*3+Y16*Z$10*5+Y16*Z$11*4 -> 0 | AA16: 32 | AB16: =AA16*AB$9*3+AA16*AB$10*5+AA16*AB$11*4 -> 3526656 | AC16: 64 | AD16: =AC16*AD$9*3+AC16*AD$10*5+AC16*AD$11*4 -> 5200128 | AE16: 24 | AF16: =AE16*AF$9*3+AE16*AF$10*5+AE16*AF$11*4 -> 3022848 | AG16: 87 | AH16: =AG16*AH$9*3+AG16*AH$10*5+AG16*AH$11*4 -> 8078472 | AI16: 0 | AJ16: =AI16*AJ$9*3+AI16*AJ$10*5+AI16*AJ$11*4 -> 0 | AK16: 0 | AL16: =AK16*AL$9*3+AK16*AL$10*5+AK16*AL$11*4 -> 0 | AM16: 0 | AN16: =AM16*AN$9*3+AM16*AN$10*5+AM16*AN$11*4 -> 0 | AO16: 0 | AP16: =AO16*AP$9*3+AO16*AP$10*5+AO16*AP$11*4 -> 0 | AQ16: 0 | AR16: =AQ16*AR$9*3+AQ16*AR$10*5+AQ16*AR$11*4 -> 0 | AS16: 0 | AT16: =AS16*AT$9*3+AS16*AT$10*5+AS16*AT$11*4 -> 0 | AU16: 0 | AV16: =AU16*AV$9*3+AU16*AV$10*5+AU16*AV$11*4 -> 0 | AW16: 0 | AX16: =AW16*AX$9*3+AW16*AX$10*5+AW16*AX$11*4 -> 0 | AY16: 0 | AZ16: =AY16*AZ$9*3+AY16*AZ$10*5+AY16*AZ$11*4 -> 0 | BA16: 0 | BB16: =BA16*BB$9*3+BA16*BB$10*5+BA16*BB$11*4 -> 0 | BC16: 0 | BD16: =BC16*BD$9*3+BC16*BD$10*5+BC16*BD$11*4 -> 0 | BE16: 0 | BF16: =BE16*BF$9*3+BE16*BF$10*5+BE16*BF$11*4 -> 0 | BG16: 0 | BH16: =BG16*BH$9*3+BG16*BH$10*5+BG16*BH$11*4 -> 0 | BI16: 0 | BJ16: =BI16*BJ$9*3+BI16*BJ$10*5+BI16*BJ$11*4 -> 0 | BK16: 0 | BL16: =BK16*BL$9*3+BK16*BL$10*5+BK16*BL$11*4 -> 0 | BM16: 0 | BN16: =BM16*BN$9*3+BM16*BN$10*5+BM16*BN$11*4 -> 0 | BO16: 53 | BP16: =BO16*BP$9*3+BO16*BP$10*5+BO16*BP$11*4 -> 5841024 | BQ16: 9 | BR16: =BQ16*BR$9*3+BQ16*BR$10*5+BQ16*BR$11*4 -> 731268 | BS16: 147 | BT16: =BS16*BT$9*3+BS16*BT$10*5+BS16*BT$11*4 -> 18514944 | BU16: 425 | BV16: =BU16*BV$9*3+BU16*BV$10*5+BU16*BV$11*4 -> 39463800 | BW16: 0 | BX16: =BW16*BX$9*3+BW16*BX$10*5+BW16*BX$11*4 -> 0 | BY16: 0 | BZ16: =BY16*BZ$9*3+BY16*BZ$10*5+BY16*BZ$11*4 -> 0 | CA16: 0 | CB16: =CA16*CB$9*3+CA16*CB$10*5+CA16*CB$11*4 -> 0 | CC16: 0 | CD16: =CC16*CD$9*3+CC16*CD$10*5+CC16*CD$11*4 -> 0 | CE16: 0 | CF16: =CE16*CF$9*3+CE16*CF$10*5+CE16*CF$11*4 -> 0 | CG16: 0 | CH16: =CG16*CH$9*3+CG16*CH$10*5+CG16*CH$11*4 -> 0 | CI16: 10 | CJ16: =CI16*CJ$9*3+CI16*CJ$10*5+CI16*CJ$11*4 -> 1681320 | CK16: 30 | CL16: =CK16*CL$9*3+CK16*CL$10*5+CK16*CL$11*4 -> 3306240 | CM16: 74 | CN16: =CM16*CN$9*3+CM16*CN$10*5+CM16*CN$11*4 -> 14219544 | CO16: 67 | CP16: =CO16*CP$9*3+CO16*CP$10*5+CO16*CP$11*4 -> 8438784 | CQ16: 0 | CR16: =CQ16*CR$9*3+CQ16*CR$10*5+CQ16*CR$11*4 -> 0 | CS16: 0 | CT16: =CS16*CT$9*3+CS16*CT$10*5+CS16*CT$11*4 -> 0 | CU16: 0 | CV16: =CU16*CV$9*3+CU16*CV$10*5+CU16*CV$11*4 -> 0 | CW16: 21 | CX16: =CW16*CX$9*3+CW16*CX$10*5+CW16*CX$11*4 -> 3085992 | CY16: 0 | CZ16: =CY16*CZ$9*3+CY16*CZ$10*5+CY16*CZ$11*4 -> 0 | DA16: 0 | DB16: =DA16*DB$9*3+DA16*DB$10*5+DA16*DB$11*4 -> 0 | DC16: 0 | DD16: =DC16*DD$9*3+DC16*DD$10*5+DC16*DD$11*4 -> 0 | DE16: 0 | DF16: =DE16*DF$9*3+DE16*DF$10*5+DE16*DF$11*4 -> 0 | DG16: 1 | DH16: =DG16*DH$9*3+DG16*DH$10*5+DG16*DH$11*4 -> 195372 | DI16: 20 | DJ16: =DI16*DJ$9*3+DI16*DJ$10*5+DI16*DJ$11*4 -> 3843120 | DK16: 0 | DL16: =DK16*DL$9*3+DK16*DL$10*5+DK16*DL$11*4 -> 0 | DM16: 0 | DN16: =DM16*DN$9*3+DM16*DN$10*5+DM16*DN$11*4 -> 0 | DO16: 0 | DP16: =DO16*DP$9*3+DO16*DP$10*5+DO16*DP$11*4 -> 0 | DQ16: 0 | DR16: =DQ16*DR$9*3+DQ16*DR$10*5+DQ16*DR$11*4 -> 0 | DS16: 0 | DT16: =DS16*DT$9*3+DS16*DT$10*5+DS16*DT$11*4 -> 0 | DU16: 0 | DV16: =DU16*DV$9*3+DU16*DV$10*5+DU16*DV$11*4 -> 0 | DW16: 0 | DX16: =DW16*DX$9*3+DW16*DX$10*5+DW16*DX$11*4 -> 0 | DY16: 0 | DZ16: =DY16*DZ$9*3+DY16*DZ$10*5+DY16*DZ$11*4 -> 0 | EA16: 0 | EB16: =EA16*EB$9*3+EA16*EB$10*5+EA16*EB$11*4 -> 0 | EC16: 0 | ED16: =EC16*ED$9*3+EC16*ED$10*5+EC16*ED$11*4 -> 0 | EE16: 0 | EF16: =EE16*EF$9*3+EE16*EF$10*5+EE16*EF$11*4 -> 0 | EG16: 0 | EH16: =EG16*EH$9*3+EG16*EH$10*5+EG16*EH$11*4 -> 0 | EI16: 0 | EJ16: =EI16*EJ$9*3+EI16*EJ$10*5+EI16*EJ$11*4 -> 0 | EK16: 0 | EL16: =EK16*EL$9*3+EK16*EL$10*5+EK16*EL$11*4 -> 0 | EM16: =C16+W16+AQ16+BK16+CE16+CY16+DS16 -> 0 | EN16: =D16+X16+AR16+BL16+CF16+CZ16+DT16 -> 0 | EO16: =E16+Y16+AS16+BM16+CG16+DA16+DU16 -> 0 | EP16: =F16+Z16+AT16+BN16+CH16+DB16+DV16 -> 0 | EQ16: =G16+AA16+AU16+BO16+CI16+DC16+DW16 -> 616 | ER16: =H16+AB16+AV16+BP16+CJ16+DD16+DX16 -> 56382252 | ES16: =I16+AC16+AW16+BQ16+CK16+DE16+DY16 -> 1585 | ET16: =J16+AD16+AX16+BR16+CL16+DF16+DZ16 -> 113949828 | ... FF16: =V16+AP16+BJ16+CD16+CX16+DR16+EL16 -> 5252592 | FG16: =EM16+EQ16+EU16+EY16+FC16 -> 2068 | FH16: =EN16+ER16+EV16+EZ16+FD16 -> 212249952 | FI16: =EO16+ES16+EW16+FA16+FE16 -> 5404 | FJ16: =EP16+ET16+EX16+FB16+FF16 -> 435482244 | FK16: =FG16+FI16 -> 7472 | FL16: =FH16+FJ16 -> 647732196
A17: 6 | B17: Гатчинский | C17: 0 | D17: =C17*D$9*3+C17*D$10*5+C17*D$11*4 -> 0 | E17: 0 | F17: =E17*F$9*3+E17*F$10*5+E17*F$11*4 -> 0 | G17: 0 | H17: =G17*H$9*3+G17*H$10*5+G17*H$11*4 -> 0 | I17: 559 | J17: =I17*J$9*3+I17*J$10*5+I17*J$11*4 -> 39496704 | K17: 1385 | L17: =K17*L$9*3+K17*L$10*5+K17*L$11*4 -> 137713320 | M17: 5081 | N17: =M17*N$9*3+M17*N$10*5+M17*N$11*4 -> 410280588 | O17: 0 | P17: =O17*P$9*3+O17*P$10*5+O17*P$11*4 -> 0 | Q17: 0 | R17: =Q17*R$9*3+Q17*R$10*5+Q17*R$11*4 -> 0 | S17: 0 | T17: =S17*T$9*3+S17*T$10*5+S17*T$11*4 -> 0 | U17: 20 | V17: =U17*V$9*3+U17*V$10*5+U17*V$11*4 -> 1884000 | W17: 0 | X17: =W17*X$9*3+W17*X$10*5+W17*X$11*4 -> 0 | Y17: 0 | Z17: =Y17*Z$9*3+Y17*Z$10*5+Y17*Z$11*4 -> 0 | AA17: 0 | AB17: =AA17*AB$9*3+AA17*AB$10*5+AA17*AB$11*4 -> 0 | AC17: 22 | AD17: =AC17*AD$9*3+AC17*AD$10*5+AC17*AD$11*4 -> 1787544 | AE17: 66 | AF17: =AE17*AF$9*3+AE17*AF$10*5+AE17*AF$11*4 -> 8312832 | AG17: 80 | AH17: =AG17*AH$9*3+AG17*AH$10*5+AG17*AH$11*4 -> 7428480 | AI17: 0 | AJ17: =AI17*AJ$9*3+AI17*AJ$10*5+AI17*AJ$11*4 -> 0 | AK17: 0 | AL17: =AK17*AL$9*3+AK17*AL$10*5+AK17*AL$11*4 -> 0 | AM17: 0 | AN17: =AM17*AN$9*3+AM17*AN$10*5+AM17*AN$11*4 -> 0 | AO17: 22 | AP17: =AO17*AP$9*3+AO17*AP$10*5+AO17*AP$11*4 -> 2383392 | AQ17: 0 | AR17: =AQ17*AR$9*3+AQ17*AR$10*5+AQ17*AR$11*4 -> 0 | AS17: 0 | AT17: =AS17*AT$9*3+AS17*AT$10*5+AS17*AT$11*4 -> 0 | AU17: 0 | AV17: =AU17*AV$9*3+AU17*AV$10*5+AU17*AV$11*4 -> 0 | AW17: 0 | AX17: =AW17*AX$9*3+AW17*AX$10*5+AW17*AX$11*4 -> 0 | AY17: 0 | AZ17: =AY17*AZ$9*3+AY17*AZ$10*5+AY17*AZ$11*4 -> 0 | BA17: 0 | BB17: =BA17*BB$9*3+BA17*BB$10*5+BA17*BB$11*4 -> 0 | BC17: 0 | BD17: =BC17*BD$9*3+BC17*BD$10*5+BC17*BD$11*4 -> 0 | BE17: 0 | BF17: =BE17*BF$9*3+BE17*BF$10*5+BE17*BF$11*4 -> 0 | BG17: 0 | BH17: =BG17*BH$9*3+BG17*BH$10*5+BG17*BH$11*4 -> 0 | BI17: 0 | BJ17: =BI17*BJ$9*3+BI17*BJ$10*5+BI17*BJ$11*4 -> 0 | BK17: 0 | BL17: =BK17*BL$9*3+BK17*BL$10*5+BK17*BL$11*4 -> 0 | BM17: 0 | BN17: =BM17*BN$9*3+BM17*BN$10*5+BM17*BN$11*4 -> 0 | BO17: 0 | BP17: =BO17*BP$9*3+BO17*BP$10*5+BO17*BP$11*4 -> 0 | BQ17: 67 | BR17: =BQ17*BR$9*3+BQ17*BR$10*5+BQ17*BR$11*4 -> 5443884 | BS17: 191 | BT17: =BS17*BT$9*3+BS17*BT$10*5+BS17*BT$11*4 -> 24056832 | BU17: 413 | BV17: =BU17*BV$9*3+BU17*BV$10*5+BU17*BV$11*4 -> 38349528 | BW17: 0 | BX17: =BW17*BX$9*3+BW17*BX$10*5+BW17*BX$11*4 -> 0 | BY17: 0 | BZ17: =BY17*BZ$9*3+BY17*BZ$10*5+BY17*BZ$11*4 -> 0 | CA17: 0 | CB17: =CA17*CB$9*3+CA17*CB$10*5+CA17*CB$11*4 -> 0 | CC17: 15 | CD17: =CC17*CD$9*3+CC17*CD$10*5+CC17*CD$11*4 -> 1625040 | CE17: 0 | CF17: =CE17*CF$9*3+CE17*CF$10*5+CE17*CF$11*4 -> 0 | CG17: 0 | CH17: =CG17*CH$9*3+CG17*CH$10*5+CG17*CH$11*4 -> 0 | CI17: 0 | CJ17: =CI17*CJ$9*3+CI17*CJ$10*5+CI17*CJ$11*4 -> 0 | CK17: 14 | CL17: =CK17*CL$9*3+CK17*CL$10*5+CK17*CL$11*4 -> 1542912 | CM17: 0 | CN17: =CM17*CN$9*3+CM17*CN$10*5+CM17*CN$11*4 -> 0 | CO17: 41 | CP17: =CO17*CP$9*3+CO17*CP$10*5+CO17*CP$11*4 -> 5164032 | CQ17: 0 | CR17: =CQ17*CR$9*3+CQ17*CR$10*5+CQ17*CR$11*4 -> 0 | CS17: 0 | CT17: =CS17*CT$9*3+CS17*CT$10*5+CS17*CT$11*4 -> 0 | CU17: 0 | CV17: =CU17*CV$9*3+CU17*CV$10*5+CU17*CV$11*4 -> 0 | CW17: 0 | CX17: =CW17*CX$9*3+CW17*CX$10*5+CW17*CX$11*4 -> 0 | CY17: 0 | CZ17: =CY17*CZ$9*3+CY17*CZ$10*5+CY17*CZ$11*4 -> 0 | DA17: 0 | DB17: =DA17*DB$9*3+DA17*DB$10*5+DA17*DB$11*4 -> 0 | DC17: 0 | DD17: =DC17*DD$9*3+DC17*DD$10*5+DC17*DD$11*4 -> 0 | DE17: 0 | DF17: =DE17*DF$9*3+DE17*DF$10*5+DE17*DF$11*4 -> 0 | DG17: 0 | DH17: =DG17*DH$9*3+DG17*DH$10*5+DG17*DH$11*4 -> 0 | DI17: 0 | DJ17: =DI17*DJ$9*3+DI17*DJ$10*5+DI17*DJ$11*4 -> 0 | DK17: 0 | DL17: =DK17*DL$9*3+DK17*DL$10*5+DK17*DL$11*4 -> 0 | DM17: 0 | DN17: =DM17*DN$9*3+DM17*DN$10*5+DM17*DN$11*4 -> 0 | DO17: 0 | DP17: =DO17*DP$9*3+DO17*DP$10*5+DO17*DP$11*4 -> 0 | DQ17: 0 | DR17: =DQ17*DR$9*3+DQ17*DR$10*5+DQ17*DR$11*4 -> 0 | DS17: 0 | DT17: =DS17*DT$9*3+DS17*DT$10*5+DS17*DT$11*4 -> 0 | DU17: 0 | DV17: =DU17*DV$9*3+DU17*DV$10*5+DU17*DV$11*4 -> 0 | DW17: 0 | DX17: =DW17*DX$9*3+DW17*DX$10*5+DW17*DX$11*4 -> 0 | DY17: 0 | DZ17: =DY17*DZ$9*3+DY17*DZ$10*5+DY17*DZ$11*4 -> 0 | EA17: 0 | EB17: =EA17*EB$9*3+EA17*EB$10*5+EA17*EB$11*4 -> 0 | EC17: 0 | ED17: =EC17*ED$9*3+EC17*ED$10*5+EC17*ED$11*4 -> 0 | EE17: 0 | EF17: =EE17*EF$9*3+EE17*EF$10*5+EE17*EF$11*4 -> 0 | EG17: 0 | EH17: =EG17*EH$9*3+EG17*EH$10*5+EG17*EH$11*4 -> 0 | EI17: 0 | EJ17: =EI17*EJ$9*3+EI17*EJ$10*5+EI17*EJ$11*4 -> 0 | EK17: 0 | EL17: =EK17*EL$9*3+EK17*EL$10*5+EK17*EL$11*4 -> 0 | EM17: =C17+W17+AQ17+BK17+CE17+CY17+DS17 -> 0 | EN17: =D17+X17+AR17+BL17+CF17+CZ17+DT17 -> 0 | EO17: =E17+Y17+AS17+BM17+CG17+DA17+DU17 -> 0 | EP17: =F17+Z17+AT17+BN17+CH17+DB17+DV17 -> 0 | EQ17: =G17+AA17+AU17+BO17+CI17+DC17+DW17 -> 0 | ER17: =H17+AB17+AV17+BP17+CJ17+DD17+DX17 -> 0 | ES17: =I17+AC17+AW17+BQ17+CK17+DE17+DY17 -> 662 | ET17: =J17+AD17+AX17+BR17+CL17+DF17+DZ17 -> 48271044 | ... FF17: =V17+AP17+BJ17+CD17+CX17+DR17+EL17 -> 5892432 | FG17: =EM17+EQ17+EU17+EY17+FC17 -> 1642 | FH17: =EN17+ER17+EV17+EZ17+FD17 -> 170082984 | FI17: =EO17+ES17+EW17+FA17+FE17 -> 6334 | FJ17: =EP17+ET17+EX17+FB17+FF17 -> 515386104 | FK17: =FG17+FI17 -> 7976 | FL17: =FH17+FJ17 -> 685469088
A18: 7 | B18: Кингисеппский | C18: 0 | D18: =C18*D$9*3+C18*D$10*5+C18*D$11*4 -> 0 | E18: 0 | F18: =E18*F$9*3+E18*F$10*5+E18*F$11*4 -> 0 | G18: 644 | H18: =G18*H$9*3+G18*H$10*5+G18*H$11*4 -> 56035728 | I18: 1531 | J18: =I18*J$9*3+I18*J$10*5+I18*J$11*4 -> 108174336 | K18: 295 | L18: =K18*L$9*3+K18*L$10*5+K18*L$11*4 -> 29332440 | M18: 1044 | N18: =M18*N$9*3+M18*N$10*5+M18*N$11*4 -> 84300912 | O18: 0 | P18: =O18*P$9*3+O18*P$10*5+O18*P$11*4 -> 0 | Q18: 0 | R18: =Q18*R$9*3+Q18*R$10*5+Q18*R$11*4 -> 0 | S18: 0 | T18: =S18*T$9*3+S18*T$10*5+S18*T$11*4 -> 0 | U18: 16 | V18: =U18*V$9*3+U18*V$10*5+U18*V$11*4 -> 1507200 | W18: 0 | X18: =W18*X$9*3+W18*X$10*5+W18*X$11*4 -> 0 | Y18: 0 | Z18: =Y18*Z$9*3+Y18*Z$10*5+Y18*Z$11*4 -> 0 | AA18: 0 | AB18: =AA18*AB$9*3+AA18*AB$10*5+AA18*AB$11*4 -> 0 | AC18: 0 | AD18: =AC18*AD$9*3+AC18*AD$10*5+AC18*AD$11*4 -> 0 | AE18: 0 | AF18: =AE18*AF$9*3+AE18*AF$10*5+AE18*AF$11*4 -> 0 | AG18: 0 | AH18: =AG18*AH$9*3+AG18*AH$10*5+AG18*AH$11*4 -> 0 | AI18: 0 | AJ18: =AI18*AJ$9*3+AI18*AJ$10*5+AI18*AJ$11*4 -> 0 | AK18: 0 | AL18: =AK18*AL$9*3+AK18*AL$10*5+AK18*AL$11*4 -> 0 | AM18: 0 | AN18: =AM18*AN$9*3+AM18*AN$10*5+AM18*AN$11*4 -> 0 | AO18: 0 | AP18: =AO18*AP$9*3+AO18*AP$10*5+AO18*AP$11*4 -> 0 | AQ18: 0 | AR18: =AQ18*AR$9*3+AQ18*AR$10*5+AQ18*AR$11*4 -> 0 | AS18: 0 | AT18: =AS18*AT$9*3+AS18*AT$10*5+AS18*AT$11*4 -> 0 | AU18: 0 | AV18: =AU18*AV$9*3+AU18*AV$10*5+AU18*AV$11*4 -> 0 | AW18: 0 | AX18: =AW18*AX$9*3+AW18*AX$10*5+AW18*AX$11*4 -> 0 | AY18: 0 | AZ18: =AY18*AZ$9*3+AY18*AZ$10*5+AY18*AZ$11*4 -> 0 | BA18: 0 | BB18: =BA18*BB$9*3+BA18*BB$10*5+BA18*BB$11*4 -> 0 | BC18: 0 | BD18: =BC18*BD$9*3+BC18*BD$10*5+BC18*BD$11*4 -> 0 | BE18: 0 | BF18: =BE18*BF$9*3+BE18*BF$10*5+BE18*BF$11*4 -> 0 | BG18: 0 | BH18: =BG18*BH$9*3+BG18*BH$10*5+BG18*BH$11*4 -> 0 | BI18: 0 | BJ18: =BI18*BJ$9*3+BI18*BJ$10*5+BI18*BJ$11*4 -> 0 | BK18: 0 | BL18: =BK18*BL$9*3+BK18*BL$10*5+BK18*BL$11*4 -> 0 | BM18: 0 | BN18: =BM18*BN$9*3+BM18*BN$10*5+BM18*BN$11*4 -> 0 | BO18: 71 | BP18: =BO18*BP$9*3+BO18*BP$10*5+BO18*BP$11*4 -> 7824768 | BQ18: 158 | BR18: =BQ18*BR$9*3+BQ18*BR$10*5+BQ18*BR$11*4 -> 12837816 | BS18: 17 | BT18: =BS18*BT$9*3+BS18*BT$10*5+BS18*BT$11*4 -> 2141184 | BU18: 83 | BV18: =BU18*BV$9*3+BU18*BV$10*5+BU18*BV$11*4 -> 7707048 | BW18: 0 | BX18: =BW18*BX$9*3+BW18*BX$10*5+BW18*BX$11*4 -> 0 | BY18: 0 | BZ18: =BY18*BZ$9*3+BY18*BZ$10*5+BY18*BZ$11*4 -> 0 | CA18: 0 | CB18: =CA18*CB$9*3+CA18*CB$10*5+CA18*CB$11*4 -> 0 | CC18: 0 | CD18: =CC18*CD$9*3+CC18*CD$10*5+CC18*CD$11*4 -> 0 | CE18: 0 | CF18: =CE18*CF$9*3+CE18*CF$10*5+CE18*CF$11*4 -> 0 | CG18: 0 | CH18: =CG18*CH$9*3+CG18*CH$10*5+CG18*CH$11*4 -> 0 | CI18: 15 | CJ18: =CI18*CJ$9*3+CI18*CJ$10*5+CI18*CJ$11*4 -> 2521980 | CK18: 50 | CL18: =CK18*CL$9*3+CK18*CL$10*5+CK18*CL$11*4 -> 5510400 | CM18: 13 | CN18: =CM18*CN$9*3+CM18*CN$10*5+CM18*CN$11*4 -> 2498028 | CO18: 18 | CP18: =CO18*CP$9*3+CO18*CP$10*5+CO18*CP$11*4 -> 2267136 | CQ18: 0 | CR18: =CQ18*CR$9*3+CQ18*CR$10*5+CQ18*CR$11*4 -> 0 | CS18: 0 | CT18: =CS18*CT$9*3+CS18*CT$10*5+CS18*CT$11*4 -> 0 | CU18: 0 | CV18: =CU18*CV$9*3+CU18*CV$10*5+CU18*CV$11*4 -> 0 | CW18: 0 | CX18: =CW18*CX$9*3+CW18*CX$10*5+CW18*CX$11*4 -> 0 | CY18: 0 | CZ18: =CY18*CZ$9*3+CY18*CZ$10*5+CY18*CZ$11*4 -> 0 | DA18: 0 | DB18: =DA18*DB$9*3+DA18*DB$10*5+DA18*DB$11*4 -> 0 | DC18: 0 | DD18: =DC18*DD$9*3+DC18*DD$10*5+DC18*DD$11*4 -> 0 | DE18: 0 | DF18: =DE18*DF$9*3+DE18*DF$10*5+DE18*DF$11*4 -> 0 | DG18: 0 | DH18: =DG18*DH$9*3+DG18*DH$10*5+DG18*DH$11*4 -> 0 | DI18: 0 | DJ18: =DI18*DJ$9*3+DI18*DJ$10*5+DI18*DJ$11*4 -> 0 | DK18: 0 | DL18: =DK18*DL$9*3+DK18*DL$10*5+DK18*DL$11*4 -> 0 | DM18: 0 | DN18: =DM18*DN$9*3+DM18*DN$10*5+DM18*DN$11*4 -> 0 | DO18: 0 | DP18: =DO18*DP$9*3+DO18*DP$10*5+DO18*DP$11*4 -> 0 | DQ18: 0 | DR18: =DQ18*DR$9*3+DQ18*DR$10*5+DQ18*DR$11*4 -> 0 | DS18: 0 | DT18: =DS18*DT$9*3+DS18*DT$10*5+DS18*DT$11*4 -> 0 | DU18: 0 | DV18: =DU18*DV$9*3+DU18*DV$10*5+DU18*DV$11*4 -> 0 | DW18: 0 | DX18: =DW18*DX$9*3+DW18*DX$10*5+DW18*DX$11*4 -> 0 | DY18: 0 | DZ18: =DY18*DZ$9*3+DY18*DZ$10*5+DY18*DZ$11*4 -> 0 | EA18: 0 | EB18: =EA18*EB$9*3+EA18*EB$10*5+EA18*EB$11*4 -> 0 | EC18: 0 | ED18: =EC18*ED$9*3+EC18*ED$10*5+EC18*ED$11*4 -> 0 | EE18: 0 | EF18: =EE18*EF$9*3+EE18*EF$10*5+EE18*EF$11*4 -> 0 | EG18: 0 | EH18: =EG18*EH$9*3+EG18*EH$10*5+EG18*EH$11*4 -> 0 | EI18: 0 | EJ18: =EI18*EJ$9*3+EI18*EJ$10*5+EI18*EJ$11*4 -> 0 | EK18: 0 | EL18: =EK18*EL$9*3+EK18*EL$10*5+EK18*EL$11*4 -> 0 | EM18: =C18+W18+AQ18+BK18+CE18+CY18+DS18 -> 0 | EN18: =D18+X18+AR18+BL18+CF18+CZ18+DT18 -> 0 | EO18: =E18+Y18+AS18+BM18+CG18+DA18+DU18 -> 0 | EP18: =F18+Z18+AT18+BN18+CH18+DB18+DV18 -> 0 | EQ18: =G18+AA18+AU18+BO18+CI18+DC18+DW18 -> 730 | ER18: =H18+AB18+AV18+BP18+CJ18+DD18+DX18 -> 66382476 | ES18: =I18+AC18+AW18+BQ18+CK18+DE18+DY18 -> 1739 | ET18: =J18+AD18+AX18+BR18+CL18+DF18+DZ18 -> 126522552 | ... FF18: =V18+AP18+BJ18+CD18+CX18+DR18+EL18 -> 1507200 | FG18: =EM18+EQ18+EU18+EY18+FC18 -> 1055 | FH18: =EN18+ER18+EV18+EZ18+FD18 -> 100354128 | FI18: =EO18+ES18+EW18+FA18+FE18 -> 2900 | FJ18: =EP18+ET18+EX18+FB18+FF18 -> 222304848 | FK18: =FG18+FI18 -> 3955 | FL18: =FH18+FJ18 -> 322658976
