Workbook
Name Excel_BuiltIn_Print_Titles: 'Норматив '!$1:$5

Sheet Норматив 
A1: нормативы с 01.01.2019 | D1: наполняемость | E1: режим функционирования
E2: пятидневная рабочая неделя | J2: шестидневная рабочая неделя
E3: 5 | F3: 5 | G3: 5 | H3: 5 | I3: 5 | J3: 6 | K3: 6 | L3: 6 | M3: 6 | N3: 6
E4: кратковременного пребывания | F4: сокращенного дня | G4: полного дня | H4: продленного дня | I4: круглосуточным пребыванием | J4: кратковременного пребывания | K4: сокращенного дня | L4: полного дня | M4: продленного дня | N4: круглосуточным пребыванием
E5: 5 часов | F5: 8-10,5часов | G5: 12 часов | H5: 14 часов | I5: 24 часа | J5: 5 часов | K5: 10 часов | L5: 12 часов | M5: 14 часов | N5: 24 часа
E6: 5 | F6: 10.5 | G6: 12 | H6: 14 | I6: 14 | J6: 5 | K6: 10 | L6: 12 | M6: 14 | N6: 14
A7: количество часов рабочего времени воспитателя в неделю | E7: =E3*E6 -> 25 | F7: =F3*F6 -> 52.5 | G7: =G3*G6 -> 60 | H7: =H3*H6 -> 70 | I7: =I3*I6 -> 70 | J7: =J3*J6 -> 30 | K7: =K3*K6 -> 60 | L7: =L3*L6 -> 72 | ... N7: =N3*N6 -> 84
A8: норма часов педагогической работы на ставку воспитателя в неделю
A9: группы общеразвивающие направленности | B9: группы общеразвивающей направленности | C9: до 3 лет | D9: 19 | E9: 36 | F9: 36 | G9: 36 | H9: 36 | I9: 36 | J9: 36 | K9: 36 | L9: 36 | M9: 36 | N9: 36
C10: старше 3х лет | D10: 23 | E10: 36 | F10: 36 | G10: 36 | H10: 36 | I10: 36 | J10: 36 | K10: 36 | L10: 36 | M10: 36 | N10: 36
B11: группы общеразвивающей направленности, расположенные в ПГТ с численностью воспитанников от 100 до 51 человека | C11: до 3 лет | D11: 15 | E11: 36 | F11: 36 | G11: 36 | H11: 36 | I11: 36
C12: старше 3х лет | D12: 20 | E12: 36 | F12: 36 | G12: 36 | H12: 36 | I12: 36
B13: группы общеразвивающей направленности, расположенные в ПГТ с численностью воспитанников менее 51 человека | C13: до 3 лет | D13: 10 | E13: 36 | F13: 36 | G13: 36 | H13: 36 | I13: 36
C14: старше 3х лет | D14: 15 | E14: 36 | F14: 36 | G14: 36 | H14: 36 | I14: 36
B15: группы общеразвивающей направленности, расположенные в сельской местности с численностью воспитанников от 100 до 51 человека | C15: до 3 лет | D15: 15 | E15: 36 | F15: 36 | G15: 36 | H15: 36 | I15: 36
C16: старше 3х лет | D16: 20 | E16: 36 | F16: 36 | G16: 36 | H16: 36 | I16: 36
B17: группы общеразвивающей направленности, расположенные в сельской местности с численностью воспитанников от 50 до 26 человек | C17: до 3 лет | D17: 10 | E17: 36 | F17: 36 | G17: 36 | H17: 36 | I17: 36
C18: старше 3х лет | D18: 15 | E18: 36 | F18: 36 | G18: 36 | H18: 36 | I18: 36
B19: группы общеразвивающей направленности, расположенные в сельской местности с численностью воспитанников от 25 до 11 человек | C19: до 3 лет | D19: 10 | E19: 36 | F19: 36 | G19: 36 | H19: 36 | I19: 36
C20: старше 3х лет | D20: 10 | E20: 36 | F20: 36 | G20: 36 | H20: 36 | I20: 36
B21: группы общеразвивающей направленности, расположенные в сельской местности с численностью воспитанников менее 11 человек | C21: до 3 лет | D21: 5 | E21: 36 | F21: 36 | G21: 36 | H21: 36 | I21: 36
C22: старше 3х лет | D22: 5 | E22: 36 | F22: 36 | G22: 36 | H22: 36 | I22: 36
A23: группы компенсирующей наравленности | B23: для детей с тяжелыми нарушениями речи | C23: до 3 лет | D23: 6 | E23: 25 | F23: 25 | G23: 25 | H23: 25 | I23: 25 | J23: 25 | K23: 25 | L23: 25 | M23: 25 | N23: 25
C24: старше 3х лет | D24: 10 | E24: 25 | F24: 25 | G24: 25 | H24: 25 | I24: 25 | J24: 25 | K24: 25 | L24: 25 | M24: 25 | N24: 25
B25: для детей с фонетико-фонематическими нарушениями речи | C25: до 3 лет | D25: 0 | E25: 0 | F25: 0 | G25: 0 | H25: 0 | I25: 0 | J25: 0 | K25: 0 | L25: 0 | M25: 0 | N25: 0
C26: старше 3х лет | D26: 12 | E26: 25 | F26: 25 | G26: 25 | H26: 25 | I26: 25 | J26: 25 | K26: 25 | L26: 25 | M26: 25 | N26: 25
B27: для глухих детей | C27: до 3 лет | D27: 6 | E27: 25 | F27: 25 | G27: 25 | H27: 25 | I27: 25 | J27: 25 | K27: 25 | L27: 25 | M27: 25 | N27: 25
C28: старше 3х лет | D28: 6 | E28: 25 | F28: 25 | G28: 25 | H28: 25 | I28: 25 | J28: 25 | K28: 25 | L28: 25 | M28: 25 | N28: 25
B29: для слабослышащих | C29: до 3 лет | D29: 6 | E29: 25 | F29: 25 | G29: 25 | H29: 25 | I29: 25 | J29: 25 | K29: 25 | L29: 25 | M29: 25 | N29: 25
C30: старше 3х лет | D30: 8 | E30: 25 | F30: 25 | G30: 25 | H30: 25 | I30: 25 | J30: 25 | K30: 25 | L30: 25 | M30: 25 | N30: 25
B31: для слепых детей | C31: до 3 лет | D31: 6 | E31: 25 | F31: 25 | G31: 25 | H31: 25 | I31: 25 | J31: 25 | K31: 25 | L31: 25 | M31: 25 | N31: 25
C32: старше 3х лет | D32: 6 | E32: 25 | F32: 25 | G32: 25 | H32: 25 | I32: 25 | J32: 25 | K32: 25 | L32: 25 | M32: 25 | N32: 25
B33: слабовидящих детей, для детей с амблиопией, косоглазием | C33: до 3 лет | D33: 6 | E33: 25 | F33: 25 | G33: 25 | H33: 25 | I33: 25 | J33: 25 | K33: 25 | L33: 25 | M33: 25 | N33: 25
C34: старше 3х лет | D34: 10 | E34: 25 | F34: 25 | G34: 25 | H34: 25 | I34: 25 | J34: 25 | K34: 25 | L34: 25 | M34: 25 | N34: 25
B35: для детей с нарушениями опорно-двигательного аппарата | C35: до 3 лет | D35: 6 | E35: 25 | F35: 25 | G35: 25 | H35: 25 | I35: 25 | J35: 25 | K35: 25 | L35: 25 | M35: 25 | N35: 25
C36: старше 3х лет | D36: 8 | E36: 25 | F36: 25 | G36: 25 | H36: 25 | I36: 25 | J36: 25 | K36: 25 | L36: 25 | M36: 25 | N36: 25
B37: для детей с задержкой психического развития | C37: до 3 лет | D37: 6 | E37: 25 | F37: 25 | G37: 25 | H37: 25 | I37: 25 | J37: 25 | K37: 25 | L37: 25 | M37: 25 | N37: 25
C38: старше 3х лет | D38: 10 | E38: 25 | F38: 25 | G38: 25 | H38: 25 | I38: 25 | J38: 25 | K38: 25 | L38: 25 | M38: 25 | N38: 25
B39: для детей с умственной отсталостью легкой степени | C39: до 3 лет | D39: 6 | E39: 25 | F39: 25 | G39: 25 | H39: 25 | I39: 25 | J39: 25 | K39: 25 | L39: 25 | M39: 25 | N39: 25
C40: старше 3х лет | D40: 10 | E40: 25 | F40: 25 | G40: 25 | H40: 25 | I40: 25 | J40: 25 | K40: 25 | L40: 25 | M40: 25 | N40: 25
B41: для детей с умственной отсталостью умеренной, тяжелой | C41: до 3 лет | D41: 0 | E41: 0 | F41: 0 | G41: 0 | H41: 0 | I41: 0 | J41: 0 | K41: 0 | L41: 0 | M41: 0 | N41: 0
C42: старше 3х лет | D42: 8 | E42: 25 | F42: 25 | G42: 25 | H42: 25 | I42: 25 | J42: 25 | K42: 25 | L42: 25 | M42: 25 | N42: 25
B43: для детей с аутизмом | C43: до 3 лет | D43: 0 | E43: 0 | F43: 0 | G43: 0 | H43: 0 | I43: 0 | J43: 0 | K43: 0 | L43: 0 | M43: 0 | N43: 0
C44: старше 3х лет | D44: 5 | E44: 25 | F44: 25 | G44: 25 | H44: 25 | I44: 25 | J44: 25 | K44: 25 | L44: 25 | M44: 25 | N44: 25
B45: для детей со сложным дефектом (имеющих сочетание 2 или более недостатков в физическом и (или) психическом развитии) | C45: до 3 лет | D45: 5 | E45: 25 | F45: 25 | G45: 25 | H45: 25 | I45: 25 | J45: 25 | K45: 25 | L45: 25 | M45: 25 | N45: 25
C46: старше 3х лет | D46: 5 | E46: 25 | F46: 25 | G46: 25 | H46: 25 | I46: 25 | J46: 25 | K46: 25 | L46: 25 | M46: 25 | N46: 25
B47: для детей с иными ограниченными возможностями здоровья | C47: до 3 лет | D47: 10 | E47: 25 | F47: 25 | G47: 25 | H47: 25 | I47: 25 | J47: 25 | K47: 25 | L47: 25 | M47: 25 | N47: 25
C48: старше 3х лет | D48: 15 | E48: 25 | F48: 25 | G48: 25 | H48: 25 | I48: 25 | J48: 25 | K48: 25 | L48: 25 | M48: 25 | N48: 25
A49: группы комбинированной направленности | B49: для детей с тяжелыми нарушениями речи | C49: до 3 лет | D49: 10 | E49: 36 | F49: 36 | G49: 36 | H49: 36 | I49: 36
C50: старше 3х лет | D50: 15 | E50: 36 | F50: 36 | G50: 36 | H50: 36 | I50: 36
B51: для глухих детей | C51: до 3 лет | D51: 10 | E51: 36 | F51: 36 | G51: 36 | H51: 36 | I51: 36
C52: старше 3х лет | D52: 10 | E52: 36 | F52: 36 | G52: 36 | H52: 36 | I52: 36
B53: для слабослышащих | C53: до 3 лет | D53: 10 | E53: 36 | F53: 36 | G53: 36 | H53: 36 | I53: 36
C54: старше 3х лет | D54: 15 | E54: 36 | F54: 36 | G54: 36 | H54: 36 | I54: 36
B55: для слепых детей | C55: до 3 лет | D55: 10 | E55: 36 | F55: 36 | G55: 36 | H55: 36 | I55: 36
C56: старше 3х лет | D56: 10 | E56: 36 | F56: 36 | G56: 36 | H56: 36 | I56: 36
B57: слабовидящих детей, для детей с амблиопией, косоглазием | C57: до 3 лет | D57: 10 | E57: 36 | F57: 36 | G57: 36 | H57: 36 | I57: 36
C58: старше 3х лет | D58: 15 | E58: 36 | F58: 36 | G58: 36 | H58: 36 | I58: 36
B59: для детей с нарушениями опорно-двигательного аппарата | C59: до 3 лет | D59: 10 | E59: 36 | F59: 36 | G59: 36 | H59: 36 | I59: 36
C60: старше 3х лет | D60: 10 | E60: 36 | F60: 36 | G60: 36 | H60: 36 | I60: 36
B61: для детей с задержкой психического развития | C61: до 3 лет | D61: 10 | E61: 36 | F61: 36 | G61: 36 | H61: 36 | I61: 36
C62: старше 3х лет | D62: 17 | E62: 36 | F62: 36 | G62: 36 | H62: 36 | I62: 36
B63: для детей с умственной отсталостью легкой степени | C63: до 3 лет | D63: 10 | E63: 36 | F63: 36 | G63: 36 | H63: 36 | I63: 36
C64: старше 3х лет | D64: 15 | E64: 36 | F64: 36 | G64: 36 | H64: 36 | I64: 36
B65: для детей с умственной отсталостью умеренной, тяжелой | C65: до 3 лет | D65: 0 | E65: 0 | F65: 0 | G65: 0 | H65: 0 | I65: 0
C66: старше 3х лет | D66: 10 | E66: 36 | F66: 36 | G66: 36 | H66: 36 | I66: 36
B67: для детей со сложным дефектом (имеющих сочетание 2 или более недостатков в физическом и (или) психическом развитии) | C67: до 3 лет | D67: 10 | E67: 36 | F67: 36 | G67: 36 | H67: 36 | I67: 36
C68: старше 3х лет | D68: 10 | E68: 36 | F68: 36 | G68: 36 | H68: 36 | I68: 36
B69: для детей с иными ограниченными возможностями здоровья | C69: до 3 лет | D69: 10 | E69: 36 | F69: 36 | G69: 36 | H69: 36 | I69: 36
C70: старше 3х лет | D70: 0 | E70: 0 | F70: 0 | G70: 0 | H70: 0 | I70: 0
A71: количество ставок воспитателей на 1 человека
A72: группы общеразвивающие направленности | B72: обычные группы | C72: до 3 лет | D72: 19 | E72: =$E$7/E9/D9 -> 0.036549708 | F72: =$F$7/F9/D9 -> 0.076754386 | G72: =$G$7/G9/D9 -> 0.087719298 | H72: =$H$7/H9/D9 -> 0.10233918 | I72: =$I$7/I9/D9 -> 0.10233918 | J72: =$J$7/J9/D9 -> 0.043859649 | K72: =$K$7/K9/D9 -> 0.087719298 | L72: =$L$7/L9/D9 -> 0.10526316 | M72: =$M$7/M9/D9 -> 0.12280702 | N72: =$N$7/N9/D9 -> 0.12280702
C73: старше 3х лет | D73: 23 | E73: =$E$7/E10/D10 -> 0.030193237 | F73: =$F$7/F10/D10 -> 0.063405797 | G73: =$G$7/G10/D10 -> 0.072463768 | H73: =$H$7/H10/D10 -> 0.084541063 | I73: =$I$7/I10/D10 -> 0.084541063 | J73: =$J$7/J10/D10 -> 0.036231884 | K73: =$K$7/K10/D10 -> 0.072463768 | L73: =$L$7/L10/D10 -> 0.086956522 | M73: =$M$7/M10/D10 -> 0.10144928 | N73: =$N$7/N10/D10 -> 0.10144928
B74: группы общеразвивающей направленности, расположенные в ПГТ с численностью воспитанников от 100 до 51 человека | C74: до 3 лет | D74: 15 | E74: =$E$7/E11/D11 -> 0.046296296 | F74: =$F$7/F11/D11 -> 0.097222222 | G74: =$G$7/G11/D11 -> 0.11111111 | H74: =$H$7/H11/D11 -> 0.12962963 | I74: =$I$7/I11/D11 -> 0.12962963
C75: старше 3х лет | D75: 20 | E75: =$E$7/E12/D12 -> 0.034722222 | F75: =$F$7/F12/D12 -> 0.072916667 | G75: =$G$7/G12/D12 -> 0.083333333 | H75: =$H$7/H12/D12 -> 0.097222222 | I75: =$I$7/I12/D12 -> 0.097222222
B76: группы общеразвивающей направленности, расположенные в ПГТ с численностью воспитанников менее 51 человека | C76: до 3 лет | D76: 10 | E76: =$E$7/E13/D13 -> 0.069444444 | F76: =$F$7/F13/D13 -> 0.14583333 | G76: =$G$7/G13/D13 -> 0.16666667 | H76: =$H$7/H13/D13 -> 0.19444444 | I76: =$I$7/I13/D13 -> 0.19444444
C77: старше 3х лет | D77: 15 | E77: =$E$7/E14/D14 -> 0.046296296 | F77: =$F$7/F14/D14 -> 0.097222222 | G77: =$G$7/G14/D14 -> 0.11111111 | H77: =$H$7/H14/D14 -> 0.12962963 | I77: =$I$7/I14/D14 -> 0.12962963
B78: группы общеразвивающей направленности, расположенные в сельской местности с численностью воспитанников от 100 до 51 человека | C78: до 3 лет | D78: 15 | E78: =$E$7/E15/D15 -> 0.046296296 | F78: =$F$7/F15/D15 -> 0.097222222 | G78: =$G$7/G15/D15 -> 0.11111111 | H78: =$H$7/H15/D15 -> 0.12962963 | I78: =$I$7/I15/D15 -> 0.12962963
C79: старше 3х лет | D79: 20 | E79: =$E$7/E16/D16 -> 0.034722222 | F79: =$F$7/F16/D16 -> 0.072916667 | G79: =$G$7/G16/D16 -> 0.083333333 | H79: =$H$7/H16/D16 -> 0.097222222 | I79: =$I$7/I16/D16 -> 0.097222222
B80: группы общеразвивающей направленности, расположенные в сельской местности с численностью воспитанников от 50 до 26 человек | C80: до 3 лет | D80: 10 | E80: =$E$7/E17/D17 -> 0.069444444 | F80: =$F$7/F17/D17 -> 0.14583333 | G80: =$G$7/G17/D17 -> 0.16666667 | H80: =$H$7/H17/D17 -> 0.19444444 | I80: =$I$7/I17/D17 -> 0.19444444
C81: старше 3х лет | D81: 15 | E81: =$E$7/E18/D18 -> 0.046296296 | F81: =$F$7/F18/D18 -> 0.097222222 | G81: =$G$7/G18/D18 -> 0.11111111 | H81: =$H$7/H18/D18 -> 0.12962963 | I81: =$I$7/I18/D18 -> 0.12962963
B82: группы общеразвивающей направленности, расположенные в сельской местности с численностью воспитанников от 25 до 11 человек | C82: до 3 лет | D82: 10 | E82: =$E$7/E19/D19 -> 0.069444444 | F82: =$F$7/F19/D19 -> 0.14583333 | G82: =$G$7/G19/D19 -> 0.16666667 | H82: =$H$7/H19/D19 -> 0.19444444 | I82: =$I$7/I19/D19 -> 0.19444444
C83: старше 3х лет | D83: 10 | E83: =$E$7/E20/D20 -> 0.069444444 | F83: =$F$7/F20/D20 -> 0.14583333 | G83: =$G$7/G20/D20 -> 0.16666667 | H83: =$H$7/H20/D20 -> 0.19444444 | I83: =$I$7/I20/D20 -> 0.19444444
B84: группы общеразвивающей направленности, расположенные в сельской местности с численностью воспитанников менее 11 человек | C84: до 3 лет | D84: 5 | E84: =$E$7/E21/D21 -> 0.13888889 | F84: =$F$7/F21/D21 -> 0.29166667 | G84: =$G$7/G21/D21 -> 0.33333333 | H84: =$H$7/H21/D21 -> 0.38888889 | I84: =$I$7/I21/D21 -> 0.38888889
C85: старше 3х лет | D85: 5 | E85: =$E$7/E22/D22 -> 0.13888889 | F85: =$F$7/F22/D22 -> 0.29166667 | G85: =$G$7/G22/D22 -> 0.33333333 | H85: =$H$7/H22/D22 -> 0.38888889 | I85: =$I$7/I22/D22 -> 0.38888889
A86: группы компенсирующей наравленности | B86: для детей с тяжелыми нарушениями речи | C86: до 3 лет | D86: 6 | E86: =$E$7/E23/D23 -> 0.16666667 | F86: =$F$7/F23/D23 -> 0.35 | G86: =$G$7/G23/D23 -> 0.4 | H86: =$H$7/H23/D23 -> 0.46666667 | I86: =$I$7/I23/D23 -> 0.46666667 | J86: =$J$7/J23/D23 -> 0.2 | K86: =$K$7/K23/D23 -> 0.4 | L86: =$L$7/L23/D23 -> 0.48 | M86: =$M$7/M23/D23 -> 0.56 | N86: =$N$7/N23/D23 -> 0.56
C87: старше 3х лет | D87: 10 | E87: =$E$7/E24/D24 -> 0.1 | F87: =$F$7/F24/D24 -> 0.21 | G87: =$G$7/G24/D24 -> 0.24 | H87: =$H$7/H24/D24 -> 0.28 | I87: =$I$7/I24/D24 -> 0.28 | J87: =$J$7/J24/D24 -> 0.12 | K87: =$K$7/K24/D24 -> 0.24 | L87: =$L$7/L24/D24 -> 0.288 | M87: =$M$7/M24/D24 -> 0.336 | N87: =$N$7/N24/D24 -> 0.336
B88: для детей с фонетико-фонематическими нарушениями речи | C88: до 3 лет | D88: 0
C89: старше 3х лет | D89: 12 | E89: =$E$7/E26/D26 -> 0.083333333 | F89: =$F$7/F26/D26 -> 0.175 | G89: =$G$7/G26/D26 -> 0.2 | H89: =$H$7/H26/D26 -> 0.23333333 | I89: =$I$7/I26/D26 -> 0.23333333 | J89: =$J$7/J26/D26 -> 0.1 | K89: =$K$7/K26/D26 -> 0.2 | L89: =$L$7/L26/D26 -> 0.24 | M89: =$M$7/M26/D26 -> 0.28 | N89: =$N$7/N26/D26 -> 0.28
B90: для глухих детей | C90: до 3 лет | D90: 6 | E90: =$E$7/E27/D27 -> 0.16666667 | F90: =$F$7/F27/D27 -> 0.35 | G90: =$G$7/G27/D27 -> 0.4 | H90: =$H$7/H27/D27 -> 0.46666667 | I90: =$I$7/I27/D27 -> 0.46666667 | J90: =$J$7/J27/D27 -> 0.2 | K90: =$K$7/K27/D27 -> 0.4 | L90: =$L$7/L27/D27 -> 0.48 | M90: =$M$7/M27/D27 -> 0.56 | N90: =$N$7/N27/D27 -> 0.56
C91: старше 3х лет | D91: 6 | E91: =$E$7/E28/D28 -> 0.16666667 | F91: =$F$7/F28/D28 -> 0.35 | G91: =$G$7/G28/D28 -> 0.4 | H91: =$H$7/H28/D28 -> 0.46666667 | I91: =$I$7/I28/D28 -> 0.46666667 | J91: =$J$7/J28/D28 -> 0.2 | K91: =$K$7/K28/D28 -> 0.4 | L91: =$L$7/L28/D28 -> 0.48 | M91: =$M$7/M28/D28 -> 0.56 | N91: =$N$7/N28/D28 -> 0.56
B92: для слабослышащих | C92: до 3 лет | D92: 6 | E92: =$E$7/E29/D29 -> 0.16666667 | F92: =$F$7/F29/D29 -> 0.35 | G92: =$G$7/G29/D29 -> 0.4 | H92: =$H$7/H29/D29 -> 0.46666667 | I92: =$I$7/I29/D29 -> 0.46666667 | J92: =$J$7/J29/D29 -> 0.2 | K92: =$K$7/K29/D29 -> 0.4 | L92: =$L$7/L29/D29 -> 0.48 | M92: =$M$7/M29/D29 -> 0.56 | N92: =$N$7/N29/D29 -> 0.56
C93: старше 3х лет | D93: 8 | E93: =$E$7/E30/D30 -> 0.125 | F93: =$F$7/F30/D30 -> 0.2625 | G93: =$G$7/G30/D30 -> 0.3 | H93: =$H$7/H30/D30 -> 0.35 | I93: =$I$7/I30/D30 -> 0.35 | J93: =$J$7/J30/D30 -> 0.15 | K93: =$K$7/K30/D30 -> 0.3 | L93: =$L$7/L30/D30 -> 0.36 | M93: =$M$7/M30/D30 -> 0.42 | N93: =$N$7/N30/D30 -> 0.42
B94: для слепых детей | C94: до 3 лет | D94: 6 | E94: =$E$7/E31/D31 -> 0.16666667 | F94: =$F$7/F31/D31 -> 0.35 | G94: =$G$7/G31/D31 -> 0.4 | H94: =$H$7/H31/D31 -> 0.46666667 | I94: =$I$7/I31/D31 -> 0.46666667 | J94: =$J$7/J31/D31 -> 0.2 | K94: =$K$7/K31/D31 -> 0.4 | L94: =$L$7/L31/D31 -> 0.48 | M94: =$M$7/M31/D31 -> 0.56 | N94: =$N$7/N31/D31 -> 0.56
C95: старше 3х лет | D95: 6 | E95: =$E$7/E32/D32 -> 0.16666667 | F95: =$F$7/F32/D32 -> 0.35 | G95: =$G$7/G32/D32 -> 0.4 | H95: =$H$7/H32/D32 -> 0.46666667 | I95: =$I$7/I32/D32 -> 0.46666667 | J95: =$J$7/J32/D32 -> 0.2 | K95: =$K$7/K32/D32 -> 0.4 | L95: =$L$7/L32/D32 -> 0.48 | M95: =$M$7/M32/D32 -> 0.56 | N95: =$N$7/N32/D32 -> 0.56
B96: слабовидящих детей, для детей с амблиопией, косоглазием | C96: до 3 лет | D96: 6 | E96: =$E$7/E33/D33 -> 0.16666667 | F96: =$F$7/F33/D33 -> 0.35 | G96: =$G$7/G33/D33 -> 0.4 | H96: =$H$7/H33/D33 -> 0.46666667 | I96: =$I$7/I33/D33 -> 0.46666667 | J96: =$J$7/J33/D33 -> 0.2 | K96: =$K$7/K33/D33 -> 0.4 | L96: =$L$7/L33/D33 -> 0.48 | M96: =$M$7/M33/D33 -> 0.56 | N96: =$N$7/N33/D33 -> 0.56
C97: старше 3х лет | D97: 10 | E97: =$E$7/E34/D34 -> 0.1 | F97: =$F$7/F34/D34 -> 0.21 | G97: =$G$7/G34/D34 -> 0.24 | H97: =$H$7/H34/D34 -> 0.28 | I97: =$I$7/I34/D34 -> 0.28 | J97: =$J$7/J34/D34 -> 0.12 | K97: =$K$7/K34/D34 -> 0.24 | L97: =$L$7/L34/D34 -> 0.288 | M97: =$M$7/M34/D34 -> 0.336 | N97: =$N$7/N34/D34 -> 0.336
B98: для детей с нарушениями опорно-двигательного аппарата | C98: до 3 лет | D98: 6 | E98: =$E$7/E35/D35 -> 0.16666667 | F98: =$F$7/F35/D35 -> 0.35 | G98: =$G$7/G35/D35 -> 0.4 | H98: =$H$7/H35/D35 -> 0.46666667 | I98: =$I$7/I35/D35 -> 0.46666667 | J98: =$J$7/J35/D35 -> 0.2 | K98: =$K$7/K35/D35 -> 0.4 | L98: =$L$7/L35/D35 -> 0.48 | M98: =$M$7/M35/D35 -> 0.56 | N98: =$N$7/N35/D35 -> 0.56
C99: старше 3х лет | D99: 8 | E99: =$E$7/E36/D36 -> 0.125 | F99: =$F$7/F36/D36 -> 0.2625 | G99: =$G$7/G36/D36 -> 0.3 | H99: =$H$7/H36/D36 -> 0.35 | I99: =$I$7/I36/D36 -> 0.35 | J99: =$J$7/J36/D36 -> 0.15 | K99: =$K$7/K36/D36 -> 0.3 | L99: =$L$7/L36/D36 -> 0.36 | M99: =$M$7/M36/D36 -> 0.42 | N99: =$N$7/N36/D36 -> 0.42
B100: для детей с задержкой психического развития | C100: до 3 лет | D100: 6 | E100: =$E$7/E37/D37 -> 0.16666667 | F100: =$F$7/F37/D37 -> 0.35 | G100: =$G$7/G37/D37 -> 0.4 | H100: =$H$7/H37/D37 -> 0.46666667 | I100: =$I$7/I37/D37 -> 0.46666667 | J100: =$J$7/J37/D37 -> 0.2 | K100: =$K$7/K37/D37 -> 0.4 | L100: =$L$7/L37/D37 -> 0.48 | M100: =$M$7/M37/D37 -> 0.56 | N100: =$N$7/N37/D37 -> 0.56
...

Sheet Расчет_гр.общеразв.напрв.
C1: Расчет объема субвенции на финансовое обеспечение реализации дошкольных программ на 2019 год (группы общеразвивающей направленности)
A3: №№ | B3: Реализуемая программа | C3: группы общеразвивающей направленности, обычные группы | W3: группы общеразвивающей направленности, расположенные в ПГТ с численностью воспитанников от 100 до 51 человека | AQ3: группы общеразвивающей направленности, расположенные в ПГТ с численностью воспитанников менее 51 человека | BK3: группы общеразвивающей направленности, расположенные в сельской местности с численностью воспитанников от 100 до 51 человека | CE3: группы общеразвивающей направленности, расположенные в сельской местности с численностью воспитанников от 50 до 26 человек | CY3: группы общеразвивающей направленности, расположенные в сельской местности с численностью воспитанников от 25 до 11 человек | DS3: группы общеразвивающей направленности, расположенные в сельской местности с численностью воспитанников менее 11 человек | EM3: ВСЕГО | FG3: ВСЕГО планируемый среднегодовой контингент на 2019 год
C4: кратковременного пребывания | G4: сокращенного дня | K4: полного дня | O4: продленного дня | S4: круглосуточным пребыванием | W4: кратковременного пребывания | AA4: сокращенного дня | AE4: полного дня | AI4: продленного дня | AM4: круглосуточным пребыванием | AQ4: кратковременного пребывания | AU4: сокращенного дня | AY4: полного дня | BC4: продленного дня | BG4: круглосуточным пребыванием | BK4: кратковременного пребывания | BO4: сокращенного дня | BS4: полного дня | BW4: продленного дня | CA4: круглосуточным пребыванием | CE4: кратковременного пребывания | CI4: сокращенного дня | CM4: полного дня | CQ4: продленного дня | CU4: круглосуточным пребыванием | CY4: кратковременного пребывания | DC4: сокращенного дня | DG4: полного дня | DK4: продленного дня | DO4: круглосуточным пребыванием | DS4: кратковременного пребывания | DW4: сокращенного дня | EA4: полного дня | EE4: продленного дня | EI4: круглосуточным пребыванием | EM4: кратковременного пребывания | EQ4: сокращенного дня | EU4: полного дня | EY4: продленного дня | FC4: круглосуточным пребыванием
C5: до 5 часов | G5: 8 - 10,5 часов | K5: 12 часов | O5: 13 - 14 часов | S5: 24 часа | W5: до 5 часов | AA5: 8 - 10,5 часов | AE5: 12 часов | AI5: 13 - 14 часов | AM5: 24 часа | AQ5: до 5 часов | AU5: 8 - 10,5 часов | AY5: 12 часов | BC5: 13 - 14 часов | BG5: 24 часа | BK5: до 5 часов | BO5: 8 - 10,5 часов | BS5: 12 часов | BW5: 13 - 14 часов | CA5: 24 часа | CE5: до 5 часов | CI5: 8 - 10,5 часов | CM5: 12 часов | CQ5: 13 - 14 часов | CU5: 24 часа | CY5: до 5 часов | DC5: 8 - 10,5 часов | DG5: 12 часов | DK5: 13 - 14 часов | DO5: 24 часа | DS5: до 5 часов | DW5: 8 - 10,5 часов | EA5: 12 часов | EE5: 13 - 14 часов | EI5: 24 часа | EM5: до 5 часов | EQ5: 8 - 10,5 часов | EU5: 12 часов | EY5: 13 - 14 часов | FC5: 24 часа
C6: до 3 лет | E6: старше 3 лет | G6: до 3 лет | I6: старше 3 лет | K6: до 3 лет | M6: старше 3 лет | O6: до 3 лет | Q6: старше 3 лет | S6: до 3 лет | U6: старше 3 лет | W6: до 3 лет | Y6: старше 3 лет | AA6: до 3 лет | AC6: старше 3 лет | AE6: до 3 лет | AG6: старше 3 лет | AI6: до 3 лет | AK6: старше 3 лет | AM6: до 3 лет | AO6: старше 3 лет | AQ6: до 3 лет | AS6: старше 3 лет | AU6: до 3 лет | AW6: старше 3 лет | AY6: до 3 лет | BA6: старше 3 лет | BC6: до 3 лет | BE6: старше 3 лет | BG6: до 3 лет | BI6: старше 3 лет | BK6: до 3 лет | BM6: старше 3 лет | BO6: до 3 лет | BQ6: старше 3 лет | BS6: до 3 лет | BU6: старше 3 лет | BW6: до 3 лет | BY6: старше 3 лет | CA6: до 3 лет | CC6: старше 3 лет | CE6: до 3 лет | CG6: старше 3 лет | CI6: до 3 лет | CK6: старше 3 лет | CM6: до 3 лет | CO6: старше 3 лет | CQ6: до 3 лет | CS6: старше 3 лет | CU6: до 3 лет | CW6: старше 3 лет | CY6: до 3 лет | DA6: старше 3 лет | DC6: до 3 лет | DE6: старше 3 лет | DG6: до 3 лет | DI6: старше 3 лет | DK6: до 3 лет | DM6: старше 3 лет | DO6: до 3 лет | DQ6: старше 3 лет | DS6: до 3 лет | DU6: старше 3 лет | DW6: до 3 лет | DY6: старше 3 лет | EA6: до 3 лет | EC6: старше 3 лет | EE6: до 3 лет | EG6: старше 3 лет | EI6: до 3 лет | EK6: старше 3 лет | EM6: до 3 лет | EO6: старше 3 лет | EQ6: до 3 лет | ES6: старше 3 лет | EU6: до 3 лет | EW6: старше 3 лет | EY6: до 3 лет | FA6: старше 3 лет | FC6: до 3 лет | FE6: старше 3 лет | FG6: до 3 лет | FI6: старше 3 лет | FK6: Всего
C7: 19 | D7: 23 | E7: 19 | F7: 23 | G7: 19 | H7: 23 | I7: 19 | J7: 23 | K7: 19 | L7: 23 | M7: 15 | N7: 20 | O7: 15 | P7: 20 | Q7: 15 | R7: 20 | S7: 15 | T7: 20 | U7: 15 | V7: 20 | W7: 10 | X7: 15 | Y7: 10 | Z7: 15 | AA7: 10 | AB7: 15 | AC7: 10 | AD7: 15 | AE7: 10 | AF7: 15 | AG7: 15 | AH7: 20 | AI7: 15 | AJ7: 20 | AK7: 15 | AL7: 20 | AM7: 15 | AN7: 20 | AO7: 15 | AP7: 20 | AQ7: 10 | AR7: 15 | AS7: 10 | AT7: 15 | AU7: 10 | AV7: 15 | AW7: 10 | AX7: 15 | AY7: 10 | AZ7: 15 | BA7: 10 | BB7: 10 | BC7: 10 | BD7: 10 | BE7: 10 | BF7: 10 | BG7: 10 | BH7: 10 | BI7: 10 | BJ7: 10 | BK7: 5 | BL7: 5 | BM7: 5 | BN7: 5 | BO7: 5 | BP7: 5 | BQ7: 5 | BR7: 5 | BS7: 5 | BT7: 5 | BU7: ='Норматив '!BM585 -> 0 | BV7: 23 | BW7: 19 | BX7: 23 | BY7: 19 | BZ7: 23 | CA7: 19 | CB7: 23 | CC7: 19 | CD7: 23 | CE7: 15 | CF7: 20 | CG7: 15 | CH7: 20 | CI7: 15 | CJ7: 20 | CK7: 15 | CL7: 20 | CM7: 15 | CN7: 20 | CO7: 10 | CP7: 15 | CQ7: 10 | CR7: 15 | CS7: 10 | CT7: 15 | CU7: 10 | CV7: 15 | CW7: 10 | CX7: 15 | CY7: 15 | CZ7: 20 | DA7: 15 | DB7: 20 | DC7: 15 | DD7: 20 | DE7: 15 | DF7: 20 | DG7: 15 | DH7: 20 | DI7: 10 | DJ7: 15 | DK7: 10 | DL7: 15 | DM7: 10 | DN7: 15 | DO7: 10 | DP7: 15 | DQ7: 10 | DR7: 15 | DS7: 10 | DT7: 10 | DU7: 10 | DV7: 10 | DW7: 10 | DX7: 10 | DY7: 10 | DZ7: 10 | EA7: 10 | EB7: 10 | EC7: 5 | ED7: 5 | EE7: 5 | EF7: 5 | EG7: 5 | EH7: 5 | EI7: 5 | EJ7: 5 | EK7: 5 | EL7: 5 | EM7: 19 | EO7: 23 | EY7: 19 | FA7: 23
C8: кон-т | D8: сумма | E8: кон-т | F8: сумма | G8: кон-т | H8: сумма | I8: кон-т | J8: сумма | K8: кон-т | L8: сумма | M8: кон-т | N8: сумма | O8: кон-т | P8: сумма | Q8: кон-т | R8: сумма | S8: кон-т | T8: сумма | U8: кон-т | V8: сумма | W8: кон-т | X8: сумма | Y8: кон-т | Z8: сумма | AA8: кон-т | AB8: сумма | AC8: кон-т | AD8: сумма | AE8: кон-т | AF8: сумма | AG8: кон-т | AH8: сумма | AI8: кон-т | AJ8: сумма | AK8: кон-т | AL8: сумма | AM8: кон-т | AN8: сумма | AO8: кон-т | AP8: сумма | AQ8: кон-т | AR8: сумма | AS8: кон-т | AT8: сумма | AU8: кон-т | AV8: сумма | AW8: кон-т | AX8: сумма | AY8: кон-т | AZ8: сумма | BA8: кон-т | BB8: сумма | BC8: кон-т | BD8: сумма | BE8: кон-т | BF8: сумма | BG8: кон-т | BH8: сумма | BI8: кон-т | BJ8: сумма | BK8: кон-т | BL8: сумма | BM8: кон-т | BN8: сумма | BO8: кон-т | BP8: сумма | BQ8: кон-т | BR8: сумма | BS8: кон-т | BT8: сумма | BU8: кон-т | BV8: сумма | BW8: кон-т | BX8: сумма | BY8: кон-т | BZ8: сумма | CA8: кон-т | CB8: сумма | CC8: кон-т | CD8: сумма | CE8: кон-т | CF8: сумма | CG8: кон-т | CH8: сумма | CI8: кон-т | CJ8: сумма | CK8: кон-т | CL8: сумма | CM8: кон-т | CN8: сумма | CO8: кон-т | CP8: сумма | CQ8: кон-т | CR8: сумма | CS8: кон-т | CT8: сумма | CU8: кон-т | CV8: сумма | CW8: кон-т | CX8: сумма | CY8: кон-т | CZ8: сумма | DA8: кон-т | DB8: сумма | DC8: кон-т | DD8: сумма | DE8: кон-т | DF8: сумма | DG8: кон-т | DH8: сумма | DI8: кон-т | DJ8: сумма | DK8: кон-т | DL8: сумма | DM8: кон-т | DN8: сумма | DO8: кон-т | DP8: сумма | DQ8: кон-т | DR8: сумма | DS8: кон-т | DT8: сумма | DU8: кон-т | DV8: сумма | DW8: кон-т | DX8: сумма | DY8: кон-т | DZ8: сумма | EA8: кон-т | EB8: сумма | EC8: кон-т | ED8: сумма | EE8: кон-т | EF8: сумма | EG8: кон-т | EH8: сумма | EI8: кон-т | EJ8: сумма | EK8: кон-т | EL8: сумма | EM8: кон-т | EN8: сумма | EO8: кон-т | EP8: сумма | EQ8: кон-т | ER8: сумма | ES8: кон-т | ET8: сумма | EU8: кон-т | EV8: сумма | EW8: кон-т | EX8: сумма | EY8: кон-т | EZ8: сумма | FA8: кон-т | FB8: сумма | FC8: кон-т | FD8: сумма | FE8: кон-т | FF8: сумма | FG8: кон-т | FH8: сумма | FI8: кон-т | FJ8: сумма | FK8: кон-т | FL8: сумма
A9: 3 | B9: с 01.01.2019 | D9: ='Норматив '!$E$583 -> 3453 | F9: ='Норматив '!$E$584 -> 2804 | H9: ='Норматив '!$F$583 -> 7251 | J9: ='Норматив '!$F$584 -> 5888 | L9: ='Норматив '!$G$583 -> 8286 | N9: ='Норматив '!$G$584 -> 6729 | P9: ='Норматив '!$H$583 -> 9668 | R9: ='Норматив '!$I$584 -> 7850 | T9: ='Норматив '!$H$583 -> 9668 | V9: ='Норматив '!$I$584 -> 7850 | X9: ='Норматив '!$E$585 -> 4373 | Z9: ='Норматив '!$E$586 -> 3224 | AB9: ='Норматив '!$F$585 -> 9184 | AD9: ='Норматив '!$F$586 -> 6771 | AF9: ='Норматив '!$G$585 -> 10496 | AH9: ='Норматив '!$G$586 -> 7738 | AJ9: ='Норматив '!$H$585 -> 12246 | AL9: ='Норматив '!$H$586 -> 9028 | AN9: ='Норматив '!$I$585 -> 12246 | AP9: ='Норматив '!$I$586 -> 9028 | AR9: ='Норматив '!$E$587 -> 6672 | AT9: ='Норматив '!$E$588 -> 4373 | AV9: ='Норматив '!$F$587 -> 14011 | AX9: ='Норматив '!$F$588 -> 9184 | AZ9: ='Норматив '!$G$587 -> 16013 | BB9: ='Норматив '!$G$588 -> 10496 | BD9: ='Норматив '!$H$587 -> 18681 | BF9: ='Норматив '!$H$588 -> 12246 | BH9: ='Норматив '!$I$587 -> 18681 | BJ9: ='Норматив '!$I$588 -> 12246 | BL9: ='Норматив '!$E$589 -> 4373 | BN9: ='Норматив '!$E$590 -> 3224 | BP9: ='Норматив '!$F$589 -> 9184 | BR9: ='Норматив '!$F$590 -> 6771 | BT9: ='Норматив '!$G$589 -> 10496 | BV9: ='Норматив '!$G$590 -> 7738 | BX9: ='Норматив '!$H$589 -> 12246 | BZ9: ='Норматив '!$H$590 -> 9028 | CB9: ='Норматив '!$I$589 -> 12246 | CD9: ='Норматив '!$I$590 -> 9028 | CF9: ='Норматив '!$E$591 -> 6672 | CH9: ='Норматив '!$E$592 -> 4373 | CJ9: ='Норматив '!$F$591 -> 14011 | CL9: ='Норматив '!$F$592 -> 9184 | CN9: ='Норматив '!$G$591 -> 16013 | CP9: ='Норматив '!$G$592 -> 10496 | CR9: ='Норматив '!$H$591 -> 18681 | CT9: ='Норматив '!$H$592 -> 12246 | CV9: ='Норматив '!$I$591 -> 18681 | CX9: ='Норматив '!$I$592 -> 12246 | CZ9: ='Норматив '!$E$593 -> 6784 | DB9: ='Норматив '!$E$594 -> 6672 | DD9: ='Норматив '!$F$593 -> 14246 | DF9: ='Норматив '!$F$594 -> 14011 | DH9: ='Норматив '!$G$593 -> 16281 | DJ9: ='Норматив '!$G$594 -> 16013 | DL9: ='Норматив '!$H$593 -> 18995 | DN9: ='Норматив '!$H$594 -> 18681 | DP9: ='Норматив '!$I$593 -> 18995 | DR9: ='Норматив '!$I$594 -> 18681 | DT9: ='Норматив '!$E$595 -> 15804 | DV9: ='Норматив '!$E$596 -> 15581 | DX9: ='Норматив '!$F$595 -> 33189 | DZ9: ='Норматив '!$F$596 -> 32719 | EB9: ='Норматив '!$G$595 -> 37930 | ED9: ='Норматив '!$G$596 -> 37393 | EF9: ='Норматив '!$H$595 -> 44252 | EH9: ='Норматив '!$H$596 -> 43626 | EJ9: ='Норматив '!$I$595 -> 44252 | EL9: ='Норматив '!$I$596 -> 43626
A10: 5 | B10: с 01.04.2018 | D10: ='Норматив '!$E$583 -> 3453 | F10: ='Норматив '!$E$584 -> 2804 | H10: ='Норматив '!$F$583 -> 7251 | J10: ='Норматив '!$F$584 -> 5888 | L10: ='Норматив '!$G$583 -> 8286 | N10: ='Норматив '!$G$584 -> 6729 | P10: ='Норматив '!$H$583 -> 9668 | R10: ='Норматив '!$I$584 -> 7850 | T10: ='Норматив '!$H$583 -> 9668 | V10: ='Норматив '!$I$584 -> 7850 | X10: ='Норматив '!$E$585 -> 4373 | Z10: ='Норматив '!$E$586 -> 3224 | AB10: ='Норматив '!$F$585 -> 9184 | AD10: ='Норматив '!$F$586 -> 6771 | AF10: ='Норматив '!$G$585 -> 10496 | AH10: ='Норматив '!$G$586 -> 7738 | AJ10: ='Норматив '!$H$585 -> 12246 | AL10: ='Норматив '!$H$586 -> 9028 | AN10: ='Норматив '!$I$585 -> 12246 | AP10: ='Норматив '!$I$586 -> 9028 | AR10: ='Норматив '!$E$587 -> 6672 | AT10: ='Норматив '!$E$588 -> 4373 | AV10: ='Норматив '!$F$587 -> 14011 | AX10: ='Норматив '!$F$588 -> 9184 | AZ10: ='Норматив '!$G$587 -> 16013 | BB10: ='Норматив '!$G$588 -> 10496 | BD10: ='Норматив '!$H$587 -> 18681 | BF10: ='Норматив '!$H$588 -> 12246 | BH10: ='Норматив '!$I$587 -> 18681 | BJ10: ='Норматив '!$I$588 -> 12246 | BL10: ='Норматив '!$E$589 -> 4373 | BN10: ='Норматив '!$E$590 -> 3224 | BP10: ='Норматив '!$F$589 -> 9184 | BR10: ='Норматив '!$F$590 -> 6771 | BT10: ='Норматив '!$G$589 -> 10496 | BV10: ='Норматив '!$G$590 -> 7738 | BX10: ='Норматив '!$H$589 -> 12246 | BZ10: ='Норматив '!$H$590 -> 9028 | CB10: ='Норматив '!$I$589 -> 12246 | CD10: ='Норматив '!$I$590 -> 9028 | CF10: ='Норматив '!$E$591 -> 6672 | CH10: ='Норматив '!$E$592 -> 4373 | CJ10: ='Норматив '!$F$591 -> 14011 | CL10: ='Норматив '!$F$592 -> 9184 | CN10: ='Норматив '!$G$591 -> 16013 | CP10: ='Норматив '!$G$592 -> 10496 | CR10: ='Норматив '!$H$591 -> 18681 | CT10: ='Норматив '!$H$592 -> 12246 | CV10: ='Норматив '!$I$591 -> 18681 | CX10: ='Норматив '!$I$592 -> 12246 | CZ10: ='Норматив '!$E$593 -> 6784 | DB10: ='Норматив '!$E$594 -> 6672 | DD10: ='Норматив '!$F$593 -> 14246 | DF10: ='Норматив '!$F$594 -> 14011 | DH10: ='Норматив '!$G$593 -> 16281 | DJ10: ='Норматив '!$G$594 -> 16013 | DL10: ='Норматив '!$H$593 -> 18995 | DN10: ='Норматив '!$H$594 -> 18681 | DP10: ='Норматив '!$I$593 -> 18995 | DR10: ='Норматив '!$I$594 -> 18681 | DT10: ='Норматив '!$E$595 -> 15804 | DV10: ='Норматив '!$E$596 -> 15581 | DX10: ='Норматив '!$F$595 -> 33189 | DZ10: ='Норматив '!$F$596 -> 32719 | EB10: ='Норматив '!$G$595 -> 37930 | ED10: ='Норматив '!$G$596 -> 37393 | EF10: ='Норматив '!$H$595 -> 44252 | EH10: ='Норматив '!$H$596 -> 43626 | EJ10: ='Норматив '!$I$595 -> 44252 | EL10: ='Норматив '!$I$596 -> 43626
A11: 4 | B11: с 01.09.2018 | D11: ='Норматив '!$E$583 -> 3453 | F11: ='Норматив '!$E$584 -> 2804 | H11: ='Норматив '!$F$583 -> 7251 | J11: ='Норматив '!$F$584 -> 5888 | L11: ='Норматив '!$G$583 -> 8286 | N11: ='Норматив '!$G$584 -> 6729 | P11: ='Норматив '!$H$583 -> 9668 | R11: ='Норматив '!$I$584 -> 7850 | T11: ='Норматив '!$H$583 -> 9668 | V11: ='Норматив '!$I$584 -> 7850 | X11: ='Норматив '!$E$585 -> 4373 | Z11: ='Норматив '!$E$586 -> 3224 | AB11: ='Норматив '!$F$585 -> 9184 | AD11: ='Норматив '!$F$586 -> 6771 | AF11: ='Норматив '!$G$585 -> 10496 | AH11: ='Норматив '!$G$586 -> 7738 | AJ11: ='Норматив '!$H$585 -> 12246 | AL11: ='Норматив '!$H$586 -> 9028 | AN11: ='Норматив '!$I$585 -> 12246 | AP11: ='Норматив '!$I$586 -> 9028 | AR11: ='Норматив '!$E$587 -> 6672 | AT11: ='Норматив '!$E$588 -> 4373 | AV11: ='Норматив '!$F$587 -> 14011 | AX11: ='Норматив '!$F$588 -> 9184 | AZ11: ='Норматив '!$G$587 -> 16013 | BB11: ='Норматив '!$G$588 -> 10496 | BD11: ='Норматив '!$H$587 -> 18681 | BF11: ='Норматив '!$H$588 -> 12246 | BH11: ='Норматив '!$I$587 -> 18681 | BJ11: ='Норматив '!$I$588 -> 12246 | BL11: ='Норматив '!$E$589 -> 4373 | BN11: ='Норматив '!$E$590 -> 3224 | BP11: ='Норматив '!$F$589 -> 9184 | BR11: ='Норматив '!$F$590 -> 6771 | BT11: ='Норматив '!$G$589 -> 10496 | BV11: ='Норматив '!$G$590 -> 7738 | BX11: ='Норматив '!$H$589 -> 12246 | BZ11: ='Норматив '!$H$590 -> 9028 | CB11: ='Норматив '!$I$589 -> 12246 | CD11: ='Норматив '!$I$590 -> 9028 | CF11: ='Норматив '!$E$591 -> 6672 | CH11: ='Норматив '!$E$592 -> 4373 | CJ11: ='Норматив '!$F$591 -> 14011 | CL11: ='Норматив '!$F$592 -> 9184 | CN11: ='Норматив '!$G$591 -> 16013 | CP11: ='Норматив '!$G$592 -> 10496 | CR11: ='Норматив '!$H$591 -> 18681 | CT11: ='Норматив '!$H$592 -> 12246 | CV11: ='Норматив '!$I$591 -> 18681 | CX11: ='Норматив '!$I$592 -> 12246 | CZ11: ='Норматив '!$E$593 -> 6784 | DB11: ='Норматив '!$E$594 -> 6672 | DD11: ='Норматив '!$F$593 -> 14246 | DF11: ='Норматив '!$F$594 -> 14011 | DH11: ='Норматив '!$G$593 -> 16281 | DJ11: ='Норматив '!$G$594 -> 16013 | DL11: ='Норматив '!$H$593 -> 18995 | DN11: ='Норматив '!$H$594 -> 18681 | DP11: ='Норматив '!$I$593 -> 18995 | DR11: ='Норматив '!$I$594 -> 18681 | DT11: ='Норматив '!$E$595 -> 15804 | DV11: ='Норматив '!$E$596 -> 15581 | DX11: ='Норматив '!$F$595 -> 33189 | DZ11: ='Норматив '!$F$596 -> 32719 | EB11: ='Норматив '!$G$595 -> 37930 | ED11: ='Норматив '!$G$596 -> 37393 | EF11: ='Норматив '!$H$595 -> 44252 | EH11: ='Норматив '!$H$596 -> 43626 | EJ11: ='Норматив '!$I$595 -> 44252 | EL11: ='Норматив '!$I$596 -> 43626
A12: 1 | B12: Бокситогорский | C12: 0 | D12: =C12*D$9*3+C12*D$10*5+C12*D$11*4 -> 0 | E12: 0 | F12: =E12*F$9*3+E12*F$10*5+E12*F$11*4 -> 0 | G12: 409 | H12: =G12*H$9*3+G12*H$10*5+G12*H$11*4 -> 35587908 | I12: 1016 | J12: =I12*J$9*3+I12*J$10*5+I12*J$11*4 -> 71786496 | K12: 130 | L12: =K12*L$9*3+K12*L$10*5+K12*L$11*4 -> 12926160 | M12: 326 | N12: =M12*N$9*3+M12*N$10*5+M12*N$11*4 -> 26323848 | O12: 0 | P12: =O12*P$9*3+O12*P$10*5+O12*P$11*4 -> 0 | Q12: 0 | R12: =Q12*R$9*3+Q12*R$10*5+Q12*R$11*4 -> 0 | S12: 0 | T12: =S12*T$9*3+S12*T$10*5+S12*T$11*4 -> 0 | U12: 0 | V12: =U12*V$9*3+U12*V$10*5+U12*V$11*4 -> 0 | W12: 0 | X12: =W12*X$9*3+W12*X$10*5+W12*X$11*4 -> 0 | Y12: 0 | Z12: =Y12*Z$9*3+Y12*Z$10*5+Y12*Z$11*4 -> 0 | AA12: 0 | AB12: =AA12*AB$9*3+AA12*AB$10*5+AA12*AB$11*4 -> 0 | AC12: 0 | AD12: =AC12*AD$9*3+AC12*AD$10*5+AC12*AD$11*4 -> 0 | AE12: 0 | AF12: =AE12*AF$9*3+AE12*AF$10*5+AE12*AF$11*4 -> 0 | AG12: 0 | AH12: =AG12*AH$9*3+AG12*AH$10*5+AG12*AH$11*4 -> 0 | AI12: 0 | AJ12: =AI12*AJ$9*3+AI12*AJ$10*5+AI12*AJ$11*4 -> 0 | AK12: 0 | AL12: =AK12*AL$9*3+AK12*AL$10*5+AK12*AL$11*4 -> 0 | AM12: 0 | AN12: =AM12*AN$9*3+AM12*AN$10*5+AM12*AN$11*4 -> 0 | AO12: 0 | AP12: =AO12*AP$9*3+AO12*AP$10*5+AO12*AP$11*4 -> 0 | AQ12: 0 | AR12: =AQ12*AR$9*3+AQ12*AR$10*5+AQ12*AR$11*4 -> 0 | AS12: 0 | AT12: =AS12*AT$9*3+AS12*AT$10*5+AS12*AT$11*4 -> 0 | AU12: 0 | AV12: =AU12*AV$9*3+AU12*AV$10*5+AU12*AV$11*4 -> 0 | AW12: 0 | AX12: =AW12*AX$9*3+AW12*AX$10*5+AW12*AX$11*4 -> 0 | AY12: 0 | AZ12: =AY12*AZ$9*3+AY12*AZ$10*5+AY12*AZ$11*4 -> 0 | BA12: 0 | BB12: =BA12*BB$9*3+BA12*BB$10*5+BA12*BB$11*4 -> 0 | BC12: 0 | BD12: =BC12*BD$9*3+BC12*BD$10*5+BC12*BD$11*4 -> 0 | BE12: 0 | BF12: =BE12*BF$9*3+BE12*BF$10*5+BE12*BF$11*4 -> 0 | BG12: 0 | BH12: =BG12*BH$9*3+BG12*BH$10*5+BG12*BH$11*4 -> 0 | BI12: 0 | BJ12: =BI12*BJ$9*3+BI12*BJ$10*5+BI12*BJ$11*4 -> 0 | BK12: 0 | BL12: =BK12*BL$9*3+BK12*BL$10*5+BK12*BL$11*4 -> 0 | BM12: 0 | BN12: =BM12*BN$9*3+BM12*BN$10*5+BM12*BN$11*4 -> 0 | BO12: 19 | BP12: =BO12*BP$9*3+BO12*BP$10*5+BO12*BP$11*4 -> 2093952 | BQ12: 48 | BR12: =BQ12*BR$9*3+BQ12*BR$10*5+BQ12*BR$11*4 -> 3900096 | BS12: 0 | BT12: =BS12*BT$9*3+BS12*BT$10*5+BS12*BT$11*4 -> 0 | BU12: 15 | BV12: =BU12*BV$9*3+BU12*BV$10*5+BU12*BV$11*4 -> 1392840 | BW12: 0 | BX12: =BW12*BX$9*3+BW12*BX$10*5+BW12*BX$11*4 -> 0 | BY12: 0 | BZ12: =BY12*BZ$9*3+BY12*BZ$10*5+BY12*BZ$11*4 -> 0 | CA12: 0 | CB12: =CA12*CB$9*3+CA12*CB$10*5+CA12*CB$11*4 -> 0 | CC12: 0 | CD12: =CC12*CD$9*3+CC12*CD$10*5+CC12*CD$11*4 -> 0 | CE12: 0 | CF12: =CE12*CF$9*3+CE12*CF$10*5+CE12*CF$11*4 -> 0 | CG12: 0 | CH12: =CG12*CH$9*3+CG12*CH$10*5+CG12*CH$11*4 -> 0 | CI12: 27 | CJ12: =CI12*CJ$9*3+CI12*CJ$10*5+CI12*CJ$11*4 -> 4539564 | CK12: 32 | CL12: =CK12*CL$9*3+CK12*CL$10*5+CK12*CL$11*4 -> 3526656 | CM12: 0 | CN12: =CM12*CN$9*3+CM12*CN$10*5+CM12*CN$11*4 -> 0 | CO12: 0 | CP12: =CO12*CP$9*3+CO12*CP$10*5+CO12*CP$11*4 -> 0 | CQ12: 0 | CR12: =CQ12*CR$9*3+CQ12*CR$10*5+CQ12*CR$11*4 -> 0 | CS12: 0 | CT12: =CS12*CT$9*3+CS12*CT$10*5+CS12*CT$11*4 -> 0 | CU12: 0 | CV12: =CU12*CV$9*3+CU12*CV$10*5+CU12*CV$11*4 -> 0 | CW12: 0 | CX12: =CW12*CX$9*3+CW12*CX$10*5+CW12*CX$11*4 -> 0 | CY12: 0 | CZ12: =CY12*CZ$9*3+CY12*CZ$10*5+CY12*CZ$11*4 -> 0 | DA12: 0 | DB12: =DA12*DB$9*3+DA12*DB$10*5+DA12*DB$11*4 -> 0 | DC12: 9 | DD12: =DC12*DD$9*3+DC12*DD$10*5+DC12*DD$11*4 -> 1538568 | DE12: 28 | DF12: =DE12*DF$9*3+DE12*DF$10*5+DE12*DF$11*4 -> 4707696 | DG12: 0 | DH12: =DG12*DH$9*3+DG12*DH$10*5+DG12*DH$11*4 -> 0 | DI12: 0 | DJ12: =DI12*DJ$9*3+DI12*DJ$10*5+DI12*DJ$11*4 -> 0 | DK12: 0 | DL12: =DK12*DL$9*3+DK12*DL$10*5+DK12*DL$11*4 -> 0 | DM12: 0 | DN12: =DM12*DN$9*3+DM12*DN$10*5+DM12*DN$11*4 -> 0 | DO12: 0 | DP12: =DO12*DP$9*3+DO12*DP$10*5+DO12*DP$11*4 -> 0 | DQ12: 0 | DR12: =DQ12*DR$9*3+DQ12*DR$10*5+DQ12*DR$11*4 -> 0 | DS12: 0 | DT12: =DS12*DT$9*3+DS12*DT$10*5+DS12*DT$11*4 -> 0 | DU12: 0 | DV12: =DU12*DV$9*3+DU12*DV$10*5+DU12*DV$11*4 -> 0 | DW12: 0 | DX12: =DW12*DX$9*3+DW12*DX$10*5+DW12*DX$11*4 -> 0 | DY12: 6 | DZ12: =DY12*DZ$9*3+DY12*DZ$10*5+DY12*DZ$11*4 -> 2355768 | EA12: 0 | EB12: =EA12*EB$9*3+EA12*EB$10*5+EA12*EB$11*4 -> 0 | EC12: 0 | ED12: =EC12*ED$9*3+EC12*ED$10*5+EC12*ED$11*4 -> 0 | EE12: 0 | EF12: =EE12*EF$9*3+EE12*EF$10*5+EE12*EF$11*4 -> 0 | EG12: 0 | EH12: =EG12*EH$9*3+EG12*EH$10*5+EG12*EH$11*4 -> 0 | EI12: 0 | EJ12: =EI12*EJ$9*3+EI12*EJ$10*5+EI12*EJ$11*4 -> 0 | EK12: 0 | EL12: =EK12*EL$9*3+EK12*EL$10*5+EK12*EL$11*4 -> 0 | EM12: =C12+W12+AQ12+BK12+CE12+CY12+DS12 -> 0 | EN12: =D12+X12+AR12+BL12+CF12+CZ12+DT12 -> 0 | EO12: =E12+Y12+AS12+BM12+CG12+DA12+DU12 -> 0 | EP12: =F12+Z12+AT12+BN12+CH12+DB12+DV12 -> 0 | EQ12: =G12+AA12+AU12+BO12+CI12+DC12+DW12 -> 464 | ER12: =H12+AB12+AV12+BP12+CJ12+DD12+DX12 -> 43759992 | ES12: =I12+AC12+AW12+BQ12+CK12+DE12+DY12 -> 1130 | ET12: =J12+AD12+AX12+BR12+CL12+DF12+DZ12 -> 86276712 | ... FF12: =V12+AP12+BJ12+CD12+CX12+DR12+EL12 -> 0 | FG12: =EM12+EQ12+EU12+EY12+FC12 -> 594 | FH12: =EN12+ER12+EV12+EZ12+FD12 -> 56686152 | FI12: =EO12+ES12+EW12+FA12+FE12 -> 1471 | FJ12: =EP12+ET12+EX12+FB12+FF12 -> 113993400 | FK12: =FG12+FI12 -> 2065 | FL12: =FH12+FJ12 -> 170679552
A13: 2 | B13: Волосовский | C13: 0 | D13: =C13*D$9*3+C13*D$10*5+C13*D$11*4 -> 0 | E13: 0 | F13: =E13*F$9*3+E13*F$10*5+E13*F$11*4 -> 0 | G13: 99 | H13: =G13*H$9*3+G13*H$10*5+G13*H$11*4 -> 8614188 | I13: 241 | J13: =I13*J$9*3+I13*J$10*5+I13*J$11*4 -> 17028096 | K13: 235 | L13: =K13*L$9*3+K13*L$10*5+K13*L$11*4 -> 23366520 | M13: 617 | N13: =M13*N$9*3+M13*N$10*5+M13*N$11*4 -> 49821516 | O13: 0 | P13: =O13*P$9*3+O13*P$10*5+O13*P$11*4 -> 0 | Q13: 0 | R13: =Q13*R$9*3+Q13*R$10*5+Q13*R$11*4 -> 0 | S13: 0 | T13: =S13*T$9*3+S13*T$10*5+S13*T$11*4 -> 0 | U13: 0 | V13: =U13*V$9*3+U13*V$10*5+U13*V$11*4 -> 0 | W13: 0 | X13: =W13*X$9*3+W13*X$10*5+W13*X$11*4 -> 0 | Y13: 0 | Z13: =Y13*Z$9*3+Y13*Z$10*5+Y13*Z$11*4 -> 0 | AA13: 0 | AB13: =AA13*AB$9*3+AA13*AB$10*5+AA13*AB$11*4 -> 0 | AC13: 0 | AD13: =AC13*AD$9*3+AC13*AD$10*5+AC13*AD$11*4 -> 0 | AE13: 0 | AF13: =AE13*AF$9*3+AE13*AF$10*5+AE13*AF$11*4 -> 0 | AG13: 0 | AH13: =AG13*AH$9*3+AG13*AH$10*5+AG13*AH$11*4 -> 0 | AI13: 0 | AJ13: =AI13*AJ$9*3+AI13*AJ$10*5+AI13*AJ$11*4 -> 0 | AK13: 0 | AL13: =AK13*AL$9*3+AK13*AL$10*5+AK13*AL$11*4 -> 0 | AM13: 0 | AN13: =AM13*AN$9*3+AM13*AN$10*5+AM13*AN$11*4 -> 0 | AO13: 0 | AP13: =AO13*AP$9*3+AO13*AP$10*5+AO13*AP$11*4 -> 0 | AQ13: 0 | AR13: =AQ13*AR$9*3+AQ13*AR$10*5+AQ13*AR$11*4 -> 0 | AS13: 0 | AT13: =AS13*AT$9*3+AS13*AT$10*5+AS13*AT$11*4 -> 0 | AU13: 0 | AV13: =AU13*AV$9*3+AU13*AV$10*5+AU13*AV$11*4 -> 0 | AW13: 0 | AX13: =AW13*AX$9*3+AW13*AX$10*5+AW13*AX$11*4 -> 0 | AY13: 0 | AZ13: =AY13*AZ$9*3+AY13*AZ$10*5+AY13*AZ$11*4 -> 0 | BA13: 0 | BB13: =BA13*BB$9*3+BA13*BB$10*5+BA13*BB$11*4 -> 0 | BC13: 0 | BD13: =BC13*BD$9*3+BC13*BD$10*5+BC13*BD$11*4 -> 0 | BE13: 0 | BF13: =BE13*BF$9*3+BE13*BF$10*5+BE13*BF$11*4 -> 0 | BG13: 0 | BH13: =BG13*BH$9*3+BG13*BH$10*5+BG13*BH$11*4 -> 0 | BI13: 0 | BJ13: =BI13*BJ$9*3+BI13*BJ$10*5+BI13*BJ$11*4 -> 0 | BK13: 0 | BL13: =BK13*BL$9*3+BK13*BL$10*5+BK13*BL$11*4 -> 0 | BM13: 0 | BN13: =BM13*BN$9*3+BM13*BN$10*5+BM13*BN$11*4 -> 0 | BO13: 208 | BP13: =BO13*BP$9*3+BO13*BP$10*5+BO13*BP$11*4 -> 22923264 | BQ13: 558 | BR13: =BQ13*BR$9*3+BQ13*BR$10*5+BQ13*BR$11*4 -> 45338616 | BS13: 0 | BT13: =BS13*BT$9*3+BS13*BT$10*5+BS13*BT$11*4 -> 0 | BU13: 0 | BV13: =BU13*BV$9*3+BU13*BV$10*5+BU13*BV$11*4 -> 0 | BW13: 0 | BX13: =BW13*BX$9*3+BW13*BX$10*5+BW13*BX$11*4 -> 0 | BY13: 0 | BZ13: =BY13*BZ$9*3+BY13*BZ$10*5+BY13*BZ$11*4 -> 0 | CA13: 0 | CB13: =CA13*CB$9*3+CA13*CB$10*5+CA13*CB$11*4 -> 0 | CC13: 0 | CD13: =CC13*CD$9*3+CC13*CD$10*5+CC13*CD$11*4 -> 0 | CE13: 0 | CF13: =CE13*CF$9*3+CE13*CF$10*5+CE13*CF$11*4 -> 0 | CG13: 0 | CH13: =CG13*CH$9*3+CG13*CH$10*5+CG13*CH$11*4 -> 0 | CI13: 36 | CJ13: =CI13*CJ$9*3+CI13*CJ$10*5+CI13*CJ$11*4 -> 6052752 | CK13: 89 | CL13: =CK13*CL$9*3+CK13*CL$10*5+CK13*CL$11*4 -> 9808512 | CM13: 0 | CN13: =CM13*CN$9*3+CM13*CN$10*5+CM13*CN$11*4 -> 0 | CO13: 0 | CP13: =CO13*CP$9*3+CO13*CP$10*5+CO13*CP$11*4 -> 0 | CQ13: 0 | CR13: =CQ13*CR$9*3+CQ13*CR$10*5+CQ13*CR$11*4 -> 0 | CS13: 0 | CT13: =CS13*CT$9*3+CS13*CT$10*5+CS13*CT$11*4 -> 0 | CU13: 0 | CV13: =CU13*CV$9*3+CU13*CV$10*5+CU13*CV$11*4 -> 0 | CW13: 0 | CX13: =CW13*CX$9*3+CW13*CX$10*5+CW13*CX$11*4 -> 0 | CY13: 0 | CZ13: =CY13*CZ$9*3+CY13*CZ$10*5+CY13*CZ$11*4 -> 0 | DA13: 0 | DB13: =DA13*DB$9*3+DA13*DB$10*5+DA13*DB$11*4 -> 0 | DC13: 0 | DD13: =DC13*DD$9*3+DC13*DD$10*5+DC13*DD$11*4 -> 0 | DE13: 0 | DF13: =DE13*DF$9*3+DE13*DF$10*5+DE13*DF$11*4 -> 0 | DG13: 0 | DH13: =DG13*DH$9*3+DG13*DH$10*5+DG13*DH$11*4 -> 0 | DI13: 0 | DJ13: =DI13*DJ$9*3+DI13*DJ$10*5+DI13*DJ$11*4 -> 0 | DK13: 0 | DL13: =DK13*DL$9*3+DK13*DL$10*5+DK13*DL$11*4 -> 0 | DM13: 0 | DN13: =DM13*DN$9*3+DM13*DN$10*5+DM13*DN$11*4 -> 0 | DO13: 0 | DP13: =DO13*DP$9*3+DO13*DP$10*5+DO13*DP$11*4 -> 0 | DQ13: 0 | DR13: =DQ13*DR$9*3+DQ13*DR$10*5+DQ13*DR$11*4 -> 0 | DS13: 0 | DT13: =DS13*DT$9*3+DS13*DT$10*5+DS13*DT$11*4 -> 0 | DU13: 0 | DV13: =DU13*DV$9*3+DU13*DV$10*5+DU13*DV$11*4 -> 0 | DW13: 0 | DX13: =DW13*DX$9*3+DW13*DX$10*5+DW13*DX$11*4 -> 0 | DY13: 0 | DZ13: =DY13*DZ$9*3+DY13*DZ$10*5+DY13*DZ$11*4 -> 0 | EA13: 0 | EB13: =EA13*EB$9*3+EA13*EB$10*5+EA13*EB$11*4 -> 0 | EC13: 0 | ED13: =EC13*ED$9*3+EC13*ED$10*5+EC13*ED$11*4 -> 0 | EE13: 0 | EF13: =EE13*EF$9*3+EE13*EF$10*5+EE13*EF$11*4 -> 0 | EG13: 0 | EH13: =EG13*EH$9*3+EG13*EH$10*5+EG13*EH$11*4 -> 0 | EI13: 0 | EJ13: =EI13*EJ$9*3+EI13*EJ$10*5+EI13*EJ$11*4 -> 0 | EK13: 0 | EL13: =EK13*EL$9*3+EK13*EL$10*5+EK13*EL$11*4 -> 0 | EM13: =C13+W13+AQ13+BK13+CE13+CY13+DS13 -> 0 | EN13: =D13+X13+AR13+BL13+CF13+CZ13+DT13 -> 0 | EO13: =E13+Y13+AS13+BM13+CG13+DA13+DU13 -> 0 | EP13: =F13+Z13+AT13+BN13+CH13+DB13+DV13 -> 0 | EQ13: =G13+AA13+AU13+BO13+CI13+DC13+DW13 -> 343 | ER13: =H13+AB13+AV13+BP13+CJ13+DD13+DX13 -> 37590204 | ES13: =I13+AC13+AW13+BQ13+CK13+DE13+DY13 -> 888 | ET13: =J13+AD13+AX13+BR13+CL13+DF13+DZ13 -> 72175224 | ... FF13: =V13+AP13+BJ13+CD13+CX13+DR13+EL13 -> 0 | FG13: =EM13+EQ13+EU13+EY13+FC13 -> 578 | FH13: =EN13+ER13+EV13+EZ13+FD13 -> 60956724 | FI13: =EO13+ES13+EW13+FA13+FE13 -> 1505 | FJ13: =EP13+ET13+EX13+FB13+FF13 -> 121996740 | FK13: =FG13+FI13 -> 2083 | FL13: =FH13+FJ13 -> 182953464
A14: 3 | B14: Волховский | C14: 0 | D14: =C14*D$9*3+C14*D$10*5+C14*D$11*4 -> 0 | E14: 0 | F14: =E14*F$9*3+E14*F$10*5+E14*F$11*4 -> 0 | G14: 54 | H14: =G14*H$9*3+G14*H$10*5+G14*H$11*4 -> 4698648 | I14: 108 | J14: =I14*J$9*3+I14*J$10*5+I14*J$11*4 -> 7630848 | K14: 861 | L14: =K14*L$9*3+K14*L$10*5+K14*L$11*4 -> 85610952 | M14: 2050 | N14: =M14*N$9*3+M14*N$10*5+M14*N$11*4 -> 165533400 | O14: 10 | P14: =O14*P$9*3+O14*P$10*5+O14*P$11*4 -> 1160160 | Q14: 0 | R14: =Q14*R$9*3+Q14*R$10*5+Q14*R$11*4 -> 0 | S14: 0 | T14: =S14*T$9*3+S14*T$10*5+S14*T$11*4 -> 0 | U14: 37 | V14: =U14*V$9*3+U14*V$10*5+U14*V$11*4 -> 3485400 | W14: 0 | X14: =W14*X$9*3+W14*X$10*5+W14*X$11*4 -> 0 | Y14: 0 | Z14: =Y14*Z$9*3+Y14*Z$10*5+Y14*Z$11*4 -> 0 | AA14: 0 | AB14: =AA14*AB$9*3+AA14*AB$10*5+AA14*AB$11*4 -> 0 | AC14: 0 | AD14: =AC14*AD$9*3+AC14*AD$10*5+AC14*AD$11*4 -> 0 | AE14: 0 | AF14: =AE14*AF$9*3+AE14*AF$10*5+AE14*AF$11*4 -> 0 | AG14: 0 | AH14: =AG14*AH$9*3+AG14*AH$10*5+AG14*AH$11*4 -> 0 | AI14: 0 | AJ14: =AI14*AJ$9*3+AI14*AJ$10*5+AI14*AJ$11*4 -> 0 | AK14: 0 | AL14: =AK14*AL$9*3+AK14*AL$10*5+AK14*AL$11*4 -> 0 | AM14: 0 | AN14: =AM14*AN$9*3+AM14*AN$10*5+AM14*AN$11*4 -> 0 | AO14: 0 | AP14: =AO14*AP$9*3+AO14*AP$10*5+AO14*AP$11*4 -> 0 | AQ14: 0 | AR14: =AQ14*AR$9*3+AQ14*AR$10*5+AQ14*AR$11*4 -> 0 | AS14: 0 | AT14: =AS14*AT$9*3+AS14*AT$10*5+AS14*AT$11*4 -> 0 | AU14: 0 | AV14: =AU14*AV$9*3+AU14*AV$10*5+AU14*AV$11*4 -> 0 | AW14: 0 | AX14: =AW14*AX$9*3+AW14*AX$10*5+AW14*AX$11*4 -> 0 | AY14: 0 | AZ14: =AY14*AZ$9*3+AY14*AZ$10*5+AY14*AZ$11*4 -> 0 | BA14: 0 | BB14: =BA14*BB$9*3+BA14*BB$10*5+BA14*BB$11*4 -> 0 | BC14: 0 | BD14: =BC14*BD$9*3+BC14*BD$10*5+BC14*BD$11*4 -> 0 | BE14: 0 | BF14: =BE14*BF$9*3+BE14*BF$10*5+BE14*BF$11*4 -> 0 | BG14: 0 | BH14: =BG14*BH$9*3+BG14*BH$10*5+BG14*BH$11*4 -> 0 | BI14: 0 | BJ14: =BI14*BJ$9*3+BI14*BJ$10*5+BI14*BJ$11*4 -> 0 | BK14: 0 | BL14: =BK14*BL$9*3+BK14*BL$10*5+BK14*BL$11*4 -> 0 | BM14: 0 | BN14: =BM14*BN$9*3+BM14*BN$10*5+BM14*BN$11*4 -> 0 | BO14: 62 | BP14: =BO14*BP$9*3+BO14*BP$10*5+BO14*BP$11*4 -> 6832896 | BQ14: 149 | BR14: =BQ14*BR$9*3+BQ14*BR$10*5+BQ14*BR$11*4 -> 12106548 | BS14: 0 | BT14: =BS14*BT$9*3+BS14*BT$10*5+BS14*BT$11*4 -> 0 | BU14: 38 | BV14: =BU14*BV$9*3+BU14*BV$10*5+BU14*BV$11*4 -> 3528528 | BW14: 0 | BX14: =BW14*BX$9*3+BW14*BX$10*5+BW14*BX$11*4 -> 0 | BY14: 0 | BZ14: =BY14*BZ$9*3+BY14*BZ$10*5+BY14*BZ$11*4 -> 0 | CA14: 0 | CB14: =CA14*CB$9*3+CA14*CB$10*5+CA14*CB$11*4 -> 0 | CC14: 0 | CD14: =CC14*CD$9*3+CC14*CD$10*5+CC14*CD$11*4 -> 0 | CE14: 0 | CF14: =CE14*CF$9*3+CE14*CF$10*5+CE14*CF$11*4 -> 0 | CG14: 0 | CH14: =CG14*CH$9*3+CG14*CH$10*5+CG14*CH$11*4 -> 0 | CI14: 43 | CJ14: =CI14*CJ$9*3+CI14*CJ$10*5+CI14*CJ$11*4 -> 7229676 | CK14: 54 | CL14: =CK14*CL$9*3+CK14*CL$10*5+CK14*CL$11*4 -> 5951232 | CM14: 0 | CN14: =CM14*CN$9*3+CM14*CN$10*5+CM14*CN$11*4 -> 0 | CO14: 19 | CP14: =CO14*CP$9*3+CO14*CP$10*5+CO14*CP$11*4 -> 2393088 | CQ14: 0 | CR14: =CQ14*CR$9*3+CQ14*CR$10*5+CQ14*CR$11*4 -> 0 | CS14: 0 | CT14: =CS14*CT$9*3+CS14*CT$10*5+CS14*CT$11*4 -> 0 | CU14: 0 | CV14: =CU14*CV$9*3+CU14*CV$10*5+CU14*CV$11*4 -> 0 | CW14: 0 | CX14: =CW14*CX$9*3+CW14*CX$10*5+CW14*CX$11*4 -> 0 | CY14: 0 | CZ14: =CY14*CZ$9*3+CY14*CZ$10*5+CY14*CZ$11*4 -> 0 | DA14: 0 | DB14: =DA14*DB$9*3+DA14*DB$10*5+DA14*DB$11*4 -> 0 | DC14: 9 | DD14: =DC14*DD$9*3+DC14*DD$10*5+DC14*DD$11*4 -> 1538568 | DE14: 23 | DF14: =DE14*DF$9*3+DE14*DF$10*5+DE14*DF$11*4 -> 3867036 | DG14: 0 | DH14: =DG14*DH$9*3+DG14*DH$10*5+DG14*DH$11*4 -> 0 | DI14: 0 | DJ14: =DI14*DJ$9*3+DI14*DJ$10*5+DI14*DJ$11*4 -> 0 | DK14: 0 | DL14: =DK14*DL$9*3+DK14*DL$10*5+DK14*DL$11*4 -> 0 | DM14: 0 | DN14: =DM14*DN$9*3+DM14*DN$10*5+DM14*DN$11*4 -> 0 | DO14: 0 | DP14: =DO14*DP$9*3+DO14*DP$10*5+DO14*DP$11*4 -> 0 | DQ14: 0 | DR14: =DQ14*DR$9*3+DQ14*DR$10*5+DQ14*DR$11*4 -> 0 | DS14: 0 | DT14: =DS14*DT$9*3+DS14*DT$10*5+DS14*DT$11*4 -> 0 | DU14: 0 | DV14: =DU14*DV$9*3+DU14*DV$10*5+DU14*DV$11*4 -> 0 | DW14: 3 | DX14: =DW14*DX$9*3+DW14*DX$10*5+DW14*DX$11*4 -> 1194804 | DY14: 7 | DZ14: =DY14*DZ$9*3+DY14*DZ$10*5+DY14*DZ$11*4 -> 2748396 | EA14: 0 | EB14: =EA14*EB$9*3+EA14*EB$10*5+EA14*EB$11*4 -> 0 | EC14: 0 | ED14: =EC14*ED$9*3+EC14*ED$10*5+EC14*ED$11*4 -> 0 | EE14: 0 | EF14: =EE14*EF$9*3+EE14*EF$10*5+EE14*EF$11*4 -> 0 | EG14: 0 | EH14: =EG14*EH$9*3+EG14*EH$10*5+EG14*EH$11*4 -> 0 | EI14: 0 | EJ14: =EI14*EJ$9*3+EI14*EJ$10*5+EI14*EJ$11*4 -> 0 | EK14: 0 | EL14: =EK14*EL$9*3+EK14*EL$10*5+EK14*EL$11*4 -> 0 | EM14: =C14+W14+AQ14+BK14+CE14+CY14+DS14 -> 0 | EN14: =D14+X14+AR14+BL14+CF14+CZ14+DT14 -> 0 | EO14: =E14+Y14+AS14+BM14+CG14+DA14+DU14 -> 0 | EP14: =F14+Z14+AT14+BN14+CH14+DB14+DV14 -> 0 | EQ14: =G14+AA14+AU14+BO14+CI14+DC14+DW14 -> 171 | ER14: =H14+AB14+AV14+BP14+CJ14+DD14+DX14 -> 21494592 | ES14: =I14+AC14+AW14+BQ14+CK14+DE14+DY14 -> 341 | ET14: =J14+AD14+AX14+BR14+CL14+DF14+DZ14 -> 32304060 | ... FF14: =V14+AP14+BJ14+CD14+CX14+DR14+EL14 -> 3485400 | FG14: =EM14+EQ14+EU14+EY14+FC14 -> 1042 | FH14: =EN14+ER14+EV14+EZ14+FD14 -> 108265704 | FI14: =EO14+ES14+EW14+FA14+FE14 -> 2485 | FJ14: =EP14+ET14+EX14+FB14+FF14 -> 207244476 | FK14: =FG14+FI14 -> 3527 | FL14: =FH14+FJ14 -> 315510180
A15: 4 | B15: Всеволожский | C15: 163 | D15: =C15*D$9*3+C15*D$10*5+C15*D$11*4 -> 6754068 | E15: 0 | F15: =E15*F$9*3+E15*F$10*5+E15*F$11*4 -> 0 | G15: 0 | H15: =G15*H$9*3+G15*H$10*5+G15*H$11*4 -> 0 | I15: 0 | J15: =I15*J$9*3+I15*J$10*5+I15*J$11*4 -> 0 | K15: 680 | L15: =K15*L$9*3+K15*L$10*5+K15*L$11*4 -> 67613760 | M15: 12166 | N15: =M15*N$9*3+M15*N$10*5+M15*N$11*4 -> 982380168 | O15: 0 | P15: =O15*P$9*3+O15*P$10*5+O15*P$11*4 -> 0 | Q15: 0 | R15: =Q15*R$9*3+Q15*R$10*5+Q15*R$11*4 -> 0 | S15: 0 | T15: =S15*T$9*3+S15*T$10*5+S15*T$11*4 -> 0 | U15: 28 | V15: =U15*V$9*3+U15*V$10*5+U15*V$11*4 -> 2637600 | W15: 0 | X15: =W15*X$9*3+W15*X$10*5+W15*X$11*4 -> 0 | Y15: 0 | Z15: =Y15*Z$9*3+Y15*Z$10*5+Y15*Z$11*4 -> 0 | AA15: 0 | AB15: =AA15*AB$9*3+AA15*AB$10*5+AA15*AB$11*4 -> 0 | AC15: 0 | AD15: =AC15*AD$9*3+AC15*AD$10*5+AC15*AD$11*4 -> 0 | AE15: 0 | AF15: =AE15*AF$9*3+AE15*AF$10*5+AE15*AF$11*4 -> 0 | AG15: 0 | AH15: =AG15*AH$9*3+AG15*AH$10*5+AG15*AH$11*4 -> 0 | AI15: 0 | AJ15: =AI15*AJ$9*3+AI15*AJ$10*5+AI15*AJ$11*4 -> 0 | AK15: 0 | AL15: =AK15*AL$9*3+AK15*AL$10*5+AK15*AL$11*4 -> 0 | AM15: 0 | AN15: =AM15*AN$9*3+AM15*AN$10*5+AM15*AN$11*4 -> 0 | AO15: 0 | AP15: =AO15*AP$9*3+AO15*AP$10*5+AO15*AP$11*4 -> 0 | AQ15: 0 | AR15: =AQ15*AR$9*3+AQ15*AR$10*5+AQ15*AR$11*4 -> 0 | AS15: 0 | AT15: =AS15*AT$9*3+AS15*AT$10*5+AS15*AT$11*4 -> 0 | AU15: 0 | AV15: =AU15*AV$9*3+AU15*AV$10*5+AU15*AV$11*4 -> 0 | AW15: 0 | AX15: =AW15*AX$9*3+AW15*AX$10*5+AW15*AX$11*4 -> 0 | AY15: 0 | AZ15: =AY15*AZ$9*3+AY15*AZ$10*5+AY15*AZ$11*4 -> 0 | BA15: 0 | BB15: =BA15*BB$9*3+BA15*BB$10*5+BA15*BB$11*4 -> 0 | BC15: 0 | BD15: =BC15*BD$9*3+BC15*BD$10*5+BC15*BD$11*4 -> 0 | BE15: 0 | BF15: =BE15*BF$9*3+BE15*BF$10*5+BE15*BF$11*4 -> 0 | BG15: 0 | BH15: =BG15*BH$9*3+BG15*BH$10*5+BG15*BH$11*4 -> 0 | BI15: 0 | BJ15: =BI15*BJ$9*3+BI15*BJ$10*5+BI15*BJ$11*4 -> 0 | BK15: 0 | BL15: =BK15*BL$9*3+BK15*BL$10*5+BK15*BL$11*4 -> 0 | BM15: 0 | BN15: =BM15*BN$9*3+BM15*BN$10*5+BM15*BN$11*4 -> 0 | BO15: 0 | BP15: =BO15*BP$9*3+BO15*BP$10*5+BO15*BP$11*4 -> 0 | BQ15: 0 | BR15: =BQ15*BR$9*3+BQ15*BR$10*5+BQ15*BR$11*4 -> 0 | BS15: 0 | BT15: =BS15*BT$9*3+BS15*BT$10*5+BS15*BT$11*4 -> 0 | BU15: 142 | BV15: =BU15*BV$9*3+BU15*BV$10*5+BU15*BV$11*4 -> 13185552 | BW15: 0 | BX15: =BW15*BX$9*3+BW15*BX$10*5+BW15*BX$11*4 -> 0 | BY15: 0 | BZ15: =BY15*BZ$9*3+BY15*BZ$10*5+BY15*BZ$11*4 -> 0 | CA15: 0 | CB15: =CA15*CB$9*3+CA15*CB$10*5+CA15*CB$11*4 -> 0 | CC15: 0 | CD15: =CC15*CD$9*3+CC15*CD$10*5+CC15*CD$11*4 -> 0 | CE15: 0 | CF15: =CE15*CF$9*3+CE15*CF$10*5+CE15*CF$11*4 -> 0 | CG15: 0 | CH15: =CG15*CH$9*3+CG15*CH$10*5+CG15*CH$11*4 -> 0 | CI15: 0 | CJ15: =CI15*CJ$9*3+CI15*CJ$10*5+CI15*CJ$11*4 -> 0 | CK15: 0 | CL15: =CK15*CL$9*3+CK15*CL$10*5+CK15*CL$11*4 -> 0 | CM15: 0 | CN15: =CM15*CN$9*3+CM15*CN$10*5+CM15*CN$11*4 -> 0 | CO15: 0 | CP15: =CO15*CP$9*3+CO15*CP$10*5+CO15*CP$11*4 -> 0 | CQ15: 0 | CR15: =CQ15*CR$9*3+CQ15*CR$10*5+CQ15*CR$11*4 -> 0 | CS15: 0 | CT15: =CS15*CT$9*3+CS15*CT$10*5+CS15*CT$11*4 -> 0 | CU15: 0 | CV15: =CU15*CV$9*3+CU15*CV$10*5+CU15*CV$11*4 -> 0 | CW15: 0 | CX15: =CW15*CX$9*3+CW15*CX$10*5+CW15*CX$11*4 -> 0 | CY15: 0 | CZ15: =CY15*CZ$9*3+CY15*CZ$10*5+CY15*CZ$11*4 -> 0 | DA15: 0 | DB15: =DA15*DB$9*3+DA15*DB$10*5+DA15*DB$11*4 -> 0 | DC15: 0 | DD15: =DC15*DD$9*3+DC15*DD$10*5+DC15*DD$11*4 -> 0 | DE15: 0 | DF15: =DE15*DF$9*3+DE15*DF$10*5+DE15*DF$11*4 -> 0 | DG15: 0 | DH15: =DG15*DH$9*3+DG15*DH$10*5+DG15*DH$11*4 -> 0 | DI15: 0 | DJ15: =DI15*DJ$9*3+DI15*DJ$10*5+DI15*DJ$11*4 -> 0 | DK15: 0 | DL15: =DK15*DL$9*3+DK15*DL$10*5+DK15*DL$11*4 -> 0 | DM15: 0 | DN15: =DM15*DN$9*3+DM15*DN$10*5+DM15*DN$11*4 -> 0 | DO15: 0 | DP15: =DO15*DP$9*3+DO15*DP$10*5+DO15*DP$11*4 -> 0 | DQ15: 0 | DR15: =DQ15*DR$9*3+DQ15*DR$10*5+DQ15*DR$11*4 -> 0 | DS15: 0 | DT15: =DS15*DT$9*3+DS15*DT$10*5+DS15*DT$11*4 -> 0 | DU15: 0 | DV15: =DU15*DV$9*3+DU15*DV$10*5+DU15*DV$11*4 -> 0 | DW15: 0 | DX15: =DW15*DX$9*3+DW15*DX$10*5+DW15*DX$11*4 -> 0 | DY15: 0 | DZ15: =DY15*DZ$9*3+DY15*DZ$10*5+DY15*DZ$11*4 -> 0 | EA15: 0 | EB15: =EA15*EB$9*3+EA15*EB$10*5+EA15*EB$11*4 -> 0 | EC15: 0 | ED15: =EC15*ED$9*3+EC15*ED$10*5+EC15*ED$11*4 -> 0 | EE15: 0 | EF15: =EE15*EF$9*3+EE15*EF$10*5+EE15*EF$11*4 -> 0 | EG15: 0 | EH15: =EG15*EH$9*3+EG15*EH$10*5+EG15*EH$11*4 -> 0 | EI15: 0 | EJ15: =EI15*EJ$9*3+EI15*EJ$10*5+EI15*EJ$11*4 -> 0 | EK15: 0 | EL15: =EK15*EL$9*3+EK15*EL$10*5+EK15*EL$11*4 -> 0 | EM15: =C15+W15+AQ15+BK15+CE15+CY15+DS15 -> 163 | EN15: =D15+X15+AR15+BL15+CF15+CZ15+DT15 -> 6754068 | EO15: =E15+Y15+AS15+BM15+CG15+DA15+DU15 -> 0 | EP15: =F15+Z15+AT15+BN15+CH15+DB15+DV15 -> 0 | EQ15: =G15+AA15+AU15+BO15+CI15+DC15+DW15 -> 0 | ER15: =H15+AB15+AV15+BP15+CJ15+DD15+DX15 -> 0 | ES15: =I15+AC15+AW15+BQ15+CK15+DE15+DY15 -> 0 | ET15: =J15+AD15+AX15+BR15+CL15+DF15+DZ15 -> 0 | ... FF15: =V15+AP15+BJ15+CD15+CX15+DR15+EL15 -> 2637600 | FG15: =EM15+EQ15+EU15+EY15+FC15 -> 843 | FH15: =EN15+ER15+EV15+EZ15+FD15 -> 74367828 | FI15: =EO15+ES15+EW15+FA15+FE15 -> 12336 | FJ15: =EP15+ET15+EX15+FB15+FF15 -> 998203320 | FK15: =FG15+FI15 -> 13179 | FL15: =FH15+FJ15 -> 1072571148
A16: 5 | B16: Выборгский | C16: 0 | D16: =C16*D$9*3+C16*D$10*5+C16*D$11*4 -> 0 | E16: 0 | F16: =E16*F$9*3+E16*F$10*5+E16*F$11*4 -> 0 | G16: 521 | H16: =G16*H$9*3+G16*H$10*5+G16*H$11*4 -> 45333252 | I16: 1482 | J16: =I16*J$9*3+I16*J$10*5+I16*J$11*4 -> 104712192 | K16: 1206 | L16: =K16*L$9*3+K16*L$10*5+K16*L$11*4 -> 119914992 | M16: 3176 | N16: =M16*N$9*3+M16*N$10*5+M16*N$11*4 -> 256455648 | O16: 0 | P16: =O16*P$9*3+O16*P$10*5+O16*P$11*4 -> 0 | Q16: 0 | R16: =Q16*R$9*3+Q16*R$10*5+Q16*R$11*4 -> 0 | S16: 0 | T16: =S16*T$9*3+S16*T$10*5+S16*T$11*4 -> 0 | U16: 23 | V16: =U16*V$9*3+U16*V$10*5+U16*V$11*4 -> 2166600 | W16: 0 | X16: =W16*X$9*3+W16*X$10*5+W16*X$11*4 -> 0 | Y16: 0 | Z16: =Y16*Z$9*3+Y16*Z$10*5+Y16*Z$11*4 -> 0 | AA16: 32 | AB16: =AA16*AB$9*3+AA16*AB$10*5+AA16*AB$11*4 -> 3526656 | AC16: 64 | AD16: =AC16*AD$9*3+AC16*AD$10*5+AC16*AD$11*4 -> 5200128 | AE16: 24 | AF16: =AE16*AF$9*3+AE16*AF$10*5+AE16*AF$11*4 -> 3022848 | AG16: 87 | AH16: =AG16*AH$9*3+AG16*AH$10*5+AG16*AH$11*4 -> 8078472 | AI16: 0 | AJ16: =AI16*AJ$9*3+AI16*AJ$10*5+AI16*AJ$11*4 -> 0 | AK16: 0 | AL16: =AK16*AL$9*3+AK16*AL$10*5+AK16*AL$11*4 -> 0 | AM16: 0 | AN16: =AM16*AN$9*3+AM16*AN$10*5+AM16*AN$11*4 -> 0 | AO16: 0 | AP16: =AO16*AP$9*3+AO16*AP$10*5+AO16*AP$11*4 -> 0 | AQ16: 0 | AR16: =AQ16*AR$9*3+AQ16*AR$10*5+AQ16*AR$11*4 -> 0 | AS16: 0 | AT16: =AS16*AT$9*3+AS16*AT$10*5+AS16*AT$11*4 -> 0 | AU16: 0 | AV16: =AU16*AV$9*3+AU16*AV$10*5+AU16*AV$11*4 -> 0 | AW16: 0 | AX16: =AW16*AX$9*3+AW16*AX$10*5+AW16*AX$11*4 -> 0 | AY16: 0 | AZ16: =AY16*AZ$9*3+AY16*AZ$10*5+AY16*AZ$11*4 -> 0 | BA16: 0 | BB16: =BA16*BB$9*3+BA16*BB$10*5+BA16*BB$11*4 -> 0 | BC16: 0 | BD16: =BC16*BD$9*3+BC16*BD$10*5+BC16*BD$11*4 -> 0 | BE16: 0 | BF16: =BE16*BF$9*3+BE16*BF$10*5+BE16*BF$11*4 -> 0 | BG16: 0 | BH16: =BG16*BH$9*3+BG16*BH$10*5+BG16*BH$11*4 -> 0 | BI16: 0 | BJ16: =BI16*BJ$9*3+BI16*BJ$10*5+BI16*BJ$11*4 -> 0 | BK16: 0 | BL16: =BK16*BL$9*3+BK16*BL$10*5+BK16*BL$11*4 -> 0 | BM16: 0 | BN16: =BM16*BN$9*3+BM16*BN$10*5+BM16*BN$11*4 -> 0 | BO16: 53 | BP16: =BO16*BP$9*3+BO16*BP$10*5+BO16*BP$11*4 -> 5841024 | BQ16: 9 | BR16: =BQ16*BR$9*3+BQ16*BR$10*5+BQ16*BR$11*4 -> 731268 | BS16: 147 | BT16: =BS16*BT$9*3+BS16*BT$10*5+BS16*BT$11*4 -> 18514944 | BU16: 425 | BV16: =BU16*BV$9*3+BU16*BV$10*5+BU16*BV$11*4 -> 39463800 | BW16: 0 | BX16: =BW16*BX$9*3+BW16*BX$10*5+BW16*BX$11*4 -> 0 | BY16: 0 | BZ16: =BY16*BZ$9*3+BY16*BZ$10*5+BY16*BZ$11*4 -> 0 | CA16: 0 | CB16: =CA16*CB$9*3+CA16*CB$10*5+CA16*CB$11*4 -> 0 | CC16: 0 | CD16: =CC16*CD$9*3+CC16*CD$10*5+CC16*CD$11*4 -> 0 | CE16: 0 | CF16: =CE16*CF$9*3+CE16*CF$10*5+CE16*CF$11*4 -> 0 | CG16: 0 | CH16: =CG16*CH$9*3+CG16*CH$10*5+CG16*CH$11*4 -> 0 | CI16: 10 | CJ16: =CI16*CJ$9*3+CI16*CJ$10*5+CI16*CJ$11*4 -> 1681320 | CK16: 30 | CL16: =CK16*CL$9*3+CK16*CL$10*5+CK16*CL$11*4 -> 3306240 | CM16: 74 | CN16: =CM16*CN$9*3+CM16*CN$10*5+CM16*CN$11*4 -> 14219544 | CO16: 67 | CP16: =CO16*CP$9*3+CO16*CP$10*5+CO16*CP$11*4 -> 8438784 | CQ16: 0 | CR16: =CQ16*CR$9*3+CQ16*CR$10*5+CQ16*CR$11*4 -> 0 | CS16: 0 | CT16: =CS16*CT$9*3+CS16*CT$10*5+CS16*CT$11*4 -> 0 | CU16: 0 | CV16: =CU16*CV$9*3+CU16*CV$10*5+CU16*CV$11*4 -> 0 | CW16: 21 | CX16: =CW16*CX$9*3+CW16*CX$10*5+CW16*CX$11*4 -> 3085992 | CY16: 0 | CZ16: =CY16*CZ$9*3+CY16*CZ$10*5+CY16*CZ$11*4 -> 0 | DA16: 0 | DB16: =DA16*DB$9*3+DA16*DB$10*5+DA16*DB$11*4 -> 0 | DC16: 0 | DD16: =DC16*DD$9*3+DC16*DD$10*5+DC16*DD$11*4 -> 0 | DE16: 0 | DF16: =DE16*DF$9*3+DE16*DF$10*5+DE16*DF$11*4 -> 0 | DG16: 1 | DH16: =DG16*DH$9*3+DG16*DH$10*5+DG16*DH$11*4 -> 195372 | DI16: 20 | DJ16: =DI16*DJ$9*3+DI16*DJ$10*5+DI16*DJ$11*4 -> 3843120 | DK16: 0 | DL16: =DK16*DL$9*3+DK16*DL$10*5+DK16*DL$11*4 -> 0 | DM16: 0 | DN16: =DM16*DN$9*3+DM16*DN$10*5+DM16*DN$11*4 -> 0 | DO16: 0 | DP16: =DO16*DP$9*3+DO16*DP$10*5+DO16*DP$11*4 -> 0 | DQ16: 0 | DR16: =DQ16*DR$9*3+DQ16*DR$10*5+DQ16*DR$11*4 -> 0 | DS16: 0 | DT16: =DS16*DT$9*3+DS16*DT$10*5+DS16*DT$11*4 -> 0 | DU16: 0 | DV16: =DU16*DV$9*3+DU16*DV$10*5+DU16*DV$11*4 -> 0 | DW16: 0 | DX16: =DW16*DX$9*3+DW16*DX$10*5+DW16*DX$11*4 -> 0 | DY16: 0 | DZ16: =DY16*DZ$9*3+DY16*DZ$10*5+DY16*DZ$11*4 -> 0 | EA16: 0 | EB16: =EA16*EB$9*3+EA16*EB$10*5+EA16*EB$11*4 -> 0 | EC16: 0 | ED16: =EC16*ED$9*3+EC16*ED$10*5+EC16*ED$11*4 -> 0 | EE16: 0 | EF16: =EE16*EF$9*3+EE16*EF$10*5+EE16*EF$11*4 -> 0 | EG16: 0 | EH16: =EG16*EH$9*3+EG16*EH$10*5+EG16*EH$11*4 -> 0 | EI16: 0 | EJ16: =EI16*EJ$9*3+EI16*EJ$10*5+EI16*EJ$11*4 -> 0 | EK16: 0 | EL16: =EK16*EL$9*3+EK16*EL$10*5+EK16*EL$11*4 -> 0 | EM16: =C16+W16+AQ16+BK16+CE16+CY16+DS16 -> 0 | EN16: =D16+X16+AR16+BL16+CF16+CZ16+DT16 -> 0 | EO16: =E16+Y16+AS16+BM16+CG16+DA16+DU16 -> 0 | EP16: =F16+Z16+AT16+BN16+CH16+DB16+DV16 -> 0 | EQ16: =G16+AA16+AU16+BO16+CI16+DC16+DW16 -> 616 | ER16: =H16+AB16+AV16+BP16+CJ16+DD16+DX16 -> 56382252 | ES16: =I16+AC16+AW16+BQ16+CK16+DE16+DY16 -> 1585 | ET16: =J16+AD16+AX16+BR16+CL16+DF16+DZ16 -> 113949828 | ... FF16: =V16+AP16+BJ16+CD16+CX16+DR16+EL16 -> 5252592 | FG16: =EM16+EQ16+EU16+EY16+FC16 -> 2068 | FH16: =EN16+ER16+EV16+EZ16+FD16 -> 212249952 | FI16: =EO16+ES16+EW16+FA16+FE16 -> 5404 | FJ16: =EP16+ET16+EX16+FB16+FF16 -> 435482244 | FK16: =FG16+FI16 -> 7472 | FL16: =FH16+FJ16 -> 647732196
A17: 6 | B17: Гатчинский | C17: 0 | D17: =C17*D$9*3+C17*D$10*5+C17*D$11*4 -> 0 | E17: 0 | F17: =E17*F$9*3+E17*F$10*5+E17*F$11*4 -> 0 | G17: 0 | H17: =G17*H$9*3+G17*H$10*5+G17*H$11*4 -> 0 | I17: 559 | J17: =I17*J$9*3+I17*J$10*5+I17*J$11*4 -> 39496704 | K17: 1385 | L17: =K17*L$9*3+K17*L$10*5+K17*L$11*4 -> 137713320 | M17: 5081 | N17: =M17*N$9*3+M17*N$10*5+M17*N$11*4 -> 410280588 | O17: 0 | P17: =O17*P$9*3+O17*P$10*5+O17*P$11*4 -> 0 | Q17: 0 | R17: =Q17*R$9*3+Q17*R$10*5+Q17*R$11*4 -> 0 | S17: 0 | T17: =S17*T$9*3+S17*T$10*5+S17*T$11*4 -> 0 | U17: 20 | V17: =U17*V$9*3+U17*V$10*5+U17*V$11*4 -> 1884000 | W17: 0 | X17: =W17*X$9*3+W17*X$10*5+W17*X$11*4 -> 0 | Y17: 0 | Z17: =Y17*Z$9*3+Y17*Z$10*5+Y17*Z$11*4 -> 0 | AA17: 0 | AB17: =AA17*AB$9*3+AA17*AB$10*5+AA17*AB$11*4 -> 0 | AC17: 22 | AD17: =AC17*AD$9*3+AC17*AD$10*5+AC17*AD$11*4 -> 1787544 | AE17: 66 | AF17: =AE17*AF$9*3+AE17*AF$10*5+AE17*AF$11*4 -> 8312832 | AG17: 80 | AH17: =AG17*AH$9*3+AG17*AH$10*5+AG17*AH$11*4 -> 7428480 | AI17: 0 | AJ17: =AI17*AJ$9*3+AI17*AJ$10*5+AI17*AJ$11*4 -> 0 | AK17: 0 | AL17: =AK17*AL$9*3+AK17*AL$10*5+AK17*AL$11*4 -> 0 | AM17: 0 | AN17: =AM17*AN$9*3+AM17*AN$10*5+AM17*AN$11*4 -> 0 | AO17: 22 | AP17: =AO17*AP$9*3+AO17*AP$10*5+AO17*AP$11*4 -> 2383392 | AQ17: 0 | AR17: =AQ17*AR$9*3+AQ17*AR$10*5+AQ17*AR$11*4 -> 0 | AS17: 0 | AT17: =AS17*AT$9*3+AS17*AT$10*5+AS17*AT$11*4 -> 0 | AU17: 0 | AV17: =AU17*AV$9*3+AU17*AV$10*5+AU17*AV$11*4 -> 0 | AW17: 0 | AX17: =AW17*AX$9*3+AW17*AX$10*5+AW17*AX$11*4 -> 0 | AY17: 0 | AZ17: =AY17*AZ$9*3+AY17*AZ$10*5+AY17*AZ$11*4 -> 0 | BA17: 0 | BB17: =BA17*BB$9*3+BA17*BB$10*5+BA17*BB$11*4 -> 0 | BC17: 0 | BD17: =BC17*BD$9*3+BC17*BD$10*5+BC17*BD$11*4 -> 0 | BE17: 0 | BF17: =BE17*BF$9*3+BE17*BF$10*5+BE17*BF$11*4 -> 0 | BG17: 0 | BH17: =BG17*BH$9*3+BG17*BH$10*5+BG17*BH$11*4 -> 0 | BI17: 0 | BJ17: =BI17*BJ$9*3+BI17*BJ$10*5+BI17*BJ$11*4 -> 0 | BK17: 0 | BL17: =BK17*BL$9*3+BK17*BL$10*5+BK17*BL$11*4 -> 0 | BM17: 0 | BN17: =BM17*BN$9*3+BM17*BN$10*5+BM17*BN$11*4 -> 0 | BO17: 0 | BP17: =BO17*BP$9*3+BO17*BP$10*5+BO17*BP$11*4 -> 0 | BQ17: 67 | BR17: =BQ17*BR$9*3+BQ17*BR$10*5+BQ17*BR$11*4 -> 5443884 | BS17: 191 | BT17: =BS17*BT$9*3+BS17*BT$10*5+BS17*BT$11*4 -> 24056832 | BU17: 413 | BV17: =BU17*BV$9*3+BU17*BV$10*5+BU17*BV$11*4 -> 38349528 | BW17: 0 | BX17: =BW17*BX$9*3+BW17*BX$10*5+BW17*BX$11*4 -> 0 | BY17: 0 | BZ17: =BY17*BZ$9*3+BY17*BZ$10*5+BY17*BZ$11*4 -> 0 | CA17: 0 | CB17: =CA17*CB$9*3+CA17*CB$10*5+CA17*CB$11*4 -> 0 | CC17: 15 | CD17: =CC17*CD$9*3+CC17*CD$10*5+CC17*CD$11*4 -> 1625040 | CE17: 0 | CF17: =CE17*CF$9*3+CE17*CF$10*5+CE17*CF$11*4 -> 0 | CG17: 0 | CH17: =CG17*CH$9*3+CG17*CH$10*5+CG17*CH$11*4 -> 0 | CI17: 0 | CJ17: =CI17*CJ$9*3+CI17*CJ$10*5+CI17*CJ$11*4 -> 0 | CK17: 14 | CL17: =CK17*CL$9*3+CK17*CL$10*5+CK17*CL$11*4 -> 1542912 | CM17: 0 | CN17: =CM17*CN$9*3+CM17*CN$10*5+CM17*CN$11*4 -> 0 | CO17: 41 | CP17: =CO17*CP$9*3+CO17*CP$10*5+CO17*CP$11*4 -> 5164032 | CQ17: 0 | CR17: =CQ17*CR$9*3+CQ17*CR$10*5+CQ17*CR$11*4 -> 0 | CS17: 0 | CT17: =CS17*CT$9*3+CS17*CT$10*5+CS17*CT$11*4 -> 0 | CU17: 0 | CV17: =CU17*CV$9*3+CU17*CV$10*5+CU17*CV$11*4 -> 0 | CW17: 0 | CX17: =CW17*CX$9*3+CW17*CX$10*5+CW17*CX$11*4 -> 0 | CY17: 0 | CZ17: =CY17*CZ$9*3+CY17*CZ$10*5+CY17*CZ$11*4 -> 0 | DA17: 0 | DB17: =DA17*DB$9*3+DA17*DB$10*5+DA17*DB$11*4 -> 0 | DC17: 0 | DD17: =DC17*DD$9*3+DC17*DD$10*5+DC17*DD$11*4 -> 0 | DE17: 0 | DF17: =DE17*DF$9*3+DE17*DF$10*5+DE17*DF$11*4 -> 0 | DG17: 0 | DH17: =DG17*DH$9*3+DG17*DH$10*5+DG17*DH$11*4 -> 0 | DI17: 0 | DJ17: =DI17*DJ$9*3+DI17*DJ$10*5+DI17*DJ$11*4 -> 0 | DK17: 0 | DL17: =DK17*DL$9*3+DK17*DL$10*5+DK17*DL$11*4 -> 0 | DM17: 0 | DN17: =DM17*DN$9*3+DM17*DN$10*5+DM17*DN$11*4 -> 0 | DO17: 0 | DP17: =DO17*DP$9*3+DO17*DP$10*5+DO17*DP$11*4 -> 0 | DQ17: 0 | DR17: =DQ17*DR$9*3+DQ17*DR$10*5+DQ17*DR$11*4 -> 0 | DS17: 0 | DT17: =DS17*DT$9*3+DS17*DT$10*5+DS17*DT$11*4 -> 0 | DU17: 0 | DV17: =DU17*DV$9*3+DU17*DV$10*5+DU17*DV$11*4 -> 0 | DW17: 0 | DX17: =DW17*DX$9*3+DW17*DX$10*5+DW17*DX$11*4 -> 0 | DY17: 0 | DZ17: =DY17*DZ$9*3+DY17*DZ$10*5+DY17*DZ$11*4 -> 0 | EA17: 0 | EB17: =EA17*EB$9*3+EA17*EB$10*5+EA17*EB$11*4 -> 0 | EC17: 0 | ED17: =EC17*ED$9*3+EC17*ED$10*5+EC17*ED$11*4 -> 0 | EE17: 0 | EF17: =EE17*EF$9*3+EE17*EF$10*5+EE17*EF$11*4 -> 0 | EG17: 0 | EH17: =EG17*EH$9*3+EG17*EH$10*5+EG17*EH$11*4 -> 0 | EI17: 0 | EJ17: =EI17*EJ$9*3+EI17*EJ$10*5+EI17*EJ$11*4 -> 0 | EK17: 0 | EL17: =EK17*EL$9*3+EK17*EL$10*5+EK17*EL$11*4 -> 0 | EM17: =C17+W17+AQ17+BK17+CE17+CY17+DS17 -> 0 | EN17: =D17+X17+AR17+BL17+CF17+CZ17+DT17 -> 0 | EO17: =E17+Y17+AS17+BM17+CG17+DA17+DU17 -> 0 | EP17: =F17+Z17+AT17+BN17+CH17+DB17+DV17 -> 0 | EQ17: =G17+AA17+AU17+BO17+CI17+DC17+DW17 -> 0 | ER17: =H17+AB17+AV17+BP17+CJ17+DD17+DX17 -> 0 | ES17: =I17+AC17+AW17+BQ17+CK17+DE17+DY17 -> 662 | ET17: =J17+AD17+AX17+BR17+CL17+DF17+DZ17 -> 48271044 | ... FF17: =V17+AP17+BJ17+CD17+CX17+DR17+EL17 -> 5892432 | FG17: =EM17+EQ17+EU17+EY17+FC17 -> 1642 | FH17: =EN17+ER17+EV17+EZ17+FD17 -> 170082984 | FI17: =EO17+ES17+EW17+FA17+FE17 -> 6334 | FJ17: =EP17+ET17+EX17+FB17+FF17 -> 515386104 | FK17: =FG17+FI17 -> 7976 | FL17: =FH17+FJ17 -> 685469088
A18: 7 | B18: Кингисеппский | C18: 0 | D18: =C18*D$9*3+C18*D$10*5+C18*D$11*4 -> 0 | E18: 0 | F18: =E18*F$9*3+E18*F$10*5+E18*F$11*4 -> 0 | G18: 644 | H18: =G18*H$9*3+G18*H$10*5+G18*H$11*4 -> 56035728 | I18: 1531 | J18: =I18*J$9*3+I18*J$10*5+I18*J$11*4 -> 108174336 | K18: 295 | L18: =K18*L$9*3+K18*L$10*5+K18*L$11*4 -> 29332440 | M18: 1044 | N18: =M18*N$9*3+M18*N$10*5+M18*N$11*4 -> 84300912 | O18: 0 | P18: =O18*P$9*3+O18*P$10*5+O18*P$11*4 -> 0 | Q18: 0 | R18: =Q18*R$9*3+Q18*R$10*5+Q18*R$11*4 -> 0 | S18: 0 | T18: =S18*T$9*3+S18*T$10*5+S18*T$11*4 -> 0 | U18: 16 | V18: =U18*V$9*3+U18*V$10*5+U18*V$11*4 -> 1507200 | W18: 0 | X18: =W18*X$9*3+W18*X$10*5+W18*X$11*4 -> 0 | Y18: 0 | Z18: =Y18*Z$9*3+Y18*Z$10*5+Y18*Z$11*4 -> 0 | AA18: 0 | AB18: =AA18*AB$9*3+AA18*AB$10*5+AA18*AB$11*4 -> 0 | AC18: 0 | AD18: =AC18*AD$9*3+AC18*AD$10*5+AC18*AD$11*4 -> 0 | AE18: 0 | AF18: =AE18*AF$9*3+AE18*AF$10*5+AE18*AF$11*4 -> 0 | AG18: 0 | AH18: =AG18*AH$9*3+AG18*AH$10*5+AG18*AH$11*4 -> 0 | AI18: 0 | AJ18: =AI18*AJ$9*3+AI18*AJ$10*5+AI18*AJ$11*4 -> 0 | AK18: 0 | AL18: =AK18*AL$9*3+AK18*AL$10*5+AK18*AL$11*4 -> 0 | AM18: 0 | AN18: =AM18*AN$9*3+AM18*AN$10*5+AM18*AN$11*4 -> 0 | AO18: 0 | AP18: =AO18*AP$9*3+AO18*AP$10*5+AO18*AP$11*4 -> 0 | AQ18: 0 | AR18: =AQ18*AR$9*3+AQ18*AR$10*5+AQ18*AR$11*4 -> 0 | AS18: 0 | AT18: =AS18*AT$9*3+AS18*AT$10*5+AS18*AT$11*4 -> 0 | AU18: 0 | AV18: =AU18*AV$9*3+AU18*AV$10*5+AU18*AV$11*4 -> 0 | AW18: 0 | AX18: =AW18*AX$9*3+AW18*AX$10*5+AW18*AX$11*4 -> 0 | AY18: 0 | AZ18: =AY18*AZ$9*3+AY18*AZ$10*5+AY18*AZ$11*4 -> 0 | BA18: 0 | BB18: =BA18*BB$9*3+BA18*BB$10*5+BA18*BB$11*4 -> 0 | BC18: 0 | BD18: =BC18*BD$9*3+BC18*BD$10*5+BC18*BD$11*4 -> 0 | BE18: 0 | BF18: =BE18*BF$9*3+BE18*BF$10*5+BE18*BF$11*4 -> 0 | BG18: 0 | BH18: =BG18*BH$9*3+BG18*BH$10*5+BG18*BH$11*4 -> 0 | BI18: 0 | BJ18: =BI18*BJ$9*3+BI18*BJ$10*5+BI18*BJ$11*4 -> 0 | BK18: 0 | BL18: =BK18*BL$9*3+BK18*BL$10*5+BK18*BL$11*4 -> 0 | BM18: 0 | BN18: =BM18*BN$9*3+BM18*BN$10*5+BM18*BN$11*4 -> 0 | BO18: 71 | BP18: =BO18*BP$9*3+BO18*BP$10*5+BO18*BP$11*4 -> 7824768 | BQ18: 158 | BR18: =BQ18*BR$9*3+BQ18*BR$10*5+BQ18*BR$11*4 -> 12837816 | BS18: 17 | BT18: =BS18*BT$9*3+BS18*BT$10*5+BS18*BT$11*4 -> 2141184 | BU18: 83 | BV18: =BU18*BV$9*3+BU18*BV$10*5+BU18*BV$11*4 -> 7707048 | BW18: 0 | BX18: =BW18*BX$9*3+BW18*BX$10*5+BW18*BX$11*4 -> 0 | BY18: 0 | BZ18: =BY18*BZ$9*3+BY18*BZ$10*5+BY18*BZ$11*4 -> 0 | CA18: 0 | CB18: =CA18*CB$9*3+CA18*CB$10*5+CA18*CB$11*4 -> 0 | CC18: 0 | CD18: =CC18*CD$9*3+CC18*CD$10*5+CC18*CD$11*4 -> 0 | CE18: 0 | CF18: =CE18*CF$9*3+CE18*CF$10*5+CE18*CF$11*4 -> 0 | CG18: 0 | CH18: =CG18*CH$9*3+CG18*CH$10*5+CG18*CH$11*4 -> 0 | CI18: 15 | CJ18: =CI18*CJ$9*3+CI18*CJ$10*5+CI18*CJ$11*4 -> 2521980 | CK18: 50 | CL18: =CK18*CL$9*3+CK18*CL$10*5+CK18*CL$11*4 -> 5510400 | CM18: 13 | CN18: =CM18*CN$9*3+CM18*CN$10*5+CM18*CN$11*4 -> 2498028 | CO18: 18 | CP18: =CO18*CP$9*3+CO18*CP$10*5+CO18*CP$11*4 -> 2267136 | CQ18: 0 | CR18: =CQ18*CR$9*3+CQ18*CR$10*5+CQ18*CR$11*4 -> 0 | CS18: 0 | CT18: =CS18*CT$9*3+CS18*CT$10*5+CS18*CT$11*4 -> 0 | CU18: 0 | CV18: =CU18*CV$9*3+CU18*CV$10*5+CU18*CV$11*4 -> 0 | CW18: 0 | CX18: =CW18*CX$9*3+CW18*CX$10*5+CW18*CX$11*4 -> 0 | CY18: 0 | CZ18: =CY18*CZ$9*3+CY18*CZ$10*5+CY18*CZ$11*4 -> 0 | DA18: 0 | DB18: =DA18*DB$9*3+DA18*DB$10*5+DA18*DB$11*4 -> 0 | DC18: 0 | DD18: =DC18*DD$9*3+DC18*DD$10*5+DC18*DD$11*4 -> 0 | DE18: 0 | DF18: =DE18*DF$9*3+DE18*DF$10*5+DE18*DF$11*4 -> 0 | DG18: 0 | DH18: =DG18*DH$9*3+DG18*DH$10*5+DG18*DH$11*4 -> 0 | DI18: 0 | DJ18: =DI18*DJ$9*3+DI18*DJ$10*5+DI18*DJ$11*4 -> 0 | DK18: 0 | DL18: =DK18*DL$9*3+DK18*DL$10*5+DK18*DL$11*4 -> 0 | DM18: 0 | DN18: =DM18*DN$9*3+DM18*DN$10*5+DM18*DN$11*4 -> 0 | DO18: 0 | DP18: =DO18*DP$9*3+DO18*DP$10*5+DO18*DP$11*4 -> 0 | DQ18: 0 | DR18: =DQ18*DR$9*3+DQ18*DR$10*5+DQ18*DR$11*4 -> 0 | DS18: 0 | DT18: =DS18*DT$9*3+DS18*DT$10*5+DS18*DT$11*4 -> 0 | DU18: 0 | DV18: =DU18*DV$9*3+DU18*DV$10*5+DU18*DV$11*4 -> 0 | DW18: 0 | DX18: =DW18*DX$9*3+DW18*DX$10*5+DW18*DX$11*4 -> 0 | DY18: 0 | DZ18: =DY18*DZ$9*3+DY18*DZ$10*5+DY18*DZ$11*4 -> 0 | EA18: 0 | EB18: =EA18*EB$9*3+EA18*EB$10*5+EA18*EB$11*4 -> 0 | EC18: 0 | ED18: =EC18*ED$9*3+EC18*ED$10*5+EC18*ED$11*4 -> 0 | EE18: 0 | EF18: =EE18*EF$9*3+EE18*EF$10*5+EE18*EF$11*4 -> 0 | EG18: 0 | EH18: =EG18*EH$9*3+EG18*EH$10*5+EG18*EH$11*4 -> 0 | EI18: 0 | EJ18: =EI18*EJ$9*3+EI18*EJ$10*5+EI18*EJ$11*4 -> 0 | EK18: 0 | EL18: =EK18*EL$9*3+EK18*EL$10*5+EK18*EL$11*4 -> 0 | EM18: =C18+W18+AQ18+BK18+CE18+CY18+DS18 -> 0 | EN18: =D18+X18+AR18+BL18+CF18+CZ18+DT18 -> 0 | EO18: =E18+Y18+AS18+BM18+CG18+DA18+DU18 -> 0 | EP18: =F18+Z18+AT18+BN18+CH18+DB18+DV18 -> 0 | EQ18: =G18+AA18+AU18+BO18+CI18+DC18+DW18 -> 730 | ER18: =H18+AB18+AV18+BP18+CJ18+DD18+DX18 -> 66382476 | ES18: =I18+AC18+AW18+BQ18+CK18+DE18+DY18 -> 1739 | ET18: =J18+AD18+AX18+BR18+CL18+DF18+DZ18 -> 126522552 | ... FF18: =V18+AP18+BJ18+CD18+CX18+DR18+EL18 -> 1507200 | FG18: =EM18+EQ18+EU18+EY18+FC18 -> 1055 | FH18: =EN18+ER18+EV18+EZ18+FD18 -> 100354128 | FI18: =EO18+ES18+EW18+FA18+FE18 -> 2900 | FJ18: =EP18+ET18+EX18+FB18+FF18 -> 222304848 | FK18: =FG18+FI18 -> 3955 | FL18: =FH18+FJ18 -> 322658976
A19: 8 | B19: Киришский | C19: 0 | D19: =C19*D$9*3+C19*D$10*5+C19*D$11*4 -> 0 | E19: 0 | F19: =E19*F$9*3+E19*F$10*5+E19*F$11*4 -> 0 | G19: 516 | H19: =G19*H$9*3+G19*H$10*5+G19*H$11*4 -> 44898192 | I19: 1910 | J19: =I19*J$9*3+I19*J$10*5+I19*J$11*4 -> 134952960 | K19: 235 | L19: =K19*L$9*3+K19*L$10*5+K19*L$11*4 -> 23366520 | M19: 418 | N19: =M19*N$9*3+M19*N$10*5+M19*N$11*4 -> 33752664 | O19: 0 | P19: =O19*P$9*3+O19*P$10*5+O19*P$11*4 -> 0 | Q19: 0 | R19: =Q19*R$9*3+Q19*R$10*5+Q19*R$11*4 -> 0 | S19: 0 | T19: =S19*T$9*3+S19*T$10*5+S19*T$11*4 -> 0 | U19: 0 | V19: =U19*V$9*3+U19*V$10*5+U19*V$11*4 -> 0 | W19: 0 | X19: =W19*X$9*3+W19*X$10*5+W19*X$11*4 -> 0 | Y19: 0 | Z19: =Y19*Z$9*3+Y19*Z$10*5+Y19*Z$11*4 -> 0 | AA19: 57 | AB19: =AA19*AB$9*3+AA19*AB$10*5+AA19*AB$11*4 -> 6281856 | AC19: 43 | AD19: =AC19*AD$9*3+AC19*AD$10*5+AC19*AD$11*4 -> 3493836 | AE19: 0 | AF19: =AE19*AF$9*3+AE19*AF$10*5+AE19*AF$11*4 -> 0 | AG19: 46 | AH19: =AG19*AH$9*3+AG19*AH$10*5+AG19*AH$11*4 -> 4271376 | AI19: 0 | AJ19: =AI19*AJ$9*3+AI19*AJ$10*5+AI19*AJ$11*4 -> 0 | AK19: 0 | AL19: =AK19*AL$9*3+AK19*AL$10*5+AK19*AL$11*4 -> 0 | AM19: 0 | AN19: =AM19*AN$9*3+AM19*AN$10*5+AM19*AN$11*4 -> 0 | AO19: 0 | AP19: =AO19*AP$9*3+AO19*AP$10*5+AO19*AP$11*4 -> 0 | AQ19: 0 | AR19: =AQ19*AR$9*3+AQ19*AR$10*5+AQ19*AR$11*4 -> 0 | AS19: 0 | AT19: =AS19*AT$9*3+AS19*AT$10*5+AS19*AT$11*4 -> 0 | AU19: 0 | AV19: =AU19*AV$9*3+AU19*AV$10*5+AU19*AV$11*4 -> 0 | AW19: 0 | AX19: =AW19*AX$9*3+AW19*AX$10*5+AW19*AX$11*4 -> 0 | AY19: 0 | AZ19: =AY19*AZ$9*3+AY19*AZ$10*5+AY19*AZ$11*4 -> 0 | BA19: 0 | BB19: =BA19*BB$9*3+BA19*BB$10*5+BA19*BB$11*4 -> 0 | BC19: 0 | BD19: =BC19*BD$9*3+BC19*BD$10*5+BC19*BD$11*4 -> 0 | BE19: 0 | BF19: =BE19*BF$9*3+BE19*BF$10*5+BE19*BF$11*4 -> 0 | BG19: 0 | BH19: =BG19*BH$9*3+BG19*BH$10*5+BG19*BH$11*4 -> 0 | BI19: 0 | BJ19: =BI19*BJ$9*3+BI19*BJ$10*5+BI19*BJ$11*4 -> 0 | BK19: 0 | BL19: =BK19*BL$9*3+BK19*BL$10*5+BK19*BL$11*4 -> 0 | BM19: 0 | BN19: =BM19*BN$9*3+BM19*BN$10*5+BM19*BN$11*4 -> 0 | BO19: 78 | BP19: =BO19*BP$9*3+BO19*BP$10*5+BO19*BP$11*4 -> 8596224 | BQ19: 65 | BR19: =BQ19*BR$9*3+BQ19*BR$10*5+BQ19*BR$11*4 -> 5281380 | BS19: 0 | BT19: =BS19*BT$9*3+BS19*BT$10*5+BS19*BT$11*4 -> 0 | BU19: 35 | BV19: =BU19*BV$9*3+BU19*BV$10*5+BU19*BV$11*4 -> 3249960 | BW19: 0 | BX19: =BW19*BX$9*3+BW19*BX$10*5+BW19*BX$11*4 -> 0 | BY19: 0 | BZ19: =BY19*BZ$9*3+BY19*BZ$10*5+BY19*BZ$11*4 -> 0 | CA19: 0 | CB19: =CA19*CB$9*3+CA19*CB$10*5+CA19*CB$11*4 -> 0 | CC19: 0 | CD19: =CC19*CD$9*3+CC19*CD$10*5+CC19*CD$11*4 -> 0 | CE19: 0 | CF19: =CE19*CF$9*3+CE19*CF$10*5+CE19*CF$11*4 -> 0 | CG19: 0 | CH19: =CG19*CH$9*3+CG19*CH$10*5+CG19*CH$11*4 -> 0 | CI19: 22 | CJ19: =CI19*CJ$9*3+CI19*CJ$10*5+CI19*CJ$11*4 -> 3698904 | CK19: 29 | CL19: =CK19*CL$9*3+CK19*CL$10*5+CK19*CL$11*4 -> 3196032 | CM19: 0 | CN19: =CM19*CN$9*3+CM19*CN$10*5+CM19*CN$11*4 -> 0 | CO19: 37 | CP19: =CO19*CP$9*3+CO19*CP$10*5+CO19*CP$11*4 -> 4660224 | CQ19: 0 | CR19: =CQ19*CR$9*3+CQ19*CR$10*5+CQ19*CR$11*4 -> 0 | CS19: 0 | CT19: =CS19*CT$9*3+CS19*CT$10*5+CS19*CT$11*4 -> 0 | CU19: 0 | CV19: =CU19*CV$9*3+CU19*CV$10*5+CU19*CV$11*4 -> 0 | CW19: 0 | CX19: =CW19*CX$9*3+CW19*CX$10*5+CW19*CX$11*4 -> 0 | CY19: 0 | CZ19: =CY19*CZ$9*3+CY19*CZ$10*5+CY19*CZ$11*4 -> 0 | DA19: 0 | DB19: =DA19*DB$9*3+DA19*DB$10*5+DA19*DB$11*4 -> 0 | DC19: 0 | DD19: =DC19*DD$9*3+DC19*DD$10*5+DC19*DD$11*4 -> 0 | DE19: 0 | DF19: =DE19*DF$9*3+DE19*DF$10*5+DE19*DF$11*4 -> 0 | DG19: 0 | DH19: =DG19*DH$9*3+DG19*DH$10*5+DG19*DH$11*4 -> 0 | DI19: 0 | DJ19: =DI19*DJ$9*3+DI19*DJ$10*5+DI19*DJ$11*4 -> 0 | DK19: 0 | DL19: =DK19*DL$9*3+DK19*DL$10*5+DK19*DL$11*4 -> 0 | DM19: 0 | DN19: =DM19*DN$9*3+DM19*DN$10*5+DM19*DN$11*4 -> 0 | DO19: 0 | DP19: =DO19*DP$9*3+DO19*DP$10*5+DO19*DP$11*4 -> 0 | DQ19: 0 | DR19: =DQ19*DR$9*3+DQ19*DR$10*5+DQ19*DR$11*4 -> 0 | DS19: 0 | DT19: =DS19*DT$9*3+DS19*DT$10*5+DS19*DT$11*4 -> 0 | DU19: 0 | DV19: =DU19*DV$9*3+DU19*DV$10*5+DU19*DV$11*4 -> 0 | DW19: 0 | DX19: =DW19*DX$9*3+DW19*DX$10*5+DW19*DX$11*4 -> 0 | DY19: 0 | DZ19: =DY19*DZ$9*3+DY19*DZ$10*5+DY19*DZ$11*4 -> 0 | EA19: 0 | EB19: =EA19*EB$9*3+EA19*EB$10*5+EA19*EB$11*4 -> 0 | EC19: 0 | ED19: =EC19*ED$9*3+EC19*ED$10*5+EC19*ED$11*4 -> 0 | EE19: 0 | EF19: =EE19*EF$9*3+EE19*EF$10*5+EE19*EF$11*4 -> 0 | EG19: 0 | EH19: =EG19*EH$9*3+EG19*EH$10*5+EG19*EH$11*4 -> 0 | EI19: 0 | EJ19: =EI19*EJ$9*3+EI19*EJ$10*5+EI19*EJ$11*4 -> 0 | EK19: 0 | EL19: =EK19*EL$9*3+EK19*EL$10*5+EK19*EL$11*4 -> 0 | EM19: =C19+W19+AQ19+BK19+CE19+CY19+DS19 -> 0 | EN19: =D19+X19+AR19+BL19+CF19+CZ19+DT19 -> 0 | EO19: =E19+Y19+AS19+BM19+CG19+DA19+DU19 -> 0 | EP19: =F19+Z19+AT19+BN19+CH19+DB19+DV19 -> 0 | EQ19: =G19+AA19+AU19+BO19+CI19+DC19+DW19 -> 673 | ER19: =H19+AB19+AV19+BP19+CJ19+DD19+DX19 -> 63475176 | ES19: =I19+AC19+AW19+BQ19+CK19+DE19+DY19 -> 2047 | ET19: =J19+AD19+AX19+BR19+CL19+DF19+DZ19 -> 146924208 | ... FF19: =V19+AP19+BJ19+CD19+CX19+DR19+EL19 -> 0 | FG19: =EM19+EQ19+EU19+EY19+FC19 -> 908 | FH19: =EN19+ER19+EV19+EZ19+FD19 -> 86841696 | FI19: =EO19+ES19+EW19+FA19+FE19 -> 2583 | FJ19: =EP19+ET19+EX19+FB19+FF19 -> 192858432 | FK19: =FG19+FI19 -> 3491 | FL19: =FH19+FJ19 -> 279700128
A20: 9 | B20: Кировский | C20: 0 | D20: =C20*D$9*3+C20*D$10*5+C20*D$11*4 -> 0 | E20: 58 | F20: =E20*F$9*3+E20*F$10*5+E20*F$11*4 -> 1951584 | G20: 0 | H20: =G20*H$9*3+G20*H$10*5+G20*H$11*4 -> 0 | I20: 0 | J20: =I20*J$9*3+I20*J$10*5+I20*J$11*4 -> 0 | K20: 788 | L20: =K20*L$9*3+K20*L$10*5+K20*L$11*4 -> 78352416 | M20: 2826 | N20: =M20*N$9*3+M20*N$10*5+M20*N$11*4 -> 228193848 | O20: 0 | P20: =O20*P$9*3+O20*P$10*5+O20*P$11*4 -> 0 | Q20: 0 | R20: =Q20*R$9*3+Q20*R$10*5+Q20*R$11*4 -> 0 | S20: 0 | T20: =S20*T$9*3+S20*T$10*5+S20*T$11*4 -> 0 | U20: 10 | V20: =U20*V$9*3+U20*V$10*5+U20*V$11*4 -> 942000 | W20: 0 | X20: =W20*X$9*3+W20*X$10*5+W20*X$11*4 -> 0 | Y20: 0 | Z20: =Y20*Z$9*3+Y20*Z$10*5+Y20*Z$11*4 -> 0 | AA20: 0 | AB20: =AA20*AB$9*3+AA20*AB$10*5+AA20*AB$11*4 -> 0 | AC20: 0 | AD20: =AC20*AD$9*3+AC20*AD$10*5+AC20*AD$11*4 -> 0 | AE20: 0 | AF20: =AE20*AF$9*3+AE20*AF$10*5+AE20*AF$11*4 -> 0 | AG20: 0 | AH20: =AG20*AH$9*3+AG20*AH$10*5+AG20*AH$11*4 -> 0 | AI20: 0 | AJ20: =AI20*AJ$9*3+AI20*AJ$10*5+AI20*AJ$11*4 -> 0 | AK20: 0 | AL20: =AK20*AL$9*3+AK20*AL$10*5+AK20*AL$11*4 -> 0 | AM20: 0 | AN20: =AM20*AN$9*3+AM20*AN$10*5+AM20*AN$11*4 -> 0 | AO20: 0 | AP20: =AO20*AP$9*3+AO20*AP$10*5+AO20*AP$11*4 -> 0 | AQ20: 0 | AR20: =AQ20*AR$9*3+AQ20*AR$10*5+AQ20*AR$11*4 -> 0 | AS20: 0 | AT20: =AS20*AT$9*3+AS20*AT$10*5+AS20*AT$11*4 -> 0 | AU20: 0 | AV20: =AU20*AV$9*3+AU20*AV$10*5+AU20*AV$11*4 -> 0 | AW20: 0 | AX20: =AW20*AX$9*3+AW20*AX$10*5+AW20*AX$11*4 -> 0 | AY20: 0 | AZ20: =AY20*AZ$9*3+AY20*AZ$10*5+AY20*AZ$11*4 -> 0 | BA20: 0 | BB20: =BA20*BB$9*3+BA20*BB$10*5+BA20*BB$11*4 -> 0 | BC20: 0 | BD20: =BC20*BD$9*3+BC20*BD$10*5+BC20*BD$11*4 -> 0 | BE20: 0 | BF20: =BE20*BF$9*3+BE20*BF$10*5+BE20*BF$11*4 -> 0 | BG20: 0 | BH20: =BG20*BH$9*3+BG20*BH$10*5+BG20*BH$11*4 -> 0 | BI20: 0 | BJ20: =BI20*BJ$9*3+BI20*BJ$10*5+BI20*BJ$11*4 -> 0 | BK20: 0 | BL20: =BK20*BL$9*3+BK20*BL$10*5+BK20*BL$11*4 -> 0 | BM20: 0 | BN20: =BM20*BN$9*3+BM20*BN$10*5+BM20*BN$11*4 -> 0 | BO20: 0 | BP20: =BO20*BP$9*3+BO20*BP$10*5+BO20*BP$11*4 -> 0 | BQ20: 0 | BR20: =BQ20*BR$9*3+BQ20*BR$10*5+BQ20*BR$11*4 -> 0 | BS20: 15 | BT20: =BS20*BT$9*3+BS20*BT$10*5+BS20*BT$11*4 -> 1889280 | BU20: 57 | BV20: =BU20*BV$9*3+BU20*BV$10*5+BU20*BV$11*4 -> 5292792 | BW20: 0 | BX20: =BW20*BX$9*3+BW20*BX$10*5+BW20*BX$11*4 -> 0 | BY20: 0 | BZ20: =BY20*BZ$9*3+BY20*BZ$10*5+BY20*BZ$11*4 -> 0 | CA20: 0 | CB20: =CA20*CB$9*3+CA20*CB$10*5+CA20*CB$11*4 -> 0 | CC20: 0 | CD20: =CC20*CD$9*3+CC20*CD$10*5+CC20*CD$11*4 -> 0 | CE20: 0 | CF20: =CE20*CF$9*3+CE20*CF$10*5+CE20*CF$11*4 -> 0 | CG20: 0 | CH20: =CG20*CH$9*3+CG20*CH$10*5+CG20*CH$11*4 -> 0 | CI20: 0 | CJ20: =CI20*CJ$9*3+CI20*CJ$10*5+CI20*CJ$11*4 -> 0 | CK20: 40 | CL20: =CK20*CL$9*3+CK20*CL$10*5+CK20*CL$11*4 -> 4408320 | CM20: 0 | CN20: =CM20*CN$9*3+CM20*CN$10*5+CM20*CN$11*4 -> 0 | CO20: 27 | CP20: =CO20*CP$9*3+CO20*CP$10*5+CO20*CP$11*4 -> 3400704 | CQ20: 0 | CR20: =CQ20*CR$9*3+CQ20*CR$10*5+CQ20*CR$11*4 -> 0 | CS20: 0 | CT20: =CS20*CT$9*3+CS20*CT$10*5+CS20*CT$11*4 -> 0 | CU20: 0 | CV20: =CU20*CV$9*3+CU20*CV$10*5+CU20*CV$11*4 -> 0 | CW20: 0 | CX20: =CW20*CX$9*3+CW20*CX$10*5+CW20*CX$11*4 -> 0 | CY20: 0 | CZ20: =CY20*CZ$9*3+CY20*CZ$10*5+CY20*CZ$11*4 -> 0 | DA20: 0 | DB20: =DA20*DB$9*3+DA20*DB$10*5+DA20*DB$11*4 -> 0 | DC20: 0 | DD20: =DC20*DD$9*3+DC20*DD$10*5+DC20*DD$11*4 -> 0 | DE20: 0 | DF20: =DE20*DF$9*3+DE20*DF$10*5+DE20*DF$11*4 -> 0 | DG20: 0 | DH20: =DG20*DH$9*3+DG20*DH$10*5+DG20*DH$11*4 -> 0 | DI20: 0 | DJ20: =DI20*DJ$9*3+DI20*DJ$10*5+DI20*DJ$11*4 -> 0 | DK20: 0 | DL20: =DK20*DL$9*3+DK20*DL$10*5+DK20*DL$11*4 -> 0 | DM20: 0 | DN20: =DM20*DN$9*3+DM20*DN$10*5+DM20*DN$11*4 -> 0 | DO20: 0 | DP20: =DO20*DP$9*3+DO20*DP$10*5+DO20*DP$11*4 -> 0 | DQ20: 0 | DR20: =DQ20*DR$9*3+DQ20*DR$10*5+DQ20*DR$11*4 -> 0 | DS20: 0 | DT20: =DS20*DT$9*3+DS20*DT$10*5+DS20*DT$11*4 -> 0 | DU20: 0 | DV20: =DU20*DV$9*3+DU20*DV$10*5+DU20*DV$11*4 -> 0 | DW20: 0 | DX20: =DW20*DX$9*3+DW20*DX$10*5+DW20*DX$11*4 -> 0 | DY20: 0 | DZ20: =DY20*DZ$9*3+DY20*DZ$10*5+DY20*DZ$11*4 -> 0 | EA20: 0 | EB20: =EA20*EB$9*3+EA20*EB$10*5+EA20*EB$11*4 -> 0 | EC20: 0 | ED20: =EC20*ED$9*3+EC20*ED$10*5+EC20*ED$11*4 -> 0 | EE20: 0 | EF20: =EE20*EF$9*3+EE20*EF$10*5+EE20*EF$11*4 -> 0 | EG20: 0 | EH20: =EG20*EH$9*3+EG20*EH$10*5+EG20*EH$11*4 -> 0 | EI20: 0 | EJ20: =EI20*EJ$9*3+EI20*EJ$10*5+EI20*EJ$11*4 -> 0 | EK20: 0 | EL20: =EK20*EL$9*3+EK20*EL$10*5+EK20*EL$11*4 -> 0 | EM20: =C20+W20+AQ20+BK20+CE20+CY20+DS20 -> 0 | EN20: =D20+X20+AR20+BL20+CF20+CZ20+DT20 -> 0 | EO20: =E20+Y20+AS20+BM20+CG20+DA20+DU20 -> 58 | EP20: =F20+Z20+AT20+BN20+CH20+DB20+DV20 -> 1951584 | EQ20: =G20+AA20+AU20+BO20+CI20+DC20+DW20 -> 0 | ER20: =H20+AB20+AV20+BP20+CJ20+DD20+DX20 -> 0 | ES20: =I20+AC20+AW20+BQ20+CK20+DE20+DY20 -> 40 | ET20: =J20+AD20+AX20+BR20+CL20+DF20+DZ20 -> 4408320 | ... FF20: =V20+AP20+BJ20+CD20+CX20+DR20+EL20 -> 942000 | FG20: =EM20+EQ20+EU20+EY20+FC20 -> 803 | FH20: =EN20+ER20+EV20+EZ20+FD20 -> 80241696 | FI20: =EO20+ES20+EW20+FA20+FE20 -> 3018 | FJ20: =EP20+ET20+EX20+FB20+FF20 -> 244189248 | FK20: =FG20+FI20 -> 3821 | FL20: =FH20+FJ20 -> 324430944
A21: 10 | B21: Лодейнопольский | C21: 0 | D21: =C21*D$9*3+C21*D$10*5+C21*D$11*4 -> 0 | E21: 0 | F21: =E21*F$9*3+E21*F$10*5+E21*F$11*4 -> 0 | G21: 269 | H21: =G21*H$9*3+G21*H$10*5+G21*H$11*4 -> 23406228 | I21: 477 | J21: =I21*J$9*3+I21*J$10*5+I21*J$11*4 -> 33702912 | K21: 42 | L21: =K21*L$9*3+K21*L$10*5+K21*L$11*4 -> 4176144 | M21: 209 | N21: =M21*N$9*3+M21*N$10*5+M21*N$11*4 -> 16876332 | O21: 0 | P21: =O21*P$9*3+O21*P$10*5+O21*P$11*4 -> 0 | Q21: 0 | R21: =Q21*R$9*3+Q21*R$10*5+Q21*R$11*4 -> 0 | S21: 0 | T21: =S21*T$9*3+S21*T$10*5+S21*T$11*4 -> 0 | U21: 0 | V21: =U21*V$9*3+U21*V$10*5+U21*V$11*4 -> 0 | W21: 0 | X21: =W21*X$9*3+W21*X$10*5+W21*X$11*4 -> 0 | Y21: 0 | Z21: =Y21*Z$9*3+Y21*Z$10*5+Y21*Z$11*4 -> 0 | AA21: 0 | AB21: =AA21*AB$9*3+AA21*AB$10*5+AA21*AB$11*4 -> 0 | AC21: 0 | AD21: =AC21*AD$9*3+AC21*AD$10*5+AC21*AD$11*4 -> 0 | AE21: 0 | AF21: =AE21*AF$9*3+AE21*AF$10*5+AE21*AF$11*4 -> 0 | AG21: 0 | AH21: =AG21*AH$9*3+AG21*AH$10*5+AG21*AH$11*4 -> 0 | AI21: 0 | AJ21: =AI21*AJ$9*3+AI21*AJ$10*5+AI21*AJ$11*4 -> 0 | AK21: 0 | AL21: =AK21*AL$9*3+AK21*AL$10*5+AK21*AL$11*4 -> 0 | AM21: 0 | AN21: =AM21*AN$9*3+AM21*AN$10*5+AM21*AN$11*4 -> 0 | AO21: 0 | AP21: =AO21*AP$9*3+AO21*AP$10*5+AO21*AP$11*4 -> 0 | AQ21: 0 | AR21: =AQ21*AR$9*3+AQ21*AR$10*5+AQ21*AR$11*4 -> 0 | AS21: 0 | AT21: =AS21*AT$9*3+AS21*AT$10*5+AS21*AT$11*4 -> 0 | AU21: 8 | AV21: =AU21*AV$9*3+AU21*AV$10*5+AU21*AV$11*4 -> 1345056 | AW21: 15 | AX21: =AW21*AX$9*3+AW21*AX$10*5+AW21*AX$11*4 -> 1653120 | AY21: 0 | AZ21: =AY21*AZ$9*3+AY21*AZ$10*5+AY21*AZ$11*4 -> 0 | BA21: 0 | BB21: =BA21*BB$9*3+BA21*BB$10*5+BA21*BB$11*4 -> 0 | BC21: 0 | BD21: =BC21*BD$9*3+BC21*BD$10*5+BC21*BD$11*4 -> 0 | BE21: 0 | BF21: =BE21*BF$9*3+BE21*BF$10*5+BE21*BF$11*4 -> 0 | BG21: 0 | BH21: =BG21*BH$9*3+BG21*BH$10*5+BG21*BH$11*4 -> 0 | BI21: 0 | BJ21: =BI21*BJ$9*3+BI21*BJ$10*5+BI21*BJ$11*4 -> 0 | BK21: 0 | BL21: =BK21*BL$9*3+BK21*BL$10*5+BK21*BL$11*4 -> 0 | BM21: 0 | BN21: =BM21*BN$9*3+BM21*BN$10*5+BM21*BN$11*4 -> 0 | BO21: 39 | BP21: =BO21*BP$9*3+BO21*BP$10*5+BO21*BP$11*4 -> 4298112 | BQ21: 74 | BR21: =BQ21*BR$9*3+BQ21*BR$10*5+BQ21*BR$11*4 -> 6012648 | BS21: 0 | BT21: =BS21*BT$9*3+BS21*BT$10*5+BS21*BT$11*4 -> 0 | BU21: 0 | BV21: =BU21*BV$9*3+BU21*BV$10*5+BU21*BV$11*4 -> 0 | BW21: 0 | BX21: =BW21*BX$9*3+BW21*BX$10*5+BW21*BX$11*4 -> 0 | BY21: 0 | BZ21: =BY21*BZ$9*3+BY21*BZ$10*5+BY21*BZ$11*4 -> 0 | CA21: 0 | CB21: =CA21*CB$9*3+CA21*CB$10*5+CA21*CB$11*4 -> 0 | CC21: 0 | CD21: =CC21*CD$9*3+CC21*CD$10*5+CC21*CD$11*4 -> 0 | CE21: 0 | CF21: =CE21*CF$9*3+CE21*CF$10*5+CE21*CF$11*4 -> 0 | CG21: 0 | CH21: =CG21*CH$9*3+CG21*CH$10*5+CG21*CH$11*4 -> 0 | CI21: 0 | CJ21: =CI21*CJ$9*3+CI21*CJ$10*5+CI21*CJ$11*4 -> 0 | CK21: 0 | CL21: =CK21*CL$9*3+CK21*CL$10*5+CK21*CL$11*4 -> 0 | CM21: 0 | CN21: =CM21*CN$9*3+CM21*CN$10*5+CM21*CN$11*4 -> 0 | CO21: 0 | CP21: =CO21*CP$9*3+CO21*CP$10*5+CO21*CP$11*4 -> 0 | CQ21: 0 | CR21: =CQ21*CR$9*3+CQ21*CR$10*5+CQ21*CR$11*4 -> 0 | CS21: 0 | CT21: =CS21*CT$9*3+CS21*CT$10*5+CS21*CT$11*4 -> 0 | CU21: 0 | CV21: =CU21*CV$9*3+CU21*CV$10*5+CU21*CV$11*4 -> 0 | CW21: 0 | CX21: =CW21*CX$9*3+CW21*CX$10*5+CW21*CX$11*4 -> 0 | CY21: 0 | CZ21: =CY21*CZ$9*3+CY21*CZ$10*5+CY21*CZ$11*4 -> 0 | DA21: 0 | DB21: =DA21*DB$9*3+DA21*DB$10*5+DA21*DB$11*4 -> 0 | DC21: 10 | DD21: =DC21*DD$9*3+DC21*DD$10*5+DC21*DD$11*4 -> 1709520 | DE21: 15 | DF21: =DE21*DF$9*3+DE21*DF$10*5+DE21*DF$11*4 -> 2521980 | DG21: 0 | DH21: =DG21*DH$9*3+DG21*DH$10*5+DG21*DH$11*4 -> 0 | DI21: 0 | DJ21: =DI21*DJ$9*3+DI21*DJ$10*5+DI21*DJ$11*4 -> 0 | DK21: 0 | DL21: =DK21*DL$9*3+DK21*DL$10*5+DK21*DL$11*4 -> 0 | DM21: 0 | DN21: =DM21*DN$9*3+DM21*DN$10*5+DM21*DN$11*4 -> 0 | DO21: 0 | DP21: =DO21*DP$9*3+DO21*DP$10*5+DO21*DP$11*4 -> 0 | DQ21: 0 | DR21: =DQ21*DR$9*3+DQ21*DR$10*5+DQ21*DR$11*4 -> 0 | DS21: 0 | DT21: =DS21*DT$9*3+DS21*DT$10*5+DS21*DT$11*4 -> 0 | DU21: 0 | DV21: =DU21*DV$9*3+DU21*DV$10*5+DU21*DV$11*4 -> 0 | DW21: 0 | DX21: =DW21*DX$9*3+DW21*DX$10*5+DW21*DX$11*4 -> 0 | DY21: 0 | DZ21: =DY21*DZ$9*3+DY21*DZ$10*5+DY21*DZ$11*4 -> 0 | EA21: 0 | EB21: =EA21*EB$9*3+EA21*EB$10*5+EA21*EB$11*4 -> 0 | EC21: 0 | ED21: =EC21*ED$9*3+EC21*ED$10*5+EC21*ED$11*4 -> 0 | EE21: 0 | EF21: =EE21*EF$9*3+EE21*EF$10*5+EE21*EF$11*4 -> 0 | EG21: 0 | EH21: =EG21*EH$9*3+EG21*EH$10*5+EG21*EH$11*4 -> 0 | EI21: 0 | EJ21: =EI21*EJ$9*3+EI21*EJ$10*5+EI21*EJ$11*4 -> 0 | EK21: 0 | EL21: =EK21*EL$9*3+EK21*EL$10*5+EK21*EL$11*4 -> 0 | EM21: =C21+W21+AQ21+BK21+CE21+CY21+DS21 -> 0 | EN21: =D21+X21+AR21+BL21+CF21+CZ21+DT21 -> 0 | EO21: =E21+Y21+AS21+BM21+CG21+DA21+DU21 -> 0 | EP21: =F21+Z21+AT21+BN21+CH21+DB21+DV21 -> 0 | EQ21: =G21+AA21+AU21+BO21+CI21+DC21+DW21 -> 326 | ER21: =H21+AB21+AV21+BP21+CJ21+DD21+DX21 -> 30758916 | ES21: =I21+AC21+AW21+BQ21+CK21+DE21+DY21 -> 581 | ET21: =J21+AD21+AX21+BR21+CL21+DF21+DZ21 -> 43890660 | ... FF21: =V21+AP21+BJ21+CD21+CX21+DR21+EL21 -> 0 | FG21: =EM21+EQ21+EU21+EY21+FC21 -> 368 | FH21: =EN21+ER21+EV21+EZ21+FD21 -> 34935060 | FI21: =EO21+ES21+EW21+FA21+FE21 -> 790 | FJ21: =EP21+ET21+EX21+FB21+FF21 -> 60766992 | FK21: =FG21+FI21 -> 1158 | FL21: =FH21+FJ21 -> 95702052
A22: 11 | B22: Ломоносовский | C22: 17 | D22: =C22*D$9*3+C22*D$10*5+C22*D$11*4 -> 704412 | E22: 0 | F22: =E22*F$9*3+E22*F$10*5+E22*F$11*4 -> 0 | G22: 436 | H22: =G22*H$9*3+G22*H$10*5+G22*H$11*4 -> 37937232 | I22: 233 | J22: =I22*J$9*3+I22*J$10*5+I22*J$11*4 -> 16462848 | K22: 228 | L22: =K22*L$9*3+K22*L$10*5+K22*L$11*4 -> 22670496 | M22: 1875 | N22: =M22*N$9*3+M22*N$10*5+M22*N$11*4 -> 151402500 | O22: 0 | P22: =O22*P$9*3+O22*P$10*5+O22*P$11*4 -> 0 | Q22: 0 | R22: =Q22*R$9*3+Q22*R$10*5+Q22*R$11*4 -> 0 | S22: 0 | T22: =S22*T$9*3+S22*T$10*5+S22*T$11*4 -> 0 | U22: 0 | V22: =U22*V$9*3+U22*V$10*5+U22*V$11*4 -> 0 | W22: 0 | X22: =W22*X$9*3+W22*X$10*5+W22*X$11*4 -> 0 | Y22: 0 | Z22: =Y22*Z$9*3+Y22*Z$10*5+Y22*Z$11*4 -> 0 | AA22: 21 | AB22: =AA22*AB$9*3+AA22*AB$10*5+AA22*AB$11*4 -> 2314368 | AC22: 0 | AD22: =AC22*AD$9*3+AC22*AD$10*5+AC22*AD$11*4 -> 0 | AE22: 0 | AF22: =AE22*AF$9*3+AE22*AF$10*5+AE22*AF$11*4 -> 0 | AG22: 63 | AH22: =AG22*AH$9*3+AG22*AH$10*5+AG22*AH$11*4 -> 5849928 | AI22: 0 | AJ22: =AI22*AJ$9*3+AI22*AJ$10*5+AI22*AJ$11*4 -> 0 | AK22: 0 | AL22: =AK22*AL$9*3+AK22*AL$10*5+AK22*AL$11*4 -> 0 | AM22: 0 | AN22: =AM22*AN$9*3+AM22*AN$10*5+AM22*AN$11*4 -> 0 | AO22: 0 | AP22: =AO22*AP$9*3+AO22*AP$10*5+AO22*AP$11*4 -> 0 | AQ22: 0 | AR22: =AQ22*AR$9*3+AQ22*AR$10*5+AQ22*AR$11*4 -> 0 | AS22: 0 | AT22: =AS22*AT$9*3+AS22*AT$10*5+AS22*AT$11*4 -> 0 | AU22: 0 | AV22: =AU22*AV$9*3+AU22*AV$10*5+AU22*AV$11*4 -> 0 | AW22: 0 | AX22: =AW22*AX$9*3+AW22*AX$10*5+AW22*AX$11*4 -> 0 | AY22: 0 | AZ22: =AY22*AZ$9*3+AY22*AZ$10*5+AY22*AZ$11*4 -> 0 | BA22: 0 | BB22: =BA22*BB$9*3+BA22*BB$10*5+BA22*BB$11*4 -> 0 | BC22: 0 | BD22: =BC22*BD$9*3+BC22*BD$10*5+BC22*BD$11*4 -> 0 | BE22: 0 | BF22: =BE22*BF$9*3+BE22*BF$10*5+BE22*BF$11*4 -> 0 | BG22: 0 | BH22: =BG22*BH$9*3+BG22*BH$10*5+BG22*BH$11*4 -> 0 | BI22: 0 | BJ22: =BI22*BJ$9*3+BI22*BJ$10*5+BI22*BJ$11*4 -> 0 | BK22: 0 | BL22: =BK22*BL$9*3+BK22*BL$10*5+BK22*BL$11*4 -> 0 | BM22: 0 | BN22: =BM22*BN$9*3+BM22*BN$10*5+BM22*BN$11*4 -> 0 | BO22: 81 | BP22: =BO22*BP$9*3+BO22*BP$10*5+BO22*BP$11*4 -> 8926848 | BQ22: 51 | BR22: =BQ22*BR$9*3+BQ22*BR$10*5+BQ22*BR$11*4 -> 4143852 | BS22: 22 | BT22: =BS22*BT$9*3+BS22*BT$10*5+BS22*BT$11*4 -> 2770944 | BU22: 273 | BV22: =BU22*BV$9*3+BU22*BV$10*5+BU22*BV$11*4 -> 25349688 | BW22: 0 | BX22: =BW22*BX$9*3+BW22*BX$10*5+BW22*BX$11*4 -> 0 | BY22: 0 | BZ22: =BY22*BZ$9*3+BY22*BZ$10*5+BY22*BZ$11*4 -> 0 | CA22: 0 | CB22: =CA22*CB$9*3+CA22*CB$10*5+CA22*CB$11*4 -> 0 | CC22: 0 | CD22: =CC22*CD$9*3+CC22*CD$10*5+CC22*CD$11*4 -> 0 | CE22: 0 | CF22: =CE22*CF$9*3+CE22*CF$10*5+CE22*CF$11*4 -> 0 | CG22: 0 | CH22: =CG22*CH$9*3+CG22*CH$10*5+CG22*CH$11*4 -> 0 | CI22: 0 | CJ22: =CI22*CJ$9*3+CI22*CJ$10*5+CI22*CJ$11*4 -> 0 | CK22: 0 | CL22: =CK22*CL$9*3+CK22*CL$10*5+CK22*CL$11*4 -> 0 | CM22: 0 | CN22: =CM22*CN$9*3+CM22*CN$10*5+CM22*CN$11*4 -> 0 | CO22: 0 | CP22: =CO22*CP$9*3+CO22*CP$10*5+CO22*CP$11*4 -> 0 | CQ22: 0 | CR22: =CQ22*CR$9*3+CQ22*CR$10*5+CQ22*CR$11*4 -> 0 | CS22: 0 | CT22: =CS22*CT$9*3+CS22*CT$10*5+CS22*CT$11*4 -> 0 | CU22: 0 | CV22: =CU22*CV$9*3+CU22*CV$10*5+CU22*CV$11*4 -> 0 | CW22: 0 | CX22: =CW22*CX$9*3+CW22*CX$10*5+CW22*CX$11*4 -> 0 | CY22: 0 | CZ22: =CY22*CZ$9*3+CY22*CZ$10*5+CY22*CZ$11*4 -> 0 | DA22: 0 | DB22: =DA22*DB$9*3+DA22*DB$10*5+DA22*DB$11*4 -> 0 | DC22: 0 | DD22: =DC22*DD$9*3+DC22*DD$10*5+DC22*DD$11*4 -> 0 | DE22: 0 | DF22: =DE22*DF$9*3+DE22*DF$10*5+DE22*DF$11*4 -> 0 | DG22: 0 | DH22: =DG22*DH$9*3+DG22*DH$10*5+DG22*DH$11*4 -> 0 | DI22: 24 | DJ22: =DI22*DJ$9*3+DI22*DJ$10*5+DI22*DJ$11*4 -> 4611744 | DK22: 0 | DL22: =DK22*DL$9*3+DK22*DL$10*5+DK22*DL$11*4 -> 0 | DM22: 0 | DN22: =DM22*DN$9*3+DM22*DN$10*5+DM22*DN$11*4 -> 0 | DO22: 0 | DP22: =DO22*DP$9*3+DO22*DP$10*5+DO22*DP$11*4 -> 0 | DQ22: 0 | DR22: =DQ22*DR$9*3+DQ22*DR$10*5+DQ22*DR$11*4 -> 0 | DS22: 0 | DT22: =DS22*DT$9*3+DS22*DT$10*5+DS22*DT$11*4 -> 0 | DU22: 0 | DV22: =DU22*DV$9*3+DU22*DV$10*5+DU22*DV$11*4 -> 0 | DW22: 0 | DX22: =DW22*DX$9*3+DW22*DX$10*5+DW22*DX$11*4 -> 0 | DY22: 0 | DZ22: =DY22*DZ$9*3+DY22*DZ$10*5+DY22*DZ$11*4 -> 0 | EA22: 0 | EB22: =EA22*EB$9*3+EA22*EB$10*5+EA22*EB$11*4 -> 0 | EC22: 0 | ED22: =EC22*ED$9*3+EC22*ED$10*5+EC22*ED$11*4 -> 0 | EE22: 0 | EF22: =EE22*EF$9*3+EE22*EF$10*5+EE22*EF$11*4 -> 0 | EG22: 0 | EH22: =EG22*EH$9*3+EG22*EH$10*5+EG22*EH$11*4 -> 0 | EI22: 0 | EJ22: =EI22*EJ$9*3+EI22*EJ$10*5+EI22*EJ$11*4 -> 0 | EK22: 0 | EL22: =EK22*EL$9*3+EK22*EL$10*5+EK22*EL$11*4 -> 0 | EM22: =C22+W22+AQ22+BK22+CE22+CY22+DS22 -> 17 | EN22: =D22+X22+AR22+BL22+CF22+CZ22+DT22 -> 704412 | EO22: =E22+Y22+AS22+BM22+CG22+DA22+DU22 -> 0 | EP22: =F22+Z22+AT22+BN22+CH22+DB22+DV22 -> 0 | EQ22: =G22+AA22+AU22+BO22+CI22+DC22+DW22 -> 538 | ER22: =H22+AB22+AV22+BP22+CJ22+DD22+DX22 -> 49178448 | ES22: =I22+AC22+AW22+BQ22+CK22+DE22+DY22 -> 284 | ET22: =J22+AD22+AX22+BR22+CL22+DF22+DZ22 -> 20606700 | ... FF22: =V22+AP22+BJ22+CD22+CX22+DR22+EL22 -> 0 | FG22: =EM22+EQ22+EU22+EY22+FC22 -> 805 | FH22: =EN22+ER22+EV22+EZ22+FD22 -> 75324300 | FI22: =EO22+ES22+EW22+FA22+FE22 -> 2519 | FJ22: =EP22+ET22+EX22+FB22+FF22 -> 207820560 | FK22: =FG22+FI22 -> 3324 | FL22: =FH22+FJ22 -> 283144860
A23: 12 | B23: Лужский | C23: 0 | D23: =C23*D$9*3+C23*D$10*5+C23*D$11*4 -> 0 | E23: 0 | F23: =E23*F$9*3+E23*F$10*5+E23*F$11*4 -> 0 | G23: 237 | H23: =G23*H$9*3+G23*H$10*5+G23*H$11*4 -> 20621844 | I23: 1301 | J23: =I23*J$9*3+I23*J$10*5+I23*J$11*4 -> 91923456 | K23: 10 | L23: =K23*L$9*3+K23*L$10*5+K23*L$11*4 -> 994320 | M23: 50 | N23: =M23*N$9*3+M23*N$10*5+M23*N$11*4 -> 4037400 | O23: 0 | P23: =O23*P$9*3+O23*P$10*5+O23*P$11*4 -> 0 | Q23: 0 | R23: =Q23*R$9*3+Q23*R$10*5+Q23*R$11*4 -> 0 | S23: 0 | T23: =S23*T$9*3+S23*T$10*5+S23*T$11*4 -> 0 | U23: 0 | V23: =U23*V$9*3+U23*V$10*5+U23*V$11*4 -> 0 | W23: 0 | X23: =W23*X$9*3+W23*X$10*5+W23*X$11*4 -> 0 | Y23: 0 | Z23: =Y23*Z$9*3+Y23*Z$10*5+Y23*Z$11*4 -> 0 | AA23: 21 | AB23: =AA23*AB$9*3+AA23*AB$10*5+AA23*AB$11*4 -> 2314368 | AC23: 73 | AD23: =AC23*AD$9*3+AC23*AD$10*5+AC23*AD$11*4 -> 5931396 | AE23: 0 | AF23: =AE23*AF$9*3+AE23*AF$10*5+AE23*AF$11*4 -> 0 | AG23: 0 | AH23: =AG23*AH$9*3+AG23*AH$10*5+AG23*AH$11*4 -> 0 | AI23: 0 | AJ23: =AI23*AJ$9*3+AI23*AJ$10*5+AI23*AJ$11*4 -> 0 | AK23: 0 | AL23: =AK23*AL$9*3+AK23*AL$10*5+AK23*AL$11*4 -> 0 | AM23: 0 | AN23: =AM23*AN$9*3+AM23*AN$10*5+AM23*AN$11*4 -> 0 | AO23: 0 | AP23: =AO23*AP$9*3+AO23*AP$10*5+AO23*AP$11*4 -> 0 | AQ23: 0 | AR23: =AQ23*AR$9*3+AQ23*AR$10*5+AQ23*AR$11*4 -> 0 | AS23: 0 | AT23: =AS23*AT$9*3+AS23*AT$10*5+AS23*AT$11*4 -> 0 | AU23: 0 | AV23: =AU23*AV$9*3+AU23*AV$10*5+AU23*AV$11*4 -> 0 | AW23: 0 | AX23: =AW23*AX$9*3+AW23*AX$10*5+AW23*AX$11*4 -> 0 | AY23: 0 | AZ23: =AY23*AZ$9*3+AY23*AZ$10*5+AY23*AZ$11*4 -> 0 | BA23: 0 | BB23: =BA23*BB$9*3+BA23*BB$10*5+BA23*BB$11*4 -> 0 | BC23: 0 | BD23: =BC23*BD$9*3+BC23*BD$10*5+BC23*BD$11*4 -> 0 | BE23: 0 | BF23: =BE23*BF$9*3+BE23*BF$10*5+BE23*BF$11*4 -> 0 | BG23: 0 | BH23: =BG23*BH$9*3+BG23*BH$10*5+BG23*BH$11*4 -> 0 | BI23: 0 | BJ23: =BI23*BJ$9*3+BI23*BJ$10*5+BI23*BJ$11*4 -> 0 | BK23: 0 | BL23: =BK23*BL$9*3+BK23*BL$10*5+BK23*BL$11*4 -> 0 | BM23: 0 | BN23: =BM23*BN$9*3+BM23*BN$10*5+BM23*BN$11*4 -> 0 | BO23: 186 | BP23: =BO23*BP$9*3+BO23*BP$10*5+BO23*BP$11*4 -> 20498688 | BQ23: 494 | BR23: =BQ23*BR$9*3+BQ23*BR$10*5+BQ23*BR$11*4 -> 40138488 | BS23: 0 | BT23: =BS23*BT$9*3+BS23*BT$10*5+BS23*BT$11*4 -> 0 | BU23: 0 | BV23: =BU23*BV$9*3+BU23*BV$10*5+BU23*BV$11*4 -> 0 | BW23: 0 | BX23: =BW23*BX$9*3+BW23*BX$10*5+BW23*BX$11*4 -> 0 | BY23: 0 | BZ23: =BY23*BZ$9*3+BY23*BZ$10*5+BY23*BZ$11*4 -> 0 | CA23: 0 | CB23: =CA23*CB$9*3+CA23*CB$10*5+CA23*CB$11*4 -> 0 | CC23: 0 | CD23: =CC23*CD$9*3+CC23*CD$10*5+CC23*CD$11*4 -> 0 | CE23: 0 | CF23: =CE23*CF$9*3+CE23*CF$10*5+CE23*CF$11*4 -> 0 | CG23: 0 | CH23: =CG23*CH$9*3+CG23*CH$10*5+CG23*CH$11*4 -> 0 | CI23: 26 | CJ23: =CI23*CJ$9*3+CI23*CJ$10*5+CI23*CJ$11*4 -> 4371432 | CK23: 180 | CL23: =CK23*CL$9*3+CK23*CL$10*5+CK23*CL$11*4 -> 19837440 | CM23: 0 | CN23: =CM23*CN$9*3+CM23*CN$10*5+CM23*CN$11*4 -> 0 | CO23: 0 | CP23: =CO23*CP$9*3+CO23*CP$10*5+CO23*CP$11*4 -> 0 | CQ23: 0 | CR23: =CQ23*CR$9*3+CQ23*CR$10*5+CQ23*CR$11*4 -> 0 | CS23: 0 | CT23: =CS23*CT$9*3+CS23*CT$10*5+CS23*CT$11*4 -> 0 | CU23: 0 | CV23: =CU23*CV$9*3+CU23*CV$10*5+CU23*CV$11*4 -> 0 | CW23: 0 | CX23: =CW23*CX$9*3+CW23*CX$10*5+CW23*CX$11*4 -> 0 | CY23: 0 | CZ23: =CY23*CZ$9*3+CY23*CZ$10*5+CY23*CZ$11*4 -> 0 | DA23: 0 | DB23: =DA23*DB$9*3+DA23*DB$10*5+DA23*DB$11*4 -> 0 | DC23: 2 | DD23: =DC23*DD$9*3+DC23*DD$10*5+DC23*DD$11*4 -> 341904 | DE23: 27 | DF23: =DE23*DF$9*3+DE23*DF$10*5+DE23*DF$11*4 -> 4539564 | DG23: 0 | DH23: =DG23*DH$9*3+DG23*DH$10*5+DG23*DH$11*4 -> 0 | DI23: 0 | DJ23: =DI23*DJ$9*3+DI23*DJ$10*5+DI23*DJ$11*4 -> 0 | DK23: 0 | DL23: =DK23*DL$9*3+DK23*DL$10*5+DK23*DL$11*4 -> 0 | DM23: 0 | DN23: =DM23*DN$9*3+DM23*DN$10*5+DM23*DN$11*4 -> 0 | DO23: 0 | DP23: =DO23*DP$9*3+DO23*DP$10*5+DO23*DP$11*4 -> 0 | DQ23: 0 | DR23: =DQ23*DR$9*3+DQ23*DR$10*5+DQ23*DR$11*4 -> 0 | DS23: 0 | DT23: =DS23*DT$9*3+DS23*DT$10*5+DS23*DT$11*4 -> 0 | DU23: 0 | DV23: =DU23*DV$9*3+DU23*DV$10*5+DU23*DV$11*4 -> 0 | DW23: 0 | DX23: =DW23*DX$9*3+DW23*DX$10*5+DW23*DX$11*4 -> 0 | DY23: 0 | DZ23: =DY23*DZ$9*3+DY23*DZ$10*5+DY23*DZ$11*4 -> 0 | EA23: 0 | EB23: =EA23*EB$9*3+EA23*EB$10*5+EA23*EB$11*4 -> 0 | EC23: 0 | ED23: =EC23*ED$9*3+EC23*ED$10*5+EC23*ED$11*4 -> 0 | EE23: 0 | EF23: =EE23*EF$9*3+EE23*EF$10*5+EE23*EF$11*4 -> 0 | EG23: 0 | EH23: =EG23*EH$9*3+EG23*EH$10*5+EG23*EH$11*4 -> 0 | EI23: 0 | EJ23: =EI23*EJ$9*3+EI23*EJ$10*5+EI23*EJ$11*4 -> 0 | EK23: 0 | EL23: =EK23*EL$9*3+EK23*EL$10*5+EK23*EL$11*4 -> 0 | EM23: =C23+W23+AQ23+BK23+CE23+CY23+DS23 -> 0 | EN23: =D23+X23+AR23+BL23+CF23+CZ23+DT23 -> 0 | EO23: =E23+Y23+AS23+BM23+CG23+DA23+DU23 -> 0 | EP23: =F23+Z23+AT23+BN23+CH23+DB23+DV23 -> 0 | EQ23: =G23+AA23+AU23+BO23+CI23+DC23+DW23 -> 472 | ER23: =H23+AB23+AV23+BP23+CJ23+DD23+DX23 -> 48148236 | ES23: =I23+AC23+AW23+BQ23+CK23+DE23+DY23 -> 2075 | ET23: =J23+AD23+AX23+BR23+CL23+DF23+DZ23 -> 162370344 | ... FF23: =V23+AP23+BJ23+CD23+CX23+DR23+EL23 -> 0 | FG23: =EM23+EQ23+EU23+EY23+FC23 -> 482 | FH23: =EN23+ER23+EV23+EZ23+FD23 -> 49142556 | FI23: =EO23+ES23+EW23+FA23+FE23 -> 2125 | FJ23: =EP23+ET23+EX23+FB23+FF23 -> 166407744 | FK23: =FG23+FI23 -> 2607 | FL23: =FH23+FJ23 -> 215550300
... A29: 18 | B29: Сосновоборский | C29: 0 | D29: =C29*D$9*3+C29*D$10*5+C29*D$11*4 -> 0 | E29: 0 | F29: =E29*F$9*3+E29*F$10*5+E29*F$11*4 -> 0 | G29: 0 | H29: =G29*H$9*3+G29*H$10*5+G29*H$11*4 -> 0 | I29: 0 | J29: =I29*J$9*3+I29*J$10*5+I29*J$11*4 -> 0 | K29: 834 | L29: =K29*L$9*3+K29*L$10*5+K29*L$11*4 -> 82926288 | M29: 2481 | N29: =M29*N$9*3+M29*N$10*5+M29*N$11*4 -> 200335788 | O29: 0 | P29: =O29*P$9*3+O29*P$10*5+O29*P$11*4 -> 0 | Q29: 0 | R29: =Q29*R$9*3+Q29*R$10*5+Q29*R$11*4 -> 0 | S29: 0 | T29: =S29*T$9*3+S29*T$10*5+S29*T$11*4 -> 0 | U29: 0 | V29: =U29*V$9*3+U29*V$10*5+U29*V$11*4 -> 0 | W29: 0 | X29: =W29*X$9*3+W29*X$10*5+W29*X$11*4 -> 0 | Y29: 0 | Z29: =Y29*Z$9*3+Y29*Z$10*5+Y29*Z$11*4 -> 0 | AA29: 0 | AB29: =AA29*AB$9*3+AA29*AB$10*5+AA29*AB$11*4 -> 0 | AC29: 0 | AD29: =AC29*AD$9*3+AC29*AD$10*5+AC29*AD$11*4 -> 0 | AE29: 0 | AF29: =AE29*AF$9*3+AE29*AF$10*5+AE29*AF$11*4 -> 0 | AG29: 0 | AH29: =AG29*AH$9*3+AG29*AH$10*5+AG29*AH$11*4 -> 0 | AI29: 0 | AJ29: =AI29*AJ$9*3+AI29*AJ$10*5+AI29*AJ$11*4 -> 0 | AK29: 0 | AL29: =AK29*AL$9*3+AK29*AL$10*5+AK29*AL$11*4 -> 0 | AM29: 0 | AN29: =AM29*AN$9*3+AM29*AN$10*5+AM29*AN$11*4 -> 0 | AO29: 0 | AP29: =AO29*AP$9*3+AO29*AP$10*5+AO29*AP$11*4 -> 0 | AQ29: 0 | AR29: =AQ29*AR$9*3+AQ29*AR$10*5+AQ29*AR$11*4 -> 0 | AS29: 0 | AT29: =AS29*AT$9*3+AS29*AT$10*5+AS29*AT$11*4 -> 0 | AU29: 0 | AV29: =AU29*AV$9*3+AU29*AV$10*5+AU29*AV$11*4 -> 0 | AW29: 0 | AX29: =AW29*AX$9*3+AW29*AX$10*5+AW29*AX$11*4 -> 0 | AY29: 0 | AZ29: =AY29*AZ$9*3+AY29*AZ$10*5+AY29*AZ$11*4 -> 0 | BA29: 0 | BB29: =BA29*BB$9*3+BA29*BB$10*5+BA29*BB$11*4 -> 0 | BC29: 0 | BD29: =BC29*BD$9*3+BC29*BD$10*5+BC29*BD$11*4 -> 0 | BE29: 0 | BF29: =BE29*BF$9*3+BE29*BF$10*5+BE29*BF$11*4 -> 0 | BG29: 0 | BH29: =BG29*BH$9*3+BG29*BH$10*5+BG29*BH$11*4 -> 0 | BI29: 0 | BJ29: =BI29*BJ$9*3+BI29*BJ$10*5+BI29*BJ$11*4 -> 0 | BK29: 0 | BL29: =BK29*BL$9*3+BK29*BL$10*5+BK29*BL$11*4 -> 0 | BM29: 0 | BN29: =BM29*BN$9*3+BM29*BN$10*5+BM29*BN$11*4 -> 0 | BO29: 0 | BP29: =BO29*BP$9*3+BO29*BP$10*5+BO29*BP$11*4 -> 0 | BQ29: 0 | BR29: =BQ29*BR$9*3+BQ29*BR$10*5+BQ29*BR$11*4 -> 0 | BS29: 0 | BT29: =BS29*BT$9*3+BS29*BT$10*5+BS29*BT$11*4 -> 0 | BU29: 0 | BV29: =BU29*BV$9*3+BU29*BV$10*5+BU29*BV$11*4 -> 0 | BW29: 0 | BX29: =BW29*BX$9*3+BW29*BX$10*5+BW29*BX$11*4 -> 0 | BY29: 0 | BZ29: =BY29*BZ$9*3+BY29*BZ$10*5+BY29*BZ$11*4 -> 0 | CA29: 0 | CB29: =CA29*CB$9*3+CA29*CB$10*5+CA29*CB$11*4 -> 0 | CC29: 0 | CD29: =CC29*CD$9*3+CC29*CD$10*5+CC29*CD$11*4 -> 0 | CE29: 0 | CF29: =CE29*CF$9*3+CE29*CF$10*5+CE29*CF$11*4 -> 0 | CG29: 0 | CH29: =CG29*CH$9*3+CG29*CH$10*5+CG29*CH$11*4 -> 0 | CI29: 0 | CJ29: =CI29*CJ$9*3+CI29*CJ$10*5+CI29*CJ$11*4 -> 0 | CK29: 0 | CL29: =CK29*CL$9*3+CK29*CL$10*5+CK29*CL$11*4 -> 0 | CM29: 0 | CN29: =CM29*CN$9*3+CM29*CN$10*5+CM29*CN$11*4 -> 0 | CO29: 0 | CP29: =CO29*CP$9*3+CO29*CP$10*5+CO29*CP$11*4 -> 0 | CQ29: 0 | CR29: =CQ29*CR$9*3+CQ29*CR$10*5+CQ29*CR$11*4 -> 0 | CS29: 0 | CT29: =CS29*CT$9*3+CS29*CT$10*5+CS29*CT$11*4 -> 0 | CU29: 0 | CV29: =CU29*CV$9*3+CU29*CV$10*5+CU29*CV$11*4 -> 0 | CW29: 0 | CX29: =CW29*CX$9*3+CW29*CX$10*5+CW29*CX$11*4 -> 0 | CY29: 0 | CZ29: =CY29*CZ$9*3+CY29*CZ$10*5+CY29*CZ$11*4 -> 0 | DA29: 0 | DB29: =DA29*DB$9*3+DA29*DB$10*5+DA29*DB$11*4 -> 0 | DC29: 0 | DD29: =DC29*DD$9*3+DC29*DD$10*5+DC29*DD$11*4 -> 0 | DE29: 0 | DF29: =DE29*DF$9*3+DE29*DF$10*5+DE29*DF$11*4 -> 0 | DG29: 0 | DH29: =DG29*DH$9*3+DG29*DH$10*5+DG29*DH$11*4 -> 0 | DI29: 0 | DJ29: =DI29*DJ$9*3+DI29*DJ$10*5+DI29*DJ$11*4 -> 0 | DK29: 0 | DL29: =DK29*DL$9*3+DK29*DL$10*5+DK29*DL$11*4 -> 0 | DM29: 0 | DN29: =DM29*DN$9*3+DM29*DN$10*5+DM29*DN$11*4 -> 0 | DO29: 0 | DP29: =DO29*DP$9*3+DO29*DP$10*5+DO29*DP$11*4 -> 0 | DQ29: 0 | DR29: =DQ29*DR$9*3+DQ29*DR$10*5+DQ29*DR$11*4 -> 0 | DS29: 0 | DT29: =DS29*DT$9*3+DS29*DT$10*5+DS29*DT$11*4 -> 0 | DU29: 0 | DV29: =DU29*DV$9*3+DU29*DV$10*5+DU29*DV$11*4 -> 0 | DW29: 0 | DX29: =DW29*DX$9*3+DW29*DX$10*5+DW29*DX$11*4 -> 0 | DY29: 0 | DZ29: =DY29*DZ$9*3+DY29*DZ$10*5+DY29*DZ$11*4 -> 0 | EA29: 0 | EB29: =EA29*EB$9*3+EA29*EB$10*5+EA29*EB$11*4 -> 0 | EC29: 0 | ED29: =EC29*ED$9*3+EC29*ED$10*5+EC29*ED$11*4 -> 0 | EE29: 0 | EF29: =EE29*EF$9*3+EE29*EF$10*5+EE29*EF$11*4 -> 0 | EG29: 0 | EH29: =EG29*EH$9*3+EG29*EH$10*5+EG29*EH$11*4 -> 0 | EI29: 0 | EJ29: =EI29*EJ$9*3+EI29*EJ$10*5+EI29*EJ$11*4 -> 0 | EK29: 0 | EL29: =EK29*EL$9*3+EK29*EL$10*5+EK29*EL$11*4 -> 0 | EM29: =C29+W29+AQ29+BK29+CE29+CY29+DS29 -> 0 | EN29: =D29+X29+AR29+BL29+CF29+CZ29+DT29 -> 0 | EO29: =E29+Y29+AS29+BM29+CG29+DA29+DU29 -> 0 | EP29: =F29+Z29+AT29+BN29+CH29+DB29+DV29 -> 0 | EQ29: =G29+AA29+AU29+BO29+CI29+DC29+DW29 -> 0 | ER29: =H29+AB29+AV29+BP29+CJ29+DD29+DX29 -> 0 | ES29: =I29+AC29+AW29+BQ29+CK29+DE29+DY29 -> 0 | ET29: =J29+AD29+AX29+BR29+CL29+DF29+DZ29 -> 0 | ... FF29: =V29+AP29+BJ29+CD29+CX29+DR29+EL29 -> 0 | FG29: =EM29+EQ29+EU29+EY29+FC29 -> 834 | FH29: =EN29+ER29+EV29+EZ29+FD29 -> 82926288 | FI29: =EO29+ES29+EW29+FA29+FE29 -> 2481 | FJ29: =EP29+ET29+EX29+FB29+FF29 -> 200335788 | FK29: =FG29+FI29 -> 3315 | FL29: =FH29+FJ29 -> 283262076
A30: 2019 | B30: Итого | C30: =SUM(C12:C29) -> 180 | D30: =SUM(D12:D29) -> 7458480 | E30: =SUM(E12:E29) -> 58 | F30: =SUM(F12:F29) -> 1951584 | G30: =SUM(G12:G29) -> 5580 | H30: =SUM(H12:H29) -> 485526960 | I30: =SUM(I12:I29) -> 15911 | J30: =SUM(J12:J29) -> 1124207616 | ... FL30: =SUM(FL12:FL29) -> 6024281928

Sheet Расчет_гр.компен.направ.
G1: Расчет объема субвенции на финансовое обеспечение реализации дошкольных программ на 2019 год (группы компенсирующей направленности)
A3: №№ | B3: Реализуемая программа | C3: группы компенсирующей направленности для детей с тяжелыми нарушениями речи | W3: группы компенсирующей направленности для детей с фонетико-фонематическими нарушениями речи | AQ3: группы компенсирующей направленности для детей с амблиопией, косоглазием | BK3: группы компенсирующей направленности для детей с задержкой психического развития | CE3: группы компенсирующей направленности для детей с умственной отсталостью легкой степени | CY3: группы компенсирующей направленности для детей с умственной отсталостью умеренной, тяжелой | DS3: группы компенсирующей направленности для детей со сложным дефектом (имеющих сочетание 2 или более недостатков в физическом и (или) психическом развитии) | EM3: группы компенсирующей направленности для детей с иными возможностями здоровья | FG3: ВСЕГО | GA3: ВСЕГО планируемый среднегодовой контингент на 2019 год
C4: кратковременного пребывания | G4: сокращенного дня | K4: полного дня | O4: продленного дня | S4: круглосуточным пребыванием | W4: кратковременного пребывания | AA4: сокращенного дня | AE4: полного дня | AI4: продленного дня | AM4: круглосуточным пребыванием | AQ4: кратковременного пребывания | AU4: сокращенного дня | AY4: полного дня | BC4: продленного дня | BG4: круглосуточным пребыванием | BK4: кратковременного пребывания | BO4: сокращенного дня | BS4: полного дня | BW4: продленного дня | CA4: круглосуточным пребыванием | CE4: кратковременного пребывания | CI4: сокращенного дня | CM4: полного дня | CQ4: продленного дня | CU4: круглосуточным пребыванием | CY4: кратковременного пребывания | DC4: сокращенного дня | DG4: полного дня | DK4: продленного дня | DO4: круглосуточным пребыванием | DS4: кратковременного пребывания | DW4: сокращенного дня | EA4: полного дня | EE4: продленного дня | EI4: круглосуточным пребыванием | EM4: кратковременного пребывания | EQ4: сокращенного дня | EU4: полного дня | EY4: продленного дня | FC4: круглосуточным пребыванием | FG4: кратковременного пребывания | FK4: сокращенного дня | FO4: полного дня | FS4: продленного дня | FW4: круглосуточным пребыванием
C5: до 5 часов | G5: 8 - 10,5 часов | K5: 12 часов | O5: 13 - 14 часов | S5: 24 часа | W5: до 5 часов | AA5: 8 - 10,5 часов | AE5: 12 часов | AI5: 13 - 14 часов | AM5: 24 часа | AQ5: до 5 часов | AU5: 8 - 10,5 часов | AY5: 12 часов | BC5: 13 - 14 часов | BG5: 24 часа | BK5: до 5 часов | BO5: 8 - 10,5 часов | BS5: 12 часов | BW5: 13 - 14 часов | CA5: 24 часа | CE5: до 5 часов | CI5: 8 - 10,5 часов | CM5: 12 часов | CQ5: 13 - 14 часов | CU5: 24 часа | CY5: до 5 часов | DC5: 8 - 10,5 часов | DG5: 12 часов | DK5: 13 - 14 часов | DO5: 24 часа | DS5: до 5 часов | DW5: 8 - 10,5 часов | EA5: 12 часов | EE5: 13 - 14 часов | EI5: 24 часа | EM5: до 5 часов | EQ5: 8 - 10,5 часов | EU5: 12 часов | EY5: 13 - 14 часов | FC5: 24 часа | FG5: до 5 часов | FK5: 8 - 10,5 часов | FO5: 12 часов | FS5: 13 - 14 часов | FW5: 24 часа
C6: до 3 лет | E6: старше 3 лет | G6: до 3 лет | I6: старше 3 лет | K6: до 3 лет | M6: старше 3 лет | O6: до 3 лет | Q6: старше 3 лет | S6: до 3 лет | U6: старше 3 лет | W6: до 3 лет | Y6: старше 3 лет | AA6: до 3 лет | AC6: старше 3 лет | AE6: до 3 лет | AG6: старше 3 лет | AI6: до 3 лет | AK6: старше 3 лет | AM6: до 3 лет | AO6: старше 3 лет | AQ6: до 3 лет | AS6: старше 3 лет | AU6: до 3 лет | AW6: старше 3 лет | AY6: до 3 лет | BA6: старше 3 лет | BC6: до 3 лет | BE6: старше 3 лет | BG6: до 3 лет | BI6: старше 3 лет | BK6: до 3 лет | BM6: старше 3 лет | BO6: до 3 лет | BQ6: старше 3 лет | BS6: до 3 лет | BU6: старше 3 лет | BW6: до 3 лет | BY6: старше 3 лет | CA6: до 3 лет | CC6: старше 3 лет | CE6: до 3 лет | CG6: старше 3 лет | CI6: до 3 лет | CK6: старше 3 лет | CM6: до 3 лет | CO6: старше 3 лет | CQ6: до 3 лет | CS6: старше 3 лет | CU6: до 3 лет | CW6: старше 3 лет | CY6: до 3 лет | DA6: старше 3 лет | DC6: до 3 лет | DE6: старше 3 лет | DG6: до 3 лет | DI6: старше 3 лет | DK6: до 3 лет | DM6: старше 3 лет | DO6: до 3 лет | DQ6: старше 3 лет | DS6: до 3 лет | DU6: старше 3 лет | DW6: до 3 лет | DY6: старше 3 лет | EA6: до 3 лет | EC6: старше 3 лет | EE6: до 3 лет | EG6: старше 3 лет | EI6: до 3 лет | EK6: старше 3 лет | EM6: до 3 лет | EO6: старше 3 лет | EQ6: до 3 лет | ES6: старше 3 лет | EU6: до 3 лет | EW6: старше 3 лет | EY6: до 3 лет | FA6: старше 3 лет | FC6: до 3 лет | FE6: старше 3 лет | FG6: до 3 лет | FI6: старше 3 лет | FK6: до 3 лет | FM6: старше 3 лет | FO6: до 3 лет | FQ6: старше 3 лет | FS6: до 3 лет | FU6: старше 3 лет | FW6: до 3 лет | FY6: старше 3 лет | GA6: до 3 лет | GC6: старше 3 лет | GE6: Всего
C7: 19 | E7: 23 | G7: 19 | I7: 23 | K7: 19 | M7: 23 | O7: 19 | Q7: 23 | S7: 19 | U7: 23 | W7: 19 | Y7: 23 | AA7: 19 | AC7: 23 | AE7: 19 | AG7: 23 | AI7: 19 | AK7: 23 | AM7: 19 | AO7: 23 | AQ7: 19 | AS7: 23 | AU7: 19 | AW7: 23 | AY7: 19 | BA7: 23 | BC7: 19 | BE7: 23 | BG7: 19 | BI7: 23 | BK7: 19 | BM7: 23 | BO7: 19 | BQ7: 23 | BS7: 19 | BU7: 23 | BW7: 19 | BY7: 23 | CA7: 19 | CC7: 23 | CE7: 19 | CG7: 23 | CI7: 19 | CK7: 23 | CM7: 19 | CO7: 23 | CQ7: 19 | CS7: 23 | CU7: 19 | CW7: 23 | CY7: 19 | DA7: 23 | DC7: 19 | DE7: 23 | DG7: 19 | DI7: 23 | DK7: 19 | DM7: 23 | DO7: 19 | DQ7: 23 | DS7: 19 | DU7: 23 | DW7: 19 | DY7: 23 | EA7: 19 | EC7: 23 | EE7: 19 | EG7: 23 | EI7: 19 | EK7: 23 | EM7: 19 | EO7: 23 | EQ7: 19 | ES7: 23 | EU7: 19 | EW7: 23 | EY7: 19 | FA7: 23 | FC7: 19 | FE7: 23 | FG7: 19 | FI7: 23 | FK7: 19 | FM7: 23 | FO7: 19 | FQ7: 23 | FS7: 19 | FU7: 23 | FW7: 19 | FY7: 23
C8: кон-т | D8: сумма | E8: кон-т | F8: сумма | G8: кон-т | H8: сумма | I8: кон-т | J8: сумма | K8: кон-т | L8: сумма | M8: кон-т | N8: сумма | O8: кон-т | P8: сумма | Q8: кон-т | R8: сумма | S8: кон-т | T8: сумма | U8: кон-т | V8: сумма | W8: кон-т | X8: сумма | Y8: кон-т | Z8: сумма | AA8: кон-т | AB8: сумма | AC8: кон-т | AD8: сумма | AE8: кон-т | AF8: сумма | AG8: кон-т | AH8: сумма | AI8: кон-т | AJ8: сумма | AK8: кон-т | AL8: сумма | AM8: кон-т | AN8: сумма | AO8: кон-т | AP8: сумма | AQ8: кон-т | AR8: сумма | AS8: кон-т | AT8: сумма | AU8: кон-т | AV8: сумма | AW8: кон-т | AX8: сумма | AY8: кон-т | AZ8: сумма | BA8: кон-т | BB8: сумма | BC8: кон-т | BD8: сумма | BE8: кон-т | BF8: сумма | BG8: кон-т | BH8: сумма | BI8: кон-т | BJ8: сумма | BK8: кон-т | BL8: сумма | BM8: кон-т | BN8: сумма | BO8: кон-т | BP8: сумма | BQ8: кон-т | BR8: сумма | BS8: кон-т | BT8: сумма | BU8: кон-т | BV8: сумма | BW8: кон-т | BX8: сумма | BY8: кон-т | BZ8: сумма | CA8: кон-т | CB8: сумма | CC8: кон-т | CD8: сумма | CE8: кон-т | CF8: сумма | CG8: кон-т | CH8: сумма | CI8: кон-т | CJ8: сумма | CK8: кон-т | CL8: сумма | CM8: кон-т | CN8: сумма | CO8: кон-т | CP8: сумма | CQ8: кон-т | CR8: сумма | CS8: кон-т | CT8: сумма | CU8: кон-т | CV8: сумма | CW8: кон-т | CX8: сумма | CY8: кон-т | CZ8: сумма | DA8: кон-т | DB8: сумма | DC8: кон-т | DD8: сумма | DE8: кон-т | DF8: сумма | DG8: кон-т | DH8: сумма | DI8: кон-т | DJ8: сумма | DK8: кон-т | DL8: сумма | DM8: кон-т | DN8: сумма | DO8: кон-т | DP8: сумма | DQ8: кон-т | DR8: сумма | DS8: кон-т | DT8: сумма | DU8: кон-т | DV8: сумма | DW8: кон-т | DX8: сумма | DY8: кон-т | DZ8: сумма | EA8: кон-т | EB8: сумма | EC8: кон-т | ED8: сумма | EE8: кон-т | EF8: сумма | EG8: кон-т | EH8: сумма | EI8: кон-т | EJ8: сумма | EK8: кон-т | EL8: сумма | EM8: кон-т | EN8: сумма | EO8: кон-т | EP8: сумма | EQ8: кон-т | ER8: сумма | ES8: кон-т | ET8: сумма | EU8: кон-т | EV8: сумма | EW8: кон-т | EX8: сумма | EY8: кон-т | EZ8: сумма | FA8: кон-т | FB8: сумма | FC8: кон-т | FD8: сумма | FE8: кон-т | FF8: сумма | FG8: кон-т | FH8: сумма | FI8: кон-т | FJ8: сумма | FK8: кон-т | FL8: сумма | FM8: кон-т | FN8: сумма | FO8: кон-т | FP8: сумма | FQ8: кон-т | FR8: сумма | FS8: кон-т | FT8: сумма | FU8: кон-т | FV8: сумма | FW8: кон-т | FX8: сумма | FY8: кон-т | FZ8: сумма | GA8: кон-т | GB8: сумма | GC8: кон-т | GD8: сумма | GE8: кон-т | GF8: сумма
A9: 3 | B9: с 01.01.2018 | D9: ='Норматив '!$E$597 -> 21405 | F9: ='Норматив '!$E$598 -> 12521 | H9: ='Норматив '!$F$597 -> 44951 | J9: ='Норматив '!$F$598 -> 26294 | L9: ='Норматив '!$G$597 -> 51372 | N9: ='Норматив '!$G$598 -> 30050 | P9: ='Норматив '!$H$597 -> 59934 | R9: ='Норматив '!$H$598 -> 35059 | T9: ='Норматив '!$I$597 -> 59934 | V9: ='Норматив '!$I$598 -> 35059 | X9: ='Норматив '!$E$599 -> 0 | Z9: ='Норматив '!$E$600 -> 10300 | AB9: ='Норматив '!$F$599 -> 0 | AD9: ='Норматив '!$F$600 -> 21630 | AF9: ='Норматив '!$G$599 -> 0 | AH9: ='Норматив '!$G$600 -> 24720 | AJ9: ='Норматив '!$H$599 -> 0 | AL9: ='Норматив '!$H$600 -> 28840 | AN9: ='Норматив '!$I$599 -> 0 | AP9: ='Норматив '!$I$600 -> 28840 | AR9: ='Норматив '!$E$607 -> 21674 | AT9: ='Норматив '!$E$608 -> 12682 | AV9: ='Норматив '!$F$607 -> 45514 | AX9: ='Норматив '!$F$608 -> 26632 | AZ9: ='Норматив '!$G$607 -> 52016 | BB9: ='Норматив '!$G$608 -> 30437 | BD9: ='Норматив '!$H$607 -> 60686 | BF9: ='Норматив '!$H$608 -> 35510 | BH9: ='Норматив '!$I$607 -> 60686 | BJ9: ='Норматив '!$I$608 -> 35510 | BL9: ='Норматив '!$E$611 -> 21942 | BN9: ='Норматив '!$E$612 -> 12682 | BP9: ='Норматив '!$F$611 -> 46078 | BR9: ='Норматив '!$F$612 -> 26632 | BT9: ='Норматив '!$G$611 -> 52661 | BV9: ='Норматив '!$G$612 -> 30437 | BX9: ='Норматив '!$H$611 -> 61437 | BZ9: ='Норматив '!$H$612 -> 35510 | CB9: ='Норматив '!$I$611 -> 61437 | CD9: ='Норматив '!$I$612 -> 35510 | CF9: ='Норматив '!$E$613 -> 21942 | CH9: ='Норматив '!$E$614 -> 12682 | CJ9: ='Норматив '!$F$613 -> 46078 | CL9: ='Норматив '!$F$614 -> 26632 | CN9: ='Норматив '!$G$613 -> 52661 | CP9: ='Норматив '!$G$614 -> 30437 | CR9: ='Норматив '!$H$613 -> 61437 | CT9: ='Норматив '!$H$614 -> 35510 | CV9: ='Норматив '!$I$613 -> 61437 | CX9: ='Норматив '!$I$614 -> 35510 | CZ9: ='Норматив '!$E$615 -> 0 | DB9: ='Норматив '!$E$616 -> 16054 | DD9: ='Норматив '!$F$615 -> 0 | DF9: ='Норматив '!$F$616 -> 33713 | DH9: ='Норматив '!$G$615 -> 0 | DJ9: ='Норматив '!$G$616 -> 38529 | DL9: ='Норматив '!$H$615 -> 0 | DN9: ='Норматив '!$H$616 -> 44951 | DP9: ='Норматив '!$I$615 -> 0 | DR9: ='Норматив '!$I$616 -> 44951 | DT9: ='Норматив '!$E$619 -> 26330 | DV9: ='Норматив '!$E$620 -> 26008 | DX9: ='Норматив '!$F$619 -> 55294 | DZ9: ='Норматив '!$F$620 -> 54617 | EB9: ='Норматив '!$G$619 -> 63193 | ED9: ='Норматив '!$G$620 -> 62420 | EF9: ='Норматив '!$H$619 -> 73725 | EH9: ='Норматив '!$H$620 -> 72823 | EJ9: ='Норматив '!$I$619 -> 73725 | EL9: ='Норматив '!$I$620 -> 72823 | EN9: ='Норматив '!$E$621 -> 13712 | EP9: ='Норматив '!$E$622 -> 9034 | ER9: ='Норматив '!$F$621 -> 28796 | ET9: ='Норматив '!$F$622 -> 18972 | EV9: ='Норматив '!$G$621 -> 32910 | EX9: ='Норматив '!$G$622 -> 21682 | EZ9: ='Норматив '!$H$621 -> 38395 | FB9: ='Норматив '!$H$622 -> 25296 | FD9: ='Норматив '!$I$621 -> 38395 | FF9: ='Норматив '!$I$622 -> 25296 | FH9: ='Норматив '!$E$662 -> 0 | FJ9: ='Норматив '!$E$663 -> 123600 | FL9: ='Норматив '!$F$621 -> 28796 | FN9: ='Норматив '!$F$622 -> 18972 | FP9: ='Норматив '!$G$621 -> 32910 | FR9: ='Норматив '!$G$622 -> 21682 | FT9: ='Норматив '!$H$621 -> 38395 | FV9: ='Норматив '!$H$622 -> 25296 | FX9: ='Норматив '!$I$621 -> 38395 | FZ9: ='Норматив '!$I$622 -> 25296
A10: 5 | B10: с 01.04.2018 | D10: ='Норматив '!$E$597 -> 21405 | F10: ='Норматив '!$E$598 -> 12521 | H10: ='Норматив '!$F$597 -> 44951 | J10: ='Норматив '!$F$598 -> 26294 | L10: ='Норматив '!$G$597 -> 51372 | N10: ='Норматив '!$G$598 -> 30050 | P10: ='Норматив '!$H$597 -> 59934 | R10: ='Норматив '!$H$598 -> 35059 | T10: ='Норматив '!$I$597 -> 59934 | V10: ='Норматив '!$I$598 -> 35059 | X10: ='Норматив '!$E$599 -> 0 | Z10: ='Норматив '!$E$600 -> 10300 | AB10: ='Норматив '!$F$599 -> 0 | AD10: ='Норматив '!$F$600 -> 21630 | AF10: ='Норматив '!$G$599 -> 0 | AH10: ='Норматив '!$G$600 -> 24720 | AJ10: ='Норматив '!$H$599 -> 0 | AL10: ='Норматив '!$H$600 -> 28840 | AN10: ='Норматив '!$I$599 -> 0 | AP10: ='Норматив '!$I$600 -> 28840 | AR10: ='Норматив '!$E$607 -> 21674 | AT10: ='Норматив '!$E$608 -> 12682 | AV10: ='Норматив '!$F$607 -> 45514 | AX10: ='Норматив '!$F$608 -> 26632 | AZ10: ='Норматив '!$G$607 -> 52016 | BB10: ='Норматив '!$G$608 -> 30437 | BD10: ='Норматив '!$H$607 -> 60686 | BF10: ='Норматив '!$H$608 -> 35510 | BH10: ='Норматив '!$I$607 -> 60686 | BJ10: ='Норматив '!$I$608 -> 35510 | BL10: ='Норматив '!$E$611 -> 21942 | BN10: ='Норматив '!$E$612 -> 12682 | BP10: ='Норматив '!$F$611 -> 46078 | BR10: ='Норматив '!$F$612 -> 26632 | BT10: ='Норматив '!$G$611 -> 52661 | BV10: ='Норматив '!$G$612 -> 30437 | BX10: ='Норматив '!$H$611 -> 61437 | BZ10: ='Норматив '!$H$612 -> 35510 | CB10: ='Норматив '!$I$611 -> 61437 | CD10: ='Норматив '!$I$612 -> 35510 | CF10: ='Норматив '!$E$613 -> 21942 | CH10: ='Норматив '!$E$614 -> 12682 | CJ10: ='Норматив '!$F$613 -> 46078 | CL10: ='Норматив '!$F$614 -> 26632 | CN10: ='Норматив '!$G$613 -> 52661 | CP10: ='Норматив '!$G$614 -> 30437 | CR10: ='Норматив '!$H$613 -> 61437 | CT10: ='Норматив '!$H$614 -> 35510 | CV10: ='Норматив '!$I$613 -> 61437 | CX10: ='Норматив '!$I$614 -> 35510 | CZ10: ='Норматив '!$E$615 -> 0 | DB10: ='Норматив '!$E$616 -> 16054 | DD10: ='Норматив '!$F$615 -> 0 | DF10: ='Норматив '!$F$616 -> 33713 | DH10: ='Норматив '!$G$615 -> 0 | DJ10: ='Норматив '!$G$616 -> 38529 | DL10: ='Норматив '!$H$615 -> 0 | DN10: ='Норматив '!$H$616 -> 44951 | DP10: ='Норматив '!$I$615 -> 0 | DR10: ='Норматив '!$I$616 -> 44951 | DT10: ='Норматив '!$E$619 -> 26330 | DV10: ='Норматив '!$E$620 -> 26008 | DX10: ='Норматив '!$F$619 -> 55294 | DZ10: ='Норматив '!$F$620 -> 54617 | EB10: ='Норматив '!$G$619 -> 63193 | ED10: ='Норматив '!$G$620 -> 62420 | EF10: ='Норматив '!$H$619 -> 73725 | EH10: ='Норматив '!$H$620 -> 72823 | EJ10: ='Норматив '!$I$619 -> 73725 | EL10: ='Норматив '!$I$620 -> 72823 | EN10: ='Норматив '!$E$621 -> 13712 | EP10: ='Норматив '!$E$622 -> 9034 | ER10: ='Норматив '!$F$621 -> 28796 | ET10: ='Норматив '!$F$622 -> 18972 | EV10: ='Норматив '!$G$621 -> 32910 | EX10: ='Норматив '!$G$622 -> 21682 | EZ10: ='Норматив '!$H$621 -> 38395 | FB10: ='Норматив '!$H$622 -> 25296 | FD10: ='Норматив '!$I$621 -> 38395 | FF10: ='Норматив '!$I$622 -> 25296
A11: 4 | B11: с 01.09.2018 | D11: ='Норматив '!$E$597 -> 21405 | F11: ='Норматив '!$E$598 -> 12521 | H11: ='Норматив '!$F$597 -> 44951 | J11: ='Норматив '!$F$598 -> 26294 | L11: ='Норматив '!$G$597 -> 51372 | N11: ='Норматив '!$G$598 -> 30050 | P11: ='Норматив '!$H$597 -> 59934 | R11: ='Норматив '!$H$598 -> 35059 | T11: ='Норматив '!$I$597 -> 59934 | V11: ='Норматив '!$I$598 -> 35059 | X11: ='Норматив '!$E$599 -> 0 | Z11: ='Норматив '!$E$600 -> 10300 | AB11: ='Норматив '!$F$599 -> 0 | AD11: ='Норматив '!$F$600 -> 21630 | AF11: ='Норматив '!$G$599 -> 0 | AH11: ='Норматив '!$G$600 -> 24720 | AJ11: ='Норматив '!$H$599 -> 0 | AL11: ='Норматив '!$H$600 -> 28840 | AN11: ='Норматив '!$I$599 -> 0 | AP11: ='Норматив '!$I$600 -> 28840 | AR11: ='Норматив '!$E$607 -> 21674 | AT11: ='Норматив '!$E$608 -> 12682 | AV11: ='Норматив '!$F$607 -> 45514 | AX11: ='Норматив '!$F$608 -> 26632 | AZ11: ='Норматив '!$G$607 -> 52016 | BB11: ='Норматив '!$G$608 -> 30437 | BD11: ='Норматив '!$H$607 -> 60686 | BF11: ='Норматив '!$H$608 -> 35510 | BH11: ='Норматив '!$I$607 -> 60686 | BJ11: ='Норматив '!$I$608 -> 35510 | BL11: ='Норматив '!$E$611 -> 21942 | BN11: ='Норматив '!$E$612 -> 12682 | BP11: ='Норматив '!$F$611 -> 46078 | BR11: ='Норматив '!$F$612 -> 26632 | BT11: ='Норматив '!$G$611 -> 52661 | BV11: ='Норматив '!$G$612 -> 30437 | BX11: ='Норматив '!$H$611 -> 61437 | BZ11: ='Норматив '!$H$612 -> 35510 | CB11: ='Норматив '!$I$611 -> 61437 | CD11: ='Норматив '!$I$612 -> 35510 | CF11: ='Норматив '!$E$613 -> 21942 | CH11: ='Норматив '!$E$614 -> 12682 | CJ11: ='Норматив '!$F$613 -> 46078 | CL11: ='Норматив '!$F$614 -> 26632 | CN11: ='Норматив '!$G$613 -> 52661 | CP11: ='Норматив '!$G$614 -> 30437 | CR11: ='Норматив '!$H$613 -> 61437 | CT11: ='Норматив '!$H$614 -> 35510 | CV11: ='Норматив '!$I$613 -> 61437 | CX11: ='Норматив '!$I$614 -> 35510 | CZ11: ='Норматив '!$E$615 -> 0 | DB11: ='Норматив '!$E$616 -> 16054 | DD11: ='Норматив '!$F$615 -> 0 | DF11: ='Норматив '!$F$616 -> 33713 | DH11: ='Норматив '!$G$615 -> 0 | DJ11: ='Норматив '!$G$616 -> 38529 | DL11: ='Норматив '!$H$615 -> 0 | DN11: ='Норматив '!$H$616 -> 44951 | DP11: ='Норматив '!$I$615 -> 0 | DR11: ='Норматив '!$I$616 -> 44951 | DT11: ='Норматив '!$E$619 -> 26330 | DV11: ='Норматив '!$E$620 -> 26008 | DX11: ='Норматив '!$F$619 -> 55294 | DZ11: ='Норматив '!$F$620 -> 54617 | EB11: ='Норматив '!$G$619 -> 63193 | ED11: ='Норматив '!$G$620 -> 62420 | EF11: ='Норматив '!$H$619 -> 73725 | EH11: ='Норматив '!$H$620 -> 72823 | EJ11: ='Норматив '!$I$619 -> 73725 | EL11: ='Норматив '!$I$620 -> 72823 | EN11: ='Норматив '!$E$621 -> 13712 | EP11: ='Норматив '!$E$622 -> 9034 | ER11: ='Норматив '!$F$621 -> 28796 | ET11: ='Норматив '!$F$622 -> 18972 | EV11: ='Норматив '!$G$621 -> 32910 | EX11: ='Норматив '!$G$622 -> 21682 | EZ11: ='Норматив '!$H$621 -> 38395 | FB11: ='Норматив '!$H$622 -> 25296 | FD11: ='Норматив '!$I$621 -> 38395 | FF11: ='Норматив '!$I$622 -> 25296
A12: 1 | B12: Бокситогорский | C12: 0 | D12: =C12*D$9*3+C12*D$10*5+C12*D$11*4 -> 0 | E12: 0 | F12: =E12*F$9*3+E12*F$10*5+E12*F$11*4 -> 0 | G12: 0 | H12: =G12*H$9*3+G12*H$10*5+G12*H$11*4 -> 0 | I12: 193 | J12: =I12*J$9*3+I12*J$10*5+I12*J$11*4 -> 60896904 | K12: 0 | L12: =K12*L$9*3+K12*L$10*5+K12*L$11*4 -> 0 | M12: 0 | N12: =M12*N$9*3+M12*N$10*5+M12*N$11*4 -> 0 | O12: 0 | P12: =O12*P$9*3+O12*P$10*5+O12*P$11*4 -> 0 | Q12: 0 | R12: =Q12*R$9*3+Q12*R$10*5+Q12*R$11*4 -> 0 | S12: 0 | T12: =S12*T$9*3+S12*T$10*5+S12*T$11*4 -> 0 | U12: 0 | V12: =U12*V$9*3+U12*V$10*5+U12*V$11*4 -> 0 | W12: 0 | X12: =W12*X$9*3+W12*X$10*5+W12*X$11*4 -> 0 | Y12: 0 | Z12: =Y12*Z$9*3+Y12*Z$10*5+Y12*Z$11*4 -> 0 | AA12: 0 | AB12: =AA12*AB$9*3+AA12*AB$10*5+AA12*AB$11*4 -> 0 | AC12: 0 | AD12: =AC12*AD$9*3+AC12*AD$10*5+AC12*AD$11*4 -> 0 | AE12: 0 | AF12: =AE12*AF$9*3+AE12*AF$10*5+AE12*AF$11*4 -> 0 | AG12: 0 | AH12: =AG12*AH$9*3+AG12*AH$10*5+AG12*AH$11*4 -> 0 | AI12: 0 | AJ12: =AI12*AJ$9*3+AI12*AJ$10*5+AI12*AJ$11*4 -> 0 | AK12: 0 | AL12: =AK12*AL$9*3+AK12*AL$10*5+AK12*AL$11*4 -> 0 | AM12: 0 | AN12: =AM12*AN$9*3+AM12*AN$10*5+AM12*AN$11*4 -> 0 | AO12: 0 | AP12: =AO12*AP$9*3+AO12*AP$10*5+AO12*AP$11*4 -> 0 | AQ12: 0 | AR12: =AQ12*AR$9*3+AQ12*AR$10*5+AQ12*AR$11*4 -> 0 | AS12: 0 | AT12: =AS12*AT$9*3+AS12*AT$10*5+AS12*AT$11*4 -> 0 | AU12: 0 | AV12: =AU12*AV$9*3+AU12*AV$10*5+AU12*AV$11*4 -> 0 | AW12: 19 | AX12: =AW12*AX$9*3+AW12*AX$10*5+AW12*AX$11*4 -> 6072096 | AY12: 0 | AZ12: =AY12*AZ$9*3+AY12*AZ$10*5+AY12*AZ$11*4 -> 0 | BA12: 0 | BB12: =BA12*BB$9*3+BA12*BB$10*5+BA12*BB$11*4 -> 0 | BC12: 0 | BD12: =BC12*BD$9*3+BC12*BD$10*5+BC12*BD$11*4 -> 0 | BE12: 0 | BF12: =BE12*BF$9*3+BE12*BF$10*5+BE12*BF$11*4 -> 0 | BG12: 0 | BH12: =BG12*BH$9*3+BG12*BH$10*5+BG12*BH$11*4 -> 0 | BI12: 0 | BJ12: =BI12*BJ$9*3+BI12*BJ$10*5+BI12*BJ$11*4 -> 0 | BK12: 0 | BL12: =BK12*BL$9*3+BK12*BL$10*5+BK12*BL$11*4 -> 0 | BM12: 0 | BN12: =BM12*BN$9*3+BM12*BN$10*5+BM12*BN$11*4 -> 0 | BO12: 0 | BP12: =BO12*BP$9*3+BO12*BP$10*5+BO12*BP$11*4 -> 0 | BQ12: 0 | BR12: =BQ12*BR$9*3+BQ12*BR$10*5+BQ12*BR$11*4 -> 0 | BS12: 0 | BT12: =BS12*BT$9*3+BS12*BT$10*5+BS12*BT$11*4 -> 0 | BU12: 0 | BV12: =BU12*BV$9*3+BU12*BV$10*5+BU12*BV$11*4 -> 0 | BW12: 0 | BX12: =BW12*BX$9*3+BW12*BX$10*5+BW12*BX$11*4 -> 0 | BY12: 0 | BZ12: =BY12*BZ$9*3+BY12*BZ$10*5+BY12*BZ$11*4 -> 0 | CA12: 0 | CB12: =CA12*CB$9*3+CA12*CB$10*5+CA12*CB$11*4 -> 0 | CC12: 0 | CD12: =CC12*CD$9*3+CC12*CD$10*5+CC12*CD$11*4 -> 0 | CE12: 0 | CF12: =CE12*CF$9*3+CE12*CF$10*5+CE12*CF$11*4 -> 0 | CG12: 0 | CH12: =CG12*CH$9*3+CG12*CH$10*5+CG12*CH$11*4 -> 0 | CI12: 0 | CJ12: =CI12*CJ$9*3+CI12*CJ$10*5+CI12*CJ$11*4 -> 0 | CK12: 0 | CL12: =CK12*CL$9*3+CK12*CL$10*5+CK12*CL$11*4 -> 0 | CM12: 0 | CN12: =CM12*CN$9*3+CM12*CN$10*5+CM12*CN$11*4 -> 0 | CO12: 0 | CP12: =CO12*CP$9*3+CO12*CP$10*5+CO12*CP$11*4 -> 0 | CQ12: 0 | CR12: =CQ12*CR$9*3+CQ12*CR$10*5+CQ12*CR$11*4 -> 0 | CS12: 0 | CT12: =CS12*CT$9*3+CS12*CT$10*5+CS12*CT$11*4 -> 0 | CU12: 0 | CV12: =CU12*CV$9*3+CU12*CV$10*5+CU12*CV$11*4 -> 0 | CW12: 0 | CX12: =CW12*CX$9*3+CW12*CX$10*5+CW12*CX$11*4 -> 0 | CY12: 0 | CZ12: =CY12*CZ$9*3+CY12*CZ$10*5+CY12*CZ$11*4 -> 0 | DA12: 0 | DB12: =DA12*DB$9*3+DA12*DB$10*5+DA12*DB$11*4 -> 0 | DC12: 0 | DD12: =DC12*DD$9*3+DC12*DD$10*5+DC12*DD$11*4 -> 0 | DE12: 0 | DF12: =DE12*DF$9*3+DE12*DF$10*5+DE12*DF$11*4 -> 0 | DG12: 0 | DH12: =DG12*DH$9*3+DG12*DH$10*5+DG12*DH$11*4 -> 0 | DI12: 0 | DJ12: =DI12*DJ$9*3+DI12*DJ$10*5+DI12*DJ$11*4 -> 0 | DK12: 0 | DL12: =DK12*DL$9*3+DK12*DL$10*5+DK12*DL$11*4 -> 0 | DM12: 0 | DN12: =DM12*DN$9*3+DM12*DN$10*5+DM12*DN$11*4 -> 0 | DO12: 0 | DP12: =DO12*DP$9*3+DO12*DP$10*5+DO12*DP$11*4 -> 0 | DQ12: 0 | DR12: =DQ12*DR$9*3+DQ12*DR$10*5+DQ12*DR$11*4 -> 0 | DS12: 0 | DT12: =DS12*DT$9*3+DS12*DT$10*5+DS12*DT$11*4 -> 0 | DU12: 0 | DV12: =DU12*DV$9*3+DU12*DV$10*5+DU12*DV$11*4 -> 0 | DW12: 0 | DX12: =DW12*DX$9*3+DW12*DX$10*5+DW12*DX$11*4 -> 0 | DY12: 0 | DZ12: =DY12*DZ$9*3+DY12*DZ$10*5+DY12*DZ$11*4 -> 0 | EA12: 0 | EB12: =EA12*EB$9*3+EA12*EB$10*5+EA12*EB$11*4 -> 0 | EC12: 0 | ED12: =EC12*ED$9*3+EC12*ED$10*5+EC12*ED$11*4 -> 0 | EE12: 0 | EF12: =EE12*EF$9*3+EE12*EF$10*5+EE12*EF$11*4 -> 0 | EG12: 0 | EH12: =EG12*EH$9*3+EG12*EH$10*5+EG12*EH$11*4 -> 0 | EI12: 0 | EJ12: =EI12*EJ$9*3+EI12*EJ$10*5+EI12*EJ$11*4 -> 0 | EK12: 0 | EL12: =EK12*EL$9*3+EK12*EL$10*5+EK12*EL$11*4 -> 0 | EM12: 0 | EN12: =EM12*D$9*3+EM12*D$10*5+EM12*D$11*4 -> 0 | EO12: 0 | EP12: =EO12*F$9*3+EO12*F$10*5+EO12*F$11*4 -> 0 | EQ12: 0 | ER12: =EQ12*H$9*3+EQ12*H$10*5+EQ12*H$11*4 -> 0 | ES12: 0 | ET12: =ES12*J$9*3+ES12*J$10*5+ES12*J$11*4 -> 0 | EU12: 0 | EV12: =EU12*L$9*3+EU12*L$10*5+EU12*L$11*4 -> 0 | EW12: 0 | EX12: =EW12*N$9*3+EW12*N$10*5+EW12*N$11*4 -> 0 | EY12: 0 | EZ12: =EY12*P$9*3+EY12*P$10*5+EY12*P$11*4 -> 0 | FA12: 0 | FB12: =FA12*R$9*3+FA12*R$10*5+FA12*R$11*4 -> 0 | FC12: 0 | FD12: =FC12*T$9*3+FC12*T$10*5+FC12*T$11*4 -> 0 | FE12: 0 | FF12: =FE12*V$9*3+FE12*V$10*5+FE12*V$11*4 -> 0 | FG12: =C12+W12+AQ12+BK12+CE12+CY12+DS12+EM12 -> 0 | FH12: =D12+X12+AR12+BL12+CF12+CZ12+DT12+EN12 -> 0 | FI12: =E12+Y12+AS12+BM12+CG12+DA12+DU12+EO12 -> 0 | FJ12: =F12+Z12+AT12+BN12+CH12+DB12+DV12+EP12 -> 0 | FK12: =G12+AA12+AU12+BO12+CI12+DC12+DW12+EQ12 -> 0 | FL12: =H12+AB12+AV12+BP12+CJ12+DD12+DX12+ER12 -> 0 | FM12: =I12+AC12+AW12+BQ12+CK12+DE12+DY12+ES12 -> 212 | FN12: =J12+AD12+AX12+BR12+CL12+DF12+DZ12+ET12 -> 66969000 | ... FZ12: =V12+AP12+BJ12+CD12+CX12+DR12+EL12+FF12 -> 0 | GA12: =FG12+FK12+FO12+FS12+FW12 -> 0 | GB12: =FH12+FL12+FP12+FT12+FX12 -> 0 | GC12: =FI12+FM12+FQ12+FU12+FY12 -> 212 | GD12: =FJ12+FN12+FR12+FV12+FZ12 -> 66969000 | GE12: =GA12+GC12 -> 212 | GF12: =GB12+GD12 -> 66969000
A13: 2 | B13: Волосовский | C13: 0 | D13: =C13*D$9*3+C13*D$10*5+C13*D$11*4 -> 0 | E13: 0 | F13: =E13*F$9*3+E13*F$10*5+E13*F$11*4 -> 0 | G13: 0 | H13: =G13*H$9*3+G13*H$10*5+G13*H$11*4 -> 0 | I13: 0 | J13: =I13*J$9*3+I13*J$10*5+I13*J$11*4 -> 0 | K13: 0 | L13: =K13*L$9*3+K13*L$10*5+K13*L$11*4 -> 0 | M13: 0 | N13: =M13*N$9*3+M13*N$10*5+M13*N$11*4 -> 0 | O13: 0 | P13: =O13*P$9*3+O13*P$10*5+O13*P$11*4 -> 0 | Q13: 0 | R13: =Q13*R$9*3+Q13*R$10*5+Q13*R$11*4 -> 0 | S13: 0 | T13: =S13*T$9*3+S13*T$10*5+S13*T$11*4 -> 0 | U13: 0 | V13: =U13*V$9*3+U13*V$10*5+U13*V$11*4 -> 0 | W13: 0 | X13: =W13*X$9*3+W13*X$10*5+W13*X$11*4 -> 0 | Y13: 0 | Z13: =Y13*Z$9*3+Y13*Z$10*5+Y13*Z$11*4 -> 0 | AA13: 0 | AB13: =AA13*AB$9*3+AA13*AB$10*5+AA13*AB$11*4 -> 0 | AC13: 0 | AD13: =AC13*AD$9*3+AC13*AD$10*5+AC13*AD$11*4 -> 0 | AE13: 0 | AF13: =AE13*AF$9*3+AE13*AF$10*5+AE13*AF$11*4 -> 0 | AG13: 91 | AH13: =AG13*AH$9*3+AG13*AH$10*5+AG13*AH$11*4 -> 26994240 | AI13: 0 | AJ13: =AI13*AJ$9*3+AI13*AJ$10*5+AI13*AJ$11*4 -> 0 | AK13: 0 | AL13: =AK13*AL$9*3+AK13*AL$10*5+AK13*AL$11*4 -> 0 | AM13: 0 | AN13: =AM13*AN$9*3+AM13*AN$10*5+AM13*AN$11*4 -> 0 | AO13: 0 | AP13: =AO13*AP$9*3+AO13*AP$10*5+AO13*AP$11*4 -> 0 | AQ13: 0 | AR13: =AQ13*AR$9*3+AQ13*AR$10*5+AQ13*AR$11*4 -> 0 | AS13: 0 | AT13: =AS13*AT$9*3+AS13*AT$10*5+AS13*AT$11*4 -> 0 | AU13: 0 | AV13: =AU13*AV$9*3+AU13*AV$10*5+AU13*AV$11*4 -> 0 | AW13: 0 | AX13: =AW13*AX$9*3+AW13*AX$10*5+AW13*AX$11*4 -> 0 | AY13: 0 | AZ13: =AY13*AZ$9*3+AY13*AZ$10*5+AY13*AZ$11*4 -> 0 | BA13: 0 | BB13: =BA13*BB$9*3+BA13*BB$10*5+BA13*BB$11*4 -> 0 | BC13: 0 | BD13: =BC13*BD$9*3+BC13*BD$10*5+BC13*BD$11*4 -> 0 | BE13: 0 | BF13: =BE13*BF$9*3+BE13*BF$10*5+BE13*BF$11*4 -> 0 | BG13: 0 | BH13: =BG13*BH$9*3+BG13*BH$10*5+BG13*BH$11*4 -> 0 | BI13: 0 | BJ13: =BI13*BJ$9*3+BI13*BJ$10*5+BI13*BJ$11*4 -> 0 | BK13: 0 | BL13: =BK13*BL$9*3+BK13*BL$10*5+BK13*BL$11*4 -> 0 | BM13: 0 | BN13: =BM13*BN$9*3+BM13*BN$10*5+BM13*BN$11*4 -> 0 | BO13: 0 | BP13: =BO13*BP$9*3+BO13*BP$10*5+BO13*BP$11*4 -> 0 | BQ13: 0 | BR13: =BQ13*BR$9*3+BQ13*BR$10*5+BQ13*BR$11*4 -> 0 | BS13: 0 | BT13: =BS13*BT$9*3+BS13*BT$10*5+BS13*BT$11*4 -> 0 | BU13: 36 | BV13: =BU13*BV$9*3+BU13*BV$10*5+BU13*BV$11*4 -> 13148784 | BW13: 0 | BX13: =BW13*BX$9*3+BW13*BX$10*5+BW13*BX$11*4 -> 0 | BY13: 0 | BZ13: =BY13*BZ$9*3+BY13*BZ$10*5+BY13*BZ$11*4 -> 0 | CA13: 0 | CB13: =CA13*CB$9*3+CA13*CB$10*5+CA13*CB$11*4 -> 0 | CC13: 0 | CD13: =CC13*CD$9*3+CC13*CD$10*5+CC13*CD$11*4 -> 0 | CE13: 0 | CF13: =CE13*CF$9*3+CE13*CF$10*5+CE13*CF$11*4 -> 0 | CG13: 0 | CH13: =CG13*CH$9*3+CG13*CH$10*5+CG13*CH$11*4 -> 0 | CI13: 0 | CJ13: =CI13*CJ$9*3+CI13*CJ$10*5+CI13*CJ$11*4 -> 0 | CK13: 0 | CL13: =CK13*CL$9*3+CK13*CL$10*5+CK13*CL$11*4 -> 0 | CM13: 0 | CN13: =CM13*CN$9*3+CM13*CN$10*5+CM13*CN$11*4 -> 0 | CO13: 0 | CP13: =CO13*CP$9*3+CO13*CP$10*5+CO13*CP$11*4 -> 0 | CQ13: 0 | CR13: =CQ13*CR$9*3+CQ13*CR$10*5+CQ13*CR$11*4 -> 0 | CS13: 0 | CT13: =CS13*CT$9*3+CS13*CT$10*5+CS13*CT$11*4 -> 0 | CU13: 0 | CV13: =CU13*CV$9*3+CU13*CV$10*5+CU13*CV$11*4 -> 0 | CW13: 0 | CX13: =CW13*CX$9*3+CW13*CX$10*5+CW13*CX$11*4 -> 0 | CY13: 0 | CZ13: =CY13*CZ$9*3+CY13*CZ$10*5+CY13*CZ$11*4 -> 0 | DA13: 0 | DB13: =DA13*DB$9*3+DA13*DB$10*5+DA13*DB$11*4 -> 0 | DC13: 0 | DD13: =DC13*DD$9*3+DC13*DD$10*5+DC13*DD$11*4 -> 0 | DE13: 0 | DF13: =DE13*DF$9*3+DE13*DF$10*5+DE13*DF$11*4 -> 0 | DG13: 0 | DH13: =DG13*DH$9*3+DG13*DH$10*5+DG13*DH$11*4 -> 0 | DI13: 0 | DJ13: =DI13*DJ$9*3+DI13*DJ$10*5+DI13*DJ$11*4 -> 0 | DK13: 0 | DL13: =DK13*DL$9*3+DK13*DL$10*5+DK13*DL$11*4 -> 0 | DM13: 0 | DN13: =DM13*DN$9*3+DM13*DN$10*5+DM13*DN$11*4 -> 0 | DO13: 0 | DP13: =DO13*DP$9*3+DO13*DP$10*5+DO13*DP$11*4 -> 0 | DQ13: 0 | DR13: =DQ13*DR$9*3+DQ13*DR$10*5+DQ13*DR$11*4 -> 0 | DS13: 0 | DT13: =DS13*DT$9*3+DS13*DT$10*5+DS13*DT$11*4 -> 0 | DU13: 0 | DV13: =DU13*DV$9*3+DU13*DV$10*5+DU13*DV$11*4 -> 0 | DW13: 0 | DX13: =DW13*DX$9*3+DW13*DX$10*5+DW13*DX$11*4 -> 0 | DY13: 0 | DZ13: =DY13*DZ$9*3+DY13*DZ$10*5+DY13*DZ$11*4 -> 0 | EA13: 0 | EB13: =EA13*EB$9*3+EA13*EB$10*5+EA13*EB$11*4 -> 0 | EC13: 0 | ED13: =EC13*ED$9*3+EC13*ED$10*5+EC13*ED$11*4 -> 0 | EE13: 0 | EF13: =EE13*EF$9*3+EE13*EF$10*5+EE13*EF$11*4 -> 0 | EG13: 0 | EH13: =EG13*EH$9*3+EG13*EH$10*5+EG13*EH$11*4 -> 0 | EI13: 0 | EJ13: =EI13*EJ$9*3+EI13*EJ$10*5+EI13*EJ$11*4 -> 0 | EK13: 0 | EL13: =EK13*EL$9*3+EK13*EL$10*5+EK13*EL$11*4 -> 0 | EM13: 0 | EN13: =EM13*D$9*3+EM13*D$10*5+EM13*D$11*4 -> 0 | EO13: 0 | EP13: =EO13*F$9*3+EO13*F$10*5+EO13*F$11*4 -> 0 | EQ13: 0 | ER13: =EQ13*H$9*3+EQ13*H$10*5+EQ13*H$11*4 -> 0 | ES13: 0 | ET13: =ES13*J$9*3+ES13*J$10*5+ES13*J$11*4 -> 0 | EU13: 0 | EV13: =EU13*L$9*3+EU13*L$10*5+EU13*L$11*4 -> 0 | EW13: 0 | EX13: =EW13*N$9*3+EW13*N$10*5+EW13*N$11*4 -> 0 | EY13: 0 | EZ13: =EY13*P$9*3+EY13*P$10*5+EY13*P$11*4 -> 0 | FA13: 0 | FB13: =FA13*R$9*3+FA13*R$10*5+FA13*R$11*4 -> 0 | FC13: 0 | FD13: =FC13*T$9*3+FC13*T$10*5+FC13*T$11*4 -> 0 | FE13: 0 | FF13: =FE13*V$9*3+FE13*V$10*5+FE13*V$11*4 -> 0 | FG13: =C13+W13+AQ13+BK13+CE13+CY13+DS13+EM13 -> 0 | FH13: =D13+X13+AR13+BL13+CF13+CZ13+DT13+EN13 -> 0 | FI13: =E13+Y13+AS13+BM13+CG13+DA13+DU13+EO13 -> 0 | FJ13: =F13+Z13+AT13+BN13+CH13+DB13+DV13+EP13 -> 0 | FK13: =G13+AA13+AU13+BO13+CI13+DC13+DW13+EQ13 -> 0 | FL13: =H13+AB13+AV13+BP13+CJ13+DD13+DX13+ER13 -> 0 | FM13: =I13+AC13+AW13+BQ13+CK13+DE13+DY13+ES13 -> 0 | FN13: =J13+AD13+AX13+BR13+CL13+DF13+DZ13+ET13 -> 0 | ... FZ13: =V13+AP13+BJ13+CD13+CX13+DR13+EL13+FF13 -> 0 | GA13: =FG13+FK13+FO13+FS13+FW13 -> 0 | GB13: =FH13+FL13+FP13+FT13+FX13 -> 0 | GC13: =FI13+FM13+FQ13+FU13+FY13 -> 127 | GD13: =FJ13+FN13+FR13+FV13+FZ13 -> 40143024 | GE13: =GA13+GC13 -> 127 | GF13: =GB13+GD13 -> 40143024
A14: 3 | B14: Волховский | C14: 0 | D14: =C14*D$9*3+C14*D$10*5+C14*D$11*4 -> 0 | E14: 0 | F14: =E14*F$9*3+E14*F$10*5+E14*F$11*4 -> 0 | G14: 0 | H14: =G14*H$9*3+G14*H$10*5+G14*H$11*4 -> 0 | I14: 58 | J14: =I14*J$9*3+I14*J$10*5+I14*J$11*4 -> 18300624 | K14: 0 | L14: =K14*L$9*3+K14*L$10*5+K14*L$11*4 -> 0 | M14: 368 | N14: =M14*N$9*3+M14*N$10*5+M14*N$11*4 -> 132700800 | O14: 0 | P14: =O14*P$9*3+O14*P$10*5+O14*P$11*4 -> 0 | Q14: 0 | R14: =Q14*R$9*3+Q14*R$10*5+Q14*R$11*4 -> 0 | S14: 0 | T14: =S14*T$9*3+S14*T$10*5+S14*T$11*4 -> 0 | U14: 0 | V14: =U14*V$9*3+U14*V$10*5+U14*V$11*4 -> 0 | W14: 0 | X14: =W14*X$9*3+W14*X$10*5+W14*X$11*4 -> 0 | Y14: 0 | Z14: =Y14*Z$9*3+Y14*Z$10*5+Y14*Z$11*4 -> 0 | AA14: 0 | AB14: =AA14*AB$9*3+AA14*AB$10*5+AA14*AB$11*4 -> 0 | AC14: 0 | AD14: =AC14*AD$9*3+AC14*AD$10*5+AC14*AD$11*4 -> 0 | AE14: 0 | AF14: =AE14*AF$9*3+AE14*AF$10*5+AE14*AF$11*4 -> 0 | AG14: 0 | AH14: =AG14*AH$9*3+AG14*AH$10*5+AG14*AH$11*4 -> 0 | AI14: 0 | AJ14: =AI14*AJ$9*3+AI14*AJ$10*5+AI14*AJ$11*4 -> 0 | AK14: 0 | AL14: =AK14*AL$9*3+AK14*AL$10*5+AK14*AL$11*4 -> 0 | AM14: 0 | AN14: =AM14*AN$9*3+AM14*AN$10*5+AM14*AN$11*4 -> 0 | AO14: 0 | AP14: =AO14*AP$9*3+AO14*AP$10*5+AO14*AP$11*4 -> 0 | AQ14: 0 | AR14: =AQ14*AR$9*3+AQ14*AR$10*5+AQ14*AR$11*4 -> 0 | AS14: 0 | AT14: =AS14*AT$9*3+AS14*AT$10*5+AS14*AT$11*4 -> 0 | AU14: 0 | AV14: =AU14*AV$9*3+AU14*AV$10*5+AU14*AV$11*4 -> 0 | AW14: 0 | AX14: =AW14*AX$9*3+AW14*AX$10*5+AW14*AX$11*4 -> 0 | AY14: 0 | AZ14: =AY14*AZ$9*3+AY14*AZ$10*5+AY14*AZ$11*4 -> 0 | BA14: 35 | BB14: =BA14*BB$9*3+BA14*BB$10*5+BA14*BB$11*4 -> 12783540 | BC14: 0 | BD14: =BC14*BD$9*3+BC14*BD$10*5+BC14*BD$11*4 -> 0 | BE14: 0 | BF14: =BE14*BF$9*3+BE14*BF$10*5+BE14*BF$11*4 -> 0 | BG14: 0 | BH14: =BG14*BH$9*3+BG14*BH$10*5+BG14*BH$11*4 -> 0 | BI14: 0 | BJ14: =BI14*BJ$9*3+BI14*BJ$10*5+BI14*BJ$11*4 -> 0 | BK14: 0 | BL14: =BK14*BL$9*3+BK14*BL$10*5+BK14*BL$11*4 -> 0 | BM14: 0 | BN14: =BM14*BN$9*3+BM14*BN$10*5+BM14*BN$11*4 -> 0 | BO14: 0 | BP14: =BO14*BP$9*3+BO14*BP$10*5+BO14*BP$11*4 -> 0 | BQ14: 0 | BR14: =BQ14*BR$9*3+BQ14*BR$10*5+BQ14*BR$11*4 -> 0 | BS14: 0 | BT14: =BS14*BT$9*3+BS14*BT$10*5+BS14*BT$11*4 -> 0 | BU14: 133 | BV14: =BU14*BV$9*3+BU14*BV$10*5+BU14*BV$11*4 -> 48577452 | BW14: 0 | BX14: =BW14*BX$9*3+BW14*BX$10*5+BW14*BX$11*4 -> 0 | BY14: 0 | BZ14: =BY14*BZ$9*3+BY14*BZ$10*5+BY14*BZ$11*4 -> 0 | CA14: 0 | CB14: =CA14*CB$9*3+CA14*CB$10*5+CA14*CB$11*4 -> 0 | CC14: 0 | CD14: =CC14*CD$9*3+CC14*CD$10*5+CC14*CD$11*4 -> 0 | CE14: 0 | CF14: =CE14*CF$9*3+CE14*CF$10*5+CE14*CF$11*4 -> 0 | CG14: 0 | CH14: =CG14*CH$9*3+CG14*CH$10*5+CG14*CH$11*4 -> 0 | CI14: 0 | CJ14: =CI14*CJ$9*3+CI14*CJ$10*5+CI14*CJ$11*4 -> 0 | CK14: 0 | CL14: =CK14*CL$9*3+CK14*CL$10*5+CK14*CL$11*4 -> 0 | CM14: 0 | CN14: =CM14*CN$9*3+CM14*CN$10*5+CM14*CN$11*4 -> 0 | CO14: 0 | CP14: =CO14*CP$9*3+CO14*CP$10*5+CO14*CP$11*4 -> 0 | CQ14: 0 | CR14: =CQ14*CR$9*3+CQ14*CR$10*5+CQ14*CR$11*4 -> 0 | CS14: 0 | CT14: =CS14*CT$9*3+CS14*CT$10*5+CS14*CT$11*4 -> 0 | CU14: 0 | CV14: =CU14*CV$9*3+CU14*CV$10*5+CU14*CV$11*4 -> 0 | CW14: 0 | CX14: =CW14*CX$9*3+CW14*CX$10*5+CW14*CX$11*4 -> 0 | CY14: 0 | CZ14: =CY14*CZ$9*3+CY14*CZ$10*5+CY14*CZ$11*4 -> 0 | DA14: 0 | DB14: =DA14*DB$9*3+DA14*DB$10*5+DA14*DB$11*4 -> 0 | DC14: 0 | DD14: =DC14*DD$9*3+DC14*DD$10*5+DC14*DD$11*4 -> 0 | DE14: 0 | DF14: =DE14*DF$9*3+DE14*DF$10*5+DE14*DF$11*4 -> 0 | DG14: 0 | DH14: =DG14*DH$9*3+DG14*DH$10*5+DG14*DH$11*4 -> 0 | DI14: 0 | DJ14: =DI14*DJ$9*3+DI14*DJ$10*5+DI14*DJ$11*4 -> 0 | DK14: 0 | DL14: =DK14*DL$9*3+DK14*DL$10*5+DK14*DL$11*4 -> 0 | DM14: 0 | DN14: =DM14*DN$9*3+DM14*DN$10*5+DM14*DN$11*4 -> 0 | DO14: 0 | DP14: =DO14*DP$9*3+DO14*DP$10*5+DO14*DP$11*4 -> 0 | DQ14: 0 | DR14: =DQ14*DR$9*3+DQ14*DR$10*5+DQ14*DR$11*4 -> 0 | DS14: 0 | DT14: =DS14*DT$9*3+DS14*DT$10*5+DS14*DT$11*4 -> 0 | DU14: 0 | DV14: =DU14*DV$9*3+DU14*DV$10*5+DU14*DV$11*4 -> 0 | DW14: 0 | DX14: =DW14*DX$9*3+DW14*DX$10*5+DW14*DX$11*4 -> 0 | DY14: 0 | DZ14: =DY14*DZ$9*3+DY14*DZ$10*5+DY14*DZ$11*4 -> 0 | EA14: 0 | EB14: =EA14*EB$9*3+EA14*EB$10*5+EA14*EB$11*4 -> 0 | EC14: 0 | ED14: =EC14*ED$9*3+EC14*ED$10*5+EC14*ED$11*4 -> 0 | EE14: 0 | EF14: =EE14*EF$9*3+EE14*EF$10*5+EE14*EF$11*4 -> 0 | EG14: 0 | EH14: =EG14*EH$9*3+EG14*EH$10*5+EG14*EH$11*4 -> 0 | EI14: 0 | EJ14: =EI14*EJ$9*3+EI14*EJ$10*5+EI14*EJ$11*4 -> 0 | EK14: 0 | EL14: =EK14*EL$9*3+EK14*EL$10*5+EK14*EL$11*4 -> 0 | EM14: 0 | EN14: =EM14*D$9*3+EM14*D$10*5+EM14*D$11*4 -> 0 | EO14: 0 | EP14: =EO14*F$9*3+EO14*F$10*5+EO14*F$11*4 -> 0 | EQ14: 0 | ER14: =EQ14*H$9*3+EQ14*H$10*5+EQ14*H$11*4 -> 0 | ES14: 0 | ET14: =ES14*J$9*3+ES14*J$10*5+ES14*J$11*4 -> 0 | EU14: 0 | EV14: =EU14*L$9*3+EU14*L$10*5+EU14*L$11*4 -> 0 | EW14: 0 | EX14: =EW14*N$9*3+EW14*N$10*5+EW14*N$11*4 -> 0 | EY14: 0 | EZ14: =EY14*P$9*3+EY14*P$10*5+EY14*P$11*4 -> 0 | FA14: 0 | FB14: =FA14*R$9*3+FA14*R$10*5+FA14*R$11*4 -> 0 | FC14: 0 | FD14: =FC14*T$9*3+FC14*T$10*5+FC14*T$11*4 -> 0 | FE14: 0 | FF14: =FE14*V$9*3+FE14*V$10*5+FE14*V$11*4 -> 0 | FG14: =C14+W14+AQ14+BK14+CE14+CY14+DS14+EM14 -> 0 | FH14: =D14+X14+AR14+BL14+CF14+CZ14+DT14+EN14 -> 0 | FI14: =E14+Y14+AS14+BM14+CG14+DA14+DU14+EO14 -> 0 | FJ14: =F14+Z14+AT14+BN14+CH14+DB14+DV14+EP14 -> 0 | FK14: =G14+AA14+AU14+BO14+CI14+DC14+DW14+EQ14 -> 0 | FL14: =H14+AB14+AV14+BP14+CJ14+DD14+DX14+ER14 -> 0 | FM14: =I14+AC14+AW14+BQ14+CK14+DE14+DY14+ES14 -> 58 | FN14: =J14+AD14+AX14+BR14+CL14+DF14+DZ14+ET14 -> 18300624 | ... FZ14: =V14+AP14+BJ14+CD14+CX14+DR14+EL14+FF14 -> 0 | GA14: =FG14+FK14+FO14+FS14+FW14 -> 0 | GB14: =FH14+FL14+FP14+FT14+FX14 -> 0 | GC14: =FI14+FM14+FQ14+FU14+FY14 -> 594 | GD14: =FJ14+FN14+FR14+FV14+FZ14 -> 212362416 | GE14: =GA14+GC14 -> 594 | GF14: =GB14+GD14 -> 212362416
A15: 4 | B15: Всеволожский | C15: 0 | D15: =C15*D$9*3+C15*D$10*5+C15*D$11*4 -> 0 | E15: 0 | F15: =E15*F$9*3+E15*F$10*5+E15*F$11*4 -> 0 | G15: 0 | H15: =G15*H$9*3+G15*H$10*5+G15*H$11*4 -> 0 | I15: 0 | J15: =I15*J$9*3+I15*J$10*5+I15*J$11*4 -> 0 | K15: 0 | L15: =K15*L$9*3+K15*L$10*5+K15*L$11*4 -> 0 | M15: 1931 | N15: =M15*N$9*3+M15*N$10*5+M15*N$11*4 -> 696318600 | O15: 0 | P15: =O15*P$9*3+O15*P$10*5+O15*P$11*4 -> 0 | Q15: 0 | R15: =Q15*R$9*3+Q15*R$10*5+Q15*R$11*4 -> 0 | S15: 0 | T15: =S15*T$9*3+S15*T$10*5+S15*T$11*4 -> 0 | U15: 0 | V15: =U15*V$9*3+U15*V$10*5+U15*V$11*4 -> 0 | W15: 0 | X15: =W15*X$9*3+W15*X$10*5+W15*X$11*4 -> 0 | Y15: 0 | Z15: =Y15*Z$9*3+Y15*Z$10*5+Y15*Z$11*4 -> 0 | AA15: 0 | AB15: =AA15*AB$9*3+AA15*AB$10*5+AA15*AB$11*4 -> 0 | AC15: 0 | AD15: =AC15*AD$9*3+AC15*AD$10*5+AC15*AD$11*4 -> 0 | AE15: 0 | AF15: =AE15*AF$9*3+AE15*AF$10*5+AE15*AF$11*4 -> 0 | AG15: 456 | AH15: =AG15*AH$9*3+AG15*AH$10*5+AG15*AH$11*4 -> 135267840 | AI15: 0 | AJ15: =AI15*AJ$9*3+AI15*AJ$10*5+AI15*AJ$11*4 -> 0 | AK15: 0 | AL15: =AK15*AL$9*3+AK15*AL$10*5+AK15*AL$11*4 -> 0 | AM15: 0 | AN15: =AM15*AN$9*3+AM15*AN$10*5+AM15*AN$11*4 -> 0 | AO15: 0 | AP15: =AO15*AP$9*3+AO15*AP$10*5+AO15*AP$11*4 -> 0 | AQ15: 0 | AR15: =AQ15*AR$9*3+AQ15*AR$10*5+AQ15*AR$11*4 -> 0 | AS15: 0 | AT15: =AS15*AT$9*3+AS15*AT$10*5+AS15*AT$11*4 -> 0 | AU15: 0 | AV15: =AU15*AV$9*3+AU15*AV$10*5+AU15*AV$11*4 -> 0 | AW15: 0 | AX15: =AW15*AX$9*3+AW15*AX$10*5+AW15*AX$11*4 -> 0 | AY15: 0 | AZ15: =AY15*AZ$9*3+AY15*AZ$10*5+AY15*AZ$11*4 -> 0 | BA15: 0 | BB15: =BA15*BB$9*3+BA15*BB$10*5+BA15*BB$11*4 -> 0 | BC15: 0 | BD15: =BC15*BD$9*3+BC15*BD$10*5+BC15*BD$11*4 -> 0 | BE15: 0 | BF15: =BE15*BF$9*3+BE15*BF$10*5+BE15*BF$11*4 -> 0 | BG15: 0 | BH15: =BG15*BH$9*3+BG15*BH$10*5+BG15*BH$11*4 -> 0 | BI15: 0 | BJ15: =BI15*BJ$9*3+BI15*BJ$10*5+BI15*BJ$11*4 -> 0 | BK15: 0 | BL15: =BK15*BL$9*3+BK15*BL$10*5+BK15*BL$11*4 -> 0 | BM15: 0 | BN15: =BM15*BN$9*3+BM15*BN$10*5+BM15*BN$11*4 -> 0 | BO15: 0 | BP15: =BO15*BP$9*3+BO15*BP$10*5+BO15*BP$11*4 -> 0 | BQ15: 0 | BR15: =BQ15*BR$9*3+BQ15*BR$10*5+BQ15*BR$11*4 -> 0 | BS15: 0 | BT15: =BS15*BT$9*3+BS15*BT$10*5+BS15*BT$11*4 -> 0 | BU15: 419 | BV15: =BU15*BV$9*3+BU15*BV$10*5+BU15*BV$11*4 -> 153037236 | BW15: 0 | BX15: =BW15*BX$9*3+BW15*BX$10*5+BW15*BX$11*4 -> 0 | BY15: 0 | BZ15: =BY15*BZ$9*3+BY15*BZ$10*5+BY15*BZ$11*4 -> 0 | CA15: 0 | CB15: =CA15*CB$9*3+CA15*CB$10*5+CA15*CB$11*4 -> 0 | CC15: 0 | CD15: =CC15*CD$9*3+CC15*CD$10*5+CC15*CD$11*4 -> 0 | CE15: 0 | CF15: =CE15*CF$9*3+CE15*CF$10*5+CE15*CF$11*4 -> 0 | CG15: 0 | CH15: =CG15*CH$9*3+CG15*CH$10*5+CG15*CH$11*4 -> 0 | CI15: 0 | CJ15: =CI15*CJ$9*3+CI15*CJ$10*5+CI15*CJ$11*4 -> 0 | CK15: 0 | CL15: =CK15*CL$9*3+CK15*CL$10*5+CK15*CL$11*4 -> 0 | CM15: 0 | CN15: =CM15*CN$9*3+CM15*CN$10*5+CM15*CN$11*4 -> 0 | CO15: 0 | CP15: =CO15*CP$9*3+CO15*CP$10*5+CO15*CP$11*4 -> 0 | CQ15: 0 | CR15: =CQ15*CR$9*3+CQ15*CR$10*5+CQ15*CR$11*4 -> 0 | CS15: 0 | CT15: =CS15*CT$9*3+CS15*CT$10*5+CS15*CT$11*4 -> 0 | CU15: 0 | CV15: =CU15*CV$9*3+CU15*CV$10*5+CU15*CV$11*4 -> 0 | CW15: 0 | CX15: =CW15*CX$9*3+CW15*CX$10*5+CW15*CX$11*4 -> 0 | CY15: 0 | CZ15: =CY15*CZ$9*3+CY15*CZ$10*5+CY15*CZ$11*4 -> 0 | DA15: 0 | DB15: =DA15*DB$9*3+DA15*DB$10*5+DA15*DB$11*4 -> 0 | DC15: 0 | DD15: =DC15*DD$9*3+DC15*DD$10*5+DC15*DD$11*4 -> 0 | DE15: 0 | DF15: =DE15*DF$9*3+DE15*DF$10*5+DE15*DF$11*4 -> 0 | DG15: 0 | DH15: =DG15*DH$9*3+DG15*DH$10*5+DG15*DH$11*4 -> 0 | DI15: 0 | DJ15: =DI15*DJ$9*3+DI15*DJ$10*5+DI15*DJ$11*4 -> 0 | DK15: 0 | DL15: =DK15*DL$9*3+DK15*DL$10*5+DK15*DL$11*4 -> 0 | DM15: 0 | DN15: =DM15*DN$9*3+DM15*DN$10*5+DM15*DN$11*4 -> 0 | DO15: 0 | DP15: =DO15*DP$9*3+DO15*DP$10*5+DO15*DP$11*4 -> 0 | DQ15: 0 | DR15: =DQ15*DR$9*3+DQ15*DR$10*5+DQ15*DR$11*4 -> 0 | DS15: 0 | DT15: =DS15*DT$9*3+DS15*DT$10*5+DS15*DT$11*4 -> 0 | DU15: 4 | DV15: =DU15*DV$9*3+DU15*DV$10*5+DU15*DV$11*4 -> 1248384 | DW15: 0 | DX15: =DW15*DX$9*3+DW15*DX$10*5+DW15*DX$11*4 -> 0 | DY15: 0 | DZ15: =DY15*DZ$9*3+DY15*DZ$10*5+DY15*DZ$11*4 -> 0 | EA15: 0 | EB15: =EA15*EB$9*3+EA15*EB$10*5+EA15*EB$11*4 -> 0 | EC15: 15 | ED15: =EC15*ED$9*3+EC15*ED$10*5+EC15*ED$11*4 -> 11235600 | EE15: 0 | EF15: =EE15*EF$9*3+EE15*EF$10*5+EE15*EF$11*4 -> 0 | EG15: 0 | EH15: =EG15*EH$9*3+EG15*EH$10*5+EG15*EH$11*4 -> 0 | EI15: 0 | EJ15: =EI15*EJ$9*3+EI15*EJ$10*5+EI15*EJ$11*4 -> 0 | EK15: 0 | EL15: =EK15*EL$9*3+EK15*EL$10*5+EK15*EL$11*4 -> 0 | EM15: 0 | EN15: =EM15*D$9*3+EM15*D$10*5+EM15*D$11*4 -> 0 | EO15: 0 | EP15: =EO15*F$9*3+EO15*F$10*5+EO15*F$11*4 -> 0 | EQ15: 0 | ER15: =EQ15*H$9*3+EQ15*H$10*5+EQ15*H$11*4 -> 0 | ES15: 0 | ET15: =ES15*J$9*3+ES15*J$10*5+ES15*J$11*4 -> 0 | EU15: 0 | EV15: =EU15*L$9*3+EU15*L$10*5+EU15*L$11*4 -> 0 | EW15: 0 | EX15: =EW15*N$9*3+EW15*N$10*5+EW15*N$11*4 -> 0 | EY15: 0 | EZ15: =EY15*P$9*3+EY15*P$10*5+EY15*P$11*4 -> 0 | FA15: 0 | FB15: =FA15*R$9*3+FA15*R$10*5+FA15*R$11*4 -> 0 | FC15: 0 | FD15: =FC15*T$9*3+FC15*T$10*5+FC15*T$11*4 -> 0 | FE15: 0 | FF15: =FE15*V$9*3+FE15*V$10*5+FE15*V$11*4 -> 0 | FG15: =C15+W15+AQ15+BK15+CE15+CY15+DS15+EM15 -> 0 | FH15: =D15+X15+AR15+BL15+CF15+CZ15+DT15+EN15 -> 0 | FI15: =E15+Y15+AS15+BM15+CG15+DA15+DU15+EO15 -> 4 | FJ15: =F15+Z15+AT15+BN15+CH15+DB15+DV15+EP15 -> 1248384 | FK15: =G15+AA15+AU15+BO15+CI15+DC15+DW15+EQ15 -> 0 | FL15: =H15+AB15+AV15+BP15+CJ15+DD15+DX15+ER15 -> 0 | FM15: =I15+AC15+AW15+BQ15+CK15+DE15+DY15+ES15 -> 0 | FN15: =J15+AD15+AX15+BR15+CL15+DF15+DZ15+ET15 -> 0 | ... FZ15: =V15+AP15+BJ15+CD15+CX15+DR15+EL15+FF15 -> 0 | GA15: =FG15+FK15+FO15+FS15+FW15 -> 0 | GB15: =FH15+FL15+FP15+FT15+FX15 -> 0 | GC15: =FI15+FM15+FQ15+FU15+FY15 -> 2825 | GD15: =FJ15+FN15+FR15+FV15+FZ15 -> 997107660 | GE15: =GA15+GC15 -> 2825 | GF15: =GB15+GD15 -> 997107660
A16: 5 | B16: Выборгский | C16: 0 | D16: =C16*D$9*3+C16*D$10*5+C16*D$11*4 -> 0 | E16: 0 | F16: =E16*F$9*3+E16*F$10*5+E16*F$11*4 -> 0 | G16: 0 | H16: =G16*H$9*3+G16*H$10*5+G16*H$11*4 -> 0 | I16: 1096 | J16: =I16*J$9*3+I16*J$10*5+I16*J$11*4 -> 345818688 | K16: 0 | L16: =K16*L$9*3+K16*L$10*5+K16*L$11*4 -> 0 | M16: 452 | N16: =M16*N$9*3+M16*N$10*5+M16*N$11*4 -> 162991200 | O16: 0 | P16: =O16*P$9*3+O16*P$10*5+O16*P$11*4 -> 0 | Q16: 0 | R16: =Q16*R$9*3+Q16*R$10*5+Q16*R$11*4 -> 0 | S16: 0 | T16: =S16*T$9*3+S16*T$10*5+S16*T$11*4 -> 0 | U16: 0 | V16: =U16*V$9*3+U16*V$10*5+U16*V$11*4 -> 0 | W16: 0 | X16: =W16*X$9*3+W16*X$10*5+W16*X$11*4 -> 0 | Y16: 0 | Z16: =Y16*Z$9*3+Y16*Z$10*5+Y16*Z$11*4 -> 0 | AA16: 0 | AB16: =AA16*AB$9*3+AA16*AB$10*5+AA16*AB$11*4 -> 0 | AC16: 0 | AD16: =AC16*AD$9*3+AC16*AD$10*5+AC16*AD$11*4 -> 0 | AE16: 0 | AF16: =AE16*AF$9*3+AE16*AF$10*5+AE16*AF$11*4 -> 0 | AG16: 0 | AH16: =AG16*AH$9*3+AG16*AH$10*5+AG16*AH$11*4 -> 0 | AI16: 0 | AJ16: =AI16*AJ$9*3+AI16*AJ$10*5+AI16*AJ$11*4 -> 0 | AK16: 0 | AL16: =AK16*AL$9*3+AK16*AL$10*5+AK16*AL$11*4 -> 0 | AM16: 0 | AN16: =AM16*AN$9*3+AM16*AN$10*5+AM16*AN$11*4 -> 0 | AO16: 0 | AP16: =AO16*AP$9*3+AO16*AP$10*5+AO16*AP$11*4 -> 0 | AQ16: 0 | AR16: =AQ16*AR$9*3+AQ16*AR$10*5+AQ16*AR$11*4 -> 0 | AS16: 0 | AT16: =AS16*AT$9*3+AS16*AT$10*5+AS16*AT$11*4 -> 0 | AU16: 0 | AV16: =AU16*AV$9*3+AU16*AV$10*5+AU16*AV$11*4 -> 0 | AW16: 16 | AX16: =AW16*AX$9*3+AW16*AX$10*5+AW16*AX$11*4 -> 5113344 | AY16: 0 | AZ16: =AY16*AZ$9*3+AY16*AZ$10*5+AY16*AZ$11*4 -> 0 | BA16: 0 | BB16: =BA16*BB$9*3+BA16*BB$10*5+BA16*BB$11*4 -> 0 | BC16: 0 | BD16: =BC16*BD$9*3+BC16*BD$10*5+BC16*BD$11*4 -> 0 | BE16: 0 | BF16: =BE16*BF$9*3+BE16*BF$10*5+BE16*BF$11*4 -> 0 | BG16: 0 | BH16: =BG16*BH$9*3+BG16*BH$10*5+BG16*BH$11*4 -> 0 | BI16: 0 | BJ16: =BI16*BJ$9*3+BI16*BJ$10*5+BI16*BJ$11*4 -> 0 | BK16: 0 | BL16: =BK16*BL$9*3+BK16*BL$10*5+BK16*BL$11*4 -> 0 | BM16: 0 | BN16: =BM16*BN$9*3+BM16*BN$10*5+BM16*BN$11*4 -> 0 | BO16: 0 | BP16: =BO16*BP$9*3+BO16*BP$10*5+BO16*BP$11*4 -> 0 | BQ16: 13 | BR16: =BQ16*BR$9*3+BQ16*BR$10*5+BQ16*BR$11*4 -> 4154592 | BS16: 0 | BT16: =BS16*BT$9*3+BS16*BT$10*5+BS16*BT$11*4 -> 0 | BU16: 14 | BV16: =BU16*BV$9*3+BU16*BV$10*5+BU16*BV$11*4 -> 5113416 | BW16: 0 | BX16: =BW16*BX$9*3+BW16*BX$10*5+BW16*BX$11*4 -> 0 | BY16: 0 | BZ16: =BY16*BZ$9*3+BY16*BZ$10*5+BY16*BZ$11*4 -> 0 | CA16: 0 | CB16: =CA16*CB$9*3+CA16*CB$10*5+CA16*CB$11*4 -> 0 | CC16: 13 | CD16: =CC16*CD$9*3+CC16*CD$10*5+CC16*CD$11*4 -> 5539560 | CE16: 0 | CF16: =CE16*CF$9*3+CE16*CF$10*5+CE16*CF$11*4 -> 0 | CG16: 0 | CH16: =CG16*CH$9*3+CG16*CH$10*5+CG16*CH$11*4 -> 0 | CI16: 0 | CJ16: =CI16*CJ$9*3+CI16*CJ$10*5+CI16*CJ$11*4 -> 0 | CK16: 0 | CL16: =CK16*CL$9*3+CK16*CL$10*5+CK16*CL$11*4 -> 0 | CM16: 0 | CN16: =CM16*CN$9*3+CM16*CN$10*5+CM16*CN$11*4 -> 0 | CO16: 0 | CP16: =CO16*CP$9*3+CO16*CP$10*5+CO16*CP$11*4 -> 0 | CQ16: 0 | CR16: =CQ16*CR$9*3+CQ16*CR$10*5+CQ16*CR$11*4 -> 0 | CS16: 0 | CT16: =CS16*CT$9*3+CS16*CT$10*5+CS16*CT$11*4 -> 0 | CU16: 0 | CV16: =CU16*CV$9*3+CU16*CV$10*5+CU16*CV$11*4 -> 0 | CW16: 0 | CX16: =CW16*CX$9*3+CW16*CX$10*5+CW16*CX$11*4 -> 0 | CY16: 0 | CZ16: =CY16*CZ$9*3+CY16*CZ$10*5+CY16*CZ$11*4 -> 0 | DA16: 0 | DB16: =DA16*DB$9*3+DA16*DB$10*5+DA16*DB$11*4 -> 0 | DC16: 0 | DD16: =DC16*DD$9*3+DC16*DD$10*5+DC16*DD$11*4 -> 0 | DE16: 0 | DF16: =DE16*DF$9*3+DE16*DF$10*5+DE16*DF$11*4 -> 0 | DG16: 0 | DH16: =DG16*DH$9*3+DG16*DH$10*5+DG16*DH$11*4 -> 0 | DI16: 0 | DJ16: =DI16*DJ$9*3+DI16*DJ$10*5+DI16*DJ$11*4 -> 0 | DK16: 0 | DL16: =DK16*DL$9*3+DK16*DL$10*5+DK16*DL$11*4 -> 0 | DM16: 0 | DN16: =DM16*DN$9*3+DM16*DN$10*5+DM16*DN$11*4 -> 0 | DO16: 0 | DP16: =DO16*DP$9*3+DO16*DP$10*5+DO16*DP$11*4 -> 0 | DQ16: 0 | DR16: =DQ16*DR$9*3+DQ16*DR$10*5+DQ16*DR$11*4 -> 0 | DS16: 0 | DT16: =DS16*DT$9*3+DS16*DT$10*5+DS16*DT$11*4 -> 0 | DU16: 0 | DV16: =DU16*DV$9*3+DU16*DV$10*5+DU16*DV$11*4 -> 0 | DW16: 0 | DX16: =DW16*DX$9*3+DW16*DX$10*5+DW16*DX$11*4 -> 0 | DY16: 8 | DZ16: =DY16*DZ$9*3+DY16*DZ$10*5+DY16*DZ$11*4 -> 5243232 | EA16: 0 | EB16: =EA16*EB$9*3+EA16*EB$10*5+EA16*EB$11*4 -> 0 | EC16: 9 | ED16: =EC16*ED$9*3+EC16*ED$10*5+EC16*ED$11*4 -> 6741360 | EE16: 0 | EF16: =EE16*EF$9*3+EE16*EF$10*5+EE16*EF$11*4 -> 0 | EG16: 0 | EH16: =EG16*EH$9*3+EG16*EH$10*5+EG16*EH$11*4 -> 0 | EI16: 0 | EJ16: =EI16*EJ$9*3+EI16*EJ$10*5+EI16*EJ$11*4 -> 0 | EK16: 0 | EL16: =EK16*EL$9*3+EK16*EL$10*5+EK16*EL$11*4 -> 0 | EM16: 0 | EN16: =EM16*D$9*3+EM16*D$10*5+EM16*D$11*4 -> 0 | EO16: 0 | EP16: =EO16*F$9*3+EO16*F$10*5+EO16*F$11*4 -> 0 | EQ16: 0 | ER16: =EQ16*H$9*3+EQ16*H$10*5+EQ16*H$11*4 -> 0 | ES16: 0 | ET16: =ES16*J$9*3+ES16*J$10*5+ES16*J$11*4 -> 0 | EU16: 0 | EV16: =EU16*L$9*3+EU16*L$10*5+EU16*L$11*4 -> 0 | EW16: 0 | EX16: =EW16*N$9*3+EW16*N$10*5+EW16*N$11*4 -> 0 | EY16: 0 | EZ16: =EY16*P$9*3+EY16*P$10*5+EY16*P$11*4 -> 0 | FA16: 0 | FB16: =FA16*R$9*3+FA16*R$10*5+FA16*R$11*4 -> 0 | FC16: 0 | FD16: =FC16*T$9*3+FC16*T$10*5+FC16*T$11*4 -> 0 | FE16: 0 | FF16: =FE16*V$9*3+FE16*V$10*5+FE16*V$11*4 -> 0 | FG16: =C16+W16+AQ16+BK16+CE16+CY16+DS16+EM16 -> 0 | FH16: =D16+X16+AR16+BL16+CF16+CZ16+DT16+EN16 -> 0 | FI16: =E16+Y16+AS16+BM16+CG16+DA16+DU16+EO16 -> 0 | FJ16: =F16+Z16+AT16+BN16+CH16+DB16+DV16+EP16 -> 0 | FK16: =G16+AA16+AU16+BO16+CI16+DC16+DW16+EQ16 -> 0 | FL16: =H16+AB16+AV16+BP16+CJ16+DD16+DX16+ER16 -> 0 | FM16: =I16+AC16+AW16+BQ16+CK16+DE16+DY16+ES16 -> 1133 | FN16: =J16+AD16+AX16+BR16+CL16+DF16+DZ16+ET16 -> 360329856 | ... FZ16: =V16+AP16+BJ16+CD16+CX16+DR16+EL16+FF16 -> 5539560 | GA16: =FG16+FK16+FO16+FS16+FW16 -> 0 | GB16: =FH16+FL16+FP16+FT16+FX16 -> 0 | GC16: =FI16+FM16+FQ16+FU16+FY16 -> 1621 | GD16: =FJ16+FN16+FR16+FV16+FZ16 -> 540715392 | GE16: =GA16+GC16 -> 1621 | GF16: =GB16+GD16 -> 540715392
A17: 6 | B17: Гатчинский | C17: 0 | D17: =C17*D$9*3+C17*D$10*5+C17*D$11*4 -> 0 | E17: 0 | F17: =E17*F$9*3+E17*F$10*5+E17*F$11*4 -> 0 | G17: 0 | H17: =G17*H$9*3+G17*H$10*5+G17*H$11*4 -> 0 | I17: 2001 | J17: =I17*J$9*3+I17*J$10*5+I17*J$11*4 -> 631371528 | K17: 0 | L17: =K17*L$9*3+K17*L$10*5+K17*L$11*4 -> 0 | M17: 13 | N17: =M17*N$9*3+M17*N$10*5+M17*N$11*4 -> 4687800 | O17: 0 | P17: =O17*P$9*3+O17*P$10*5+O17*P$11*4 -> 0 | Q17: 0 | R17: =Q17*R$9*3+Q17*R$10*5+Q17*R$11*4 -> 0 | S17: 0 | T17: =S17*T$9*3+S17*T$10*5+S17*T$11*4 -> 0 | U17: 0 | V17: =U17*V$9*3+U17*V$10*5+U17*V$11*4 -> 0 | W17: 0 | X17: =W17*X$9*3+W17*X$10*5+W17*X$11*4 -> 0 | Y17: 0 | Z17: =Y17*Z$9*3+Y17*Z$10*5+Y17*Z$11*4 -> 0 | AA17: 0 | AB17: =AA17*AB$9*3+AA17*AB$10*5+AA17*AB$11*4 -> 0 | AC17: 0 | AD17: =AC17*AD$9*3+AC17*AD$10*5+AC17*AD$11*4 -> 0 | AE17: 0 | AF17: =AE17*AF$9*3+AE17*AF$10*5+AE17*AF$11*4 -> 0 | AG17: 0 | AH17: =AG17*AH$9*3+AG17*AH$10*5+AG17*AH$11*4 -> 0 | AI17: 0 | AJ17: =AI17*AJ$9*3+AI17*AJ$10*5+AI17*AJ$11*4 -> 0 | AK17: 0 | AL17: =AK17*AL$9*3+AK17*AL$10*5+AK17*AL$11*4 -> 0 | AM17: 0 | AN17: =AM17*AN$9*3+AM17*AN$10*5+AM17*AN$11*4 -> 0 | AO17: 0 | AP17: =AO17*AP$9*3+AO17*AP$10*5+AO17*AP$11*4 -> 0 | AQ17: 0 | AR17: =AQ17*AR$9*3+AQ17*AR$10*5+AQ17*AR$11*4 -> 0 | AS17: 0 | AT17: =AS17*AT$9*3+AS17*AT$10*5+AS17*AT$11*4 -> 0 | AU17: 0 | AV17: =AU17*AV$9*3+AU17*AV$10*5+AU17*AV$11*4 -> 0 | AW17: 58 | AX17: =AW17*AX$9*3+AW17*AX$10*5+AW17*AX$11*4 -> 18535872 | AY17: 0 | AZ17: =AY17*AZ$9*3+AY17*AZ$10*5+AY17*AZ$11*4 -> 0 | BA17: 0 | BB17: =BA17*BB$9*3+BA17*BB$10*5+BA17*BB$11*4 -> 0 | BC17: 0 | BD17: =BC17*BD$9*3+BC17*BD$10*5+BC17*BD$11*4 -> 0 | BE17: 0 | BF17: =BE17*BF$9*3+BE17*BF$10*5+BE17*BF$11*4 -> 0 | BG17: 0 | BH17: =BG17*BH$9*3+BG17*BH$10*5+BG17*BH$11*4 -> 0 | BI17: 0 | BJ17: =BI17*BJ$9*3+BI17*BJ$10*5+BI17*BJ$11*4 -> 0 | BK17: 0 | BL17: =BK17*BL$9*3+BK17*BL$10*5+BK17*BL$11*4 -> 0 | BM17: 0 | BN17: =BM17*BN$9*3+BM17*BN$10*5+BM17*BN$11*4 -> 0 | BO17: 0 | BP17: =BO17*BP$9*3+BO17*BP$10*5+BO17*BP$11*4 -> 0 | BQ17: 117 | BR17: =BQ17*BR$9*3+BQ17*BR$10*5+BQ17*BR$11*4 -> 37391328 | BS17: 0 | BT17: =BS17*BT$9*3+BS17*BT$10*5+BS17*BT$11*4 -> 0 | BU17: 0 | BV17: =BU17*BV$9*3+BU17*BV$10*5+BU17*BV$11*4 -> 0 | BW17: 0 | BX17: =BW17*BX$9*3+BW17*BX$10*5+BW17*BX$11*4 -> 0 | BY17: 0 | BZ17: =BY17*BZ$9*3+BY17*BZ$10*5+BY17*BZ$11*4 -> 0 | CA17: 0 | CB17: =CA17*CB$9*3+CA17*CB$10*5+CA17*CB$11*4 -> 0 | CC17: 0 | CD17: =CC17*CD$9*3+CC17*CD$10*5+CC17*CD$11*4 -> 0 | CE17: 0 | CF17: =CE17*CF$9*3+CE17*CF$10*5+CE17*CF$11*4 -> 0 | CG17: 0 | CH17: =CG17*CH$9*3+CG17*CH$10*5+CG17*CH$11*4 -> 0 | CI17: 0 | CJ17: =CI17*CJ$9*3+CI17*CJ$10*5+CI17*CJ$11*4 -> 0 | CK17: 0 | CL17: =CK17*CL$9*3+CK17*CL$10*5+CK17*CL$11*4 -> 0 | CM17: 0 | CN17: =CM17*CN$9*3+CM17*CN$10*5+CM17*CN$11*4 -> 0 | CO17: 0 | CP17: =CO17*CP$9*3+CO17*CP$10*5+CO17*CP$11*4 -> 0 | CQ17: 0 | CR17: =CQ17*CR$9*3+CQ17*CR$10*5+CQ17*CR$11*4 -> 0 | CS17: 0 | CT17: =CS17*CT$9*3+CS17*CT$10*5+CS17*CT$11*4 -> 0 | CU17: 0 | CV17: =CU17*CV$9*3+CU17*CV$10*5+CU17*CV$11*4 -> 0 | CW17: 0 | CX17: =CW17*CX$9*3+CW17*CX$10*5+CW17*CX$11*4 -> 0 | CY17: 0 | CZ17: =CY17*CZ$9*3+CY17*CZ$10*5+CY17*CZ$11*4 -> 0 | DA17: 0 | DB17: =DA17*DB$9*3+DA17*DB$10*5+DA17*DB$11*4 -> 0 | DC17: 0 | DD17: =DC17*DD$9*3+DC17*DD$10*5+DC17*DD$11*4 -> 0 | DE17: 0 | DF17: =DE17*DF$9*3+DE17*DF$10*5+DE17*DF$11*4 -> 0 | DG17: 0 | DH17: =DG17*DH$9*3+DG17*DH$10*5+DG17*DH$11*4 -> 0 | DI17: 0 | DJ17: =DI17*DJ$9*3+DI17*DJ$10*5+DI17*DJ$11*4 -> 0 | DK17: 0 | DL17: =DK17*DL$9*3+DK17*DL$10*5+DK17*DL$11*4 -> 0 | DM17: 0 | DN17: =DM17*DN$9*3+DM17*DN$10*5+DM17*DN$11*4 -> 0 | DO17: 0 | DP17: =DO17*DP$9*3+DO17*DP$10*5+DO17*DP$11*4 -> 0 | DQ17: 0 | DR17: =DQ17*DR$9*3+DQ17*DR$10*5+DQ17*DR$11*4 -> 0 | DS17: 0 | DT17: =DS17*DT$9*3+DS17*DT$10*5+DS17*DT$11*4 -> 0 | DU17: 0 | DV17: =DU17*DV$9*3+DU17*DV$10*5+DU17*DV$11*4 -> 0 | DW17: 0 | DX17: =DW17*DX$9*3+DW17*DX$10*5+DW17*DX$11*4 -> 0 | DY17: 41 | DZ17: =DY17*DZ$9*3+DY17*DZ$10*5+DY17*DZ$11*4 -> 26871564 | EA17: 0 | EB17: =EA17*EB$9*3+EA17*EB$10*5+EA17*EB$11*4 -> 0 | EC17: 0 | ED17: =EC17*ED$9*3+EC17*ED$10*5+EC17*ED$11*4 -> 0 | EE17: 0 | EF17: =EE17*EF$9*3+EE17*EF$10*5+EE17*EF$11*4 -> 0 | EG17: 0 | EH17: =EG17*EH$9*3+EG17*EH$10*5+EG17*EH$11*4 -> 0 | EI17: 0 | EJ17: =EI17*EJ$9*3+EI17*EJ$10*5+EI17*EJ$11*4 -> 0 | EK17: 0 | EL17: =EK17*EL$9*3+EK17*EL$10*5+EK17*EL$11*4 -> 0 | EM17: 0 | EN17: =EM17*D$9*3+EM17*D$10*5+EM17*D$11*4 -> 0 | EO17: 0 | EP17: =EO17*F$9*3+EO17*F$10*5+EO17*F$11*4 -> 0 | EQ17: 0 | ER17: =EQ17*H$9*3+EQ17*H$10*5+EQ17*H$11*4 -> 0 | ES17: 0 | ET17: =ES17*J$9*3+ES17*J$10*5+ES17*J$11*4 -> 0 | EU17: 0 | EV17: =EU17*L$9*3+EU17*L$10*5+EU17*L$11*4 -> 0 | EW17: 0 | EX17: =EW17*N$9*3+EW17*N$10*5+EW17*N$11*4 -> 0 | EY17: 0 | EZ17: =EY17*P$9*3+EY17*P$10*5+EY17*P$11*4 -> 0 | FA17: 0 | FB17: =FA17*R$9*3+FA17*R$10*5+FA17*R$11*4 -> 0 | FC17: 0 | FD17: =FC17*T$9*3+FC17*T$10*5+FC17*T$11*4 -> 0 | FE17: 0 | FF17: =FE17*V$9*3+FE17*V$10*5+FE17*V$11*4 -> 0 | FG17: =C17+W17+AQ17+BK17+CE17+CY17+DS17+EM17 -> 0 | FH17: =D17+X17+AR17+BL17+CF17+CZ17+DT17+EN17 -> 0 | FI17: =E17+Y17+AS17+BM17+CG17+DA17+DU17+EO17 -> 0 | FJ17: =F17+Z17+AT17+BN17+CH17+DB17+DV17+EP17 -> 0 | FK17: =G17+AA17+AU17+BO17+CI17+DC17+DW17+EQ17 -> 0 | FL17: =H17+AB17+AV17+BP17+CJ17+DD17+DX17+ER17 -> 0 | FM17: =I17+AC17+AW17+BQ17+CK17+DE17+DY17+ES17 -> 2217 | FN17: =J17+AD17+AX17+BR17+CL17+DF17+DZ17+ET17 -> 714170292 | ... FZ17: =V17+AP17+BJ17+CD17+CX17+DR17+EL17+FF17 -> 0 | GA17: =FG17+FK17+FO17+FS17+FW17 -> 0 | GB17: =FH17+FL17+FP17+FT17+FX17 -> 0 | GC17: =FI17+FM17+FQ17+FU17+FY17 -> 2230 | GD17: =FJ17+FN17+FR17+FV17+FZ17 -> 718858092 | GE17: =GA17+GC17 -> 2230 | GF17: =GB17+GD17 -> 718858092
A18: 7 | B18: Кингисеппский | C18: 0 | D18: =C18*D$9*3+C18*D$10*5+C18*D$11*4 -> 0 | E18: 0 | F18: =E18*F$9*3+E18*F$10*5+E18*F$11*4 -> 0 | G18: 0 | H18: =G18*H$9*3+G18*H$10*5+G18*H$11*4 -> 0 | I18: 163 | J18: =I18*J$9*3+I18*J$10*5+I18*J$11*4 -> 51431064 | K18: 0 | L18: =K18*L$9*3+K18*L$10*5+K18*L$11*4 -> 0 | M18: 12 | N18: =M18*N$9*3+M18*N$10*5+M18*N$11*4 -> 4327200 | O18: 0 | P18: =O18*P$9*3+O18*P$10*5+O18*P$11*4 -> 0 | Q18: 0 | R18: =Q18*R$9*3+Q18*R$10*5+Q18*R$11*4 -> 0 | S18: 0 | T18: =S18*T$9*3+S18*T$10*5+S18*T$11*4 -> 0 | U18: 0 | V18: =U18*V$9*3+U18*V$10*5+U18*V$11*4 -> 0 | W18: 0 | X18: =W18*X$9*3+W18*X$10*5+W18*X$11*4 -> 0 | Y18: 0 | Z18: =Y18*Z$9*3+Y18*Z$10*5+Y18*Z$11*4 -> 0 | AA18: 0 | AB18: =AA18*AB$9*3+AA18*AB$10*5+AA18*AB$11*4 -> 0 | AC18: 0 | AD18: =AC18*AD$9*3+AC18*AD$10*5+AC18*AD$11*4 -> 0 | AE18: 0 | AF18: =AE18*AF$9*3+AE18*AF$10*5+AE18*AF$11*4 -> 0 | AG18: 0 | AH18: =AG18*AH$9*3+AG18*AH$10*5+AG18*AH$11*4 -> 0 | AI18: 0 | AJ18: =AI18*AJ$9*3+AI18*AJ$10*5+AI18*AJ$11*4 -> 0 | AK18: 0 | AL18: =AK18*AL$9*3+AK18*AL$10*5+AK18*AL$11*4 -> 0 | AM18: 0 | AN18: =AM18*AN$9*3+AM18*AN$10*5+AM18*AN$11*4 -> 0 | AO18: 0 | AP18: =AO18*AP$9*3+AO18*AP$10*5+AO18*AP$11*4 -> 0 | AQ18: 0 | AR18: =AQ18*AR$9*3+AQ18*AR$10*5+AQ18*AR$11*4 -> 0 | AS18: 0 | AT18: =AS18*AT$9*3+AS18*AT$10*5+AS18*AT$11*4 -> 0 | AU18: 0 | AV18: =AU18*AV$9*3+AU18*AV$10*5+AU18*AV$11*4 -> 0 | AW18: 0 | AX18: =AW18*AX$9*3+AW18*AX$10*5+AW18*AX$11*4 -> 0 | AY18: 0 | AZ18: =AY18*AZ$9*3+AY18*AZ$10*5+AY18*AZ$11*4 -> 0 | BA18: 0 | BB18: =BA18*BB$9*3+BA18*BB$10*5+BA18*BB$11*4 -> 0 | BC18: 0 | BD18: =BC18*BD$9*3+BC18*BD$10*5+BC18*BD$11*4 -> 0 | BE18: 0 | BF18: =BE18*BF$9*3+BE18*BF$10*5+BE18*BF$11*4 -> 0 | BG18: 0 | BH18: =BG18*BH$9*3+BG18*BH$10*5+BG18*BH$11*4 -> 0 | BI18: 0 | BJ18: =BI18*BJ$9*3+BI18*BJ$10*5+BI18*BJ$11*4 -> 0 | BK18: 0 | BL18: =BK18*BL$9*3+BK18*BL$10*5+BK18*BL$11*4 -> 0 | BM18: 0 | BN18: =BM18*BN$9*3+BM18*BN$10*5+BM18*BN$11*4 -> 0 | BO18: 0 | BP18: =BO18*BP$9*3+BO18*BP$10*5+BO18*BP$11*4 -> 0 | BQ18: 22 | BR18: =BQ18*BR$9*3+BQ18*BR$10*5+BQ18*BR$11*4 -> 7030848 | BS18: 0 | BT18: =BS18*BT$9*3+BS18*BT$10*5+BS18*BT$11*4 -> 0 | BU18: 0 | BV18: =BU18*BV$9*3+BU18*BV$10*5+BU18*BV$11*4 -> 0 | BW18: 0 | BX18: =BW18*BX$9*3+BW18*BX$10*5+BW18*BX$11*4 -> 0 | BY18: 0 | BZ18: =BY18*BZ$9*3+BY18*BZ$10*5+BY18*BZ$11*4 -> 0 | CA18: 0 | CB18: =CA18*CB$9*3+CA18*CB$10*5+CA18*CB$11*4 -> 0 | CC18: 0 | CD18: =CC18*CD$9*3+CC18*CD$10*5+CC18*CD$11*4 -> 0 | CE18: 0 | CF18: =CE18*CF$9*3+CE18*CF$10*5+CE18*CF$11*4 -> 0 | CG18: 0 | CH18: =CG18*CH$9*3+CG18*CH$10*5+CG18*CH$11*4 -> 0 | CI18: 0 | CJ18: =CI18*CJ$9*3+CI18*CJ$10*5+CI18*CJ$11*4 -> 0 | CK18: 0 | CL18: =CK18*CL$9*3+CK18*CL$10*5+CK18*CL$11*4 -> 0 | CM18: 0 | CN18: =CM18*CN$9*3+CM18*CN$10*5+CM18*CN$11*4 -> 0 | CO18: 0 | CP18: =CO18*CP$9*3+CO18*CP$10*5+CO18*CP$11*4 -> 0 | CQ18: 0 | CR18: =CQ18*CR$9*3+CQ18*CR$10*5+CQ18*CR$11*4 -> 0 | CS18: 0 | CT18: =CS18*CT$9*3+CS18*CT$10*5+CS18*CT$11*4 -> 0 | CU18: 0 | CV18: =CU18*CV$9*3+CU18*CV$10*5+CU18*CV$11*4 -> 0 | CW18: 0 | CX18: =CW18*CX$9*3+CW18*CX$10*5+CW18*CX$11*4 -> 0 | CY18: 0 | CZ18: =CY18*CZ$9*3+CY18*CZ$10*5+CY18*CZ$11*4 -> 0 | DA18: 0 | DB18: =DA18*DB$9*3+DA18*DB$10*5+DA18*DB$11*4 -> 0 | DC18: 0 | DD18: =DC18*DD$9*3+DC18*DD$10*5+DC18*DD$11*4 -> 0 | DE18: 8 | DF18: =DE18*DF$9*3+DE18*DF$10*5+DE18*DF$11*4 -> 3236448 | DG18: 0 | DH18: =DG18*DH$9*3+DG18*DH$10*5+DG18*DH$11*4 -> 0 | DI18: 0 | DJ18: =DI18*DJ$9*3+DI18*DJ$10*5+DI18*DJ$11*4 -> 0 | DK18: 0 | DL18: =DK18*DL$9*3+DK18*DL$10*5+DK18*DL$11*4 -> 0 | DM18: 0 | DN18: =DM18*DN$9*3+DM18*DN$10*5+DM18*DN$11*4 -> 0 | DO18: 0 | DP18: =DO18*DP$9*3+DO18*DP$10*5+DO18*DP$11*4 -> 0 | DQ18: 0 | DR18: =DQ18*DR$9*3+DQ18*DR$10*5+DQ18*DR$11*4 -> 0 | DS18: 0 | DT18: =DS18*DT$9*3+DS18*DT$10*5+DS18*DT$11*4 -> 0 | DU18: 0 | DV18: =DU18*DV$9*3+DU18*DV$10*5+DU18*DV$11*4 -> 0 | DW18: 0 | DX18: =DW18*DX$9*3+DW18*DX$10*5+DW18*DX$11*4 -> 0 | DY18: 0 | DZ18: =DY18*DZ$9*3+DY18*DZ$10*5+DY18*DZ$11*4 -> 0 | EA18: 0 | EB18: =EA18*EB$9*3+EA18*EB$10*5+EA18*EB$11*4 -> 0 | EC18: 0 | ED18: =EC18*ED$9*3+EC18*ED$10*5+EC18*ED$11*4 -> 0 | EE18: 0 | EF18: =EE18*EF$9*3+EE18*EF$10*5+EE18*EF$11*4 -> 0 | EG18: 0 | EH18: =EG18*EH$9*3+EG18*EH$10*5+EG18*EH$11*4 -> 0 | EI18: 0 | EJ18: =EI18*EJ$9*3+EI18*EJ$10*5+EI18*EJ$11*4 -> 0 | EK18: 0 | EL18: =EK18*EL$9*3+EK18*EL$10*5+EK18*EL$11*4 -> 0 | EM18: 0 | EN18: =EM18*D$9*3+EM18*D$10*5+EM18*D$11*4 -> 0 | EO18: 0 | EP18: =EO18*F$9*3+EO18*F$10*5+EO18*F$11*4 -> 0 | EQ18: 0 | ER18: =EQ18*H$9*3+EQ18*H$10*5+EQ18*H$11*4 -> 0 | ES18: 0 | ET18: =ES18*J$9*3+ES18*J$10*5+ES18*J$11*4 -> 0 | EU18: 0 | EV18: =EU18*L$9*3+EU18*L$10*5+EU18*L$11*4 -> 0 | EW18: 0 | EX18: =EW18*N$9*3+EW18*N$10*5+EW18*N$11*4 -> 0 | EY18: 0 | EZ18: =EY18*P$9*3+EY18*P$10*5+EY18*P$11*4 -> 0 | FA18: 0 | FB18: =FA18*R$9*3+FA18*R$10*5+FA18*R$11*4 -> 0 | FC18: 0 | FD18: =FC18*T$9*3+FC18*T$10*5+FC18*T$11*4 -> 0 | FE18: 0 | FF18: =FE18*V$9*3+FE18*V$10*5+FE18*V$11*4 -> 0 | FG18: =C18+W18+AQ18+BK18+CE18+CY18+DS18+EM18 -> 0 | FH18: =D18+X18+AR18+BL18+CF18+CZ18+DT18+EN18 -> 0 | FI18: =E18+Y18+AS18+BM18+CG18+DA18+DU18+EO18 -> 0 | FJ18: =F18+Z18+AT18+BN18+CH18+DB18+DV18+EP18 -> 0 | FK18: =G18+AA18+AU18+BO18+CI18+DC18+DW18+EQ18 -> 0 | FL18: =H18+AB18+AV18+BP18+CJ18+DD18+DX18+ER18 -> 0 | FM18: =I18+AC18+AW18+BQ18+CK18+DE18+DY18+ES18 -> 193 | FN18: =J18+AD18+AX18+BR18+CL18+DF18+DZ18+ET18 -> 61698360 | ... FZ18: =V18+AP18+BJ18+CD18+CX18+DR18+EL18+FF18 -> 0 | GA18: =FG18+FK18+FO18+FS18+FW18 -> 0 | GB18: =FH18+FL18+FP18+FT18+FX18 -> 0 | GC18: =FI18+FM18+FQ18+FU18+FY18 -> 205 | GD18: =FJ18+FN18+FR18+FV18+FZ18 -> 66025560 | GE18: =GA18+GC18 -> 205 | GF18: =GB18+GD18 -> 66025560
A19: 8 | B19: Киришский | C19: 0 | D19: =C19*D$9*3+C19*D$10*5+C19*D$11*4 -> 0 | E19: 0 | F19: =E19*F$9*3+E19*F$10*5+E19*F$11*4 -> 0 | G19: 0 | H19: =G19*H$9*3+G19*H$10*5+G19*H$11*4 -> 0 | I19: 195 | J19: =I19*J$9*3+I19*J$10*5+I19*J$11*4 -> 61527960 | K19: 0 | L19: =K19*L$9*3+K19*L$10*5+K19*L$11*4 -> 0 | M19: 14 | N19: =M19*N$9*3+M19*N$10*5+M19*N$11*4 -> 5048400 | O19: 0 | P19: =O19*P$9*3+O19*P$10*5+O19*P$11*4 -> 0 | Q19: 0 | R19: =Q19*R$9*3+Q19*R$10*5+Q19*R$11*4 -> 0 | S19: 0 | T19: =S19*T$9*3+S19*T$10*5+S19*T$11*4 -> 0 | U19: 0 | V19: =U19*V$9*3+U19*V$10*5+U19*V$11*4 -> 0 | W19: 0 | X19: =W19*X$9*3+W19*X$10*5+W19*X$11*4 -> 0 | Y19: 0 | Z19: =Y19*Z$9*3+Y19*Z$10*5+Y19*Z$11*4 -> 0 | AA19: 0 | AB19: =AA19*AB$9*3+AA19*AB$10*5+AA19*AB$11*4 -> 0 | AC19: 51 | AD19: =AC19*AD$9*3+AC19*AD$10*5+AC19*AD$11*4 -> 13237560 | AE19: 0 | AF19: =AE19*AF$9*3+AE19*AF$10*5+AE19*AF$11*4 -> 0 | AG19: 15 | AH19: =AG19*AH$9*3+AG19*AH$10*5+AG19*AH$11*4 -> 4449600 | AI19: 0 | AJ19: =AI19*AJ$9*3+AI19*AJ$10*5+AI19*AJ$11*4 -> 0 | AK19: 0 | AL19: =AK19*AL$9*3+AK19*AL$10*5+AK19*AL$11*4 -> 0 | AM19: 0 | AN19: =AM19*AN$9*3+AM19*AN$10*5+AM19*AN$11*4 -> 0 | AO19: 0 | AP19: =AO19*AP$9*3+AO19*AP$10*5+AO19*AP$11*4 -> 0 | AQ19: 0 | AR19: =AQ19*AR$9*3+AQ19*AR$10*5+AQ19*AR$11*4 -> 0 | AS19: 0 | AT19: =AS19*AT$9*3+AS19*AT$10*5+AS19*AT$11*4 -> 0 | AU19: 0 | AV19: =AU19*AV$9*3+AU19*AV$10*5+AU19*AV$11*4 -> 0 | AW19: 0 | AX19: =AW19*AX$9*3+AW19*AX$10*5+AW19*AX$11*4 -> 0 | AY19: 0 | AZ19: =AY19*AZ$9*3+AY19*AZ$10*5+AY19*AZ$11*4 -> 0 | BA19: 0 | BB19: =BA19*BB$9*3+BA19*BB$10*5+BA19*BB$11*4 -> 0 | BC19: 0 | BD19: =BC19*BD$9*3+BC19*BD$10*5+BC19*BD$11*4 -> 0 | BE19: 0 | BF19: =BE19*BF$9*3+BE19*BF$10*5+BE19*BF$11*4 -> 0 | BG19: 0 | BH19: =BG19*BH$9*3+BG19*BH$10*5+BG19*BH$11*4 -> 0 | BI19: 0 | BJ19: =BI19*BJ$9*3+BI19*BJ$10*5+BI19*BJ$11*4 -> 0 | BK19: 0 | BL19: =BK19*BL$9*3+BK19*BL$10*5+BK19*BL$11*4 -> 0 | BM19: 0 | BN19: =BM19*BN$9*3+BM19*BN$10*5+BM19*BN$11*4 -> 0 | BO19: 0 | BP19: =BO19*BP$9*3+BO19*BP$10*5+BO19*BP$11*4 -> 0 | BQ19: 0 | BR19: =BQ19*BR$9*3+BQ19*BR$10*5+BQ19*BR$11*4 -> 0 | BS19: 0 | BT19: =BS19*BT$9*3+BS19*BT$10*5+BS19*BT$11*4 -> 0 | BU19: 26 | BV19: =BU19*BV$9*3+BU19*BV$10*5+BU19*BV$11*4 -> 9496344 | BW19: 0 | BX19: =BW19*BX$9*3+BW19*BX$10*5+BW19*BX$11*4 -> 0 | BY19: 0 | BZ19: =BY19*BZ$9*3+BY19*BZ$10*5+BY19*BZ$11*4 -> 0 | CA19: 0 | CB19: =CA19*CB$9*3+CA19*CB$10*5+CA19*CB$11*4 -> 0 | CC19: 0 | CD19: =CC19*CD$9*3+CC19*CD$10*5+CC19*CD$11*4 -> 0 | CE19: 0 | CF19: =CE19*CF$9*3+CE19*CF$10*5+CE19*CF$11*4 -> 0 | CG19: 0 | CH19: =CG19*CH$9*3+CG19*CH$10*5+CG19*CH$11*4 -> 0 | CI19: 0 | CJ19: =CI19*CJ$9*3+CI19*CJ$10*5+CI19*CJ$11*4 -> 0 | CK19: 0 | CL19: =CK19*CL$9*3+CK19*CL$10*5+CK19*CL$11*4 -> 0 | CM19: 0 | CN19: =CM19*CN$9*3+CM19*CN$10*5+CM19*CN$11*4 -> 0 | CO19: 0 | CP19: =CO19*CP$9*3+CO19*CP$10*5+CO19*CP$11*4 -> 0 | CQ19: 0 | CR19: =CQ19*CR$9*3+CQ19*CR$10*5+CQ19*CR$11*4 -> 0 | CS19: 0 | CT19: =CS19*CT$9*3+CS19*CT$10*5+CS19*CT$11*4 -> 0 | CU19: 0 | CV19: =CU19*CV$9*3+CU19*CV$10*5+CU19*CV$11*4 -> 0 | CW19: 0 | CX19: =CW19*CX$9*3+CW19*CX$10*5+CW19*CX$11*4 -> 0 | CY19: 0 | CZ19: =CY19*CZ$9*3+CY19*CZ$10*5+CY19*CZ$11*4 -> 0 | DA19: 0 | DB19: =DA19*DB$9*3+DA19*DB$10*5+DA19*DB$11*4 -> 0 | DC19: 0 | DD19: =DC19*DD$9*3+DC19*DD$10*5+DC19*DD$11*4 -> 0 | DE19: 0 | DF19: =DE19*DF$9*3+DE19*DF$10*5+DE19*DF$11*4 -> 0 | DG19: 0 | DH19: =DG19*DH$9*3+DG19*DH$10*5+DG19*DH$11*4 -> 0 | DI19: 0 | DJ19: =DI19*DJ$9*3+DI19*DJ$10*5+DI19*DJ$11*4 -> 0 | DK19: 0 | DL19: =DK19*DL$9*3+DK19*DL$10*5+DK19*DL$11*4 -> 0 | DM19: 0 | DN19: =DM19*DN$9*3+DM19*DN$10*5+DM19*DN$11*4 -> 0 | DO19: 0 | DP19: =DO19*DP$9*3+DO19*DP$10*5+DO19*DP$11*4 -> 0 | DQ19: 0 | DR19: =DQ19*DR$9*3+DQ19*DR$10*5+DQ19*DR$11*4 -> 0 | DS19: 0 | DT19: =DS19*DT$9*3+DS19*DT$10*5+DS19*DT$11*4 -> 0 | DU19: 0 | DV19: =DU19*DV$9*3+DU19*DV$10*5+DU19*DV$11*4 -> 0 | DW19: 0 | DX19: =DW19*DX$9*3+DW19*DX$10*5+DW19*DX$11*4 -> 0 | DY19: 10 | DZ19: =DY19*DZ$9*3+DY19*DZ$10*5+DY19*DZ$11*4 -> 6554040 | EA19: 0 | EB19: =EA19*EB$9*3+EA19*EB$10*5+EA19*EB$11*4 -> 0 | EC19: 10 | ED19: =EC19*ED$9*3+EC19*ED$10*5+EC19*ED$11*4 -> 7490400 | EE19: 0 | EF19: =EE19*EF$9*3+EE19*EF$10*5+EE19*EF$11*4 -> 0 | EG19: 0 | EH19: =EG19*EH$9*3+EG19*EH$10*5+EG19*EH$11*4 -> 0 | EI19: 0 | EJ19: =EI19*EJ$9*3+EI19*EJ$10*5+EI19*EJ$11*4 -> 0 | EK19: 0 | EL19: =EK19*EL$9*3+EK19*EL$10*5+EK19*EL$11*4 -> 0 | EM19: 0 | EN19: =EM19*D$9*3+EM19*D$10*5+EM19*D$11*4 -> 0 | EO19: 0 | EP19: =EO19*F$9*3+EO19*F$10*5+EO19*F$11*4 -> 0 | EQ19: 20 | ER19: =EQ19*H$9*3+EQ19*H$10*5+EQ19*H$11*4 -> 10788240 | ES19: 64 | ET19: =ES19*J$9*3+ES19*J$10*5+ES19*J$11*4 -> 20193792 | EU19: 0 | EV19: =EU19*L$9*3+EU19*L$10*5+EU19*L$11*4 -> 0 | EW19: 0 | EX19: =EW19*N$9*3+EW19*N$10*5+EW19*N$11*4 -> 0 | EY19: 0 | EZ19: =EY19*P$9*3+EY19*P$10*5+EY19*P$11*4 -> 0 | FA19: 0 | FB19: =FA19*R$9*3+FA19*R$10*5+FA19*R$11*4 -> 0 | FC19: 0 | FD19: =FC19*T$9*3+FC19*T$10*5+FC19*T$11*4 -> 0 | FE19: 0 | FF19: =FE19*V$9*3+FE19*V$10*5+FE19*V$11*4 -> 0 | FG19: =C19+W19+AQ19+BK19+CE19+CY19+DS19+EM19 -> 0 | FH19: =D19+X19+AR19+BL19+CF19+CZ19+DT19+EN19 -> 0 | FI19: =E19+Y19+AS19+BM19+CG19+DA19+DU19+EO19 -> 0 | FJ19: =F19+Z19+AT19+BN19+CH19+DB19+DV19+EP19 -> 0 | FK19: =G19+AA19+AU19+BO19+CI19+DC19+DW19+EQ19 -> 20 | FL19: =H19+AB19+AV19+BP19+CJ19+DD19+DX19+ER19 -> 10788240 | FM19: =I19+AC19+AW19+BQ19+CK19+DE19+DY19+ES19 -> 320 | FN19: =J19+AD19+AX19+BR19+CL19+DF19+DZ19+ET19 -> 101513352 | ... FZ19: =V19+AP19+BJ19+CD19+CX19+DR19+EL19+FF19 -> 0 | GA19: =FG19+FK19+FO19+FS19+FW19 -> 20 | GB19: =FH19+FL19+FP19+FT19+FX19 -> 10788240 | GC19: =FI19+FM19+FQ19+FU19+FY19 -> 385 | GD19: =FJ19+FN19+FR19+FV19+FZ19 -> 127998096 | GE19: =GA19+GC19 -> 405 | GF19: =GB19+GD19 -> 138786336
A20: 9 | B20: Кировский | C20: 0 | D20: =C20*D$9*3+C20*D$10*5+C20*D$11*4 -> 0 | E20: 0 | F20: =E20*F$9*3+E20*F$10*5+E20*F$11*4 -> 0 | G20: 0 | H20: =G20*H$9*3+G20*H$10*5+G20*H$11*4 -> 0 | I20: 0 | J20: =I20*J$9*3+I20*J$10*5+I20*J$11*4 -> 0 | K20: 0 | L20: =K20*L$9*3+K20*L$10*5+K20*L$11*4 -> 0 | M20: 899 | N20: =M20*N$9*3+M20*N$10*5+M20*N$11*4 -> 324179400 | O20: 0 | P20: =O20*P$9*3+O20*P$10*5+O20*P$11*4 -> 0 | Q20: 0 | R20: =Q20*R$9*3+Q20*R$10*5+Q20*R$11*4 -> 0 | S20: 0 | T20: =S20*T$9*3+S20*T$10*5+S20*T$11*4 -> 0 | U20: 0 | V20: =U20*V$9*3+U20*V$10*5+U20*V$11*4 -> 0 | W20: 0 | X20: =W20*X$9*3+W20*X$10*5+W20*X$11*4 -> 0 | Y20: 0 | Z20: =Y20*Z$9*3+Y20*Z$10*5+Y20*Z$11*4 -> 0 | AA20: 0 | AB20: =AA20*AB$9*3+AA20*AB$10*5+AA20*AB$11*4 -> 0 | AC20: 0 | AD20: =AC20*AD$9*3+AC20*AD$10*5+AC20*AD$11*4 -> 0 | AE20: 0 | AF20: =AE20*AF$9*3+AE20*AF$10*5+AE20*AF$11*4 -> 0 | AG20: 0 | AH20: =AG20*AH$9*3+AG20*AH$10*5+AG20*AH$11*4 -> 0 | AI20: 0 | AJ20: =AI20*AJ$9*3+AI20*AJ$10*5+AI20*AJ$11*4 -> 0 | AK20: 0 | AL20: =AK20*AL$9*3+AK20*AL$10*5+AK20*AL$11*4 -> 0 | AM20: 0 | AN20: =AM20*AN$9*3+AM20*AN$10*5+AM20*AN$11*4 -> 0 | AO20: 0 | AP20: =AO20*AP$9*3+AO20*AP$10*5+AO20*AP$11*4 -> 0 | AQ20: 0 | AR20: =AQ20*AR$9*3+AQ20*AR$10*5+AQ20*AR$11*4 -> 0 | AS20: 0 | AT20: =AS20*AT$9*3+AS20*AT$10*5+AS20*AT$11*4 -> 0 | AU20: 0 | AV20: =AU20*AV$9*3+AU20*AV$10*5+AU20*AV$11*4 -> 0 | AW20: 0 | AX20: =AW20*AX$9*3+AW20*AX$10*5+AW20*AX$11*4 -> 0 | AY20: 0 | AZ20: =AY20*AZ$9*3+AY20*AZ$10*5+AY20*AZ$11*4 -> 0 | BA20: 17 | BB20: =BA20*BB$9*3+BA20*BB$10*5+BA20*BB$11*4 -> 6209148 | BC20: 0 | BD20: =BC20*BD$9*3+BC20*BD$10*5+BC20*BD$11*4 -> 0 | BE20: 0 | BF20: =BE20*BF$9*3+BE20*BF$10*5+BE20*BF$11*4 -> 0 | BG20: 0 | BH20: =BG20*BH$9*3+BG20*BH$10*5+BG20*BH$11*4 -> 0 | BI20: 0 | BJ20: =BI20*BJ$9*3+BI20*BJ$10*5+BI20*BJ$11*4 -> 0 | BK20: 0 | BL20: =BK20*BL$9*3+BK20*BL$10*5+BK20*BL$11*4 -> 0 | BM20: 0 | BN20: =BM20*BN$9*3+BM20*BN$10*5+BM20*BN$11*4 -> 0 | BO20: 0 | BP20: =BO20*BP$9*3+BO20*BP$10*5+BO20*BP$11*4 -> 0 | BQ20: 0 | BR20: =BQ20*BR$9*3+BQ20*BR$10*5+BQ20*BR$11*4 -> 0 | BS20: 0 | BT20: =BS20*BT$9*3+BS20*BT$10*5+BS20*BT$11*4 -> 0 | BU20: 150 | BV20: =BU20*BV$9*3+BU20*BV$10*5+BU20*BV$11*4 -> 54786600 | BW20: 0 | BX20: =BW20*BX$9*3+BW20*BX$10*5+BW20*BX$11*4 -> 0 | BY20: 0 | BZ20: =BY20*BZ$9*3+BY20*BZ$10*5+BY20*BZ$11*4 -> 0 | CA20: 0 | CB20: =CA20*CB$9*3+CA20*CB$10*5+CA20*CB$11*4 -> 0 | CC20: 0 | CD20: =CC20*CD$9*3+CC20*CD$10*5+CC20*CD$11*4 -> 0 | CE20: 0 | CF20: =CE20*CF$9*3+CE20*CF$10*5+CE20*CF$11*4 -> 0 | CG20: 0 | CH20: =CG20*CH$9*3+CG20*CH$10*5+CG20*CH$11*4 -> 0 | CI20: 0 | CJ20: =CI20*CJ$9*3+CI20*CJ$10*5+CI20*CJ$11*4 -> 0 | CK20: 0 | CL20: =CK20*CL$9*3+CK20*CL$10*5+CK20*CL$11*4 -> 0 | CM20: 0 | CN20: =CM20*CN$9*3+CM20*CN$10*5+CM20*CN$11*4 -> 0 | CO20: 0 | CP20: =CO20*CP$9*3+CO20*CP$10*5+CO20*CP$11*4 -> 0 | CQ20: 0 | CR20: =CQ20*CR$9*3+CQ20*CR$10*5+CQ20*CR$11*4 -> 0 | CS20: 0 | CT20: =CS20*CT$9*3+CS20*CT$10*5+CS20*CT$11*4 -> 0 | CU20: 0 | CV20: =CU20*CV$9*3+CU20*CV$10*5+CU20*CV$11*4 -> 0 | CW20: 0 | CX20: =CW20*CX$9*3+CW20*CX$10*5+CW20*CX$11*4 -> 0 | CY20: 0 | CZ20: =CY20*CZ$9*3+CY20*CZ$10*5+CY20*CZ$11*4 -> 0 | DA20: 0 | DB20: =DA20*DB$9*3+DA20*DB$10*5+DA20*DB$11*4 -> 0 | DC20: 0 | DD20: =DC20*DD$9*3+DC20*DD$10*5+DC20*DD$11*4 -> 0 | DE20: 0 | DF20: =DE20*DF$9*3+DE20*DF$10*5+DE20*DF$11*4 -> 0 | DG20: 0 | DH20: =DG20*DH$9*3+DG20*DH$10*5+DG20*DH$11*4 -> 0 | DI20: 0 | DJ20: =DI20*DJ$9*3+DI20*DJ$10*5+DI20*DJ$11*4 -> 0 | DK20: 0 | DL20: =DK20*DL$9*3+DK20*DL$10*5+DK20*DL$11*4 -> 0 | DM20: 0 | DN20: =DM20*DN$9*3+DM20*DN$10*5+DM20*DN$11*4 -> 0 | DO20: 0 | DP20: =DO20*DP$9*3+DO20*DP$10*5+DO20*DP$11*4 -> 0 | DQ20: 0 | DR20: =DQ20*DR$9*3+DQ20*DR$10*5+DQ20*DR$11*4 -> 0 | DS20: 0 | DT20: =DS20*DT$9*3+DS20*DT$10*5+DS20*DT$11*4 -> 0 | DU20: 0 | DV20: =DU20*DV$9*3+DU20*DV$10*5+DU20*DV$11*4 -> 0 | DW20: 0 | DX20: =DW20*DX$9*3+DW20*DX$10*5+DW20*DX$11*4 -> 0 | DY20: 0 | DZ20: =DY20*DZ$9*3+DY20*DZ$10*5+DY20*DZ$11*4 -> 0 | EA20: 0 | EB20: =EA20*EB$9*3+EA20*EB$10*5+EA20*EB$11*4 -> 0 | EC20: 0 | ED20: =EC20*ED$9*3+EC20*ED$10*5+EC20*ED$11*4 -> 0 | EE20: 0 | EF20: =EE20*EF$9*3+EE20*EF$10*5+EE20*EF$11*4 -> 0 | EG20: 0 | EH20: =EG20*EH$9*3+EG20*EH$10*5+EG20*EH$11*4 -> 0 | EI20: 0 | EJ20: =EI20*EJ$9*3+EI20*EJ$10*5+EI20*EJ$11*4 -> 0 | EK20: 0 | EL20: =EK20*EL$9*3+EK20*EL$10*5+EK20*EL$11*4 -> 0 | EM20: 0 | EN20: =EM20*D$9*3+EM20*D$10*5+EM20*D$11*4 -> 0 | EO20: 0 | EP20: =EO20*F$9*3+EO20*F$10*5+EO20*F$11*4 -> 0 | EQ20: 0 | ER20: =EQ20*H$9*3+EQ20*H$10*5+EQ20*H$11*4 -> 0 | ES20: 0 | ET20: =ES20*J$9*3+ES20*J$10*5+ES20*J$11*4 -> 0 | EU20: 0 | EV20: =EU20*L$9*3+EU20*L$10*5+EU20*L$11*4 -> 0 | EW20: 0 | EX20: =EW20*N$9*3+EW20*N$10*5+EW20*N$11*4 -> 0 | EY20: 0 | EZ20: =EY20*P$9*3+EY20*P$10*5+EY20*P$11*4 -> 0 | FA20: 0 | FB20: =FA20*R$9*3+FA20*R$10*5+FA20*R$11*4 -> 0 | FC20: 0 | FD20: =FC20*T$9*3+FC20*T$10*5+FC20*T$11*4 -> 0 | FE20: 0 | FF20: =FE20*V$9*3+FE20*V$10*5+FE20*V$11*4 -> 0 | FG20: =C20+W20+AQ20+BK20+CE20+CY20+DS20+EM20 -> 0 | FH20: =D20+X20+AR20+BL20+CF20+CZ20+DT20+EN20 -> 0 | FI20: =E20+Y20+AS20+BM20+CG20+DA20+DU20+EO20 -> 0 | FJ20: =F20+Z20+AT20+BN20+CH20+DB20+DV20+EP20 -> 0 | FK20: =G20+AA20+AU20+BO20+CI20+DC20+DW20+EQ20 -> 0 | FL20: =H20+AB20+AV20+BP20+CJ20+DD20+DX20+ER20 -> 0 | FM20: =I20+AC20+AW20+BQ20+CK20+DE20+DY20+ES20 -> 0 | FN20: =J20+AD20+AX20+BR20+CL20+DF20+DZ20+ET20 -> 0 | ... FZ20: =V20+AP20+BJ20+CD20+CX20+DR20+EL20+FF20 -> 0 | GA20: =FG20+FK20+FO20+FS20+FW20 -> 0 | GB20: =FH20+FL20+FP20+FT20+FX20 -> 0 | GC20: =FI20+FM20+FQ20+FU20+FY20 -> 1066 | GD20: =FJ20+FN20+FR20+FV20+FZ20 -> 385175148 | GE20: =GA20+GC20 -> 1066 | GF20: =GB20+GD20 -> 385175148
A21: 10 | B21: Лодейнопольский | C21: 0 | D21: =C21*D$9*3+C21*D$10*5+C21*D$11*4 -> 0 | E21: 0 | F21: =E21*F$9*3+E21*F$10*5+E21*F$11*4 -> 0 | G21: 0 | H21: =G21*H$9*3+G21*H$10*5+G21*H$11*4 -> 0 | I21: 150 | J21: =I21*J$9*3+I21*J$10*5+I21*J$11*4 -> 47329200 | K21: 0 | L21: =K21*L$9*3+K21*L$10*5+K21*L$11*4 -> 0 | M21: 15 | N21: =M21*N$9*3+M21*N$10*5+M21*N$11*4 -> 5409000 | O21: 0 | P21: =O21*P$9*3+O21*P$10*5+O21*P$11*4 -> 0 | Q21: 0 | R21: =Q21*R$9*3+Q21*R$10*5+Q21*R$11*4 -> 0 | S21: 0 | T21: =S21*T$9*3+S21*T$10*5+S21*T$11*4 -> 0 | U21: 0 | V21: =U21*V$9*3+U21*V$10*5+U21*V$11*4 -> 0 | W21: 0 | X21: =W21*X$9*3+W21*X$10*5+W21*X$11*4 -> 0 | Y21: 0 | Z21: =Y21*Z$9*3+Y21*Z$10*5+Y21*Z$11*4 -> 0 | AA21: 0 | AB21: =AA21*AB$9*3+AA21*AB$10*5+AA21*AB$11*4 -> 0 | AC21: 0 | AD21: =AC21*AD$9*3+AC21*AD$10*5+AC21*AD$11*4 -> 0 | AE21: 0 | AF21: =AE21*AF$9*3+AE21*AF$10*5+AE21*AF$11*4 -> 0 | AG21: 0 | AH21: =AG21*AH$9*3+AG21*AH$10*5+AG21*AH$11*4 -> 0 | AI21: 0 | AJ21: =AI21*AJ$9*3+AI21*AJ$10*5+AI21*AJ$11*4 -> 0 | AK21: 0 | AL21: =AK21*AL$9*3+AK21*AL$10*5+AK21*AL$11*4 -> 0 | AM21: 0 | AN21: =AM21*AN$9*3+AM21*AN$10*5+AM21*AN$11*4 -> 0 | AO21: 0 | AP21: =AO21*AP$9*3+AO21*AP$10*5+AO21*AP$11*4 -> 0 | AQ21: 0 | AR21: =AQ21*AR$9*3+AQ21*AR$10*5+AQ21*AR$11*4 -> 0 | AS21: 0 | AT21: =AS21*AT$9*3+AS21*AT$10*5+AS21*AT$11*4 -> 0 | AU21: 0 | AV21: =AU21*AV$9*3+AU21*AV$10*5+AU21*AV$11*4 -> 0 | AW21: 0 | AX21: =AW21*AX$9*3+AW21*AX$10*5+AW21*AX$11*4 -> 0 | AY21: 0 | AZ21: =AY21*AZ$9*3+AY21*AZ$10*5+AY21*AZ$11*4 -> 0 | BA21: 0 | BB21: =BA21*BB$9*3+BA21*BB$10*5+BA21*BB$11*4 -> 0 | BC21: 0 | BD21: =BC21*BD$9*3+BC21*BD$10*5+BC21*BD$11*4 -> 0 | BE21: 0 | BF21: =BE21*BF$9*3+BE21*BF$10*5+BE21*BF$11*4 -> 0 | BG21: 0 | BH21: =BG21*BH$9*3+BG21*BH$10*5+BG21*BH$11*4 -> 0 | BI21: 0 | BJ21: =BI21*BJ$9*3+BI21*BJ$10*5+BI21*BJ$11*4 -> 0 | BK21: 0 | BL21: =BK21*BL$9*3+BK21*BL$10*5+BK21*BL$11*4 -> 0 | BM21: 0 | BN21: =BM21*BN$9*3+BM21*BN$10*5+BM21*BN$11*4 -> 0 | BO21: 0 | BP21: =BO21*BP$9*3+BO21*BP$10*5+BO21*BP$11*4 -> 0 | BQ21: 20 | BR21: =BQ21*BR$9*3+BQ21*BR$10*5+BQ21*BR$11*4 -> 6391680 | BS21: 0 | BT21: =BS21*BT$9*3+BS21*BT$10*5+BS21*BT$11*4 -> 0 | BU21: 0 | BV21: =BU21*BV$9*3+BU21*BV$10*5+BU21*BV$11*4 -> 0 | BW21: 0 | BX21: =BW21*BX$9*3+BW21*BX$10*5+BW21*BX$11*4 -> 0 | BY21: 0 | BZ21: =BY21*BZ$9*3+BY21*BZ$10*5+BY21*BZ$11*4 -> 0 | CA21: 0 | CB21: =CA21*CB$9*3+CA21*CB$10*5+CA21*CB$11*4 -> 0 | CC21: 0 | CD21: =CC21*CD$9*3+CC21*CD$10*5+CC21*CD$11*4 -> 0 | CE21: 0 | CF21: =CE21*CF$9*3+CE21*CF$10*5+CE21*CF$11*4 -> 0 | CG21: 0 | CH21: =CG21*CH$9*3+CG21*CH$10*5+CG21*CH$11*4 -> 0 | CI21: 0 | CJ21: =CI21*CJ$9*3+CI21*CJ$10*5+CI21*CJ$11*4 -> 0 | CK21: 0 | CL21: =CK21*CL$9*3+CK21*CL$10*5+CK21*CL$11*4 -> 0 | CM21: 0 | CN21: =CM21*CN$9*3+CM21*CN$10*5+CM21*CN$11*4 -> 0 | CO21: 0 | CP21: =CO21*CP$9*3+CO21*CP$10*5+CO21*CP$11*4 -> 0 | CQ21: 0 | CR21: =CQ21*CR$9*3+CQ21*CR$10*5+CQ21*CR$11*4 -> 0 | CS21: 0 | CT21: =CS21*CT$9*3+CS21*CT$10*5+CS21*CT$11*4 -> 0 | CU21: 0 | CV21: =CU21*CV$9*3+CU21*CV$10*5+CU21*CV$11*4 -> 0 | CW21: 0 | CX21: =CW21*CX$9*3+CW21*CX$10*5+CW21*CX$11*4 -> 0 | CY21: 0 | CZ21: =CY21*CZ$9*3+CY21*CZ$10*5+CY21*CZ$11*4 -> 0 | DA21: 0 | DB21: =DA21*DB$9*3+DA21*DB$10*5+DA21*DB$11*4 -> 0 | DC21: 0 | DD21: =DC21*DD$9*3+DC21*DD$10*5+DC21*DD$11*4 -> 0 | DE21: 0 | DF21: =DE21*DF$9*3+DE21*DF$10*5+DE21*DF$11*4 -> 0 | DG21: 0 | DH21: =DG21*DH$9*3+DG21*DH$10*5+DG21*DH$11*4 -> 0 | DI21: 0 | DJ21: =DI21*DJ$9*3+DI21*DJ$10*5+DI21*DJ$11*4 -> 0 | DK21: 0 | DL21: =DK21*DL$9*3+DK21*DL$10*5+DK21*DL$11*4 -> 0 | DM21: 0 | DN21: =DM21*DN$9*3+DM21*DN$10*5+DM21*DN$11*4 -> 0 | DO21: 0 | DP21: =DO21*DP$9*3+DO21*DP$10*5+DO21*DP$11*4 -> 0 | DQ21: 0 | DR21: =DQ21*DR$9*3+DQ21*DR$10*5+DQ21*DR$11*4 -> 0 | DS21: 0 | DT21: =DS21*DT$9*3+DS21*DT$10*5+DS21*DT$11*4 -> 0 | DU21: 0 | DV21: =DU21*DV$9*3+DU21*DV$10*5+DU21*DV$11*4 -> 0 | DW21: 0 | DX21: =DW21*DX$9*3+DW21*DX$10*5+DW21*DX$11*4 -> 0 | DY21: 10 | DZ21: =DY21*DZ$9*3+DY21*DZ$10*5+DY21*DZ$11*4 -> 6554040 | EA21: 0 | EB21: =EA21*EB$9*3+EA21*EB$10*5+EA21*EB$11*4 -> 0 | EC21: 0 | ED21: =EC21*ED$9*3+EC21*ED$10*5+EC21*ED$11*4 -> 0 | EE21: 0 | EF21: =EE21*EF$9*3+EE21*EF$10*5+EE21*EF$11*4 -> 0 | EG21: 0 | EH21: =EG21*EH$9*3+EG21*EH$10*5+EG21*EH$11*4 -> 0 | EI21: 0 | EJ21: =EI21*EJ$9*3+EI21*EJ$10*5+EI21*EJ$11*4 -> 0 | EK21: 0 | EL21: =EK21*EL$9*3+EK21*EL$10*5+EK21*EL$11*4 -> 0 | EM21: 0 | EN21: =EM21*D$9*3+EM21*D$10*5+EM21*D$11*4 -> 0 | EO21: 0 | EP21: =EO21*F$9*3+EO21*F$10*5+EO21*F$11*4 -> 0 | EQ21: 0 | ER21: =EQ21*H$9*3+EQ21*H$10*5+EQ21*H$11*4 -> 0 | ES21: 0 | ET21: =ES21*J$9*3+ES21*J$10*5+ES21*J$11*4 -> 0 | EU21: 0 | EV21: =EU21*L$9*3+EU21*L$10*5+EU21*L$11*4 -> 0 | EW21: 0 | EX21: =EW21*N$9*3+EW21*N$10*5+EW21*N$11*4 -> 0 | EY21: 0 | EZ21: =EY21*P$9*3+EY21*P$10*5+EY21*P$11*4 -> 0 | FA21: 0 | FB21: =FA21*R$9*3+FA21*R$10*5+FA21*R$11*4 -> 0 | FC21: 0 | FD21: =FC21*T$9*3+FC21*T$10*5+FC21*T$11*4 -> 0 | FE21: 0 | FF21: =FE21*V$9*3+FE21*V$10*5+FE21*V$11*4 -> 0 | FG21: =C21+W21+AQ21+BK21+CE21+CY21+DS21+EM21 -> 0 | FH21: =D21+X21+AR21+BL21+CF21+CZ21+DT21+EN21 -> 0 | FI21: =E21+Y21+AS21+BM21+CG21+DA21+DU21+EO21 -> 0 | FJ21: =F21+Z21+AT21+BN21+CH21+DB21+DV21+EP21 -> 0 | FK21: =G21+AA21+AU21+BO21+CI21+DC21+DW21+EQ21 -> 0 | FL21: =H21+AB21+AV21+BP21+CJ21+DD21+DX21+ER21 -> 0 | FM21: =I21+AC21+AW21+BQ21+CK21+DE21+DY21+ES21 -> 180 | FN21: =J21+AD21+AX21+BR21+CL21+DF21+DZ21+ET21 -> 60274920 | ... FZ21: =V21+AP21+BJ21+CD21+CX21+DR21+EL21+FF21 -> 0 | GA21: =FG21+FK21+FO21+FS21+FW21 -> 0 | GB21: =FH21+FL21+FP21+FT21+FX21 -> 0 | GC21: =FI21+FM21+FQ21+FU21+FY21 -> 195 | GD21: =FJ21+FN21+FR21+FV21+FZ21 -> 65683920 | GE21: =GA21+GC21 -> 195 | GF21: =GB21+GD21 -> 65683920
A22: 11 | B22: Ломоносовский | C22: 0 | D22: =C22*D$9*3+C22*D$10*5+C22*D$11*4 -> 0 | E22: 0 | F22: =E22*F$9*3+E22*F$10*5+E22*F$11*4 -> 0 | G22: 0 | H22: =G22*H$9*3+G22*H$10*5+G22*H$11*4 -> 0 | I22: 223 | J22: =I22*J$9*3+I22*J$10*5+I22*J$11*4 -> 70362744 | K22: 0 | L22: =K22*L$9*3+K22*L$10*5+K22*L$11*4 -> 0 | M22: 0 | N22: =M22*N$9*3+M22*N$10*5+M22*N$11*4 -> 0 | O22: 0 | P22: =O22*P$9*3+O22*P$10*5+O22*P$11*4 -> 0 | Q22: 0 | R22: =Q22*R$9*3+Q22*R$10*5+Q22*R$11*4 -> 0 | S22: 0 | T22: =S22*T$9*3+S22*T$10*5+S22*T$11*4 -> 0 | U22: 15 | V22: =U22*V$9*3+U22*V$10*5+U22*V$11*4 -> 6310620 | W22: 0 | X22: =W22*X$9*3+W22*X$10*5+W22*X$11*4 -> 0 | Y22: 0 | Z22: =Y22*Z$9*3+Y22*Z$10*5+Y22*Z$11*4 -> 0 | AA22: 0 | AB22: =AA22*AB$9*3+AA22*AB$10*5+AA22*AB$11*4 -> 0 | AC22: 0 | AD22: =AC22*AD$9*3+AC22*AD$10*5+AC22*AD$11*4 -> 0 | AE22: 0 | AF22: =AE22*AF$9*3+AE22*AF$10*5+AE22*AF$11*4 -> 0 | AG22: 0 | AH22: =AG22*AH$9*3+AG22*AH$10*5+AG22*AH$11*4 -> 0 | AI22: 0 | AJ22: =AI22*AJ$9*3+AI22*AJ$10*5+AI22*AJ$11*4 -> 0 | AK22: 0 | AL22: =AK22*AL$9*3+AK22*AL$10*5+AK22*AL$11*4 -> 0 | AM22: 0 | AN22: =AM22*AN$9*3+AM22*AN$10*5+AM22*AN$11*4 -> 0 | AO22: 0 | AP22: =AO22*AP$9*3+AO22*AP$10*5+AO22*AP$11*4 -> 0 | AQ22: 0 | AR22: =AQ22*AR$9*3+AQ22*AR$10*5+AQ22*AR$11*4 -> 0 | AS22: 0 | AT22: =AS22*AT$9*3+AS22*AT$10*5+AS22*AT$11*4 -> 0 | AU22: 0 | AV22: =AU22*AV$9*3+AU22*AV$10*5+AU22*AV$11*4 -> 0 | AW22: 0 | AX22: =AW22*AX$9*3+AW22*AX$10*5+AW22*AX$11*4 -> 0 | AY22: 0 | AZ22: =AY22*AZ$9*3+AY22*AZ$10*5+AY22*AZ$11*4 -> 0 | BA22: 0 | BB22: =BA22*BB$9*3+BA22*BB$10*5+BA22*BB$11*4 -> 0 | BC22: 0 | BD22: =BC22*BD$9*3+BC22*BD$10*5+BC22*BD$11*4 -> 0 | BE22: 0 | BF22: =BE22*BF$9*3+BE22*BF$10*5+BE22*BF$11*4 -> 0 | BG22: 0 | BH22: =BG22*BH$9*3+BG22*BH$10*5+BG22*BH$11*4 -> 0 | BI22: 0 | BJ22: =BI22*BJ$9*3+BI22*BJ$10*5+BI22*BJ$11*4 -> 0 | BK22: 0 | BL22: =BK22*BL$9*3+BK22*BL$10*5+BK22*BL$11*4 -> 0 | BM22: 0 | BN22: =BM22*BN$9*3+BM22*BN$10*5+BM22*BN$11*4 -> 0 | BO22: 0 | BP22: =BO22*BP$9*3+BO22*BP$10*5+BO22*BP$11*4 -> 0 | BQ22: 14 | BR22: =BQ22*BR$9*3+BQ22*BR$10*5+BQ22*BR$11*4 -> 4474176 | BS22: 0 | BT22: =BS22*BT$9*3+BS22*BT$10*5+BS22*BT$11*4 -> 0 | BU22: 0 | BV22: =BU22*BV$9*3+BU22*BV$10*5+BU22*BV$11*4 -> 0 | BW22: 0 | BX22: =BW22*BX$9*3+BW22*BX$10*5+BW22*BX$11*4 -> 0 | BY22: 0 | BZ22: =BY22*BZ$9*3+BY22*BZ$10*5+BY22*BZ$11*4 -> 0 | CA22: 0 | CB22: =CA22*CB$9*3+CA22*CB$10*5+CA22*CB$11*4 -> 0 | CC22: 11 | CD22: =CC22*CD$9*3+CC22*CD$10*5+CC22*CD$11*4 -> 4687320 | CE22: 0 | CF22: =CE22*CF$9*3+CE22*CF$10*5+CE22*CF$11*4 -> 0 | CG22: 0 | CH22: =CG22*CH$9*3+CG22*CH$10*5+CG22*CH$11*4 -> 0 | CI22: 0 | CJ22: =CI22*CJ$9*3+CI22*CJ$10*5+CI22*CJ$11*4 -> 0 | CK22: 0 | CL22: =CK22*CL$9*3+CK22*CL$10*5+CK22*CL$11*4 -> 0 | CM22: 0 | CN22: =CM22*CN$9*3+CM22*CN$10*5+CM22*CN$11*4 -> 0 | CO22: 0 | CP22: =CO22*CP$9*3+CO22*CP$10*5+CO22*CP$11*4 -> 0 | CQ22: 0 | CR22: =CQ22*CR$9*3+CQ22*CR$10*5+CQ22*CR$11*4 -> 0 | CS22: 0 | CT22: =CS22*CT$9*3+CS22*CT$10*5+CS22*CT$11*4 -> 0 | CU22: 0 | CV22: =CU22*CV$9*3+CU22*CV$10*5+CU22*CV$11*4 -> 0 | CW22: 0 | CX22: =CW22*CX$9*3+CW22*CX$10*5+CW22*CX$11*4 -> 0 | CY22: 0 | CZ22: =CY22*CZ$9*3+CY22*CZ$10*5+CY22*CZ$11*4 -> 0 | DA22: 0 | DB22: =DA22*DB$9*3+DA22*DB$10*5+DA22*DB$11*4 -> 0 | DC22: 0 | DD22: =DC22*DD$9*3+DC22*DD$10*5+DC22*DD$11*4 -> 0 | DE22: 0 | DF22: =DE22*DF$9*3+DE22*DF$10*5+DE22*DF$11*4 -> 0 | DG22: 0 | DH22: =DG22*DH$9*3+DG22*DH$10*5+DG22*DH$11*4 -> 0 | DI22: 0 | DJ22: =DI22*DJ$9*3+DI22*DJ$10*5+DI22*DJ$11*4 -> 0 | DK22: 0 | DL22: =DK22*DL$9*3+DK22*DL$10*5+DK22*DL$11*4 -> 0 | DM22: 0 | DN22: =DM22*DN$9*3+DM22*DN$10*5+DM22*DN$11*4 -> 0 | DO22: 0 | DP22: =DO22*DP$9*3+DO22*DP$10*5+DO22*DP$11*4 -> 0 | DQ22: 0 | DR22: =DQ22*DR$9*3+DQ22*DR$10*5+DQ22*DR$11*4 -> 0 | DS22: 0 | DT22: =DS22*DT$9*3+DS22*DT$10*5+DS22*DT$11*4 -> 0 | DU22: 0 | DV22: =DU22*DV$9*3+DU22*DV$10*5+DU22*DV$11*4 -> 0 | DW22: 0 | DX22: =DW22*DX$9*3+DW22*DX$10*5+DW22*DX$11*4 -> 0 | DY22: 5 | DZ22: =DY22*DZ$9*3+DY22*DZ$10*5+DY22*DZ$11*4 -> 3277020 | EA22: 0 | EB22: =EA22*EB$9*3+EA22*EB$10*5+EA22*EB$11*4 -> 0 | EC22: 0 | ED22: =EC22*ED$9*3+EC22*ED$10*5+EC22*ED$11*4 -> 0 | EE22: 0 | EF22: =EE22*EF$9*3+EE22*EF$10*5+EE22*EF$11*4 -> 0 | EG22: 0 | EH22: =EG22*EH$9*3+EG22*EH$10*5+EG22*EH$11*4 -> 0 | EI22: 0 | EJ22: =EI22*EJ$9*3+EI22*EJ$10*5+EI22*EJ$11*4 -> 0 | EK22: 0 | EL22: =EK22*EL$9*3+EK22*EL$10*5+EK22*EL$11*4 -> 0 | EM22: 0 | EN22: =EM22*D$9*3+EM22*D$10*5+EM22*D$11*4 -> 0 | EO22: 0 | EP22: =EO22*F$9*3+EO22*F$10*5+EO22*F$11*4 -> 0 | EQ22: 0 | ER22: =EQ22*H$9*3+EQ22*H$10*5+EQ22*H$11*4 -> 0 | ES22: 0 | ET22: =ES22*J$9*3+ES22*J$10*5+ES22*J$11*4 -> 0 | EU22: 0 | EV22: =EU22*L$9*3+EU22*L$10*5+EU22*L$11*4 -> 0 | EW22: 0 | EX22: =EW22*N$9*3+EW22*N$10*5+EW22*N$11*4 -> 0 | EY22: 0 | EZ22: =EY22*P$9*3+EY22*P$10*5+EY22*P$11*4 -> 0 | FA22: 0 | FB22: =FA22*R$9*3+FA22*R$10*5+FA22*R$11*4 -> 0 | FC22: 0 | FD22: =FC22*T$9*3+FC22*T$10*5+FC22*T$11*4 -> 0 | FE22: 0 | FF22: =FE22*V$9*3+FE22*V$10*5+FE22*V$11*4 -> 0 | FG22: =C22+W22+AQ22+BK22+CE22+CY22+DS22+EM22 -> 0 | FH22: =D22+X22+AR22+BL22+CF22+CZ22+DT22+EN22 -> 0 | FI22: =E22+Y22+AS22+BM22+CG22+DA22+DU22+EO22 -> 0 | FJ22: =F22+Z22+AT22+BN22+CH22+DB22+DV22+EP22 -> 0 | FK22: =G22+AA22+AU22+BO22+CI22+DC22+DW22+EQ22 -> 0 | FL22: =H22+AB22+AV22+BP22+CJ22+DD22+DX22+ER22 -> 0 | FM22: =I22+AC22+AW22+BQ22+CK22+DE22+DY22+ES22 -> 242 | FN22: =J22+AD22+AX22+BR22+CL22+DF22+DZ22+ET22 -> 78113940 | ... FZ22: =V22+AP22+BJ22+CD22+CX22+DR22+EL22+FF22 -> 10997940 | GA22: =FG22+FK22+FO22+FS22+FW22 -> 0 | GB22: =FH22+FL22+FP22+FT22+FX22 -> 0 | GC22: =FI22+FM22+FQ22+FU22+FY22 -> 268 | GD22: =FJ22+FN22+FR22+FV22+FZ22 -> 89111880 | GE22: =GA22+GC22 -> 268 | GF22: =GB22+GD22 -> 89111880
A23: 12 | B23: Лужский | C23: 0 | D23: =C23*D$9*3+C23*D$10*5+C23*D$11*4 -> 0 | E23: 0 | F23: =E23*F$9*3+E23*F$10*5+E23*F$11*4 -> 0 | G23: 0 | H23: =G23*H$9*3+G23*H$10*5+G23*H$11*4 -> 0 | I23: 161 | J23: =I23*J$9*3+I23*J$10*5+I23*J$11*4 -> 50800008 | K23: 0 | L23: =K23*L$9*3+K23*L$10*5+K23*L$11*4 -> 0 | M23: 0 | N23: =M23*N$9*3+M23*N$10*5+M23*N$11*4 -> 0 | O23: 0 | P23: =O23*P$9*3+O23*P$10*5+O23*P$11*4 -> 0 | Q23: 0 | R23: =Q23*R$9*3+Q23*R$10*5+Q23*R$11*4 -> 0 | S23: 0 | T23: =S23*T$9*3+S23*T$10*5+S23*T$11*4 -> 0 | U23: 0 | V23: =U23*V$9*3+U23*V$10*5+U23*V$11*4 -> 0 | W23: 0 | X23: =W23*X$9*3+W23*X$10*5+W23*X$11*4 -> 0 | Y23: 0 | Z23: =Y23*Z$9*3+Y23*Z$10*5+Y23*Z$11*4 -> 0 | AA23: 0 | AB23: =AA23*AB$9*3+AA23*AB$10*5+AA23*AB$11*4 -> 0 | AC23: 0 | AD23: =AC23*AD$9*3+AC23*AD$10*5+AC23*AD$11*4 -> 0 | AE23: 0 | AF23: =AE23*AF$9*3+AE23*AF$10*5+AE23*AF$11*4 -> 0 | AG23: 0 | AH23: =AG23*AH$9*3+AG23*AH$10*5+AG23*AH$11*4 -> 0 | AI23: 0 | AJ23: =AI23*AJ$9*3+AI23*AJ$10*5+AI23*AJ$11*4 -> 0 | AK23: 0 | AL23: =AK23*AL$9*3+AK23*AL$10*5+AK23*AL$11*4 -> 0 | AM23: 0 | AN23: =AM23*AN$9*3+AM23*AN$10*5+AM23*AN$11*4 -> 0 | AO23: 0 | AP23: =AO23*AP$9*3+AO23*AP$10*5+AO23*AP$11*4 -> 0 | AQ23: 0 | AR23: =AQ23*AR$9*3+AQ23*AR$10*5+AQ23*AR$11*4 -> 0 | AS23: 0 | AT23: =AS23*AT$9*3+AS23*AT$10*5+AS23*AT$11*4 -> 0 | AU23: 0 | AV23: =AU23*AV$9*3+AU23*AV$10*5+AU23*AV$11*4 -> 0 | AW23: 0 | AX23: =AW23*AX$9*3+AW23*AX$10*5+AW23*AX$11*4 -> 0 | AY23: 0 | AZ23: =AY23*AZ$9*3+AY23*AZ$10*5+AY23*AZ$11*4 -> 0 | BA23: 0 | BB23: =BA23*BB$9*3+BA23*BB$10*5+BA23*BB$11*4 -> 0 | BC23: 0 | BD23: =BC23*BD$9*3+BC23*BD$10*5+BC23*BD$11*4 -> 0 | BE23: 0 | BF23: =BE23*BF$9*3+BE23*BF$10*5+BE23*BF$11*4 -> 0 | BG23: 0 | BH23: =BG23*BH$9*3+BG23*BH$10*5+BG23*BH$11*4 -> 0 | BI23: 0 | BJ23: =BI23*BJ$9*3+BI23*BJ$10*5+BI23*BJ$11*4 -> 0 | BK23: 0 | BL23: =BK23*BL$9*3+BK23*BL$10*5+BK23*BL$11*4 -> 0 | BM23: 0 | BN23: =BM23*BN$9*3+BM23*BN$10*5+BM23*BN$11*4 -> 0 | BO23: 0 | BP23: =BO23*BP$9*3+BO23*BP$10*5+BO23*BP$11*4 -> 0 | BQ23: 36 | BR23: =BQ23*BR$9*3+BQ23*BR$10*5+BQ23*BR$11*4 -> 11505024 | BS23: 0 | BT23: =BS23*BT$9*3+BS23*BT$10*5+BS23*BT$11*4 -> 0 | BU23: 0 | BV23: =BU23*BV$9*3+BU23*BV$10*5+BU23*BV$11*4 -> 0 | BW23: 0 | BX23: =BW23*BX$9*3+BW23*BX$10*5+BW23*BX$11*4 -> 0 | BY23: 0 | BZ23: =BY23*BZ$9*3+BY23*BZ$10*5+BY23*BZ$11*4 -> 0 | CA23: 0 | CB23: =CA23*CB$9*3+CA23*CB$10*5+CA23*CB$11*4 -> 0 | CC23: 0 | CD23: =CC23*CD$9*3+CC23*CD$10*5+CC23*CD$11*4 -> 0 | CE23: 0 | CF23: =CE23*CF$9*3+CE23*CF$10*5+CE23*CF$11*4 -> 0 | CG23: 0 | CH23: =CG23*CH$9*3+CG23*CH$10*5+CG23*CH$11*4 -> 0 | CI23: 0 | CJ23: =CI23*CJ$9*3+CI23*CJ$10*5+CI23*CJ$11*4 -> 0 | CK23: 0 | CL23: =CK23*CL$9*3+CK23*CL$10*5+CK23*CL$11*4 -> 0 | CM23: 0 | CN23: =CM23*CN$9*3+CM23*CN$10*5+CM23*CN$11*4 -> 0 | CO23: 0 | CP23: =CO23*CP$9*3+CO23*CP$10*5+CO23*CP$11*4 -> 0 | CQ23: 0 | CR23: =CQ23*CR$9*3+CQ23*CR$10*5+CQ23*CR$11*4 -> 0 | CS23: 0 | CT23: =CS23*CT$9*3+CS23*CT$10*5+CS23*CT$11*4 -> 0 | CU23: 0 | CV23: =CU23*CV$9*3+CU23*CV$10*5+CU23*CV$11*4 -> 0 | CW23: 0 | CX23: =CW23*CX$9*3+CW23*CX$10*5+CW23*CX$11*4 -> 0 | CY23: 0 | CZ23: =CY23*CZ$9*3+CY23*CZ$10*5+CY23*CZ$11*4 -> 0 | DA23: 0 | DB23: =DA23*DB$9*3+DA23*DB$10*5+DA23*DB$11*4 -> 0 | DC23: 0 | DD23: =DC23*DD$9*3+DC23*DD$10*5+DC23*DD$11*4 -> 0 | DE23: 0 | DF23: =DE23*DF$9*3+DE23*DF$10*5+DE23*DF$11*4 -> 0 | DG23: 0 | DH23: =DG23*DH$9*3+DG23*DH$10*5+DG23*DH$11*4 -> 0 | DI23: 0 | DJ23: =DI23*DJ$9*3+DI23*DJ$10*5+DI23*DJ$11*4 -> 0 | DK23: 0 | DL23: =DK23*DL$9*3+DK23*DL$10*5+DK23*DL$11*4 -> 0 | DM23: 0 | DN23: =DM23*DN$9*3+DM23*DN$10*5+DM23*DN$11*4 -> 0 | DO23: 0 | DP23: =DO23*DP$9*3+DO23*DP$10*5+DO23*DP$11*4 -> 0 | DQ23: 0 | DR23: =DQ23*DR$9*3+DQ23*DR$10*5+DQ23*DR$11*4 -> 0 | DS23: 0 | DT23: =DS23*DT$9*3+DS23*DT$10*5+DS23*DT$11*4 -> 0 | DU23: 0 | DV23: =DU23*DV$9*3+DU23*DV$10*5+DU23*DV$11*4 -> 0 | DW23: 0 | DX23: =DW23*DX$9*3+DW23*DX$10*5+DW23*DX$11*4 -> 0 | DY23: 7 | DZ23: =DY23*DZ$9*3+DY23*DZ$10*5+DY23*DZ$11*4 -> 4587828 | EA23: 0 | EB23: =EA23*EB$9*3+EA23*EB$10*5+EA23*EB$11*4 -> 0 | EC23: 0 | ED23: =EC23*ED$9*3+EC23*ED$10*5+EC23*ED$11*4 -> 0 | EE23: 0 | EF23: =EE23*EF$9*3+EE23*EF$10*5+EE23*EF$11*4 -> 0 | EG23: 0 | EH23: =EG23*EH$9*3+EG23*EH$10*5+EG23*EH$11*4 -> 0 | EI23: 0 | EJ23: =EI23*EJ$9*3+EI23*EJ$10*5+EI23*EJ$11*4 -> 0 | EK23: 0 | EL23: =EK23*EL$9*3+EK23*EL$10*5+EK23*EL$11*4 -> 0 | EM23: 0 | EN23: =EM23*D$9*3+EM23*D$10*5+EM23*D$11*4 -> 0 | EO23: 0 | EP23: =EO23*F$9*3+EO23*F$10*5+EO23*F$11*4 -> 0 | EQ23: 0 | ER23: =EQ23*H$9*3+EQ23*H$10*5+EQ23*H$11*4 -> 0 | ES23: 0 | ET23: =ES23*J$9*3+ES23*J$10*5+ES23*J$11*4 -> 0 | EU23: 0 | EV23: =EU23*L$9*3+EU23*L$10*5+EU23*L$11*4 -> 0 | EW23: 0 | EX23: =EW23*N$9*3+EW23*N$10*5+EW23*N$11*4 -> 0 | EY23: 0 | EZ23: =EY23*P$9*3+EY23*P$10*5+EY23*P$11*4 -> 0 | FA23: 0 | FB23: =FA23*R$9*3+FA23*R$10*5+FA23*R$11*4 -> 0 | FC23: 0 | FD23: =FC23*T$9*3+FC23*T$10*5+FC23*T$11*4 -> 0 | FE23: 15 | FF23: =FE23*V$9*3+FE23*V$10*5+FE23*V$11*4 -> 6310620 | FG23: =C23+W23+AQ23+BK23+CE23+CY23+DS23+EM23 -> 0 | FH23: =D23+X23+AR23+BL23+CF23+CZ23+DT23+EN23 -> 0 | FI23: =E23+Y23+AS23+BM23+CG23+DA23+DU23+EO23 -> 0 | FJ23: =F23+Z23+AT23+BN23+CH23+DB23+DV23+EP23 -> 0 | FK23: =G23+AA23+AU23+BO23+CI23+DC23+DW23+EQ23 -> 0 | FL23: =H23+AB23+AV23+BP23+CJ23+DD23+DX23+ER23 -> 0 | FM23: =I23+AC23+AW23+BQ23+CK23+DE23+DY23+ES23 -> 204 | FN23: =J23+AD23+AX23+BR23+CL23+DF23+DZ23+ET23 -> 66892860 | ... FZ23: =V23+AP23+BJ23+CD23+CX23+DR23+EL23+FF23 -> 6310620 | GA23: =FG23+FK23+FO23+FS23+FW23 -> 0 | GB23: =FH23+FL23+FP23+FT23+FX23 -> 0 | GC23: =FI23+FM23+FQ23+FU23+FY23 -> 219 | GD23: =FJ23+FN23+FR23+FV23+FZ23 -> 73203480 | GE23: =GA23+GC23 -> 219 | GF23: =GB23+GD23 -> 73203480
... A29: 18 | B29: Сосновоборский | C29: 0 | D29: =C29*D$9*3+C29*D$10*5+C29*D$11*4 -> 0 | E29: 0 | F29: =E29*F$9*3+E29*F$10*5+E29*F$11*4 -> 0 | G29: 0 | H29: =G29*H$9*3+G29*H$10*5+G29*H$11*4 -> 0 | I29: 48 | J29: =I29*J$9*3+I29*J$10*5+I29*J$11*4 -> 15145344 | K29: 0 | L29: =K29*L$9*3+K29*L$10*5+K29*L$11*4 -> 0 | M29: 254 | N29: =M29*N$9*3+M29*N$10*5+M29*N$11*4 -> 91592400 | O29: 0 | P29: =O29*P$9*3+O29*P$10*5+O29*P$11*4 -> 0 | Q29: 0 | R29: =Q29*R$9*3+Q29*R$10*5+Q29*R$11*4 -> 0 | S29: 0 | T29: =S29*T$9*3+S29*T$10*5+S29*T$11*4 -> 0 | U29: 0 | V29: =U29*V$9*3+U29*V$10*5+U29*V$11*4 -> 0 | W29: 0 | X29: =W29*X$9*3+W29*X$10*5+W29*X$11*4 -> 0 | Y29: 0 | Z29: =Y29*Z$9*3+Y29*Z$10*5+Y29*Z$11*4 -> 0 | AA29: 0 | AB29: =AA29*AB$9*3+AA29*AB$10*5+AA29*AB$11*4 -> 0 | AC29: 0 | AD29: =AC29*AD$9*3+AC29*AD$10*5+AC29*AD$11*4 -> 0 | AE29: 0 | AF29: =AE29*AF$9*3+AE29*AF$10*5+AE29*AF$11*4 -> 0 | AG29: 0 | AH29: =AG29*AH$9*3+AG29*AH$10*5+AG29*AH$11*4 -> 0 | AI29: 0 | AJ29: =AI29*AJ$9*3+AI29*AJ$10*5+AI29*AJ$11*4 -> 0 | AK29: 0 | AL29: =AK29*AL$9*3+AK29*AL$10*5+AK29*AL$11*4 -> 0 | AM29: 0 | AN29: =AM29*AN$9*3+AM29*AN$10*5+AM29*AN$11*4 -> 0 | AO29: 0 | AP29: =AO29*AP$9*3+AO29*AP$10*5+AO29*AP$11*4 -> 0 | AQ29: 0 | AR29: =AQ29*AR$9*3+AQ29*AR$10*5+AQ29*AR$11*4 -> 0 | AS29: 0 | AT29: =AS29*AT$9*3+AS29*AT$10*5+AS29*AT$11*4 -> 0 | AU29: 0 | AV29: =AU29*AV$9*3+AU29*AV$10*5+AU29*AV$11*4 -> 0 | AW29: 0 | AX29: =AW29*AX$9*3+AW29*AX$10*5+AW29*AX$11*4 -> 0 | AY29: 0 | AZ29: =AY29*AZ$9*3+AY29*AZ$10*5+AY29*AZ$11*4 -> 0 | BA29: 57 | BB29: =BA29*BB$9*3+BA29*BB$10*5+BA29*BB$11*4 -> 20818908 | BC29: 0 | BD29: =BC29*BD$9*3+BC29*BD$10*5+BC29*BD$11*4 -> 0 | BE29: 0 | BF29: =BE29*BF$9*3+BE29*BF$10*5+BE29*BF$11*4 -> 0 | BG29: 0 | BH29: =BG29*BH$9*3+BG29*BH$10*5+BG29*BH$11*4 -> 0 | BI29: 0 | BJ29: =BI29*BJ$9*3+BI29*BJ$10*5+BI29*BJ$11*4 -> 0 | BK29: 0 | BL29: =BK29*BL$9*3+BK29*BL$10*5+BK29*BL$11*4 -> 0 | BM29: 0 | BN29: =BM29*BN$9*3+BM29*BN$10*5+BM29*BN$11*4 -> 0 | BO29: 0 | BP29: =BO29*BP$9*3+BO29*BP$10*5+BO29*BP$11*4 -> 0 | BQ29: 24 | BR29: =BQ29*BR$9*3+BQ29*BR$10*5+BQ29*BR$11*4 -> 7670016 | BS29: 0 | BT29: =BS29*BT$9*3+BS29*BT$10*5+BS29*BT$11*4 -> 0 | BU29: 24 | BV29: =BU29*BV$9*3+BU29*BV$10*5+BU29*BV$11*4 -> 8765856 | BW29: 0 | BX29: =BW29*BX$9*3+BW29*BX$10*5+BW29*BX$11*4 -> 0 | BY29: 0 | BZ29: =BY29*BZ$9*3+BY29*BZ$10*5+BY29*BZ$11*4 -> 0 | CA29: 0 | CB29: =CA29*CB$9*3+CA29*CB$10*5+CA29*CB$11*4 -> 0 | CC29: 0 | CD29: =CC29*CD$9*3+CC29*CD$10*5+CC29*CD$11*4 -> 0 | CE29: 0 | CF29: =CE29*CF$9*3+CE29*CF$10*5+CE29*CF$11*4 -> 0 | CG29: 0 | CH29: =CG29*CH$9*3+CG29*CH$10*5+CG29*CH$11*4 -> 0 | CI29: 0 | CJ29: =CI29*CJ$9*3+CI29*CJ$10*5+CI29*CJ$11*4 -> 0 | CK29: 0 | CL29: =CK29*CL$9*3+CK29*CL$10*5+CK29*CL$11*4 -> 0 | CM29: 0 | CN29: =CM29*CN$9*3+CM29*CN$10*5+CM29*CN$11*4 -> 0 | CO29: 0 | CP29: =CO29*CP$9*3+CO29*CP$10*5+CO29*CP$11*4 -> 0 | CQ29: 0 | CR29: =CQ29*CR$9*3+CQ29*CR$10*5+CQ29*CR$11*4 -> 0 | CS29: 0 | CT29: =CS29*CT$9*3+CS29*CT$10*5+CS29*CT$11*4 -> 0 | CU29: 0 | CV29: =CU29*CV$9*3+CU29*CV$10*5+CU29*CV$11*4 -> 0 | CW29: 0 | CX29: =CW29*CX$9*3+CW29*CX$10*5+CW29*CX$11*4 -> 0 | CY29: 0 | CZ29: =CY29*CZ$9*3+CY29*CZ$10*5+CY29*CZ$11*4 -> 0 | DA29: 0 | DB29: =DA29*DB$9*3+DA29*DB$10*5+DA29*DB$11*4 -> 0 | DC29: 0 | DD29: =DC29*DD$9*3+DC29*DD$10*5+DC29*DD$11*4 -> 0 | DE29: 0 | DF29: =DE29*DF$9*3+DE29*DF$10*5+DE29*DF$11*4 -> 0 | DG29: 0 | DH29: =DG29*DH$9*3+DG29*DH$10*5+DG29*DH$11*4 -> 0 | DI29: 0 | DJ29: =DI29*DJ$9*3+DI29*DJ$10*5+DI29*DJ$11*4 -> 0 | DK29: 0 | DL29: =DK29*DL$9*3+DK29*DL$10*5+DK29*DL$11*4 -> 0 | DM29: 0 | DN29: =DM29*DN$9*3+DM29*DN$10*5+DM29*DN$11*4 -> 0 | DO29: 0 | DP29: =DO29*DP$9*3+DO29*DP$10*5+DO29*DP$11*4 -> 0 | DQ29: 0 | DR29: =DQ29*DR$9*3+DQ29*DR$10*5+DQ29*DR$11*4 -> 0 | DS29: 0 | DT29: =DS29*DT$9*3+DS29*DT$10*5+DS29*DT$11*4 -> 0 | DU29: 0 | DV29: =DU29*DV$9*3+DU29*DV$10*5+DU29*DV$11*4 -> 0 | DW29: 0 | DX29: =DW29*DX$9*3+DW29*DX$10*5+DW29*DX$11*4 -> 0 | DY29: 6 | DZ29: =DY29*DZ$9*3+DY29*DZ$10*5+DY29*DZ$11*4 -> 3932424 | EA29: 0 | EB29: =EA29*EB$9*3+EA29*EB$10*5+EA29*EB$11*4 -> 0 | EC29: 0 | ED29: =EC29*ED$9*3+EC29*ED$10*5+EC29*ED$11*4 -> 0 | EE29: 0 | EF29: =EE29*EF$9*3+EE29*EF$10*5+EE29*EF$11*4 -> 0 | EG29: 0 | EH29: =EG29*EH$9*3+EG29*EH$10*5+EG29*EH$11*4 -> 0 | EI29: 0 | EJ29: =EI29*EJ$9*3+EI29*EJ$10*5+EI29*EJ$11*4 -> 0 | EK29: 0 | EL29: =EK29*EL$9*3+EK29*EL$10*5+EK29*EL$11*4 -> 0 | EM29: 0 | EN29: =EM29*D$9*3+EM29*D$10*5+EM29*D$11*4 -> 0 | EO29: 0 | EP29: =EO29*F$9*3+EO29*F$10*5+EO29*F$11*4 -> 0 | EQ29: 0 | ER29: =EQ29*H$9*3+EQ29*H$10*5+EQ29*H$11*4 -> 0 | ES29: 0 | ET29: =ES29*J$9*3+ES29*J$10*5+ES29*J$11*4 -> 0 | EU29: 0 | EV29: =EU29*L$9*3+EU29*L$10*5+EU29*L$11*4 -> 0 | EW29: 0 | EX29: =EW29*N$9*3+EW29*N$10*5+EW29*N$11*4 -> 0 | EY29: 0 | EZ29: =EY29*P$9*3+EY29*P$10*5+EY29*P$11*4 -> 0 | FA29: 0 | FB29: =FA29*R$9*3+FA29*R$10*5+FA29*R$11*4 -> 0 | FC29: 0 | FD29: =FC29*T$9*3+FC29*T$10*5+FC29*T$11*4 -> 0 | FE29: 0 | FF29: =FE29*V$9*3+FE29*V$10*5+FE29*V$11*4 -> 0 | FG29: =C29+W29+AQ29+BK29+CE29+CY29+DS29+EM29 -> 0 | FH29: =D29+X29+AR29+BL29+CF29+CZ29+DT29+EN29 -> 0 | FI29: =E29+Y29+AS29+BM29+CG29+DA29+DU29+EO29 -> 0 | FJ29: =F29+Z29+AT29+BN29+CH29+DB29+DV29+EP29 -> 0 | FK29: =G29+AA29+AU29+BO29+CI29+DC29+DW29+EQ29 -> 0 | FL29: =H29+AB29+AV29+BP29+CJ29+DD29+DX29+ER29 -> 0 | FM29: =I29+AC29+AW29+BQ29+CK29+DE29+DY29+ES29 -> 78 | FN29: =J29+AD29+AX29+BR29+CL29+DF29+DZ29+ET29 -> 26747784 | ... FZ29: =V29+AP29+BJ29+CD29+CX29+DR29+EL29+FF29 -> 0 | GA29: =FG29+FK29+FO29+FS29+FW29 -> 0 | GB29: =FH29+FL29+FP29+FT29+FX29 -> 0 | GC29: =FI29+FM29+FQ29+FU29+FY29 -> 413 | GD29: =FJ29+FN29+FR29+FV29+FZ29 -> 147924948 | GE29: =GA29+GC29 -> 413 | GF29: =GB29+GD29 -> 147924948
A30: 2019 | B30: Итого | C30: =SUM(C12:C29) -> 0 | D30: =SUM(D12:D29) -> 0 | E30: =SUM(E12:E29) -> 0 | F30: =SUM(F12:F29) -> 0 | G30: =SUM(G12:G29) -> 0 | H30: =SUM(H12:H29) -> 0 | I30: =SUM(I12:I29) -> 5176 | J30: =SUM(J12:J29) -> 1633172928 | ... GF30: =SUM(GF12:GF29) -> 3921557592

Sheet Расчет_гр.комбинир.напрв.
G1: Расчет объема субвенции на финансовое обеспечение реализации дошкольных программ на 2019 год (группы комбинированной направленности)
A3: №№ | B3: Реализуемая программа | C3: группы комбинированной направленности для детей с тяжелыми нарушениями речи | W3: группы комбинированной направленности для глухих детей | AQ3: группы комбинированной направленности для слабослышащих | BK3: группы комбинированной направленности для слепых детей | CE3: группы комбинированной направленности для детей с амблиопией, косоглазием | CY3: группы комбинированной направленности для детей с нарушениями опорно-двигательного аппарата | DS3: группы комбинированной направленности для детей с задержкой психического развития | EM3: группы комбинированной направленности для детей с умственной отсталостью легкой степени | FG3: группы комбинированной направленности для детей с умственной отсталостью умеренной, тяжелой | GA3: группы комбинированной направленности для детей со сложным дефектом (имеющих сочетание 2 или более недостатков в физическом и (или) психическом развитии) | GU3: группы комбинированной направленности для детей с иными возможностями здоровья | HO3: ВСЕГО | II3: ВСЕГО планируемый среднегодовой контингент на 2019 год
C4: кратковременного пребывания | G4: сокращенного дня | K4: полного дня | O4: продленного дня | S4: круглосуточным пребыванием | W4: кратковременного пребывания | AA4: сокращенного дня | AE4: полного дня | AI4: продленного дня | AM4: круглосуточным пребыванием | AQ4: кратковременного пребывания | AU4: сокращенного дня | AY4: полного дня | BC4: продленного дня | BG4: круглосуточным пребыванием | BK4: кратковременного пребывания | BO4: сокращенного дня | BS4: полного дня | BW4: продленного дня | CA4: круглосуточным пребыванием | CE4: кратковременного пребывания | CI4: сокращенного дня | CM4: полного дня | CQ4: продленного дня | CU4: круглосуточным пребыванием | CY4: кратковременного пребывания | DC4: сокращенного дня | DG4: полного дня | DK4: продленного дня | DO4: круглосуточным пребыванием | DS4: кратковременного пребывания | DW4: сокращенного дня | EA4: полного дня | EE4: продленного дня | EI4: круглосуточным пребыванием | EM4: кратковременного пребывания | EQ4: сокращенного дня | EU4: полного дня | EY4: продленного дня | FC4: круглосуточным пребыванием | FG4: кратковременного пребывания | FK4: сокращенного дня | FO4: полного дня | FS4: продленного дня | FW4: круглосуточным пребыванием | GA4: кратковременного пребывания | GE4: сокращенного дня | GI4: полного дня | GM4: продленного дня | GQ4: круглосуточным пребыванием | GU4: кратковременного пребывания | GY4: сокращенного дня | HC4: полного дня | HG4: продленного дня | HK4: круглосуточным пребыванием | HO4: кратковременного пребывания | HS4: сокращенного дня | HW4: полного дня | IA4: продленного дня | IE4: круглосуточным пребыванием
C5: до 5 часов | G5: 8 - 10,5 часов | K5: 12 часов | O5: 13 - 14 часов | S5: 24 часа | W5: до 5 часов | AA5: 8 - 10,5 часов | AE5: 12 часов | AI5: 13 - 14 часов | AM5: 24 часа | AQ5: до 5 часов | AU5: 8 - 10,5 часов | AY5: 12 часов | BC5: 13 - 14 часов | BG5: 24 часа | BK5: до 5 часов | BO5: 8 - 10,5 часов | BS5: 12 часов | BW5: 13 - 14 часов | CA5: 24 часа | CE5: до 5 часов | CI5: 8 - 10,5 часов | CM5: 12 часов | CQ5: 13 - 14 часов | CU5: 24 часа | CY5: до 5 часов | DC5: 8 - 10,5 часов | DG5: 12 часов | DK5: 13 - 14 часов | DO5: 24 часа | DS5: до 5 часов | DW5: 8 - 10,5 часов | EA5: 12 часов | EE5: 13 - 14 часов | EI5: 24 часа | EM5: до 5 часов | EQ5: 8 - 10,5 часов | EU5: 12 часов | EY5: 13 - 14 часов | FC5: 24 часа | FG5: до 5 часов | FK5: 8 - 10,5 часов | FO5: 12 часов | FS5: 13 - 14 часов | FW5: 24 часа | GA5: до 5 часов | GE5: 8 - 10,5 часов | GI5: 12 часов | GM5: 13 - 14 часов | GQ5: 24 часа | GU5: до 5 часов | GY5: 8 - 10,5 часов | HC5: 12 часов | HG5: 13 - 14 часов | HK5: 24 часа | HO5: до 5 часов | HS5: 8 - 10,5 часов | HW5: 12 часов | IA5: 13 - 14 часов | IE5: 24 часа
C6: до 3 лет | E6: старше 3 лет | G6: до 3 лет | I6: старше 3 лет | K6: до 3 лет | M6: старше 3 лет | O6: до 3 лет | Q6: старше 3 лет | S6: до 3 лет | U6: старше 3 лет | W6: до 3 лет | Y6: старше 3 лет | AA6: до 3 лет | AC6: старше 3 лет | AE6: до 3 лет | AG6: старше 3 лет | AI6: до 3 лет | AK6: старше 3 лет | AM6: до 3 лет | AO6: старше 3 лет | AQ6: до 3 лет | AS6: старше 3 лет | AU6: до 3 лет | AW6: старше 3 лет | AY6: до 3 лет | BA6: старше 3 лет | BC6: до 3 лет | BE6: старше 3 лет | BG6: до 3 лет | BI6: старше 3 лет | BK6: до 3 лет | BM6: старше 3 лет | BO6: до 3 лет | BQ6: старше 3 лет | BS6: до 3 лет | BU6: старше 3 лет | BW6: до 3 лет | BY6: старше 3 лет | CA6: до 3 лет | CC6: старше 3 лет | CE6: до 3 лет | CG6: старше 3 лет | CI6: до 3 лет | CK6: старше 3 лет | CM6: до 3 лет | CO6: старше 3 лет | CQ6: до 3 лет | CS6: старше 3 лет | CU6: до 3 лет | CW6: старше 3 лет | CY6: до 3 лет | DA6: старше 3 лет | DC6: до 3 лет | DE6: старше 3 лет | DG6: до 3 лет | DI6: старше 3 лет | DK6: до 3 лет | DM6: старше 3 лет | DO6: до 3 лет | DQ6: старше 3 лет | DS6: до 3 лет | DU6: старше 3 лет | DW6: до 3 лет | DY6: старше 3 лет | EA6: до 3 лет | EC6: старше 3 лет | EE6: до 3 лет | EG6: старше 3 лет | EI6: до 3 лет | EK6: старше 3 лет | EM6: до 3 лет | EO6: старше 3 лет | EQ6: до 3 лет | ES6: старше 3 лет | EU6: до 3 лет | EW6: старше 3 лет | EY6: до 3 лет | FA6: старше 3 лет | FC6: до 3 лет | FE6: старше 3 лет | FG6: до 3 лет | FI6: старше 3 лет | FK6: до 3 лет | FM6: старше 3 лет | FO6: до 3 лет | FQ6: старше 3 лет | FS6: до 3 лет | FU6: старше 3 лет | FW6: до 3 лет | FY6: старше 3 лет | GA6: до 3 лет | GC6: старше 3 лет | GE6: до 3 лет | GG6: старше 3 лет | GI6: до 3 лет | GK6: старше 3 лет | GM6: до 3 лет | GO6: старше 3 лет | GQ6: до 3 лет | GS6: старше 3 лет | GU6: до 3 лет | GW6: старше 3 лет | GY6: до 3 лет | HA6: старше 3 лет | HC6: до 3 лет | HE6: старше 3 лет | HG6: до 3 лет | HI6: старше 3 лет | HK6: до 3 лет | HM6: старше 3 лет | HO6: до 3 лет | HQ6: старше 3 лет | HS6: до 3 лет | HU6: старше 3 лет | HW6: до 3 лет | HY6: старше 3 лет | IA6: до 3 лет | IC6: старше 3 лет | IE6: до 3 лет | IG6: старше 3 лет | II6: до 3 лет | IK6: старше 3 лет | IM6: Всего
C7: 19 | E7: 23 | G7: 19 | I7: 23 | K7: 19 | M7: 23 | O7: 19 | Q7: 23 | S7: 19 | U7: 23 | W7: 19 | Y7: 23 | AA7: 19 | AC7: 23 | AE7: 19 | AG7: 23 | AI7: 19 | AK7: 23 | AM7: 19 | AO7: 23 | AQ7: 19 | AS7: 23 | AU7: 19 | AW7: 23 | AY7: 19 | BA7: 23 | BC7: 19 | BE7: 23 | BG7: 19 | BI7: 23 | BK7: 19 | BM7: 23 | BO7: 19 | BQ7: 23 | BS7: 19 | BU7: 23 | BW7: 19 | BY7: 23 | CA7: 19 | CC7: 23 | CE7: 19 | CG7: 23 | CI7: 19 | CK7: 23 | CM7: 19 | CO7: 23 | CQ7: 19 | CS7: 23 | CU7: 19 | CW7: 23 | CY7: 19 | DA7: 23 | DC7: 19 | DE7: 23 | DG7: 19 | DI7: 23 | DK7: 19 | DM7: 23 | DO7: 19 | DQ7: 23 | DS7: 19 | DU7: 23 | DW7: 19 | DY7: 23 | EA7: 19 | EC7: 23 | EE7: 19 | EG7: 23 | EI7: 19 | EK7: 23 | EM7: 19 | EO7: 23 | EQ7: 19 | ES7: 23 | EU7: 19 | EW7: 23 | EY7: 19 | FA7: 23 | FC7: 19 | FE7: 23 | FG7: 19 | FI7: 23 | FK7: 19 | FM7: 23 | FO7: 19 | FQ7: 23 | FS7: 19 | FU7: 23 | FW7: 19 | FY7: 23 | GA7: 19 | GC7: 23 | GE7: 19 | GG7: 23 | GI7: 19 | GK7: 23 | GM7: 19 | GO7: 23 | GQ7: 19 | GS7: 23 | GU7: 19 | GW7: 23 | GY7: 19 | HA7: 23 | HC7: 19 | HE7: 23 | HG7: 19 | HI7: 23 | HK7: 19 | HM7: 23 | HO7: 19 | HQ7: 23 | HS7: 19 | HU7: 23 | HW7: 19 | HY7: 23 | IA7: 19 | IC7: 23 | IE7: 19 | IG7: 23
