Workbook
Name Excel_BuiltIn__FilterDatabase: 'Классное руководство'!$A$4:$D$26

Sheet Исходные для нормативов
A1: Показатели | C1: Общее образование в общеобразовательных учреждениях
C2: Начальное общее образование | D2: Основное общее образование | E2: Среднее (полное) общее образование
A3: Предельно допустимая учебная нагрузка при 6-дневной учебной неделе | C3: 3345 | D3: 6020 | E3: 2590
A4: количество лет обучения | C4: 4 | D4: 5 | E4: 2
A5: Продолжительность учебного года, в неделях | C5: 34 | D5: 34 | E5: 35
A6: Количество часов по учебному плану в неделю | C6: =C3/C4/C5 -> 24.595588 | D6: =ROUND(D3/D4/D5,0) -> 35 | E6: =E3/E4/E5 -> 37
A7: Количество часов по учебному плану в неделю для учащихся с ОВЗ при комплектовании по первому варианту | C7: =C6 -> 24.595588 | D7: =D6 -> 35 | E7: =E6 -> 37
A8: Количество часов по учебному плану в неделю для учащихся с ОВЗ при комплектовании по второму, третьему и четвертому вариантам | C8: =(21+23*3)/4 -> 22.5 | D8: =(29+30+32+33*2)/5 -> 31.4 | E8: 34
A9: Бsn - количество часов по базисному учебному плану в неделю:
A10: на реализацию общеобразовательных программ в дневных общеобразовательных учреждениях | C10: =ROUND(C6,0) -> 25 | D10: =ROUND(D6,0) -> 35 | E10: =ROUND(E6,0) -> 37
A11: на реализацию общеобразовательных программ при вечерней (заочной формой обучения) | C11: 25 | D11: 26 | E11: 26
A12: для индивидуального обучения длительно болеющих учащихся | C12: 8 | D12: 10 | E12: 11
A13: для семейного обучения | C13: 9 | D13: 17 | E13: 19
A14: Количество часов внеурочной деятельности в рамках реализации ФГОС | C14: 10 | D14: 10 | E14: 10
A15: Мsn – расчетная наполняемость:
A16: общеобразовательных классов общеобразовательных учреждений, расположенных в городской местности | C16: 25 | D16: 25 | E16: 25
A17: общеобразовательных классов общеобразовательных учреждений, расположенных в поселках городского типа с контингентом обучающихся более 300 человек | C17: 25 | D17: 25 | E17: 25
A18: общеобразовательных классов общеобразовательных учреждений, расположенных в поселках городского типа с контингентом обучающихся от 201 до 300 человек | C18: 23 | D18: 23 | E18: 23
A19: общеобразовательных классов общеобразовательных учреждений, расположенных в поселках городского типа с контингентом обучающихся от 101 до 200 человек | C19: 15 | D19: 15 | E19: 15
A20: общеобразовательных классов общеобразовательных учреждений, расположенных в поселках городского типа с контингентом обучающихся менее 100 человек | C20: 10 | D20: 10 | E20: 10
A21: общеобразовательных классов общеобразовательных учреждений с контингентом обучающихся более 250 человек, расположенных в сельской местности | C21: 20 | D21: 20 | E21: 20
A22: общеобразовательных классов общеобразовательных учреждений с контингентом обучающихся от 201 до 250 человек, расположенных в сельской местности | C22: 18 | D22: 18 | E22: 18
A23: общеобразовательных классов общеобразовательных учреждений с контингентом обучающихся от 101 до 200 человек, расположенных в сельской местности | C23: 15 | D23: 15 | E23: 15
A24: общеобразовательных классов общеобразовательных учреждений с контингентом обучающихся от 61 до 100 человек, расположенных в сельской местности; | C24: 11 | D24: 11 | E24: 11
A25: общеобразовательных классов общеобразовательных учреждений с контингентом обучающихся менее 61 человека, расположенных в сельской местности | C25: 7 | D25: 7 | E25: 7
A26: общеобразовательных школ-интернатов, расположенных в городской местности | C26: 20 | D26: 20 | E26: 20
A27: общеобразовательных школ-интернатов, расположенных в сельской местности | C27: 14 | D27: 14 | E27: 14
A28: 1 вариант программы образования учащихся с ОВЗ | B28: глухие обучающиеся | C28: 20 | D28: =C28 -> 20 | E28: =D28 -> 20
B29: слабослышащие и познооглохшие обучающиеся | C29: 25 | D29: =C29 -> 25 | E29: =D29 -> 25
B30: слепые обучающиеся | C30: 20 | D30: =C30 -> 20 | E30: =D30 -> 20
B31: слабовидящие обучающиеся | C31: 25 | D31: =C31 -> 25 | E31: =D31 -> 25
B32: обучающиеся с тяжелыми нарушениями речи (ТНР) | C32: 25 | D32: =C32 -> 25 | E32: =D32 -> 25
B33: обучающиеся с нарушением опорно-двигательного аппарата | C33: 20 | D33: =C33 -> 20 | E33: =D33 -> 20
B34: обучающиеся с задержкой психического развития (ЗПР) | C34: 25 | D34: =C34 -> 25 | E34: =D34 -> 25
B35: обучающиеся с расстройствами аутического спектора (РАС) | C35: 20 | D35: =C35 -> 20 | E35: =D35 -> 20
B36: обучающиеся с умственной отсталостью (интеллектуальными нарушениями) | C36: 0 | D36: =C36 -> 0 | E36: =D36 -> 0
A37: 2 вариант программы образования учащихся с ОВЗ | B37: глухие обучающиеся | C37: 6 | D37: =C37 -> 6 | E37: =D37 -> 6
B38: слабослышащие и познооглохшие обучающиеся | C38: 7 | D38: =C38 -> 7 | E38: =D38 -> 7
B39: слепые обучающиеся | C39: 9 | D39: =C39 -> 9 | E39: =D39 -> 9
B40: слабовидящие обучающиеся | C40: 12 | D40: =C40 -> 12 | E40: =D40 -> 12
...

Sheet Нормативы 
A1: Расчет нормативов финансирования
A2: с 01.01.2019 | D2: Классы | H2: Классы, реализующие ФГОС
A3: 9555 | D3: 1-4 классы | E3: 5-9 классы | F3: 10-11 кл д | G3: 10-11 кл ля реализации профиля | H3: 1-4 классы | I3: 5-9 классы | J3: 10-11 кл | K3: 10-11 кл ля реализации профиля
A4: Ставки педагогического работника с учетом повышения базового оклада с 01.01.2018 до 9555 | D4: =(1.7*0.2+2*0.8)*$A$3 -> 18536.7 | E4: =2*$A$3 -> 19110 | F4: =2*$A$3 -> 19110 | G4: =F4 -> 19110 | H4: =D4 -> 18536.7 | I4: =E4 -> 19110 | J4: =F4 -> 19110 | K4: =J4 -> 19110
A5: количество часов по БУП | B5: общеобразовательные классы | D5: ='Исходные для нормативов'!$C$10 -> 25 | E5: ='Исходные для нормативов'!$D$10 -> 35 | F5: ='Исходные для нормативов'!$E$10 -> 37 | G5: =F5 -> 37 | H5: ='Исходные для нормативов'!$C$10 -> 25 | I5: ='Исходные для нормативов'!$D$10 -> 35 | J5: ='Исходные для нормативов'!$E$10 -> 37 | K5: =J5 -> 37
B6: с углубленным изучением отдельных учебных предметов | D6: ='Исходные для нормативов'!$C$10 -> 25 | E6: ='Исходные для нормативов'!$D$10 -> 35 | F6: ='Исходные для нормативов'!$E$10 -> 37 | G6: =F6 -> 37 | H6: ='Исходные для нормативов'!$C$10 -> 25 | I6: ='Исходные для нормативов'!$D$10 -> 35 | J6: ='Исходные для нормативов'!$E$10 -> 37 | K6: =J6 -> 37
B7: общеобразовательные классы - ПГТ с континг более 300 | D7: ='Исходные для нормативов'!$C$10 -> 25 | E7: ='Исходные для нормативов'!$D$10 -> 35 | F7: ='Исходные для нормативов'!$E$10 -> 37 | G7: =F7 -> 37 | H7: ='Исходные для нормативов'!$C$10 -> 25 | I7: ='Исходные для нормативов'!$D$10 -> 35 | J7: ='Исходные для нормативов'!$E$10 -> 37 | K7: =J7 -> 37
B8: общеобразовательные классы - ПГТ с континг более 201-300 | D8: ='Исходные для нормативов'!$C$10 -> 25 | E8: ='Исходные для нормативов'!$D$10 -> 35 | F8: ='Исходные для нормативов'!$E$10 -> 37 | G8: =F8 -> 37 | H8: ='Исходные для нормативов'!$C$10 -> 25 | I8: ='Исходные для нормативов'!$D$10 -> 35 | J8: ='Исходные для нормативов'!$E$10 -> 37 | K8: =J8 -> 37
B9: общеобразовательные классы - ПГТ с континг более 101-200 | D9: ='Исходные для нормативов'!$C$10 -> 25 | E9: ='Исходные для нормативов'!$D$10 -> 35 | F9: ='Исходные для нормативов'!$E$10 -> 37 | G9: =F9 -> 37 | H9: ='Исходные для нормативов'!$C$10 -> 25 | I9: ='Исходные для нормативов'!$D$10 -> 35 | J9: ='Исходные для нормативов'!$E$10 -> 37 | K9: =J9 -> 37
B10: общеобразовательные классы - ПГТ с континг менее 100 | D10: ='Исходные для нормативов'!$C$10 -> 25 | E10: ='Исходные для нормативов'!$D$10 -> 35 | F10: ='Исходные для нормативов'!$E$10 -> 37 | G10: =F10 -> 37 | H10: ='Исходные для нормативов'!$C$10 -> 25 | I10: ='Исходные для нормативов'!$D$10 -> 35 | J10: ='Исходные для нормативов'!$E$10 -> 37 | K10: =J10 -> 37
B11: общеобразовательные классы - СЕЛО с континг более 250 | D11: ='Исходные для нормативов'!$C$10 -> 25 | E11: ='Исходные для нормативов'!$D$10 -> 35 | F11: ='Исходные для нормативов'!$E$10 -> 37 | G11: =F11 -> 37 | H11: ='Исходные для нормативов'!$C$10 -> 25 | I11: ='Исходные для нормативов'!$D$10 -> 35 | J11: ='Исходные для нормативов'!$E$10 -> 37 | K11: =J11 -> 37
B12: общеобразовательные классы - СЕЛО с континг 201 - 250 | D12: ='Исходные для нормативов'!$C$10 -> 25 | E12: ='Исходные для нормативов'!$D$10 -> 35 | F12: ='Исходные для нормативов'!$E$10 -> 37 | G12: =F12 -> 37 | H12: ='Исходные для нормативов'!$C$10 -> 25 | I12: ='Исходные для нормативов'!$D$10 -> 35 | J12: ='Исходные для нормативов'!$E$10 -> 37 | K12: =J12 -> 37
B13: общеобразовательные классы - СЕЛО с континг 101 - 200 | D13: ='Исходные для нормативов'!$C$10 -> 25 | E13: ='Исходные для нормативов'!$D$10 -> 35 | F13: ='Исходные для нормативов'!$E$10 -> 37 | G13: =F13 -> 37 | H13: ='Исходные для нормативов'!$C$10 -> 25 | I13: ='Исходные для нормативов'!$D$10 -> 35 | J13: ='Исходные для нормативов'!$E$10 -> 37 | K13: =J13 -> 37
B14: общеобразовательные классы - СЕЛО с континг 61 - 100 | D14: ='Исходные для нормативов'!$C$10 -> 25 | E14: ='Исходные для нормативов'!$D$10 -> 35 | F14: ='Исходные для нормативов'!$E$10 -> 37 | G14: =F14 -> 37 | H14: ='Исходные для нормативов'!$C$10 -> 25 | I14: ='Исходные для нормативов'!$D$10 -> 35 | J14: ='Исходные для нормативов'!$E$10 -> 37 | K14: =J14 -> 37
B15: общеобразовательные классы - СЕЛО с континг менее 60 | D15: ='Исходные для нормативов'!$C$10 -> 25 | E15: ='Исходные для нормативов'!$D$10 -> 35 | F15: ='Исходные для нормативов'!$E$10 -> 37 | G15: =F15 -> 37 | H15: ='Исходные для нормативов'!$C$10 -> 25 | I15: ='Исходные для нормативов'!$D$10 -> 35 | J15: ='Исходные для нормативов'!$E$10 -> 37 | K15: =J15 -> 37
B16: вечернее обучение -город | D16: ='Исходные для нормативов'!C11 -> 25 | E16: ='Исходные для нормативов'!D11 -> 26 | F16: ='Исходные для нормативов'!E11 -> 26 | H16: ='Исходные для нормативов'!C11 -> 25 | I16: ='Исходные для нормативов'!D11 -> 26 | J16: ='Исходные для нормативов'!E11 -> 26
B17: вечернее обучение -СЕЛО | D17: ='Исходные для нормативов'!C11 -> 25 | E17: ='Исходные для нормативов'!D11 -> 26 | F17: ='Исходные для нормативов'!E11 -> 26 | H17: ='Исходные для нормативов'!C11 -> 25 | I17: ='Исходные для нормативов'!D11 -> 26 | J17: ='Исходные для нормативов'!E11 -> 26
B18: индивидуальное обучение для длительно болеющих детей | D18: ='Исходные для нормативов'!C12 -> 8 | E18: ='Исходные для нормативов'!D12 -> 10 | F18: ='Исходные для нормативов'!E12 -> 11 | H18: ='Исходные для нормативов'!C12 -> 8 | I18: ='Исходные для нормативов'!D12 -> 10 | J18: ='Исходные для нормативов'!E12 -> 11
B19: семейное обучение | D19: ='Исходные для нормативов'!C13 -> 9 | E19: ='Исходные для нормативов'!D13 -> 17 | F19: ='Исходные для нормативов'!E13 -> 19 | H19: ='Исходные для нормативов'!C13 -> 9 | I19: ='Исходные для нормативов'!D13 -> 17 | J19: ='Исходные для нормативов'!E13 -> 19
B20: 1 вариант | C20: глухие | D20: ='Исходные для нормативов'!C7 -> 24.595588 | E20: ='Исходные для нормативов'!D7 -> 35 | F20: ='Исходные для нормативов'!E7 -> 37 | H20: ='Исходные для нормативов'!C7 -> 24.595588 | I20: ='Исходные для нормативов'!D7 -> 35 | J20: ='Исходные для нормативов'!E7 -> 37
C21: слабослышащие и познооглохшие | D21: =D20 -> 24.595588 | E21: =E20 -> 35 | F21: =F20 -> 37 | H21: =H20 -> 24.595588 | I21: =I20 -> 35 | J21: =J20 -> 37
C22: слепые | D22: =D21 -> 24.595588 | E22: =E21 -> 35 | F22: =F21 -> 37 | H22: =H21 -> 24.595588 | I22: =I21 -> 35 | J22: =J21 -> 37
C23: слабовидящие | D23: =D22 -> 24.595588 | E23: =E22 -> 35 | F23: =F22 -> 37 | H23: =H22 -> 24.595588 | I23: =I22 -> 35 | J23: =J22 -> 37
C24: С тяжелыми нарушениями речи (ТНР) | D24: =D23 -> 24.595588 | E24: =E23 -> 35 | F24: =F23 -> 37 | H24: =H23 -> 24.595588 | I24: =I23 -> 35 | J24: =J23 -> 37
C25: С нарушением опорно-двигательного аппарата | D25: =D24 -> 24.595588 | E25: =E24 -> 35 | F25: =F24 -> 37 | H25: =H24 -> 24.595588 | I25: =I24 -> 35 | J25: =J24 -> 37
C26: С задержкой психического развития (ЗПР) | D26: =D25 -> 24.595588 | E26: =E25 -> 35 | F26: =F25 -> 37 | H26: =H25 -> 24.595588 | I26: =I25 -> 35 | J26: =J25 -> 37
C27: С расстройствами аутического спектора (РАС) | D27: =D26 -> 24.595588 | E27: =E26 -> 35 | F27: =F26 -> 37 | H27: =H26 -> 24.595588 | I27: =I26 -> 35 | J27: =J26 -> 37
C28: С умственной отсталостью (интеллектуальными нарушениями) | D28: =D27 -> 24.595588 | E28: =E27 -> 35 | F28: =F27 -> 37 | H28: =H27 -> 24.595588 | I28: =I27 -> 35 | J28: =J27 -> 37
B29: 2 вариант | C29: глухие | D29: ='Исходные для нормативов'!C8 -> 22.5 | E29: ='Исходные для нормативов'!D8 -> 31.4 | F29: ='Исходные для нормативов'!E8 -> 34 | H29: ='Исходные для нормативов'!C8 -> 22.5 | I29: ='Исходные для нормативов'!D8 -> 31.4 | J29: ='Исходные для нормативов'!E8 -> 34
C30: слабослышащие и познооглохшие | D30: =D29 -> 22.5 | E30: =E29 -> 31.4 | F30: =F29 -> 34 | H30: =H29 -> 22.5 | I30: =I29 -> 31.4 | J30: =J29 -> 34
C31: слепые | D31: =D30 -> 22.5 | E31: =E30 -> 31.4 | F31: =F30 -> 34 | H31: =H30 -> 22.5 | I31: =I30 -> 31.4 | J31: =J30 -> 34
C32: слабовидящие | D32: =D31 -> 22.5 | E32: =E31 -> 31.4 | F32: =F31 -> 34 | H32: =H31 -> 22.5 | I32: =I31 -> 31.4 | J32: =J31 -> 34
C33: С тяжелыми нарушениями речи (ТНР) | D33: =D32 -> 22.5 | E33: =E32 -> 31.4 | F33: =F32 -> 34 | H33: =H32 -> 22.5 | I33: =I32 -> 31.4 | J33: =J32 -> 34
C34: С нарушением опорно-двигательного аппарата | D34: =D33 -> 22.5 | E34: =E33 -> 31.4 | F34: =F33 -> 34 | H34: =H33 -> 22.5 | I34: =I33 -> 31.4 | J34: =J33 -> 34
C35: С задержкой психического развития (ЗПР) | D35: =D34 -> 22.5 | E35: =E34 -> 31.4 | F35: =F34 -> 34 | H35: =H34 -> 22.5 | I35: =I34 -> 31.4 | J35: =J34 -> 34
C36: С расстройствами аутического спектора (РАС) | D36: =D35 -> 22.5 | E36: =E35 -> 31.4 | F36: =F35 -> 34 | H36: =H35 -> 22.5 | I36: =I35 -> 31.4 | J36: =J35 -> 34
C37: С умственной отсталостью (интеллектуальными нарушениями) | D37: =D36 -> 22.5 | E37: =E36 -> 31.4 | F37: =F36 -> 34 | H37: =H36 -> 22.5 | I37: =I36 -> 31.4 | J37: =J36 -> 34
B38: 3 вариант | C38: глухие | D38: =D37 -> 22.5 | E38: =E37 -> 31.4 | F38: =F37 -> 34 | H38: =H37 -> 22.5 | I38: =I37 -> 31.4 | J38: =J37 -> 34
C39: слабослышащие и познооглохшие | D39: =D38 -> 22.5 | E39: =E38 -> 31.4 | F39: =F38 -> 34 | H39: =H38 -> 22.5 | I39: =I38 -> 31.4 | J39: =J38 -> 34
C40: слепые | D40: =D39 -> 22.5 | E40: =E39 -> 31.4 | F40: =F39 -> 34 | H40: =H39 -> 22.5 | I40: =I39 -> 31.4 | J40: =J39 -> 34
...

Sheet Классное свод
A1: ВСЕГО | L1: Муниципальное образование | Q1: Бокситогорский муниципальный район | W1: Муниципальное образование | AB1: Волосовский муниципальный район | AH1: Муниципальное образование | AM1: Волховский муниципальный район | AS1: Муниципальное образование | AX1: Всеволожский муниципальный район | BD1: Муниципальное образование | BI1: Выборгский муниципальный район | BO1: Муниципальное образование | BT1: Гатчинский муниципальный район | BZ1: Муниципальное образование | CE1: Кингисеппский муниципальный район | CK1: Муниципальное образование | CP1: Киришский муниципальный район | CV1: Муниципальное образование | DA1: Кировский муниципальный район | DG1: Муниципальное образование | DL1: Лодейнопольский муниципальный район | DR1: Муниципальное образование | DW1: Ломоносовский муниципальный район | EC1: Муниципальное образование | EI1: Лужский муниципальный район | EN1: Муниципальное образование | ES1: Подпорожский муниципальный район | EY1: Муниципальное образование | FD1: Приозерский муниципальный район | FJ1: Муниципальное образование | FO1: Сланцевский муниципальный район | FU1: Муниципальное образование | FZ1: Тихвинский муниципальный район | GF1: Муниципальное образование | GK1: Тосненский муниципальный район | GQ1: Муниципальное образование | GV1: Сосновоборский городской округ
B2: Общеобразоват школы | D2: Школа-сад, вечерн школа, базов школа | F2: Общеобраз интернат | H2: ОВЗ в школах | J2: ВСЕГО | M2: Общеобразоват школы | O2: Школа-сад, вечерн школа, базов школа | Q2: Общеобраз интернат | S2: ОВЗ в школах | U2: ВСЕГО | X2: Общеобразоват школы | Z2: Школа-сад, вечерн школа, базов школа | AB2: Общеобраз интернат | AD2: ОВЗ в школах | AF2: ВСЕГО | AI2: Общеобразоват школы | AK2: Школа-сад, вечерн школа, базов школа | AM2: Общеобраз интернат | AO2: ОВЗ в школах | AQ2: ВСЕГО | AT2: Общеобразоват школы | AV2: Школа-сад, вечерн школа, базов школа | AX2: Общеобраз интернат | AZ2: ОВЗ в школах | BB2: ВСЕГО | BE2: Общеобразоват школы | BG2: Школа-сад, вечерн школа, базов школа | BI2: Общеобраз интернат | BK2: ОВЗ в школах | BM2: ВСЕГО | BP2: Общеобразоват школы | BR2: Школа-сад, вечерн школа, базов школа | BT2: Общеобраз интернат | BV2: ОВЗ в школах | BX2: ВСЕГО | CA2: Общеобразоват школы | CC2: Школа-сад, вечерн школа, базов школа | CE2: Общеобраз интернат | CG2: ОВЗ в школах | CI2: ВСЕГО | CL2: Общеобразоват школы | CN2: Школа-сад, вечерн школа, базов школа | CP2: Общеобраз интернат | CR2: ОВЗ в школах | CT2: ВСЕГО | CV2: Наполняемость классов | CW2: Общеобразоват школы | CY2: Школа-сад, вечерн школа, базов школа | DA2: Общеобраз интернат | DC2: Спец школа-интер, ОВЗ в школах | DE2: ВСЕГО | DH2: Общеобразоват школы | DJ2: Школа-сад, вечерн школа, базов школа | DL2: Общеобраз интернат | DN2: ОВЗ в школах | DP2: ВСЕГО | DS2: Общеобразоват школы | DU2: Школа-сад, вечерн школа, базов школа | DW2: Общеобраз интернат | DY2: ОВЗ в школах | EA2: ВСЕГО | ED2: Общеобразоват школы | EF2: Школа-сад, вечерн школа, базов школа | EH2: Общеобраз интернат | EJ2: ОВЗ в школах | EL2: ВСЕГО | EO2: Общеобразоват школы | EQ2: Школа-сад, вечерн школа, базов школа | ES2: Общеобраз интернат | EU2: ОВЗ в школах | EW2: ВСЕГО | EZ2: Общеобразоват школы | FB2: Школа-сад, вечерн школа, базов школа | FD2: Общеобраз интернат | FF2: ОВЗ в школах | FH2: ВСЕГО | FK2: Общеобразоват школы | FM2: Школа-сад, вечерн школа, базов школа | FO2: Общеобраз интернат | FQ2: ОВЗ в школах | FS2: ВСЕГО | FV2: Общеобразоват школы | FX2: Школа-сад, вечерн школа, базов школа | FZ2: Общеобраз интернат | GB2: ОВЗ в школах | GD2: ВСЕГО | GG2: Общеобразоват школы | GI2: Школа-сад, вечерн школа, базов школа | GK2: Общеобраз интернат | GM2: ОВЗ в школах | GO2: ВСЕГО | GR2: Общеобразоват школы | GT2: Школа-сад, вечерн школа, базов школа | GV2: Общеобраз интернат | GX2: ОВЗ в школах | GZ2: ВСЕГО
B3: 25 | D3: 25 | F3: 20 | H3: 12 | M3: 25 | O3: 25 | Q3: 20 | S3: 12 | X3: 25 | Z3: 25 | AB3: 20 | AD3: 12 | AI3: 25 | AK3: 25 | AM3: 20 | AO3: 12 | AT3: 25 | AV3: 25 | AX3: 20 | AZ3: 12 | BE3: 25 | BG3: 25 | BI3: 20 | BK3: 12 | BP3: 25 | BR3: 25 | BT3: 20 | BV3: 12 | CA3: 25 | CC3: 25 | CE3: 20 | CG3: 12 | CL3: 25 | CN3: 25 | CP3: 20 | CR3: 12 | CW3: 25 | CY3: 25 | DA3: 20 | DC3: 12 | DH3: 25 | DJ3: 25 | DL3: 20 | DN3: 12 | DS3: 25 | DU3: 25 | DW3: 20 | DY3: 12 | ED3: 25 | EF3: 25 | EH3: 20 | EJ3: 12 | EO3: 25 | EQ3: 25 | ES3: 20 | EU3: 12 | EZ3: 25 | FB3: 25 | FD3: 20 | FF3: 12 | FK3: 25 | FM3: 25 | FO3: 20 | FQ3: 12 | FV3: 25 | FX3: 25 | FZ3: 20 | GB3: 12 | GG3: 25 | GI3: 25 | GK3: 20 | GM3: 12 | GR3: 25 | GT3: 25 | GV3: 20 | GX3: 12
B4: колич классов | C4: Потребность на 2018 г | D4: колич классов | E4: Потребность на 2018 г | F4: колич классов | G4: Потребность на 2018 г | H4: колич классов | I4: Потребность на 2018 г | J4: колич классов | K4: Потребность на 2018 г | M4: колич классов | N4: Потребность на 2019 г | O4: колич классов | P4: Потребность на 2019 г | Q4: колич классов | R4: Потребность на 2019 г | S4: колич классов | T4: Потребность на 2019 г | U4: колич классов | V4: Потребность на 2019 г | X4: колич классов | Y4: Потребность на 2018 г | Z4: колич классов | AA4: Потребность на 2018 г | AB4: колич классов | AC4: Потребность на 2018 г | AD4: колич классов | AE4: Потребность на 2018 г | AF4: колич классов | AG4: Потребность на 2018 г | AI4: колич классов | AJ4: Потребность на 2018 г | AK4: колич классов | AL4: Потребность на 2018 г | AM4: колич классов | AN4: Потребность на 2018 г | AO4: колич классов | AP4: Потребность на 2018 г | AQ4: колич классов | AR4: Потребность на 2018 г | AT4: колич классов | AU4: Потребность на 2018 г | AV4: колич классов | AW4: Потребность на 2018 г | AX4: колич классов | AY4: Потребность на 2018 г | AZ4: колич классов | BA4: Потребность на 2018 г | BB4: колич классов | BC4: Потребность на 2018 г | BE4: колич классов | BF4: Потребность на 2018 г | BG4: колич классов | BH4: Потребность на 2018 г | BI4: колич классов | BJ4: Потребность на 2018 г | BK4: колич классов | BL4: Потребность на 2018 г | BM4: колич классов | BN4: Потребность на 2018 г | BP4: колич классов | BQ4: Потребность на 2018 г | BR4: колич классов | BS4: Потребность на 2018 г | BT4: колич классов | BU4: Потребность на 2018 г | BV4: колич классов | BW4: Потребность на 2018 г | BX4: колич классов | BY4: Потребность на 2018 г | CA4: колич классов | CB4: Потребность на 2018 г | CC4: колич классов | CD4: Потребность на 2018 г | CE4: колич классов | CF4: Потребность на 2018 г | CG4: колич классов | CH4: Потребность на 2018 г | CI4: колич классов | CJ4: Потребность на 2018 г | CL4: колич классов | CM4: Потребность на 2018 г | CN4: колич классов | CO4: Потребность на 2018 г | CP4: колич классов | CQ4: Потребность на 2018 г | CR4: колич классов | CS4: Потребность на 2018 г | CT4: колич классов | CU4: Потребность на 2018 г | CW4: колич классов | CX4: Потребность на 2019 г | CY4: колич классов | CZ4: Потребность на 2019 г | DA4: колич классов | DB4: Потребность на 2019 г | DC4: колич классов | DD4: Потребность на 2019 г | DE4: колич классов | DF4: Потребность на 2019 г | DH4: колич классов | DI4: Потребность на 2018 г | DJ4: колич классов | DK4: Потребность на 2018 г | DL4: колич классов | DM4: Потребность на 2018 г | DN4: колич классов | DO4: Потребность на 2018 г | DP4: колич классов | DQ4: Потребность на 2018 г | DS4: колич классов | DT4: Потребность на 2018 г | DU4: колич классов | DV4: Потребность на 2018 г | DW4: колич классов | DX4: Потребность на 2018 г | DY4: колич классов | DZ4: Потребность на 2018 г | EA4: колич классов | EB4: Потребность на 2018 г | ED4: колич классов | EE4: Потребность на 2018 г | EF4: колич классов | EG4: Потребность на 2018 г | EH4: колич классов | EI4: Потребность на 2018 г | EJ4: колич классов | EK4: Потребность на 2018 г | EL4: колич классов | EM4: Потребность на 2018 г | EO4: колич классов | EP4: Потребность на 2018 г | EQ4: колич классов | ER4: Потребность на 2018 г | ES4: колич классов | ET4: Потребность на 2018 г | EU4: колич классов | EV4: Потребность на 2018 г | EW4: колич классов | EX4: Потребность на 2018 г | EZ4: колич классов | FA4: Потребность на 2018 г | FB4: колич классов | FC4: Потребность на 2018 г | FD4: колич классов | FE4: Потребность на 2018 г | FF4: колич классов | FG4: Потребность на 2018 г | FH4: колич классов | FI4: Потребность на 2018 г | FK4: колич классов | FL4: Потребность на 2018 г | FM4: колич классов | FN4: Потребность на 2018 г | FO4: колич классов | FP4: Потребность на 2018 г | FQ4: колич классов | FR4: Потребность на 2018 г | FS4: колич классов | FT4: Потребность на 2018 г | FV4: колич классов | FW4: Потребность на 2018 г | FX4: колич классов | FY4: Потребность на 2018 г | FZ4: колич классов | GA4: Потребность на 2018 г | GB4: колич классов | GC4: Потребность на 2018 г | GD4: колич классов | GE4: Потребность на 2018 г | GG4: колич классов | GH4: Потребность на 2018 г | GI4: колич классов | GJ4: Потребность на 2018 г | GK4: колич классов | GL4: Потребность на 2018 г | GM4: колич классов | GN4: Потребность на 2018 г | GO4: колич классов | GP4: Потребность на 2018 г | GR4: колич классов | GS4: Потребность на 2018 г | GT4: колич классов | GU4: Потребность на 2018 г | GV4: колич классов | GW4: Потребность на 2018 г | GX4: колич классов | GY4: Потребность на 2018 г | GZ4: колич классов | HA4: Потребность на 2018 г
B6: ГОРОД | H6: город и село | M6: ГОРОД | S6: город и село | X6: ГОРОД | AD6: город и село | AI6: ГОРОД | AO6: город и село | AT6: ГОРОД | AZ6: город и село | BE6: ГОРОД | BK6: город и село | BP6: ГОРОД | BV6: город и село | CA6: ГОРОД | CG6: город и село | CL6: ГОРОД | CR6: город и село | CW6: ГОРОД | DC6: город и село | DH6: ГОРОД | DN6: город и село | DS6: ГОРОД | DY6: город и село | ED6: ГОРОД | EJ6: город и село | EO6: ГОРОД | EU6: город и село | EZ6: ГОРОД | FF6: город и село | FK6: ГОРОД | FQ6: город и село | FV6: ГОРОД | GB6: город и село | GG6: ГОРОД | GM6: город и село | GR6: ГОРОД | GX6: город и село
A7: 25 | B7: =M7+X7+AI7+AT7+BE7+BP7+CA7+CL7+CW7+DH7+DS7+ED7+EO7+EZ7+FK7+FV7+GG7+GR7 -> 3239 | C7: =N7+Y7+AJ7+AU7+BF7+BQ7+CB7+CM7+CX7+DI7+DT7+EE7+EP7+FA7+FL7+FW7+GH7+GS7 -> 101212.1 | D7: =O7+Z7+AK7+AV7+BG7+BR7+CC7+CN7+CY7+DJ7+DU7+EF7+EQ7+FB7+FM7+FX7+GI7+GT7 -> 1 | E7: =P7+AA7+AL7+AW7+BH7+BS7+CD7+CO7+CZ7+DK7+DV7+EG7+ER7+FC7+FN7+FY7+GJ7+GU7 -> 31.2 | F7: =Q7+AB7+AM7+AX7+BI7+BT7+CE7+CP7+DA7+DL7+DW7+EH7+ES7+FD7+FO7+FZ7+GK7+GV7 -> 0 | G7: =R7+AC7+AN7+AY7+BJ7+BU7+CF7+CQ7+DB7+DM7+DX7+EI7+ET7+FE7+FP7+GA7+GL7+GW7 -> 0 | H7: =S7+AD7+AO7+AZ7+BK7+BV7+CG7+CR7+DC7+DN7+DY7+EJ7+EU7+FF7+FQ7+GB7+GM7+GX7 -> 0 | I7: =T7+AE7+AP7+BA7+BL7+BW7+CH7+CS7+DD7+DO7+DZ7+EK7+EV7+FG7+FR7+GC7+GN7+GY7 -> 0 | ... K7: =V7+AG7+AR7+BC7+BN7+BY7+CJ7+CU7+DF7+DQ7+EB7+EM7+EX7+FI7+FT7+GE7+GP7+HA7 -> 101243.3 | L7: 25 | M7: 126 | N7: =ROUND(M7*L7/25*12*2*1.302,1) -> 3937.2 | P7: =ROUND(O7*N7/25*12*2*1.302,1) -> 0 | U7: =M7+O7+S7+Q7 -> 126 | V7: =N7+P7+T7+R7 -> 3937.2 | W7: 25 | X7: 39 | Y7: =ROUND(X7*W7/25*12*2*1.302,1) -> 1218.7 | AA7: =ROUND(Z7*Y7/25*12*2*1.302,1) -> 0 | AF7: =X7+Z7+AD7+AB7 -> 39 | AG7: =Y7+AA7+AE7+AC7 -> 1218.7 | AH7: 25 | AI7: 193 | AJ7: =ROUND(AI7*AH7/25*12*2*1.302,1) -> 6030.9 | AL7: =ROUND(AK7*AH7/25*12*2*1.302,1) -> 0 | AQ7: =AI7+AK7+AO7+AM7 -> 193 | AR7: =AJ7+AL7+AP7+AN7 -> 6030.9 | AS7: 25 | AT7: 563 | AU7: =ROUND(AT7*AS7/25*12*2*1.302,1) -> 17592.6 | AW7: =ROUND(AV7*AS7/25*12*2*1.302,1) -> 0 | BB7: =AT7+AV7+AZ7+AX7 -> 563 | BC7: =AU7+AW7+BA7+AY7 -> 17592.6 | BD7: 25 | BE7: 382 | BF7: =ROUND(BE7*BD7/25*12*2*1.302,1) -> 11936.7 | BH7: =ROUND(BG7*BF7/25*12*2*1.302,1) -> 0 | BM7: =BE7+BG7+BK7+BI7 -> 382 | BN7: =BF7+BH7+BL7+BJ7 -> 11936.7 | BO7: 25 | BP7: 364 | BQ7: =ROUND(BP7*BO7/25*12*2*1.302,1) -> 11374.3 | BS7: =ROUND(BR7*BQ7/25*12*2*1.302,1) -> 0 | BX7: =BP7+BR7+BV7+BT7 -> 364 | BY7: =BQ7+BS7+BW7+BU7 -> 11374.3 | BZ7: 25 | CA7: 176 | CB7: =ROUND(CA7*BZ7/25*12*2*1.302,1) -> 5499.6 | CD7: =ROUND(CC7*CB7/25*12*2*1.302,1) -> 0 | CI7: =CA7+CC7+CG7+CE7 -> 176 | CJ7: =CB7+CD7+CH7+CF7 -> 5499.6 | CK7: 25 | CL7: 207 | CM7: =ROUND(CL7*CK7/25*12*2*1.302,1) -> 6468.3 | CN7: 1 | CO7: =ROUND(CN7*CK7/25*12*2*1.302,1) -> 31.2 | CS7: =ROUND(CR7*CK7/12*12*2*1.302,1) -> 0 | CT7: =CL7+CN7+CR7+CP7 -> 208 | CU7: =CM7+CO7+CS7+CQ7 -> 6499.5 | CV7: 25 | CW7: 211 | CX7: =ROUND(CW7*CV7/25*12*2*1.302,1) -> 6593.3 | CZ7: =ROUND(CY7*CV7/25*12*2*1.302,1) -> 0 | DB7: =ROUND(DA7*CV7/20*12*2*1.302,1) -> 0 | DD7: =ROUND(DC7*CV7/12*12*2*1.302,1) -> 0 | DE7: =CW7+CY7+DA7+DC7 -> 211 | DF7: =CX7+CZ7+DB7+DD7 -> 6593.3 | DG7: 25 | DH7: 61 | DI7: =ROUND(DH7*DG7/25*12*2*1.302,1) -> 1906.1 | DK7: =ROUND(DJ7*DG7/25*12*2*1.302,1) -> 0 | DP7: =DH7+DJ7+DL7+DN7 -> 61 | DQ7: =DI7+DK7+DM7+DO7 -> 1906.1 | DR7: 25 | DS7: 3 | DT7: =ROUND(DS7*DR7/25*12*2*1.302,1) -> 93.7 | DV7: =ROUND(DU7*DT7/25*12*2*1.302,1) -> 0 | DX7: =ROUND(DW7*DR7/20*12*2*1.302,1) -> 0 | DZ7: =ROUND(DY7*DR7/12*12*2*1.302,1) -> 0 | EA7: =DS7+DU7+DY7+DW7 -> 3 | EB7: =DT7+DV7+DZ7+DX7 -> 93.7 | EC7: 25 | ED7: 89 | EE7: =ROUND(ED7*EC7/25*12*2*1.302,1) -> 2781.1 | EG7: =ROUND(EF7*EC7/25*12*2*1.302,1) -> 0 | EL7: =ED7+EF7+EJ7+EH7 -> 89 | EM7: =EE7+EG7+EK7+EI7 -> 2781.1 | EN7: 25 | EO7: 65 | EP7: =ROUND(EO7*EN7/25*12*2*1.302,1) -> 2031.1 | ER7: =ROUND(EQ7*EP7/25*12*2*1.302,1) -> 0 | EW7: =EO7+EQ7+EU7+ES7 -> 65 | EX7: =EP7+ER7+EV7+ET7 -> 2031.1 | EY7: 25 | EZ7: 71 | FA7: =ROUND(EZ7*EY7/25*12*2*1.302,1) -> 2218.6 | FC7: =ROUND(FB7*FA7/25*12*2*1.302,1) -> 0 | FH7: =EZ7+FB7+FF7+FD7 -> 71 | FI7: =FA7+FC7+FG7+FE7 -> 2218.6 | FJ7: 25 | FK7: 97 | FL7: =ROUND(FK7*FJ7/25*12*2*1.302,1) -> 3031.1 | FM7: 0 | FN7: =ROUND(FM7*FL7/25*12*2*1.302,1) -> 0 | FR7: =ROUND(FQ7*FJ7/12*12*2*1.302,1) -> 0 | FS7: =FK7+FM7+FQ7+FO7 -> 97 | FT7: =FL7+FN7+FR7+FP7 -> 3031.1 | FU7: 25 | FV7: 193 | FW7: =ROUND(FV7*FU7/25*12*2*1.302,1) -> 6030.9 | FY7: =ROUND(FX7*FW7/25*12*2*1.302,1) -> 0 | GD7: =FV7+FX7+GB7+FZ7 -> 193 | GE7: =FW7+FY7+GC7+GA7 -> 6030.9 | GF7: 25 | GG7: 215 | GH7: =ROUND(GG7*GF7/25*12*2*1.302,1) -> 6718.3 | GJ7: =ROUND(GI7*GH7/25*12*2*1.302,1) -> 0 | GO7: =GG7+GI7+GM7+GK7 -> 215 | GP7: =GH7+GJ7+GN7+GL7 -> 6718.3 | GQ7: 25 | GR7: 184 | GS7: =ROUND(GR7*GQ7/25*12*2*1.302,1) -> 5749.6 | GU7: =ROUND(GT7*GS7/25*12*2*1.302,1) -> 0 | GZ7: =GR7+GT7+GX7+GV7 -> 184 | HA7: =GS7+GU7+GY7+GW7 -> 5749.6
A8: 24 | B8: =M8+X8+AI8+AT8+BE8+BP8+CA8+CL8+CW8+DH8+DS8+ED8+EO8+EZ8+FK8+FV8+GG8+GR8 -> 187 | C8: =N8+Y8+AJ8+AU8+BF8+BQ8+CB8+CM8+CX8+DI8+DT8+EE8+EP8+FA8+FL8+FW8+GH8+GS8 -> 5609.9 | D8: =O8+Z8+AK8+AV8+BG8+BR8+CC8+CN8+CY8+DJ8+DU8+EF8+EQ8+FB8+FM8+FX8+GI8+GT8 -> 0 | E8: =P8+AA8+AL8+AW8+BH8+BS8+CD8+CO8+CZ8+DK8+DV8+EG8+ER8+FC8+FN8+FY8+GJ8+GU8 -> 0 | F8: =Q8+AB8+AM8+AX8+BI8+BT8+CE8+CP8+DA8+DL8+DW8+EH8+ES8+FD8+FO8+FZ8+GK8+GV8 -> 0 | G8: =R8+AC8+AN8+AY8+BJ8+BU8+CF8+CQ8+DB8+DM8+DX8+EI8+ET8+FE8+FP8+GA8+GL8+GW8 -> 0 | H8: =S8+AD8+AO8+AZ8+BK8+BV8+CG8+CR8+DC8+DN8+DY8+EJ8+EU8+FF8+FQ8+GB8+GM8+GX8 -> 0 | I8: =T8+AE8+AP8+BA8+BL8+BW8+CH8+CS8+DD8+DO8+DZ8+EK8+EV8+FG8+FR8+GC8+GN8+GY8 -> 0 | ... K8: =V8+AG8+AR8+BC8+BN8+BY8+CJ8+CU8+DF8+DQ8+EB8+EM8+EX8+FI8+FT8+GE8+GP8+HA8 -> 5609.9 | L8: 24 | M8: 5 | N8: =ROUND(M8*L8/25*12*2*1.302,1) -> 150 | P8: =ROUND(O8*N8/25*12*2*1.302,1) -> 0 | U8: =M8+O8+S8+Q8 -> 5 | V8: =N8+P8+T8+R8 -> 150 | W8: 24 | X8: 6 | Y8: =ROUND(X8*W8/25*12*2*1.302,1) -> 180 | AA8: =ROUND(Z8*Y8/25*12*2*1.302,1) -> 0 | AF8: =X8+Z8+AD8+AB8 -> 6 | AG8: =Y8+AA8+AE8+AC8 -> 180 | AH8: 24 | AI8: 8 | AJ8: =ROUND(AI8*AH8/25*12*2*1.302,1) -> 240 | AL8: =ROUND(AK8*AH8/25*12*2*1.302,1) -> 0 | AQ8: =AI8+AK8+AO8+AM8 -> 8 | AR8: =AJ8+AL8+AP8+AN8 -> 240 | AS8: 24 | AT8: 28 | AU8: =ROUND(AT8*AS8/25*12*2*1.302,1) -> 839.9 | AW8: =ROUND(AV8*AS8/25*12*2*1.302,1) -> 0 | BB8: =AT8+AV8+AZ8+AX8 -> 28 | BC8: =AU8+AW8+BA8+AY8 -> 839.9 | BD8: 24 | BE8: 16 | BF8: =ROUND(BE8*BD8/25*12*2*1.302,1) -> 480 | BH8: =ROUND(BG8*BF8/25*12*2*1.302,1) -> 0 | BM8: =BE8+BG8+BK8+BI8 -> 16 | BN8: =BF8+BH8+BL8+BJ8 -> 480 | BO8: 24 | BP8: 22 | BQ8: =ROUND(BP8*BO8/25*12*2*1.302,1) -> 660 | BS8: =ROUND(BR8*BQ8/25*12*2*1.302,1) -> 0 | BX8: =BP8+BR8+BV8+BT8 -> 22 | BY8: =BQ8+BS8+BW8+BU8 -> 660 | BZ8: 24 | CA8: 15 | CB8: =ROUND(CA8*BZ8/25*12*2*1.302,1) -> 450 | CD8: =ROUND(CC8*CB8/25*12*2*1.302,1) -> 0 | CI8: =CA8+CC8+CG8+CE8 -> 15 | CJ8: =CB8+CD8+CH8+CF8 -> 450 | CK8: 24 | CL8: 2 | CM8: =ROUND(CL8*CK8/25*12*2*1.302,1) -> 60 | CO8: =ROUND(CN8*CK8/25*12*2*1.302,1) -> 0 | CS8: =ROUND(CR8*CK8/12*12*2*1.302,1) -> 0 | CT8: =CL8+CN8+CR8+CP8 -> 2 | CU8: =CM8+CO8+CS8+CQ8 -> 60 | CV8: 24 | CW8: 15 | CX8: =ROUND(CW8*CV8/25*12*2*1.302,1) -> 450 | CZ8: =ROUND(CY8*CV8/25*12*2*1.302,1) -> 0 | DB8: =ROUND(DA8*CV8/20*12*2*1.302,1) -> 0 | DD8: =ROUND(DC8*CV8/12*12*2*1.302,1) -> 0 | DE8: =CW8+CY8+DA8+DC8 -> 15 | DF8: =CX8+CZ8+DB8+DD8 -> 450 | DG8: 24 | DH8: 2 | DI8: =ROUND(DH8*DG8/25*12*2*1.302,1) -> 60 | DK8: =ROUND(DJ8*DG8/25*12*2*1.302,1) -> 0 | DP8: =DH8+DJ8+DL8+DN8 -> 2 | DQ8: =DI8+DK8+DM8+DO8 -> 60 | DR8: 24 | DT8: =ROUND(DS8*DR8/25*12*2*1.302,1) -> 0 | DV8: =ROUND(DU8*DT8/25*12*2*1.302,1) -> 0 | DX8: =ROUND(DW8*DR8/20*12*2*1.302,1) -> 0 | DZ8: =ROUND(DY8*DR8/12*12*2*1.302,1) -> 0 | EA8: =DS8+DU8+DY8+DW8 -> 0 | EB8: =DT8+DV8+DZ8+DX8 -> 0 | EC8: 24 | ED8: 14 | EE8: =ROUND(ED8*EC8/25*12*2*1.302,1) -> 420 | EG8: =ROUND(EF8*EC8/25*12*2*1.302,1) -> 0 | EL8: =ED8+EF8+EJ8+EH8 -> 14 | EM8: =EE8+EG8+EK8+EI8 -> 420 | EN8: 24 | EO8: 7 | EP8: =ROUND(EO8*EN8/25*12*2*1.302,1) -> 210 | ER8: =ROUND(EQ8*EP8/25*12*2*1.302,1) -> 0 | EW8: =EO8+EQ8+EU8+ES8 -> 7 | EX8: =EP8+ER8+EV8+ET8 -> 210 | EY8: 24 | EZ8: 1 | FA8: =ROUND(EZ8*EY8/25*12*2*1.302,1) -> 30 | FC8: =ROUND(FB8*FA8/25*12*2*1.302,1) -> 0 | FH8: =EZ8+FB8+FF8+FD8 -> 1 | FI8: =FA8+FC8+FG8+FE8 -> 30 | FJ8: 24 | FK8: 6 | FL8: =ROUND(FK8*FJ8/25*12*2*1.302,1) -> 180 | FM8: 0 | FN8: =ROUND(FM8*FL8/25*12*2*1.302,1) -> 0 | FR8: =ROUND(FQ8*FJ8/12*12*2*1.302,1) -> 0 | FS8: =FK8+FM8+FQ8+FO8 -> 6 | FT8: =FL8+FN8+FR8+FP8 -> 180 | FU8: 24 | FV8: 6 | FW8: =ROUND(FV8*FU8/25*12*2*1.302,1) -> 180 | FY8: =ROUND(FX8*FW8/25*12*2*1.302,1) -> 0 | GD8: =FV8+FX8+GB8+FZ8 -> 6 | GE8: =FW8+FY8+GC8+GA8 -> 180 | GF8: 24 | GG8: 24 | GH8: =ROUND(GG8*GF8/25*12*2*1.302,1) -> 720 | GJ8: =ROUND(GI8*GH8/25*12*2*1.302,1) -> 0 | GO8: =GG8+GI8+GM8+GK8 -> 24 | GP8: =GH8+GJ8+GN8+GL8 -> 720 | GQ8: 24 | GR8: 10 | GS8: =ROUND(GR8*GQ8/25*12*2*1.302,1) -> 300 | GU8: =ROUND(GT8*GS8/25*12*2*1.302,1) -> 0 | GZ8: =GR8+GT8+GX8+GV8 -> 10 | HA8: =GS8+GU8+GY8+GW8 -> 300
A9: 23 | B9: =M9+X9+AI9+AT9+BE9+BP9+CA9+CL9+CW9+DH9+DS9+ED9+EO9+EZ9+FK9+FV9+GG9+GR9 -> 155 | C9: =N9+Y9+AJ9+AU9+BF9+BQ9+CB9+CM9+CX9+DI9+DT9+EE9+EP9+FA9+FL9+FW9+GH9+GS9 -> 4455.7 | D9: =O9+Z9+AK9+AV9+BG9+BR9+CC9+CN9+CY9+DJ9+DU9+EF9+EQ9+FB9+FM9+FX9+GI9+GT9 -> 0 | E9: =P9+AA9+AL9+AW9+BH9+BS9+CD9+CO9+CZ9+DK9+DV9+EG9+ER9+FC9+FN9+FY9+GJ9+GU9 -> 0 | F9: =Q9+AB9+AM9+AX9+BI9+BT9+CE9+CP9+DA9+DL9+DW9+EH9+ES9+FD9+FO9+FZ9+GK9+GV9 -> 0 | G9: =R9+AC9+AN9+AY9+BJ9+BU9+CF9+CQ9+DB9+DM9+DX9+EI9+ET9+FE9+FP9+GA9+GL9+GW9 -> 0 | H9: =S9+AD9+AO9+AZ9+BK9+BV9+CG9+CR9+DC9+DN9+DY9+EJ9+EU9+FF9+FQ9+GB9+GM9+GX9 -> 0 | I9: =T9+AE9+AP9+BA9+BL9+BW9+CH9+CS9+DD9+DO9+DZ9+EK9+EV9+FG9+FR9+GC9+GN9+GY9 -> 0 | ... K9: =V9+AG9+AR9+BC9+BN9+BY9+CJ9+CU9+DF9+DQ9+EB9+EM9+EX9+FI9+FT9+GE9+GP9+HA9 -> 4455.7 | L9: 23 | M9: 2 | N9: =ROUND(M9*L9/25*12*2*1.302,1) -> 57.5 | P9: =ROUND(O9*N9/25*12*2*1.302,1) -> 0 | U9: =M9+O9+S9+Q9 -> 2 | V9: =N9+P9+T9+R9 -> 57.5 | W9: 23 | X9: 13 | Y9: =ROUND(X9*W9/25*12*2*1.302,1) -> 373.7 | AA9: =ROUND(Z9*Y9/25*12*2*1.302,1) -> 0 | AF9: =X9+Z9+AD9+AB9 -> 13 | AG9: =Y9+AA9+AE9+AC9 -> 373.7 | AH9: 23 | AI9: 12 | AJ9: =ROUND(AI9*AH9/25*12*2*1.302,1) -> 345 | AL9: =ROUND(AK9*AH9/25*12*2*1.302,1) -> 0 | AQ9: =AI9+AK9+AO9+AM9 -> 12 | AR9: =AJ9+AL9+AP9+AN9 -> 345 | AS9: 23 | AT9: 24 | AU9: =ROUND(AT9*AS9/25*12*2*1.302,1) -> 690 | AW9: =ROUND(AV9*AS9/25*12*2*1.302,1) -> 0 | BB9: =AT9+AV9+AZ9+AX9 -> 24 | BC9: =AU9+AW9+BA9+AY9 -> 690 | BD9: 23 | BE9: 13 | BF9: =ROUND(BE9*BD9/25*12*2*1.302,1) -> 373.7 | BH9: =ROUND(BG9*BF9/25*12*2*1.302,1) -> 0 | BM9: =BE9+BG9+BK9+BI9 -> 13 | BN9: =BF9+BH9+BL9+BJ9 -> 373.7 | BO9: 23 | BP9: 13 | BQ9: =ROUND(BP9*BO9/25*12*2*1.302,1) -> 373.7 | BS9: =ROUND(BR9*BQ9/25*12*2*1.302,1) -> 0 | BX9: =BP9+BR9+BV9+BT9 -> 13 | BY9: =BQ9+BS9+BW9+BU9 -> 373.7 | BZ9: 23 | CA9: 5 | CB9: =ROUND(CA9*BZ9/25*12*2*1.302,1) -> 143.7 | CD9: =ROUND(CC9*CB9/25*12*2*1.302,1) -> 0 | CI9: =CA9+CC9+CG9+CE9 -> 5 | CJ9: =CB9+CD9+CH9+CF9 -> 143.7 | CK9: 23 | CL9: 4 | CM9: =ROUND(CL9*CK9/25*12*2*1.302,1) -> 115 | CO9: =ROUND(CN9*CK9/25*12*2*1.302,1) -> 0 | CS9: =ROUND(CR9*CK9/12*12*2*1.302,1) -> 0 | CT9: =CL9+CN9+CR9+CP9 -> 4 | CU9: =CM9+CO9+CS9+CQ9 -> 115 | CV9: 23 | CW9: 15 | CX9: =ROUND(CW9*CV9/25*12*2*1.302,1) -> 431.2 | CZ9: =ROUND(CY9*CV9/25*12*2*1.302,1) -> 0 | DB9: =ROUND(DA9*CV9/20*12*2*1.302,1) -> 0 | DD9: =ROUND(DC9*CV9/12*12*2*1.302,1) -> 0 | DE9: =CW9+CY9+DA9+DC9 -> 15 | DF9: =CX9+CZ9+DB9+DD9 -> 431.2 | DG9: 23 | DH9: 3 | DI9: =ROUND(DH9*DG9/25*12*2*1.302,1) -> 86.2 | DK9: =ROUND(DJ9*DG9/25*12*2*1.302,1) -> 0 | DP9: =DH9+DJ9+DL9+DN9 -> 3 | DQ9: =DI9+DK9+DM9+DO9 -> 86.2 | DR9: 23 | DT9: =ROUND(DS9*DR9/25*12*2*1.302,1) -> 0 | DV9: =ROUND(DU9*DT9/25*12*2*1.302,1) -> 0 | DX9: =ROUND(DW9*DR9/20*12*2*1.302,1) -> 0 | DZ9: =ROUND(DY9*DR9/12*12*2*1.302,1) -> 0 | EA9: =DS9+DU9+DY9+DW9 -> 0 | EB9: =DT9+DV9+DZ9+DX9 -> 0 | EC9: 23 | ED9: 20 | EE9: =ROUND(ED9*EC9/25*12*2*1.302,1) -> 575 | EG9: =ROUND(EF9*EC9/25*12*2*1.302,1) -> 0 | EL9: =ED9+EF9+EJ9+EH9 -> 20 | EM9: =EE9+EG9+EK9+EI9 -> 575 | EN9: 23 | EO9: 5 | EP9: =ROUND(EO9*EN9/25*12*2*1.302,1) -> 143.7 | ER9: =ROUND(EQ9*EP9/25*12*2*1.302,1) -> 0 | EW9: =EO9+EQ9+EU9+ES9 -> 5 | EX9: =EP9+ER9+EV9+ET9 -> 143.7 | EY9: 23 | EZ9: 5 | FA9: =ROUND(EZ9*EY9/25*12*2*1.302,1) -> 143.7 | FC9: =ROUND(FB9*FA9/25*12*2*1.302,1) -> 0 | FH9: =EZ9+FB9+FF9+FD9 -> 5 | FI9: =FA9+FC9+FG9+FE9 -> 143.7 | FJ9: 23 | FK9: 1 | FL9: =ROUND(FK9*FJ9/25*12*2*1.302,1) -> 28.7 | FM9: 0 | FN9: =ROUND(FM9*FL9/25*12*2*1.302,1) -> 0 | FR9: =ROUND(FQ9*FJ9/12*12*2*1.302,1) -> 0 | FS9: =FK9+FM9+FQ9+FO9 -> 1 | FT9: =FL9+FN9+FR9+FP9 -> 28.7 | FU9: 23 | FV9: 7 | FW9: =ROUND(FV9*FU9/25*12*2*1.302,1) -> 201.2 | FY9: =ROUND(FX9*FW9/25*12*2*1.302,1) -> 0 | GD9: =FV9+FX9+GB9+FZ9 -> 7 | GE9: =FW9+FY9+GC9+GA9 -> 201.2 | GF9: 23 | GG9: 8 | GH9: =ROUND(GG9*GF9/25*12*2*1.302,1) -> 230 | GJ9: =ROUND(GI9*GH9/25*12*2*1.302,1) -> 0 | GO9: =GG9+GI9+GM9+GK9 -> 8 | GP9: =GH9+GJ9+GN9+GL9 -> 230 | GQ9: 23 | GR9: 5 | GS9: =ROUND(GR9*GQ9/25*12*2*1.302,1) -> 143.7 | GU9: =ROUND(GT9*GS9/25*12*2*1.302,1) -> 0 | GZ9: =GR9+GT9+GX9+GV9 -> 5 | HA9: =GS9+GU9+GY9+GW9 -> 143.7
A10: 22 | B10: =M10+X10+AI10+AT10+BE10+BP10+CA10+CL10+CW10+DH10+DS10+ED10+EO10+EZ10+FK10+FV10+GG10+GR10 -> 95 | C10: =N10+Y10+AJ10+AU10+BF10+BQ10+CB10+CM10+CX10+DI10+DT10+EE10+EP10+FA10+FL10+FW10+GH10+GS10 -> 2612.5 | D10: =O10+Z10+AK10+AV10+BG10+BR10+CC10+CN10+CY10+DJ10+DU10+EF10+EQ10+FB10+FM10+FX10+GI10+GT10 -> 1 | E10: =P10+AA10+AL10+AW10+BH10+BS10+CD10+CO10+CZ10+DK10+DV10+EG10+ER10+FC10+FN10+FY10+GJ10+GU10 -> 27.5 | F10: =Q10+AB10+AM10+AX10+BI10+BT10+CE10+CP10+DA10+DL10+DW10+EH10+ES10+FD10+FO10+FZ10+GK10+GV10 -> 0 | G10: =R10+AC10+AN10+AY10+BJ10+BU10+CF10+CQ10+DB10+DM10+DX10+EI10+ET10+FE10+FP10+GA10+GL10+GW10 -> 0 | H10: =S10+AD10+AO10+AZ10+BK10+BV10+CG10+CR10+DC10+DN10+DY10+EJ10+EU10+FF10+FQ10+GB10+GM10+GX10 -> 0 | I10: =T10+AE10+AP10+BA10+BL10+BW10+CH10+CS10+DD10+DO10+DZ10+EK10+EV10+FG10+FR10+GC10+GN10+GY10 -> 0 | ... K10: =V10+AG10+AR10+BC10+BN10+BY10+CJ10+CU10+DF10+DQ10+EB10+EM10+EX10+FI10+FT10+GE10+GP10+HA10 -> 2640 | L10: 22 | M10: 3 | N10: =ROUND(M10*L10/25*12*2*1.302,1) -> 82.5 | P10: =ROUND(O10*N10/25*12*2*1.302,1) -> 0 | U10: =M10+O10+S10+Q10 -> 3 | V10: =N10+P10+T10+R10 -> 82.5 | W10: 22 | X10: 1 | Y10: =ROUND(X10*W10/25*12*2*1.302,1) -> 27.5 | AA10: =ROUND(Z10*Y10/25*12*2*1.302,1) -> 0 | AF10: =X10+Z10+AD10+AB10 -> 1 | AG10: =Y10+AA10+AE10+AC10 -> 27.5 | AH10: 22 | AI10: 5 | AJ10: =ROUND(AI10*AH10/25*12*2*1.302,1) -> 137.5 | AL10: =ROUND(AK10*AH10/25*12*2*1.302,1) -> 0 | AQ10: =AI10+AK10+AO10+AM10 -> 5 | AR10: =AJ10+AL10+AP10+AN10 -> 137.5 | AS10: 22 | AU10: =ROUND(AT10*AS10/25*12*2*1.302,1) -> 0 | AW10: =ROUND(AV10*AS10/25*12*2*1.302,1) -> 0 | BB10: =AT10+AV10+AZ10+AX10 -> 0 | BC10: =AU10+AW10+BA10+AY10 -> 0 | BD10: 22 | BE10: 8 | BF10: =ROUND(BE10*BD10/25*12*2*1.302,1) -> 220 | BH10: =ROUND(BG10*BF10/25*12*2*1.302,1) -> 0 | BM10: =BE10+BG10+BK10+BI10 -> 8 | BN10: =BF10+BH10+BL10+BJ10 -> 220 | BO10: 22 | BP10: 10 | BQ10: =ROUND(BP10*BO10/25*12*2*1.302,1) -> 275 | BS10: =ROUND(BR10*BQ10/25*12*2*1.302,1) -> 0 | BX10: =BP10+BR10+BV10+BT10 -> 10 | BY10: =BQ10+BS10+BW10+BU10 -> 275 | BZ10: 22 | CA10: 6 | CB10: =ROUND(CA10*BZ10/25*12*2*1.302,1) -> 165 | CD10: =ROUND(CC10*CB10/25*12*2*1.302,1) -> 0 | CI10: =CA10+CC10+CG10+CE10 -> 6 | CJ10: =CB10+CD10+CH10+CF10 -> 165 | CK10: 22 | CL10: 8 | CM10: =ROUND(CL10*CK10/25*12*2*1.302,1) -> 220 | CO10: =ROUND(CN10*CK10/25*12*2*1.302,1) -> 0 | CS10: =ROUND(CR10*CK10/12*12*2*1.302,1) -> 0 | CT10: =CL10+CN10+CR10+CP10 -> 8 | CU10: =CM10+CO10+CS10+CQ10 -> 220 | CV10: 22 | CW10: 13 | CX10: =ROUND(CW10*CV10/25*12*2*1.302,1) -> 357.5 | CY10: 1 | CZ10: =ROUND(CY10*CV10/25*12*2*1.302,1) -> 27.5 | DB10: =ROUND(DA10*CV10/20*12*2*1.302,1) -> 0 | DD10: =ROUND(DC10*CV10/12*12*2*1.302,1) -> 0 | DE10: =CW10+CY10+DA10+DC10 -> 14 | DF10: =CX10+CZ10+DB10+DD10 -> 385 | DG10: 22 | DH10: 1 | DI10: =ROUND(DH10*DG10/25*12*2*1.302,1) -> 27.5 | DK10: =ROUND(DJ10*DG10/25*12*2*1.302,1) -> 0 | DP10: =DH10+DJ10+DL10+DN10 -> 1 | DQ10: =DI10+DK10+DM10+DO10 -> 27.5 | DR10: 22 | DS10: 1 | DT10: =ROUND(DS10*DR10/25*12*2*1.302,1) -> 27.5 | DV10: =ROUND(DU10*DT10/25*12*2*1.302,1) -> 0 | DX10: =ROUND(DW10*DR10/20*12*2*1.302,1) -> 0 | DZ10: =ROUND(DY10*DR10/12*12*2*1.302,1) -> 0 | EA10: =DS10+DU10+DY10+DW10 -> 1 | EB10: =DT10+DV10+DZ10+DX10 -> 27.5 | EC10: 22 | ED10: 13 | EE10: =ROUND(ED10*EC10/25*12*2*1.302,1) -> 357.5 | EG10: =ROUND(EF10*EC10/25*12*2*1.302,1) -> 0 | EL10: =ED10+EF10+EJ10+EH10 -> 13 | EM10: =EE10+EG10+EK10+EI10 -> 357.5 | EN10: 22 | EO10: 5 | EP10: =ROUND(EO10*EN10/25*12*2*1.302,1) -> 137.5 | ER10: =ROUND(EQ10*EP10/25*12*2*1.302,1) -> 0 | EW10: =EO10+EQ10+EU10+ES10 -> 5 | EX10: =EP10+ER10+EV10+ET10 -> 137.5 | EY10: 22 | EZ10: 1 | FA10: =ROUND(EZ10*EY10/25*12*2*1.302,1) -> 27.5 | FC10: =ROUND(FB10*FA10/25*12*2*1.302,1) -> 0 | FH10: =EZ10+FB10+FF10+FD10 -> 1 | FI10: =FA10+FC10+FG10+FE10 -> 27.5 | FJ10: 22 | FK10: 2 | FL10: =ROUND(FK10*FJ10/25*12*2*1.302,1) -> 55 | FM10: 0 | FN10: =ROUND(FM10*FL10/25*12*2*1.302,1) -> 0 | FR10: =ROUND(FQ10*FJ10/12*12*2*1.302,1) -> 0 | FS10: =FK10+FM10+FQ10+FO10 -> 2 | FT10: =FL10+FN10+FR10+FP10 -> 55 | FU10: 22 | FV10: 5 | FW10: =ROUND(FV10*FU10/25*12*2*1.302,1) -> 137.5 | FY10: =ROUND(FX10*FW10/25*12*2*1.302,1) -> 0 | GD10: =FV10+FX10+GB10+FZ10 -> 5 | GE10: =FW10+FY10+GC10+GA10 -> 137.5 | GF10: 22 | GG10: 4 | GH10: =ROUND(GG10*GF10/25*12*2*1.302,1) -> 110 | GJ10: =ROUND(GI10*GH10/25*12*2*1.302,1) -> 0 | GO10: =GG10+GI10+GM10+GK10 -> 4 | GP10: =GH10+GJ10+GN10+GL10 -> 110 | GQ10: 22 | GR10: 9 | GS10: =ROUND(GR10*GQ10/25*12*2*1.302,1) -> 247.5 | GU10: =ROUND(GT10*GS10/25*12*2*1.302,1) -> 0 | GZ10: =GR10+GT10+GX10+GV10 -> 9 | HA10: =GS10+GU10+GY10+GW10 -> 247.5
A11: 21 | B11: =M11+X11+AI11+AT11+BE11+BP11+CA11+CL11+CW11+DH11+DS11+ED11+EO11+EZ11+FK11+FV11+GG11+GR11 -> 96 | C11: =N11+Y11+AJ11+AU11+BF11+BQ11+CB11+CM11+CX11+DI11+DT11+EE11+EP11+FA11+FL11+FW11+GH11+GS11 -> 2519.6 | D11: =O11+Z11+AK11+AV11+BG11+BR11+CC11+CN11+CY11+DJ11+DU11+EF11+EQ11+FB11+FM11+FX11+GI11+GT11 -> 0 | E11: =P11+AA11+AL11+AW11+BH11+BS11+CD11+CO11+CZ11+DK11+DV11+EG11+ER11+FC11+FN11+FY11+GJ11+GU11 -> 0 | F11: =Q11+AB11+AM11+AX11+BI11+BT11+CE11+CP11+DA11+DL11+DW11+EH11+ES11+FD11+FO11+FZ11+GK11+GV11 -> 0 | G11: =R11+AC11+AN11+AY11+BJ11+BU11+CF11+CQ11+DB11+DM11+DX11+EI11+ET11+FE11+FP11+GA11+GL11+GW11 -> 0 | H11: =S11+AD11+AO11+AZ11+BK11+BV11+CG11+CR11+DC11+DN11+DY11+EJ11+EU11+FF11+FQ11+GB11+GM11+GX11 -> 0 | I11: =T11+AE11+AP11+BA11+BL11+BW11+CH11+CS11+DD11+DO11+DZ11+EK11+EV11+FG11+FR11+GC11+GN11+GY11 -> 0 | ... K11: =V11+AG11+AR11+BC11+BN11+BY11+CJ11+CU11+DF11+DQ11+EB11+EM11+EX11+FI11+FT11+GE11+GP11+HA11 -> 2519.6 | L11: 21 | M11: 3 | N11: =ROUND(M11*L11/25*12*2*1.302,1) -> 78.7 | P11: =ROUND(O11*N11/25*12*2*1.302,1) -> 0 | U11: =M11+O11+S11+Q11 -> 3 | V11: =N11+P11+T11+R11 -> 78.7 | W11: 21 | X11: 1 | Y11: =ROUND(X11*W11/25*12*2*1.302,1) -> 26.2 | AA11: =ROUND(Z11*Y11/25*12*2*1.302,1) -> 0 | AF11: =X11+Z11+AD11+AB11 -> 1 | AG11: =Y11+AA11+AE11+AC11 -> 26.2 | AH11: 21 | AI11: 6 | AJ11: =ROUND(AI11*AH11/25*12*2*1.302,1) -> 157.5 | AL11: =ROUND(AK11*AH11/25*12*2*1.302,1) -> 0 | AQ11: =AI11+AK11+AO11+AM11 -> 6 | AR11: =AJ11+AL11+AP11+AN11 -> 157.5 | AS11: 21 | AU11: =ROUND(AT11*AS11/25*12*2*1.302,1) -> 0 | AW11: =ROUND(AV11*AS11/25*12*2*1.302,1) -> 0 | BB11: =AT11+AV11+AZ11+AX11 -> 0 | BC11: =AU11+AW11+BA11+AY11 -> 0 | BD11: 21 | BE11: 14 | BF11: =ROUND(BE11*BD11/25*12*2*1.302,1) -> 367.5 | BH11: =ROUND(BG11*BF11/25*12*2*1.302,1) -> 0 | BM11: =BE11+BG11+BK11+BI11 -> 14 | BN11: =BF11+BH11+BL11+BJ11 -> 367.5 | BO11: 21 | BP11: 21 | BQ11: =ROUND(BP11*BO11/25*12*2*1.302,1) -> 551.2 | BS11: =ROUND(BR11*BQ11/25*12*2*1.302,1) -> 0 | BX11: =BP11+BR11+BV11+BT11 -> 21 | BY11: =BQ11+BS11+BW11+BU11 -> 551.2 | BZ11: 21 | CA11: 4 | CB11: =ROUND(CA11*BZ11/25*12*2*1.302,1) -> 105 | CD11: =ROUND(CC11*CB11/25*12*2*1.302,1) -> 0 | CI11: =CA11+CC11+CG11+CE11 -> 4 | CJ11: =CB11+CD11+CH11+CF11 -> 105 | CK11: 21 | CL11: 1 | CM11: =ROUND(CL11*CK11/25*12*2*1.302,1) -> 26.2 | CO11: =ROUND(CN11*CK11/25*12*2*1.302,1) -> 0 | CS11: =ROUND(CR11*CK11/12*12*2*1.302,1) -> 0 | CT11: =CL11+CN11+CR11+CP11 -> 1 | CU11: =CM11+CO11+CS11+CQ11 -> 26.2 | CV11: 21 | CW11: 7 | CX11: =ROUND(CW11*CV11/25*12*2*1.302,1) -> 183.7 | CZ11: =ROUND(CY11*CV11/25*12*2*1.302,1) -> 0 | DB11: =ROUND(DA11*CV11/20*12*2*1.302,1) -> 0 | DD11: =ROUND(DC11*CV11/12*12*2*1.302,1) -> 0 | DE11: =CW11+CY11+DA11+DC11 -> 7 | DF11: =CX11+CZ11+DB11+DD11 -> 183.7 | DG11: 21 | DH11: 4 | DI11: =ROUND(DH11*DG11/25*12*2*1.302,1) -> 105 | DK11: =ROUND(DJ11*DG11/25*12*2*1.302,1) -> 0 | DP11: =DH11+DJ11+DL11+DN11 -> 4 | DQ11: =DI11+DK11+DM11+DO11 -> 105 | DR11: 21 | DS11: 3 | DT11: =ROUND(DS11*DR11/25*12*2*1.302,1) -> 78.7 | DV11: =ROUND(DU11*DT11/25*12*2*1.302,1) -> 0 | DX11: =ROUND(DW11*DR11/20*12*2*1.302,1) -> 0 | DZ11: =ROUND(DY11*DR11/12*12*2*1.302,1) -> 0 | EA11: =DS11+DU11+DY11+DW11 -> 3 | EB11: =DT11+DV11+DZ11+DX11 -> 78.7 | EC11: 21 | ED11: 6 | EE11: =ROUND(ED11*EC11/25*12*2*1.302,1) -> 157.5 | EG11: =ROUND(EF11*EC11/25*12*2*1.302,1) -> 0 | EL11: =ED11+EF11+EJ11+EH11 -> 6 | EM11: =EE11+EG11+EK11+EI11 -> 157.5 | EN11: 21 | EO11: 4 | EP11: =ROUND(EO11*EN11/25*12*2*1.302,1) -> 105 | ER11: =ROUND(EQ11*EP11/25*12*2*1.302,1) -> 0 | EW11: =EO11+EQ11+EU11+ES11 -> 4 | EX11: =EP11+ER11+EV11+ET11 -> 105 | EY11: 21 | FA11: =ROUND(EZ11*EY11/25*12*2*1.302,1) -> 0 | FC11: =ROUND(FB11*FA11/25*12*2*1.302,1) -> 0 | FH11: =EZ11+FB11+FF11+FD11 -> 0 | FI11: =FA11+FC11+FG11+FE11 -> 0 | FJ11: 21 | FK11: 1 | FL11: =ROUND(FK11*FJ11/25*12*2*1.302,1) -> 26.2 | FM11: 0 | FN11: =ROUND(FM11*FL11/25*12*2*1.302,1) -> 0 | FR11: =ROUND(FQ11*FJ11/12*12*2*1.302,1) -> 0 | FS11: =FK11+FM11+FQ11+FO11 -> 1 | FT11: =FL11+FN11+FR11+FP11 -> 26.2 | FU11: 21 | FV11: 3 | FW11: =ROUND(FV11*FU11/25*12*2*1.302,1) -> 78.7 | FY11: =ROUND(FX11*FW11/25*12*2*1.302,1) -> 0 | GD11: =FV11+FX11+GB11+FZ11 -> 3 | GE11: =FW11+FY11+GC11+GA11 -> 78.7 | GF11: 21 | GG11: 10 | GH11: =ROUND(GG11*GF11/25*12*2*1.302,1) -> 262.5 | GJ11: =ROUND(GI11*GH11/25*12*2*1.302,1) -> 0 | GO11: =GG11+GI11+GM11+GK11 -> 10 | GP11: =GH11+GJ11+GN11+GL11 -> 262.5 | GQ11: 21 | GR11: 8 | GS11: =ROUND(GR11*GQ11/25*12*2*1.302,1) -> 210 | GU11: =ROUND(GT11*GS11/25*12*2*1.302,1) -> 0 | GZ11: =GR11+GT11+GX11+GV11 -> 8 | HA11: =GS11+GU11+GY11+GW11 -> 210
A12: 20 | B12: =M12+X12+AI12+AT12+BE12+BP12+CA12+CL12+CW12+DH12+DS12+ED12+EO12+EZ12+FK12+FV12+GG12+GR12 -> 84 | C12: =N12+Y12+AJ12+AU12+BF12+BQ12+CB12+CM12+CX12+DI12+DT12+EE12+EP12+FA12+FL12+FW12+GH12+GS12 -> 2100 | D12: =O12+Z12+AK12+AV12+BG12+BR12+CC12+CN12+CY12+DJ12+DU12+EF12+EQ12+FB12+FM12+FX12+GI12+GT12 -> 0 | E12: =P12+AA12+AL12+AW12+BH12+BS12+CD12+CO12+CZ12+DK12+DV12+EG12+ER12+FC12+FN12+FY12+GJ12+GU12 -> 0 | F12: =Q12+AB12+AM12+AX12+BI12+BT12+CE12+CP12+DA12+DL12+DW12+EH12+ES12+FD12+FO12+FZ12+GK12+GV12 -> 0 | G12: =R12+AC12+AN12+AY12+BJ12+BU12+CF12+CQ12+DB12+DM12+DX12+EI12+ET12+FE12+FP12+GA12+GL12+GW12 -> 0 | H12: =S12+AD12+AO12+AZ12+BK12+BV12+CG12+CR12+DC12+DN12+DY12+EJ12+EU12+FF12+FQ12+GB12+GM12+GX12 -> 0 | I12: =T12+AE12+AP12+BA12+BL12+BW12+CH12+CS12+DD12+DO12+DZ12+EK12+EV12+FG12+FR12+GC12+GN12+GY12 -> 0 | ... K12: =V12+AG12+AR12+BC12+BN12+BY12+CJ12+CU12+DF12+DQ12+EB12+EM12+EX12+FI12+FT12+GE12+GP12+HA12 -> 2100 | L12: 20 | M12: 1 | N12: =ROUND(M12*L12/25*12*2*1.302,1) -> 25 | P12: =ROUND(O12*N12/25*12*2*1.302,1) -> 0 | R12: =ROUND(Q12*L12/20*12*2*1.302,1) -> 0 | U12: =M12+O12+S12+Q12 -> 1 | V12: =N12+P12+T12+R12 -> 25 | W12: 20 | X12: 1 | Y12: =ROUND(X12*W12/25*12*2*1.302,1) -> 25 | AA12: =ROUND(Z12*Y12/25*12*2*1.302,1) -> 0 | AC12: =ROUND(AB12*W12/20*12*2*1.302,1) -> 0 | AF12: =X12+Z12+AD12+AB12 -> 1 | AG12: =Y12+AA12+AE12+AC12 -> 25 | AH12: 20 | AI12: 6 | AJ12: =ROUND(AI12*AH12/25*12*2*1.302,1) -> 150 | AL12: =ROUND(AK12*AH12/25*12*2*1.302,1) -> 0 | AN12: =ROUND(AM12*AH12/20*12*2*1.302,1) -> 0 | AQ12: =AI12+AK12+AO12+AM12 -> 6 | AR12: =AJ12+AL12+AP12+AN12 -> 150 | AS12: 20 | AU12: =ROUND(AT12*AS12/25*12*2*1.302,1) -> 0 | AW12: =ROUND(AV12*AS12/25*12*2*1.302,1) -> 0 | AY12: =ROUND(AX12*AS12/20*12*2*1.302,1) -> 0 | BB12: =AT12+AV12+AZ12+AX12 -> 0 | BC12: =AU12+AW12+BA12+AY12 -> 0 | BD12: 20 | BE12: 12 | BF12: =ROUND(BE12*BD12/25*12*2*1.302,1) -> 300 | BH12: =ROUND(BG12*BF12/25*12*2*1.302,1) -> 0 | BJ12: =ROUND(BI12*BD12/20*12*2*1.302,1) -> 0 | BM12: =BE12+BG12+BK12+BI12 -> 12 | BN12: =BF12+BH12+BL12+BJ12 -> 300 | BO12: 20 | BP12: 16 | BQ12: =ROUND(BP12*BO12/25*12*2*1.302,1) -> 400 | BS12: =ROUND(BR12*BQ12/25*12*2*1.302,1) -> 0 | BU12: =ROUND(BT12*BO12/20*12*2*1.302,1) -> 0 | BX12: =BP12+BR12+BV12+BT12 -> 16 | BY12: =BQ12+BS12+BW12+BU12 -> 400 | BZ12: 20 | CA12: 7 | CB12: =ROUND(CA12*BZ12/25*12*2*1.302,1) -> 175 | CD12: =ROUND(CC12*CB12/25*12*2*1.302,1) -> 0 | CF12: =ROUND(CE12*BZ12/20*12*2*1.302,1) -> 0 | CI12: =CA12+CC12+CG12+CE12 -> 7 | CJ12: =CB12+CD12+CH12+CF12 -> 175 | CK12: 20 | CL12: 1 | CM12: =ROUND(CL12*CK12/25*12*2*1.302,1) -> 25 | CO12: =ROUND(CN12*CK12/25*12*2*1.302,1) -> 0 | CQ12: =ROUND(CP12*CK12/20*12*2*1.302,1) -> 0 | CS12: =ROUND(CR12*CK12/12*12*2*1.302,1) -> 0 | CT12: =CL12+CN12+CR12+CP12 -> 1 | CU12: =CM12+CO12+CS12+CQ12 -> 25 | CV12: 20 | CW12: 8 | CX12: =ROUND(CW12*CV12/25*12*2*1.302,1) -> 200 | CZ12: =ROUND(CY12*CV12/25*12*2*1.302,1) -> 0 | DB12: =ROUND(DA12*CV12/20*12*2*1.302,1) -> 0 | DD12: =ROUND(DC12*CV12/12*12*2*1.302,1) -> 0 | DE12: =CW12+CY12+DA12+DC12 -> 8 | DF12: =CX12+CZ12+DB12+DD12 -> 200 | DG12: 20 | DH12: 2 | DI12: =ROUND(DH12*DG12/25*12*2*1.302,1) -> 50 | DK12: =ROUND(DJ12*DG12/25*12*2*1.302,1) -> 0 | DM12: =ROUND(DL12*DG12/20*12*2*1.302,1) -> 0 | DP12: =DH12+DJ12+DL12+DN12 -> 2 | DQ12: =DI12+DK12+DM12+DO12 -> 50 | DR12: 20 | DS12: 3 | DT12: =ROUND(DS12*DR12/25*12*2*1.302,1) -> 75 | DV12: =ROUND(DU12*DT12/25*12*2*1.302,1) -> 0 | DX12: =ROUND(DW12*DR12/20*12*2*1.302,1) -> 0 | DZ12: =ROUND(DY12*DR12/12*12*2*1.302,1) -> 0 | EA12: =DS12+DU12+DY12+DW12 -> 3 | EB12: =DT12+DV12+DZ12+DX12 -> 75 | EC12: 20 | ED12: 5 | EE12: =ROUND(ED12*EC12/25*12*2*1.302,1) -> 125 | EG12: =ROUND(EF12*EC12/25*12*2*1.302,1) -> 0 | EI12: =ROUND(EH12*EC12/20*12*2*1.302,1) -> 0 | EL12: =ED12+EF12+EJ12+EH12 -> 5 | EM12: =EE12+EG12+EK12+EI12 -> 125 | EN12: 20 | EO12: 8 | EP12: =ROUND(EO12*EN12/25*12*2*1.302,1) -> 200 | ER12: =ROUND(EQ12*EP12/25*12*2*1.302,1) -> 0 | ET12: =ROUND(ES12*EN12/20*12*2*1.302,1) -> 0 | EW12: =EO12+EQ12+EU12+ES12 -> 8 | EX12: =EP12+ER12+EV12+ET12 -> 200 | EY12: 20 | FA12: =ROUND(EZ12*EY12/25*12*2*1.302,1) -> 0 | FC12: =ROUND(FB12*FA12/25*12*2*1.302,1) -> 0 | FE12: =ROUND(FD12*EY12/20*12*2*1.302,1) -> 0 | FH12: =EZ12+FB12+FF12+FD12 -> 0 | FI12: =FA12+FC12+FG12+FE12 -> 0 | FJ12: 20 | FK12: 0 | FL12: =ROUND(FK12*FJ12/25*12*2*1.302,1) -> 0 | FM12: 0 | FN12: =ROUND(FM12*FL12/25*12*2*1.302,1) -> 0 | FO12: 0 | FP12: 0 | FR12: =ROUND(FQ12*FJ12/12*12*2*1.302,1) -> 0 | FS12: =FK12+FM12+FQ12+FO12 -> 0 | FT12: =FL12+FN12+FR12+FP12 -> 0 | FU12: 20 | FV12: 2 | FW12: =ROUND(FV12*FU12/25*12*2*1.302,1) -> 50 | FY12: =ROUND(FX12*FW12/25*12*2*1.302,1) -> 0 | GA12: =ROUND(FZ12*FU12/20*12*2*1.302,1) -> 0 | GD12: =FV12+FX12+GB12+FZ12 -> 2 | GE12: =FW12+FY12+GC12+GA12 -> 50 | GF12: 20 | GG12: 6 | GH12: =ROUND(GG12*GF12/25*12*2*1.302,1) -> 150 | GJ12: =ROUND(GI12*GH12/25*12*2*1.302,1) -> 0 | GL12: =ROUND(GK12*GF12/20*12*2*1.302,1) -> 0 | GO12: =GG12+GI12+GM12+GK12 -> 6 | GP12: =GH12+GJ12+GN12+GL12 -> 150 | GQ12: 20 | GR12: 6 | GS12: =ROUND(GR12*GQ12/25*12*2*1.302,1) -> 150 | GU12: =ROUND(GT12*GS12/25*12*2*1.302,1) -> 0 | GW12: =ROUND(GV12*GQ12/20*12*2*1.302,1) -> 0 | GZ12: =GR12+GT12+GX12+GV12 -> 6 | HA12: =GS12+GU12+GY12+GW12 -> 150
A13: 19 | B13: =M13+X13+AI13+AT13+BE13+BP13+CA13+CL13+CW13+DH13+DS13+ED13+EO13+EZ13+FK13+FV13+GG13+GR13 -> 39 | C13: =N13+Y13+AJ13+AU13+BF13+BQ13+CB13+CM13+CX13+DI13+DT13+EE13+EP13+FA13+FL13+FW13+GH13+GS13 -> 926 | D13: =O13+Z13+AK13+AV13+BG13+BR13+CC13+CN13+CY13+DJ13+DU13+EF13+EQ13+FB13+FM13+FX13+GI13+GT13 -> 0 | E13: =P13+AA13+AL13+AW13+BH13+BS13+CD13+CO13+CZ13+DK13+DV13+EG13+ER13+FC13+FN13+FY13+GJ13+GU13 -> 0 | F13: =Q13+AB13+AM13+AX13+BI13+BT13+CE13+CP13+DA13+DL13+DW13+EH13+ES13+FD13+FO13+FZ13+GK13+GV13 -> 0 | G13: =R13+AC13+AN13+AY13+BJ13+BU13+CF13+CQ13+DB13+DM13+DX13+EI13+ET13+FE13+FP13+GA13+GL13+GW13 -> 0 | H13: =S13+AD13+AO13+AZ13+BK13+BV13+CG13+CR13+DC13+DN13+DY13+EJ13+EU13+FF13+FQ13+GB13+GM13+GX13 -> 0 | I13: =T13+AE13+AP13+BA13+BL13+BW13+CH13+CS13+DD13+DO13+DZ13+EK13+EV13+FG13+FR13+GC13+GN13+GY13 -> 0 | ... K13: =V13+AG13+AR13+BC13+BN13+BY13+CJ13+CU13+DF13+DQ13+EB13+EM13+EX13+FI13+FT13+GE13+GP13+HA13 -> 926 | L13: 19 | M13: 2 | N13: =ROUND(M13*L13/25*12*2*1.302,1) -> 47.5 | P13: =ROUND(O13*N13/25*12*2*1.302,1) -> 0 | R13: =ROUND(Q13*L13/20*12*2*1.302,1) -> 0 | U13: =M13+O13+S13+Q13 -> 2 | V13: =N13+P13+T13+R13 -> 47.5 | W13: 19 | Y13: =ROUND(X13*W13/25*12*2*1.302,1) -> 0 | AA13: =ROUND(Z13*Y13/25*12*2*1.302,1) -> 0 | AC13: =ROUND(AB13*W13/20*12*2*1.302,1) -> 0 | AF13: =X13+Z13+AD13+AB13 -> 0 | AG13: =Y13+AA13+AE13+AC13 -> 0 | AH13: 19 | AI13: 1 | AJ13: =ROUND(AI13*AH13/25*12*2*1.302,1) -> 23.7 | AL13: =ROUND(AK13*AH13/25*12*2*1.302,1) -> 0 | AN13: =ROUND(AM13*AH13/20*12*2*1.302,1) -> 0 | AQ13: =AI13+AK13+AO13+AM13 -> 1 | AR13: =AJ13+AL13+AP13+AN13 -> 23.7 | AS13: 19 | AU13: =ROUND(AT13*AS13/25*12*2*1.302,1) -> 0 | AW13: =ROUND(AV13*AS13/25*12*2*1.302,1) -> 0 | AY13: =ROUND(AX13*AS13/20*12*2*1.302,1) -> 0 | BB13: =AT13+AV13+AZ13+AX13 -> 0 | BC13: =AU13+AW13+BA13+AY13 -> 0 | BD13: 19 | BE13: 3 | BF13: =ROUND(BE13*BD13/25*12*2*1.302,1) -> 71.2 | BH13: =ROUND(BG13*BF13/25*12*2*1.302,1) -> 0 | BJ13: =ROUND(BI13*BD13/20*12*2*1.302,1) -> 0 | BM13: =BE13+BG13+BK13+BI13 -> 3 | BN13: =BF13+BH13+BL13+BJ13 -> 71.2 | BO13: 19 | BP13: 13 | BQ13: =ROUND(BP13*BO13/25*12*2*1.302,1) -> 308.7 | BS13: =ROUND(BR13*BQ13/25*12*2*1.302,1) -> 0 | BU13: =ROUND(BT13*BO13/20*12*2*1.302,1) -> 0 | BX13: =BP13+BR13+BV13+BT13 -> 13 | BY13: =BQ13+BS13+BW13+BU13 -> 308.7 | BZ13: 19 | CB13: =ROUND(CA13*BZ13/25*12*2*1.302,1) -> 0 | CD13: =ROUND(CC13*CB13/25*12*2*1.302,1) -> 0 | CF13: =ROUND(CE13*BZ13/20*12*2*1.302,1) -> 0 | CI13: =CA13+CC13+CG13+CE13 -> 0 | CJ13: =CB13+CD13+CH13+CF13 -> 0 | CK13: 19 | CM13: =ROUND(CL13*CK13/25*12*2*1.302,1) -> 0 | CO13: =ROUND(CN13*CK13/25*12*2*1.302,1) -> 0 | CQ13: =ROUND(CP13*CK13/20*12*2*1.302,1) -> 0 | CS13: =ROUND(CR13*CK13/12*12*2*1.302,1) -> 0 | CT13: =CL13+CN13+CR13+CP13 -> 0 | CU13: =CM13+CO13+CS13+CQ13 -> 0 | CV13: 19 | CW13: 5 | CX13: =ROUND(CW13*CV13/25*12*2*1.302,1) -> 118.7 | CZ13: =ROUND(CY13*CV13/25*12*2*1.302,1) -> 0 | DB13: =ROUND(DA13*CV13/20*12*2*1.302,1) -> 0 | DD13: =ROUND(DC13*CV13/12*12*2*1.302,1) -> 0 | DE13: =CW13+CY13+DA13+DC13 -> 5 | DF13: =CX13+CZ13+DB13+DD13 -> 118.7 | DG13: 19 | DH13: 2 | DI13: =ROUND(DH13*DG13/25*12*2*1.302,1) -> 47.5 | DK13: =ROUND(DJ13*DG13/25*12*2*1.302,1) -> 0 | DM13: =ROUND(DL13*DG13/20*12*1.302,1) -> 0 | DP13: =DH13+DJ13+DL13+DN13 -> 2 | DQ13: =DI13+DK13+DM13+DO13 -> 47.5 | DR13: 19 | DT13: =ROUND(DS13*DR13/25*12*2*1.302,1) -> 0 | DV13: =ROUND(DU13*DT13/25*12*2*1.302,1) -> 0 | DX13: =ROUND(DW13*DR13/20*12*2*1.302,1) -> 0 | DZ13: =ROUND(DY13*DR13/12*12*2*1.302,1) -> 0 | EA13: =DS13+DU13+DY13+DW13 -> 0 | EB13: =DT13+DV13+DZ13+DX13 -> 0 | EC13: 19 | ED13: 4 | EE13: =ROUND(ED13*EC13/25*12*2*1.302,1) -> 95 | EG13: =ROUND(EF13*EC13/25*12*2*1.302,1) -> 0 | EI13: =ROUND(EH13*EC13/20*12*2*1.302,1) -> 0 | EL13: =ED13+EF13+EJ13+EH13 -> 4 | EM13: =EE13+EG13+EK13+EI13 -> 95 | EN13: 19 | EO13: 1 | EP13: =ROUND(EO13*EN13/25*12*2*1.302,1) -> 23.7 | ER13: =ROUND(EQ13*EP13/25*12*2*1.302,1) -> 0 | ET13: =ROUND(ES13*EN13/20*12*2*1.302,1) -> 0 | EW13: =EO13+EQ13+EU13+ES13 -> 1 | EX13: =EP13+ER13+EV13+ET13 -> 23.7 | EY13: 19 | FA13: =ROUND(EZ13*EY13/25*12*2*1.302,1) -> 0 | FC13: =ROUND(FB13*FA13/25*12*2*1.302,1) -> 0 | FE13: =ROUND(FD13*EY13/20*12*2*1.302,1) -> 0 | FH13: =EZ13+FB13+FF13+FD13 -> 0 | FI13: =FA13+FC13+FG13+FE13 -> 0 | FJ13: 19 | FK13: 0 | FL13: =ROUND(FK13*FJ13/25*12*2*1.302,1) -> 0 | FM13: 0 | FN13: =ROUND(FM13*FL13/25*12*2*1.302,1) -> 0 | FO13: 0 | FP13: 0 | FR13: =ROUND(FQ13*FJ13/12*12*2*1.302,1) -> 0 | FS13: =FK13+FM13+FQ13+FO13 -> 0 | FT13: =FL13+FN13+FR13+FP13 -> 0 | FU13: 19 | FV13: 4 | FW13: =ROUND(FV13*FU13/25*12*2*1.302,1) -> 95 | FY13: =ROUND(FX13*FW13/25*12*2*1.302,1) -> 0 | GA13: =ROUND(FZ13*FU13/20*12*2*1.302,1) -> 0 | GD13: =FV13+FX13+GB13+FZ13 -> 4 | GE13: =FW13+FY13+GC13+GA13 -> 95 | GF13: 19 | GG13: 4 | GH13: =ROUND(GG13*GF13/25*12*2*1.302,1) -> 95 | GJ13: =ROUND(GI13*GH13/25*12*2*1.302,1) -> 0 | GL13: =ROUND(GK13*GF13/20*12*2*1.302,1) -> 0 | GO13: =GG13+GI13+GM13+GK13 -> 4 | GP13: =GH13+GJ13+GN13+GL13 -> 95 | GQ13: 19 | GR13: 0 | GS13: =ROUND(GR13*GQ13/25*12*2*1.302,1) -> 0 | GU13: =ROUND(GT13*GS13/25*12*2*1.302,1) -> 0 | GW13: =ROUND(GV13*GQ13/20*12*2*1.302,1) -> 0 | GZ13: =GR13+GT13+GX13+GV13 -> 0 | HA13: =GS13+GU13+GY13+GW13 -> 0
