Workbook
Name Excel_BuiltIn__FilterDatabase: 'Классное руководство'!$A$4:$D$26

Sheet Исходные для нормативов
A1: Показатели | C1: Общее образование в общеобразовательных учреждениях
C2: Начальное общее образование | D2: Основное общее образование | E2: Среднее (полное) общее образование
A3: Предельно допустимая учебная нагрузка при 6-дневной учебной неделе | C3: 3345 | D3: 6020 | E3: 2590
A4: количество лет обучения | C4: 4 | D4: 5 | E4: 2
A5: Продолжительность учебного года, в неделях | C5: 34 | D5: 34 | E5: 35
A6: Количество часов по учебному плану в неделю | C6: =C3/C4/C5 -> 24.595588 | D6: =ROUND(D3/D4/D5,0) -> 35 | E6: =E3/E4/E5 -> 37
A7: Количество часов по учебному плану в неделю для учащихся с ОВЗ при комплектовании по первому варианту | C7: =C6 -> 24.595588 | D7: =D6 -> 35 | E7: =E6 -> 37
A8: Количество часов по учебному плану в неделю для учащихся с ОВЗ при комплектовании по второму, третьему и четвертому вариантам | C8: =(21+23*3)/4 -> 22.5 | D8: =(29+30+32+33*2)/5 -> 31.4 | E8: 34
A9: Бsn - количество часов по базисному учебному плану в неделю:
A10: на реализацию общеобразовательных программ в дневных общеобразовательных учреждениях | C10: =ROUND(C6,0) -> 25 | D10: =ROUND(D6,0) -> 35 | E10: =ROUND(E6,0) -> 37
A11: на реализацию общеобразовательных программ при вечерней (заочной формой обучения) | C11: 25 | D11: 26 | E11: 26
A12: для индивидуального обучения длительно болеющих учащихся | C12: 8 | D12: 10 | E12: 11
A13: для семейного обучения | C13: 9 | D13: 17 | E13: 19
A14: Количество часов внеурочной деятельности в рамках реализации ФГОС | C14: 10 | D14: 10 | E14: 10
A15: Мsn – расчетная наполняемость:
A16: общеобразовательных классов общеобразовательных учреждений, расположенных в городской местности | C16: 25 | D16: 25 | E16: 25
A17: общеобразовательных классов общеобразовательных учреждений, расположенных в поселках городского типа с контингентом обучающихся более 300 человек | C17: 25 | D17: 25 | E17: 25
A18: общеобразовательных классов общеобразовательных учреждений, расположенных в поселках городского типа с контингентом обучающихся от 201 до 300 человек | C18: 23 | D18: 23 | E18: 23
A19: общеобразовательных классов общеобразовательных учреждений, расположенных в поселках городского типа с контингентом обучающихся от 101 до 200 человек | C19: 15 | D19: 15 | E19: 15
A20: общеобразовательных классов общеобразовательных учреждений, расположенных в поселках городского типа с контингентом обучающихся менее 100 человек | C20: 10 | D20: 10 | E20: 10
A21: общеобразовательных классов общеобразовательных учреждений с контингентом обучающихся более 250 человек, расположенных в сельской местности | C21: 20 | D21: 20 | E21: 20
A22: общеобразовательных классов общеобразовательных учреждений с контингентом обучающихся от 201 до 250 человек, расположенных в сельской местности | C22: 18 | D22: 18 | E22: 18
A23: общеобразовательных классов общеобразовательных учреждений с контингентом обучающихся от 101 до 200 человек, расположенных в сельской местности | C23: 15 | D23: 15 | E23: 15
A24: общеобразовательных классов общеобразовательных учреждений с контингентом обучающихся от 61 до 100 человек, расположенных в сельской местности; | C24: 11 | D24: 11 | E24: 11
A25: общеобразовательных классов общеобразовательных учреждений с контингентом обучающихся менее 61 человека, расположенных в сельской местности | C25: 7 | D25: 7 | E25: 7
A26: общеобразовательных школ-интернатов, расположенных в городской местности | C26: 20 | D26: 20 | E26: 20
A27: общеобразовательных школ-интернатов, расположенных в сельской местности | C27: 14 | D27: 14 | E27: 14
A28: 1 вариант программы образования учащихся с ОВЗ | B28: глухие обучающиеся | C28: 20 | D28: =C28 -> 20 | E28: =D28 -> 20
B29: слабослышащие и познооглохшие обучающиеся | C29: 25 | D29: =C29 -> 25 | E29: =D29 -> 25
B30: слепые обучающиеся | C30: 20 | D30: =C30 -> 20 | E30: =D30 -> 20
B31: слабовидящие обучающиеся | C31: 25 | D31: =C31 -> 25 | E31: =D31 -> 25
B32: обучающиеся с тяжелыми нарушениями речи (ТНР) | C32: 25 | D32: =C32 -> 25 | E32: =D32 -> 25
B33: обучающиеся с нарушением опорно-двигательного аппарата | C33: 20 | D33: =C33 -> 20 | E33: =D33 -> 20
B34: обучающиеся с задержкой психического развития (ЗПР) | C34: 25 | D34: =C34 -> 25 | E34: =D34 -> 25
B35: обучающиеся с расстройствами аутического спектора (РАС) | C35: 20 | D35: =C35 -> 20 | E35: =D35 -> 20
B36: обучающиеся с умственной отсталостью (интеллектуальными нарушениями) | C36: 0 | D36: =C36 -> 0 | E36: =D36 -> 0
A37: 2 вариант программы образования учащихся с ОВЗ | B37: глухие обучающиеся | C37: 6 | D37: =C37 -> 6 | E37: =D37 -> 6
B38: слабослышащие и познооглохшие обучающиеся | C38: 7 | D38: =C38 -> 7 | E38: =D38 -> 7
B39: слепые обучающиеся | C39: 9 | D39: =C39 -> 9 | E39: =D39 -> 9
B40: слабовидящие обучающиеся | C40: 12 | D40: =C40 -> 12 | E40: =D40 -> 12
B41: обучающиеся с тяжелыми нарушениями речи (ТНР) | C41: 12 | D41: =C41 -> 12 | E41: =D41 -> 12
B42: обучающиеся с нарушением опорно-двигательного аппарата | C42: 5 | D42: =C42 -> 5 | E42: =D42 -> 5
B43: обучающиеся с задержкой психического развития (ЗПР) | C43: 12 | D43: =C43 -> 12 | E43: =D43 -> 12
B44: обучающиеся с расстройствами аутического спектора (РАС) | C44: 12 | D44: =C44 -> 12 | E44: =D44 -> 12
B45: обучающиеся с умственной отсталостью (интеллектуальными нарушениями) | C45: 0 | D45: =C45 -> 0 | E45: =D45 -> 0
A46: 3 вариант программы образования учащихся с ОВЗ | B46: глухие обучающиеся | C46: 5 | D46: =C46 -> 5 | E46: =D46 -> 5
B47: слабослышащие и познооглохшие обучающиеся | C47: 5 | D47: =C47 -> 5 | E47: =D47 -> 5
B48: слепые обучающиеся | C48: 7 | D48: =C48 -> 7 | E48: =D48 -> 7
B49: слабовидящие обучающиеся | C49: 9 | D49: =C49 -> 9 | E49: =D49 -> 9
B50: обучающиеся с тяжелыми нарушениями речи (ТНР) | C50: 0 | D50: =C50 -> 0 | E50: =D50 -> 0
B51: обучающиеся с нарушением опорно-двигательного аппарата | C51: 5 | D51: =C51 -> 5 | E51: =D51 -> 5
B52: обучающиеся с задержкой психического развития (ЗПР) | C52: 0 | D52: =C52 -> 0 | E52: =D52 -> 0
B53: обучающиеся с расстройствами аутического спектора (РАС) | C53: 9 | D53: =C53 -> 9 | E53: =D53 -> 9
B54: обучающиеся с умственной отсталостью (интеллектуальными нарушениями) | C54: 12 | D54: =C54 -> 12 | E54: =D54 -> 12
A55: 4 вариант программы образования учащихся с ОВЗ | B55: глухие обучающиеся | C55: 5 | D55: =C55 -> 5 | E55: =D55 -> 5
B56: слабослышащие и познооглохшие обучающиеся | C56: 0 | D56: =C56 -> 0 | E56: =D56 -> 0
B57: слепые обучающиеся | C57: 5 | D57: =C57 -> 5 | E57: =D57 -> 5
B58: слабовидящие обучающиеся | C58: 0 | D58: =C58 -> 0 | E58: =D58 -> 0
B59: обучающиеся с тяжелыми нарушениями речи (ТНР) | C59: 0 | D59: =C59 -> 0 | E59: =D59 -> 0
B60: обучающиеся с нарушением опорно-двигательного аппарата | C60: 5 | D60: =C60 -> 5 | E60: =D60 -> 5
B61: обучающиеся с задержкой психического развития (ЗПР) | C61: 0 | D61: =C61 -> 0 | E61: =D61 -> 0
B62: обучающиеся с расстройствами аутического спектора (РАС) | C62: 5 | D62: =C62 -> 5 | E62: =D62 -> 5
B63: обучающиеся с умственной отсталостью (интеллектуальными нарушениями) | C63: 5 | D63: =C63 -> 5 | E63: =D63 -> 5
A64: Вsn - число часов за ставку заработной платы учителя | C64: 18 | D64: 18 | E64: 18
A65: Кудsn – повышающий коэффициент, учитывающий деление классов на группы, для реализации профильного обучения, дополнительное образование в общеобразовательных организациях | C65: 1.429 | D65: 1.52 | E65: 1.56
A66: Кушsn – коэффициент штатной обеспеченности на административно-хозяйственный персонал:
A67: общеобразовательных классов общеобразовательных учреждений, расположенных в городской местности; общеобразовательных классов общеобразовательных учреждений с контингентом обучающихся более 250 человек, расположенных в сельской местности; дошкольных учреждений | C67: 0.3 | D67: 0.3 | E67: 0.3
A68: На одного обучающегося в общеобразовательных классах общеобразовательных организаций, расположенных в поселках городского типа, с численностью обучающихся менее 101 человека | C68: 0.305 | D68: 0.305 | E68: 0.305
A69: На одного обучающегося в общеобразовательных классах общеобразовательных организаций, расположенных в сельской местности, с численностью обучающихся от 201 до 250 человек, менее 201 человека | C69: 0.362 | D69: 0.362 | E69: 0.362
A70: На одного обучающегося с очно-заочной формой обучения в общеобразовательных классах общеобразовательных организаций, расположенных в городской и сельской местности | C70: 0.28 | D70: =C70 -> 0.28 | E70: =C70 -> 0.28
A71: общеобразовательных классов общеобразовательных школ-интернатов, для обучающихся со сложным дефектом (имеющих сочетание 2 или более недостатков в физическом и (или) психическом развитии), инклюзивное обучение учащихся с ОВЗ в городской и сельской местности | C71: 0.41 | D71: =C71 -> 0.41 | E71: =D71 -> 0.41
A72: для остальных общеобразовательных классов, в сельской местности с численностью в учреждении
A73: для остальных общеобразовательных классов, не перечисленных в предыдущих строках; | C73: 0.61 | D73: =C73 -> 0.61 | E73: =C73 -> 0.61
A74: Кунsn- повышающие коэффициенты, включающие компенсационные выплаты:
A75: за выполнение дополнительных работ: проверка письменных работ (тетрадей) | C75: 0.03 | D75: 0.03 | E75: 0.03
A76: за специфику классов:
A77: с углубленным изучением отдельных предметов, профильного образования | C77: 0.12 | D77: 0.12 | E77: 0.12
A78: за работу с детьми с ограниченными возможностями здоровья | C78: 0.15 | D78: 0.15 | E78: 0.15
A79: за работу в общеобразовательной школе- интернате | C79: 0.15 | D79: 0.15 | E79: 0.15
A80: Н ф - коэффициент стимулирующих выплат
A81: стимулирующий фонд | C81: 0.3 | D81: 0.3 | E81: 0.3
A82: стимулирующий фонд для организаций на селе | C82: 0.35 | D82: 0.35 | E82: 0.35
A83: К уч 1 - коэффициент для учебных расходов с учетом доступа в сеть Интернет | C83: 0.069 | D83: =C83 -> 0.069 | E83: =C83 -> 0.069
A84: К уч 2 - коэффициент для учебных расходов для обучающихся с ОВЗ по 1 варианту получения образования с учетом расходов на обеспечение доступа в Интернет | C84: 0.085 | D84: 0.085 | E84: 0.085

Sheet Нормативы 
A1: Расчет нормативов финансирования
A2: с 01.01.2019 | D2: Классы | H2: Классы, реализующие ФГОС
A3: 9555 | D3: 1-4 классы | E3: 5-9 классы | F3: 10-11 кл д | G3: 10-11 кл ля реализации профиля | H3: 1-4 классы | I3: 5-9 классы | J3: 10-11 кл | K3: 10-11 кл ля реализации профиля
A4: Ставки педагогического работника с учетом повышения базового оклада с 01.01.2018 до 9555 | D4: =(1.7*0.2+2*0.8)*$A$3 -> 18536.7 | E4: =2*$A$3 -> 19110 | F4: =2*$A$3 -> 19110 | G4: =F4 -> 19110 | H4: =D4 -> 18536.7 | I4: =E4 -> 19110 | J4: =F4 -> 19110 | K4: =J4 -> 19110
A5: количество часов по БУП | B5: общеобразовательные классы | D5: ='Исходные для нормативов'!$C$10 -> 25 | E5: ='Исходные для нормативов'!$D$10 -> 35 | F5: ='Исходные для нормативов'!$E$10 -> 37 | G5: =F5 -> 37 | H5: ='Исходные для нормативов'!$C$10 -> 25 | I5: ='Исходные для нормативов'!$D$10 -> 35 | J5: ='Исходные для нормативов'!$E$10 -> 37 | K5: =J5 -> 37
B6: с углубленным изучением отдельных учебных предметов | D6: ='Исходные для нормативов'!$C$10 -> 25 | E6: ='Исходные для нормативов'!$D$10 -> 35 | F6: ='Исходные для нормативов'!$E$10 -> 37 | G6: =F6 -> 37 | H6: ='Исходные для нормативов'!$C$10 -> 25 | I6: ='Исходные для нормативов'!$D$10 -> 35 | J6: ='Исходные для нормативов'!$E$10 -> 37 | K6: =J6 -> 37
B7: общеобразовательные классы - ПГТ с континг более 300 | D7: ='Исходные для нормативов'!$C$10 -> 25 | E7: ='Исходные для нормативов'!$D$10 -> 35 | F7: ='Исходные для нормативов'!$E$10 -> 37 | G7: =F7 -> 37 | H7: ='Исходные для нормативов'!$C$10 -> 25 | I7: ='Исходные для нормативов'!$D$10 -> 35 | J7: ='Исходные для нормативов'!$E$10 -> 37 | K7: =J7 -> 37
B8: общеобразовательные классы - ПГТ с континг более 201-300 | D8: ='Исходные для нормативов'!$C$10 -> 25 | E8: ='Исходные для нормативов'!$D$10 -> 35 | F8: ='Исходные для нормативов'!$E$10 -> 37 | G8: =F8 -> 37 | H8: ='Исходные для нормативов'!$C$10 -> 25 | I8: ='Исходные для нормативов'!$D$10 -> 35 | J8: ='Исходные для нормативов'!$E$10 -> 37 | K8: =J8 -> 37
B9: общеобразовательные классы - ПГТ с континг более 101-200 | D9: ='Исходные для нормативов'!$C$10 -> 25 | E9: ='Исходные для нормативов'!$D$10 -> 35 | F9: ='Исходные для нормативов'!$E$10 -> 37 | G9: =F9 -> 37 | H9: ='Исходные для нормативов'!$C$10 -> 25 | I9: ='Исходные для нормативов'!$D$10 -> 35 | J9: ='Исходные для нормативов'!$E$10 -> 37 | K9: =J9 -> 37
B10: общеобразовательные классы - ПГТ с континг менее 100 | D10: ='Исходные для нормативов'!$C$10 -> 25 | E10: ='Исходные для нормативов'!$D$10 -> 35 | F10: ='Исходные для нормативов'!$E$10 -> 37 | G10: =F10 -> 37 | H10: ='Исходные для нормативов'!$C$10 -> 25 | I10: ='Исходные для нормативов'!$D$10 -> 35 | J10: ='Исходные для нормативов'!$E$10 -> 37 | K10: =J10 -> 37
B11: общеобразовательные классы - СЕЛО с континг более 250 | D11: ='Исходные для нормативов'!$C$10 -> 25 | E11: ='Исходные для нормативов'!$D$10 -> 35 | F11: ='Исходные для нормативов'!$E$10 -> 37 | G11: =F11 -> 37 | H11: ='Исходные для нормативов'!$C$10 -> 25 | I11: ='Исходные для нормативов'!$D$10 -> 35 | J11: ='Исходные для нормативов'!$E$10 -> 37 | K11: =J11 -> 37
B12: общеобразовательные классы - СЕЛО с континг 201 - 250 | D12: ='Исходные для нормативов'!$C$10 -> 25 | E12: ='Исходные для нормативов'!$D$10 -> 35 | F12: ='Исходные для нормативов'!$E$10 -> 37 | G12: =F12 -> 37 | H12: ='Исходные для нормативов'!$C$10 -> 25 | I12: ='Исходные для нормативов'!$D$10 -> 35 | J12: ='Исходные для нормативов'!$E$10 -> 37 | K12: =J12 -> 37
B13: общеобразовательные классы - СЕЛО с континг 101 - 200 | D13: ='Исходные для нормативов'!$C$10 -> 25 | E13: ='Исходные для нормативов'!$D$10 -> 35 | F13: ='Исходные для нормативов'!$E$10 -> 37 | G13: =F13 -> 37 | H13: ='Исходные для нормативов'!$C$10 -> 25 | I13: ='Исходные для нормативов'!$D$10 -> 35 | J13: ='Исходные для нормативов'!$E$10 -> 37 | K13: =J13 -> 37
B14: общеобразовательные классы - СЕЛО с континг 61 - 100 | D14: ='Исходные для нормативов'!$C$10 -> 25 | E14: ='Исходные для нормативов'!$D$10 -> 35 | F14: ='Исходные для нормативов'!$E$10 -> 37 | G14: =F14 -> 37 | H14: ='Исходные для нормативов'!$C$10 -> 25 | I14: ='Исходные для нормативов'!$D$10 -> 35 | J14: ='Исходные для нормативов'!$E$10 -> 37 | K14: =J14 -> 37
B15: общеобразовательные классы - СЕЛО с континг менее 60 | D15: ='Исходные для нормативов'!$C$10 -> 25 | E15: ='Исходные для нормативов'!$D$10 -> 35 | F15: ='Исходные для нормативов'!$E$10 -> 37 | G15: =F15 -> 37 | H15: ='Исходные для нормативов'!$C$10 -> 25 | I15: ='Исходные для нормативов'!$D$10 -> 35 | J15: ='Исходные для нормативов'!$E$10 -> 37 | K15: =J15 -> 37
B16: вечернее обучение -город | D16: ='Исходные для нормативов'!C11 -> 25 | E16: ='Исходные для нормативов'!D11 -> 26 | F16: ='Исходные для нормативов'!E11 -> 26 | H16: ='Исходные для нормативов'!C11 -> 25 | I16: ='Исходные для нормативов'!D11 -> 26 | J16: ='Исходные для нормативов'!E11 -> 26
B17: вечернее обучение -СЕЛО | D17: ='Исходные для нормативов'!C11 -> 25 | E17: ='Исходные для нормативов'!D11 -> 26 | F17: ='Исходные для нормативов'!E11 -> 26 | H17: ='Исходные для нормативов'!C11 -> 25 | I17: ='Исходные для нормативов'!D11 -> 26 | J17: ='Исходные для нормативов'!E11 -> 26
B18: индивидуальное обучение для длительно болеющих детей | D18: ='Исходные для нормативов'!C12 -> 8 | E18: ='Исходные для нормативов'!D12 -> 10 | F18: ='Исходные для нормативов'!E12 -> 11 | H18: ='Исходные для нормативов'!C12 -> 8 | I18: ='Исходные для нормативов'!D12 -> 10 | J18: ='Исходные для нормативов'!E12 -> 11
B19: семейное обучение | D19: ='Исходные для нормативов'!C13 -> 9 | E19: ='Исходные для нормативов'!D13 -> 17 | F19: ='Исходные для нормативов'!E13 -> 19 | H19: ='Исходные для нормативов'!C13 -> 9 | I19: ='Исходные для нормативов'!D13 -> 17 | J19: ='Исходные для нормативов'!E13 -> 19
B20: 1 вариант | C20: глухие | D20: ='Исходные для нормативов'!C7 -> 24.595588 | E20: ='Исходные для нормативов'!D7 -> 35 | F20: ='Исходные для нормативов'!E7 -> 37 | H20: ='Исходные для нормативов'!C7 -> 24.595588 | I20: ='Исходные для нормативов'!D7 -> 35 | J20: ='Исходные для нормативов'!E7 -> 37
C21: слабослышащие и познооглохшие | D21: =D20 -> 24.595588 | E21: =E20 -> 35 | F21: =F20 -> 37 | H21: =H20 -> 24.595588 | I21: =I20 -> 35 | J21: =J20 -> 37
C22: слепые | D22: =D21 -> 24.595588 | E22: =E21 -> 35 | F22: =F21 -> 37 | H22: =H21 -> 24.595588 | I22: =I21 -> 35 | J22: =J21 -> 37
C23: слабовидящие | D23: =D22 -> 24.595588 | E23: =E22 -> 35 | F23: =F22 -> 37 | H23: =H22 -> 24.595588 | I23: =I22 -> 35 | J23: =J22 -> 37
C24: С тяжелыми нарушениями речи (ТНР) | D24: =D23 -> 24.595588 | E24: =E23 -> 35 | F24: =F23 -> 37 | H24: =H23 -> 24.595588 | I24: =I23 -> 35 | J24: =J23 -> 37
C25: С нарушением опорно-двигательного аппарата | D25: =D24 -> 24.595588 | E25: =E24 -> 35 | F25: =F24 -> 37 | H25: =H24 -> 24.595588 | I25: =I24 -> 35 | J25: =J24 -> 37
C26: С задержкой психического развития (ЗПР) | D26: =D25 -> 24.595588 | E26: =E25 -> 35 | F26: =F25 -> 37 | H26: =H25 -> 24.595588 | I26: =I25 -> 35 | J26: =J25 -> 37
C27: С расстройствами аутического спектора (РАС) | D27: =D26 -> 24.595588 | E27: =E26 -> 35 | F27: =F26 -> 37 | H27: =H26 -> 24.595588 | I27: =I26 -> 35 | J27: =J26 -> 37
C28: С умственной отсталостью (интеллектуальными нарушениями) | D28: =D27 -> 24.595588 | E28: =E27 -> 35 | F28: =F27 -> 37 | H28: =H27 -> 24.595588 | I28: =I27 -> 35 | J28: =J27 -> 37
B29: 2 вариант | C29: глухие | D29: ='Исходные для нормативов'!C8 -> 22.5 | E29: ='Исходные для нормативов'!D8 -> 31.4 | F29: ='Исходные для нормативов'!E8 -> 34 | H29: ='Исходные для нормативов'!C8 -> 22.5 | I29: ='Исходные для нормативов'!D8 -> 31.4 | J29: ='Исходные для нормативов'!E8 -> 34
C30: слабослышащие и познооглохшие | D30: =D29 -> 22.5 | E30: =E29 -> 31.4 | F30: =F29 -> 34 | H30: =H29 -> 22.5 | I30: =I29 -> 31.4 | J30: =J29 -> 34
C31: слепые | D31: =D30 -> 22.5 | E31: =E30 -> 31.4 | F31: =F30 -> 34 | H31: =H30 -> 22.5 | I31: =I30 -> 31.4 | J31: =J30 -> 34
C32: слабовидящие | D32: =D31 -> 22.5 | E32: =E31 -> 31.4 | F32: =F31 -> 34 | H32: =H31 -> 22.5 | I32: =I31 -> 31.4 | J32: =J31 -> 34
C33: С тяжелыми нарушениями речи (ТНР) | D33: =D32 -> 22.5 | E33: =E32 -> 31.4 | F33: =F32 -> 34 | H33: =H32 -> 22.5 | I33: =I32 -> 31.4 | J33: =J32 -> 34
C34: С нарушением опорно-двигательного аппарата | D34: =D33 -> 22.5 | E34: =E33 -> 31.4 | F34: =F33 -> 34 | H34: =H33 -> 22.5 | I34: =I33 -> 31.4 | J34: =J33 -> 34
C35: С задержкой психического развития (ЗПР) | D35: =D34 -> 22.5 | E35: =E34 -> 31.4 | F35: =F34 -> 34 | H35: =H34 -> 22.5 | I35: =I34 -> 31.4 | J35: =J34 -> 34
C36: С расстройствами аутического спектора (РАС) | D36: =D35 -> 22.5 | E36: =E35 -> 31.4 | F36: =F35 -> 34 | H36: =H35 -> 22.5 | I36: =I35 -> 31.4 | J36: =J35 -> 34
C37: С умственной отсталостью (интеллектуальными нарушениями) | D37: =D36 -> 22.5 | E37: =E36 -> 31.4 | F37: =F36 -> 34 | H37: =H36 -> 22.5 | I37: =I36 -> 31.4 | J37: =J36 -> 34
B38: 3 вариант | C38: глухие | D38: =D37 -> 22.5 | E38: =E37 -> 31.4 | F38: =F37 -> 34 | H38: =H37 -> 22.5 | I38: =I37 -> 31.4 | J38: =J37 -> 34
C39: слабослышащие и познооглохшие | D39: =D38 -> 22.5 | E39: =E38 -> 31.4 | F39: =F38 -> 34 | H39: =H38 -> 22.5 | I39: =I38 -> 31.4 | J39: =J38 -> 34
C40: слепые | D40: =D39 -> 22.5 | E40: =E39 -> 31.4 | F40: =F39 -> 34 | H40: =H39 -> 22.5 | I40: =I39 -> 31.4 | J40: =J39 -> 34
C41: слабовидящие | D41: =D40 -> 22.5 | E41: =E40 -> 31.4 | F41: =F40 -> 34 | H41: =H40 -> 22.5 | I41: =I40 -> 31.4 | J41: =J40 -> 34
C42: С тяжелыми нарушениями речи (ТНР) | D42: =D41 -> 22.5 | E42: =E41 -> 31.4 | F42: =F41 -> 34 | H42: =H41 -> 22.5 | I42: =I41 -> 31.4 | J42: =J41 -> 34
C43: С нарушением опорно-двигательного аппарата | D43: =D42 -> 22.5 | E43: =E42 -> 31.4 | F43: =F42 -> 34 | H43: =H42 -> 22.5 | I43: =I42 -> 31.4 | J43: =J42 -> 34
C44: С задержкой психического развития (ЗПР) | D44: =D43 -> 22.5 | E44: =E43 -> 31.4 | F44: =F43 -> 34 | H44: =H43 -> 22.5 | I44: =I43 -> 31.4 | J44: =J43 -> 34
C45: С расстройствами аутического спектора (РАС) | D45: =D44 -> 22.5 | E45: =E44 -> 31.4 | F45: =F44 -> 34 | H45: =H44 -> 22.5 | I45: =I44 -> 31.4 | J45: =J44 -> 34
C46: С умственной отсталостью (интеллектуальными нарушениями) | D46: =D45 -> 22.5 | E46: =E45 -> 31.4 | F46: =F45 -> 34 | H46: =H45 -> 22.5 | I46: =I45 -> 31.4 | J46: =J45 -> 34
B47: 4 вариант | C47: глухие | D47: =D46 -> 22.5 | E47: =E46 -> 31.4 | F47: =F46 -> 34 | H47: =H46 -> 22.5 | I47: =I46 -> 31.4 | J47: =J46 -> 34
C48: слабослышащие и познооглохшие | D48: =D47 -> 22.5 | E48: =E47 -> 31.4 | F48: =F47 -> 34 | H48: =H47 -> 22.5 | I48: =I47 -> 31.4 | J48: =J47 -> 34
C49: слепые | D49: =D48 -> 22.5 | E49: =E48 -> 31.4 | F49: =F48 -> 34 | H49: =H48 -> 22.5 | I49: =I48 -> 31.4 | J49: =J48 -> 34
C50: слабовидящие | D50: =D49 -> 22.5 | E50: =E49 -> 31.4 | F50: =F49 -> 34 | H50: =H49 -> 22.5 | I50: =I49 -> 31.4 | J50: =J49 -> 34
C51: С тяжелыми нарушениями речи (ТНР) | D51: =D50 -> 22.5 | E51: =E50 -> 31.4 | F51: =F50 -> 34 | H51: =H50 -> 22.5 | I51: =I50 -> 31.4 | J51: =J50 -> 34
C52: С нарушением опорно-двигательного аппарата | D52: =D51 -> 22.5 | E52: =E51 -> 31.4 | F52: =F51 -> 34 | H52: =H51 -> 22.5 | I52: =I51 -> 31.4 | J52: =J51 -> 34
C53: С задержкой психического развития (ЗПР) | D53: =D52 -> 22.5 | E53: =E52 -> 31.4 | F53: =F52 -> 34 | H53: =H52 -> 22.5 | I53: =I52 -> 31.4 | J53: =J52 -> 34
C54: С расстройствами аутического спектора (РАС) | D54: =D53 -> 22.5 | E54: =E53 -> 31.4 | F54: =F53 -> 34 | H54: =H53 -> 22.5 | I54: =I53 -> 31.4 | J54: =J53 -> 34
C55: С умственной отсталостью (интеллектуальными нарушениями) | D55: =D54 -> 22.5 | E55: =E54 -> 31.4 | F55: =F54 -> 34 | H55: =H54 -> 22.5 | I55: =I54 -> 31.4 | J55: =J54 -> 34
A56: Количество часов внеурочной деятельности в рамках реализации ФГОС | D56: 0 | E56: 0 | F56: 0 | G56: =F56 -> 0 | H56: 10 | I56: 10 | J56: 10 | K56: =J56 -> 10
A57: Расчетная наполняемость классов | B57: общеобразовательные классы | D57: ='Исходные для нормативов'!C16 -> 25 | E57: ='Исходные для нормативов'!D16 -> 25 | F57: ='Исходные для нормативов'!E16 -> 25 | G57: =F57 -> 25 | H57: =D57 -> 25 | I57: =E57 -> 25 | J57: =F57 -> 25 | K57: =J57 -> 25
B58: с углубленным изучением отдельных учебных предметов | D58: ='Исходные для нормативов'!C16 -> 25 | E58: ='Исходные для нормативов'!D16 -> 25 | F58: ='Исходные для нормативов'!E16 -> 25 | G58: =F58 -> 25 | H58: =D58 -> 25 | I58: =E58 -> 25 | J58: =F58 -> 25 | K58: =J58 -> 25
B59: общеобразовательные классы - ПГТ с континг более 300 | D59: ='Исходные для нормативов'!C17 -> 25 | E59: ='Исходные для нормативов'!D17 -> 25 | F59: ='Исходные для нормативов'!E17 -> 25 | G59: =F59 -> 25 | H59: =D59 -> 25 | I59: =E59 -> 25 | J59: =F59 -> 25 | K59: =J59 -> 25
B60: общеобразовательные классы - ПГТ с континг более 201-300 | D60: ='Исходные для нормативов'!C18 -> 23 | E60: ='Исходные для нормативов'!D18 -> 23 | F60: ='Исходные для нормативов'!E18 -> 23 | G60: =F60 -> 23 | H60: =D60 -> 23 | I60: =E60 -> 23 | J60: =F60 -> 23 | K60: =J60 -> 23
B61: общеобразовательные классы - ПГТ с континг более 101-200 | D61: ='Исходные для нормативов'!C19 -> 15 | E61: ='Исходные для нормативов'!D19 -> 15 | F61: ='Исходные для нормативов'!E19 -> 15 | G61: =F61 -> 15 | H61: =D61 -> 15 | I61: =E61 -> 15 | J61: =F61 -> 15 | K61: =J61 -> 15
B62: общеобразовательные классы - ПГТ с континг менее 100 | D62: ='Исходные для нормативов'!C20 -> 10 | E62: ='Исходные для нормативов'!D20 -> 10 | F62: ='Исходные для нормативов'!E20 -> 10 | G62: =F62 -> 10 | H62: =D62 -> 10 | I62: =E62 -> 10 | J62: =F62 -> 10 | K62: =J62 -> 10
B63: общеобразовательные классы - СЕЛО с континг более 250 | D63: ='Исходные для нормативов'!C21 -> 20 | E63: ='Исходные для нормативов'!D21 -> 20 | F63: ='Исходные для нормативов'!E21 -> 20 | G63: =F63 -> 20 | H63: =D63 -> 20 | I63: =E63 -> 20 | J63: =F63 -> 20 | K63: =J63 -> 20
B64: общеобразовательные классы - СЕЛО с континг 201 - 250 | D64: ='Исходные для нормативов'!C22 -> 18 | E64: ='Исходные для нормативов'!D22 -> 18 | F64: ='Исходные для нормативов'!E22 -> 18 | G64: =F64 -> 18 | H64: =D64 -> 18 | I64: =E64 -> 18 | J64: =F64 -> 18 | K64: =J64 -> 18
B65: общеобразовательные классы - СЕЛО с континг 101 - 200 | D65: ='Исходные для нормативов'!C23 -> 15 | E65: ='Исходные для нормативов'!D23 -> 15 | F65: ='Исходные для нормативов'!E23 -> 15 | G65: =F65 -> 15 | H65: =D65 -> 15 | I65: =E65 -> 15 | J65: =F65 -> 15 | K65: =J65 -> 15
B66: общеобразовательные классы - СЕЛО с континг 61 - 100 | D66: ='Исходные для нормативов'!C24 -> 11 | E66: ='Исходные для нормативов'!D24 -> 11 | F66: ='Исходные для нормативов'!E24 -> 11 | G66: =F66 -> 11 | H66: =D66 -> 11 | I66: =E66 -> 11 | J66: =F66 -> 11 | K66: =J66 -> 11
B67: общеобразовательные классы - СЕЛО с континг менее 60 | D67: ='Исходные для нормативов'!C25 -> 7 | E67: ='Исходные для нормативов'!D25 -> 7 | F67: ='Исходные для нормативов'!E25 -> 7 | G67: =F67 -> 7 | H67: =D67 -> 7 | I67: =E67 -> 7 | J67: =F67 -> 7 | K67: =J67 -> 7
B68: вечернее обучение -город | D68: ='Исходные для нормативов'!C16 -> 25 | E68: ='Исходные для нормативов'!D16 -> 25 | F68: ='Исходные для нормативов'!E16 -> 25 | H68: =D68 -> 25 | I68: =E68 -> 25 | J68: =F68 -> 25
B69: вечернее обучение -СЕЛО | D69: ='Исходные для нормативов'!C16 -> 25 | E69: ='Исходные для нормативов'!D16 -> 25 | F69: ='Исходные для нормативов'!E16 -> 25 | H69: =D69 -> 25 | I69: =E69 -> 25 | J69: =F69 -> 25
B70: индивидуальное обучение для длительно болеющих детей | D70: 1 | E70: 1 | F70: 1 | H70: =D70 -> 1 | I70: =E70 -> 1 | J70: =F70 -> 1
B71: семейное обучение | D71: 1 | E71: 1 | F71: 1 | H71: =D71 -> 1 | I71: =E71 -> 1 | J71: =F71 -> 1
B72: 1 вариант | C72: глухие | D72: ='Исходные для нормативов'!C28 -> 20 | E72: =D72 -> 20 | F72: =E72 -> 20 | H72: =D72 -> 20 | I72: =E72 -> 20 | J72: =F72 -> 20
C73: слабослышащие и познооглохшие | D73: ='Исходные для нормативов'!C29 -> 25 | E73: =D73 -> 25 | F73: =E73 -> 25 | H73: =D73 -> 25 | I73: =E73 -> 25 | J73: =F73 -> 25
C74: слепые | D74: ='Исходные для нормативов'!C30 -> 20 | E74: =D74 -> 20 | F74: =E74 -> 20 | H74: =D74 -> 20 | I74: =E74 -> 20 | J74: =F74 -> 20
C75: слабовидящие | D75: ='Исходные для нормативов'!C31 -> 25 | E75: =D75 -> 25 | F75: =E75 -> 25 | H75: =D75 -> 25 | I75: =E75 -> 25 | J75: =F75 -> 25
C76: С тяжелыми нарушениями речи (ТНР) | D76: ='Исходные для нормативов'!C32 -> 25 | E76: =D76 -> 25 | F76: =E76 -> 25 | H76: =D76 -> 25 | I76: =E76 -> 25 | J76: =F76 -> 25
C77: С нарушением опорно-двигательного аппарата | D77: ='Исходные для нормативов'!C33 -> 20 | E77: =D77 -> 20 | F77: =E77 -> 20 | H77: =D77 -> 20 | I77: =E77 -> 20 | J77: =F77 -> 20
C78: С задержкой психического развития (ЗПР) | D78: ='Исходные для нормативов'!C34 -> 25 | E78: =D78 -> 25 | F78: =E78 -> 25 | H78: =D78 -> 25 | I78: =E78 -> 25 | J78: =F78 -> 25
C79: С расстройствами аутического спектора (РАС) | D79: ='Исходные для нормативов'!C35 -> 20 | E79: =D79 -> 20 | F79: =E79 -> 20 | H79: =D79 -> 20 | I79: =E79 -> 20 | J79: =F79 -> 20
C80: С умственной отсталостью (интеллектуальными нарушениями) | D80: ='Исходные для нормативов'!C36 -> 0 | E80: =D80 -> 0 | F80: =E80 -> 0 | H80: =D80 -> 0 | I80: =E80 -> 0 | J80: =F80 -> 0
B81: 2 вариант | C81: глухие | D81: ='Исходные для нормативов'!C37 -> 6 | E81: =D81 -> 6 | F81: =E81 -> 6 | H81: =D81 -> 6 | I81: =E81 -> 6 | J81: =F81 -> 6
C82: слабослышащие и познооглохшие | D82: ='Исходные для нормативов'!C38 -> 7 | E82: =D82 -> 7 | F82: =E82 -> 7 | H82: =D82 -> 7 | I82: =E82 -> 7 | J82: =F82 -> 7
C83: слепые | D83: ='Исходные для нормативов'!C39 -> 9 | E83: =D83 -> 9 | F83: =E83 -> 9 | H83: =D83 -> 9 | I83: =E83 -> 9 | J83: =F83 -> 9
C84: слабовидящие | D84: ='Исходные для нормативов'!C40 -> 12 | E84: =D84 -> 12 | F84: =E84 -> 12 | H84: =D84 -> 12 | I84: =E84 -> 12 | J84: =F84 -> 12
C85: С тяжелыми нарушениями речи (ТНР) | D85: ='Исходные для нормативов'!C41 -> 12 | E85: =D85 -> 12 | F85: =E85 -> 12 | H85: =D85 -> 12 | I85: =E85 -> 12 | J85: =F85 -> 12
C86: С нарушением опорно-двигательного аппарата | D86: ='Исходные для нормативов'!C42 -> 5 | E86: =D86 -> 5 | F86: =E86 -> 5 | H86: =D86 -> 5 | I86: =E86 -> 5 | J86: =F86 -> 5
C87: С задержкой психического развития (ЗПР) | D87: ='Исходные для нормативов'!C43 -> 12 | E87: =D87 -> 12 | F87: =E87 -> 12 | H87: =D87 -> 12 | I87: =E87 -> 12 | J87: =F87 -> 12
C88: С расстройствами аутического спектора (РАС) | D88: ='Исходные для нормативов'!C44 -> 12 | E88: =D88 -> 12 | F88: =E88 -> 12 | H88: =D88 -> 12 | I88: =E88 -> 12 | J88: =F88 -> 12
C89: С умственной отсталостью (интеллектуальными нарушениями) | D89: ='Исходные для нормативов'!C45 -> 0 | E89: =D89 -> 0 | F89: =E89 -> 0 | H89: =D89 -> 0 | I89: =E89 -> 0 | J89: =F89 -> 0
B90: 3 вариант | C90: глухие | D90: ='Исходные для нормативов'!C46 -> 5 | E90: =D90 -> 5 | F90: =E90 -> 5 | H90: =D90 -> 5 | I90: =E90 -> 5 | J90: =F90 -> 5
C91: слабослышащие и познооглохшие | D91: ='Исходные для нормативов'!C47 -> 5 | E91: =D91 -> 5 | F91: =E91 -> 5 | H91: =D91 -> 5 | I91: =E91 -> 5 | J91: =F91 -> 5
C92: слепые | D92: ='Исходные для нормативов'!C48 -> 7 | E92: =D92 -> 7 | F92: =E92 -> 7 | H92: =D92 -> 7 | I92: =E92 -> 7 | J92: =F92 -> 7
C93: слабовидящие | D93: ='Исходные для нормативов'!C49 -> 9 | E93: =D93 -> 9 | F93: =E93 -> 9 | H93: =D93 -> 9 | I93: =E93 -> 9 | J93: =F93 -> 9
C94: С тяжелыми нарушениями речи (ТНР) | D94: ='Исходные для нормативов'!C50 -> 0 | E94: =D94 -> 0 | F94: =E94 -> 0 | H94: =D94 -> 0 | I94: =E94 -> 0 | J94: =F94 -> 0
C95: С нарушением опорно-двигательного аппарата | D95: ='Исходные для нормативов'!C51 -> 5 | E95: =D95 -> 5 | F95: =E95 -> 5 | H95: =D95 -> 5 | I95: =E95 -> 5 | J95: =F95 -> 5
C96: С задержкой психического развития (ЗПР) | D96: ='Исходные для нормативов'!C52 -> 0 | E96: =D96 -> 0 | F96: =E96 -> 0 | H96: =D96 -> 0 | I96: =E96 -> 0 | J96: =F96 -> 0
C97: С расстройствами аутического спектора (РАС) | D97: ='Исходные для нормативов'!C53 -> 9 | E97: =D97 -> 9 | F97: =E97 -> 9 | H97: =D97 -> 9 | I97: =E97 -> 9 | J97: =F97 -> 9
C98: С умственной отсталостью (интеллектуальными нарушениями) | D98: ='Исходные для нормативов'!C54 -> 12 | E98: =D98 -> 12 | F98: =E98 -> 12 | H98: =D98 -> 12 | I98: =E98 -> 12 | J98: =F98 -> 12
B99: 4 вариант | C99: глухие | D99: ='Исходные для нормативов'!C55 -> 5 | E99: =D99 -> 5 | F99: =E99 -> 5 | H99: =D99 -> 5 | I99: =E99 -> 5 | J99: =F99 -> 5
C100: слабослышащие и познооглохшие | D100: ='Исходные для нормативов'!C56 -> 0 | E100: =D100 -> 0 | F100: =E100 -> 0 | H100: =D100 -> 0 | I100: =E100 -> 0 | J100: =F100 -> 0
...

Sheet Классное свод
A1: ВСЕГО | L1: Муниципальное образование | Q1: Бокситогорский муниципальный район | W1: Муниципальное образование | AB1: Волосовский муниципальный район | AH1: Муниципальное образование | AM1: Волховский муниципальный район | AS1: Муниципальное образование | AX1: Всеволожский муниципальный район | BD1: Муниципальное образование | BI1: Выборгский муниципальный район | BO1: Муниципальное образование | BT1: Гатчинский муниципальный район | BZ1: Муниципальное образование | CE1: Кингисеппский муниципальный район | CK1: Муниципальное образование | CP1: Киришский муниципальный район | CV1: Муниципальное образование | DA1: Кировский муниципальный район | DG1: Муниципальное образование | DL1: Лодейнопольский муниципальный район | DR1: Муниципальное образование | DW1: Ломоносовский муниципальный район | EC1: Муниципальное образование | EI1: Лужский муниципальный район | EN1: Муниципальное образование | ES1: Подпорожский муниципальный район | EY1: Муниципальное образование | FD1: Приозерский муниципальный район | FJ1: Муниципальное образование | FO1: Сланцевский муниципальный район | FU1: Муниципальное образование | FZ1: Тихвинский муниципальный район | GF1: Муниципальное образование | GK1: Тосненский муниципальный район | GQ1: Муниципальное образование | GV1: Сосновоборский городской округ
B2: Общеобразоват школы | D2: Школа-сад, вечерн школа, базов школа | F2: Общеобраз интернат | H2: ОВЗ в школах | J2: ВСЕГО | M2: Общеобразоват школы | O2: Школа-сад, вечерн школа, базов школа | Q2: Общеобраз интернат | S2: ОВЗ в школах | U2: ВСЕГО | X2: Общеобразоват школы | Z2: Школа-сад, вечерн школа, базов школа | AB2: Общеобраз интернат | AD2: ОВЗ в школах | AF2: ВСЕГО | AI2: Общеобразоват школы | AK2: Школа-сад, вечерн школа, базов школа | AM2: Общеобраз интернат | AO2: ОВЗ в школах | AQ2: ВСЕГО | AT2: Общеобразоват школы | AV2: Школа-сад, вечерн школа, базов школа | AX2: Общеобраз интернат | AZ2: ОВЗ в школах | BB2: ВСЕГО | BE2: Общеобразоват школы | BG2: Школа-сад, вечерн школа, базов школа | BI2: Общеобраз интернат | BK2: ОВЗ в школах | BM2: ВСЕГО | BP2: Общеобразоват школы | BR2: Школа-сад, вечерн школа, базов школа | BT2: Общеобраз интернат | BV2: ОВЗ в школах | BX2: ВСЕГО | CA2: Общеобразоват школы | CC2: Школа-сад, вечерн школа, базов школа | CE2: Общеобраз интернат | CG2: ОВЗ в школах | CI2: ВСЕГО | CL2: Общеобразоват школы | CN2: Школа-сад, вечерн школа, базов школа | CP2: Общеобраз интернат | CR2: ОВЗ в школах | CT2: ВСЕГО | CV2: Наполняемость классов | CW2: Общеобразоват школы | CY2: Школа-сад, вечерн школа, базов школа | DA2: Общеобраз интернат | DC2: Спец школа-интер, ОВЗ в школах | DE2: ВСЕГО | DH2: Общеобразоват школы | DJ2: Школа-сад, вечерн школа, базов школа | DL2: Общеобраз интернат | DN2: ОВЗ в школах | DP2: ВСЕГО | DS2: Общеобразоват школы | DU2: Школа-сад, вечерн школа, базов школа | DW2: Общеобраз интернат | DY2: ОВЗ в школах | EA2: ВСЕГО | ED2: Общеобразоват школы | EF2: Школа-сад, вечерн школа, базов школа | EH2: Общеобраз интернат | EJ2: ОВЗ в школах | EL2: ВСЕГО | EO2: Общеобразоват школы | EQ2: Школа-сад, вечерн школа, базов школа | ES2: Общеобраз интернат | EU2: ОВЗ в школах | EW2: ВСЕГО | EZ2: Общеобразоват школы | FB2: Школа-сад, вечерн школа, базов школа | FD2: Общеобраз интернат | FF2: ОВЗ в школах | FH2: ВСЕГО | FK2: Общеобразоват школы | FM2: Школа-сад, вечерн школа, базов школа | FO2: Общеобраз интернат | FQ2: ОВЗ в школах | FS2: ВСЕГО | FV2: Общеобразоват школы | FX2: Школа-сад, вечерн школа, базов школа | FZ2: Общеобраз интернат | GB2: ОВЗ в школах | GD2: ВСЕГО | GG2: Общеобразоват школы | GI2: Школа-сад, вечерн школа, базов школа | GK2: Общеобраз интернат | GM2: ОВЗ в школах | GO2: ВСЕГО | GR2: Общеобразоват школы | GT2: Школа-сад, вечерн школа, базов школа | GV2: Общеобраз интернат | GX2: ОВЗ в школах | GZ2: ВСЕГО
B3: 25 | D3: 25 | F3: 20 | H3: 12 | M3: 25 | O3: 25 | Q3: 20 | S3: 12 | X3: 25 | Z3: 25 | AB3: 20 | AD3: 12 | AI3: 25 | AK3: 25 | AM3: 20 | AO3: 12 | AT3: 25 | AV3: 25 | AX3: 20 | AZ3: 12 | BE3: 25 | BG3: 25 | BI3: 20 | BK3: 12 | BP3: 25 | BR3: 25 | BT3: 20 | BV3: 12 | CA3: 25 | CC3: 25 | CE3: 20 | CG3: 12 | CL3: 25 | CN3: 25 | CP3: 20 | CR3: 12 | CW3: 25 | CY3: 25 | DA3: 20 | DC3: 12 | DH3: 25 | DJ3: 25 | DL3: 20 | DN3: 12 | DS3: 25 | DU3: 25 | DW3: 20 | DY3: 12 | ED3: 25 | EF3: 25 | EH3: 20 | EJ3: 12 | EO3: 25 | EQ3: 25 | ES3: 20 | EU3: 12 | EZ3: 25 | FB3: 25 | FD3: 20 | FF3: 12 | FK3: 25 | FM3: 25 | FO3: 20 | FQ3: 12 | FV3: 25 | FX3: 25 | FZ3: 20 | GB3: 12 | GG3: 25 | GI3: 25 | GK3: 20 | GM3: 12 | GR3: 25 | GT3: 25 | GV3: 20 | GX3: 12
B4: колич классов | C4: Потребность на 2018 г | D4: колич классов | E4: Потребность на 2018 г | F4: колич классов | G4: Потребность на 2018 г | H4: колич классов | I4: Потребность на 2018 г | J4: колич классов | K4: Потребность на 2018 г | M4: колич классов | N4: Потребность на 2019 г | O4: колич классов | P4: Потребность на 2019 г | Q4: колич классов | R4: Потребность на 2019 г | S4: колич классов | T4: Потребность на 2019 г | U4: колич классов | V4: Потребность на 2019 г | X4: колич классов | Y4: Потребность на 2018 г | Z4: колич классов | AA4: Потребность на 2018 г | AB4: колич классов | AC4: Потребность на 2018 г | AD4: колич классов | AE4: Потребность на 2018 г | AF4: колич классов | AG4: Потребность на 2018 г | AI4: колич классов | AJ4: Потребность на 2018 г | AK4: колич классов | AL4: Потребность на 2018 г | AM4: колич классов | AN4: Потребность на 2018 г | AO4: колич классов | AP4: Потребность на 2018 г | AQ4: колич классов | AR4: Потребность на 2018 г | AT4: колич классов | AU4: Потребность на 2018 г | AV4: колич классов | AW4: Потребность на 2018 г | AX4: колич классов | AY4: Потребность на 2018 г | AZ4: колич классов | BA4: Потребность на 2018 г | BB4: колич классов | BC4: Потребность на 2018 г | BE4: колич классов | BF4: Потребность на 2018 г | BG4: колич классов | BH4: Потребность на 2018 г | BI4: колич классов | BJ4: Потребность на 2018 г | BK4: колич классов | BL4: Потребность на 2018 г | BM4: колич классов | BN4: Потребность на 2018 г | BP4: колич классов | BQ4: Потребность на 2018 г | BR4: колич классов | BS4: Потребность на 2018 г | BT4: колич классов | BU4: Потребность на 2018 г | BV4: колич классов | BW4: Потребность на 2018 г | BX4: колич классов | BY4: Потребность на 2018 г | CA4: колич классов | CB4: Потребность на 2018 г | CC4: колич классов | CD4: Потребность на 2018 г | CE4: колич классов | CF4: Потребность на 2018 г | CG4: колич классов | CH4: Потребность на 2018 г | CI4: колич классов | CJ4: Потребность на 2018 г | CL4: колич классов | CM4: Потребность на 2018 г | CN4: колич классов | CO4: Потребность на 2018 г | CP4: колич классов | CQ4: Потребность на 2018 г | CR4: колич классов | CS4: Потребность на 2018 г | CT4: колич классов | CU4: Потребность на 2018 г | CW4: колич классов | CX4: Потребность на 2019 г | CY4: колич классов | CZ4: Потребность на 2019 г | DA4: колич классов | DB4: Потребность на 2019 г | DC4: колич классов | DD4: Потребность на 2019 г | DE4: колич классов | DF4: Потребность на 2019 г | DH4: колич классов | DI4: Потребность на 2018 г | DJ4: колич классов | DK4: Потребность на 2018 г | DL4: колич классов | DM4: Потребность на 2018 г | DN4: колич классов | DO4: Потребность на 2018 г | DP4: колич классов | DQ4: Потребность на 2018 г | DS4: колич классов | DT4: Потребность на 2018 г | DU4: колич классов | DV4: Потребность на 2018 г | DW4: колич классов | DX4: Потребность на 2018 г | DY4: колич классов | DZ4: Потребность на 2018 г | EA4: колич классов | EB4: Потребность на 2018 г | ED4: колич классов | EE4: Потребность на 2018 г | EF4: колич классов | EG4: Потребность на 2018 г | EH4: колич классов | EI4: Потребность на 2018 г | EJ4: колич классов | EK4: Потребность на 2018 г | EL4: колич классов | EM4: Потребность на 2018 г | EO4: колич классов | EP4: Потребность на 2018 г | EQ4: колич классов | ER4: Потребность на 2018 г | ES4: колич классов | ET4: Потребность на 2018 г | EU4: колич классов | EV4: Потребность на 2018 г | EW4: колич классов | EX4: Потребность на 2018 г | EZ4: колич классов | FA4: Потребность на 2018 г | FB4: колич классов | FC4: Потребность на 2018 г | FD4: колич классов | FE4: Потребность на 2018 г | FF4: колич классов | FG4: Потребность на 2018 г | FH4: колич классов | FI4: Потребность на 2018 г | FK4: колич классов | FL4: Потребность на 2018 г | FM4: колич классов | FN4: Потребность на 2018 г | FO4: колич классов | FP4: Потребность на 2018 г | FQ4: колич классов | FR4: Потребность на 2018 г | FS4: колич классов | FT4: Потребность на 2018 г | FV4: колич классов | FW4: Потребность на 2018 г | FX4: колич классов | FY4: Потребность на 2018 г | FZ4: колич классов | GA4: Потребность на 2018 г | GB4: колич классов | GC4: Потребность на 2018 г | GD4: колич классов | GE4: Потребность на 2018 г | GG4: колич классов | GH4: Потребность на 2018 г | GI4: колич классов | GJ4: Потребность на 2018 г | GK4: колич классов | GL4: Потребность на 2018 г | GM4: колич классов | GN4: Потребность на 2018 г | GO4: колич классов | GP4: Потребность на 2018 г | GR4: колич классов | GS4: Потребность на 2018 г | GT4: колич классов | GU4: Потребность на 2018 г | GV4: колич классов | GW4: Потребность на 2018 г | GX4: колич классов | GY4: Потребность на 2018 г | GZ4: колич классов | HA4: Потребность на 2018 г
B6: ГОРОД | H6: город и село | M6: ГОРОД | S6: город и село | X6: ГОРОД | AD6: город и село | AI6: ГОРОД | AO6: город и село | AT6: ГОРОД | AZ6: город и село | BE6: ГОРОД | BK6: город и село | BP6: ГОРОД | BV6: город и село | CA6: ГОРОД | CG6: город и село | CL6: ГОРОД | CR6: город и село | CW6: ГОРОД | DC6: город и село | DH6: ГОРОД | DN6: город и село | DS6: ГОРОД | DY6: город и село | ED6: ГОРОД | EJ6: город и село | EO6: ГОРОД | EU6: город и село | EZ6: ГОРОД | FF6: город и село | FK6: ГОРОД | FQ6: город и село | FV6: ГОРОД | GB6: город и село | GG6: ГОРОД | GM6: город и село | GR6: ГОРОД | GX6: город и село
A7: 25 | B7: =M7+X7+AI7+AT7+BE7+BP7+CA7+CL7+CW7+DH7+DS7+ED7+EO7+EZ7+FK7+FV7+GG7+GR7 -> 3239 | C7: =N7+Y7+AJ7+AU7+BF7+BQ7+CB7+CM7+CX7+DI7+DT7+EE7+EP7+FA7+FL7+FW7+GH7+GS7 -> 101212.1 | D7: =O7+Z7+AK7+AV7+BG7+BR7+CC7+CN7+CY7+DJ7+DU7+EF7+EQ7+FB7+FM7+FX7+GI7+GT7 -> 1 | E7: =P7+AA7+AL7+AW7+BH7+BS7+CD7+CO7+CZ7+DK7+DV7+EG7+ER7+FC7+FN7+FY7+GJ7+GU7 -> 31.2 | F7: =Q7+AB7+AM7+AX7+BI7+BT7+CE7+CP7+DA7+DL7+DW7+EH7+ES7+FD7+FO7+FZ7+GK7+GV7 -> 0 | G7: =R7+AC7+AN7+AY7+BJ7+BU7+CF7+CQ7+DB7+DM7+DX7+EI7+ET7+FE7+FP7+GA7+GL7+GW7 -> 0 | H7: =S7+AD7+AO7+AZ7+BK7+BV7+CG7+CR7+DC7+DN7+DY7+EJ7+EU7+FF7+FQ7+GB7+GM7+GX7 -> 0 | I7: =T7+AE7+AP7+BA7+BL7+BW7+CH7+CS7+DD7+DO7+DZ7+EK7+EV7+FG7+FR7+GC7+GN7+GY7 -> 0 | ... K7: =V7+AG7+AR7+BC7+BN7+BY7+CJ7+CU7+DF7+DQ7+EB7+EM7+EX7+FI7+FT7+GE7+GP7+HA7 -> 101243.3 | L7: 25 | M7: 126 | N7: =ROUND(M7*L7/25*12*2*1.302,1) -> 3937.2 | P7: =ROUND(O7*N7/25*12*2*1.302,1) -> 0 | U7: =M7+O7+S7+Q7 -> 126 | V7: =N7+P7+T7+R7 -> 3937.2 | W7: 25 | X7: 39 | Y7: =ROUND(X7*W7/25*12*2*1.302,1) -> 1218.7 | AA7: =ROUND(Z7*Y7/25*12*2*1.302,1) -> 0 | AF7: =X7+Z7+AD7+AB7 -> 39 | AG7: =Y7+AA7+AE7+AC7 -> 1218.7 | AH7: 25 | AI7: 193 | AJ7: =ROUND(AI7*AH7/25*12*2*1.302,1) -> 6030.9 | AL7: =ROUND(AK7*AH7/25*12*2*1.302,1) -> 0 | AQ7: =AI7+AK7+AO7+AM7 -> 193 | AR7: =AJ7+AL7+AP7+AN7 -> 6030.9 | AS7: 25 | AT7: 563 | AU7: =ROUND(AT7*AS7/25*12*2*1.302,1) -> 17592.6 | AW7: =ROUND(AV7*AS7/25*12*2*1.302,1) -> 0 | BB7: =AT7+AV7+AZ7+AX7 -> 563 | BC7: =AU7+AW7+BA7+AY7 -> 17592.6 | BD7: 25 | BE7: 382 | BF7: =ROUND(BE7*BD7/25*12*2*1.302,1) -> 11936.7 | BH7: =ROUND(BG7*BF7/25*12*2*1.302,1) -> 0 | BM7: =BE7+BG7+BK7+BI7 -> 382 | BN7: =BF7+BH7+BL7+BJ7 -> 11936.7 | BO7: 25 | BP7: 364 | BQ7: =ROUND(BP7*BO7/25*12*2*1.302,1) -> 11374.3 | BS7: =ROUND(BR7*BQ7/25*12*2*1.302,1) -> 0 | BX7: =BP7+BR7+BV7+BT7 -> 364 | BY7: =BQ7+BS7+BW7+BU7 -> 11374.3 | BZ7: 25 | CA7: 176 | CB7: =ROUND(CA7*BZ7/25*12*2*1.302,1) -> 5499.6 | CD7: =ROUND(CC7*CB7/25*12*2*1.302,1) -> 0 | CI7: =CA7+CC7+CG7+CE7 -> 176 | CJ7: =CB7+CD7+CH7+CF7 -> 5499.6 | CK7: 25 | CL7: 207 | CM7: =ROUND(CL7*CK7/25*12*2*1.302,1) -> 6468.3 | CN7: 1 | CO7: =ROUND(CN7*CK7/25*12*2*1.302,1) -> 31.2 | CS7: =ROUND(CR7*CK7/12*12*2*1.302,1) -> 0 | CT7: =CL7+CN7+CR7+CP7 -> 208 | CU7: =CM7+CO7+CS7+CQ7 -> 6499.5 | CV7: 25 | CW7: 211 | CX7: =ROUND(CW7*CV7/25*12*2*1.302,1) -> 6593.3 | CZ7: =ROUND(CY7*CV7/25*12*2*1.302,1) -> 0 | DB7: =ROUND(DA7*CV7/20*12*2*1.302,1) -> 0 | DD7: =ROUND(DC7*CV7/12*12*2*1.302,1) -> 0 | DE7: =CW7+CY7+DA7+DC7 -> 211 | DF7: =CX7+CZ7+DB7+DD7 -> 6593.3 | DG7: 25 | DH7: 61 | DI7: =ROUND(DH7*DG7/25*12*2*1.302,1) -> 1906.1 | DK7: =ROUND(DJ7*DG7/25*12*2*1.302,1) -> 0 | DP7: =DH7+DJ7+DL7+DN7 -> 61 | DQ7: =DI7+DK7+DM7+DO7 -> 1906.1 | DR7: 25 | DS7: 3 | DT7: =ROUND(DS7*DR7/25*12*2*1.302,1) -> 93.7 | DV7: =ROUND(DU7*DT7/25*12*2*1.302,1) -> 0 | DX7: =ROUND(DW7*DR7/20*12*2*1.302,1) -> 0 | DZ7: =ROUND(DY7*DR7/12*12*2*1.302,1) -> 0 | EA7: =DS7+DU7+DY7+DW7 -> 3 | EB7: =DT7+DV7+DZ7+DX7 -> 93.7 | EC7: 25 | ED7: 89 | EE7: =ROUND(ED7*EC7/25*12*2*1.302,1) -> 2781.1 | EG7: =ROUND(EF7*EC7/25*12*2*1.302,1) -> 0 | EL7: =ED7+EF7+EJ7+EH7 -> 89 | EM7: =EE7+EG7+EK7+EI7 -> 2781.1 | EN7: 25 | EO7: 65 | EP7: =ROUND(EO7*EN7/25*12*2*1.302,1) -> 2031.1 | ER7: =ROUND(EQ7*EP7/25*12*2*1.302,1) -> 0 | EW7: =EO7+EQ7+EU7+ES7 -> 65 | EX7: =EP7+ER7+EV7+ET7 -> 2031.1 | EY7: 25 | EZ7: 71 | FA7: =ROUND(EZ7*EY7/25*12*2*1.302,1) -> 2218.6 | FC7: =ROUND(FB7*FA7/25*12*2*1.302,1) -> 0 | FH7: =EZ7+FB7+FF7+FD7 -> 71 | FI7: =FA7+FC7+FG7+FE7 -> 2218.6 | FJ7: 25 | FK7: 97 | FL7: =ROUND(FK7*FJ7/25*12*2*1.302,1) -> 3031.1 | FM7: 0 | FN7: =ROUND(FM7*FL7/25*12*2*1.302,1) -> 0 | FR7: =ROUND(FQ7*FJ7/12*12*2*1.302,1) -> 0 | FS7: =FK7+FM7+FQ7+FO7 -> 97 | FT7: =FL7+FN7+FR7+FP7 -> 3031.1 | FU7: 25 | FV7: 193 | FW7: =ROUND(FV7*FU7/25*12*2*1.302,1) -> 6030.9 | FY7: =ROUND(FX7*FW7/25*12*2*1.302,1) -> 0 | GD7: =FV7+FX7+GB7+FZ7 -> 193 | GE7: =FW7+FY7+GC7+GA7 -> 6030.9 | GF7: 25 | GG7: 215 | GH7: =ROUND(GG7*GF7/25*12*2*1.302,1) -> 6718.3 | GJ7: =ROUND(GI7*GH7/25*12*2*1.302,1) -> 0 | GO7: =GG7+GI7+GM7+GK7 -> 215 | GP7: =GH7+GJ7+GN7+GL7 -> 6718.3 | GQ7: 25 | GR7: 184 | GS7: =ROUND(GR7*GQ7/25*12*2*1.302,1) -> 5749.6 | GU7: =ROUND(GT7*GS7/25*12*2*1.302,1) -> 0 | GZ7: =GR7+GT7+GX7+GV7 -> 184 | HA7: =GS7+GU7+GY7+GW7 -> 5749.6
A8: 24 | B8: =M8+X8+AI8+AT8+BE8+BP8+CA8+CL8+CW8+DH8+DS8+ED8+EO8+EZ8+FK8+FV8+GG8+GR8 -> 187 | C8: =N8+Y8+AJ8+AU8+BF8+BQ8+CB8+CM8+CX8+DI8+DT8+EE8+EP8+FA8+FL8+FW8+GH8+GS8 -> 5609.9 | D8: =O8+Z8+AK8+AV8+BG8+BR8+CC8+CN8+CY8+DJ8+DU8+EF8+EQ8+FB8+FM8+FX8+GI8+GT8 -> 0 | E8: =P8+AA8+AL8+AW8+BH8+BS8+CD8+CO8+CZ8+DK8+DV8+EG8+ER8+FC8+FN8+FY8+GJ8+GU8 -> 0 | F8: =Q8+AB8+AM8+AX8+BI8+BT8+CE8+CP8+DA8+DL8+DW8+EH8+ES8+FD8+FO8+FZ8+GK8+GV8 -> 0 | G8: =R8+AC8+AN8+AY8+BJ8+BU8+CF8+CQ8+DB8+DM8+DX8+EI8+ET8+FE8+FP8+GA8+GL8+GW8 -> 0 | H8: =S8+AD8+AO8+AZ8+BK8+BV8+CG8+CR8+DC8+DN8+DY8+EJ8+EU8+FF8+FQ8+GB8+GM8+GX8 -> 0 | I8: =T8+AE8+AP8+BA8+BL8+BW8+CH8+CS8+DD8+DO8+DZ8+EK8+EV8+FG8+FR8+GC8+GN8+GY8 -> 0 | ... K8: =V8+AG8+AR8+BC8+BN8+BY8+CJ8+CU8+DF8+DQ8+EB8+EM8+EX8+FI8+FT8+GE8+GP8+HA8 -> 5609.9 | L8: 24 | M8: 5 | N8: =ROUND(M8*L8/25*12*2*1.302,1) -> 150 | P8: =ROUND(O8*N8/25*12*2*1.302,1) -> 0 | U8: =M8+O8+S8+Q8 -> 5 | V8: =N8+P8+T8+R8 -> 150 | W8: 24 | X8: 6 | Y8: =ROUND(X8*W8/25*12*2*1.302,1) -> 180 | AA8: =ROUND(Z8*Y8/25*12*2*1.302,1) -> 0 | AF8: =X8+Z8+AD8+AB8 -> 6 | AG8: =Y8+AA8+AE8+AC8 -> 180 | AH8: 24 | AI8: 8 | AJ8: =ROUND(AI8*AH8/25*12*2*1.302,1) -> 240 | AL8: =ROUND(AK8*AH8/25*12*2*1.302,1) -> 0 | AQ8: =AI8+AK8+AO8+AM8 -> 8 | AR8: =AJ8+AL8+AP8+AN8 -> 240 | AS8: 24 | AT8: 28 | AU8: =ROUND(AT8*AS8/25*12*2*1.302,1) -> 839.9 | AW8: =ROUND(AV8*AS8/25*12*2*1.302,1) -> 0 | BB8: =AT8+AV8+AZ8+AX8 -> 28 | BC8: =AU8+AW8+BA8+AY8 -> 839.9 | BD8: 24 | BE8: 16 | BF8: =ROUND(BE8*BD8/25*12*2*1.302,1) -> 480 | BH8: =ROUND(BG8*BF8/25*12*2*1.302,1) -> 0 | BM8: =BE8+BG8+BK8+BI8 -> 16 | BN8: =BF8+BH8+BL8+BJ8 -> 480 | BO8: 24 | BP8: 22 | BQ8: =ROUND(BP8*BO8/25*12*2*1.302,1) -> 660 | BS8: =ROUND(BR8*BQ8/25*12*2*1.302,1) -> 0 | BX8: =BP8+BR8+BV8+BT8 -> 22 | BY8: =BQ8+BS8+BW8+BU8 -> 660 | BZ8: 24 | CA8: 15 | CB8: =ROUND(CA8*BZ8/25*12*2*1.302,1) -> 450 | CD8: =ROUND(CC8*CB8/25*12*2*1.302,1) -> 0 | CI8: =CA8+CC8+CG8+CE8 -> 15 | CJ8: =CB8+CD8+CH8+CF8 -> 450 | CK8: 24 | CL8: 2 | CM8: =ROUND(CL8*CK8/25*12*2*1.302,1) -> 60 | CO8: =ROUND(CN8*CK8/25*12*2*1.302,1) -> 0 | CS8: =ROUND(CR8*CK8/12*12*2*1.302,1) -> 0 | CT8: =CL8+CN8+CR8+CP8 -> 2 | CU8: =CM8+CO8+CS8+CQ8 -> 60 | CV8: 24 | CW8: 15 | CX8: =ROUND(CW8*CV8/25*12*2*1.302,1) -> 450 | CZ8: =ROUND(CY8*CV8/25*12*2*1.302,1) -> 0 | DB8: =ROUND(DA8*CV8/20*12*2*1.302,1) -> 0 | DD8: =ROUND(DC8*CV8/12*12*2*1.302,1) -> 0 | DE8: =CW8+CY8+DA8+DC8 -> 15 | DF8: =CX8+CZ8+DB8+DD8 -> 450 | DG8: 24 | DH8: 2 | DI8: =ROUND(DH8*DG8/25*12*2*1.302,1) -> 60 | DK8: =ROUND(DJ8*DG8/25*12*2*1.302,1) -> 0 | DP8: =DH8+DJ8+DL8+DN8 -> 2 | DQ8: =DI8+DK8+DM8+DO8 -> 60 | DR8: 24 | DT8: =ROUND(DS8*DR8/25*12*2*1.302,1) -> 0 | DV8: =ROUND(DU8*DT8/25*12*2*1.302,1) -> 0 | DX8: =ROUND(DW8*DR8/20*12*2*1.302,1) -> 0 | DZ8: =ROUND(DY8*DR8/12*12*2*1.302,1) -> 0 | EA8: =DS8+DU8+DY8+DW8 -> 0 | EB8: =DT8+DV8+DZ8+DX8 -> 0 | EC8: 24 | ED8: 14 | EE8: =ROUND(ED8*EC8/25*12*2*1.302,1) -> 420 | EG8: =ROUND(EF8*EC8/25*12*2*1.302,1) -> 0 | EL8: =ED8+EF8+EJ8+EH8 -> 14 | EM8: =EE8+EG8+EK8+EI8 -> 420 | EN8: 24 | EO8: 7 | EP8: =ROUND(EO8*EN8/25*12*2*1.302,1) -> 210 | ER8: =ROUND(EQ8*EP8/25*12*2*1.302,1) -> 0 | EW8: =EO8+EQ8+EU8+ES8 -> 7 | EX8: =EP8+ER8+EV8+ET8 -> 210 | EY8: 24 | EZ8: 1 | FA8: =ROUND(EZ8*EY8/25*12*2*1.302,1) -> 30 | FC8: =ROUND(FB8*FA8/25*12*2*1.302,1) -> 0 | FH8: =EZ8+FB8+FF8+FD8 -> 1 | FI8: =FA8+FC8+FG8+FE8 -> 30 | FJ8: 24 | FK8: 6 | FL8: =ROUND(FK8*FJ8/25*12*2*1.302,1) -> 180 | FM8: 0 | FN8: =ROUND(FM8*FL8/25*12*2*1.302,1) -> 0 | FR8: =ROUND(FQ8*FJ8/12*12*2*1.302,1) -> 0 | FS8: =FK8+FM8+FQ8+FO8 -> 6 | FT8: =FL8+FN8+FR8+FP8 -> 180 | FU8: 24 | FV8: 6 | FW8: =ROUND(FV8*FU8/25*12*2*1.302,1) -> 180 | FY8: =ROUND(FX8*FW8/25*12*2*1.302,1) -> 0 | GD8: =FV8+FX8+GB8+FZ8 -> 6 | GE8: =FW8+FY8+GC8+GA8 -> 180 | GF8: 24 | GG8: 24 | GH8: =ROUND(GG8*GF8/25*12*2*1.302,1) -> 720 | GJ8: =ROUND(GI8*GH8/25*12*2*1.302,1) -> 0 | GO8: =GG8+GI8+GM8+GK8 -> 24 | GP8: =GH8+GJ8+GN8+GL8 -> 720 | GQ8: 24 | GR8: 10 | GS8: =ROUND(GR8*GQ8/25*12*2*1.302,1) -> 300 | GU8: =ROUND(GT8*GS8/25*12*2*1.302,1) -> 0 | GZ8: =GR8+GT8+GX8+GV8 -> 10 | HA8: =GS8+GU8+GY8+GW8 -> 300
A9: 23 | B9: =M9+X9+AI9+AT9+BE9+BP9+CA9+CL9+CW9+DH9+DS9+ED9+EO9+EZ9+FK9+FV9+GG9+GR9 -> 155 | C9: =N9+Y9+AJ9+AU9+BF9+BQ9+CB9+CM9+CX9+DI9+DT9+EE9+EP9+FA9+FL9+FW9+GH9+GS9 -> 4455.7 | D9: =O9+Z9+AK9+AV9+BG9+BR9+CC9+CN9+CY9+DJ9+DU9+EF9+EQ9+FB9+FM9+FX9+GI9+GT9 -> 0 | E9: =P9+AA9+AL9+AW9+BH9+BS9+CD9+CO9+CZ9+DK9+DV9+EG9+ER9+FC9+FN9+FY9+GJ9+GU9 -> 0 | F9: =Q9+AB9+AM9+AX9+BI9+BT9+CE9+CP9+DA9+DL9+DW9+EH9+ES9+FD9+FO9+FZ9+GK9+GV9 -> 0 | G9: =R9+AC9+AN9+AY9+BJ9+BU9+CF9+CQ9+DB9+DM9+DX9+EI9+ET9+FE9+FP9+GA9+GL9+GW9 -> 0 | H9: =S9+AD9+AO9+AZ9+BK9+BV9+CG9+CR9+DC9+DN9+DY9+EJ9+EU9+FF9+FQ9+GB9+GM9+GX9 -> 0 | I9: =T9+AE9+AP9+BA9+BL9+BW9+CH9+CS9+DD9+DO9+DZ9+EK9+EV9+FG9+FR9+GC9+GN9+GY9 -> 0 | ... K9: =V9+AG9+AR9+BC9+BN9+BY9+CJ9+CU9+DF9+DQ9+EB9+EM9+EX9+FI9+FT9+GE9+GP9+HA9 -> 4455.7 | L9: 23 | M9: 2 | N9: =ROUND(M9*L9/25*12*2*1.302,1) -> 57.5 | P9: =ROUND(O9*N9/25*12*2*1.302,1) -> 0 | U9: =M9+O9+S9+Q9 -> 2 | V9: =N9+P9+T9+R9 -> 57.5 | W9: 23 | X9: 13 | Y9: =ROUND(X9*W9/25*12*2*1.302,1) -> 373.7 | AA9: =ROUND(Z9*Y9/25*12*2*1.302,1) -> 0 | AF9: =X9+Z9+AD9+AB9 -> 13 | AG9: =Y9+AA9+AE9+AC9 -> 373.7 | AH9: 23 | AI9: 12 | AJ9: =ROUND(AI9*AH9/25*12*2*1.302,1) -> 345 | AL9: =ROUND(AK9*AH9/25*12*2*1.302,1) -> 0 | AQ9: =AI9+AK9+AO9+AM9 -> 12 | AR9: =AJ9+AL9+AP9+AN9 -> 345 | AS9: 23 | AT9: 24 | AU9: =ROUND(AT9*AS9/25*12*2*1.302,1) -> 690 | AW9: =ROUND(AV9*AS9/25*12*2*1.302,1) -> 0 | BB9: =AT9+AV9+AZ9+AX9 -> 24 | BC9: =AU9+AW9+BA9+AY9 -> 690 | BD9: 23 | BE9: 13 | BF9: =ROUND(BE9*BD9/25*12*2*1.302,1) -> 373.7 | BH9: =ROUND(BG9*BF9/25*12*2*1.302,1) -> 0 | BM9: =BE9+BG9+BK9+BI9 -> 13 | BN9: =BF9+BH9+BL9+BJ9 -> 373.7 | BO9: 23 | BP9: 13 | BQ9: =ROUND(BP9*BO9/25*12*2*1.302,1) -> 373.7 | BS9: =ROUND(BR9*BQ9/25*12*2*1.302,1) -> 0 | BX9: =BP9+BR9+BV9+BT9 -> 13 | BY9: =BQ9+BS9+BW9+BU9 -> 373.7 | BZ9: 23 | CA9: 5 | CB9: =ROUND(CA9*BZ9/25*12*2*1.302,1) -> 143.7 | CD9: =ROUND(CC9*CB9/25*12*2*1.302,1) -> 0 | CI9: =CA9+CC9+CG9+CE9 -> 5 | CJ9: =CB9+CD9+CH9+CF9 -> 143.7 | CK9: 23 | CL9: 4 | CM9: =ROUND(CL9*CK9/25*12*2*1.302,1) -> 115 | CO9: =ROUND(CN9*CK9/25*12*2*1.302,1) -> 0 | CS9: =ROUND(CR9*CK9/12*12*2*1.302,1) -> 0 | CT9: =CL9+CN9+CR9+CP9 -> 4 | CU9: =CM9+CO9+CS9+CQ9 -> 115 | CV9: 23 | CW9: 15 | CX9: =ROUND(CW9*CV9/25*12*2*1.302,1) -> 431.2 | CZ9: =ROUND(CY9*CV9/25*12*2*1.302,1) -> 0 | DB9: =ROUND(DA9*CV9/20*12*2*1.302,1) -> 0 | DD9: =ROUND(DC9*CV9/12*12*2*1.302,1) -> 0 | DE9: =CW9+CY9+DA9+DC9 -> 15 | DF9: =CX9+CZ9+DB9+DD9 -> 431.2 | DG9: 23 | DH9: 3 | DI9: =ROUND(DH9*DG9/25*12*2*1.302,1) -> 86.2 | DK9: =ROUND(DJ9*DG9/25*12*2*1.302,1) -> 0 | DP9: =DH9+DJ9+DL9+DN9 -> 3 | DQ9: =DI9+DK9+DM9+DO9 -> 86.2 | DR9: 23 | DT9: =ROUND(DS9*DR9/25*12*2*1.302,1) -> 0 | DV9: =ROUND(DU9*DT9/25*12*2*1.302,1) -> 0 | DX9: =ROUND(DW9*DR9/20*12*2*1.302,1) -> 0 | DZ9: =ROUND(DY9*DR9/12*12*2*1.302,1) -> 0 | EA9: =DS9+DU9+DY9+DW9 -> 0 | EB9: =DT9+DV9+DZ9+DX9 -> 0 | EC9: 23 | ED9: 20 | EE9: =ROUND(ED9*EC9/25*12*2*1.302,1) -> 575 | EG9: =ROUND(EF9*EC9/25*12*2*1.302,1) -> 0 | EL9: =ED9+EF9+EJ9+EH9 -> 20 | EM9: =EE9+EG9+EK9+EI9 -> 575 | EN9: 23 | EO9: 5 | EP9: =ROUND(EO9*EN9/25*12*2*1.302,1) -> 143.7 | ER9: =ROUND(EQ9*EP9/25*12*2*1.302,1) -> 0 | EW9: =EO9+EQ9+EU9+ES9 -> 5 | EX9: =EP9+ER9+EV9+ET9 -> 143.7 | EY9: 23 | EZ9: 5 | FA9: =ROUND(EZ9*EY9/25*12*2*1.302,1) -> 143.7 | FC9: =ROUND(FB9*FA9/25*12*2*1.302,1) -> 0 | FH9: =EZ9+FB9+FF9+FD9 -> 5 | FI9: =FA9+FC9+FG9+FE9 -> 143.7 | FJ9: 23 | FK9: 1 | FL9: =ROUND(FK9*FJ9/25*12*2*1.302,1) -> 28.7 | FM9: 0 | FN9: =ROUND(FM9*FL9/25*12*2*1.302,1) -> 0 | FR9: =ROUND(FQ9*FJ9/12*12*2*1.302,1) -> 0 | FS9: =FK9+FM9+FQ9+FO9 -> 1 | FT9: =FL9+FN9+FR9+FP9 -> 28.7 | FU9: 23 | FV9: 7 | FW9: =ROUND(FV9*FU9/25*12*2*1.302,1) -> 201.2 | FY9: =ROUND(FX9*FW9/25*12*2*1.302,1) -> 0 | GD9: =FV9+FX9+GB9+FZ9 -> 7 | GE9: =FW9+FY9+GC9+GA9 -> 201.2 | GF9: 23 | GG9: 8 | GH9: =ROUND(GG9*GF9/25*12*2*1.302,1) -> 230 | GJ9: =ROUND(GI9*GH9/25*12*2*1.302,1) -> 0 | GO9: =GG9+GI9+GM9+GK9 -> 8 | GP9: =GH9+GJ9+GN9+GL9 -> 230 | GQ9: 23 | GR9: 5 | GS9: =ROUND(GR9*GQ9/25*12*2*1.302,1) -> 143.7 | GU9: =ROUND(GT9*GS9/25*12*2*1.302,1) -> 0 | GZ9: =GR9+GT9+GX9+GV9 -> 5 | HA9: =GS9+GU9+GY9+GW9 -> 143.7
A10: 22 | B10: =M10+X10+AI10+AT10+BE10+BP10+CA10+CL10+CW10+DH10+DS10+ED10+EO10+EZ10+FK10+FV10+GG10+GR10 -> 95 | C10: =N10+Y10+AJ10+AU10+BF10+BQ10+CB10+CM10+CX10+DI10+DT10+EE10+EP10+FA10+FL10+FW10+GH10+GS10 -> 2612.5 | D10: =O10+Z10+AK10+AV10+BG10+BR10+CC10+CN10+CY10+DJ10+DU10+EF10+EQ10+FB10+FM10+FX10+GI10+GT10 -> 1 | E10: =P10+AA10+AL10+AW10+BH10+BS10+CD10+CO10+CZ10+DK10+DV10+EG10+ER10+FC10+FN10+FY10+GJ10+GU10 -> 27.5 | F10: =Q10+AB10+AM10+AX10+BI10+BT10+CE10+CP10+DA10+DL10+DW10+EH10+ES10+FD10+FO10+FZ10+GK10+GV10 -> 0 | G10: =R10+AC10+AN10+AY10+BJ10+BU10+CF10+CQ10+DB10+DM10+DX10+EI10+ET10+FE10+FP10+GA10+GL10+GW10 -> 0 | H10: =S10+AD10+AO10+AZ10+BK10+BV10+CG10+CR10+DC10+DN10+DY10+EJ10+EU10+FF10+FQ10+GB10+GM10+GX10 -> 0 | I10: =T10+AE10+AP10+BA10+BL10+BW10+CH10+CS10+DD10+DO10+DZ10+EK10+EV10+FG10+FR10+GC10+GN10+GY10 -> 0 | ... K10: =V10+AG10+AR10+BC10+BN10+BY10+CJ10+CU10+DF10+DQ10+EB10+EM10+EX10+FI10+FT10+GE10+GP10+HA10 -> 2640 | L10: 22 | M10: 3 | N10: =ROUND(M10*L10/25*12*2*1.302,1) -> 82.5 | P10: =ROUND(O10*N10/25*12*2*1.302,1) -> 0 | U10: =M10+O10+S10+Q10 -> 3 | V10: =N10+P10+T10+R10 -> 82.5 | W10: 22 | X10: 1 | Y10: =ROUND(X10*W10/25*12*2*1.302,1) -> 27.5 | AA10: =ROUND(Z10*Y10/25*12*2*1.302,1) -> 0 | AF10: =X10+Z10+AD10+AB10 -> 1 | AG10: =Y10+AA10+AE10+AC10 -> 27.5 | AH10: 22 | AI10: 5 | AJ10: =ROUND(AI10*AH10/25*12*2*1.302,1) -> 137.5 | AL10: =ROUND(AK10*AH10/25*12*2*1.302,1) -> 0 | AQ10: =AI10+AK10+AO10+AM10 -> 5 | AR10: =AJ10+AL10+AP10+AN10 -> 137.5 | AS10: 22 | AU10: =ROUND(AT10*AS10/25*12*2*1.302,1) -> 0 | AW10: =ROUND(AV10*AS10/25*12*2*1.302,1) -> 0 | BB10: =AT10+AV10+AZ10+AX10 -> 0 | BC10: =AU10+AW10+BA10+AY10 -> 0 | BD10: 22 | BE10: 8 | BF10: =ROUND(BE10*BD10/25*12*2*1.302,1) -> 220 | BH10: =ROUND(BG10*BF10/25*12*2*1.302,1) -> 0 | BM10: =BE10+BG10+BK10+BI10 -> 8 | BN10: =BF10+BH10+BL10+BJ10 -> 220 | BO10: 22 | BP10: 10 | BQ10: =ROUND(BP10*BO10/25*12*2*1.302,1) -> 275 | BS10: =ROUND(BR10*BQ10/25*12*2*1.302,1) -> 0 | BX10: =BP10+BR10+BV10+BT10 -> 10 | BY10: =BQ10+BS10+BW10+BU10 -> 275 | BZ10: 22 | CA10: 6 | CB10: =ROUND(CA10*BZ10/25*12*2*1.302,1) -> 165 | CD10: =ROUND(CC10*CB10/25*12*2*1.302,1) -> 0 | CI10: =CA10+CC10+CG10+CE10 -> 6 | CJ10: =CB10+CD10+CH10+CF10 -> 165 | CK10: 22 | CL10: 8 | CM10: =ROUND(CL10*CK10/25*12*2*1.302,1) -> 220 | CO10: =ROUND(CN10*CK10/25*12*2*1.302,1) -> 0 | CS10: =ROUND(CR10*CK10/12*12*2*1.302,1) -> 0 | CT10: =CL10+CN10+CR10+CP10 -> 8 | CU10: =CM10+CO10+CS10+CQ10 -> 220 | CV10: 22 | CW10: 13 | CX10: =ROUND(CW10*CV10/25*12*2*1.302,1) -> 357.5 | CY10: 1 | CZ10: =ROUND(CY10*CV10/25*12*2*1.302,1) -> 27.5 | DB10: =ROUND(DA10*CV10/20*12*2*1.302,1) -> 0 | DD10: =ROUND(DC10*CV10/12*12*2*1.302,1) -> 0 | DE10: =CW10+CY10+DA10+DC10 -> 14 | DF10: =CX10+CZ10+DB10+DD10 -> 385 | DG10: 22 | DH10: 1 | DI10: =ROUND(DH10*DG10/25*12*2*1.302,1) -> 27.5 | DK10: =ROUND(DJ10*DG10/25*12*2*1.302,1) -> 0 | DP10: =DH10+DJ10+DL10+DN10 -> 1 | DQ10: =DI10+DK10+DM10+DO10 -> 27.5 | DR10: 22 | DS10: 1 | DT10: =ROUND(DS10*DR10/25*12*2*1.302,1) -> 27.5 | DV10: =ROUND(DU10*DT10/25*12*2*1.302,1) -> 0 | DX10: =ROUND(DW10*DR10/20*12*2*1.302,1) -> 0 | DZ10: =ROUND(DY10*DR10/12*12*2*1.302,1) -> 0 | EA10: =DS10+DU10+DY10+DW10 -> 1 | EB10: =DT10+DV10+DZ10+DX10 -> 27.5 | EC10: 22 | ED10: 13 | EE10: =ROUND(ED10*EC10/25*12*2*1.302,1) -> 357.5 | EG10: =ROUND(EF10*EC10/25*12*2*1.302,1) -> 0 | EL10: =ED10+EF10+EJ10+EH10 -> 13 | EM10: =EE10+EG10+EK10+EI10 -> 357.5 | EN10: 22 | EO10: 5 | EP10: =ROUND(EO10*EN10/25*12*2*1.302,1) -> 137.5 | ER10: =ROUND(EQ10*EP10/25*12*2*1.302,1) -> 0 | EW10: =EO10+EQ10+EU10+ES10 -> 5 | EX10: =EP10+ER10+EV10+ET10 -> 137.5 | EY10: 22 | EZ10: 1 | FA10: =ROUND(EZ10*EY10/25*12*2*1.302,1) -> 27.5 | FC10: =ROUND(FB10*FA10/25*12*2*1.302,1) -> 0 | FH10: =EZ10+FB10+FF10+FD10 -> 1 | FI10: =FA10+FC10+FG10+FE10 -> 27.5 | FJ10: 22 | FK10: 2 | FL10: =ROUND(FK10*FJ10/25*12*2*1.302,1) -> 55 | FM10: 0 | FN10: =ROUND(FM10*FL10/25*12*2*1.302,1) -> 0 | FR10: =ROUND(FQ10*FJ10/12*12*2*1.302,1) -> 0 | FS10: =FK10+FM10+FQ10+FO10 -> 2 | FT10: =FL10+FN10+FR10+FP10 -> 55 | FU10: 22 | FV10: 5 | FW10: =ROUND(FV10*FU10/25*12*2*1.302,1) -> 137.5 | FY10: =ROUND(FX10*FW10/25*12*2*1.302,1) -> 0 | GD10: =FV10+FX10+GB10+FZ10 -> 5 | GE10: =FW10+FY10+GC10+GA10 -> 137.5 | GF10: 22 | GG10: 4 | GH10: =ROUND(GG10*GF10/25*12*2*1.302,1) -> 110 | GJ10: =ROUND(GI10*GH10/25*12*2*1.302,1) -> 0 | GO10: =GG10+GI10+GM10+GK10 -> 4 | GP10: =GH10+GJ10+GN10+GL10 -> 110 | GQ10: 22 | GR10: 9 | GS10: =ROUND(GR10*GQ10/25*12*2*1.302,1) -> 247.5 | GU10: =ROUND(GT10*GS10/25*12*2*1.302,1) -> 0 | GZ10: =GR10+GT10+GX10+GV10 -> 9 | HA10: =GS10+GU10+GY10+GW10 -> 247.5
A11: 21 | B11: =M11+X11+AI11+AT11+BE11+BP11+CA11+CL11+CW11+DH11+DS11+ED11+EO11+EZ11+FK11+FV11+GG11+GR11 -> 96 | C11: =N11+Y11+AJ11+AU11+BF11+BQ11+CB11+CM11+CX11+DI11+DT11+EE11+EP11+FA11+FL11+FW11+GH11+GS11 -> 2519.6 | D11: =O11+Z11+AK11+AV11+BG11+BR11+CC11+CN11+CY11+DJ11+DU11+EF11+EQ11+FB11+FM11+FX11+GI11+GT11 -> 0 | E11: =P11+AA11+AL11+AW11+BH11+BS11+CD11+CO11+CZ11+DK11+DV11+EG11+ER11+FC11+FN11+FY11+GJ11+GU11 -> 0 | F11: =Q11+AB11+AM11+AX11+BI11+BT11+CE11+CP11+DA11+DL11+DW11+EH11+ES11+FD11+FO11+FZ11+GK11+GV11 -> 0 | G11: =R11+AC11+AN11+AY11+BJ11+BU11+CF11+CQ11+DB11+DM11+DX11+EI11+ET11+FE11+FP11+GA11+GL11+GW11 -> 0 | H11: =S11+AD11+AO11+AZ11+BK11+BV11+CG11+CR11+DC11+DN11+DY11+EJ11+EU11+FF11+FQ11+GB11+GM11+GX11 -> 0 | I11: =T11+AE11+AP11+BA11+BL11+BW11+CH11+CS11+DD11+DO11+DZ11+EK11+EV11+FG11+FR11+GC11+GN11+GY11 -> 0 | ... K11: =V11+AG11+AR11+BC11+BN11+BY11+CJ11+CU11+DF11+DQ11+EB11+EM11+EX11+FI11+FT11+GE11+GP11+HA11 -> 2519.6 | L11: 21 | M11: 3 | N11: =ROUND(M11*L11/25*12*2*1.302,1) -> 78.7 | P11: =ROUND(O11*N11/25*12*2*1.302,1) -> 0 | U11: =M11+O11+S11+Q11 -> 3 | V11: =N11+P11+T11+R11 -> 78.7 | W11: 21 | X11: 1 | Y11: =ROUND(X11*W11/25*12*2*1.302,1) -> 26.2 | AA11: =ROUND(Z11*Y11/25*12*2*1.302,1) -> 0 | AF11: =X11+Z11+AD11+AB11 -> 1 | AG11: =Y11+AA11+AE11+AC11 -> 26.2 | AH11: 21 | AI11: 6 | AJ11: =ROUND(AI11*AH11/25*12*2*1.302,1) -> 157.5 | AL11: =ROUND(AK11*AH11/25*12*2*1.302,1) -> 0 | AQ11: =AI11+AK11+AO11+AM11 -> 6 | AR11: =AJ11+AL11+AP11+AN11 -> 157.5 | AS11: 21 | AU11: =ROUND(AT11*AS11/25*12*2*1.302,1) -> 0 | AW11: =ROUND(AV11*AS11/25*12*2*1.302,1) -> 0 | BB11: =AT11+AV11+AZ11+AX11 -> 0 | BC11: =AU11+AW11+BA11+AY11 -> 0 | BD11: 21 | BE11: 14 | BF11: =ROUND(BE11*BD11/25*12*2*1.302,1) -> 367.5 | BH11: =ROUND(BG11*BF11/25*12*2*1.302,1) -> 0 | BM11: =BE11+BG11+BK11+BI11 -> 14 | BN11: =BF11+BH11+BL11+BJ11 -> 367.5 | BO11: 21 | BP11: 21 | BQ11: =ROUND(BP11*BO11/25*12*2*1.302,1) -> 551.2 | BS11: =ROUND(BR11*BQ11/25*12*2*1.302,1) -> 0 | BX11: =BP11+BR11+BV11+BT11 -> 21 | BY11: =BQ11+BS11+BW11+BU11 -> 551.2 | BZ11: 21 | CA11: 4 | CB11: =ROUND(CA11*BZ11/25*12*2*1.302,1) -> 105 | CD11: =ROUND(CC11*CB11/25*12*2*1.302,1) -> 0 | CI11: =CA11+CC11+CG11+CE11 -> 4 | CJ11: =CB11+CD11+CH11+CF11 -> 105 | CK11: 21 | CL11: 1 | CM11: =ROUND(CL11*CK11/25*12*2*1.302,1) -> 26.2 | CO11: =ROUND(CN11*CK11/25*12*2*1.302,1) -> 0 | CS11: =ROUND(CR11*CK11/12*12*2*1.302,1) -> 0 | CT11: =CL11+CN11+CR11+CP11 -> 1 | CU11: =CM11+CO11+CS11+CQ11 -> 26.2 | CV11: 21 | CW11: 7 | CX11: =ROUND(CW11*CV11/25*12*2*1.302,1) -> 183.7 | CZ11: =ROUND(CY11*CV11/25*12*2*1.302,1) -> 0 | DB11: =ROUND(DA11*CV11/20*12*2*1.302,1) -> 0 | DD11: =ROUND(DC11*CV11/12*12*2*1.302,1) -> 0 | DE11: =CW11+CY11+DA11+DC11 -> 7 | DF11: =CX11+CZ11+DB11+DD11 -> 183.7 | DG11: 21 | DH11: 4 | DI11: =ROUND(DH11*DG11/25*12*2*1.302,1) -> 105 | DK11: =ROUND(DJ11*DG11/25*12*2*1.302,1) -> 0 | DP11: =DH11+DJ11+DL11+DN11 -> 4 | DQ11: =DI11+DK11+DM11+DO11 -> 105 | DR11: 21 | DS11: 3 | DT11: =ROUND(DS11*DR11/25*12*2*1.302,1) -> 78.7 | DV11: =ROUND(DU11*DT11/25*12*2*1.302,1) -> 0 | DX11: =ROUND(DW11*DR11/20*12*2*1.302,1) -> 0 | DZ11: =ROUND(DY11*DR11/12*12*2*1.302,1) -> 0 | EA11: =DS11+DU11+DY11+DW11 -> 3 | EB11: =DT11+DV11+DZ11+DX11 -> 78.7 | EC11: 21 | ED11: 6 | EE11: =ROUND(ED11*EC11/25*12*2*1.302,1) -> 157.5 | EG11: =ROUND(EF11*EC11/25*12*2*1.302,1) -> 0 | EL11: =ED11+EF11+EJ11+EH11 -> 6 | EM11: =EE11+EG11+EK11+EI11 -> 157.5 | EN11: 21 | EO11: 4 | EP11: =ROUND(EO11*EN11/25*12*2*1.302,1) -> 105 | ER11: =ROUND(EQ11*EP11/25*12*2*1.302,1) -> 0 | EW11: =EO11+EQ11+EU11+ES11 -> 4 | EX11: =EP11+ER11+EV11+ET11 -> 105 | EY11: 21 | FA11: =ROUND(EZ11*EY11/25*12*2*1.302,1) -> 0 | FC11: =ROUND(FB11*FA11/25*12*2*1.302,1) -> 0 | FH11: =EZ11+FB11+FF11+FD11 -> 0 | FI11: =FA11+FC11+FG11+FE11 -> 0 | FJ11: 21 | FK11: 1 | FL11: =ROUND(FK11*FJ11/25*12*2*1.302,1) -> 26.2 | FM11: 0 | FN11: =ROUND(FM11*FL11/25*12*2*1.302,1) -> 0 | FR11: =ROUND(FQ11*FJ11/12*12*2*1.302,1) -> 0 | FS11: =FK11+FM11+FQ11+FO11 -> 1 | FT11: =FL11+FN11+FR11+FP11 -> 26.2 | FU11: 21 | FV11: 3 | FW11: =ROUND(FV11*FU11/25*12*2*1.302,1) -> 78.7 | FY11: =ROUND(FX11*FW11/25*12*2*1.302,1) -> 0 | GD11: =FV11+FX11+GB11+FZ11 -> 3 | GE11: =FW11+FY11+GC11+GA11 -> 78.7 | GF11: 21 | GG11: 10 | GH11: =ROUND(GG11*GF11/25*12*2*1.302,1) -> 262.5 | GJ11: =ROUND(GI11*GH11/25*12*2*1.302,1) -> 0 | GO11: =GG11+GI11+GM11+GK11 -> 10 | GP11: =GH11+GJ11+GN11+GL11 -> 262.5 | GQ11: 21 | GR11: 8 | GS11: =ROUND(GR11*GQ11/25*12*2*1.302,1) -> 210 | GU11: =ROUND(GT11*GS11/25*12*2*1.302,1) -> 0 | GZ11: =GR11+GT11+GX11+GV11 -> 8 | HA11: =GS11+GU11+GY11+GW11 -> 210
A12: 20 | B12: =M12+X12+AI12+AT12+BE12+BP12+CA12+CL12+CW12+DH12+DS12+ED12+EO12+EZ12+FK12+FV12+GG12+GR12 -> 84 | C12: =N12+Y12+AJ12+AU12+BF12+BQ12+CB12+CM12+CX12+DI12+DT12+EE12+EP12+FA12+FL12+FW12+GH12+GS12 -> 2100 | D12: =O12+Z12+AK12+AV12+BG12+BR12+CC12+CN12+CY12+DJ12+DU12+EF12+EQ12+FB12+FM12+FX12+GI12+GT12 -> 0 | E12: =P12+AA12+AL12+AW12+BH12+BS12+CD12+CO12+CZ12+DK12+DV12+EG12+ER12+FC12+FN12+FY12+GJ12+GU12 -> 0 | F12: =Q12+AB12+AM12+AX12+BI12+BT12+CE12+CP12+DA12+DL12+DW12+EH12+ES12+FD12+FO12+FZ12+GK12+GV12 -> 0 | G12: =R12+AC12+AN12+AY12+BJ12+BU12+CF12+CQ12+DB12+DM12+DX12+EI12+ET12+FE12+FP12+GA12+GL12+GW12 -> 0 | H12: =S12+AD12+AO12+AZ12+BK12+BV12+CG12+CR12+DC12+DN12+DY12+EJ12+EU12+FF12+FQ12+GB12+GM12+GX12 -> 0 | I12: =T12+AE12+AP12+BA12+BL12+BW12+CH12+CS12+DD12+DO12+DZ12+EK12+EV12+FG12+FR12+GC12+GN12+GY12 -> 0 | ... K12: =V12+AG12+AR12+BC12+BN12+BY12+CJ12+CU12+DF12+DQ12+EB12+EM12+EX12+FI12+FT12+GE12+GP12+HA12 -> 2100 | L12: 20 | M12: 1 | N12: =ROUND(M12*L12/25*12*2*1.302,1) -> 25 | P12: =ROUND(O12*N12/25*12*2*1.302,1) -> 0 | R12: =ROUND(Q12*L12/20*12*2*1.302,1) -> 0 | U12: =M12+O12+S12+Q12 -> 1 | V12: =N12+P12+T12+R12 -> 25 | W12: 20 | X12: 1 | Y12: =ROUND(X12*W12/25*12*2*1.302,1) -> 25 | AA12: =ROUND(Z12*Y12/25*12*2*1.302,1) -> 0 | AC12: =ROUND(AB12*W12/20*12*2*1.302,1) -> 0 | AF12: =X12+Z12+AD12+AB12 -> 1 | AG12: =Y12+AA12+AE12+AC12 -> 25 | AH12: 20 | AI12: 6 | AJ12: =ROUND(AI12*AH12/25*12*2*1.302,1) -> 150 | AL12: =ROUND(AK12*AH12/25*12*2*1.302,1) -> 0 | AN12: =ROUND(AM12*AH12/20*12*2*1.302,1) -> 0 | AQ12: =AI12+AK12+AO12+AM12 -> 6 | AR12: =AJ12+AL12+AP12+AN12 -> 150 | AS12: 20 | AU12: =ROUND(AT12*AS12/25*12*2*1.302,1) -> 0 | AW12: =ROUND(AV12*AS12/25*12*2*1.302,1) -> 0 | AY12: =ROUND(AX12*AS12/20*12*2*1.302,1) -> 0 | BB12: =AT12+AV12+AZ12+AX12 -> 0 | BC12: =AU12+AW12+BA12+AY12 -> 0 | BD12: 20 | BE12: 12 | BF12: =ROUND(BE12*BD12/25*12*2*1.302,1) -> 300 | BH12: =ROUND(BG12*BF12/25*12*2*1.302,1) -> 0 | BJ12: =ROUND(BI12*BD12/20*12*2*1.302,1) -> 0 | BM12: =BE12+BG12+BK12+BI12 -> 12 | BN12: =BF12+BH12+BL12+BJ12 -> 300 | BO12: 20 | BP12: 16 | BQ12: =ROUND(BP12*BO12/25*12*2*1.302,1) -> 400 | BS12: =ROUND(BR12*BQ12/25*12*2*1.302,1) -> 0 | BU12: =ROUND(BT12*BO12/20*12*2*1.302,1) -> 0 | BX12: =BP12+BR12+BV12+BT12 -> 16 | BY12: =BQ12+BS12+BW12+BU12 -> 400 | BZ12: 20 | CA12: 7 | CB12: =ROUND(CA12*BZ12/25*12*2*1.302,1) -> 175 | CD12: =ROUND(CC12*CB12/25*12*2*1.302,1) -> 0 | CF12: =ROUND(CE12*BZ12/20*12*2*1.302,1) -> 0 | CI12: =CA12+CC12+CG12+CE12 -> 7 | CJ12: =CB12+CD12+CH12+CF12 -> 175 | CK12: 20 | CL12: 1 | CM12: =ROUND(CL12*CK12/25*12*2*1.302,1) -> 25 | CO12: =ROUND(CN12*CK12/25*12*2*1.302,1) -> 0 | CQ12: =ROUND(CP12*CK12/20*12*2*1.302,1) -> 0 | CS12: =ROUND(CR12*CK12/12*12*2*1.302,1) -> 0 | CT12: =CL12+CN12+CR12+CP12 -> 1 | CU12: =CM12+CO12+CS12+CQ12 -> 25 | CV12: 20 | CW12: 8 | CX12: =ROUND(CW12*CV12/25*12*2*1.302,1) -> 200 | CZ12: =ROUND(CY12*CV12/25*12*2*1.302,1) -> 0 | DB12: =ROUND(DA12*CV12/20*12*2*1.302,1) -> 0 | DD12: =ROUND(DC12*CV12/12*12*2*1.302,1) -> 0 | DE12: =CW12+CY12+DA12+DC12 -> 8 | DF12: =CX12+CZ12+DB12+DD12 -> 200 | DG12: 20 | DH12: 2 | DI12: =ROUND(DH12*DG12/25*12*2*1.302,1) -> 50 | DK12: =ROUND(DJ12*DG12/25*12*2*1.302,1) -> 0 | DM12: =ROUND(DL12*DG12/20*12*2*1.302,1) -> 0 | DP12: =DH12+DJ12+DL12+DN12 -> 2 | DQ12: =DI12+DK12+DM12+DO12 -> 50 | DR12: 20 | DS12: 3 | DT12: =ROUND(DS12*DR12/25*12*2*1.302,1) -> 75 | DV12: =ROUND(DU12*DT12/25*12*2*1.302,1) -> 0 | DX12: =ROUND(DW12*DR12/20*12*2*1.302,1) -> 0 | DZ12: =ROUND(DY12*DR12/12*12*2*1.302,1) -> 0 | EA12: =DS12+DU12+DY12+DW12 -> 3 | EB12: =DT12+DV12+DZ12+DX12 -> 75 | EC12: 20 | ED12: 5 | EE12: =ROUND(ED12*EC12/25*12*2*1.302,1) -> 125 | EG12: =ROUND(EF12*EC12/25*12*2*1.302,1) -> 0 | EI12: =ROUND(EH12*EC12/20*12*2*1.302,1) -> 0 | EL12: =ED12+EF12+EJ12+EH12 -> 5 | EM12: =EE12+EG12+EK12+EI12 -> 125 | EN12: 20 | EO12: 8 | EP12: =ROUND(EO12*EN12/25*12*2*1.302,1) -> 200 | ER12: =ROUND(EQ12*EP12/25*12*2*1.302,1) -> 0 | ET12: =ROUND(ES12*EN12/20*12*2*1.302,1) -> 0 | EW12: =EO12+EQ12+EU12+ES12 -> 8 | EX12: =EP12+ER12+EV12+ET12 -> 200 | EY12: 20 | FA12: =ROUND(EZ12*EY12/25*12*2*1.302,1) -> 0 | FC12: =ROUND(FB12*FA12/25*12*2*1.302,1) -> 0 | FE12: =ROUND(FD12*EY12/20*12*2*1.302,1) -> 0 | FH12: =EZ12+FB12+FF12+FD12 -> 0 | FI12: =FA12+FC12+FG12+FE12 -> 0 | FJ12: 20 | FK12: 0 | FL12: =ROUND(FK12*FJ12/25*12*2*1.302,1) -> 0 | FM12: 0 | FN12: =ROUND(FM12*FL12/25*12*2*1.302,1) -> 0 | FO12: 0 | FP12: 0 | FR12: =ROUND(FQ12*FJ12/12*12*2*1.302,1) -> 0 | FS12: =FK12+FM12+FQ12+FO12 -> 0 | FT12: =FL12+FN12+FR12+FP12 -> 0 | FU12: 20 | FV12: 2 | FW12: =ROUND(FV12*FU12/25*12*2*1.302,1) -> 50 | FY12: =ROUND(FX12*FW12/25*12*2*1.302,1) -> 0 | GA12: =ROUND(FZ12*FU12/20*12*2*1.302,1) -> 0 | GD12: =FV12+FX12+GB12+FZ12 -> 2 | GE12: =FW12+FY12+GC12+GA12 -> 50 | GF12: 20 | GG12: 6 | GH12: =ROUND(GG12*GF12/25*12*2*1.302,1) -> 150 | GJ12: =ROUND(GI12*GH12/25*12*2*1.302,1) -> 0 | GL12: =ROUND(GK12*GF12/20*12*2*1.302,1) -> 0 | GO12: =GG12+GI12+GM12+GK12 -> 6 | GP12: =GH12+GJ12+GN12+GL12 -> 150 | GQ12: 20 | GR12: 6 | GS12: =ROUND(GR12*GQ12/25*12*2*1.302,1) -> 150 | GU12: =ROUND(GT12*GS12/25*12*2*1.302,1) -> 0 | GW12: =ROUND(GV12*GQ12/20*12*2*1.302,1) -> 0 | GZ12: =GR12+GT12+GX12+GV12 -> 6 | HA12: =GS12+GU12+GY12+GW12 -> 150
A13: 19 | B13: =M13+X13+AI13+AT13+BE13+BP13+CA13+CL13+CW13+DH13+DS13+ED13+EO13+EZ13+FK13+FV13+GG13+GR13 -> 39 | C13: =N13+Y13+AJ13+AU13+BF13+BQ13+CB13+CM13+CX13+DI13+DT13+EE13+EP13+FA13+FL13+FW13+GH13+GS13 -> 926 | D13: =O13+Z13+AK13+AV13+BG13+BR13+CC13+CN13+CY13+DJ13+DU13+EF13+EQ13+FB13+FM13+FX13+GI13+GT13 -> 0 | E13: =P13+AA13+AL13+AW13+BH13+BS13+CD13+CO13+CZ13+DK13+DV13+EG13+ER13+FC13+FN13+FY13+GJ13+GU13 -> 0 | F13: =Q13+AB13+AM13+AX13+BI13+BT13+CE13+CP13+DA13+DL13+DW13+EH13+ES13+FD13+FO13+FZ13+GK13+GV13 -> 0 | G13: =R13+AC13+AN13+AY13+BJ13+BU13+CF13+CQ13+DB13+DM13+DX13+EI13+ET13+FE13+FP13+GA13+GL13+GW13 -> 0 | H13: =S13+AD13+AO13+AZ13+BK13+BV13+CG13+CR13+DC13+DN13+DY13+EJ13+EU13+FF13+FQ13+GB13+GM13+GX13 -> 0 | I13: =T13+AE13+AP13+BA13+BL13+BW13+CH13+CS13+DD13+DO13+DZ13+EK13+EV13+FG13+FR13+GC13+GN13+GY13 -> 0 | ... K13: =V13+AG13+AR13+BC13+BN13+BY13+CJ13+CU13+DF13+DQ13+EB13+EM13+EX13+FI13+FT13+GE13+GP13+HA13 -> 926 | L13: 19 | M13: 2 | N13: =ROUND(M13*L13/25*12*2*1.302,1) -> 47.5 | P13: =ROUND(O13*N13/25*12*2*1.302,1) -> 0 | R13: =ROUND(Q13*L13/20*12*2*1.302,1) -> 0 | U13: =M13+O13+S13+Q13 -> 2 | V13: =N13+P13+T13+R13 -> 47.5 | W13: 19 | Y13: =ROUND(X13*W13/25*12*2*1.302,1) -> 0 | AA13: =ROUND(Z13*Y13/25*12*2*1.302,1) -> 0 | AC13: =ROUND(AB13*W13/20*12*2*1.302,1) -> 0 | AF13: =X13+Z13+AD13+AB13 -> 0 | AG13: =Y13+AA13+AE13+AC13 -> 0 | AH13: 19 | AI13: 1 | AJ13: =ROUND(AI13*AH13/25*12*2*1.302,1) -> 23.7 | AL13: =ROUND(AK13*AH13/25*12*2*1.302,1) -> 0 | AN13: =ROUND(AM13*AH13/20*12*2*1.302,1) -> 0 | AQ13: =AI13+AK13+AO13+AM13 -> 1 | AR13: =AJ13+AL13+AP13+AN13 -> 23.7 | AS13: 19 | AU13: =ROUND(AT13*AS13/25*12*2*1.302,1) -> 0 | AW13: =ROUND(AV13*AS13/25*12*2*1.302,1) -> 0 | AY13: =ROUND(AX13*AS13/20*12*2*1.302,1) -> 0 | BB13: =AT13+AV13+AZ13+AX13 -> 0 | BC13: =AU13+AW13+BA13+AY13 -> 0 | BD13: 19 | BE13: 3 | BF13: =ROUND(BE13*BD13/25*12*2*1.302,1) -> 71.2 | BH13: =ROUND(BG13*BF13/25*12*2*1.302,1) -> 0 | BJ13: =ROUND(BI13*BD13/20*12*2*1.302,1) -> 0 | BM13: =BE13+BG13+BK13+BI13 -> 3 | BN13: =BF13+BH13+BL13+BJ13 -> 71.2 | BO13: 19 | BP13: 13 | BQ13: =ROUND(BP13*BO13/25*12*2*1.302,1) -> 308.7 | BS13: =ROUND(BR13*BQ13/25*12*2*1.302,1) -> 0 | BU13: =ROUND(BT13*BO13/20*12*2*1.302,1) -> 0 | BX13: =BP13+BR13+BV13+BT13 -> 13 | BY13: =BQ13+BS13+BW13+BU13 -> 308.7 | BZ13: 19 | CB13: =ROUND(CA13*BZ13/25*12*2*1.302,1) -> 0 | CD13: =ROUND(CC13*CB13/25*12*2*1.302,1) -> 0 | CF13: =ROUND(CE13*BZ13/20*12*2*1.302,1) -> 0 | CI13: =CA13+CC13+CG13+CE13 -> 0 | CJ13: =CB13+CD13+CH13+CF13 -> 0 | CK13: 19 | CM13: =ROUND(CL13*CK13/25*12*2*1.302,1) -> 0 | CO13: =ROUND(CN13*CK13/25*12*2*1.302,1) -> 0 | CQ13: =ROUND(CP13*CK13/20*12*2*1.302,1) -> 0 | CS13: =ROUND(CR13*CK13/12*12*2*1.302,1) -> 0 | CT13: =CL13+CN13+CR13+CP13 -> 0 | CU13: =CM13+CO13+CS13+CQ13 -> 0 | CV13: 19 | CW13: 5 | CX13: =ROUND(CW13*CV13/25*12*2*1.302,1) -> 118.7 | CZ13: =ROUND(CY13*CV13/25*12*2*1.302,1) -> 0 | DB13: =ROUND(DA13*CV13/20*12*2*1.302,1) -> 0 | DD13: =ROUND(DC13*CV13/12*12*2*1.302,1) -> 0 | DE13: =CW13+CY13+DA13+DC13 -> 5 | DF13: =CX13+CZ13+DB13+DD13 -> 118.7 | DG13: 19 | DH13: 2 | DI13: =ROUND(DH13*DG13/25*12*2*1.302,1) -> 47.5 | DK13: =ROUND(DJ13*DG13/25*12*2*1.302,1) -> 0 | DM13: =ROUND(DL13*DG13/20*12*1.302,1) -> 0 | DP13: =DH13+DJ13+DL13+DN13 -> 2 | DQ13: =DI13+DK13+DM13+DO13 -> 47.5 | DR13: 19 | DT13: =ROUND(DS13*DR13/25*12*2*1.302,1) -> 0 | DV13: =ROUND(DU13*DT13/25*12*2*1.302,1) -> 0 | DX13: =ROUND(DW13*DR13/20*12*2*1.302,1) -> 0 | DZ13: =ROUND(DY13*DR13/12*12*2*1.302,1) -> 0 | EA13: =DS13+DU13+DY13+DW13 -> 0 | EB13: =DT13+DV13+DZ13+DX13 -> 0 | EC13: 19 | ED13: 4 | EE13: =ROUND(ED13*EC13/25*12*2*1.302,1) -> 95 | EG13: =ROUND(EF13*EC13/25*12*2*1.302,1) -> 0 | EI13: =ROUND(EH13*EC13/20*12*2*1.302,1) -> 0 | EL13: =ED13+EF13+EJ13+EH13 -> 4 | EM13: =EE13+EG13+EK13+EI13 -> 95 | EN13: 19 | EO13: 1 | EP13: =ROUND(EO13*EN13/25*12*2*1.302,1) -> 23.7 | ER13: =ROUND(EQ13*EP13/25*12*2*1.302,1) -> 0 | ET13: =ROUND(ES13*EN13/20*12*2*1.302,1) -> 0 | EW13: =EO13+EQ13+EU13+ES13 -> 1 | EX13: =EP13+ER13+EV13+ET13 -> 23.7 | EY13: 19 | FA13: =ROUND(EZ13*EY13/25*12*2*1.302,1) -> 0 | FC13: =ROUND(FB13*FA13/25*12*2*1.302,1) -> 0 | FE13: =ROUND(FD13*EY13/20*12*2*1.302,1) -> 0 | FH13: =EZ13+FB13+FF13+FD13 -> 0 | FI13: =FA13+FC13+FG13+FE13 -> 0 | FJ13: 19 | FK13: 0 | FL13: =ROUND(FK13*FJ13/25*12*2*1.302,1) -> 0 | FM13: 0 | FN13: =ROUND(FM13*FL13/25*12*2*1.302,1) -> 0 | FO13: 0 | FP13: 0 | FR13: =ROUND(FQ13*FJ13/12*12*2*1.302,1) -> 0 | FS13: =FK13+FM13+FQ13+FO13 -> 0 | FT13: =FL13+FN13+FR13+FP13 -> 0 | FU13: 19 | FV13: 4 | FW13: =ROUND(FV13*FU13/25*12*2*1.302,1) -> 95 | FY13: =ROUND(FX13*FW13/25*12*2*1.302,1) -> 0 | GA13: =ROUND(FZ13*FU13/20*12*2*1.302,1) -> 0 | GD13: =FV13+FX13+GB13+FZ13 -> 4 | GE13: =FW13+FY13+GC13+GA13 -> 95 | GF13: 19 | GG13: 4 | GH13: =ROUND(GG13*GF13/25*12*2*1.302,1) -> 95 | GJ13: =ROUND(GI13*GH13/25*12*2*1.302,1) -> 0 | GL13: =ROUND(GK13*GF13/20*12*2*1.302,1) -> 0 | GO13: =GG13+GI13+GM13+GK13 -> 4 | GP13: =GH13+GJ13+GN13+GL13 -> 95 | GQ13: 19 | GR13: 0 | GS13: =ROUND(GR13*GQ13/25*12*2*1.302,1) -> 0 | GU13: =ROUND(GT13*GS13/25*12*2*1.302,1) -> 0 | GW13: =ROUND(GV13*GQ13/20*12*2*1.302,1) -> 0 | GZ13: =GR13+GT13+GX13+GV13 -> 0 | HA13: =GS13+GU13+GY13+GW13 -> 0
A14: 18 | B14: =M14+X14+AI14+AT14+BE14+BP14+CA14+CL14+CW14+DH14+DS14+ED14+EO14+EZ14+FK14+FV14+GG14+GR14 -> 63 | C14: =N14+Y14+AJ14+AU14+BF14+BQ14+CB14+CM14+CX14+DI14+DT14+EE14+EP14+FA14+FL14+FW14+GH14+GS14 -> 1417.5 | D14: =O14+Z14+AK14+AV14+BG14+BR14+CC14+CN14+CY14+DJ14+DU14+EF14+EQ14+FB14+FM14+FX14+GI14+GT14 -> 5 | E14: =P14+AA14+AL14+AW14+BH14+BS14+CD14+CO14+CZ14+DK14+DV14+EG14+ER14+FC14+FN14+FY14+GJ14+GU14 -> 112.5 | F14: =Q14+AB14+AM14+AX14+BI14+BT14+CE14+CP14+DA14+DL14+DW14+EH14+ES14+FD14+FO14+FZ14+GK14+GV14 -> 0 | G14: =R14+AC14+AN14+AY14+BJ14+BU14+CF14+CQ14+DB14+DM14+DX14+EI14+ET14+FE14+FP14+GA14+GL14+GW14 -> 0 | H14: =S14+AD14+AO14+AZ14+BK14+BV14+CG14+CR14+DC14+DN14+DY14+EJ14+EU14+FF14+FQ14+GB14+GM14+GX14 -> 0 | I14: =T14+AE14+AP14+BA14+BL14+BW14+CH14+CS14+DD14+DO14+DZ14+EK14+EV14+FG14+FR14+GC14+GN14+GY14 -> 0 | ... K14: =V14+AG14+AR14+BC14+BN14+BY14+CJ14+CU14+DF14+DQ14+EB14+EM14+EX14+FI14+FT14+GE14+GP14+HA14 -> 1530 | L14: 18 | M14: 0 | N14: =ROUND(M14*L14/25*12*2*1.302,1) -> 0 | P14: =ROUND(O14*N14/25*12*2*1.302,1) -> 0 | R14: =ROUND(Q14*L14/20*12*2*1.302,1) -> 0 | U14: =M14+O14+S14+Q14 -> 0 | V14: =N14+P14+T14+R14 -> 0 | W14: 18 | Y14: =ROUND(X14*W14/25*12*2*1.302,1) -> 0 | AA14: =ROUND(Z14*Y14/25*12*2*1.302,1) -> 0 | AC14: =ROUND(AB14*W14/20*12*2*1.302,1) -> 0 | AF14: =X14+Z14+AD14+AB14 -> 0 | AG14: =Y14+AA14+AE14+AC14 -> 0 | AH14: 18 | AI14: 2 | AJ14: =ROUND(AI14*AH14/25*12*2*1.302,1) -> 45 | AL14: =ROUND(AK14*AH14/25*12*2*1.302,1) -> 0 | AN14: =ROUND(AM14*AH14/20*12*2*1.302,1) -> 0 | AQ14: =AI14+AK14+AO14+AM14 -> 2 | AR14: =AJ14+AL14+AP14+AN14 -> 45 | AS14: 18 | AT14: 28 | AU14: =ROUND(AT14*AS14/25*12*2*1.302,1) -> 630 | AW14: =ROUND(AV14*AS14/25*12*2*1.302,1) -> 0 | AY14: =ROUND(AX14*AS14/20*12*2*1.302,1) -> 0 | BB14: =AT14+AV14+AZ14+AX14 -> 28 | BC14: =AU14+AW14+BA14+AY14 -> 630 | BD14: 18 | BE14: 4 | BF14: =ROUND(BE14*BD14/25*12*2*1.302,1) -> 90 | BH14: =ROUND(BG14*BF14/25*12*2*1.302,1) -> 0 | BJ14: =ROUND(BI14*BD14/20*12*2*1.302,1) -> 0 | BM14: =BE14+BG14+BK14+BI14 -> 4 | BN14: =BF14+BH14+BL14+BJ14 -> 90 | BO14: 18 | BP14: 8 | BQ14: =ROUND(BP14*BO14/25*12*2*1.302,1) -> 180 | BS14: =ROUND(BR14*BQ14/25*12*2*1.302,1) -> 0 | BU14: =ROUND(BT14*BO14/20*12*2*1.302,1) -> 0 | BX14: =BP14+BR14+BV14+BT14 -> 8 | BY14: =BQ14+BS14+BW14+BU14 -> 180 | BZ14: 18 | CB14: =ROUND(CA14*BZ14/25*12*2*1.302,1) -> 0 | CD14: =ROUND(CC14*CB14/25*12*2*1.302,1) -> 0 | CF14: =ROUND(CE14*BZ14/20*12*2*1.302,1) -> 0 | CI14: =CA14+CC14+CG14+CE14 -> 0 | CJ14: =CB14+CD14+CH14+CF14 -> 0 | CK14: 18 | CL14: 2 | CM14: =ROUND(CL14*CK14/25*12*2*1.302,1) -> 45 | CO14: =ROUND(CN14*CK14/25*12*2*1.302,1) -> 0 | CQ14: =ROUND(CP14*CK14/20*12*2*1.302,1) -> 0 | CS14: =ROUND(CR14*CK14/12*12*2*1.302,1) -> 0 | CT14: =CL14+CN14+CR14+CP14 -> 2 | CU14: =CM14+CO14+CS14+CQ14 -> 45 | CV14: 18 | CW14: 5 | CX14: =ROUND(CW14*CV14/25*12*2*1.302,1) -> 112.5 | CZ14: =ROUND(CY14*CV14/25*12*2*1.302,1) -> 0 | DB14: =ROUND(DA14*CV14/20*12*2*1.302,1) -> 0 | DD14: =ROUND(DC14*CV14/12*12*2*1.302,1) -> 0 | DE14: =CW14+CY14+DA14+DC14 -> 5 | DF14: =CX14+CZ14+DB14+DD14 -> 112.5 | DG14: 18 | DH14: 2 | DI14: =ROUND(DH14*DG14/25*12*2*1.302,1) -> 45 | DK14: =ROUND(DJ14*DG14/25*12*2*1.302,1) -> 0 | DM14: =ROUND(DL14*DG14/20*12*1.302,1) -> 0 | DP14: =DH14+DJ14+DL14+DN14 -> 2 | DQ14: =DI14+DK14+DM14+DO14 -> 45 | DR14: 18 | DS14: 2 | DT14: =ROUND(DS14*DR14/25*12*2*1.302,1) -> 45 | DV14: =ROUND(DU14*DT14/25*12*2*1.302,1) -> 0 | DX14: =ROUND(DW14*DR14/20*12*2*1.302,1) -> 0 | DZ14: =ROUND(DY14*DR14/12*12*2*1.302,1) -> 0 | EA14: =DS14+DU14+DY14+DW14 -> 2 | EB14: =DT14+DV14+DZ14+DX14 -> 45 | EC14: 18 | ED14: 3 | EE14: =ROUND(ED14*EC14/25*12*2*1.302,1) -> 67.5 | EF14: 5 | EG14: =ROUND(EF14*EC14/25*12*2*1.302,1) -> 112.5 | EI14: =ROUND(EH14*EC14/20*12*2*1.302,1) -> 0 | EL14: =ED14+EF14+EJ14+EH14 -> 8 | EM14: =EE14+EG14+EK14+EI14 -> 180 | EN14: 18 | EO14: 3 | EP14: =ROUND(EO14*EN14/25*12*2*1.302,1) -> 67.5 | ER14: =ROUND(EQ14*EP14/25*12*2*1.302,1) -> 0 | ET14: =ROUND(ES14*EN14/20*12*2*1.302,1) -> 0 | EW14: =EO14+EQ14+EU14+ES14 -> 3 | EX14: =EP14+ER14+EV14+ET14 -> 67.5 | EY14: 18 | FA14: =ROUND(EZ14*EY14/25*12*2*1.302,1) -> 0 | FC14: =ROUND(FB14*FA14/25*12*2*1.302,1) -> 0 | FE14: =ROUND(FD14*EY14/20*12*2*1.302,1) -> 0 | FH14: =EZ14+FB14+FF14+FD14 -> 0 | FI14: =FA14+FC14+FG14+FE14 -> 0 | FJ14: 18 | FK14: 1 | FL14: =ROUND(FK14*FJ14/25*12*2*1.302,1) -> 22.5 | FM14: 0 | FN14: =ROUND(FM14*FL14/25*12*2*1.302,1) -> 0 | FO14: 0 | FP14: 0 | FR14: =ROUND(FQ14*FJ14/12*12*2*1.302,1) -> 0 | FS14: =FK14+FM14+FQ14+FO14 -> 1 | FT14: =FL14+FN14+FR14+FP14 -> 22.5 | FU14: 18 | FW14: =ROUND(FV14*FU14/25*12*2*1.302,1) -> 0 | FY14: =ROUND(FX14*FW14/25*12*2*1.302,1) -> 0 | GA14: =ROUND(FZ14*FU14/20*12*2*1.302,1) -> 0 | GD14: =FV14+FX14+GB14+FZ14 -> 0 | GE14: =FW14+FY14+GC14+GA14 -> 0 | GF14: 18 | GG14: 2 | GH14: =ROUND(GG14*GF14/25*12*2*1.302,1) -> 45 | GJ14: =ROUND(GI14*GH14/25*12*2*1.302,1) -> 0 | GL14: =ROUND(GK14*GF14/20*12*2*1.302,1) -> 0 | GO14: =GG14+GI14+GM14+GK14 -> 2 | GP14: =GH14+GJ14+GN14+GL14 -> 45 | GQ14: 18 | GR14: 1 | GS14: =ROUND(GR14*GQ14/25*12*2*1.302,1) -> 22.5 | GU14: =ROUND(GT14*GS14/25*12*2*1.302,1) -> 0 | GW14: =ROUND(GV14*GQ14/20*12*2*1.302,1) -> 0 | GZ14: =GR14+GT14+GX14+GV14 -> 1 | HA14: =GS14+GU14+GY14+GW14 -> 22.5
A15: 17 | B15: =M15+X15+AI15+AT15+BE15+BP15+CA15+CL15+CW15+DH15+DS15+ED15+EO15+EZ15+FK15+FV15+GG15+GR15 -> 32 | C15: =N15+Y15+AJ15+AU15+BF15+BQ15+CB15+CM15+CX15+DI15+DT15+EE15+EP15+FA15+FL15+FW15+GH15+GS15 -> 679.9 | D15: =O15+Z15+AK15+AV15+BG15+BR15+CC15+CN15+CY15+DJ15+DU15+EF15+EQ15+FB15+FM15+FX15+GI15+GT15 -> 7 | E15: =P15+AA15+AL15+AW15+BH15+BS15+CD15+CO15+CZ15+DK15+DV15+EG15+ER15+FC15+FN15+FY15+GJ15+GU15 -> 148.7 | F15: =Q15+AB15+AM15+AX15+BI15+BT15+CE15+CP15+DA15+DL15+DW15+EH15+ES15+FD15+FO15+FZ15+GK15+GV15 -> 0 | G15: =R15+AC15+AN15+AY15+BJ15+BU15+CF15+CQ15+DB15+DM15+DX15+EI15+ET15+FE15+FP15+GA15+GL15+GW15 -> 0 | H15: =S15+AD15+AO15+AZ15+BK15+BV15+CG15+CR15+DC15+DN15+DY15+EJ15+EU15+FF15+FQ15+GB15+GM15+GX15 -> 0 | I15: =T15+AE15+AP15+BA15+BL15+BW15+CH15+CS15+DD15+DO15+DZ15+EK15+EV15+FG15+FR15+GC15+GN15+GY15 -> 0 | ... K15: =V15+AG15+AR15+BC15+BN15+BY15+CJ15+CU15+DF15+DQ15+EB15+EM15+EX15+FI15+FT15+GE15+GP15+HA15 -> 828.6 | L15: 17 | M15: 0 | N15: =ROUND(M15*L15/25*12*2*1.302,1) -> 0 | P15: =ROUND(O15*N15/25*12*2*1.302,1) -> 0 | R15: =ROUND(Q15*L15/20*12*2*1.302,1) -> 0 | U15: =M15+O15+S15+Q15 -> 0 | V15: =N15+P15+T15+R15 -> 0 | W15: 17 | Y15: =ROUND(X15*W15/25*12*2*1.302,1) -> 0 | AA15: =ROUND(Z15*Y15/25*12*2*1.302,1) -> 0 | AC15: =ROUND(AB15*W15/20*12*2*1.302,1) -> 0 | AF15: =X15+Z15+AD15+AB15 -> 0 | AG15: =Y15+AA15+AE15+AC15 -> 0 | AH15: 17 | AJ15: =ROUND(AI15*AH15/25*12*2*1.302,1) -> 0 | AL15: =ROUND(AK15*AH15/25*12*2*1.302,1) -> 0 | AN15: =ROUND(AM15*AH15/20*12*2*1.302,1) -> 0 | AQ15: =AI15+AK15+AO15+AM15 -> 0 | AR15: =AJ15+AL15+AP15+AN15 -> 0 | AS15: 17 | AU15: =ROUND(AT15*AS15/25*12*2*1.302,1) -> 0 | AW15: =ROUND(AV15*AS15/25*12*2*1.302,1) -> 0 | AY15: =ROUND(AX15*AS15/20*12*2*1.302,1) -> 0 | BB15: =AT15+AV15+AZ15+AX15 -> 0 | BC15: =AU15+AW15+BA15+AY15 -> 0 | BD15: 17 | BE15: 4 | BF15: =ROUND(BE15*BD15/25*12*2*1.302,1) -> 85 | BH15: =ROUND(BG15*BF15/25*12*2*1.302,1) -> 0 | BJ15: =ROUND(BI15*BD15/20*12*2*1.302,1) -> 0 | BM15: =BE15+BG15+BK15+BI15 -> 4 | BN15: =BF15+BH15+BL15+BJ15 -> 85 | BO15: 17 | BP15: 8 | BQ15: =ROUND(BP15*BO15/25*12*2*1.302,1) -> 170 | BS15: =ROUND(BR15*BQ15/25*12*2*1.302,1) -> 0 | BU15: =ROUND(BT15*BO15/20*12*2*1.302,1) -> 0 | BX15: =BP15+BR15+BV15+BT15 -> 8 | BY15: =BQ15+BS15+BW15+BU15 -> 170 | BZ15: 17 | CA15: 3 | CB15: =ROUND(CA15*BZ15/25*12*2*1.302,1) -> 63.7 | CD15: =ROUND(CC15*CB15/25*12*2*1.302,1) -> 0 | CF15: =ROUND(CE15*BZ15/20*12*2*1.302,1) -> 0 | CI15: =CA15+CC15+CG15+CE15 -> 3 | CJ15: =CB15+CD15+CH15+CF15 -> 63.7 | CK15: 17 | CM15: =ROUND(CL15*CK15/25*12*2*1.302,1) -> 0 | CO15: =ROUND(CN15*CK15/25*12*2*1.302,1) -> 0 | CQ15: =ROUND(CP15*CK15/20*12*2*1.302,1) -> 0 | CS15: =ROUND(CR15*CK15/12*12*2*1.302,1) -> 0 | CT15: =CL15+CN15+CR15+CP15 -> 0 | CU15: =CM15+CO15+CS15+CQ15 -> 0 | CV15: 17 | CW15: 6 | CX15: =ROUND(CW15*CV15/25*12*2*1.302,1) -> 127.5 | CZ15: =ROUND(CY15*CV15/25*12*2*1.302,1) -> 0 | DB15: =ROUND(DA15*CV15/20*12*2*1.302,1) -> 0 | DD15: =ROUND(DC15*CV15/12*12*2*1.302,1) -> 0 | DE15: =CW15+CY15+DA15+DC15 -> 6 | DF15: =CX15+CZ15+DB15+DD15 -> 127.5 | DG15: 17 | DH15: 0 | DI15: =ROUND(DH15*DG15/25*12*2*1.302,1) -> 0 | DJ15: 2 | DK15: =ROUND(DJ15*DG15/25*12*2*1.302,1) -> 42.5 | DM15: =ROUND(DL15*DG15/20*12*1.302,1) -> 0 | DP15: =DH15+DJ15+DL15+DN15 -> 2 | DQ15: =DI15+DK15+DM15+DO15 -> 42.5 | DR15: 17 | DS15: 2 | DT15: =ROUND(DS15*DR15/25*12*2*1.302,1) -> 42.5 | DV15: =ROUND(DU15*DT15/25*12*2*1.302,1) -> 0 | DX15: =ROUND(DW15*DR15/20*12*2*1.302,1) -> 0 | DZ15: =ROUND(DY15*DR15/12*12*2*1.302,1) -> 0 | EA15: =DS15+DU15+DY15+DW15 -> 2 | EB15: =DT15+DV15+DZ15+DX15 -> 42.5 | EC15: 17 | ED15: 0 | EE15: =ROUND(ED15*EC15/25*12*2*1.302,1) -> 0 | EF15: 5 | EG15: =ROUND(EF15*EC15/25*12*2*1.302,1) -> 106.2 | EI15: =ROUND(EH15*EC15/20*12*2*1.302,1) -> 0 | EL15: =ED15+EF15+EJ15+EH15 -> 5 | EM15: =EE15+EG15+EK15+EI15 -> 106.2 | EN15: 17 | EO15: 2 | EP15: =ROUND(EO15*EN15/25*12*2*1.302,1) -> 42.5 | ER15: =ROUND(EQ15*EP15/25*12*2*1.302,1) -> 0 | ET15: =ROUND(ES15*EN15/20*12*2*1.302,1) -> 0 | EW15: =EO15+EQ15+EU15+ES15 -> 2 | EX15: =EP15+ER15+EV15+ET15 -> 42.5 | EY15: 17 | FA15: =ROUND(EZ15*EY15/25*12*2*1.302,1) -> 0 | FC15: =ROUND(FB15*FA15/25*12*2*1.302,1) -> 0 | FE15: =ROUND(FD15*EY15/20*12*2*1.302,1) -> 0 | FH15: =EZ15+FB15+FF15+FD15 -> 0 | FI15: =FA15+FC15+FG15+FE15 -> 0 | FJ15: 17 | FK15: 0 | FL15: =ROUND(FK15*FJ15/25*12*2*1.302,1) -> 0 | FM15: 0 | FN15: =ROUND(FM15*FL15/25*12*2*1.302,1) -> 0 | FO15: 0 | FP15: 0 | FR15: =ROUND(FQ15*FJ15/12*12*2*1.302,1) -> 0 | FS15: =FK15+FM15+FQ15+FO15 -> 0 | FT15: =FL15+FN15+FR15+FP15 -> 0 | FU15: 17 | FV15: 4 | FW15: =ROUND(FV15*FU15/25*12*2*1.302,1) -> 85 | FY15: =ROUND(FX15*FW15/25*12*2*1.302,1) -> 0 | GA15: =ROUND(FZ15*FU15/20*12*2*1.302,1) -> 0 | GD15: =FV15+FX15+GB15+FZ15 -> 4 | GE15: =FW15+FY15+GC15+GA15 -> 85 | GF15: 17 | GG15: 2 | GH15: =ROUND(GG15*GF15/25*12*2*1.302,1) -> 42.5 | GJ15: =ROUND(GI15*GH15/25*12*2*1.302,1) -> 0 | GL15: =ROUND(GK15*GF15/20*12*2*1.302,1) -> 0 | GO15: =GG15+GI15+GM15+GK15 -> 2 | GP15: =GH15+GJ15+GN15+GL15 -> 42.5 | GQ15: 17 | GR15: 1 | GS15: =ROUND(GR15*GQ15/25*12*2*1.302,1) -> 21.2 | GU15: =ROUND(GT15*GS15/25*12*2*1.302,1) -> 0 | GW15: =ROUND(GV15*GQ15/20*12*2*1.302,1) -> 0 | GZ15: =GR15+GT15+GX15+GV15 -> 1 | HA15: =GS15+GU15+GY15+GW15 -> 21.2
A16: 16 | B16: =M16+X16+AI16+AT16+BE16+BP16+CA16+CL16+CW16+DH16+DS16+ED16+EO16+EZ16+FK16+FV16+GG16+GR16 -> 23 | C16: =N16+Y16+AJ16+AU16+BF16+BQ16+CB16+CM16+CX16+DI16+DT16+EE16+EP16+FA16+FL16+FW16+GH16+GS16 -> 460 | D16: =O16+Z16+AK16+AV16+BG16+BR16+CC16+CN16+CY16+DJ16+DU16+EF16+EQ16+FB16+FM16+FX16+GI16+GT16 -> 0 | E16: =P16+AA16+AL16+AW16+BH16+BS16+CD16+CO16+CZ16+DK16+DV16+EG16+ER16+FC16+FN16+FY16+GJ16+GU16 -> 0 | F16: =Q16+AB16+AM16+AX16+BI16+BT16+CE16+CP16+DA16+DL16+DW16+EH16+ES16+FD16+FO16+FZ16+GK16+GV16 -> 0 | G16: =R16+AC16+AN16+AY16+BJ16+BU16+CF16+CQ16+DB16+DM16+DX16+EI16+ET16+FE16+FP16+GA16+GL16+GW16 -> 0 | H16: =S16+AD16+AO16+AZ16+BK16+BV16+CG16+CR16+DC16+DN16+DY16+EJ16+EU16+FF16+FQ16+GB16+GM16+GX16 -> 0 | I16: =T16+AE16+AP16+BA16+BL16+BW16+CH16+CS16+DD16+DO16+DZ16+EK16+EV16+FG16+FR16+GC16+GN16+GY16 -> 0 | ... K16: =V16+AG16+AR16+BC16+BN16+BY16+CJ16+CU16+DF16+DQ16+EB16+EM16+EX16+FI16+FT16+GE16+GP16+HA16 -> 460 | L16: 16 | M16: 0 | N16: =ROUND(M16*L16/25*12*2*1.302,1) -> 0 | P16: =ROUND(O16*N16/25*12*2*1.302,1) -> 0 | R16: =ROUND(Q16*L16/20*12*2*1.302,1) -> 0 | U16: =M16+O16+S16+Q16 -> 0 | V16: =N16+P16+T16+R16 -> 0 | W16: 16 | Y16: =ROUND(X16*W16/25*12*2*1.302,1) -> 0 | AA16: =ROUND(Z16*Y16/25*12*2*1.302,1) -> 0 | AC16: =ROUND(AB16*W16/20*12*2*1.302,1) -> 0 | AF16: =X16+Z16+AD16+AB16 -> 0 | AG16: =Y16+AA16+AE16+AC16 -> 0 | AH16: 16 | AI16: 5 | AJ16: =ROUND(AI16*AH16/25*12*2*1.302,1) -> 100 | AL16: =ROUND(AK16*AH16/25*12*2*1.302,1) -> 0 | AN16: =ROUND(AM16*AH16/20*12*2*1.302,1) -> 0 | AQ16: =AI16+AK16+AO16+AM16 -> 5 | AR16: =AJ16+AL16+AP16+AN16 -> 100 | AS16: 16 | AU16: =ROUND(AT16*AS16/25*12*2*1.302,1) -> 0 | AW16: =ROUND(AV16*AS16/25*12*2*1.302,1) -> 0 | AY16: =ROUND(AX16*AS16/20*12*2*1.302,1) -> 0 | BB16: =AT16+AV16+AZ16+AX16 -> 0 | BC16: =AU16+AW16+BA16+AY16 -> 0 | BD16: 16 | BE16: 2 | BF16: =ROUND(BE16*BD16/25*12*2*1.302,1) -> 40 | BH16: =ROUND(BG16*BF16/25*12*2*1.302,1) -> 0 | BJ16: =ROUND(BI16*BD16/20*12*2*1.302,1) -> 0 | BM16: =BE16+BG16+BK16+BI16 -> 2 | BN16: =BF16+BH16+BL16+BJ16 -> 40 | BO16: 16 | BP16: 3 | BQ16: =ROUND(BP16*BO16/25*12*2*1.302,1) -> 60 | BS16: =ROUND(BR16*BQ16/25*12*2*1.302,1) -> 0 | BU16: =ROUND(BT16*BO16/20*12*2*1.302,1) -> 0 | BX16: =BP16+BR16+BV16+BT16 -> 3 | BY16: =BQ16+BS16+BW16+BU16 -> 60 | BZ16: 16 | CA16: 2 | CB16: =ROUND(CA16*BZ16/25*12*2*1.302,1) -> 40 | CD16: =ROUND(CC16*CB16/25*12*2*1.302,1) -> 0 | CF16: =ROUND(CE16*BZ16/20*12*2*1.302,1) -> 0 | CI16: =CA16+CC16+CG16+CE16 -> 2 | CJ16: =CB16+CD16+CH16+CF16 -> 40 | CK16: 16 | CM16: =ROUND(CL16*CK16/25*12*2*1.302,1) -> 0 | CO16: =ROUND(CN16*CK16/25*12*2*1.302,1) -> 0 | CQ16: =ROUND(CP16*CK16/20*12*2*1.302,1) -> 0 | CS16: =ROUND(CR16*CK16/12*12*2*1.302,1) -> 0 | CT16: =CL16+CN16+CR16+CP16 -> 0 | CU16: =CM16+CO16+CS16+CQ16 -> 0 | CV16: 16 | CW16: 2 | CX16: =ROUND(CW16*CV16/25*12*2*1.302,1) -> 40 | CZ16: =ROUND(CY16*CV16/25*12*2*1.302,1) -> 0 | DB16: =ROUND(DA16*CV16/20*12*2*1.302,1) -> 0 | DD16: =ROUND(DC16*CV16/12*12*2*1.302,1) -> 0 | DE16: =CW16+CY16+DA16+DC16 -> 2 | DF16: =CX16+CZ16+DB16+DD16 -> 40 | DG16: 16 | DH16: 1 | DI16: =ROUND(DH16*DG16/25*12*2*1.302,1) -> 20 | DK16: =ROUND(DJ16*DG16/25*12*2*1.302,1) -> 0 | DM16: =ROUND(DL16*DG16/20*12*1.302,1) -> 0 | DP16: =DH16+DJ16+DL16+DN16 -> 1 | DQ16: =DI16+DK16+DM16+DO16 -> 20 | DR16: 16 | DT16: =ROUND(DS16*DR16/25*12*2*1.302,1) -> 0 | DV16: =ROUND(DU16*DT16/25*12*2*1.302,1) -> 0 | DX16: =ROUND(DW16*DR16/20*12*2*1.302,1) -> 0 | DZ16: =ROUND(DY16*DR16/12*12*2*1.302,1) -> 0 | EA16: =DS16+DU16+DY16+DW16 -> 0 | EB16: =DT16+DV16+DZ16+DX16 -> 0 | EC16: 16 | ED16: 2 | EE16: =ROUND(ED16*EC16/25*12*2*1.302,1) -> 40 | EG16: =ROUND(EF16*EC16/25*12*2*1.302,1) -> 0 | EI16: =ROUND(EH16*EC16/20*12*2*1.302,1) -> 0 | EL16: =ED16+EF16+EJ16+EH16 -> 2 | EM16: =EE16+EG16+EK16+EI16 -> 40 | EN16: 16 | EO16: 3 | EP16: =ROUND(EO16*EN16/25*12*2*1.302,1) -> 60 | ER16: =ROUND(EQ16*EP16/25*12*2*1.302,1) -> 0 | ET16: =ROUND(ES16*EN16/20*12*2*1.302,1) -> 0 | EW16: =EO16+EQ16+EU16+ES16 -> 3 | EX16: =EP16+ER16+EV16+ET16 -> 60 | EY16: 16 | FA16: =ROUND(EZ16*EY16/25*12*2*1.302,1) -> 0 | FC16: =ROUND(FB16*FA16/25*12*2*1.302,1) -> 0 | FE16: =ROUND(FD16*EY16/20*12*2*1.302,1) -> 0 | FH16: =EZ16+FB16+FF16+FD16 -> 0 | FI16: =FA16+FC16+FG16+FE16 -> 0 | FJ16: 16 | FK16: 0 | FL16: =ROUND(FK16*FJ16/25*12*2*1.302,1) -> 0 | FM16: 0 | FN16: =ROUND(FM16*FL16/25*12*2*1.302,1) -> 0 | FO16: 0 | FP16: 0 | FR16: =ROUND(FQ16*FJ16/12*12*2*1.302,1) -> 0 | FS16: =FK16+FM16+FQ16+FO16 -> 0 | FT16: =FL16+FN16+FR16+FP16 -> 0 | FU16: 16 | FV16: 3 | FW16: =ROUND(FV16*FU16/25*12*2*1.302,1) -> 60 | FY16: =ROUND(FX16*FW16/25*12*2*1.302,1) -> 0 | GA16: =ROUND(FZ16*FU16/20*12*2*1.302,1) -> 0 | GD16: =FV16+FX16+GB16+FZ16 -> 3 | GE16: =FW16+FY16+GC16+GA16 -> 60 | GF16: 16 | GG16: 0 | GH16: =ROUND(GG16*GF16/25*12*2*1.302,1) -> 0 | GJ16: =ROUND(GI16*GH16/25*12*2*1.302,1) -> 0 | GL16: =ROUND(GK16*GF16/20*12*2*1.302,1) -> 0 | GO16: =GG16+GI16+GM16+GK16 -> 0 | GP16: =GH16+GJ16+GN16+GL16 -> 0 | GQ16: 16 | GR16: 0 | GS16: =ROUND(GR16*GQ16/25*12*2*1.302,1) -> 0 | GU16: =ROUND(GT16*GS16/25*12*2*1.302,1) -> 0 | GW16: =ROUND(GV16*GQ16/20*12*2*1.302,1) -> 0 | GZ16: =GR16+GT16+GX16+GV16 -> 0 | HA16: =GS16+GU16+GY16+GW16 -> 0
A17: 15 | B17: =M17+X17+AI17+AT17+BE17+BP17+CA17+CL17+CW17+DH17+DS17+ED17+EO17+EZ17+FK17+FV17+GG17+GR17 -> 19 | C17: =N17+Y17+AJ17+AU17+BF17+BQ17+CB17+CM17+CX17+DI17+DT17+EE17+EP17+FA17+FL17+FW17+GH17+GS17 -> 356 | D17: =O17+Z17+AK17+AV17+BG17+BR17+CC17+CN17+CY17+DJ17+DU17+EF17+EQ17+FB17+FM17+FX17+GI17+GT17 -> 1 | E17: =P17+AA17+AL17+AW17+BH17+BS17+CD17+CO17+CZ17+DK17+DV17+EG17+ER17+FC17+FN17+FY17+GJ17+GU17 -> 18.7 | F17: =Q17+AB17+AM17+AX17+BI17+BT17+CE17+CP17+DA17+DL17+DW17+EH17+ES17+FD17+FO17+FZ17+GK17+GV17 -> 0 | G17: =R17+AC17+AN17+AY17+BJ17+BU17+CF17+CQ17+DB17+DM17+DX17+EI17+ET17+FE17+FP17+GA17+GL17+GW17 -> 0 | H17: =S17+AD17+AO17+AZ17+BK17+BV17+CG17+CR17+DC17+DN17+DY17+EJ17+EU17+FF17+FQ17+GB17+GM17+GX17 -> 0 | I17: =T17+AE17+AP17+BA17+BL17+BW17+CH17+CS17+DD17+DO17+DZ17+EK17+EV17+FG17+FR17+GC17+GN17+GY17 -> 0 | ... K17: =V17+AG17+AR17+BC17+BN17+BY17+CJ17+CU17+DF17+DQ17+EB17+EM17+EX17+FI17+FT17+GE17+GP17+HA17 -> 374.7 | L17: 15 | M17: 0 | N17: =ROUND(M17*L17/25*12*2*1.302,1) -> 0 | P17: =ROUND(O17*N17/25*12*2*1.302,1) -> 0 | R17: =ROUND(Q17*L17/20*12*2*1.302,1) -> 0 | U17: =M17+O17+S17+Q17 -> 0 | V17: =N17+P17+T17+R17 -> 0 | W17: 15 | Y17: =ROUND(X17*W17/25*12*2*1.302,1) -> 0 | AA17: =ROUND(Z17*Y17/25*12*2*1.302,1) -> 0 | AC17: =ROUND(AB17*W17/20*12*2*1.302,1) -> 0 | AF17: =X17+Z17+AD17+AB17 -> 0 | AG17: =Y17+AA17+AE17+AC17 -> 0 | AH17: 15 | AI17: 1 | AJ17: =ROUND(AI17*AH17/25*12*2*1.302,1) -> 18.7 | AL17: =ROUND(AK17*AH17/25*12*2*1.302,1) -> 0 | AN17: =ROUND(AM17*AH17/20*12*2*1.302,1) -> 0 | AQ17: =AI17+AK17+AO17+AM17 -> 1 | AR17: =AJ17+AL17+AP17+AN17 -> 18.7 | AS17: 15 | AU17: =ROUND(AT17*AS17/25*12*2*1.302,1) -> 0 | AW17: =ROUND(AV17*AS17/25*12*2*1.302,1) -> 0 | AY17: =ROUND(AX17*AS17/20*12*2*1.302,1) -> 0 | BB17: =AT17+AV17+AZ17+AX17 -> 0 | BC17: =AU17+AW17+BA17+AY17 -> 0 | BD17: 15 | BE17: 0 | BF17: =ROUND(BE17*BD17/25*12*2*1.302,1) -> 0 | BH17: =ROUND(BG17*BF17/25*12*2*1.302,1) -> 0 | BJ17: =ROUND(BI17*BD17/20*12*2*1.302,1) -> 0 | BM17: =BE17+BG17+BK17+BI17 -> 0 | BN17: =BF17+BH17+BL17+BJ17 -> 0 | BO17: 15 | BP17: 5 | BQ17: =ROUND(BP17*BO17/25*12*2*1.302,1) -> 93.7 | BS17: =ROUND(BR17*BQ17/25*12*2*1.302,1) -> 0 | BU17: =ROUND(BT17*BO17/20*12*2*1.302,1) -> 0 | BX17: =BP17+BR17+BV17+BT17 -> 5 | BY17: =BQ17+BS17+BW17+BU17 -> 93.7 | BZ17: 15 | CA17: 2 | CB17: =ROUND(CA17*BZ17/25*12*2*1.302,1) -> 37.5 | CD17: =ROUND(CC17*CB17/25*12*2*1.302,1) -> 0 | CF17: =ROUND(CE17*BZ17/20*12*2*1.302,1) -> 0 | CI17: =CA17+CC17+CG17+CE17 -> 2 | CJ17: =CB17+CD17+CH17+CF17 -> 37.5 | CK17: 15 | CL17: 1 | CM17: =ROUND(CL17*CK17/25*12*2*1.302,1) -> 18.7 | CO17: =ROUND(CN17*CK17/25*12*2*1.302,1) -> 0 | CQ17: =ROUND(CP17*CK17/20*12*2*1.302,1) -> 0 | CS17: =ROUND(CR17*CK17/12*12*2*1.302,1) -> 0 | CT17: =CL17+CN17+CR17+CP17 -> 1 | CU17: =CM17+CO17+CS17+CQ17 -> 18.7 | CV17: 15 | CW17: 2 | CX17: =ROUND(CW17*CV17/25*12*2*1.302,1) -> 37.5 | CY17: 1 | CZ17: =ROUND(CY17*CV17/25*12*2*1.302,1) -> 18.7 | DB17: =ROUND(DA17*CV17/20*12*2*1.302,1) -> 0 | DD17: =ROUND(DC17*CV17/12*12*2*1.302,1) -> 0 | DE17: =CW17+CY17+DA17+DC17 -> 3 | DF17: =CX17+CZ17+DB17+DD17 -> 56.2 | DG17: 15 | DH17: 2 | DI17: =ROUND(DH17*DG17/25*12*2*1.302,1) -> 37.5 | DK17: =ROUND(DJ17*DG17/25*12*2*1.302,1) -> 0 | DM17: =ROUND(DL17*DG17/20*12*1.302,1) -> 0 | DP17: =DH17+DJ17+DL17+DN17 -> 2 | DQ17: =DI17+DK17+DM17+DO17 -> 37.5 | DR17: 15 | DS17: 3 | DT17: =ROUND(DS17*DR17/25*12*2*1.302,1) -> 56.2 | DV17: =ROUND(DU17*DT17/25*12*2*1.302,1) -> 0 | DX17: =ROUND(DW17*DR17/20*12*2*1.302,1) -> 0 | DZ17: =ROUND(DY17*DR17/12*12*2*1.302,1) -> 0 | EA17: =DS17+DU17+DY17+DW17 -> 3 | EB17: =DT17+DV17+DZ17+DX17 -> 56.2 | EC17: 15 | ED17: 1 | EE17: =ROUND(ED17*EC17/25*12*2*1.302,1) -> 18.7 | EG17: =ROUND(EF17*EC17/25*12*2*1.302,1) -> 0 | EI17: =ROUND(EH17*EC17/20*12*2*1.302,1) -> 0 | EL17: =ED17+EF17+EJ17+EH17 -> 1 | EM17: =EE17+EG17+EK17+EI17 -> 18.7 | EN17: 15 | EP17: =ROUND(EO17*EN17/25*12*2*1.302,1) -> 0 | ER17: =ROUND(EQ17*EP17/25*12*2*1.302,1) -> 0 | ET17: =ROUND(ES17*EN17/20*12*2*1.302,1) -> 0 | EW17: =EO17+EQ17+EU17+ES17 -> 0 | EX17: =EP17+ER17+EV17+ET17 -> 0 | EY17: 15 | FA17: =ROUND(EZ17*EY17/25*12*2*1.302,1) -> 0 | FC17: =ROUND(FB17*FA17/25*12*2*1.302,1) -> 0 | FE17: =ROUND(FD17*EY17/20*12*2*1.302,1) -> 0 | FH17: =EZ17+FB17+FF17+FD17 -> 0 | FI17: =FA17+FC17+FG17+FE17 -> 0 | FJ17: 15 | FK17: 0 | FL17: =ROUND(FK17*FJ17/25*12*2*1.302,1) -> 0 | FM17: 0 | FN17: =ROUND(FM17*FL17/25*12*2*1.302,1) -> 0 | FO17: 0 | FP17: 0 | FR17: =ROUND(FQ17*FJ17/12*12*2*1.302,1) -> 0 | FS17: =FK17+FM17+FQ17+FO17 -> 0 | FT17: =FL17+FN17+FR17+FP17 -> 0 | FU17: 15 | FW17: =ROUND(FV17*FU17/25*12*2*1.302,1) -> 0 | FY17: =ROUND(FX17*FW17/25*12*2*1.302,1) -> 0 | GA17: =ROUND(FZ17*FU17/20*12*2*1.302,1) -> 0 | GD17: =FV17+FX17+GB17+FZ17 -> 0 | GE17: =FW17+FY17+GC17+GA17 -> 0 | GF17: 15 | GG17: 2 | GH17: =ROUND(GG17*GF17/25*12*2*1.302,1) -> 37.5 | GJ17: =ROUND(GI17*GH17/25*12*2*1.302,1) -> 0 | GL17: =ROUND(GK17*GF17/20*12*2*1.302,1) -> 0 | GO17: =GG17+GI17+GM17+GK17 -> 2 | GP17: =GH17+GJ17+GN17+GL17 -> 37.5 | GQ17: 15 | GR17: 0 | GS17: =ROUND(GR17*GQ17/25*12*2*1.302,1) -> 0 | GU17: =ROUND(GT17*GS17/25*12*2*1.302,1) -> 0 | GW17: =ROUND(GV17*GQ17/20*12*2*1.302,1) -> 0 | GZ17: =GR17+GT17+GX17+GV17 -> 0 | HA17: =GS17+GU17+GY17+GW17 -> 0
A18: 14 | B18: =M18+X18+AI18+AT18+BE18+BP18+CA18+CL18+CW18+DH18+DS18+ED18+EO18+EZ18+FK18+FV18+GG18+GR18 -> 10 | C18: =N18+Y18+AJ18+AU18+BF18+BQ18+CB18+CM18+CX18+DI18+DT18+EE18+EP18+FA18+FL18+FW18+GH18+GS18 -> 175 | D18: =O18+Z18+AK18+AV18+BG18+BR18+CC18+CN18+CY18+DJ18+DU18+EF18+EQ18+FB18+FM18+FX18+GI18+GT18 -> 4 | E18: =P18+AA18+AL18+AW18+BH18+BS18+CD18+CO18+CZ18+DK18+DV18+EG18+ER18+FC18+FN18+FY18+GJ18+GU18 -> 70 | F18: =Q18+AB18+AM18+AX18+BI18+BT18+CE18+CP18+DA18+DL18+DW18+EH18+ES18+FD18+FO18+FZ18+GK18+GV18 -> 0 | G18: =R18+AC18+AN18+AY18+BJ18+BU18+CF18+CQ18+DB18+DM18+DX18+EI18+ET18+FE18+FP18+GA18+GL18+GW18 -> 0 | H18: =S18+AD18+AO18+AZ18+BK18+BV18+CG18+CR18+DC18+DN18+DY18+EJ18+EU18+FF18+FQ18+GB18+GM18+GX18 -> 0 | I18: =T18+AE18+AP18+BA18+BL18+BW18+CH18+CS18+DD18+DO18+DZ18+EK18+EV18+FG18+FR18+GC18+GN18+GY18 -> 0 | ... K18: =V18+AG18+AR18+BC18+BN18+BY18+CJ18+CU18+DF18+DQ18+EB18+EM18+EX18+FI18+FT18+GE18+GP18+HA18 -> 245 | L18: 14 | M18: 1 | N18: =ROUND(M18*L18/25*12*2*1.302,1) -> 17.5 | P18: =ROUND(O18*N18/25*12*2*1.302,1) -> 0 | R18: =ROUND(Q18*L18/20*12*2*1.302,1) -> 0 | U18: =M18+O18+S18+Q18 -> 1 | V18: =N18+P18+T18+R18 -> 17.5 | W18: 14 | Y18: =ROUND(X18*W18/25*12*2*1.302,1) -> 0 | AA18: =ROUND(Z18*Y18/25*12*2*1.302,1) -> 0 | AC18: =ROUND(AB18*W18/20*12*2*1.302,1) -> 0 | AF18: =X18+Z18+AD18+AB18 -> 0 | AG18: =Y18+AA18+AE18+AC18 -> 0 | AH18: 14 | AJ18: =ROUND(AI18*AH18/25*12*2*1.302,1) -> 0 | AL18: =ROUND(AK18*AH18/25*12*2*1.302,1) -> 0 | AN18: =ROUND(AM18*AH18/20*12*2*1.302,1) -> 0 | AQ18: =AI18+AK18+AO18+AM18 -> 0 | AR18: =AJ18+AL18+AP18+AN18 -> 0 | AS18: 14 | AU18: =ROUND(AT18*AS18/25*12*2*1.302,1) -> 0 | AV18: 4 | AW18: =ROUND(AV18*AS18/25*12*2*1.302,1) -> 70 | AY18: =ROUND(AX18*AS18/20*12*2*1.302,1) -> 0 | BB18: =AT18+AV18+AZ18+AX18 -> 4 | BC18: =AU18+AW18+BA18+AY18 -> 70 | BD18: 14 | BE18: 2 | BF18: =ROUND(BE18*BD18/25*12*2*1.302,1) -> 35 | BH18: =ROUND(BG18*BF18/25*12*2*1.302,1) -> 0 | BJ18: =ROUND(BI18*BD18/20*12*2*1.302,1) -> 0 | BM18: =BE18+BG18+BK18+BI18 -> 2 | BN18: =BF18+BH18+BL18+BJ18 -> 35 | BO18: 14 | BP18: 1 | BQ18: =ROUND(BP18*BO18/25*12*2*1.302,1) -> 17.5 | BS18: =ROUND(BR18*BQ18/25*12*2*1.302,1) -> 0 | BU18: =ROUND(BT18*BO18/20*12*2*1.302,1) -> 0 | BX18: =BP18+BR18+BV18+BT18 -> 1 | BY18: =BQ18+BS18+BW18+BU18 -> 17.5 | BZ18: 14 | CB18: =ROUND(CA18*BZ18/25*12*2*1.302,1) -> 0 | CD18: =ROUND(CC18*CB18/25*12*2*1.302,1) -> 0 | CF18: =ROUND(CE18*BZ18/20*12*2*1.302,1) -> 0 | CI18: =CA18+CC18+CG18+CE18 -> 0 | CJ18: =CB18+CD18+CH18+CF18 -> 0 | CK18: 14 | CL18: 3 | CM18: =ROUND(CL18*CK18/25*12*2*1.302,1) -> 52.5 | CO18: =ROUND(CN18*CK18/25*12*2*1.302,1) -> 0 | CQ18: =ROUND(CP18*CK18/20*12*2*1.302,1) -> 0 | CS18: =ROUND(CR18*CK18/12*12*2*1.302,1) -> 0 | CT18: =CL18+CN18+CR18+CP18 -> 3 | CU18: =CM18+CO18+CS18+CQ18 -> 52.5 | CV18: 14 | CW18: 0 | CX18: =ROUND(CW18*CV18/25*12*2*1.302,1) -> 0 | CZ18: =ROUND(CY18*CV18/25*12*2*1.302,1) -> 0 | DB18: =ROUND(DA18*CV18/20*12*2*1.302,1) -> 0 | DD18: =ROUND(DC18*CV18/12*12*2*1.302,1) -> 0 | DE18: =CW18+CY18+DA18+DC18 -> 0 | DF18: =CX18+CZ18+DB18+DD18 -> 0 | DG18: 14 | DI18: =ROUND(DH18*DG18/25*12*2*1.302,1) -> 0 | DK18: =ROUND(DJ18*DG18/25*12*2*1.302,1) -> 0 | DM18: =ROUND(DL18*DG18/20*12*1.302,1) -> 0 | DP18: =DH18+DJ18+DL18+DN18 -> 0 | DQ18: =DI18+DK18+DM18+DO18 -> 0 | DR18: 14 | DS18: 1 | DT18: =ROUND(DS18*DR18/25*12*2*1.302,1) -> 17.5 | DV18: =ROUND(DU18*DT18/25*12*2*1.302,1) -> 0 | DX18: =ROUND(DW18*DR18/20*12*2*1.302,1) -> 0 | DZ18: =ROUND(DY18*DR18/12*12*2*1.302,1) -> 0 | EA18: =DS18+DU18+DY18+DW18 -> 1 | EB18: =DT18+DV18+DZ18+DX18 -> 17.5 | EC18: 14 | EE18: =ROUND(ED18*EC18/25*12*2*1.302,1) -> 0 | EG18: =ROUND(EF18*EC18/25*12*2*1.302,1) -> 0 | EI18: =ROUND(EH18*EC18/20*12*2*1.302,1) -> 0 | EL18: =ED18+EF18+EJ18+EH18 -> 0 | EM18: =EE18+EG18+EK18+EI18 -> 0 | EN18: 14 | EP18: =ROUND(EO18*EN18/25*12*2*1.302,1) -> 0 | ER18: =ROUND(EQ18*EP18/25*12*2*1.302,1) -> 0 | ET18: =ROUND(ES18*EN18/20*12*2*1.302,1) -> 0 | EW18: =EO18+EQ18+EU18+ES18 -> 0 | EX18: =EP18+ER18+EV18+ET18 -> 0 | EY18: 14 | FA18: =ROUND(EZ18*EY18/25*12*2*1.302,1) -> 0 | FC18: =ROUND(FB18*FA18/25*12*2*1.302,1) -> 0 | FE18: =ROUND(FD18*EY18/20*12*2*1.302,1) -> 0 | FH18: =EZ18+FB18+FF18+FD18 -> 0 | FI18: =FA18+FC18+FG18+FE18 -> 0 | FJ18: 14 | FK18: 0 | FL18: =ROUND(FK18*FJ18/25*12*2*1.302,1) -> 0 | FM18: 0 | FN18: =ROUND(FM18*FL18/25*12*2*1.302,1) -> 0 | FO18: 0 | FP18: 0 | FR18: =ROUND(FQ18*FJ18/12*12*2*1.302,1) -> 0 | FS18: =FK18+FM18+FQ18+FO18 -> 0 | FT18: =FL18+FN18+FR18+FP18 -> 0 | FU18: 14 | FW18: =ROUND(FV18*FU18/25*12*2*1.302,1) -> 0 | FY18: =ROUND(FX18*FW18/25*12*2*1.302,1) -> 0 | GA18: =ROUND(FZ18*FU18/20*12*2*1.302,1) -> 0 | GD18: =FV18+FX18+GB18+FZ18 -> 0 | GE18: =FW18+FY18+GC18+GA18 -> 0 | GF18: 14 | GG18: 1 | GH18: =ROUND(GG18*GF18/25*12*2*1.302,1) -> 17.5 | GJ18: =ROUND(GI18*GH18/25*12*2*1.302,1) -> 0 | GL18: =ROUND(GK18*GF18/20*12*2*1.302,1) -> 0 | GO18: =GG18+GI18+GM18+GK18 -> 1 | GP18: =GH18+GJ18+GN18+GL18 -> 17.5 | GQ18: 14 | GR18: 1 | GS18: =ROUND(GR18*GQ18/25*12*2*1.302,1) -> 17.5 | GU18: =ROUND(GT18*GS18/25*12*2*1.302,1) -> 0 | GW18: =ROUND(GV18*GQ18/20*12*2*1.302,1) -> 0 | GZ18: =GR18+GT18+GX18+GV18 -> 1 | HA18: =GS18+GU18+GY18+GW18 -> 17.5
A19: 13 | B19: =M19+X19+AI19+AT19+BE19+BP19+CA19+CL19+CW19+DH19+DS19+ED19+EO19+EZ19+FK19+FV19+GG19+GR19 -> 11 | C19: =N19+Y19+AJ19+AU19+BF19+BQ19+CB19+CM19+CX19+DI19+DT19+EE19+EP19+FA19+FL19+FW19+GH19+GS19 -> 178.5 | D19: =O19+Z19+AK19+AV19+BG19+BR19+CC19+CN19+CY19+DJ19+DU19+EF19+EQ19+FB19+FM19+FX19+GI19+GT19 -> 1 | E19: =P19+AA19+AL19+AW19+BH19+BS19+CD19+CO19+CZ19+DK19+DV19+EG19+ER19+FC19+FN19+FY19+GJ19+GU19 -> 16.2 | F19: =Q19+AB19+AM19+AX19+BI19+BT19+CE19+CP19+DA19+DL19+DW19+EH19+ES19+FD19+FO19+FZ19+GK19+GV19 -> 0 | G19: =R19+AC19+AN19+AY19+BJ19+BU19+CF19+CQ19+DB19+DM19+DX19+EI19+ET19+FE19+FP19+GA19+GL19+GW19 -> 0 | H19: =S19+AD19+AO19+AZ19+BK19+BV19+CG19+CR19+DC19+DN19+DY19+EJ19+EU19+FF19+FQ19+GB19+GM19+GX19 -> 0 | I19: =T19+AE19+AP19+BA19+BL19+BW19+CH19+CS19+DD19+DO19+DZ19+EK19+EV19+FG19+FR19+GC19+GN19+GY19 -> 0 | ... K19: =V19+AG19+AR19+BC19+BN19+BY19+CJ19+CU19+DF19+DQ19+EB19+EM19+EX19+FI19+FT19+GE19+GP19+HA19 -> 194.7 | L19: 13 | M19: 0 | N19: =ROUND(M19*L19/25*12*2*1.302,1) -> 0 | P19: =ROUND(O19*N19/25*12*2*1.302,1) -> 0 | R19: =ROUND(Q19*L19/20*12*2*1.302,1) -> 0 | U19: =M19+O19+S19+Q19 -> 0 | V19: =N19+P19+T19+R19 -> 0 | W19: 13 | Y19: =ROUND(X19*W19/25*12*2*1.302,1) -> 0 | AA19: =ROUND(Z19*Y19/25*12*2*1.302,1) -> 0 | AC19: =ROUND(AB19*W19/20*12*2*1.302,1) -> 0 | AF19: =X19+Z19+AD19+AB19 -> 0 | AG19: =Y19+AA19+AE19+AC19 -> 0 | AH19: 13 | AJ19: =ROUND(AI19*AH19/25*12*2*1.302,1) -> 0 | AK19: 1 | AL19: =ROUND(AK19*AH19/25*12*2*1.302,1) -> 16.2 | AN19: =ROUND(AM19*AH19/20*12*2*1.302,1) -> 0 | AQ19: =AI19+AK19+AO19+AM19 -> 1 | AR19: =AJ19+AL19+AP19+AN19 -> 16.2 | AS19: 13 | AU19: =ROUND(AT19*AS19/25*12*2*1.302,1) -> 0 | AW19: =ROUND(AV19*AS19/25*12*2*1.302,1) -> 0 | AY19: =ROUND(AX19*AS19/20*12*2*1.302,1) -> 0 | BB19: =AT19+AV19+AZ19+AX19 -> 0 | BC19: =AU19+AW19+BA19+AY19 -> 0 | BD19: 13 | BE19: 1 | BF19: =ROUND(BE19*BD19/25*12*2*1.302,1) -> 16.2 | BH19: =ROUND(BG19*BF19/25*12*2*1.302,1) -> 0 | BJ19: =ROUND(BI19*BD19/20*12*2*1.302,1) -> 0 | BM19: =BE19+BG19+BK19+BI19 -> 1 | BN19: =BF19+BH19+BL19+BJ19 -> 16.2 | BO19: 13 | BP19: 1 | BQ19: =ROUND(BP19*BO19/25*12*2*1.302,1) -> 16.2 | BS19: =ROUND(BR19*BQ19/25*12*2*1.302,1) -> 0 | BU19: =ROUND(BT19*BO19/20*12*2*1.302,1) -> 0 | BX19: =BP19+BR19+BV19+BT19 -> 1 | BY19: =BQ19+BS19+BW19+BU19 -> 16.2 | BZ19: 13 | CB19: =ROUND(CA19*BZ19/25*12*2*1.302,1) -> 0 | CD19: =ROUND(CC19*CB19/25*12*2*1.302,1) -> 0 | CF19: =ROUND(CE19*BZ19/20*12*2*1.302,1) -> 0 | CI19: =CA19+CC19+CG19+CE19 -> 0 | CJ19: =CB19+CD19+CH19+CF19 -> 0 | CK19: 13 | CL19: 3 | CM19: =ROUND(CL19*CK19/25*12*2*1.302,1) -> 48.7 | CO19: =ROUND(CN19*CK19/25*12*2*1.302,1) -> 0 | CQ19: =ROUND(CP19*CK19/20*12*2*1.302,1) -> 0 | CS19: =ROUND(CR19*CK19/12*12*2*1.302,1) -> 0 | CT19: =CL19+CN19+CR19+CP19 -> 3 | CU19: =CM19+CO19+CS19+CQ19 -> 48.7 | CV19: 13 | CW19: 2 | CX19: =ROUND(CW19*CV19/25*12*2*1.302,1) -> 32.5 | CZ19: =ROUND(CY19*CV19/25*12*2*1.302,1) -> 0 | DB19: =ROUND(DA19*CV19/20*12*2*1.302,1) -> 0 | DD19: =ROUND(DC19*CV19/12*12*2*1.302,1) -> 0 | DE19: =CW19+CY19+DA19+DC19 -> 2 | DF19: =CX19+CZ19+DB19+DD19 -> 32.5 | DG19: 13 | DI19: =ROUND(DH19*DG19/25*12*2*1.302,1) -> 0 | DK19: =ROUND(DJ19*DG19/25*12*2*1.302,1) -> 0 | DM19: =ROUND(DL19*DG19/20*12*1.302,1) -> 0 | DP19: =DH19+DJ19+DL19+DN19 -> 0 | DQ19: =DI19+DK19+DM19+DO19 -> 0 | DR19: 13 | DS19: 1 | DT19: =ROUND(DS19*DR19/25*12*2*1.302,1) -> 16.2 | DV19: =ROUND(DU19*DT19/25*12*2*1.302,1) -> 0 | DX19: =ROUND(DW19*DR19/20*12*2*1.302,1) -> 0 | DZ19: =ROUND(DY19*DR19/12*12*2*1.302,1) -> 0 | EA19: =DS19+DU19+DY19+DW19 -> 1 | EB19: =DT19+DV19+DZ19+DX19 -> 16.2 | EC19: 13 | EE19: =ROUND(ED19*EC19/25*12*2*1.302,1) -> 0 | EG19: =ROUND(EF19*EC19/25*12*2*1.302,1) -> 0 | EI19: =ROUND(EH19*EC19/20*12*2*1.302,1) -> 0 | EL19: =ED19+EF19+EJ19+EH19 -> 0 | EM19: =EE19+EG19+EK19+EI19 -> 0 | EN19: 13 | EP19: =ROUND(EO19*EN19/25*12*2*1.302,1) -> 0 | ER19: =ROUND(EQ19*EP19/25*12*2*1.302,1) -> 0 | ET19: =ROUND(ES19*EN19/20*12*2*1.302,1) -> 0 | EW19: =EO19+EQ19+EU19+ES19 -> 0 | EX19: =EP19+ER19+EV19+ET19 -> 0 | EY19: 13 | EZ19: 1 | FA19: =ROUND(EZ19*EY19/25*12*2*1.302,1) -> 16.2 | FC19: =ROUND(FB19*FA19/25*12*2*1.302,1) -> 0 | FE19: =ROUND(FD19*EY19/20*12*2*1.302,1) -> 0 | FH19: =EZ19+FB19+FF19+FD19 -> 1 | FI19: =FA19+FC19+FG19+FE19 -> 16.2 | FJ19: 13 | FK19: 0 | FL19: =ROUND(FK19*FJ19/25*12*2*1.302,1) -> 0 | FM19: 0 | FN19: =ROUND(FM19*FL19/25*12*2*1.302,1) -> 0 | FO19: 0 | FP19: 0 | FR19: =ROUND(FQ19*FJ19/12*12*2*1.302,1) -> 0 | FS19: =FK19+FM19+FQ19+FO19 -> 0 | FT19: =FL19+FN19+FR19+FP19 -> 0 | FU19: 13 | FW19: =ROUND(FV19*FU19/25*12*2*1.302,1) -> 0 | FY19: =ROUND(FX19*FW19/25*12*2*1.302,1) -> 0 | GA19: =ROUND(FZ19*FU19/20*12*2*1.302,1) -> 0 | GD19: =FV19+FX19+GB19+FZ19 -> 0 | GE19: =FW19+FY19+GC19+GA19 -> 0 | GF19: 13 | GG19: 2 | GH19: =ROUND(GG19*GF19/25*12*2*1.302,1) -> 32.5 | GJ19: =ROUND(GI19*GH19/25*12*2*1.302,1) -> 0 | GL19: =ROUND(GK19*GF19/20*12*2*1.302,1) -> 0 | GO19: =GG19+GI19+GM19+GK19 -> 2 | GP19: =GH19+GJ19+GN19+GL19 -> 32.5 | GQ19: 13 | GR19: 0 | GS19: =ROUND(GR19*GQ19/25*12*2*1.302,1) -> 0 | GU19: =ROUND(GT19*GS19/25*12*2*1.302,1) -> 0 | GW19: =ROUND(GV19*GQ19/20*12*2*1.302,1) -> 0 | GZ19: =GR19+GT19+GX19+GV19 -> 0 | HA19: =GS19+GU19+GY19+GW19 -> 0
A20: 12 | B20: =M20+X20+AI20+AT20+BE20+BP20+CA20+CL20+CW20+DH20+DS20+ED20+EO20+EZ20+FK20+FV20+GG20+GR20 -> 13 | C20: =N20+Y20+AJ20+AU20+BF20+BQ20+CB20+CM20+CX20+DI20+DT20+EE20+EP20+FA20+FL20+FW20+GH20+GS20 -> 195 | D20: =O20+Z20+AK20+AV20+BG20+BR20+CC20+CN20+CY20+DJ20+DU20+EF20+EQ20+FB20+FM20+FX20+GI20+GT20 -> 0 | E20: =P20+AA20+AL20+AW20+BH20+BS20+CD20+CO20+CZ20+DK20+DV20+EG20+ER20+FC20+FN20+FY20+GJ20+GU20 -> 0 | F20: =Q20+AB20+AM20+AX20+BI20+BT20+CE20+CP20+DA20+DL20+DW20+EH20+ES20+FD20+FO20+FZ20+GK20+GV20 -> 0 | G20: =R20+AC20+AN20+AY20+BJ20+BU20+CF20+CQ20+DB20+DM20+DX20+EI20+ET20+FE20+FP20+GA20+GL20+GW20 -> 0 | H20: =S20+AD20+AO20+AZ20+BK20+BV20+CG20+CR20+DC20+DN20+DY20+EJ20+EU20+FF20+FQ20+GB20+GM20+GX20 -> 121 | I20: =T20+AE20+AP20+BA20+BL20+BW20+CH20+CS20+DD20+DO20+DZ20+EK20+EV20+FG20+FR20+GC20+GN20+GY20 -> 3780.8 | ... K20: =V20+AG20+AR20+BC20+BN20+BY20+CJ20+CU20+DF20+DQ20+EB20+EM20+EX20+FI20+FT20+GE20+GP20+HA20 -> 3975.8 | L20: 12 | M20: 2 | N20: =ROUND(M20*L20/25*12*2*1.302,1) -> 30 | P20: =ROUND(O20*N20/25*12*2*1.302,1) -> 0 | R20: =ROUND(Q20*L20/20*12*2*1.302,1) -> 0 | S20: 7 | T20: =ROUND(S20*L20/12*12*2*1.302,1) -> 218.7 | U20: =M20+O20+S20+Q20 -> 9 | V20: =N20+P20+T20+R20 -> 248.7 | W20: 12 | Y20: =ROUND(X20*W20/25*12*2*1.302,1) -> 0 | AA20: =ROUND(Z20*Y20/25*12*2*1.302,1) -> 0 | AC20: =ROUND(AB20*W20/20*12*2*1.302,1) -> 0 | AD20: 3 | AE20: =ROUND(AD20*W20/12*12*2*1.302,1) -> 93.7 | AF20: =X20+Z20+AD20+AB20 -> 3 | AG20: =Y20+AA20+AE20+AC20 -> 93.7 | AH20: 12 | AJ20: =ROUND(AI20*AH20/25*12*2*1.302,1) -> 0 | AL20: =ROUND(AK20*AH20/25*12*2*1.302,1) -> 0 | AN20: =ROUND(AM20*AH20/20*12*2*1.302,1) -> 0 | AP20: =ROUND(AO20*AH20/12*12*2*1.302,1) -> 0 | AQ20: =AI20+AK20+AO20+AM20 -> 0 | AR20: =AJ20+AL20+AP20+AN20 -> 0 | AS20: 12 | AU20: =ROUND(AT20*AS20/25*12*2*1.302,1) -> 0 | AW20: =ROUND(AV20*AS20/25*12*2*1.302,1) -> 0 | AY20: =ROUND(AX20*AS20/20*12*2*1.302,1) -> 0 | BA20: =ROUND(AZ20*AS20/12*12*2*1.302,1) -> 0 | BB20: =AT20+AV20+AZ20+AX20 -> 0 | BC20: =AU20+AW20+BA20+AY20 -> 0 | BD20: 12 | BE20: 1 | BF20: =ROUND(BE20*BD20/25*12*2*1.302,1) -> 15 | BH20: =ROUND(BG20*BF20/25*12*2*1.302,1) -> 0 | BJ20: =ROUND(BI20*BD20/20*12*2*1.302,1) -> 0 | BK20: 7 | BL20: =ROUND(BK20*BD20/12*12*2*1.302,1) -> 218.7 | BM20: =BE20+BG20+BK20+BI20 -> 8 | BN20: =BF20+BH20+BL20+BJ20 -> 233.7 | BO20: 12 | BP20: 2 | BQ20: =ROUND(BP20*BO20/25*12*2*1.302,1) -> 30 | BS20: =ROUND(BR20*BQ20/25*12*2*1.302,1) -> 0 | BU20: =ROUND(BT20*BO20/20*12*2*1.302,1) -> 0 | BV20: 22 | BW20: =ROUND(BV20*BO20/12*12*2*1.302,1) -> 687.5 | BX20: =BP20+BR20+BV20+BT20 -> 24 | BY20: =BQ20+BS20+BW20+BU20 -> 717.5 | BZ20: 12 | CB20: =ROUND(CA20*BZ20/25*12*2*1.302,1) -> 0 | CD20: =ROUND(CC20*CB20/25*12*2*1.302,1) -> 0 | CF20: =ROUND(CE20*BZ20/20*12*2*1.302,1) -> 0 | CG20: 10 | CH20: =ROUND(CG20*BZ20/12*12*2*1.302,1) -> 312.5 | CI20: =CA20+CC20+CG20+CE20 -> 10 | CJ20: =CB20+CD20+CH20+CF20 -> 312.5 | CK20: 12 | CM20: =ROUND(CL20*CK20/25*12*2*1.302,1) -> 0 | CO20: =ROUND(CN20*CK20/25*12*2*1.302,1) -> 0 | CQ20: =ROUND(CP20*CK20/20*12*2*1.302,1) -> 0 | CR20: 12 | CS20: =ROUND(CR20*CK20/12*12*2*1.302,1) -> 375 | CT20: =CL20+CN20+CR20+CP20 -> 12 | CU20: =CM20+CO20+CS20+CQ20 -> 375 | CV20: 12 | CW20: 3 | CX20: =ROUND(CW20*CV20/25*12*2*1.302,1) -> 45 | CZ20: =ROUND(CY20*CV20/25*12*2*1.302,1) -> 0 | DB20: =ROUND(DA20*CV20/20*12*2*1.302,1) -> 0 | DD20: =ROUND(DC20*CV20/12*12*2*1.302,1) -> 0 | DE20: =CW20+CY20+DA20+DC20 -> 3 | DF20: =CX20+CZ20+DB20+DD20 -> 45 | DG20: 12 | DH20: 1 | DI20: =ROUND(DH20*DG20/25*12*2*1.302,1) -> 15 | DK20: =ROUND(DJ20*DG20/25*12*2*1.302,1) -> 0 | DM20: =ROUND(DL20*DG20/20*12*1.302,1) -> 0 | DN20: 9 | DO20: =ROUND(DN20*DG20/12*12*2*1.302,1) -> 281.2 | DP20: =DH20+DJ20+DL20+DN20 -> 10 | DQ20: =DI20+DK20+DM20+DO20 -> 296.2 | DR20: 12 | DS20: 2 | DT20: =ROUND(DS20*DR20/25*12*2*1.302,1) -> 30 | DV20: =ROUND(DU20*DT20/25*12*2*1.302,1) -> 0 | DX20: =ROUND(DW20*DR20/20*12*2*1.302,1) -> 0 | DY20: 2 | DZ20: =ROUND(DY20*DR20/12*12*2*1.302,1) -> 62.5 | EA20: =DS20+DU20+DY20+DW20 -> 4 | EB20: =DT20+DV20+DZ20+DX20 -> 92.5 | EC20: 12 | EE20: =ROUND(ED20*EC20/25*12*2*1.302,1) -> 0 | EG20: =ROUND(EF20*EC20/25*12*2*1.302,1) -> 0 | EI20: =ROUND(EH20*EC20/20*12*2*1.302,1) -> 0 | EK20: =ROUND(EJ20*EC20/12*12*2*1.302,1) -> 0 | EL20: =ED20+EF20+EJ20+EH20 -> 0 | EM20: =EE20+EG20+EK20+EI20 -> 0 | EN20: 12 | EO20: 1 | EP20: =ROUND(EO20*EN20/25*12*2*1.302,1) -> 15 | ER20: =ROUND(EQ20*EP20/25*12*2*1.302,1) -> 0 | ET20: =ROUND(ES20*EN20/20*12*2*1.302,1) -> 0 | EU20: 1 | EV20: =ROUND(EU20*EN20/12*12*2*1.302,1) -> 31.2 | EW20: =EO20+EQ20+EU20+ES20 -> 2 | EX20: =EP20+ER20+EV20+ET20 -> 46.2 | EY20: 12 | FA20: =ROUND(EZ20*EY20/25*12*2*1.302,1) -> 0 | FC20: =ROUND(FB20*FA20/25*12*2*1.302,1) -> 0 | FE20: =ROUND(FD20*EY20/20*12*2*1.302,1) -> 0 | FF20: 13 | FG20: =ROUND(FF20*EY20/12*12*2*1.302,1) -> 406.2 | FH20: =EZ20+FB20+FF20+FD20 -> 13 | FI20: =FA20+FC20+FG20+FE20 -> 406.2 | FJ20: 12 | FK20: 0 | FL20: =ROUND(FK20*FJ20/25*12*2*1.302,1) -> 0 | FM20: 0 | FN20: =ROUND(FM20*FL20/25*12*2*1.302,1) -> 0 | FO20: 0 | FP20: 0 | FQ20: 13 | FR20: =ROUND(FQ20*FJ20/12*12*2*1.302,1) -> 406.2 | FS20: =FK20+FM20+FQ20+FO20 -> 13 | FT20: =FL20+FN20+FR20+FP20 -> 406.2 | FU20: 12 | FW20: =ROUND(FV20*FU20/25*12*2*1.302,1) -> 0 | FY20: =ROUND(FX20*FW20/25*12*2*1.302,1) -> 0 | GA20: =ROUND(FZ20*FU20/20*12*2*1.302,1) -> 0 | GB20: 11 | GC20: =ROUND(GB20*FU20/12*12*2*1.302,1) -> 343.7 | GD20: =FV20+FX20+GB20+FZ20 -> 11 | GE20: =FW20+FY20+GC20+GA20 -> 343.7 | GF20: 12 | GG20: 1 | GH20: =ROUND(GG20*GF20/25*12*2*1.302,1) -> 15 | GJ20: =ROUND(GI20*GH20/25*12*2*1.302,1) -> 0 | GL20: =ROUND(GK20*GF20/20*12*2*1.302,1) -> 0 | GN20: =ROUND(GM20*GF20/12*12*2*1.302,1) -> 0 | GO20: =GG20+GI20+GM20+GK20 -> 1 | GP20: =GH20+GJ20+GN20+GL20 -> 15 | GQ20: 12 | GR20: 0 | GS20: =ROUND(GR20*GQ20/25*12*2*1.302,1) -> 0 | GU20: =ROUND(GT20*GS20/25*12*2*1.302,1) -> 0 | GW20: =ROUND(GV20*GQ20/20*12*2*1.302,1) -> 0 | GX20: 11 | GY20: =ROUND(GX20*GQ20/12*12*2*1.302,1) -> 343.7 | GZ20: =GR20+GT20+GX20+GV20 -> 11 | HA20: =GS20+GU20+GY20+GW20 -> 343.7
A21: 11 | B21: =M21+X21+AI21+AT21+BE21+BP21+CA21+CL21+CW21+DH21+DS21+ED21+EO21+EZ21+FK21+FV21+GG21+GR21 -> 12 | C21: =N21+Y21+AJ21+AU21+BF21+BQ21+CB21+CM21+CX21+DI21+DT21+EE21+EP21+FA21+FL21+FW21+GH21+GS21 -> 164.7 | D21: =O21+Z21+AK21+AV21+BG21+BR21+CC21+CN21+CY21+DJ21+DU21+EF21+EQ21+FB21+FM21+FX21+GI21+GT21 -> 0 | E21: =P21+AA21+AL21+AW21+BH21+BS21+CD21+CO21+CZ21+DK21+DV21+EG21+ER21+FC21+FN21+FY21+GJ21+GU21 -> 0 | F21: =Q21+AB21+AM21+AX21+BI21+BT21+CE21+CP21+DA21+DL21+DW21+EH21+ES21+FD21+FO21+FZ21+GK21+GV21 -> 0 | G21: =R21+AC21+AN21+AY21+BJ21+BU21+CF21+CQ21+DB21+DM21+DX21+EI21+ET21+FE21+FP21+GA21+GL21+GW21 -> 0 | H21: =S21+AD21+AO21+AZ21+BK21+BV21+CG21+CR21+DC21+DN21+DY21+EJ21+EU21+FF21+FQ21+GB21+GM21+GX21 -> 6 | I21: =T21+AE21+AP21+BA21+BL21+BW21+CH21+CS21+DD21+DO21+DZ21+EK21+EV21+FG21+FR21+GC21+GN21+GY21 -> 171.7 | ... K21: =V21+AG21+AR21+BC21+BN21+BY21+CJ21+CU21+DF21+DQ21+EB21+EM21+EX21+FI21+FT21+GE21+GP21+HA21 -> 336.4 | L21: 11 | M21: 0 | N21: =ROUND(M21*L21/25*12*2*1.302,1) -> 0 | P21: =ROUND(O21*N21/25*12*2*1.302,1) -> 0 | R21: =ROUND(Q21*L21/20*12*2*1.302,1) -> 0 | S21: 1 | T21: =ROUND(S21*L21/12*12*2*1.302,1) -> 28.6 | U21: =M21+O21+S21+Q21 -> 1 | V21: =N21+P21+T21+R21 -> 28.6 | W21: 11 | Y21: =ROUND(X21*W21/25*12*2*1.302,1) -> 0 | AA21: =ROUND(Z21*Y21/25*12*2*1.302,1) -> 0 | AC21: =ROUND(AB21*W21/20*12*2*1.302,1) -> 0 | AE21: =ROUND(AD21*W21/12*12*2*1.302,1) -> 0 | AF21: =X21+Z21+AD21+AB21 -> 0 | AG21: =Y21+AA21+AE21+AC21 -> 0 | AH21: 11 | AJ21: =ROUND(AI21*AH21/25*12*2*1.302,1) -> 0 | AL21: =ROUND(AK21*AH21/25*12*2*1.302,1) -> 0 | AN21: =ROUND(AM21*AH21/20*12*2*1.302,1) -> 0 | AP21: =ROUND(AO21*AH21/12*12*2*1.302,1) -> 0 | AQ21: =AI21+AK21+AO21+AM21 -> 0 | AR21: =AJ21+AL21+AP21+AN21 -> 0 | AS21: 11 | AU21: =ROUND(AT21*AS21/25*12*2*1.302,1) -> 0 | AW21: =ROUND(AV21*AS21/25*12*2*1.302,1) -> 0 | AY21: =ROUND(AX21*AS21/20*12*2*1.302,1) -> 0 | BA21: =ROUND(AZ21*AS21/12*12*2*1.302,1) -> 0 | BB21: =AT21+AV21+AZ21+AX21 -> 0 | BC21: =AU21+AW21+BA21+AY21 -> 0 | BD21: 11 | BE21: 1 | BF21: =ROUND(BE21*BD21/25*12*2*1.302,1) -> 13.7 | BH21: =ROUND(BG21*BF21/25*12*2*1.302,1) -> 0 | BJ21: =ROUND(BI21*BD21/20*12*2*1.302,1) -> 0 | BK21: 2 | BL21: =ROUND(BK21*BD21/12*12*2*1.302,1) -> 57.3 | BM21: =BE21+BG21+BK21+BI21 -> 3 | BN21: =BF21+BH21+BL21+BJ21 -> 71 | BO21: 11 | BP21: 3 | BQ21: =ROUND(BP21*BO21/25*12*2*1.302,1) -> 41.2 | BS21: =ROUND(BR21*BQ21/25*12*2*1.302,1) -> 0 | BU21: =ROUND(BT21*BO21/20*12*2*1.302,1) -> 0 | BV21: 1 | BW21: =ROUND(BV21*BO21/12*12*2*1.302,1) -> 28.6 | BX21: =BP21+BR21+BV21+BT21 -> 4 | BY21: =BQ21+BS21+BW21+BU21 -> 69.8 | BZ21: 11 | CB21: =ROUND(CA21*BZ21/25*12*2*1.302,1) -> 0 | CD21: =ROUND(CC21*CB21/25*12*2*1.302,1) -> 0 | CF21: =ROUND(CE21*BZ21/20*12*2*1.302,1) -> 0 | CG21: 1 | CH21: =ROUND(CG21*BZ21/12*12*2*1.302,1) -> 28.6 | CI21: =CA21+CC21+CG21+CE21 -> 1 | CJ21: =CB21+CD21+CH21+CF21 -> 28.6 | CK21: 11 | CM21: =ROUND(CL21*CK21/25*12*2*1.302,1) -> 0 | CO21: =ROUND(CN21*CK21/25*12*2*1.302,1) -> 0 | CQ21: =ROUND(CP21*CK21/20*12*2*1.302,1) -> 0 | CS21: =ROUND(CR21*CK21/12*12*2*1.302,1) -> 0 | CT21: =CL21+CN21+CR21+CP21 -> 0 | CU21: =CM21+CO21+CS21+CQ21 -> 0 | CV21: 11 | CW21: 1 | CX21: =ROUND(CW21*CV21/25*12*2*1.302,1) -> 13.7 | CZ21: =ROUND(CY21*CV21/25*12*2*1.302,1) -> 0 | DB21: =ROUND(DA21*CV21/20*12*2*1.302,1) -> 0 | DD21: =ROUND(DC21*CV21/12*12*2*1.302,1) -> 0 | DE21: =CW21+CY21+DA21+DC21 -> 1 | DF21: =CX21+CZ21+DB21+DD21 -> 13.7 | DG21: 11 | DI21: =ROUND(DH21*DG21/25*12*2*1.302,1) -> 0 | DK21: =ROUND(DJ21*DG21/25*12*2*1.302,1) -> 0 | DM21: =ROUND(DL21*DG21/20*12*1.302,1) -> 0 | DO21: =ROUND(DN21*DG21/12*12*1.302,1) -> 0 | DP21: =DH21+DJ21+DL21+DN21 -> 0 | DQ21: =DI21+DK21+DM21+DO21 -> 0 | DR21: 11 | DS21: 1 | DT21: =ROUND(DS21*DR21/25*12*2*1.302,1) -> 13.7 | DV21: =ROUND(DU21*DT21/25*12*2*1.302,1) -> 0 | DX21: =ROUND(DW21*DR21/20*12*2*1.302,1) -> 0 | DZ21: =ROUND(DY21*DR21/12*12*2*1.302,1) -> 0 | EA21: =DS21+DU21+DY21+DW21 -> 1 | EB21: =DT21+DV21+DZ21+DX21 -> 13.7 | EC21: 11 | EE21: =ROUND(ED21*EC21/25*12*2*1.302,1) -> 0 | EG21: =ROUND(EF21*EC21/25*12*2*1.302,1) -> 0 | EI21: =ROUND(EH21*EC21/20*12*2*1.302,1) -> 0 | EK21: =ROUND(EJ21*EC21/12*12*2*1.302,1) -> 0 | EL21: =ED21+EF21+EJ21+EH21 -> 0 | EM21: =EE21+EG21+EK21+EI21 -> 0 | EN21: 11 | EO21: 1 | EP21: =ROUND(EO21*EN21/25*12*2*1.302,1) -> 13.7 | ER21: =ROUND(EQ21*EP21/25*12*2*1.302,1) -> 0 | ET21: =ROUND(ES21*EN21/20*12*2*1.302,1) -> 0 | EV21: =ROUND(EU21*EN21/12*12*2*1.302,1) -> 0 | EW21: =EO21+EQ21+EU21+ES21 -> 1 | EX21: =EP21+ER21+EV21+ET21 -> 13.7 | EY21: 11 | EZ21: 2 | FA21: =ROUND(EZ21*EY21/25*12*2*1.302,1) -> 27.5 | FC21: =ROUND(FB21*FA21/25*12*2*1.302,1) -> 0 | FE21: =ROUND(FD21*EY21/20*12*2*1.302,1) -> 0 | FG21: =ROUND(FF21*EY21/12*12*2*1.302,1) -> 0 | FH21: =EZ21+FB21+FF21+FD21 -> 2 | FI21: =FA21+FC21+FG21+FE21 -> 27.5 | FJ21: 11 | FK21: 0 | FL21: =ROUND(FK21*FJ21/25*12*2*1.302,1) -> 0 | FM21: 0 | FN21: =ROUND(FM21*FL21/25*12*2*1.302,1) -> 0 | FO21: 0 | FP21: 0 | FQ21: 1 | FR21: =ROUND(FQ21*FJ21/12*12*2*1.302,1) -> 28.6 | FS21: =FK21+FM21+FQ21+FO21 -> 1 | FT21: =FL21+FN21+FR21+FP21 -> 28.6 | FU21: 11 | FW21: =ROUND(FV21*FU21/25*12*2*1.302,1) -> 0 | FY21: =ROUND(FX21*FW21/25*12*2*1.302,1) -> 0 | GA21: =ROUND(FZ21*FU21/20*12*2*1.302,1) -> 0 | GC21: =ROUND(GB21*FU21/12*12*2*1.302,1) -> 0 | GD21: =FV21+FX21+GB21+FZ21 -> 0 | GE21: =FW21+FY21+GC21+GA21 -> 0 | GF21: 11 | GG21: 3 | GH21: =ROUND(GG21*GF21/25*12*2*1.302,1) -> 41.2 | GJ21: =ROUND(GI21*GH21/25*12*2*1.302,1) -> 0 | GL21: =ROUND(GK21*GF21/20*12*2*1.302,1) -> 0 | GN21: =ROUND(GM21*GF21/12*12*2*1.302,1) -> 0 | GO21: =GG21+GI21+GM21+GK21 -> 3 | GP21: =GH21+GJ21+GN21+GL21 -> 41.2 | GQ21: 11 | GR21: 0 | GS21: =ROUND(GR21*GQ21/25*12*2*1.302,1) -> 0 | GU21: =ROUND(GT21*GS21/25*12*2*1.302,1) -> 0 | GW21: =ROUND(GV21*GQ21/20*12*2*1.302,1) -> 0 | GX21: 0 | GY21: =ROUND(GX21*GQ21/12*12*2*1.302,1) -> 0 | GZ21: =GR21+GT21+GX21+GV21 -> 0 | HA21: =GS21+GU21+GY21+GW21 -> 0
A22: 10 | B22: =M22+X22+AI22+AT22+BE22+BP22+CA22+CL22+CW22+DH22+DS22+ED22+EO22+EZ22+FK22+FV22+GG22+GR22 -> 15 | C22: =N22+Y22+AJ22+AU22+BF22+BQ22+CB22+CM22+CX22+DI22+DT22+EE22+EP22+FA22+FL22+FW22+GH22+GS22 -> 187.5 | D22: =O22+Z22+AK22+AV22+BG22+BR22+CC22+CN22+CY22+DJ22+DU22+EF22+EQ22+FB22+FM22+FX22+GI22+GT22 -> 0 | E22: =P22+AA22+AL22+AW22+BH22+BS22+CD22+CO22+CZ22+DK22+DV22+EG22+ER22+FC22+FN22+FY22+GJ22+GU22 -> 0 | F22: =Q22+AB22+AM22+AX22+BI22+BT22+CE22+CP22+DA22+DL22+DW22+EH22+ES22+FD22+FO22+FZ22+GK22+GV22 -> 0 | G22: =R22+AC22+AN22+AY22+BJ22+BU22+CF22+CQ22+DB22+DM22+DX22+EI22+ET22+FE22+FP22+GA22+GL22+GW22 -> 0 | H22: =S22+AD22+AO22+AZ22+BK22+BV22+CG22+CR22+DC22+DN22+DY22+EJ22+EU22+FF22+FQ22+GB22+GM22+GX22 -> 12 | I22: =T22+AE22+AP22+BA22+BL22+BW22+CH22+CS22+DD22+DO22+DZ22+EK22+EV22+FG22+FR22+GC22+GN22+GY22 -> 312.4 | ... K22: =V22+AG22+AR22+BC22+BN22+BY22+CJ22+CU22+DF22+DQ22+EB22+EM22+EX22+FI22+FT22+GE22+GP22+HA22 -> 499.9 | L22: 10 | M22: 2 | N22: =ROUND(M22*L22/25*12*2*1.302,1) -> 25 | P22: =ROUND(O22*N22/25*12*2*1.302,1) -> 0 | R22: =ROUND(Q22*L22/20*12*2*1.302,1) -> 0 | S22: 0 | T22: =ROUND(S22*L22/12*12*2*1.302,1) -> 0 | U22: =M22+O22+S22+Q22 -> 2 | V22: =N22+P22+T22+R22 -> 25 | W22: 10 | Y22: =ROUND(X22*W22/25*12*2*1.302,1) -> 0 | AA22: =ROUND(Z22*Y22/25*12*2*1.302,1) -> 0 | AC22: =ROUND(AB22*W22/20*12*2*1.302,1) -> 0 | AD22: 1 | AE22: =ROUND(AD22*W22/12*12*2*1.302,1) -> 26 | AF22: =X22+Z22+AD22+AB22 -> 1 | AG22: =Y22+AA22+AE22+AC22 -> 26 | AH22: 10 | AJ22: =ROUND(AI22*AH22/25*12*2*1.302,1) -> 0 | AL22: =ROUND(AK22*AH22/25*12*2*1.302,1) -> 0 | AN22: =ROUND(AM22*AH22/20*12*2*1.302,1) -> 0 | AP22: =ROUND(AO22*AH22/12*12*2*1.302,1) -> 0 | AQ22: =AI22+AK22+AO22+AM22 -> 0 | AR22: =AJ22+AL22+AP22+AN22 -> 0 | AS22: 10 | AU22: =ROUND(AT22*AS22/25*12*2*1.302,1) -> 0 | AW22: =ROUND(AV22*AS22/25*12*2*1.302,1) -> 0 | AY22: =ROUND(AX22*AS22/20*12*2*1.302,1) -> 0 | BA22: =ROUND(AZ22*AS22/12*12*2*1.302,1) -> 0 | BB22: =AT22+AV22+AZ22+AX22 -> 0 | BC22: =AU22+AW22+BA22+AY22 -> 0 | BD22: 10 | BF22: =ROUND(BE22*BD22/25*12*2*1.302,1) -> 0 | BH22: =ROUND(BG22*BF22/25*12*2*1.302,1) -> 0 | BJ22: =ROUND(BI22*BD22/20*12*2*1.302,1) -> 0 | BK22: 2 | BL22: =ROUND(BK22*BD22/12*12*2*1.302,1) -> 52.1 | BM22: =BE22+BG22+BK22+BI22 -> 2 | BN22: =BF22+BH22+BL22+BJ22 -> 52.1 | BO22: 10 | BP22: 3 | BQ22: =ROUND(BP22*BO22/25*12*2*1.302,1) -> 37.5 | BS22: =ROUND(BR22*BQ22/25*12*2*1.302,1) -> 0 | BU22: =ROUND(BT22*BO22/20*12*2*1.302,1) -> 0 | BV22: 3 | BW22: =ROUND(BV22*BO22/12*12*2*1.302,1) -> 78.1 | BX22: =BP22+BR22+BV22+BT22 -> 6 | BY22: =BQ22+BS22+BW22+BU22 -> 115.6 | BZ22: 10 | CB22: =ROUND(CA22*BZ22/25*12*2*1.302,1) -> 0 | CD22: =ROUND(CC22*CB22/25*12*2*1.302,1) -> 0 | CF22: =ROUND(CE22*BZ22/20*12*2*1.302,1) -> 0 | CG22: 2 | CH22: =ROUND(CG22*BZ22/12*12*2*1.302,1) -> 52.1 | CI22: =CA22+CC22+CG22+CE22 -> 2 | CJ22: =CB22+CD22+CH22+CF22 -> 52.1 | CK22: 10 | CL22: 1 | CM22: =ROUND(CL22*CK22/25*12*2*1.302,1) -> 12.5 | CO22: =ROUND(CN22*CK22/25*12*2*1.302,1) -> 0 | CQ22: =ROUND(CP22*CK22/20*12*2*1.302,1) -> 0 | CS22: =ROUND(CR22*CK22/12*12*2*1.302,1) -> 0 | CT22: =CL22+CN22+CR22+CP22 -> 1 | CU22: =CM22+CO22+CS22+CQ22 -> 12.5 | CV22: 10 | CW22: 0 | CX22: =ROUND(CW22*CV22/25*12*2*1.302,1) -> 0 | CZ22: =ROUND(CY22*CV22/25*12*2*1.302,1) -> 0 | DB22: =ROUND(DA22*CV22/20*12*2*1.302,1) -> 0 | DD22: =ROUND(DC22*CV22/12*12*2*1.302,1) -> 0 | DE22: =CW22+CY22+DA22+DC22 -> 0 | DF22: =CX22+CZ22+DB22+DD22 -> 0 | DG22: 10 | DH22: 1 | DI22: =ROUND(DH22*DG22/25*12*2*1.302,1) -> 12.5 | DK22: =ROUND(DJ22*DG22/25*12*2*1.302,1) -> 0 | DM22: =ROUND(DL22*DG22/20*12*1.302,1) -> 0 | DO22: =ROUND(DN22*DG22/12*12*1.302,1) -> 0 | DP22: =DH22+DJ22+DL22+DN22 -> 1 | DQ22: =DI22+DK22+DM22+DO22 -> 12.5 | DR22: 10 | DS22: 3 | DT22: =ROUND(DS22*DR22/25*12*2*1.302,1) -> 37.5 | DV22: =ROUND(DU22*DT22/25*12*2*1.302,1) -> 0 | DX22: =ROUND(DW22*DR22/20*12*2*1.302,1) -> 0 | DZ22: =ROUND(DY22*DR22/12*12*2*1.302,1) -> 0 | EA22: =DS22+DU22+DY22+DW22 -> 3 | EB22: =DT22+DV22+DZ22+DX22 -> 37.5 | EC22: 10 | EE22: =ROUND(ED22*EC22/25*12*2*1.302,1) -> 0 | EG22: =ROUND(EF22*EC22/25*12*2*1.302,1) -> 0 | EI22: =ROUND(EH22*EC22/20*12*2*1.302,1) -> 0 | EJ22: 1 | EK22: =ROUND(EJ22*EC22/12*12*2*1.302,1) -> 26 | EL22: =ED22+EF22+EJ22+EH22 -> 1 | EM22: =EE22+EG22+EK22+EI22 -> 26 | EN22: 10 | EP22: =ROUND(EO22*EN22/25*12*2*1.302,1) -> 0 | ER22: =ROUND(EQ22*EP22/25*12*2*1.302,1) -> 0 | ET22: =ROUND(ES22*EN22/20*12*2*1.302,1) -> 0 | EV22: =ROUND(EU22*EN22/12*12*2*1.302,1) -> 0 | EW22: =EO22+EQ22+EU22+ES22 -> 0 | EX22: =EP22+ER22+EV22+ET22 -> 0 | EY22: 10 | EZ22: 1 | FA22: =ROUND(EZ22*EY22/25*12*2*1.302,1) -> 12.5 | FC22: =ROUND(FB22*FA22/25*12*2*1.302,1) -> 0 | FE22: =ROUND(FD22*EY22/20*12*2*1.302,1) -> 0 | FF22: 1 | FG22: =ROUND(FF22*EY22/12*12*2*1.302,1) -> 26 | FH22: =EZ22+FB22+FF22+FD22 -> 2 | FI22: =FA22+FC22+FG22+FE22 -> 38.5 | FJ22: 10 | FK22: 0 | FL22: =ROUND(FK22*FJ22/25*12*2*1.302,1) -> 0 | FM22: 0 | FN22: =ROUND(FM22*FL22/25*12*2*1.302,1) -> 0 | FO22: 0 | FP22: 0 | FQ22: 0 | FR22: =ROUND(FQ22*FJ22/12*12*2*1.302,1) -> 0 | FS22: =FK22+FM22+FQ22+FO22 -> 0 | FT22: =FL22+FN22+FR22+FP22 -> 0 | FU22: 10 | FV22: 1 | FW22: =ROUND(FV22*FU22/25*12*2*1.302,1) -> 12.5 | FY22: =ROUND(FX22*FW22/25*12*2*1.302,1) -> 0 | GA22: =ROUND(FZ22*FU22/20*12*2*1.302,1) -> 0 | GC22: =ROUND(GB22*FU22/12*12*2*1.302,1) -> 0 | GD22: =FV22+FX22+GB22+FZ22 -> 1 | GE22: =FW22+FY22+GC22+GA22 -> 12.5 | GF22: 10 | GG22: 2 | GH22: =ROUND(GG22*GF22/25*12*2*1.302,1) -> 25 | GJ22: =ROUND(GI22*GH22/25*12*2*1.302,1) -> 0 | GL22: =ROUND(GK22*GF22/20*12*2*1.302,1) -> 0 | GN22: =ROUND(GM22*GF22/12*12*2*1.302,1) -> 0 | GO22: =GG22+GI22+GM22+GK22 -> 2 | GP22: =GH22+GJ22+GN22+GL22 -> 25 | GQ22: 10 | GR22: 1 | GS22: =ROUND(GR22*GQ22/25*12*2*1.302,1) -> 12.5 | GU22: =ROUND(GT22*GS22/25*12*2*1.302,1) -> 0 | GW22: =ROUND(GV22*GQ22/20*12*2*1.302,1) -> 0 | GX22: 2 | GY22: =ROUND(GX22*GQ22/12*12*2*1.302,1) -> 52.1 | GZ22: =GR22+GT22+GX22+GV22 -> 3 | HA22: =GS22+GU22+GY22+GW22 -> 64.6
A23: 9 | B23: =M23+X23+AI23+AT23+BE23+BP23+CA23+CL23+CW23+DH23+DS23+ED23+EO23+EZ23+FK23+FV23+GG23+GR23 -> 6 | C23: =N23+Y23+AJ23+AU23+BF23+BQ23+CB23+CM23+CX23+DI23+DT23+EE23+EP23+FA23+FL23+FW23+GH23+GS23 -> 67.4 | D23: =O23+Z23+AK23+AV23+BG23+BR23+CC23+CN23+CY23+DJ23+DU23+EF23+EQ23+FB23+FM23+FX23+GI23+GT23 -> 1 | E23: =P23+AA23+AL23+AW23+BH23+BS23+CD23+CO23+CZ23+DK23+DV23+EG23+ER23+FC23+FN23+FY23+GJ23+GU23 -> 11.2 | F23: =Q23+AB23+AM23+AX23+BI23+BT23+CE23+CP23+DA23+DL23+DW23+EH23+ES23+FD23+FO23+FZ23+GK23+GV23 -> 0 | G23: =R23+AC23+AN23+AY23+BJ23+BU23+CF23+CQ23+DB23+DM23+DX23+EI23+ET23+FE23+FP23+GA23+GL23+GW23 -> 0 | H23: =S23+AD23+AO23+AZ23+BK23+BV23+CG23+CR23+DC23+DN23+DY23+EJ23+EU23+FF23+FQ23+GB23+GM23+GX23 -> 2 | I23: =T23+AE23+AP23+BA23+BL23+BW23+CH23+CS23+DD23+DO23+DZ23+EK23+EV23+FG23+FR23+GC23+GN23+GY23 -> 46.8 | ... K23: =V23+AG23+AR23+BC23+BN23+BY23+CJ23+CU23+DF23+DQ23+EB23+EM23+EX23+FI23+FT23+GE23+GP23+HA23 -> 125.4 | L23: 9 | M23: 0 | N23: =ROUND(M23*L23/25*12*2*1.302,1) -> 0 | P23: =ROUND(O23*N23/25*12*2*1.302,1) -> 0 | R23: =ROUND(Q23*L23/20*12*2*1.302,1) -> 0 | S23: 1 | T23: =ROUND(S23*L23/12*12*2*1.302,1) -> 23.4 | U23: =M23+O23+S23+Q23 -> 1 | V23: =N23+P23+T23+R23 -> 23.4 | W23: 9 | Y23: =ROUND(X23*W23/25*12*2*1.302,1) -> 0 | AA23: =ROUND(Z23*Y23/25*12*2*1.302,1) -> 0 | AC23: =ROUND(AB23*W23/20*12*2*1.302,1) -> 0 | AE23: =ROUND(AD23*W23/12*12*2*1.302,1) -> 0 | AF23: =X23+Z23+AD23+AB23 -> 0 | AG23: =Y23+AA23+AE23+AC23 -> 0 | AH23: 9 | AJ23: =ROUND(AI23*AH23/25*12*2*1.302,1) -> 0 | AK23: 1 | AL23: =ROUND(AK23*AH23/25*12*2*1.302,1) -> 11.2 | AN23: =ROUND(AM23*AH23/20*12*2*1.302,1) -> 0 | AP23: =ROUND(AO23*AH23/12*12*2*1.302,1) -> 0 | AQ23: =AI23+AK23+AO23+AM23 -> 1 | AR23: =AJ23+AL23+AP23+AN23 -> 11.2 | AS23: 9 | AU23: =ROUND(AT23*AS23/25*12*2*1.302,1) -> 0 | AW23: =ROUND(AV23*AS23/25*12*2*1.302,1) -> 0 | AY23: =ROUND(AX23*AS23/20*12*2*1.302,1) -> 0 | BA23: =ROUND(AZ23*AS23/12*12*2*1.302,1) -> 0 | BB23: =AT23+AV23+AZ23+AX23 -> 0 | BC23: =AU23+AW23+BA23+AY23 -> 0 | BD23: 9 | BF23: =ROUND(BE23*BD23/25*12*2*1.302,1) -> 0 | BH23: =ROUND(BG23*BF23/25*12*2*1.302,1) -> 0 | BJ23: =ROUND(BI23*BD23/20*12*2*1.302,1) -> 0 | BL23: =ROUND(BK23*BD23/12*12*2*1.302,1) -> 0 | BM23: =BE23+BG23+BK23+BI23 -> 0 | BN23: =BF23+BH23+BL23+BJ23 -> 0 | BO23: 9 | BP23: 2 | BQ23: =ROUND(BP23*BO23/25*12*2*1.302,1) -> 22.5 | BS23: =ROUND(BR23*BQ23/25*12*2*1.302,1) -> 0 | BU23: =ROUND(BT23*BO23/20*12*2*1.302,1) -> 0 | BV23: 1 | BW23: =ROUND(BV23*BO23/12*12*2*1.302,1) -> 23.4 | BX23: =BP23+BR23+BV23+BT23 -> 3 | BY23: =BQ23+BS23+BW23+BU23 -> 45.9 | BZ23: 9 | CB23: =ROUND(CA23*BZ23/25*12*2*1.302,1) -> 0 | CD23: =ROUND(CC23*CB23/25*12*2*1.302,1) -> 0 | CF23: =ROUND(CE23*BZ23/20*12*2*1.302,1) -> 0 | CH23: =ROUND(CG23*BZ23/12*12*2*1.302,1) -> 0 | CI23: =CA23+CC23+CG23+CE23 -> 0 | CJ23: =CB23+CD23+CH23+CF23 -> 0 | CK23: 9 | CM23: =ROUND(CL23*CK23/25*12*2*1.302,1) -> 0 | CO23: =ROUND(CN23*CK23/25*12*2*1.302,1) -> 0 | CQ23: =ROUND(CP23*CK23/20*12*2*1.302,1) -> 0 | CS23: =ROUND(CR23*CK23/12*12*2*1.302,1) -> 0 | CT23: =CL23+CN23+CR23+CP23 -> 0 | CU23: =CM23+CO23+CS23+CQ23 -> 0 | CV23: 9 | CW23: 0 | CX23: =ROUND(CW23*CV23/25*12*2*1.302,1) -> 0 | CZ23: =ROUND(CY23*CV23/25*12*2*1.302,1) -> 0 | DB23: =ROUND(DA23*CV23/20*12*2*1.302,1) -> 0 | DD23: =ROUND(DC23*CV23/12*12*2*1.302,1) -> 0 | DE23: =CW23+CY23+DA23+DC23 -> 0 | DF23: =CX23+CZ23+DB23+DD23 -> 0 | DG23: 9 | DI23: =ROUND(DH23*DG23/25*12*2*1.302,1) -> 0 | DK23: =ROUND(DJ23*DG23/25*12*2*1.302,1) -> 0 | DM23: =ROUND(DL23*DG23/20*12*1.302,1) -> 0 | DO23: =ROUND(DN23*DG23/12*12*1.302,1) -> 0 | DP23: =DH23+DJ23+DL23+DN23 -> 0 | DQ23: =DI23+DK23+DM23+DO23 -> 0 | DR23: 9 | DT23: =ROUND(DS23*DR23/25*12*2*1.302,1) -> 0 | DV23: =ROUND(DU23*DT23/25*12*2*1.302,1) -> 0 | DX23: =ROUND(DW23*DR23/20*12*2*1.302,1) -> 0 | DZ23: =ROUND(DY23*DR23/12*12*2*1.302,1) -> 0 | EA23: =DS23+DU23+DY23+DW23 -> 0 | EB23: =DT23+DV23+DZ23+DX23 -> 0 | EC23: 9 | ED23: 1 | EE23: =ROUND(ED23*EC23/25*12*2*1.302,1) -> 11.2 | EG23: =ROUND(EF23*EC23/25*12*2*1.302,1) -> 0 | EI23: =ROUND(EH23*EC23/20*12*2*1.302,1) -> 0 | EK23: =ROUND(EJ23*EC23/12*12*2*1.302,1) -> 0 | EL23: =ED23+EF23+EJ23+EH23 -> 1 | EM23: =EE23+EG23+EK23+EI23 -> 11.2 | EN23: 9 | EP23: =ROUND(EO23*EN23/25*12*2*1.302,1) -> 0 | ER23: =ROUND(EQ23*EP23/25*12*2*1.302,1) -> 0 | ET23: =ROUND(ES23*EN23/20*12*2*1.302,1) -> 0 | EV23: =ROUND(EU23*EN23/12*12*2*1.302,1) -> 0 | EW23: =EO23+EQ23+EU23+ES23 -> 0 | EX23: =EP23+ER23+EV23+ET23 -> 0 | EY23: 9 | EZ23: 1 | FA23: =ROUND(EZ23*EY23/25*12*2*1.302,1) -> 11.2 | FC23: =ROUND(FB23*FA23/25*12*2*1.302,1) -> 0 | FE23: =ROUND(FD23*EY23/20*12*2*1.302,1) -> 0 | FG23: =ROUND(FF23*EY23/12*12*2*1.302,1) -> 0 | FH23: =EZ23+FB23+FF23+FD23 -> 1 | FI23: =FA23+FC23+FG23+FE23 -> 11.2 | FJ23: 9 | FK23: 0 | FL23: =ROUND(FK23*FJ23/25*12*2*1.302,1) -> 0 | FM23: 0 | FN23: =ROUND(FM23*FL23/25*12*2*1.302,1) -> 0 | FO23: 0 | FP23: 0 | FQ23: 0 | FR23: =ROUND(FQ23*FJ23/12*12*2*1.302,1) -> 0 | FS23: =FK23+FM23+FQ23+FO23 -> 0 | FT23: =FL23+FN23+FR23+FP23 -> 0 | FU23: 9 | FW23: =ROUND(FV23*FU23/25*12*2*1.302,1) -> 0 | FY23: =ROUND(FX23*FW23/25*12*2*1.302,1) -> 0 | GA23: =ROUND(FZ23*FU23/20*12*2*1.302,1) -> 0 | GC23: =ROUND(GB23*FU23/12*12*2*1.302,1) -> 0 | GD23: =FV23+FX23+GB23+FZ23 -> 0 | GE23: =FW23+FY23+GC23+GA23 -> 0 | GF23: 9 | GG23: 2 | GH23: =ROUND(GG23*GF23/25*12*2*1.302,1) -> 22.5 | GJ23: =ROUND(GI23*GH23/25*12*2*1.302,1) -> 0 | GL23: =ROUND(GK23*GF23/20*12*2*1.302,1) -> 0 | GN23: =ROUND(GM23*GF23/12*12*2*1.302,1) -> 0 | GO23: =GG23+GI23+GM23+GK23 -> 2 | GP23: =GH23+GJ23+GN23+GL23 -> 22.5 | GQ23: 9 | GR23: 0 | GS23: =ROUND(GR23*GQ23/25*12*2*1.302,1) -> 0 | GU23: =ROUND(GT23*GS23/25*12*2*1.302,1) -> 0 | GW23: =ROUND(GV23*GQ23/20*12*2*1.302,1) -> 0 | GX23: 0 | GY23: =ROUND(GX23*GQ23/12*12*2*1.302,1) -> 0 | GZ23: =GR23+GT23+GX23+GV23 -> 0 | HA23: =GS23+GU23+GY23+GW23 -> 0
A24: 8 | B24: =M24+X24+AI24+AT24+BE24+BP24+CA24+CL24+CW24+DH24+DS24+ED24+EO24+EZ24+FK24+FV24+GG24+GR24 -> 3 | C24: =N24+Y24+AJ24+AU24+BF24+BQ24+CB24+CM24+CX24+DI24+DT24+EE24+EP24+FA24+FL24+FW24+GH24+GS24 -> 30 | D24: =O24+Z24+AK24+AV24+BG24+BR24+CC24+CN24+CY24+DJ24+DU24+EF24+EQ24+FB24+FM24+FX24+GI24+GT24 -> 0 | E24: =P24+AA24+AL24+AW24+BH24+BS24+CD24+CO24+CZ24+DK24+DV24+EG24+ER24+FC24+FN24+FY24+GJ24+GU24 -> 0 | F24: =Q24+AB24+AM24+AX24+BI24+BT24+CE24+CP24+DA24+DL24+DW24+EH24+ES24+FD24+FO24+FZ24+GK24+GV24 -> 0 | G24: =R24+AC24+AN24+AY24+BJ24+BU24+CF24+CQ24+DB24+DM24+DX24+EI24+ET24+FE24+FP24+GA24+GL24+GW24 -> 0 | H24: =S24+AD24+AO24+AZ24+BK24+BV24+CG24+CR24+DC24+DN24+DY24+EJ24+EU24+FF24+FQ24+GB24+GM24+GX24 -> 2 | I24: =T24+AE24+AP24+BA24+BL24+BW24+CH24+CS24+DD24+DO24+DZ24+EK24+EV24+FG24+FR24+GC24+GN24+GY24 -> 41.6 | ... K24: =V24+AG24+AR24+BC24+BN24+BY24+CJ24+CU24+DF24+DQ24+EB24+EM24+EX24+FI24+FT24+GE24+GP24+HA24 -> 71.6 | L24: 8 | M24: 0 | N24: =ROUND(M24*L24/25*12*2*1.302,1) -> 0 | P24: =ROUND(O24*N24/25*12*2*1.302,1) -> 0 | R24: =ROUND(Q24*L24/20*12*2*1.302,1) -> 0 | T24: =ROUND(S24*L24/12*12*2*1.302,1) -> 0 | U24: =M24+O24+S24+Q24 -> 0 | V24: =N24+P24+T24+R24 -> 0 | W24: 8 | Y24: =ROUND(X24*W24/25*12*2*1.302,1) -> 0 | AA24: =ROUND(Z24*Y24/25*12*2*1.302,1) -> 0 | AC24: =ROUND(AB24*W24/20*12*2*1.302,1) -> 0 | AE24: =ROUND(AD24*W24/12*12*2*1.302,1) -> 0 | AF24: =X24+Z24+AD24+AB24 -> 0 | AG24: =Y24+AA24+AE24+AC24 -> 0 | AH24: 8 | AJ24: =ROUND(AI24*AH24/25*12*2*1.302,1) -> 0 | AL24: =ROUND(AK24*AH24/25*12*2*1.302,1) -> 0 | AN24: =ROUND(AM24*AH24/20*12*2*1.302,1) -> 0 | AP24: =ROUND(AO24*AH24/12*12*2*1.302,1) -> 0 | AQ24: =AI24+AK24+AO24+AM24 -> 0 | AR24: =AJ24+AL24+AP24+AN24 -> 0 | AS24: 8 | AU24: =ROUND(AT24*AS24/25*12*2*1.302,1) -> 0 | AW24: =ROUND(AV24*AS24/25*12*2*1.302,1) -> 0 | AY24: =ROUND(AX24*AS24/20*12*2*1.302,1) -> 0 | BA24: =ROUND(AZ24*AS24/12*12*2*1.302,1) -> 0 | BB24: =AT24+AV24+AZ24+AX24 -> 0 | BC24: =AU24+AW24+BA24+AY24 -> 0 | BD24: 8 | BF24: =ROUND(BE24*BD24/25*12*2*1.302,1) -> 0 | BH24: =ROUND(BG24*BF24/25*12*2*1.302,1) -> 0 | BJ24: =ROUND(BI24*BD24/20*12*2*1.302,1) -> 0 | BK24: 1 | BL24: =ROUND(BK24*BD24/12*12*2*1.302,1) -> 20.8 | BM24: =BE24+BG24+BK24+BI24 -> 1 | BN24: =BF24+BH24+BL24+BJ24 -> 20.8 | BO24: 8 | BP24: 2 | BQ24: =ROUND(BP24*BO24/25*12*2*1.302,1) -> 20 | BS24: =ROUND(BR24*BQ24/25*12*2*1.302,1) -> 0 | BU24: =ROUND(BT24*BO24/20*12*2*1.302,1) -> 0 | BV24: 1 | BW24: =ROUND(BV24*BO24/12*12*2*1.302,1) -> 20.8 | BX24: =BP24+BR24+BV24+BT24 -> 3 | BY24: =BQ24+BS24+BW24+BU24 -> 40.8 | BZ24: 8 | CB24: =ROUND(CA24*BZ24/25*12*2*1.302,1) -> 0 | CD24: =ROUND(CC24*CB24/25*12*2*1.302,1) -> 0 | CF24: =ROUND(CE24*BZ24/20*12*2*1.302,1) -> 0 | CH24: =ROUND(CG24*BZ24/12*12*2*1.302,1) -> 0 | CI24: =CA24+CC24+CG24+CE24 -> 0 | CJ24: =CB24+CD24+CH24+CF24 -> 0 | CK24: 8 | CM24: =ROUND(CL24*CK24/25*12*2*1.302,1) -> 0 | CO24: =ROUND(CN24*CK24/25*12*2*1.302,1) -> 0 | CQ24: =ROUND(CP24*CK24/20*12*2*1.302,1) -> 0 | CS24: =ROUND(CR24*CK24/12*12*2*1.302,1) -> 0 | CT24: =CL24+CN24+CR24+CP24 -> 0 | CU24: =CM24+CO24+CS24+CQ24 -> 0 | CV24: 8 | CW24: 0 | CX24: =ROUND(CW24*CV24/25*12*2*1.302,1) -> 0 | CZ24: =ROUND(CY24*CV24/25*12*2*1.302,1) -> 0 | DB24: =ROUND(DA24*CV24/20*12*2*1.302,1) -> 0 | DD24: =ROUND(DC24*CV24/12*12*2*1.302,1) -> 0 | DE24: =CW24+CY24+DA24+DC24 -> 0 | DF24: =CX24+CZ24+DB24+DD24 -> 0 | DG24: 8 | DI24: =ROUND(DH24*DG24/25*12*2*1.302,1) -> 0 | DK24: =ROUND(DJ24*DG24/25*12*2*1.302,1) -> 0 | DM24: =ROUND(DL24*DG24/20*12*1.302,1) -> 0 | DO24: =ROUND(DN24*DG24/12*12*1.302,1) -> 0 | DP24: =DH24+DJ24+DL24+DN24 -> 0 | DQ24: =DI24+DK24+DM24+DO24 -> 0 | DR24: 8 | DT24: =ROUND(DS24*DR24/25*12*2*1.302,1) -> 0 | DV24: =ROUND(DU24*DT24/25*12*2*1.302,1) -> 0 | DX24: =ROUND(DW24*DR24/20*12*2*1.302,1) -> 0 | DZ24: =ROUND(DY24*DR24/12*12*2*1.302,1) -> 0 | EA24: =DS24+DU24+DY24+DW24 -> 0 | EB24: =DT24+DV24+DZ24+DX24 -> 0 | EC24: 8 | EE24: =ROUND(ED24*EC24/25*12*2*1.302,1) -> 0 | EG24: =ROUND(EF24*EC24/25*12*2*1.302,1) -> 0 | EI24: =ROUND(EH24*EC24/20*12*2*1.302,1) -> 0 | EK24: =ROUND(EJ24*EC24/12*12*2*1.302,1) -> 0 | EL24: =ED24+EF24+EJ24+EH24 -> 0 | EM24: =EE24+EG24+EK24+EI24 -> 0 | EN24: 8 | EP24: =ROUND(EO24*EN24/25*12*2*1.302,1) -> 0 | ER24: =ROUND(EQ24*EP24/25*12*2*1.302,1) -> 0 | ET24: =ROUND(ES24*EN24/20*12*2*1.302,1) -> 0 | EV24: =ROUND(EU24*EN24/12*12*2*1.302,1) -> 0 | EW24: =EO24+EQ24+EU24+ES24 -> 0 | EX24: =EP24+ER24+EV24+ET24 -> 0 | EY24: 8 | FA24: =ROUND(EZ24*EY24/25*12*2*1.302,1) -> 0 | FC24: =ROUND(FB24*FA24/25*12*2*1.302,1) -> 0 | FE24: =ROUND(FD24*EY24/20*12*2*1.302,1) -> 0 | FG24: =ROUND(FF24*EY24/12*12*2*1.302,1) -> 0 | FH24: =EZ24+FB24+FF24+FD24 -> 0 | FI24: =FA24+FC24+FG24+FE24 -> 0 | FJ24: 8 | FK24: 0 | FL24: =ROUND(FK24*FJ24/25*12*2*1.302,1) -> 0 | FM24: 0 | FN24: =ROUND(FM24*FL24/25*12*2*1.302,1) -> 0 | FO24: 0 | FP24: 0 | FQ24: 0 | FR24: =ROUND(FQ24*FJ24/12*12*2*1.302,1) -> 0 | FS24: =FK24+FM24+FQ24+FO24 -> 0 | FT24: =FL24+FN24+FR24+FP24 -> 0 | FU24: 8 | FW24: =ROUND(FV24*FU24/25*12*2*1.302,1) -> 0 | FY24: =ROUND(FX24*FW24/25*12*2*1.302,1) -> 0 | GA24: =ROUND(FZ24*FU24/20*12*2*1.302,1) -> 0 | GC24: =ROUND(GB24*FU24/12*12*2*1.302,1) -> 0 | GD24: =FV24+FX24+GB24+FZ24 -> 0 | GE24: =FW24+FY24+GC24+GA24 -> 0 | GF24: 8 | GG24: 1 | GH24: =ROUND(GG24*GF24/25*12*2*1.302,1) -> 10 | GJ24: =ROUND(GI24*GH24/25*12*2*1.302,1) -> 0 | GL24: =ROUND(GK24*GF24/20*12*2*1.302,1) -> 0 | GN24: =ROUND(GM24*GF24/12*12*2*1.302,1) -> 0 | GO24: =GG24+GI24+GM24+GK24 -> 1 | GP24: =GH24+GJ24+GN24+GL24 -> 10 | GQ24: 8 | GR24: 0 | GS24: =ROUND(GR24*GQ24/25*12*2*1.302,1) -> 0 | GU24: =ROUND(GT24*GS24/25*12*2*1.302,1) -> 0 | GW24: =ROUND(GV24*GQ24/20*12*2*1.302,1) -> 0 | GX24: 0 | GY24: =ROUND(GX24*GQ24/12*12*2*1.302,1) -> 0 | GZ24: =GR24+GT24+GX24+GV24 -> 0 | HA24: =GS24+GU24+GY24+GW24 -> 0
A25: 7 | B25: =M25+X25+AI25+AT25+BE25+BP25+CA25+CL25+CW25+DH25+DS25+ED25+EO25+EZ25+FK25+FV25+GG25+GR25 -> 2 | C25: =N25+Y25+AJ25+AU25+BF25+BQ25+CB25+CM25+CX25+DI25+DT25+EE25+EP25+FA25+FL25+FW25+GH25+GS25 -> 17.4 | D25: =O25+Z25+AK25+AV25+BG25+BR25+CC25+CN25+CY25+DJ25+DU25+EF25+EQ25+FB25+FM25+FX25+GI25+GT25 -> 0 | E25: =P25+AA25+AL25+AW25+BH25+BS25+CD25+CO25+CZ25+DK25+DV25+EG25+ER25+FC25+FN25+FY25+GJ25+GU25 -> 0 | F25: =Q25+AB25+AM25+AX25+BI25+BT25+CE25+CP25+DA25+DL25+DW25+EH25+ES25+FD25+FO25+FZ25+GK25+GV25 -> 0 | G25: =R25+AC25+AN25+AY25+BJ25+BU25+CF25+CQ25+DB25+DM25+DX25+EI25+ET25+FE25+FP25+GA25+GL25+GW25 -> 0 | H25: =S25+AD25+AO25+AZ25+BK25+BV25+CG25+CR25+DC25+DN25+DY25+EJ25+EU25+FF25+FQ25+GB25+GM25+GX25 -> 0 | I25: =T25+AE25+AP25+BA25+BL25+BW25+CH25+CS25+DD25+DO25+DZ25+EK25+EV25+FG25+FR25+GC25+GN25+GY25 -> 0 | ... K25: =V25+AG25+AR25+BC25+BN25+BY25+CJ25+CU25+DF25+DQ25+EB25+EM25+EX25+FI25+FT25+GE25+GP25+HA25 -> 17.4 | L25: 7 | M25: 0 | N25: =ROUND(M25*L25/25*12*2*1.302,1) -> 0 | P25: =ROUND(O25*N25/25*12*2*1.302,1) -> 0 | R25: =ROUND(Q25*L25/20*12*2*1.302,1) -> 0 | T25: =ROUND(S25*L25/12*12*2*1.302,1) -> 0 | U25: =M25+O25+S25+Q25 -> 0 | V25: =N25+P25+T25+R25 -> 0 | W25: 7 | Y25: =ROUND(X25*W25/25*12*2*1.302,1) -> 0 | AA25: =ROUND(Z25*Y25/25*12*2*1.302,1) -> 0 | AC25: =ROUND(AB25*W25/20*12*2*1.302,1) -> 0 | AE25: =ROUND(AD25*W25/12*12*2*1.302,1) -> 0 | AF25: =X25+Z25+AD25+AB25 -> 0 | AG25: =Y25+AA25+AE25+AC25 -> 0 | AH25: 7 | AJ25: =ROUND(AI25*AH25/25*12*2*1.302,1) -> 0 | AL25: =ROUND(AK25*AH25/25*12*2*1.302,1) -> 0 | AN25: =ROUND(AM25*AH25/20*12*2*1.302,1) -> 0 | AP25: =ROUND(AO25*AH25/12*12*2*1.302,1) -> 0 | AQ25: =AI25+AK25+AO25+AM25 -> 0 | AR25: =AJ25+AL25+AP25+AN25 -> 0 | AS25: 7 | AU25: =ROUND(AT25*AS25/25*12*2*1.302,1) -> 0 | AW25: =ROUND(AV25*AS25/25*12*2*1.302,1) -> 0 | AY25: =ROUND(AX25*AS25/20*12*2*1.302,1) -> 0 | BA25: =ROUND(AZ25*AS25/12*12*2*1.302,1) -> 0 | BB25: =AT25+AV25+AZ25+AX25 -> 0 | BC25: =AU25+AW25+BA25+AY25 -> 0 | BD25: 7 | BF25: =ROUND(BE25*BD25/25*12*2*1.302,1) -> 0 | BH25: =ROUND(BG25*BF25/25*12*2*1.302,1) -> 0 | BJ25: =ROUND(BI25*BD25/20*12*2*1.302,1) -> 0 | BL25: =ROUND(BK25*BD25/12*12*2*1.302,1) -> 0 | BM25: =BE25+BG25+BK25+BI25 -> 0 | BN25: =BF25+BH25+BL25+BJ25 -> 0 | BO25: 7 | BQ25: =ROUND(BP25*BO25/25*12*2*1.302,1) -> 0 | BS25: =ROUND(BR25*BQ25/25*12*2*1.302,1) -> 0 | BU25: =ROUND(BT25*BO25/20*12*2*1.302,1) -> 0 | BW25: =ROUND(BV25*BO25/12*12*2*1.302,1) -> 0 | BX25: =BP25+BR25+BV25+BT25 -> 0 | BY25: =BQ25+BS25+BW25+BU25 -> 0 | BZ25: 7 | CB25: =ROUND(CA25*BZ25/25*12*2*1.302,1) -> 0 | CD25: =ROUND(CC25*CB25/25*12*2*1.302,1) -> 0 | CF25: =ROUND(CE25*BZ25/20*12*2*1.302,1) -> 0 | CH25: =ROUND(CG25*BZ25/12*12*2*1.302,1) -> 0 | CI25: =CA25+CC25+CG25+CE25 -> 0 | CJ25: =CB25+CD25+CH25+CF25 -> 0 | CK25: 7 | CM25: =ROUND(CL25*CK25/25*12*2*1.302,1) -> 0 | CO25: =ROUND(CN25*CK25/25*12*2*1.302,1) -> 0 | CQ25: =ROUND(CP25*CK25/20*12*2*1.302,1) -> 0 | CS25: =ROUND(CR25*CK25/12*12*2*1.302,1) -> 0 | CT25: =CL25+CN25+CR25+CP25 -> 0 | CU25: =CM25+CO25+CS25+CQ25 -> 0 | CV25: 7 | CW25: 0 | CX25: =ROUND(CW25*CV25/25*12*2*1.302,1) -> 0 | CZ25: =ROUND(CY25*CV25/25*12*2*1.302,1) -> 0 | DB25: =ROUND(DA25*CV25/20*12*2*1.302,1) -> 0 | DD25: =ROUND(DC25*CV25/12*12*2*1.302,1) -> 0 | DE25: =CW25+CY25+DA25+DC25 -> 0 | DF25: =CX25+CZ25+DB25+DD25 -> 0 | DG25: 7 | DI25: =ROUND(DH25*DG25/25*12*2*1.302,1) -> 0 | DK25: =ROUND(DJ25*DG25/25*12*2*1.302,1) -> 0 | DM25: =ROUND(DL25*DG25/20*12*1.302,1) -> 0 | DO25: =ROUND(DN25*DG25/12*12*1.302,1) -> 0 | DP25: =DH25+DJ25+DL25+DN25 -> 0 | DQ25: =DI25+DK25+DM25+DO25 -> 0 | DR25: 7 | DT25: =ROUND(DS25*DR25/25*12*2*1.302,1) -> 0 | DV25: =ROUND(DU25*DT25/25*12*2*1.302,1) -> 0 | DX25: =ROUND(DW25*DR25/20*12*2*1.302,1) -> 0 | DZ25: =ROUND(DY25*DR25/12*12*2*1.302,1) -> 0 | EA25: =DS25+DU25+DY25+DW25 -> 0 | EB25: =DT25+DV25+DZ25+DX25 -> 0 | EC25: 7 | EE25: =ROUND(ED25*EC25/25*12*2*1.302,1) -> 0 | EG25: =ROUND(EF25*EC25/25*12*2*1.302,1) -> 0 | EI25: =ROUND(EH25*EC25/20*12*2*1.302,1) -> 0 | EK25: =ROUND(EJ25*EC25/12*12*2*1.302,1) -> 0 | EL25: =ED25+EF25+EJ25+EH25 -> 0 | EM25: =EE25+EG25+EK25+EI25 -> 0 | EN25: 7 | EO25: 1 | EP25: =ROUND(EO25*EN25/25*12*2*1.302,1) -> 8.7 | ER25: =ROUND(EQ25*EP25/25*12*2*1.302,1) -> 0 | ET25: =ROUND(ES25*EN25/20*12*2*1.302,1) -> 0 | EV25: =ROUND(EU25*EN25/12*12*2*1.302,1) -> 0 | EW25: =EO25+EQ25+EU25+ES25 -> 1 | EX25: =EP25+ER25+EV25+ET25 -> 8.7 | EY25: 7 | FA25: =ROUND(EZ25*EY25/25*12*2*1.302,1) -> 0 | FC25: =ROUND(FB25*FA25/25*12*2*1.302,1) -> 0 | FE25: =ROUND(FD25*EY25/20*12*2*1.302,1) -> 0 | FG25: =ROUND(FF25*EY25/12*12*2*1.302,1) -> 0 | FH25: =EZ25+FB25+FF25+FD25 -> 0 | FI25: =FA25+FC25+FG25+FE25 -> 0 | FJ25: 7 | FK25: 0 | FL25: =ROUND(FK25*FJ25/25*12*2*1.302,1) -> 0 | FM25: 0 | FN25: =ROUND(FM25*FL25/25*12*2*1.302,1) -> 0 | FO25: 0 | FP25: 0 | FQ25: 0 | FR25: =ROUND(FQ25*FJ25/12*12*2*1.302,1) -> 0 | FS25: =FK25+FM25+FQ25+FO25 -> 0 | FT25: =FL25+FN25+FR25+FP25 -> 0 | FU25: 7 | FW25: =ROUND(FV25*FU25/25*12*2*1.302,1) -> 0 | FY25: =ROUND(FX25*FW25/25*12*2*1.302,1) -> 0 | GA25: =ROUND(FZ25*FU25/20*12*2*1.302,1) -> 0 | GC25: =ROUND(GB25*FU25/12*12*2*1.302,1) -> 0 | GD25: =FV25+FX25+GB25+FZ25 -> 0 | GE25: =FW25+FY25+GC25+GA25 -> 0 | GF25: 7 | GG25: 1 | GH25: =ROUND(GG25*GF25/25*12*2*1.302,1) -> 8.7 | GJ25: =ROUND(GI25*GH25/25*12*2*1.302,1) -> 0 | GL25: =ROUND(GK25*GF25/20*12*2*1.302,1) -> 0 | GN25: =ROUND(GM25*GF25/12*12*2*1.302,1) -> 0 | GO25: =GG25+GI25+GM25+GK25 -> 1 | GP25: =GH25+GJ25+GN25+GL25 -> 8.7 | GQ25: 7 | GR25: 0 | GS25: =ROUND(GR25*GQ25/25*12*2*1.302,1) -> 0 | GU25: =ROUND(GT25*GS25/25*12*2*1.302,1) -> 0 | GW25: =ROUND(GV25*GQ25/20*12*2*1.302,1) -> 0 | GX25: 0 | GY25: =ROUND(GX25*GQ25/12*12*2*1.302,1) -> 0 | GZ25: =GR25+GT25+GX25+GV25 -> 0 | HA25: =GS25+GU25+GY25+GW25 -> 0
A26: 6 | B26: =M26+X26+AI26+AT26+BE26+BP26+CA26+CL26+CW26+DH26+DS26+ED26+EO26+EZ26+FK26+FV26+GG26+GR26 -> 2 | C26: =N26+Y26+AJ26+AU26+BF26+BQ26+CB26+CM26+CX26+DI26+DT26+EE26+EP26+FA26+FL26+FW26+GH26+GS26 -> 15 | D26: =O26+Z26+AK26+AV26+BG26+BR26+CC26+CN26+CY26+DJ26+DU26+EF26+EQ26+FB26+FM26+FX26+GI26+GT26 -> 0 | E26: =P26+AA26+AL26+AW26+BH26+BS26+CD26+CO26+CZ26+DK26+DV26+EG26+ER26+FC26+FN26+FY26+GJ26+GU26 -> 0 | F26: =Q26+AB26+AM26+AX26+BI26+BT26+CE26+CP26+DA26+DL26+DW26+EH26+ES26+FD26+FO26+FZ26+GK26+GV26 -> 0 | G26: =R26+AC26+AN26+AY26+BJ26+BU26+CF26+CQ26+DB26+DM26+DX26+EI26+ET26+FE26+FP26+GA26+GL26+GW26 -> 0 | H26: =S26+AD26+AO26+AZ26+BK26+BV26+CG26+CR26+DC26+DN26+DY26+EJ26+EU26+FF26+FQ26+GB26+GM26+GX26 -> 0 | I26: =T26+AE26+AP26+BA26+BL26+BW26+CH26+CS26+DD26+DO26+DZ26+EK26+EV26+FG26+FR26+GC26+GN26+GY26 -> 0 | ... K26: =V26+AG26+AR26+BC26+BN26+BY26+CJ26+CU26+DF26+DQ26+EB26+EM26+EX26+FI26+FT26+GE26+GP26+HA26 -> 15 | L26: 6 | M26: 0 | N26: =ROUND(M26*L26/25*12*2*1.302,1) -> 0 | P26: =ROUND(O26*N26/25*12*2*1.302,1) -> 0 | R26: =ROUND(Q26*L26/20*12*2*1.302,1) -> 0 | T26: =ROUND(S26*L26/12*12*2*1.302,1) -> 0 | U26: =M26+O26+S26+Q26 -> 0 | V26: =N26+P26+T26+R26 -> 0 | W26: 6 | Y26: =ROUND(X26*W26/25*12*2*1.302,1) -> 0 | AA26: =ROUND(Z26*Y26/25*12*2*1.302,1) -> 0 | AC26: =ROUND(AB26*W26/20*12*2*1.302,1) -> 0 | AE26: =ROUND(AD26*W26/12*12*2*1.302,1) -> 0 | AF26: =X26+Z26+AD26+AB26 -> 0 | AG26: =Y26+AA26+AE26+AC26 -> 0 | AH26: 6 | AJ26: =ROUND(AI26*AH26/25*12*2*1.302,1) -> 0 | AL26: =ROUND(AK26*AH26/25*12*2*1.302,1) -> 0 | AN26: =ROUND(AM26*AH26/20*12*2*1.302,1) -> 0 | AP26: =ROUND(AO26*AH26/12*12*2*1.302,1) -> 0 | AQ26: =AI26+AK26+AO26+AM26 -> 0 | AR26: =AJ26+AL26+AP26+AN26 -> 0 | AS26: 6 | AU26: =ROUND(AT26*AS26/25*12*2*1.302,1) -> 0 | AW26: =ROUND(AV26*AS26/25*12*2*1.302,1) -> 0 | AY26: =ROUND(AX26*AS26/20*12*2*1.302,1) -> 0 | BA26: =ROUND(AZ26*AS26/12*12*2*1.302,1) -> 0 | BB26: =AT26+AV26+AZ26+AX26 -> 0 | BC26: =AU26+AW26+BA26+AY26 -> 0 | BD26: 6 | BF26: =ROUND(BE26*BD26/25*12*2*1.302,1) -> 0 | BH26: =ROUND(BG26*BF26/25*12*2*1.302,1) -> 0 | BJ26: =ROUND(BI26*BD26/20*12*2*1.302,1) -> 0 | BL26: =ROUND(BK26*BD26/12*12*2*1.302,1) -> 0 | BM26: =BE26+BG26+BK26+BI26 -> 0 | BN26: =BF26+BH26+BL26+BJ26 -> 0 | BO26: 6 | BQ26: =ROUND(BP26*BO26/25*12*2*1.302,1) -> 0 | BS26: =ROUND(BR26*BQ26/25*12*2*1.302,1) -> 0 | BU26: =ROUND(BT26*BO26/20*12*2*1.302,1) -> 0 | BW26: =ROUND(BV26*BO26/12*12*2*1.302,1) -> 0 | BX26: =BP26+BR26+BV26+BT26 -> 0 | BY26: =BQ26+BS26+BW26+BU26 -> 0 | BZ26: 6 | CB26: =ROUND(CA26*BZ26/25*12*2*1.302,1) -> 0 | CD26: =ROUND(CC26*CB26/25*12*2*1.302,1) -> 0 | CF26: =ROUND(CE26*BZ26/20*12*2*1.302,1) -> 0 | CH26: =ROUND(CG26*BZ26/12*12*2*1.302,1) -> 0 | CI26: =CA26+CC26+CG26+CE26 -> 0 | CJ26: =CB26+CD26+CH26+CF26 -> 0 | CK26: 6 | CM26: =ROUND(CL26*CK26/25*12*2*1.302,1) -> 0 | CO26: =ROUND(CN26*CK26/25*12*2*1.302,1) -> 0 | CQ26: =ROUND(CP26*CK26/20*12*2*1.302,1) -> 0 | CS26: =ROUND(CR26*CK26/12*12*2*1.302,1) -> 0 | CT26: =CL26+CN26+CR26+CP26 -> 0 | CU26: =CM26+CO26+CS26+CQ26 -> 0 | CV26: 6 | CW26: 0 | CX26: =ROUND(CW26*CV26/25*12*2*1.302,1) -> 0 | CZ26: =ROUND(CY26*CV26/25*12*2*1.302,1) -> 0 | DB26: =ROUND(DA26*CV26/20*12*2*1.302,1) -> 0 | DD26: =ROUND(DC26*CV26/12*12*2*1.302,1) -> 0 | DE26: =CW26+CY26+DA26+DC26 -> 0 | DF26: =CX26+CZ26+DB26+DD26 -> 0 | DG26: 6 | DI26: =ROUND(DH26*DG26/25*12*2*1.302,1) -> 0 | DK26: =ROUND(DJ26*DG26/25*12*2*1.302,1) -> 0 | DM26: =ROUND(DL26*DG26/20*12*1.302,1) -> 0 | DO26: =ROUND(DN26*DG26/12*12*1.302,1) -> 0 | DP26: =DH26+DJ26+DL26+DN26 -> 0 | DQ26: =DI26+DK26+DM26+DO26 -> 0 | DR26: 6 | DT26: =ROUND(DS26*DR26/25*12*2*1.302,1) -> 0 | DV26: =ROUND(DU26*DT26/25*12*2*1.302,1) -> 0 | DX26: =ROUND(DW26*DR26/20*12*2*1.302,1) -> 0 | DZ26: =ROUND(DY26*DR26/12*12*2*1.302,1) -> 0 | EA26: =DS26+DU26+DY26+DW26 -> 0 | EB26: =DT26+DV26+DZ26+DX26 -> 0 | EC26: 6 | ED26: 1 | EE26: =ROUND(ED26*EC26/25*12*2*1.302,1) -> 7.5 | EG26: =ROUND(EF26*EC26/25*12*2*1.302,1) -> 0 | EI26: =ROUND(EH26*EC26/20*12*2*1.302,1) -> 0 | EK26: =ROUND(EJ26*EC26/12*12*2*1.302,1) -> 0 | EL26: =ED26+EF26+EJ26+EH26 -> 1 | EM26: =EE26+EG26+EK26+EI26 -> 7.5 | EN26: 6 | EP26: =ROUND(EO26*EN26/25*12*2*1.302,1) -> 0 | ER26: =ROUND(EQ26*EP26/25*12*2*1.302,1) -> 0 | ET26: =ROUND(ES26*EN26/20*12*2*1.302,1) -> 0 | EV26: =ROUND(EU26*EN26/12*12*2*1.302,1) -> 0 | EW26: =EO26+EQ26+EU26+ES26 -> 0 | EX26: =EP26+ER26+EV26+ET26 -> 0 | EY26: 6 | FA26: =ROUND(EZ26*EY26/25*12*2*1.302,1) -> 0 | FC26: =ROUND(FB26*FA26/25*12*2*1.302,1) -> 0 | FE26: =ROUND(FD26*EY26/20*12*2*1.302,1) -> 0 | FG26: =ROUND(FF26*EY26/12*12*2*1.302,1) -> 0 | FH26: =EZ26+FB26+FF26+FD26 -> 0 | FI26: =FA26+FC26+FG26+FE26 -> 0 | FJ26: 6 | FK26: 0 | FL26: =ROUND(FK26*FJ26/25*12*2*1.302,1) -> 0 | FM26: 0 | FN26: =ROUND(FM26*FL26/25*12*2*1.302,1) -> 0 | FO26: 0 | FP26: 0 | FQ26: 0 | FR26: =ROUND(FQ26*FJ26/12*12*2*1.302,1) -> 0 | FS26: =FK26+FM26+FQ26+FO26 -> 0 | FT26: =FL26+FN26+FR26+FP26 -> 0 | FU26: 6 | FW26: =ROUND(FV26*FU26/25*12*2*1.302,1) -> 0 | FY26: =ROUND(FX26*FW26/25*12*2*1.302,1) -> 0 | GA26: =ROUND(FZ26*FU26/20*12*2*1.302,1) -> 0 | GC26: =ROUND(GB26*FU26/12*12*2*1.302,1) -> 0 | GD26: =FV26+FX26+GB26+FZ26 -> 0 | GE26: =FW26+FY26+GC26+GA26 -> 0 | GF26: 6 | GG26: 1 | GH26: =ROUND(GG26*GF26/25*12*2*1.302,1) -> 7.5 | GJ26: =ROUND(GI26*GH26/25*12*2*1.302,1) -> 0 | GL26: =ROUND(GK26*GF26/20*12*2*1.302,1) -> 0 | GN26: =ROUND(GM26*GF26/12*12*2*1.302,1) -> 0 | GO26: =GG26+GI26+GM26+GK26 -> 1 | GP26: =GH26+GJ26+GN26+GL26 -> 7.5 | GQ26: 6 | GR26: 0 | GS26: =ROUND(GR26*GQ26/25*12*2*1.302,1) -> 0 | GU26: =ROUND(GT26*GS26/25*12*2*1.302,1) -> 0 | GW26: =ROUND(GV26*GQ26/20*12*2*1.302,1) -> 0 | GX26: 0 | GY26: =ROUND(GX26*GQ26/12*12*2*1.302,1) -> 0 | GZ26: =GR26+GT26+GX26+GV26 -> 0 | HA26: =GS26+GU26+GY26+GW26 -> 0
A27: 5 | B27: =M27+X27+AI27+AT27+BE27+BP27+CA27+CL27+CW27+DH27+DS27+ED27+EO27+EZ27+FK27+FV27+GG27+GR27 -> 0 | C27: =N27+Y27+AJ27+AU27+BF27+BQ27+CB27+CM27+CX27+DI27+DT27+EE27+EP27+FA27+FL27+FW27+GH27+GS27 -> 0 | D27: =O27+Z27+AK27+AV27+BG27+BR27+CC27+CN27+CY27+DJ27+DU27+EF27+EQ27+FB27+FM27+FX27+GI27+GT27 -> 1 | E27: =P27+AA27+AL27+AW27+BH27+BS27+CD27+CO27+CZ27+DK27+DV27+EG27+ER27+FC27+FN27+FY27+GJ27+GU27 -> 6.2 | F27: =Q27+AB27+AM27+AX27+BI27+BT27+CE27+CP27+DA27+DL27+DW27+EH27+ES27+FD27+FO27+FZ27+GK27+GV27 -> 0 | G27: =R27+AC27+AN27+AY27+BJ27+BU27+CF27+CQ27+DB27+DM27+DX27+EI27+ET27+FE27+FP27+GA27+GL27+GW27 -> 0 | H27: =S27+AD27+AO27+AZ27+BK27+BV27+CG27+CR27+DC27+DN27+DY27+EJ27+EU27+FF27+FQ27+GB27+GM27+GX27 -> 1 | I27: =T27+AE27+AP27+BA27+BL27+BW27+CH27+CS27+DD27+DO27+DZ27+EK27+EV27+FG27+FR27+GC27+GN27+GY27 -> 13 | ... K27: =V27+AG27+AR27+BC27+BN27+BY27+CJ27+CU27+DF27+DQ27+EB27+EM27+EX27+FI27+FT27+GE27+GP27+HA27 -> 19.2 | L27: 5 | M27: 0 | N27: =ROUND(M27*L27/25*12*2*1.302,1) -> 0 | P27: =ROUND(O27*N27/25*12*2*1.302,1) -> 0 | R27: =ROUND(Q27*L27/20*12*2*1.302,1) -> 0 | T27: =ROUND(S27*L27/12*12*2*1.302,1) -> 0 | U27: =M27+O27+S27+Q27 -> 0 | V27: =N27+P27+T27+R27 -> 0 | W27: 5 | Y27: =ROUND(X27*W27/25*12*2*1.302,1) -> 0 | AA27: =ROUND(Z27*Y27/25*12*2*1.302,1) -> 0 | AC27: =ROUND(AB27*W27/20*12*2*1.302,1) -> 0 | AE27: =ROUND(AD27*W27/12*12*2*1.302,1) -> 0 | AF27: =X27+Z27+AD27+AB27 -> 0 | AG27: =Y27+AA27+AE27+AC27 -> 0 | AH27: 5 | AJ27: =ROUND(AI27*AH27/25*12*2*1.302,1) -> 0 | AK27: 1 | AL27: =ROUND(AK27*AH27/25*12*2*1.302,1) -> 6.2 | AN27: =ROUND(AM27*AH27/20*12*2*1.302,1) -> 0 | AP27: =ROUND(AO27*AH27/12*12*2*1.302,1) -> 0 | AQ27: =AI27+AK27+AO27+AM27 -> 1 | AR27: =AJ27+AL27+AP27+AN27 -> 6.2 | AS27: 5 | AU27: =ROUND(AT27*AS27/25*12*2*1.302,1) -> 0 | AW27: =ROUND(AV27*AS27/25*12*2*1.302,1) -> 0 | AY27: =ROUND(AX27*AS27/20*12*2*1.302,1) -> 0 | BA27: =ROUND(AZ27*AS27/12*12*2*1.302,1) -> 0 | BB27: =AT27+AV27+AZ27+AX27 -> 0 | BC27: =AU27+AW27+BA27+AY27 -> 0 | BD27: 5 | BF27: =ROUND(BE27*BD27/25*12*2*1.302,1) -> 0 | BH27: =ROUND(BG27*BF27/25*12*2*1.302,1) -> 0 | BJ27: =ROUND(BI27*BD27/20*12*2*1.302,1) -> 0 | BK27: 1 | BL27: =ROUND(BK27*BD27/12*12*2*1.302,1) -> 13 | BM27: =BE27+BG27+BK27+BI27 -> 1 | BN27: =BF27+BH27+BL27+BJ27 -> 13 | BO27: 5 | BQ27: =ROUND(BP27*BO27/25*12*2*1.302,1) -> 0 | BS27: =ROUND(BR27*BQ27/25*12*2*1.302,1) -> 0 | BU27: =ROUND(BT27*BO27/20*12*2*1.302,1) -> 0 | BW27: =ROUND(BV27*BO27/12*12*2*1.302,1) -> 0 | BX27: =BP27+BR27+BV27+BT27 -> 0 | BY27: =BQ27+BS27+BW27+BU27 -> 0 | BZ27: 5 | CB27: =ROUND(CA27*BZ27/25*12*2*1.302,1) -> 0 | CD27: =ROUND(CC27*CB27/25*12*2*1.302,1) -> 0 | CF27: =ROUND(CE27*BZ27/20*12*2*1.302,1) -> 0 | CH27: =ROUND(CG27*BZ27/12*12*2*1.302,1) -> 0 | CI27: =CA27+CC27+CG27+CE27 -> 0 | CJ27: =CB27+CD27+CH27+CF27 -> 0 | CK27: 5 | CM27: =ROUND(CL27*CK27/25*12*2*1.302,1) -> 0 | CO27: =ROUND(CN27*CK27/25*12*2*1.302,1) -> 0 | CQ27: =ROUND(CP27*CK27/20*12*2*1.302,1) -> 0 | CS27: =ROUND(CR27*CK27/12*12*2*1.302,1) -> 0 | CT27: =CL27+CN27+CR27+CP27 -> 0 | CU27: =CM27+CO27+CS27+CQ27 -> 0 | CV27: 5 | CW27: 0 | CX27: =ROUND(CW27*CV27/25*12*2*1.302,1) -> 0 | CZ27: =ROUND(CY27*CV27/25*12*2*1.302,1) -> 0 | DB27: =ROUND(DA27*CV27/20*12*2*1.302,1) -> 0 | DD27: =ROUND(DC27*CV27/12*12*2*1.302,1) -> 0 | DE27: =CW27+CY27+DA27+DC27 -> 0 | DF27: =CX27+CZ27+DB27+DD27 -> 0 | DG27: 5 | DI27: =ROUND(DH27*DG27/25*12*2*1.302,1) -> 0 | DK27: =ROUND(DJ27*DG27/25*12*2*1.302,1) -> 0 | DM27: =ROUND(DL27*DG27/20*12*1.302,1) -> 0 | DO27: =ROUND(DN27*DG27/12*12*1.302,1) -> 0 | DP27: =DH27+DJ27+DL27+DN27 -> 0 | DQ27: =DI27+DK27+DM27+DO27 -> 0 | DR27: 5 | DT27: =ROUND(DS27*DR27/25*12*2*1.302,1) -> 0 | DV27: =ROUND(DU27*DT27/25*12*2*1.302,1) -> 0 | DX27: =ROUND(DW27*DR27/20*12*2*1.302,1) -> 0 | DZ27: =ROUND(DY27*DR27/12*12*2*1.302,1) -> 0 | EA27: =DS27+DU27+DY27+DW27 -> 0 | EB27: =DT27+DV27+DZ27+DX27 -> 0 | EC27: 5 | EE27: =ROUND(ED27*EC27/25*12*2*1.302,1) -> 0 | EG27: =ROUND(EF27*EC27/25*12*2*1.302,1) -> 0 | EI27: =ROUND(EH27*EC27/20*12*2*1.302,1) -> 0 | EK27: =ROUND(EJ27*EC27/12*12*2*1.302,1) -> 0 | EL27: =ED27+EF27+EJ27+EH27 -> 0 | EM27: =EE27+EG27+EK27+EI27 -> 0 | EN27: 5 | EP27: =ROUND(EO27*EN27/25*12*2*1.302,1) -> 0 | ER27: =ROUND(EQ27*EP27/25*12*2*1.302,1) -> 0 | ET27: =ROUND(ES27*EN27/20*12*2*1.302,1) -> 0 | EV27: =ROUND(EU27*EN27/12*12*2*1.302,1) -> 0 | EW27: =EO27+EQ27+EU27+ES27 -> 0 | EX27: =EP27+ER27+EV27+ET27 -> 0 | EY27: 5 | FA27: =ROUND(EZ27*EY27/25*12*2*1.302,1) -> 0 | FC27: =ROUND(FB27*FA27/25*12*2*1.302,1) -> 0 | FE27: =ROUND(FD27*EY27/20*12*2*1.302,1) -> 0 | FG27: =ROUND(FF27*EY27/12*12*2*1.302,1) -> 0 | FH27: =EZ27+FB27+FF27+FD27 -> 0 | FI27: =FA27+FC27+FG27+FE27 -> 0 | FJ27: 5 | FK27: 0 | FL27: =ROUND(FK27*FJ27/25*12*2*1.302,1) -> 0 | FM27: 0 | FN27: =ROUND(FM27*FL27/25*12*2*1.302,1) -> 0 | FO27: 0 | FP27: 0 | FQ27: 0 | FR27: =ROUND(FQ27*FJ27/12*12*2*1.302,1) -> 0 | FS27: =FK27+FM27+FQ27+FO27 -> 0 | FT27: =FL27+FN27+FR27+FP27 -> 0 | FU27: 5 | FW27: =ROUND(FV27*FU27/25*12*2*1.302,1) -> 0 | FY27: =ROUND(FX27*FW27/25*12*2*1.302,1) -> 0 | GA27: =ROUND(FZ27*FU27/20*12*2*1.302,1) -> 0 | GC27: =ROUND(GB27*FU27/12*12*2*1.302,1) -> 0 | GD27: =FV27+FX27+GB27+FZ27 -> 0 | GE27: =FW27+FY27+GC27+GA27 -> 0 | GF27: 5 | GG27: 0 | GH27: =ROUND(GG27*GF27/25*12*2*1.302,1) -> 0 | GJ27: =ROUND(GI27*GH27/25*12*2*1.302,1) -> 0 | GL27: =ROUND(GK27*GF27/20*12*2*1.302,1) -> 0 | GN27: =ROUND(GM27*GF27/12*12*2*1.302,1) -> 0 | GO27: =GG27+GI27+GM27+GK27 -> 0 | GP27: =GH27+GJ27+GN27+GL27 -> 0 | GQ27: 5 | GR27: 0 | GS27: =ROUND(GR27*GQ27/25*12*2*1.302,1) -> 0 | GU27: =ROUND(GT27*GS27/25*12*2*1.302,1) -> 0 | GW27: =ROUND(GV27*GQ27/20*12*2*1.302,1) -> 0 | GX27: 0 | GY27: =ROUND(GX27*GQ27/12*12*2*1.302,1) -> 0 | GZ27: =GR27+GT27+GX27+GV27 -> 0 | HA27: =GS27+GU27+GY27+GW27 -> 0
A28: 4 | B28: =M28+X28+AI28+AT28+BE28+BP28+CA28+CL28+CW28+DH28+DS28+ED28+EO28+EZ28+FK28+FV28+GG28+GR28 -> 0 | C28: =N28+Y28+AJ28+AU28+BF28+BQ28+CB28+CM28+CX28+DI28+DT28+EE28+EP28+FA28+FL28+FW28+GH28+GS28 -> 0 | D28: =O28+Z28+AK28+AV28+BG28+BR28+CC28+CN28+CY28+DJ28+DU28+EF28+EQ28+FB28+FM28+FX28+GI28+GT28 -> 1 | E28: =P28+AA28+AL28+AW28+BH28+BS28+CD28+CO28+CZ28+DK28+DV28+EG28+ER28+FC28+FN28+FY28+GJ28+GU28 -> 5 | F28: =Q28+AB28+AM28+AX28+BI28+BT28+CE28+CP28+DA28+DL28+DW28+EH28+ES28+FD28+FO28+FZ28+GK28+GV28 -> 0 | G28: =R28+AC28+AN28+AY28+BJ28+BU28+CF28+CQ28+DB28+DM28+DX28+EI28+ET28+FE28+FP28+GA28+GL28+GW28 -> 0 | H28: =S28+AD28+AO28+AZ28+BK28+BV28+CG28+CR28+DC28+DN28+DY28+EJ28+EU28+FF28+FQ28+GB28+GM28+GX28 -> 0 | I28: =T28+AE28+AP28+BA28+BL28+BW28+CH28+CS28+DD28+DO28+DZ28+EK28+EV28+FG28+FR28+GC28+GN28+GY28 -> 0 | ... K28: =V28+AG28+AR28+BC28+BN28+BY28+CJ28+CU28+DF28+DQ28+EB28+EM28+EX28+FI28+FT28+GE28+GP28+HA28 -> 5 | L28: 4 | M28: 0 | N28: =ROUND(M28*L28/25*12*2*1.302,1) -> 0 | P28: =ROUND(O28*N28/25*12*2*1.302,1) -> 0 | R28: =ROUND(Q28*L28/20*12*2*1.302,1) -> 0 | T28: =ROUND(S28*L28/12*12*2*1.302,1) -> 0 | U28: =M28+O28+S28+Q28 -> 0 | V28: =N28+P28+T28+R28 -> 0 | W28: 4 | Y28: =ROUND(X28*W28/25*12*2*1.302,1) -> 0 | AA28: =ROUND(Z28*Y28/25*12*2*1.302,1) -> 0 | AC28: =ROUND(AB28*W28/20*12*2*1.302,1) -> 0 | AE28: =ROUND(AD28*W28/12*12*2*1.302,1) -> 0 | AF28: =X28+Z28+AD28+AB28 -> 0 | AG28: =Y28+AA28+AE28+AC28 -> 0 | AH28: 4 | AJ28: =ROUND(AI28*AH28/25*12*2*1.302,1) -> 0 | AK28: 1 | AL28: =ROUND(AK28*AH28/25*12*2*1.302,1) -> 5 | AN28: =ROUND(AM28*AH28/20*12*2*1.302,1) -> 0 | AP28: =ROUND(AO28*AH28/12*12*2*1.302,1) -> 0 | AQ28: =AI28+AK28+AO28+AM28 -> 1 | AR28: =AJ28+AL28+AP28+AN28 -> 5 | AS28: 4 | AU28: =ROUND(AT28*AS28/25*12*2*1.302,1) -> 0 | AW28: =ROUND(AV28*AS28/25*12*2*1.302,1) -> 0 | AY28: =ROUND(AX28*AS28/20*12*2*1.302,1) -> 0 | BA28: =ROUND(AZ28*AS28/12*12*2*1.302,1) -> 0 | BB28: =AT28+AV28+AZ28+AX28 -> 0 | BC28: =AU28+AW28+BA28+AY28 -> 0 | BD28: 4 | BF28: =ROUND(BE28*BD28/25*12*2*1.302,1) -> 0 | BH28: =ROUND(BG28*BF28/25*12*2*1.302,1) -> 0 | BJ28: =ROUND(BI28*BD28/20*12*2*1.302,1) -> 0 | BL28: =ROUND(BK28*BD28/12*12*2*1.302,1) -> 0 | BM28: =BE28+BG28+BK28+BI28 -> 0 | BN28: =BF28+BH28+BL28+BJ28 -> 0 | BO28: 4 | BQ28: =ROUND(BP28*BO28/25*12*2*1.302,1) -> 0 | BS28: =ROUND(BR28*BQ28/25*12*2*1.302,1) -> 0 | BU28: =ROUND(BT28*BO28/20*12*2*1.302,1) -> 0 | BW28: =ROUND(BV28*BO28/12*12*2*1.302,1) -> 0 | BX28: =BP28+BR28+BV28+BT28 -> 0 | BY28: =BQ28+BS28+BW28+BU28 -> 0 | BZ28: 4 | CB28: =ROUND(CA28*BZ28/25*12*2*1.302,1) -> 0 | CD28: =ROUND(CC28*CB28/25*12*2*1.302,1) -> 0 | CF28: =ROUND(CE28*BZ28/20*12*2*1.302,1) -> 0 | CH28: =ROUND(CG28*BZ28/12*12*2*1.302,1) -> 0 | CI28: =CA28+CC28+CG28+CE28 -> 0 | CJ28: =CB28+CD28+CH28+CF28 -> 0 | CK28: 4 | CM28: =ROUND(CL28*CK28/25*12*2*1.302,1) -> 0 | CO28: =ROUND(CN28*CK28/25*12*2*1.302,1) -> 0 | CQ28: =ROUND(CP28*CK28/20*12*2*1.302,1) -> 0 | CS28: =ROUND(CR28*CK28/12*12*2*1.302,1) -> 0 | CT28: =CL28+CN28+CR28+CP28 -> 0 | CU28: =CM28+CO28+CS28+CQ28 -> 0 | CV28: 4 | CW28: 0 | CX28: =ROUND(CW28*CV28/25*12*2*1.302,1) -> 0 | CZ28: =ROUND(CY28*CV28/25*12*2*1.302,1) -> 0 | DB28: =ROUND(DA28*CV28/20*12*2*1.302,1) -> 0 | DD28: =ROUND(DC28*CV28/12*12*2*1.302,1) -> 0 | DE28: =CW28+CY28+DA28+DC28 -> 0 | DF28: =CX28+CZ28+DB28+DD28 -> 0 | DG28: 4 | DI28: =ROUND(DH28*DG28/25*12*2*1.302,1) -> 0 | DK28: =ROUND(DJ28*DG28/25*12*2*1.302,1) -> 0 | DM28: =ROUND(DL28*DG28/20*12*1.302,1) -> 0 | DO28: =ROUND(DN28*DG28/12*12*1.302,1) -> 0 | DP28: =DH28+DJ28+DL28+DN28 -> 0 | DQ28: =DI28+DK28+DM28+DO28 -> 0 | DR28: 4 | DT28: =ROUND(DS28*DR28/25*12*2*1.302,1) -> 0 | DV28: =ROUND(DU28*DT28/25*12*2*1.302,1) -> 0 | DX28: =ROUND(DW28*DR28/20*12*2*1.302,1) -> 0 | DZ28: =ROUND(DY28*DR28/12*12*2*1.302,1) -> 0 | EA28: =DS28+DU28+DY28+DW28 -> 0 | EB28: =DT28+DV28+DZ28+DX28 -> 0 | EC28: 4 | EE28: =ROUND(ED28*EC28/25*12*2*1.302,1) -> 0 | EG28: =ROUND(EF28*EC28/25*12*2*1.302,1) -> 0 | EI28: =ROUND(EH28*EC28/20*12*2*1.302,1) -> 0 | EK28: =ROUND(EJ28*EC28/12*12*2*1.302,1) -> 0 | EL28: =ED28+EF28+EJ28+EH28 -> 0 | EM28: =EE28+EG28+EK28+EI28 -> 0 | EN28: 4 | EP28: =ROUND(EO28*EN28/25*12*2*1.302,1) -> 0 | ER28: =ROUND(EQ28*EP28/25*12*2*1.302,1) -> 0 | ET28: =ROUND(ES28*EN28/20*12*2*1.302,1) -> 0 | EV28: =ROUND(EU28*EN28/12*12*2*1.302,1) -> 0 | EW28: =EO28+EQ28+EU28+ES28 -> 0 | EX28: =EP28+ER28+EV28+ET28 -> 0 | EY28: 4 | FA28: =ROUND(EZ28*EY28/25*12*2*1.302,1) -> 0 | FC28: =ROUND(FB28*FA28/25*12*2*1.302,1) -> 0 | FE28: =ROUND(FD28*EY28/20*12*2*1.302,1) -> 0 | FG28: =ROUND(FF28*EY28/12*12*2*1.302,1) -> 0 | FH28: =EZ28+FB28+FF28+FD28 -> 0 | FI28: =FA28+FC28+FG28+FE28 -> 0 | FJ28: 4 | FK28: 0 | FL28: =ROUND(FK28*FJ28/25*12*2*1.302,1) -> 0 | FM28: 0 | FN28: =ROUND(FM28*FL28/25*12*2*1.302,1) -> 0 | FO28: 0 | FP28: 0 | FQ28: 0 | FR28: =ROUND(FQ28*FJ28/12*12*2*1.302,1) -> 0 | FS28: =FK28+FM28+FQ28+FO28 -> 0 | FT28: =FL28+FN28+FR28+FP28 -> 0 | FU28: 4 | FW28: =ROUND(FV28*FU28/25*12*2*1.302,1) -> 0 | FY28: =ROUND(FX28*FW28/25*12*2*1.302,1) -> 0 | GA28: =ROUND(FZ28*FU28/20*12*2*1.302,1) -> 0 | GC28: =ROUND(GB28*FU28/12*12*2*1.302,1) -> 0 | GD28: =FV28+FX28+GB28+FZ28 -> 0 | GE28: =FW28+FY28+GC28+GA28 -> 0 | GF28: 4 | GG28: 0 | GH28: =ROUND(GG28*GF28/25*12*2*1.302,1) -> 0 | GJ28: =ROUND(GI28*GH28/25*12*2*1.302,1) -> 0 | GL28: =ROUND(GK28*GF28/20*12*2*1.302,1) -> 0 | GN28: =ROUND(GM28*GF28/12*12*2*1.302,1) -> 0 | GO28: =GG28+GI28+GM28+GK28 -> 0 | GP28: =GH28+GJ28+GN28+GL28 -> 0 | GQ28: 4 | GR28: 0 | GS28: =ROUND(GR28*GQ28/25*12*2*1.302,1) -> 0 | GU28: =ROUND(GT28*GS28/25*12*2*1.302,1) -> 0 | GW28: =ROUND(GV28*GQ28/20*12*2*1.302,1) -> 0 | GX28: 0 | GY28: =ROUND(GX28*GQ28/12*12*2*1.302,1) -> 0 | GZ28: =GR28+GT28+GX28+GV28 -> 0 | HA28: =GS28+GU28+GY28+GW28 -> 0
A29: 3 | B29: =M29+X29+AI29+AT29+BE29+BP29+CA29+CL29+CW29+DH29+DS29+ED29+EO29+EZ29+FK29+FV29+GG29+GR29 -> 0 | C29: =N29+Y29+AJ29+AU29+BF29+BQ29+CB29+CM29+CX29+DI29+DT29+EE29+EP29+FA29+FL29+FW29+GH29+GS29 -> 0 | D29: =O29+Z29+AK29+AV29+BG29+BR29+CC29+CN29+CY29+DJ29+DU29+EF29+EQ29+FB29+FM29+FX29+GI29+GT29 -> 0 | E29: =P29+AA29+AL29+AW29+BH29+BS29+CD29+CO29+CZ29+DK29+DV29+EG29+ER29+FC29+FN29+FY29+GJ29+GU29 -> 0 | F29: =Q29+AB29+AM29+AX29+BI29+BT29+CE29+CP29+DA29+DL29+DW29+EH29+ES29+FD29+FO29+FZ29+GK29+GV29 -> 0 | G29: =R29+AC29+AN29+AY29+BJ29+BU29+CF29+CQ29+DB29+DM29+DX29+EI29+ET29+FE29+FP29+GA29+GL29+GW29 -> 0 | H29: =S29+AD29+AO29+AZ29+BK29+BV29+CG29+CR29+DC29+DN29+DY29+EJ29+EU29+FF29+FQ29+GB29+GM29+GX29 -> 0 | I29: =T29+AE29+AP29+BA29+BL29+BW29+CH29+CS29+DD29+DO29+DZ29+EK29+EV29+FG29+FR29+GC29+GN29+GY29 -> 0 | ... K29: =V29+AG29+AR29+BC29+BN29+BY29+CJ29+CU29+DF29+DQ29+EB29+EM29+EX29+FI29+FT29+GE29+GP29+HA29 -> 0 | L29: 3 | M29: 0 | N29: =ROUND(M29*L29/25*12*2*1.302,1) -> 0 | P29: =ROUND(O29*N29/25*12*2*1.302,1) -> 0 | R29: =ROUND(Q29*L29/20*12*2*1.302,1) -> 0 | T29: =ROUND(S29*L29/12*12*2*1.302,1) -> 0 | U29: =M29+O29+S29+Q29 -> 0 | V29: =N29+P29+T29+R29 -> 0 | W29: 3 | Y29: =ROUND(X29*W29/25*12*2*1.302,1) -> 0 | AA29: =ROUND(Z29*Y29/25*12*2*1.302,1) -> 0 | AC29: =ROUND(AB29*W29/20*12*2*1.302,1) -> 0 | AE29: =ROUND(AD29*W29/12*12*2*1.302,1) -> 0 | AF29: =X29+Z29+AD29+AB29 -> 0 | AG29: =Y29+AA29+AE29+AC29 -> 0 | AH29: 3 | AJ29: =ROUND(AI29*AH29/25*12*2*1.302,1) -> 0 | AL29: =ROUND(AK29*AH29/25*12*2*1.302,1) -> 0 | AN29: =ROUND(AM29*AH29/20*12*2*1.302,1) -> 0 | AP29: =ROUND(AO29*AH29/12*12*2*1.302,1) -> 0 | AQ29: =AI29+AK29+AO29+AM29 -> 0 | AR29: =AJ29+AL29+AP29+AN29 -> 0 | AS29: 3 | AU29: =ROUND(AT29*AS29/25*12*2*1.302,1) -> 0 | AW29: =ROUND(AV29*AS29/25*12*2*1.302,1) -> 0 | AY29: =ROUND(AX29*AS29/20*12*2*1.302,1) -> 0 | BA29: =ROUND(AZ29*AS29/12*12*2*1.302,1) -> 0 | BB29: =AT29+AV29+AZ29+AX29 -> 0 | BC29: =AU29+AW29+BA29+AY29 -> 0 | BD29: 3 | BF29: =ROUND(BE29*BD29/25*12*2*1.302,1) -> 0 | BH29: =ROUND(BG29*BF29/25*12*2*1.302,1) -> 0 | BJ29: =ROUND(BI29*BD29/20*12*2*1.302,1) -> 0 | BL29: =ROUND(BK29*BD29/12*12*2*1.302,1) -> 0 | BM29: =BE29+BG29+BK29+BI29 -> 0 | BN29: =BF29+BH29+BL29+BJ29 -> 0 | BO29: 3 | BQ29: =ROUND(BP29*BO29/25*12*2*1.302,1) -> 0 | BS29: =ROUND(BR29*BQ29/25*12*2*1.302,1) -> 0 | BU29: =ROUND(BT29*BO29/20*12*2*1.302,1) -> 0 | BW29: =ROUND(BV29*BO29/12*12*2*1.302,1) -> 0 | BX29: =BP29+BR29+BV29+BT29 -> 0 | BY29: =BQ29+BS29+BW29+BU29 -> 0 | BZ29: 3 | CB29: =ROUND(CA29*BZ29/25*12*2*1.302,1) -> 0 | CD29: =ROUND(CC29*CB29/25*12*2*1.302,1) -> 0 | CF29: =ROUND(CE29*BZ29/20*12*2*1.302,1) -> 0 | CH29: =ROUND(CG29*BZ29/12*12*2*1.302,1) -> 0 | CI29: =CA29+CC29+CG29+CE29 -> 0 | CJ29: =CB29+CD29+CH29+CF29 -> 0 | CK29: 3 | CM29: =ROUND(CL29*CK29/25*12*2*1.302,1) -> 0 | CO29: =ROUND(CN29*CK29/25*12*2*1.302,1) -> 0 | CQ29: =ROUND(CP29*CK29/20*12*2*1.302,1) -> 0 | CS29: =ROUND(CR29*CK29/12*12*2*1.302,1) -> 0 | CT29: =CL29+CN29+CR29+CP29 -> 0 | CU29: =CM29+CO29+CS29+CQ29 -> 0 | CV29: 3 | CW29: 0 | CX29: =ROUND(CW29*CV29/25*12*2*1.302,1) -> 0 | CZ29: =ROUND(CY29*CV29/25*12*2*1.302,1) -> 0 | DB29: =ROUND(DA29*CV29/20*12*2*1.302,1) -> 0 | DD29: =ROUND(DC29*CV29/12*12*2*1.302,1) -> 0 | DE29: =CW29+CY29+DA29+DC29 -> 0 | DF29: =CX29+CZ29+DB29+DD29 -> 0 | DG29: 3 | DI29: =ROUND(DH29*DG29/25*12*2*1.302,1) -> 0 | DK29: =ROUND(DJ29*DG29/25*12*2*1.302,1) -> 0 | DM29: =ROUND(DL29*DG29/20*12*1.302,1) -> 0 | DO29: =ROUND(DN29*DG29/12*12*1.302,1) -> 0 | DP29: =DH29+DJ29+DL29+DN29 -> 0 | DQ29: =DI29+DK29+DM29+DO29 -> 0 | DR29: 3 | DT29: =ROUND(DS29*DR29/25*12*2*1.302,1) -> 0 | DV29: =ROUND(DU29*DT29/25*12*2*1.302,1) -> 0 | DX29: =ROUND(DW29*DR29/20*12*2*1.302,1) -> 0 | DZ29: =ROUND(DY29*DR29/12*12*2*1.302,1) -> 0 | EA29: =DS29+DU29+DY29+DW29 -> 0 | EB29: =DT29+DV29+DZ29+DX29 -> 0 | EC29: 3 | EE29: =ROUND(ED29*EC29/25*12*2*1.302,1) -> 0 | EG29: =ROUND(EF29*EC29/25*12*2*1.302,1) -> 0 | EI29: =ROUND(EH29*EC29/20*12*2*1.302,1) -> 0 | EK29: =ROUND(EJ29*EC29/12*12*2*1.302,1) -> 0 | EL29: =ED29+EF29+EJ29+EH29 -> 0 | EM29: =EE29+EG29+EK29+EI29 -> 0 | EN29: 3 | EP29: =ROUND(EO29*EN29/25*12*2*1.302,1) -> 0 | ER29: =ROUND(EQ29*EP29/25*12*2*1.302,1) -> 0 | ET29: =ROUND(ES29*EN29/20*12*2*1.302,1) -> 0 | EV29: =ROUND(EU29*EN29/12*12*2*1.302,1) -> 0 | EW29: =EO29+EQ29+EU29+ES29 -> 0 | EX29: =EP29+ER29+EV29+ET29 -> 0 | EY29: 3 | FA29: =ROUND(EZ29*EY29/25*12*2*1.302,1) -> 0 | FC29: =ROUND(FB29*FA29/25*12*2*1.302,1) -> 0 | FE29: =ROUND(FD29*EY29/20*12*2*1.302,1) -> 0 | FG29: =ROUND(FF29*EY29/12*12*2*1.302,1) -> 0 | FH29: =EZ29+FB29+FF29+FD29 -> 0 | FI29: =FA29+FC29+FG29+FE29 -> 0 | FJ29: 3 | FK29: 0 | FL29: =ROUND(FK29*FJ29/25*12*2*1.302,1) -> 0 | FM29: 0 | FN29: =ROUND(FM29*FL29/25*12*2*1.302,1) -> 0 | FO29: 0 | FP29: 0 | FQ29: 0 | FR29: =ROUND(FQ29*FJ29/12*12*2*1.302,1) -> 0 | FS29: =FK29+FM29+FQ29+FO29 -> 0 | FT29: =FL29+FN29+FR29+FP29 -> 0 | FU29: 3 | FW29: =ROUND(FV29*FU29/25*12*2*1.302,1) -> 0 | FY29: =ROUND(FX29*FW29/25*12*2*1.302,1) -> 0 | GA29: =ROUND(FZ29*FU29/20*12*2*1.302,1) -> 0 | GC29: =ROUND(GB29*FU29/12*12*2*1.302,1) -> 0 | GD29: =FV29+FX29+GB29+FZ29 -> 0 | GE29: =FW29+FY29+GC29+GA29 -> 0 | GF29: 3 | GG29: 0 | GH29: =ROUND(GG29*GF29/25*12*2*1.302,1) -> 0 | GJ29: =ROUND(GI29*GH29/25*12*2*1.302,1) -> 0 | GL29: =ROUND(GK29*GF29/20*12*2*1.302,1) -> 0 | GN29: =ROUND(GM29*GF29/12*12*2*1.302,1) -> 0 | GO29: =GG29+GI29+GM29+GK29 -> 0 | GP29: =GH29+GJ29+GN29+GL29 -> 0 | GQ29: 3 | GR29: 0 | GS29: =ROUND(GR29*GQ29/25*12*2*1.302,1) -> 0 | GU29: =ROUND(GT29*GS29/25*12*2*1.302,1) -> 0 | GW29: =ROUND(GV29*GQ29/20*12*2*1.302,1) -> 0 | GX29: 0 | GY29: =ROUND(GX29*GQ29/12*12*2*1.302,1) -> 0 | GZ29: =GR29+GT29+GX29+GV29 -> 0 | HA29: =GS29+GU29+GY29+GW29 -> 0
A30: 2 | B30: =M30+X30+AI30+AT30+BE30+BP30+CA30+CL30+CW30+DH30+DS30+ED30+EO30+EZ30+FK30+FV30+GG30+GR30 -> 0 | C30: =N30+Y30+AJ30+AU30+BF30+BQ30+CB30+CM30+CX30+DI30+DT30+EE30+EP30+FA30+FL30+FW30+GH30+GS30 -> 0 | D30: =O30+Z30+AK30+AV30+BG30+BR30+CC30+CN30+CY30+DJ30+DU30+EF30+EQ30+FB30+FM30+FX30+GI30+GT30 -> 1 | E30: =P30+AA30+AL30+AW30+BH30+BS30+CD30+CO30+CZ30+DK30+DV30+EG30+ER30+FC30+FN30+FY30+GJ30+GU30 -> 2.5 | F30: =Q30+AB30+AM30+AX30+BI30+BT30+CE30+CP30+DA30+DL30+DW30+EH30+ES30+FD30+FO30+FZ30+GK30+GV30 -> 0 | G30: =R30+AC30+AN30+AY30+BJ30+BU30+CF30+CQ30+DB30+DM30+DX30+EI30+ET30+FE30+FP30+GA30+GL30+GW30 -> 0 | H30: =S30+AD30+AO30+AZ30+BK30+BV30+CG30+CR30+DC30+DN30+DY30+EJ30+EU30+FF30+FQ30+GB30+GM30+GX30 -> 0 | I30: =T30+AE30+AP30+BA30+BL30+BW30+CH30+CS30+DD30+DO30+DZ30+EK30+EV30+FG30+FR30+GC30+GN30+GY30 -> 0 | ... K30: =V30+AG30+AR30+BC30+BN30+BY30+CJ30+CU30+DF30+DQ30+EB30+EM30+EX30+FI30+FT30+GE30+GP30+HA30 -> 2.5 | L30: 2 | M30: 0 | N30: =ROUND(M30*L30/25*12*2*1.302,1) -> 0 | P30: =ROUND(O30*N30/25*12*2*1.302,1) -> 0 | R30: =ROUND(Q30*L30/20*12*2*1.302,1) -> 0 | T30: =ROUND(S30*L30/12*12*2*1.302,1) -> 0 | U30: =M30+O30+S30+Q30 -> 0 | V30: =N30+P30+T30+R30 -> 0 | W30: 2 | Y30: =ROUND(X30*W30/25*12*2*1.302,1) -> 0 | AA30: =ROUND(Z30*Y30/25*12*2*1.302,1) -> 0 | AC30: =ROUND(AB30*W30/20*12*2*1.302,1) -> 0 | AE30: =ROUND(AD30*W30/12*12*2*1.302,1) -> 0 | AF30: =X30+Z30+AD30+AB30 -> 0 | AG30: =Y30+AA30+AE30+AC30 -> 0 | AH30: 2 | AJ30: =ROUND(AI30*AH30/25*12*2*1.302,1) -> 0 | AK30: 1 | AL30: =ROUND(AK30*AH30/25*12*2*1.302,1) -> 2.5 | AN30: =ROUND(AM30*AH30/20*12*2*1.302,1) -> 0 | AP30: =ROUND(AO30*AH30/12*12*2*1.302,1) -> 0 | AQ30: =AI30+AK30+AO30+AM30 -> 1 | AR30: =AJ30+AL30+AP30+AN30 -> 2.5 | AS30: 2 | AU30: =ROUND(AT30*AS30/25*12*2*1.302,1) -> 0 | AW30: =ROUND(AV30*AS30/25*12*2*1.302,1) -> 0 | AY30: =ROUND(AX30*AS30/20*12*2*1.302,1) -> 0 | BA30: =ROUND(AZ30*AS30/12*12*2*1.302,1) -> 0 | BB30: =AT30+AV30+AZ30+AX30 -> 0 | BC30: =AU30+AW30+BA30+AY30 -> 0 | BD30: 2 | BE30: 0 | BF30: =ROUND(BE30*BD30/25*12*2*1.302,1) -> 0 | BH30: =ROUND(BG30*BF30/25*12*2*1.302,1) -> 0 | BJ30: =ROUND(BI30*BD30/20*12*2*1.302,1) -> 0 | BL30: =ROUND(BK30*BD30/12*12*2*1.302,1) -> 0 | BM30: =BE30+BG30+BK30+BI30 -> 0 | BN30: =BF30+BH30+BL30+BJ30 -> 0 | BO30: 2 | BQ30: =ROUND(BP30*BO30/25*12*2*1.302,1) -> 0 | BS30: =ROUND(BR30*BQ30/25*12*2*1.302,1) -> 0 | BU30: =ROUND(BT30*BO30/20*12*2*1.302,1) -> 0 | BW30: =ROUND(BV30*BO30/12*12*2*1.302,1) -> 0 | BX30: =BP30+BR30+BV30+BT30 -> 0 | BY30: =BQ30+BS30+BW30+BU30 -> 0 | BZ30: 2 | CB30: =ROUND(CA30*BZ30/25*12*2*1.302,1) -> 0 | CD30: =ROUND(CC30*CB30/25*12*2*1.302,1) -> 0 | CF30: =ROUND(CE30*BZ30/20*12*2*1.302,1) -> 0 | CH30: =ROUND(CG30*BZ30/12*12*2*1.302,1) -> 0 | CI30: =CA30+CC30+CG30+CE30 -> 0 | CJ30: =CB30+CD30+CH30+CF30 -> 0 | CK30: 2 | CM30: =ROUND(CL30*CK30/25*12*2*1.302,1) -> 0 | CO30: =ROUND(CN30*CK30/25*12*2*1.302,1) -> 0 | CQ30: =ROUND(CP30*CK30/20*12*2*1.302,1) -> 0 | CS30: =ROUND(CR30*CK30/12*12*2*1.302,1) -> 0 | CT30: =CL30+CN30+CR30+CP30 -> 0 | CU30: =CM30+CO30+CS30+CQ30 -> 0 | CV30: 2 | CW30: 0 | CX30: =ROUND(CW30*CV30/25*12*2*1.302,1) -> 0 | CZ30: =ROUND(CY30*CV30/25*12*2*1.302,1) -> 0 | DB30: =ROUND(DA30*CV30/20*12*2*1.302,1) -> 0 | DD30: =ROUND(DC30*CV30/12*12*2*1.302,1) -> 0 | DE30: =CW30+CY30+DA30+DC30 -> 0 | DF30: =CX30+CZ30+DB30+DD30 -> 0 | DG30: 2 | DH30: 0 | DI30: =ROUND(DH30*DG30/25*12*2*1.302,1) -> 0 | DK30: =ROUND(DJ30*DG30/25*12*2*1.302,1) -> 0 | DM30: =ROUND(DL30*DG30/20*12*1.302,1) -> 0 | DO30: =ROUND(DN30*DG30/12*12*1.302,1) -> 0 | DP30: =DH30+DJ30+DL30+DN30 -> 0 | DQ30: =DI30+DK30+DM30+DO30 -> 0 | DR30: 2 | DT30: =ROUND(DS30*DR30/25*12*2*1.302,1) -> 0 | DV30: =ROUND(DU30*DT30/25*12*2*1.302,1) -> 0 | DX30: =ROUND(DW30*DR30/20*12*2*1.302,1) -> 0 | DZ30: =ROUND(DY30*DR30/12*12*2*1.302,1) -> 0 | EA30: =DS30+DU30+DY30+DW30 -> 0 | EB30: =DT30+DV30+DZ30+DX30 -> 0 | EC30: 2 | EE30: =ROUND(ED30*EC30/25*12*2*1.302,1) -> 0 | EG30: =ROUND(EF30*EC30/25*12*2*1.302,1) -> 0 | EI30: =ROUND(EH30*EC30/20*12*2*1.302,1) -> 0 | EK30: =ROUND(EJ30*EC30/12*12*2*1.302,1) -> 0 | EL30: =ED30+EF30+EJ30+EH30 -> 0 | EM30: =EE30+EG30+EK30+EI30 -> 0 | EN30: 2 | EP30: =ROUND(EO30*EN30/25*12*2*1.302,1) -> 0 | ER30: =ROUND(EQ30*EP30/25*12*2*1.302,1) -> 0 | ET30: =ROUND(ES30*EN30/20*12*2*1.302,1) -> 0 | EV30: =ROUND(EU30*EN30/12*12*2*1.302,1) -> 0 | EW30: =EO30+EQ30+EU30+ES30 -> 0 | EX30: =EP30+ER30+EV30+ET30 -> 0 | EY30: 2 | FA30: =ROUND(EZ30*EY30/25*12*2*1.302,1) -> 0 | FC30: =ROUND(FB30*FA30/25*12*2*1.302,1) -> 0 | FE30: =ROUND(FD30*EY30/20*12*2*1.302,1) -> 0 | FG30: =ROUND(FF30*EY30/12*12*2*1.302,1) -> 0 | FH30: =EZ30+FB30+FF30+FD30 -> 0 | FI30: =FA30+FC30+FG30+FE30 -> 0 | FJ30: 2 | FK30: 0 | FL30: =ROUND(FK30*FJ30/25*12*2*1.302,1) -> 0 | FM30: 0 | FN30: =ROUND(FM30*FL30/25*12*2*1.302,1) -> 0 | FO30: 0 | FP30: 0 | FQ30: 0 | FR30: =ROUND(FQ30*FJ30/12*12*2*1.302,1) -> 0 | FS30: =FK30+FM30+FQ30+FO30 -> 0 | FT30: =FL30+FN30+FR30+FP30 -> 0 | FU30: 2 | FW30: =ROUND(FV30*FU30/25*12*2*1.302,1) -> 0 | FY30: =ROUND(FX30*FW30/25*12*2*1.302,1) -> 0 | GA30: =ROUND(FZ30*FU30/20*12*2*1.302,1) -> 0 | GC30: =ROUND(GB30*FU30/12*12*2*1.302,1) -> 0 | GD30: =FV30+FX30+GB30+FZ30 -> 0 | GE30: =FW30+FY30+GC30+GA30 -> 0 | GF30: 2 | GG30: 0 | GH30: =ROUND(GG30*GF30/25*12*2*1.302,1) -> 0 | GJ30: =ROUND(GI30*GH30/25*12*2*1.302,1) -> 0 | GL30: =ROUND(GK30*GF30/20*12*2*1.302,1) -> 0 | GN30: =ROUND(GM30*GF30/12*12*2*1.302,1) -> 0 | GO30: =GG30+GI30+GM30+GK30 -> 0 | GP30: =GH30+GJ30+GN30+GL30 -> 0 | GQ30: 2 | GR30: 0 | GS30: =ROUND(GR30*GQ30/25*12*2*1.302,1) -> 0 | GU30: =ROUND(GT30*GS30/25*12*2*1.302,1) -> 0 | GW30: =ROUND(GV30*GQ30/20*12*2*1.302,1) -> 0 | GX30: 0 | GY30: =ROUND(GX30*GQ30/12*12*2*1.302,1) -> 0 | GZ30: =GR30+GT30+GX30+GV30 -> 0 | HA30: =GS30+GU30+GY30+GW30 -> 0
A31: ИТОГО | B31: =SUM(B7:B30) -> 4106 | C31: =SUM(C7:D30) -> 123403.7 | D31: =SUM(D7:D30) -> 24 | E31: =SUM(E7:F30) -> 449.7 | F31: =SUM(F7:G30) -> 0 | G31: =SUM(G7:H30) -> 144 | H31: =SUM(H7:I30) -> 4510.3 | I31: =SUM(I7:I30) -> 4366.3 | J31: =SUM(J7:J30) -> 4274 | K31: =SUM(K7:K30) -> 128195.7 | L31: ИТОГО | M31: =SUM(M7:M30) -> 147 | N31: =SUM(N7:N30) -> 4450.9 | O31: =SUM(O7:O30) -> 0 | P31: =SUM(P7:P30) -> 0 | Q31: =SUM(Q7:Q30) -> 0 | R31: =SUM(R7:R30) -> 0 | S31: =SUM(S7:S30) -> 9 | T31: =SUM(T7:T30) -> 270.7 | ... V31: =SUM(V7:V30) -> 4721.6 | W31: ИТОГО | X31: =SUM(X7:X30) -> 61 | Y31: =SUM(Y7:Z30) -> 1851.1 | Z31: =SUM(Z7:AA30) -> 0 | AA31: =SUM(AA7:AB30) -> 0 | AB31: =SUM(AB7:AC30) -> 0 | AC31: =SUM(AC7:AD30) -> 4 | AD31: =SUM(AD7:AE30) -> 123.7 | AE31: =SUM(AE7:AF30) -> 184.7 | AF31: =SUM(AF7:AF29) -> 65 | AG31: =SUM(AG7:AG30) -> 1970.8 | AH31: ИТОГО | AI31: =SUM(AI7:AI30) -> 239 | AJ31: =SUM(AJ7:AJ30) -> 7248.3 | AK31: =SUM(AK7:AK30) -> 5 | AL31: =SUM(AL7:AL30) -> 41.1 | AM31: =SUM(AM7:AM30) -> 0 | AN31: =SUM(AN7:AN30) -> 0 | AO31: =SUM(AO7:AO30) -> 0 | AP31: =SUM(AP7:AP30) -> 0 | ... AR31: =SUM(AR7:AR30) -> 7289.4 | AS31: ИТОГО | AT31: =SUM(AT7:AT30) -> 643 | AU31: =SUM(AU7:AU30) -> 19752.5 | AV31: =SUM(AV7:AV30) -> 4 | AW31: =SUM(AW7:AW30) -> 70 | AX31: =SUM(AX7:AY30) -> 0 | AY31: =SUM(AY7:AZ30) -> 0 | AZ31: =SUM(AZ7:BA30) -> 0 | BA31: =SUM(BA7:BA30) -> 0 | BB31: =SUM(BB7:BB30) -> 647 | BC31: =SUM(BC7:BC30) -> 19822.5 | BD31: ИТОГО | BE31: =SUM(BE7:BE30) -> 463 | BF31: =SUM(BF7:BF30) -> 14044 | BG31: =SUM(BG7:BG30) -> 0 | BH31: =SUM(BH7:BH30) -> 0 | BI31: =SUM(BI7:BI30) -> 0 | BJ31: =SUM(BJ7:BJ30) -> 0 | BK31: =SUM(BK7:BK30) -> 13 | BL31: =SUM(BL7:BL30) -> 361.9 | ... BN31: =SUM(BN7:BN30) -> 14405.9 | BO31: ИТОГО | BP31: =SUM(BP7:BP30) -> 497 | BQ31: =SUM(BQ7:BQ30) -> 14631.5 | BR31: =SUM(BR7:BR30) -> 0 | BS31: =SUM(BS7:BS30) -> 0 | BT31: =SUM(BT7:BT30) -> 0 | BU31: =SUM(BU7:BU30) -> 0 | BV31: =SUM(BV7:BV30) -> 28 | BW31: =SUM(BW7:BW30) -> 838.4 | ... BY31: =SUM(BY7:BY30) -> 15469.9 | BZ31: ИТОГО | CA31: =SUM(CA7:CA30) -> 220 | CB31: =SUM(CB7:CB30) -> 6679.5 | CC31: =SUM(CC7:CD30) -> 0 | CD31: =SUM(CD7:CE30) -> 0 | CE31: =SUM(CE7:CF30) -> 0 | CF31: =SUM(CF7:CG30) -> 13 | CG31: =SUM(CG7:CH30) -> 406.2 | CH31: =SUM(CH7:CI30) -> 626.2 | CI31: =SUM(CI7:CI30) -> 233 | CJ31: =SUM(CJ7:CJ30) -> 7072.7 | CK31: ИТОГО | CL31: =SUM(CL7:CL30) -> 233 | CM31: =SUM(CM7:CM30) -> 7091.9 | CN31: =SUM(CN7:CN30) -> 1 | CO31: =SUM(CO7:CP30) -> 31.2 | CP31: =SUM(CP7:CQ30) -> 0 | CQ31: 0 | CR31: =SUM(CR7:CR30) -> 12 | CS31: =SUM(CS7:CS30) -> 375 | CT31: =SUM(CT7:CT30) -> 246 | CU31: =SUM(CU7:CU30) -> 7498.1 | CV31: ИТОГО | CW31: =SUM(CW7:CW30) -> 295 | CX31: =SUM(CX7:CX30) -> 8743.1 | CY31: =SUM(CY7:CY30) -> 2 | CZ31: =SUM(CZ7:CZ30) -> 46.2 | DA31: =SUM(DA7:DA30) -> 0 | DB31: =SUM(DB7:DB30) -> 0 | DC31: =SUM(DC7:DC30) -> 0 | DD31: =SUM(DD7:DD30) -> 0 | ... DF31: =SUM(DF7:DF30) -> 8789.3 | DG31: ИТОГО | DH31: =SUM(DH7:DH30) -> 82 | DI31: =SUM(DI7:DI30) -> 2412.3 | DJ31: =SUM(DJ7:DJ30) -> 2 | DK31: =SUM(DK7:DK30) -> 42.5 | DL31: =SUM(DL7:DL30) -> 0 | DM31: =SUM(DM7:DM30) -> 0 | DN31: =SUM(DN7:DN30) -> 9 | DO31: =SUM(DO7:DO30) -> 281.2 | ... DQ31: =SUM(DQ7:DQ30) -> 2736 | DR31: ИТОГО | DS31: =SUM(DS7:DS30) -> 25 | DT31: =SUM(DT7:DU30) -> 533.5 | DU31: =SUM(DU7:DV30) -> 0 | DV31: =SUM(DV7:DW30) -> 0 | DW31: =SUM(DW7:DX30) -> 0 | DX31: =SUM(DX7:DY30) -> 2 | DY31: =SUM(DY20:DY30) -> 2 | DZ31: =SUM(DZ7:EA30) -> 89.5 | EA31: =SUM(EA7:EA30) -> 27 | EB31: =SUM(EB7:EB30) -> 596 | EC31: ИТОГО | ED31: =SUM(ED7:ED30) -> 159 | EE31: =SUM(EE7:EE30) -> 4656 | EF31: =SUM(EF7:EF30) -> 10 | EG31: =SUM(EG7:EH30) -> 218.7 | EH31: =SUM(EH7:EI30) -> 0 | EI31: =SUM(EI7:EJ30) -> 1 | EJ31: =SUM(EJ7:EJ30) -> 1 | EK31: =SUM(EK20:EK30) -> 26 | EL31: =SUM(EL7:EL30) -> 170 | EM31: =SUM(EM7:EM30) -> 4900.7 | EN31: ИТОГО | EO31: =SUM(EO7:EO30) -> 106 | EP31: =SUM(EP7:EP30) -> 3058.4 | EQ31: =SUM(EQ7:EQ30) -> 0 | ER31: =SUM(ER7:ER30) -> 0 | ES31: =SUM(ES7:ES30) -> 0 | ET31: =SUM(ET7:ET30) -> 0 | EU31: =SUM(EU7:EU30) -> 1 | EV31: =SUM(EV7:EV30) -> 31.2 | ... EX31: =SUM(EX7:EX30) -> 3089.6 | EY31: ИТОГО | EZ31: =SUM(EZ7:EZ30) -> 83 | FA31: =SUM(FA7:FA30) -> 2487.2 | FB31: =SUM(FB7:FB30) -> 0 | FC31: =SUM(FC7:FC30) -> 0 | FD31: =SUM(FD7:FD30) -> 0 | FE31: =SUM(FE7:FE30) -> 0 | FF31: =SUM(FF7:FF30) -> 14 | FG31: =SUM(FG7:FG30) -> 432.2 | ... FI31: =SUM(FI7:FI30) -> 2919.4 | FJ31: ИТОГО | FK31: =SUM(FK7:FK30) -> 108 | FL31: =SUM(FL7:FL30) -> 3343.5 | FM31: =SUM(FM7:FM30) -> 0 | FN31: =SUM(FN7:FN30) -> 0 | FO31: =SUM(FO7:FO30) -> 0 | FP31: =SUM(FP7:FP30) -> 0 | FQ31: =SUM(FQ7:FQ30) -> 14 | FR31: =SUM(FR7:FR30) -> 434.8 | ... FT31: =SUM(FT7:FT30) -> 3778.3 | FU31: ИТОГО | FV31: =SUM(FV7:FV30) -> 228 | FW31: =SUM(FW7:FX30) -> 6930.8 | FX31: =SUM(FX7:FY30) -> 0 | FY31: =SUM(FY7:FZ30) -> 0 | FZ31: =SUM(FZ7:GA30) -> 0 | GA31: =SUM(GA7:GB30) -> 11 | GB31: =SUM(GB20:GB30) -> 11 | GC31: =SUM(GC7:GD30) -> 582.7 | GD31: =SUM(GD7:GD30) -> 239 | GE31: =SUM(GE7:GE30) -> 7274.5 | GF31: ИТОГО | GG31: =SUM(GG7:GG30) -> 291 | GH31: =SUM(GH7:GI30) -> 8590.7 | GI31: =SUM(GI7:GJ30) -> 0 | GJ31: =SUM(GJ7:GK30) -> 0 | GK31: =SUM(GK7:GL30) -> 0 | GL31: =SUM(GL7:GM30) -> 0 | GM31: =SUM(GM7:GN30) -> 0 | GN31: =SUM(GN7:GN30) -> 0 | GO31: =SUM(GO7:GO30) -> 291 | GP31: =SUM(GP7:GP30) -> 8590.7 | GQ31: ИТОГО | GR31: =SUM(GR7:GR30) -> 226 | GS31: =SUM(GS7:GS30) -> 6874.5 | GT31: =SUM(GT7:GU30) -> 0 | GU31: =SUM(GU7:GV30) -> 0 | GV31: =SUM(GV7:GW30) -> 0 | GW31: =SUM(GW7:GX30) -> 13 | GX31: =SUM(GX7:GX30) -> 13 | GY31: =SUM(GY7:GY30) -> 395.8 | GZ31: =SUM(GZ7:GZ30) -> 239 | HA31: =SUM(HA7:HA30) -> 7270.3
A32: СЕЛО | L32: СЕЛО | W32: СЕЛО | AH32: СЕЛО | AS32: СЕЛО | BD32: СЕЛО | BO32: СЕЛО | BZ32: СЕЛО | CK32: СЕЛО | CV32: СЕЛО | DG32: СЕЛО | DR32: СЕЛО | EC32: СЕЛО | EN32: СЕЛО | EY32: СЕЛО | FJ32: СЕЛО | FU32: СЕЛО | GF32: СЕЛО | GQ32: СЕЛО
A33: 14 | B33: =M33+X33+AI33+AT33+BE33+BP33+CA33+CL33+CW33+DH33+DS33+ED33+EO33+EZ33+FK33+FV33+GG33+GR33 -> 1712 | C33: =N33+Y33+AJ33+AU33+BF33+BQ33+CB33+CM33+CX33+DI33+DT33+EE33+EP33+FA33+FL33+FW33+GH33+GS33 -> 53496.6 | D33: =O33+Z33+AK33+AV33+BG33+BR33+CC33+CN33+CY33+DJ33+DU33+EF33+EQ33+FB33+FM33+FX33+GI33+GT33 -> 20 | E33: =P33+AA33+AL33+AW33+BH33+BS33+CD33+CO33+CZ33+DK33+DV33+EG33+ER33+FC33+FN33+FY33+GJ33+GU33 -> 624.9 | F33: =Q33+AB33+AM33+AX33+BI33+BT33+CE33+CP33+DA33+DL33+DW33+EH33+ES33+FD33+FO33+FZ33+GK33+GV33 -> 13 | G33: =R33+AC33+AN33+AY33+BJ33+BU33+CF33+CQ33+DB33+DM33+DX33+EI33+ET33+FE33+FP33+GA33+GL33+GW33 -> 406.2 | H33: =S33+AD33+AO33+AZ33+BK33+BV33+CG33+CR33+DC33+DN33+DY33+EJ33+EU33+FF33+FQ33+GB33+GM33+GX33 -> 0 | I33: =T33+AE33+AP33+BA33+BL33+BW33+CH33+CS33+DD33+DO33+DZ33+EK33+EV33+FG33+FR33+GC33+GN33+GY33 -> 0 | ... K33: =V33+AG33+AR33+BC33+BN33+BY33+CJ33+CU33+DF33+DQ33+EB33+EM33+EX33+FI33+FT33+GE33+GP33+HA33 -> 54527.7 | L33: 14 | M33: 8 | N33: =ROUND(M33*L33/14*12*2*1.302,1) -> 250 | P33: =ROUND(O33*N33/14*12*2*1.302,1) -> 0 | R33: =ROUND(Q33*L33/14*12*2*1.302,1) -> 0 | U33: =M33+O33+S33+Q33 -> 8 | V33: =N33+P33+T33+R33 -> 250 | W33: 14 | X33: 105 | Y33: =ROUND(X33*W33/14*12*2*1.302,1) -> 3281 | AA33: =ROUND(Z33*Y33/14*12*2*1.302,1) -> 0 | AC33: =ROUND(AB33*W33/14*12*2*1.302,1) -> 0 | AF33: =X33+Z33+AD33+AB33 -> 105 | AG33: =Y33+AA33+AE33+AC33 -> 3281 | AH33: 14 | AI33: 42 | AJ33: =ROUND(AI33*AH33/14*12*2*1.302,1) -> 1312.4 | AL33: =ROUND(AK33*AJ33/14*12*2*1.302,1) -> 0 | AN33: =ROUND(AM33*AH33/14*12*2*1.302,1) -> 0 | AQ33: =AI33+AK33+AO33+AM33 -> 42 | AR33: =AJ33+AL33+AP33+AN33 -> 1312.4 | AS33: 14 | AT33: 624 | AU33: =ROUND(AT33*AS33/14*12*2*1.302,1) -> 19498.8 | AV33: 13 | AW33: =ROUND(AV33*AS33/14*12*2*1.302,1) -> 406.2 | AY33: =ROUND(AX33*AS33/14*12*2*1.302,1) -> 0 | BB33: =AT33+AV33+AZ33+AX33 -> 637 | BC33: =AU33+AW33+BA33+AY33 -> 19905 | BD33: 14 | BE33: 146 | BF33: =ROUND(BE33*BD33/14*12*2*1.302,1) -> 4562.2 | BH33: =ROUND(BG33*BF33/14*12*2*1.302,1) -> 0 | BJ33: =ROUND(BI33*BD33/14*12*2*1.302,1) -> 0 | BM33: =BE33+BG33+BK33+BI33 -> 146 | BN33: =BF33+BH33+BL33+BJ33 -> 4562.2 | BO33: 14 | BP33: 210 | BQ33: =ROUND(BP33*BO33/14*12*2*1.302,1) -> 6562.1 | BR33: 4 | BS33: =ROUND(BR33*BO33/14*12*2*1.302,1) -> 125 | BU33: =ROUND(BT33*BO33/14*12*2*1.302,1) -> 0 | BX33: =BP33+BR33+BV33+BT33 -> 214 | BY33: =BQ33+BS33+BW33+BU33 -> 6687.1 | BZ33: 14 | CA33: 52 | CB33: =ROUND(CA33*BZ33/14*12*2*1.302,1) -> 1624.9 | CD33: =ROUND(CC33*CB33/14*12*2*1.302,1) -> 0 | CF33: =ROUND(CE33*BZ33/14*12*2*1.302,1) -> 0 | CI33: =CA33+CC33+CG33+CE33 -> 52 | CJ33: =CB33+CD33+CH33+CF33 -> 1624.9 | CK33: 14 | CL33: 12 | CM33: =ROUND(CL33*CK33/14*12*2*1.302,1) -> 375 | CO33: =ROUND(CN33*CM33/14*12*2*1.302,1) -> 0 | CQ33: =ROUND(CP33*CK33/14*12*2*1.302,1) -> 0 | CT33: =CL33+CN33+CR33+CP33 -> 12 | CU33: =CM33+CO33+CS33+CQ33 -> 375 | CV33: 14 | CW33: 17 | CX33: =ROUND(CW33*CV33/14*12*2*1.302,1) -> 531.2 | CZ33: =ROUND(CY33*CV33/14*12*2*1.302,1) -> 0 | DB33: =ROUND(DA33*CV33/14*12*2*1.302,1) -> 0 | DD33: =ROUND(DC33*CV33/12*12*2*1.302,1) -> 0 | DE33: =CW33+CY33+DA33+DC33 -> 17 | DF33: =CX33+CZ33+DB33+DD33 -> 531.2 | DG33: 14 | DH33: 16 | DI33: =ROUND(DH33*DG33/14*12*2*1.302,1) -> 500 | DK33: =ROUND(DJ33*DG33/14*12*2*1.302,1) -> 0 | DM33: =ROUND(DL33*DG33/14*12*1.302,1) -> 0 | DP33: =DH33+DJ33+DL33+DN33 -> 16 | DQ33: =DI33+DK33+DM33+DO33 -> 500 | DR33: 14 | DS33: 185 | DT33: =ROUND(DS33*DR33/14*12*2*1.302,1) -> 5780.9 | DV33: =ROUND(DU33*DT33/14*12*2*1.302,1) -> 0 | DX33: =ROUND(DW33*DR33/14*12*2*1.302,1) -> 0 | DZ33: =ROUND(DY33*DR33/12*12*2*1.302,1) -> 0 | EA33: =DS33+DU33+DY33+DW33 -> 185 | EB33: =DT33+DV33+DZ33+DX33 -> 5780.9 | EC33: 14 | ED33: 63 | EE33: =ROUND(ED33*EC33/14*12*2*1.302,1) -> 1968.6 | EG33: =ROUND(EF33*EC33/14*12*2*1.302,1) -> 0 | EI33: =ROUND(EH33*EC33/14*12*2*1.302,1) -> 0 | EL33: =ED33+EF33+EJ33+EH33 -> 63 | EM33: =EE33+EG33+EK33+EI33 -> 1968.6 | EN33: 14 | EO33: 9 | EP33: =ROUND(EO33*EN33/14*12*2*1.302,1) -> 281.2 | ER33: =ROUND(EQ33*EP33/14*12*2*1.302,1) -> 0 | ET33: =ROUND(ES33*EN33/14*12*2*1.302,1) -> 0 | EW33: =EO33+EQ33+EU33+ES33 -> 9 | EX33: =EP33+ER33+EV33+ET33 -> 281.2 | EY33: 14 | EZ33: 116 | FA33: =ROUND(EZ33*EY33/14*12*2*1.302,1) -> 3624.8 | FB33: 2 | FC33: =ROUND(FB33*EY33/14*12*2*1.302,1) -> 62.5 | FE33: =ROUND(FD33*EY33/14*12*2*1.302,1) -> 0 | FH33: =EZ33+FB33+FF33+FD33 -> 118 | FI33: =FA33+FC33+FG33+FE33 -> 3687.3 | FJ33: 14 | FK33: 6 | FL33: =ROUND(FK33*FJ33/14*12*2*1.302,1) -> 187.5 | FM33: 1 | FN33: =ROUND(FM33*FJ33/14*12*2*1.302,1) -> 31.2 | FO33: 0 | FP33: 0 | FS33: =FK33+FM33+FQ33+FO33 -> 7 | FT33: =FL33+FN33+FR33+FP33 -> 218.7 | FU33: 14 | FV33: 7 | FW33: =ROUND(FV33*FU33/14*12*2*1.302,1) -> 218.7 | FY33: =ROUND(FX33*FW33/14*12*2*1.302,1) -> 0 | GA33: =ROUND(FZ33*FU33/14*12*2*1.302,1) -> 0 | GD33: =FV33+FX33+GB33+FZ33 -> 7 | GE33: =FW33+FY33+GC33+GA33 -> 218.7 | GF33: 14 | GG33: 94 | GH33: =ROUND(GG33*GF33/14*12*2*1.302,1) -> 2937.3 | GJ33: =ROUND(GI33*GH33/14*12*2*1.302,1) -> 0 | GK33: 13 | GL33: =ROUND(GK33*GF33/14*12*2*1.302,1) -> 406.2 | GO33: =GG33+GI33+GM33+GK33 -> 107 | GP33: =GH33+GJ33+GN33+GL33 -> 3343.5 | GQ33: 14 | GS33: =ROUND(GR33*GQ33/14*12*2*1.302,1) -> 0 | GU33: =ROUND(GT33*GS33/14*12*2*1.302,1) -> 0 | GW33: =ROUND(GV33*GQ33/14*12*2*1.302,1) -> 0 | GZ33: =GR33+GT33+GX33+GV33 -> 0 | HA33: =GS33+GU33+GY33+GW33 -> 0
A34: 13 | B34: =M34+X34+AI34+AT34+BE34+BP34+CA34+CL34+CW34+DH34+DS34+ED34+EO34+EZ34+FK34+FV34+GG34+GR34 -> 90 | C34: =N34+Y34+AJ34+AU34+BF34+BQ34+CB34+CM34+CX34+DI34+DT34+EE34+EP34+FA34+FL34+FW34+GH34+GS34 -> 2611.6 | D34: =O34+Z34+AK34+AV34+BG34+BR34+CC34+CN34+CY34+DJ34+DU34+EF34+EQ34+FB34+FM34+FX34+GI34+GT34 -> 1 | E34: =P34+AA34+AL34+AW34+BH34+BS34+CD34+CO34+CZ34+DK34+DV34+EG34+ER34+FC34+FN34+FY34+GJ34+GU34 -> 29 | F34: =Q34+AB34+AM34+AX34+BI34+BT34+CE34+CP34+DA34+DL34+DW34+EH34+ES34+FD34+FO34+FZ34+GK34+GV34 -> 0 | G34: =R34+AC34+AN34+AY34+BJ34+BU34+CF34+CQ34+DB34+DM34+DX34+EI34+ET34+FE34+FP34+GA34+GL34+GW34 -> 0 | H34: =S34+AD34+AO34+AZ34+BK34+BV34+CG34+CR34+DC34+DN34+DY34+EJ34+EU34+FF34+FQ34+GB34+GM34+GX34 -> 0 | I34: =T34+AE34+AP34+BA34+BL34+BW34+CH34+CS34+DD34+DO34+DZ34+EK34+EV34+FG34+FR34+GC34+GN34+GY34 -> 0 | ... K34: =V34+AG34+AR34+BC34+BN34+BY34+CJ34+CU34+DF34+DQ34+EB34+EM34+EX34+FI34+FT34+GE34+GP34+HA34 -> 2640.6 | L34: 13 | M34: 2 | N34: =ROUND(M34*L34/14*12*2*1.302,1) -> 58 | P34: =ROUND(O34*N34/14*12*2*1.302,1) -> 0 | R34: =ROUND(Q34*L34/14*12*2*1.302,1) -> 0 | U34: =M34+O34+S34+Q34 -> 2 | V34: =N34+P34+T34+R34 -> 58 | W34: 13 | X34: 5 | Y34: =ROUND(X34*W34/14*12*2*1.302,1) -> 145.1 | AA34: =ROUND(Z34*Y34/14*12*2*1.302,1) -> 0 | AC34: =ROUND(AB34*W34/14*12*2*1.302,1) -> 0 | AF34: =X34+Z34+AD34+AB34 -> 5 | AG34: =Y34+AA34+AE34+AC34 -> 145.1 | AH34: 13 | AI34: 5 | AJ34: =ROUND(AI34*AH34/14*12*2*1.302,1) -> 145.1 | AL34: =ROUND(AK34*AJ34/14*12*2*1.302,1) -> 0 | AN34: =ROUND(AM34*AH34/14*12*2*1.302,1) -> 0 | AQ34: =AI34+AK34+AO34+AM34 -> 5 | AR34: =AJ34+AL34+AP34+AN34 -> 145.1 | AS34: 13 | AU34: =ROUND(AT34*AS34/14*12*2*1.302,1) -> 0 | AW34: =ROUND(AV34*AS34/14*12*1.302,1) -> 0 | AY34: =ROUND(AX34*AS34/14*12*2*1.302,1) -> 0 | BB34: =AT34+AV34+AZ34+AX34 -> 0 | BC34: =AU34+AW34+BA34+AY34 -> 0 | BD34: 13 | BE34: 11 | BF34: =ROUND(BE34*BD34/14*12*2*1.302,1) -> 319.2 | BH34: =ROUND(BG34*BF34/14*12*2*1.302,1) -> 0 | BJ34: =ROUND(BI34*BD34/14*12*2*1.302,1) -> 0 | BM34: =BE34+BG34+BK34+BI34 -> 11 | BN34: =BF34+BH34+BL34+BJ34 -> 319.2 | BO34: 13 | BP34: 22 | BQ34: =ROUND(BP34*BO34/14*12*2*1.302,1) -> 638.4 | BS34: =ROUND(BR34*BO34/14*12*2*1.302,1) -> 0 | BU34: =ROUND(BT34*BO34/14*12*2*1.302,1) -> 0 | BX34: =BP34+BR34+BV34+BT34 -> 22 | BY34: =BQ34+BS34+BW34+BU34 -> 638.4 | BZ34: 13 | CA34: 5 | CB34: =ROUND(CA34*BZ34/14*12*2*1.302,1) -> 145.1 | CD34: =ROUND(CC34*CB34/14*12*2*1.302,1) -> 0 | CF34: =ROUND(CE34*BZ34/14*12*2*1.302,1) -> 0 | CI34: =CA34+CC34+CG34+CE34 -> 5 | CJ34: =CB34+CD34+CH34+CF34 -> 145.1 | CK34: 13 | CL34: 3 | CM34: =ROUND(CL34*CK34/14*12*2*1.302,1) -> 87 | CO34: =ROUND(CN34*CM34/14*12*2*1.302,1) -> 0 | CQ34: =ROUND(CP34*CK34/14*12*2*1.302,1) -> 0 | CT34: =CL34+CN34+CR34+CP34 -> 3 | CU34: =CM34+CO34+CS34+CQ34 -> 87 | CV34: 13 | CW34: 1 | CX34: =ROUND(CW34*CV34/14*12*2*1.302,1) -> 29 | CZ34: =ROUND(CY34*CV34/14*12*2*1.302,1) -> 0 | DB34: =ROUND(DA34*CV34/14*12*2*1.302,1) -> 0 | DD34: =ROUND(DC34*CV34/12*12*2*1.302,1) -> 0 | DE34: =CW34+CY34+DA34+DC34 -> 1 | DF34: =CX34+CZ34+DB34+DD34 -> 29 | DG34: 13 | DH34: 6 | DI34: =ROUND(DH34*DG34/14*12*2*1.302,1) -> 174.1 | DK34: =ROUND(DJ34*DG34/14*12*2*1.302,1) -> 0 | DM34: =ROUND(DL34*DG34/14*12*1.302,1) -> 0 | DP34: =DH34+DJ34+DL34+DN34 -> 6 | DQ34: =DI34+DK34+DM34+DO34 -> 174.1 | DR34: 13 | DS34: 4 | DT34: =ROUND(DS34*DR34/14*12*2*1.302,1) -> 116.1 | DV34: =ROUND(DU34*DT34/14*12*2*1.302,1) -> 0 | DX34: =ROUND(DW34*DR34/14*12*2*1.302,1) -> 0 | DY34: 0 | DZ34: =ROUND(DY34*DR34/12*12*2*1.302,1) -> 0 | EA34: =DS34+DU34+DY34+DW34 -> 4 | EB34: =DT34+DV34+DZ34+DX34 -> 116.1 | EC34: 13 | ED34: 6 | EE34: =ROUND(ED34*EC34/14*12*2*1.302,1) -> 174.1 | EG34: =ROUND(EF34*EC34/14*12*2*1.302,1) -> 0 | EI34: =ROUND(EH34*EC34/14*12*2*1.302,1) -> 0 | EL34: =ED34+EF34+EJ34+EH34 -> 6 | EM34: =EE34+EG34+EK34+EI34 -> 174.1 | EN34: 13 | EP34: =ROUND(EO34*EN34/14*12*2*1.302,1) -> 0 | ER34: =ROUND(EQ34*EP34/14*12*2*1.302,1) -> 0 | ET34: =ROUND(ES34*EN34/14*12*2*1.302,1) -> 0 | EW34: =EO34+EQ34+EU34+ES34 -> 0 | EX34: =EP34+ER34+EV34+ET34 -> 0 | EY34: 13 | EZ34: 10 | FA34: =ROUND(EZ34*EY34/14*12*2*1.302,1) -> 290.2 | FB34: 1 | FC34: =ROUND(FB34*EY34/14*12*2*1.302,1) -> 29 | FE34: =ROUND(FD34*EY34/14*12*2*1.302,1) -> 0 | FH34: =EZ34+FB34+FF34+FD34 -> 11 | FI34: =FA34+FC34+FG34+FE34 -> 319.2 | FJ34: 13 | FK34: 0 | FL34: =ROUND(FK34*FJ34/14*12*2*1.302,1) -> 0 | FM34: 0 | FN34: =ROUND(FM34*FJ34/14*12*2*1.302,1) -> 0 | FO34: 0 | FP34: 0 | FS34: =FK34+FM34+FQ34+FO34 -> 0 | FT34: =FL34+FN34+FR34+FP34 -> 0 | FU34: 13 | FV34: 4 | FW34: =ROUND(FV34*FU34/14*12*2*1.302,1) -> 116.1 | FY34: =ROUND(FX34*FW34/14*12*2*1.302,1) -> 0 | GA34: =ROUND(FZ34*FU34/14*12*2*1.302,1) -> 0 | GD34: =FV34+FX34+GB34+FZ34 -> 4 | GE34: =FW34+FY34+GC34+GA34 -> 116.1 | GF34: 13 | GG34: 6 | GH34: =ROUND(GG34*GF34/14*12*2*1.302,1) -> 174.1 | GJ34: =ROUND(GI34*GH34/14*12*2*1.302,1) -> 0 | GL34: =ROUND(GK34*GF34/14*12*2*1.302,1) -> 0 | GO34: =GG34+GI34+GM34+GK34 -> 6 | GP34: =GH34+GJ34+GN34+GL34 -> 174.1 | GQ34: 13 | GS34: =ROUND(GR34*GQ34/14*12*2*1.302,1) -> 0 | GU34: =ROUND(GT34*GS34/14*12*2*1.302,1) -> 0 | GW34: =ROUND(GV34*GQ34/14*12*2*1.302,1) -> 0 | GZ34: =GR34+GT34+GX34+GV34 -> 0 | HA34: =GS34+GU34+GY34+GW34 -> 0
A35: 12 | B35: =M35+X35+AI35+AT35+BE35+BP35+CA35+CL35+CW35+DH35+DS35+ED35+EO35+EZ35+FK35+FV35+GG35+GR35 -> 96 | C35: =N35+Y35+AJ35+AU35+BF35+BQ35+CB35+CM35+CX35+DI35+DT35+EE35+EP35+FA35+FL35+FW35+GH35+GS35 -> 2571.4 | D35: =O35+Z35+AK35+AV35+BG35+BR35+CC35+CN35+CY35+DJ35+DU35+EF35+EQ35+FB35+FM35+FX35+GI35+GT35 -> 1 | E35: =P35+AA35+AL35+AW35+BH35+BS35+CD35+CO35+CZ35+DK35+DV35+EG35+ER35+FC35+FN35+FY35+GJ35+GU35 -> 26.8 | F35: =Q35+AB35+AM35+AX35+BI35+BT35+CE35+CP35+DA35+DL35+DW35+EH35+ES35+FD35+FO35+FZ35+GK35+GV35 -> 0 | G35: =R35+AC35+AN35+AY35+BJ35+BU35+CF35+CQ35+DB35+DM35+DX35+EI35+ET35+FE35+FP35+GA35+GL35+GW35 -> 0 | H35: =S35+AD35+AO35+AZ35+BK35+BV35+CG35+CR35+DC35+DN35+DY35+EJ35+EU35+FF35+FQ35+GB35+GM35+GX35 -> 5 | I35: =T35+AE35+AP35+BA35+BL35+BW35+CH35+CS35+DD35+DO35+DZ35+EK35+EV35+FG35+FR35+GC35+GN35+GY35 -> 156.1 | ... K35: =V35+AG35+AR35+BC35+BN35+BY35+CJ35+CU35+DF35+DQ35+EB35+EM35+EX35+FI35+FT35+GE35+GP35+HA35 -> 2754.3 | L35: 12 | M35: 1 | N35: =ROUND(M35*L35/14*12*2*1.302,1) -> 26.8 | P35: =ROUND(O35*N35/14*12*2*1.302,1) -> 0 | R35: =ROUND(Q35*L35/14*12*2*1.302,1) -> 0 | T35: =ROUND(S35*L35/12*12*2*1.302,1) -> 0 | U35: =M35+O35+S35+Q35 -> 1 | V35: =N35+P35+T35+R35 -> 26.8 | W35: 12 | X35: 9 | Y35: =ROUND(X35*W35/14*12*2*1.302,1) -> 241.1 | AA35: =ROUND(Z35*Y35/14*12*2*1.302,1) -> 0 | AC35: =ROUND(AB35*W35/14*12*2*1.302,1) -> 0 | AE35: =ROUND(AD35*W35/12*12*2*1.302,1) -> 0 | AF35: =X35+Z35+AD35+AB35 -> 9 | AG35: =Y35+AA35+AE35+AC35 -> 241.1 | AH35: 12 | AI35: 15 | AJ35: =ROUND(AI35*AH35/14*12*2*1.302,1) -> 401.8 | AL35: =ROUND(AK35*AJ35/14*12*2*1.302,1) -> 0 | AN35: =ROUND(AM35*AH35/14*12*2*1.302,1) -> 0 | AP35: =ROUND(AO35*AH35/12*12*2*1.302,1) -> 0 | AQ35: =AI35+AK35+AO35+AM35 -> 15 | AR35: =AJ35+AL35+AP35+AN35 -> 401.8 | AS35: 12 | AU35: =ROUND(AT35*AS35/14*12*2*1.302,1) -> 0 | AW35: =ROUND(AV35*AS35/14*12*1.302,1) -> 0 | AY35: =ROUND(AX35*AS35/14*12*2*1.302,1) -> 0 | BA35: =ROUND(AZ35*AS35/12*12*2*1.302,1) -> 0 | BB35: =AT35+AV35+AZ35+AX35 -> 0 | BC35: =AU35+AW35+BA35+AY35 -> 0 | BD35: 12 | BE35: 13 | BF35: =ROUND(BE35*BD35/14*12*2*1.302,1) -> 348.2 | BH35: =ROUND(BG35*BF35/14*12*2*1.302,1) -> 0 | BJ35: =ROUND(BI35*BD35/14*12*2*1.302,1) -> 0 | BL35: =ROUND(BK35*BD35/12*12*2*1.302,1) -> 0 | BM35: =BE35+BG35+BK35+BI35 -> 13 | BN35: =BF35+BH35+BL35+BJ35 -> 348.2 | BO35: 12 | BP35: 20 | BQ35: =ROUND(BP35*BO35/14*12*2*1.302,1) -> 535.7 | BS35: =ROUND(BR35*BO35/14*12*2*1.302,1) -> 0 | BU35: =ROUND(BT35*BO35/14*12*2*1.302,1) -> 0 | BV35: 1 | BW35: =ROUND(BV35*BO35/12*12*2*1.302,1) -> 31.2 | BX35: =BP35+BR35+BV35+BT35 -> 21 | BY35: =BQ35+BS35+BW35+BU35 -> 566.9 | BZ35: 12 | CA35: 7 | CB35: =ROUND(CA35*BZ35/14*12*2*1.302,1) -> 187.5 | CD35: =ROUND(CC35*CB35/14*12*2*1.302,1) -> 0 | CF35: =ROUND(CE35*BZ35/14*12*2*1.302,1) -> 0 | CH35: =ROUND(CG35*BZ35/12*12*2*1.302,1) -> 0 | CI35: =CA35+CC35+CG35+CE35 -> 7 | CJ35: =CB35+CD35+CH35+CF35 -> 187.5 | CK35: 12 | CM35: =ROUND(CL35*CK35/14*12*2*1.302,1) -> 0 | CO35: =ROUND(CN35*CM35/14*12*2*1.302,1) -> 0 | CQ35: =ROUND(CP35*CK35/14*12*2*1.302,1) -> 0 | CS35: =ROUND(CR35*CK35/12*12*2*1.302,1) -> 0 | CT35: =CL35+CN35+CR35+CP35 -> 0 | CU35: =CM35+CO35+CS35+CQ35 -> 0 | CV35: 12 | CW35: 1 | CX35: =ROUND(CW35*CV35/14*12*2*1.302,1) -> 26.8 | CZ35: =ROUND(CY35*CV35/14*12*2*1.302,1) -> 0 | DB35: =ROUND(DA35*CV35/14*12*2*1.302,1) -> 0 | DD35: =ROUND(DC35*CV35/12*12*2*1.302,1) -> 0 | DE35: =CW35+CY35+DA35+DC35 -> 1 | DF35: =CX35+CZ35+DB35+DD35 -> 26.8 | DG35: 12 | DH35: 4 | DI35: =ROUND(DH35*DG35/14*12*2*1.302,1) -> 107.1 | DK35: =ROUND(DJ35*DG35/14*12*2*1.302,1) -> 0 | DM35: =ROUND(DL35*DG35/14*12*1.302,1) -> 0 | DN35: 1 | DO35: =ROUND(DN35*DG35/12*12*2*1.302,1) -> 31.2 | DP35: =DH35+DJ35+DL35+DN35 -> 5 | DQ35: =DI35+DK35+DM35+DO35 -> 138.3 | DR35: 12 | DS35: 4 | DT35: =ROUND(DS35*DR35/14*12*2*1.302,1) -> 107.1 | DV35: =ROUND(DU35*DT35/14*12*2*1.302,1) -> 0 | DX35: =ROUND(DW35*DR35/14*12*2*1.302,1) -> 0 | DZ35: =ROUND(DY35*DR35/12*12*2*1.302,1) -> 0 | EA35: =DS35+DU35+DY35+DW35 -> 4 | EB35: =DT35+DV35+DZ35+DX35 -> 107.1 | EC35: 12 | ED35: 10 | EE35: =ROUND(ED35*EC35/14*12*2*1.302,1) -> 267.8 | EF35: 1 | EG35: =ROUND(EF35*EC35/14*12*2*1.302,1) -> 26.8 | EI35: =ROUND(EH35*EC35/14*12*2*1.302,1) -> 0 | EK35: =ROUND(EJ35*EC35/12*12*2*1.302,1) -> 0 | EL35: =ED35+EF35+EJ35+EH35 -> 11 | EM35: =EE35+EG35+EK35+EI35 -> 294.6 | EN35: 12 | EP35: =ROUND(EO35*EN35/14*12*2*1.302,1) -> 0 | ER35: =ROUND(EQ35*EP35/14*12*2*1.302,1) -> 0 | ET35: =ROUND(ES35*EN35/14*12*2*1.302,1) -> 0 | EV35: =ROUND(EU35*EN35/12*12*2*1.302,1) -> 0 | EW35: =EO35+EQ35+EU35+ES35 -> 0 | EX35: =EP35+ER35+EV35+ET35 -> 0 | EY35: 12 | EZ35: 5 | FA35: =ROUND(EZ35*EY35/14*12*2*1.302,1) -> 133.9 | FC35: =ROUND(FB35*EY35/14*12*2*1.302,1) -> 0 | FE35: =ROUND(FD35*EY35/14*12*2*1.302,1) -> 0 | FG35: =ROUND(FF35*EY35/12*12*2*1.302,1) -> 0 | FH35: =EZ35+FB35+FF35+FD35 -> 5 | FI35: =FA35+FC35+FG35+FE35 -> 133.9 | FJ35: 12 | FK35: 1 | FL35: =ROUND(FK35*FJ35/14*12*2*1.302,1) -> 26.8 | FM35: 0 | FN35: =ROUND(FM35*FJ35/14*12*2*1.302,1) -> 0 | FO35: 0 | FP35: 0 | FQ35: 0 | FR35: 0 | FS35: =FK35+FM35+FQ35+FO35 -> 1 | FT35: =FL35+FN35+FR35+FP35 -> 26.8 | FU35: 12 | FV35: 3 | FW35: =ROUND(FV35*FU35/14*12*2*1.302,1) -> 80.4 | FY35: =ROUND(FX35*FW35/14*12*2*1.302,1) -> 0 | GA35: =ROUND(FZ35*FU35/14*12*2*1.302,1) -> 0 | GC35: =ROUND(GB35*FU35/12*12*2*1.302,1) -> 0 | GD35: =FV35+FX35+GB35+FZ35 -> 3 | GE35: =FW35+FY35+GC35+GA35 -> 80.4 | GF35: 12 | GG35: 3 | GH35: =ROUND(GG35*GF35/14*12*2*1.302,1) -> 80.4 | GJ35: =ROUND(GI35*GH35/14*12*2*1.302,1) -> 0 | GL35: =ROUND(GK35*GF35/14*12*2*1.302,1) -> 0 | GM35: 3 | GN35: =ROUND(GM35*GF35/12*12*2*1.302,1) -> 93.7 | GO35: =GG35+GI35+GM35+GK35 -> 6 | GP35: =GH35+GJ35+GN35+GL35 -> 174.1 | GQ35: 12 | GS35: =ROUND(GR35*GQ35/14*12*2*1.302,1) -> 0 | GU35: =ROUND(GT35*GS35/14*12*2*1.302,1) -> 0 | GW35: =ROUND(GV35*GQ35/14*12*2*1.302,1) -> 0 | GY35: =ROUND(GX35*GQ35/12*12*2*1.302,1) -> 0 | GZ35: =GR35+GT35+GX35+GV35 -> 0 | HA35: =GS35+GU35+GY35+GW35 -> 0
A36: 11 | B36: =M36+X36+AI36+AT36+BE36+BP36+CA36+CL36+CW36+DH36+DS36+ED36+EO36+EZ36+FK36+FV36+GG36+GR36 -> 84 | C36: =N36+Y36+AJ36+AU36+BF36+BQ36+CB36+CM36+CX36+DI36+DT36+EE36+EP36+FA36+FL36+FW36+GH36+GS36 -> 2062.5 | D36: =O36+Z36+AK36+AV36+BG36+BR36+CC36+CN36+CY36+DJ36+DU36+EF36+EQ36+FB36+FM36+FX36+GI36+GT36 -> 2 | E36: =P36+AA36+AL36+AW36+BH36+BS36+CD36+CO36+CZ36+DK36+DV36+EG36+ER36+FC36+FN36+FY36+GJ36+GU36 -> 49.2 | F36: =Q36+AB36+AM36+AX36+BI36+BT36+CE36+CP36+DA36+DL36+DW36+EH36+ES36+FD36+FO36+FZ36+GK36+GV36 -> 0 | G36: =R36+AC36+AN36+AY36+BJ36+BU36+CF36+CQ36+DB36+DM36+DX36+EI36+ET36+FE36+FP36+GA36+GL36+GW36 -> 0 | H36: =S36+AD36+AO36+AZ36+BK36+BV36+CG36+CR36+DC36+DN36+DY36+EJ36+EU36+FF36+FQ36+GB36+GM36+GX36 -> 1 | I36: =T36+AE36+AP36+BA36+BL36+BW36+CH36+CS36+DD36+DO36+DZ36+EK36+EV36+FG36+FR36+GC36+GN36+GY36 -> 28.6 | ... K36: =V36+AG36+AR36+BC36+BN36+BY36+CJ36+CU36+DF36+DQ36+EB36+EM36+EX36+FI36+FT36+GE36+GP36+HA36 -> 2140.3 | L36: 11 | M36: 2 | N36: =ROUND(M36*L36/14*12*2*1.302,1) -> 49.1 | P36: =ROUND(O36*N36/14*12*2*1.302,1) -> 0 | R36: =ROUND(Q36*L36/14*12*2*1.302,1) -> 0 | T36: =ROUND(S36*L36/12*12*2*1.302,1) -> 0 | U36: =M36+O36+S36+Q36 -> 2 | V36: =N36+P36+T36+R36 -> 49.1 | W36: 11 | X36: 6 | Y36: =ROUND(X36*W36/14*12*2*1.302,1) -> 147.3 | AA36: =ROUND(Z36*Y36/14*12*2*1.302,1) -> 0 | AC36: =ROUND(AB36*W36/14*12*2*1.302,1) -> 0 | AE36: =ROUND(AD36*W36/12*12*2*1.302,1) -> 0 | AF36: =X36+Z36+AD36+AB36 -> 6 | AG36: =Y36+AA36+AE36+AC36 -> 147.3 | AH36: 11 | AI36: 9 | AJ36: =ROUND(AI36*AH36/14*12*2*1.302,1) -> 221 | AL36: =ROUND(AK36*AJ36/14*12*2*1.302,1) -> 0 | AN36: =ROUND(AM36*AH36/14*12*2*1.302,1) -> 0 | AP36: =ROUND(AO36*AH36/12*12*2*1.302,1) -> 0 | AQ36: =AI36+AK36+AO36+AM36 -> 9 | AR36: =AJ36+AL36+AP36+AN36 -> 221 | AS36: 11 | AU36: =ROUND(AT36*AS36/14*12*2*1.302,1) -> 0 | AW36: =ROUND(AV36*AS36/14*12*1.302,1) -> 0 | AY36: =ROUND(AX36*AS36/14*12*2*1.302,1) -> 0 | BA36: =ROUND(AZ36*AS36/12*12*2*1.302,1) -> 0 | BB36: =AT36+AV36+AZ36+AX36 -> 0 | BC36: =AU36+AW36+BA36+AY36 -> 0 | BD36: 11 | BE36: 8 | BF36: =ROUND(BE36*BD36/14*12*2*1.302,1) -> 196.4 | BH36: =ROUND(BG36*BF36/14*12*2*1.302,1) -> 0 | BJ36: =ROUND(BI36*BD36/14*12*2*1.302,1) -> 0 | BL36: =ROUND(BK36*BD36/12*12*2*1.302,1) -> 0 | BM36: =BE36+BG36+BK36+BI36 -> 8 | BN36: =BF36+BH36+BL36+BJ36 -> 196.4 | BO36: 11 | BP36: 19 | BQ36: =ROUND(BP36*BO36/14*12*2*1.302,1) -> 466.5 | BR36: 1 | BS36: =ROUND(BR36*BO36/14*12*2*1.302,1) -> 24.6 | BU36: =ROUND(BT36*BO36/14*12*2*1.302,1) -> 0 | BW36: =ROUND(BV36*BO36/12*12*2*1.302,1) -> 0 | BX36: =BP36+BR36+BV36+BT36 -> 20 | BY36: =BQ36+BS36+BW36+BU36 -> 491.1 | BZ36: 11 | CA36: 5 | CB36: =ROUND(CA36*BZ36/14*12*2*1.302,1) -> 122.8 | CD36: =ROUND(CC36*CB36/14*12*2*1.302,1) -> 0 | CF36: =ROUND(CE36*BZ36/14*12*2*1.302,1) -> 0 | CH36: =ROUND(CG36*BZ36/12*12*2*1.302,1) -> 0 | CI36: =CA36+CC36+CG36+CE36 -> 5 | CJ36: =CB36+CD36+CH36+CF36 -> 122.8 | CK36: 11 | CL36: 1 | CM36: =ROUND(CL36*CK36/14*12*2*1.302,1) -> 24.6 | CO36: =ROUND(CN36*CM36/14*12*2*1.302,1) -> 0 | CQ36: =ROUND(CP36*CK36/14*12*2*1.302,1) -> 0 | CS36: =ROUND(CR36*CK36/12*12*2*1.302,1) -> 0 | CT36: =CL36+CN36+CR36+CP36 -> 1 | CU36: =CM36+CO36+CS36+CQ36 -> 24.6 | CV36: 11 | CW36: 5 | CX36: =ROUND(CW36*CV36/14*12*2*1.302,1) -> 122.8 | CZ36: =ROUND(CY36*CV36/14*12*2*1.302,1) -> 0 | DB36: =ROUND(DA36*CV36/14*12*2*1.302,1) -> 0 | DD36: =ROUND(DC36*CV36/12*12*2*1.302,1) -> 0 | DE36: =CW36+CY36+DA36+DC36 -> 5 | DF36: =CX36+CZ36+DB36+DD36 -> 122.8 | DG36: 11 | DH36: 2 | DI36: =ROUND(DH36*DG36/14*12*2*1.302,1) -> 49.1 | DK36: =ROUND(DJ36*DG36/14*12*2*1.302,1) -> 0 | DM36: =ROUND(DL36*DG36/14*12*1.302,1) -> 0 | DO36: =ROUND(DN36*DG36/12*12*2*1.302,1) -> 0 | DP36: =DH36+DJ36+DL36+DN36 -> 2 | DQ36: =DI36+DK36+DM36+DO36 -> 49.1 | DR36: 11 | DS36: 2 | DT36: =ROUND(DS36*DR36/14*12*2*1.302,1) -> 49.1 | DV36: =ROUND(DU36*DT36/14*12*2*1.302,1) -> 0 | DX36: =ROUND(DW36*DR36/14*12*2*1.302,1) -> 0 | DY36: 1 | DZ36: =ROUND(DY36*DR36/12*12*2*1.302,1) -> 28.6 | EA36: =DS36+DU36+DY36+DW36 -> 3 | EB36: =DT36+DV36+DZ36+DX36 -> 77.7 | EC36: 11 | ED36: 4 | EE36: =ROUND(ED36*EC36/14*12*2*1.302,1) -> 98.2 | EG36: =ROUND(EF36*EC36/14*12*2*1.302,1) -> 0 | EI36: =ROUND(EH36*EC36/14*12*2*1.302,1) -> 0 | EK36: =ROUND(EJ36*EC36/12*12*2*1.302,1) -> 0 | EL36: =ED36+EF36+EJ36+EH36 -> 4 | EM36: =EE36+EG36+EK36+EI36 -> 98.2 | EN36: 11 | EP36: =ROUND(EO36*EN36/14*12*2*1.302,1) -> 0 | ER36: =ROUND(EQ36*EP36/14*12*2*1.302,1) -> 0 | ET36: =ROUND(ES36*EN36/14*12*2*1.302,1) -> 0 | EV36: =ROUND(EU36*EN36/12*12*2*1.302,1) -> 0 | EW36: =EO36+EQ36+EU36+ES36 -> 0 | EX36: =EP36+ER36+EV36+ET36 -> 0 | EY36: 11 | EZ36: 6 | FA36: =ROUND(EZ36*EY36/14*12*2*1.302,1) -> 147.3 | FB36: 1 | FC36: =ROUND(FB36*EY36/14*12*2*1.302,1) -> 24.6 | FE36: =ROUND(FD36*EY36/14*12*2*1.302,1) -> 0 | FG36: =ROUND(FF36*EY36/12*12*2*1.302,1) -> 0 | FH36: =EZ36+FB36+FF36+FD36 -> 7 | FI36: =FA36+FC36+FG36+FE36 -> 171.9 | FJ36: 11 | FK36: 3 | FL36: =ROUND(FK36*FJ36/14*12*2*1.302,1) -> 73.7 | FM36: 0 | FN36: =ROUND(FM36*FJ36/14*12*2*1.302,1) -> 0 | FO36: 0 | FP36: 0 | FQ36: 0 | FR36: 0 | FS36: =FK36+FM36+FQ36+FO36 -> 3 | FT36: =FL36+FN36+FR36+FP36 -> 73.7 | FU36: 11 | FV36: 8 | FW36: =ROUND(FV36*FU36/14*12*2*1.302,1) -> 196.4 | FY36: =ROUND(FX36*FW36/14*12*2*1.302,1) -> 0 | GA36: =ROUND(FZ36*FU36/14*12*2*1.302,1) -> 0 | GC36: =ROUND(GB36*FU36/12*12*2*1.302,1) -> 0 | GD36: =FV36+FX36+GB36+FZ36 -> 8 | GE36: =FW36+FY36+GC36+GA36 -> 196.4 | GF36: 11 | GG36: 4 | GH36: =ROUND(GG36*GF36/14*12*2*1.302,1) -> 98.2 | GJ36: =ROUND(GI36*GH36/14*12*2*1.302,1) -> 0 | GL36: =ROUND(GK36*GF36/14*12*2*1.302,1) -> 0 | GN36: =ROUND(GM36*GF36/12*12*2*1.302,1) -> 0 | GO36: =GG36+GI36+GM36+GK36 -> 4 | GP36: =GH36+GJ36+GN36+GL36 -> 98.2 | GQ36: 11 | GS36: =ROUND(GR36*GQ36/14*12*2*1.302,1) -> 0 | GU36: =ROUND(GT36*GS36/14*12*2*1.302,1) -> 0 | GW36: =ROUND(GV36*GQ36/14*12*2*1.302,1) -> 0 | GY36: =ROUND(GX36*GQ36/12*12*2*1.302,1) -> 0 | GZ36: =GR36+GT36+GX36+GV36 -> 0 | HA36: =GS36+GU36+GY36+GW36 -> 0
